Workbook

Sheet FOR-GEC-035 (2)
H1: PROCESO GESTIÓN CONTRACTUAL FORMATO ANÁLISIS DE RIESGOS PREVISIBLES DE LA CONTRATACIÓN | Z1: Código: FOR-GEC-035
Z2: Versión: 0
Z3: Fecha: Memo I2021034620 - 12/11/2021
Z4: Página: 1 de 1
B6: 1. IDENTIFICACIÓN | I6: 2. EVALUACION | M6: 3. ASIGNACION | O6: 4. PLAN DE TRATAMIENTO | U6: 5. EFECTO | Z6: 6. MONITOREO Y REVISIÓN
B7: N° | C7: Clase | D7: Fuente | E7: Etapa | F7: Tipo | G7: DESCRIPCIÓN DEL RIESGO (Qué puede pasar y, como puede ocurrir) | H7: CONSECUENCIA (de la ocurrencia del evento) | I7: Probabilidad | J7: Impacto | K7: Total | L7: Categoría | M7: SDIS | N7: Contratista o Asociado | O7: Tratamiento 1 | P7: Tratamiento 2 | Q7: Tratamiento / Controles a ser implementados | R7: Persona responsable del tratamiento | S7: Fecha de Inicio | T7: Fecha de Fin | U7: Probabilidad | V7: Impacto | W7: Total | X7: Categoría | Y7: Afecta la ejecución del contrato? | Z7: Cómo se realiza el monitoreo? | AA7: Persona responsable del monitoreo | AB7: Periodicidad ¿Cuándo?
B8: 1 | C8: General | D8: Interno | E8: Planeación | F8: Operacionales | G8: Elaboración inadecuada de Estudios previos y/o Anexos técnicos con estándares de servicios muy por debajo de las necesidades y calidad requeridas | H8: Elaboración de Estudios Previos con requerimientos por debajo de las necesidades de la SDIS | I8: Posible | J8: Mayor | K8: =IFERROR((VLOOKUP(I8,Tablas!$B$16:$C$20,2,FALSE))+(VLOOKUP(J8,Tablas!$E$16:$F$20,2,FALSE)),0) -> 7 | L8: =IFERROR(VLOOKUP(K8,Tablas!$H$16:$I$25,2,FALSE),"") -> Riesgo Alto | M8: X | O8: Reducir la Probabilidad | P8: N/A | Q8: Revisión por parte de cada área afectada de la SDIS previa a la contratación | R8: Grupo Técnico | S8: Etapa de Planeación | T8: Etapa de Planeación | U8: Raro | V8: Moderado | W8: =IFERROR((VLOOKUP(U8,Tablas!$B$16:$C$20,2,FALSE))+(VLOOKUP(V8,Tablas!$E$16:$F$20,2,FALSE)),0) -> 4 | X8: =IFERROR(VLOOKUP(W8,Tablas!$H$16:$I$25,2,FALSE),"") -> Riesgo Bajo | Y8: NO | Z8: Revisión y aprobación de áreas involucradas | AA8: Grupo Jurídico y Técnico | AB8: Etapa precontractual
B9: 2 | C9: Específico | D9: Interno | E9: Selección | F9: Económicos | G9: Selección de contratistas que no cuenten con la capacidad financiera y/o técnica y/o jurídica necesarias para la ejecución del contrato, por indebida evaluación de los proponentes en el proceso de selección | H9: Responsabilidad patrimonial e Investigaciones disciplinarias, fiscales y penales. | I9: Posible | J9: Mayor | K9: =IFERROR((VLOOKUP(I9,Tablas!$B$16:$C$20,2,FALSE))+(VLOOKUP(J9,Tablas!$E$16:$F$20,2,FALSE)),0) -> 7 | L9: =IFERROR(VLOOKUP(K9,Tablas!$H$16:$I$25,2,FALSE),"") -> Riesgo Alto | M9: X | O9: Reducir la Probabilidad | P9: N/A | Q9: Realización de evaluación de proponentes por personal adecuado y bajo los mismos parámetros de selección. (De acuerdo al Check List Requisitos Técnicos, Jurídicos y económicos) | R9: Grupo Técnico, Grupo Jurídico, Grupo Financiero y Subdirección de Contratación | S9: Etapa de Selección | T9: Etapa de Selección | U9: Raro | V9: Insignificante | W9: =IFERROR((VLOOKUP(U9,Tablas!$B$16:$C$20,2,FALSE))+(VLOOKUP(V9,Tablas!$E$16:$F$20,2,FALSE)),0) -> 2 | X9: =IFERROR(VLOOKUP(W9,Tablas!$H$16:$I$25,2,FALSE),"") -> Riesgo Bajo | Y9: SI | Z9: Revisión Área Jurídica | AA9: Grupo Técnico, Grupo Jurídico, Grupo Financiero y Subdirección de Contratación | AB9: Etapa de evaluación
B10: 3 | C10: General | D10: Interno | E10: Selección | F10: Regulatorios | G10: Declaratoria de Desierta del Proceso | H10: Incumplimiento de la misionalidad de la SDIS en cuanto a al servicio de manipulacion de alimentos para suplir las necesidades de las direcciones subdirecciones y Unidades operativas | I10: Posible | J10: Catastrófico | K10: =IFERROR((VLOOKUP(I10,Tablas!$B$16:$C$20,2,FALSE))+(VLOOKUP(J10,Tablas!$E$16:$F$20,2,FALSE)),0) -> 8 | L10: =IFERROR(VLOOKUP(K10,Tablas!$H$16:$I$25,2,FALSE),"") -> Riesgo Extremo | M10: X | O10: Reducir las Consecuencias | P10: N/A | Q10: Determinar la modalidad de contratación que permita optimizar el cronograma para adjudicar en la presente vigencia fiscal y garantizar el servicio | R10: Grupo Técnico, Grupo Jurídico, Grupo Financiero y Subdirección de Contratación | S10: Etapa de Selección | T10: Etapa de Selección | U10: Raro | V10: Menor | W10: =IFERROR((VLOOKUP(U10,Tablas!$B$16:$C$20,2,FALSE))+(VLOOKUP(V10,Tablas!$E$16:$F$20,2,FALSE)),0) -> 3 | X10: =IFERROR(VLOOKUP(W10,Tablas!$H$16:$I$25,2,FALSE),"") -> Riesgo Bajo | Y10: NO | Z10: Revisión Área Jurídica | AA10: Grupo Técnico, Grupo Jurídico, Grupo Financiero y Subdirección de Contratación | AB10: Etapa de selección
B11: 4 | C11: General | D11: Externo | E11: Selección | F11: Económicos | G11: Colusión | H11: Pérdida en la calidad y cantidad de los servicios esperados por la SDIS | I11: Posible | J11: Mayor | K11: =IFERROR((VLOOKUP(I11,Tablas!$B$16:$C$20,2,FALSE))+(VLOOKUP(J11,Tablas!$E$16:$F$20,2,FALSE)),0) -> 7 | L11: =IFERROR(VLOOKUP(K11,Tablas!$H$16:$I$25,2,FALSE),"") -> Riesgo Alto | M11: X | N11: X | O11: Reducir la Probabilidad | P11: N/A | Q11: Evitar establecer estándares técnicos discriminatorios Mantener la confidencialidad del proceso Publicación | R11: Grupo Técnico, Grupo Jurídico, Grupo Financiero y Subdirección de Contratación | S11: Etapa de Planeación | T11: Etapa de adjudicación | U11: Improbable | V11: Menor | W11: =IFERROR((VLOOKUP(U11,Tablas!$B$16:$C$20,2,FALSE))+(VLOOKUP(V11,Tablas!$E$16:$F$20,2,FALSE)),0) -> 4 | X11: =IFERROR(VLOOKUP(W11,Tablas!$H$16:$I$25,2,FALSE),"") -> Riesgo Bajo | Y11: SI | Z11: Validación de requisitos exigidos a los oferentes | AA11: Grupo Técnico, Grupo Jurídico, Grupo Financiero y Subdirección de Contratación | AB11: Etapa de estructuración y selección
B12: 5 | C12: General | D12: Interno | E12: Contratación | F12: Operacionales | G12: Retraso en la suscripción del contrato por demoras en la elaboración, revisión y aprobación de la minuta del contrato | H12: Falta de la prestación del servicio de manipulación de alimentos. Incumplimiento de las metas propuestas por la SDIS | I12: Posible | J12: Mayor | K12: =IFERROR((VLOOKUP(I12,Tablas!$B$16:$C$20,2,FALSE))+(VLOOKUP(J12,Tablas!$E$16:$F$20,2,FALSE)),0) -> 7 | L12: =IFERROR(VLOOKUP(K12,Tablas!$H$16:$I$25,2,FALSE),"") -> Riesgo Alto | M12: X | N12: X | O12: Transferir | P12: N/A | Q12: Establecimiento de pólizas de seriedad de la oferta por parte del oferente | R12: Subdirección de Contratación | S12: Etapa de Contratación | T12: Etapa de Contratación | U12: Raro | V12: Menor | W12: =IFERROR((VLOOKUP(U12,Tablas!$B$16:$C$20,2,FALSE))+(VLOOKUP(V12,Tablas!$E$16:$F$20,2,FALSE)),0) -> 3 | X12: =IFERROR(VLOOKUP(W12,Tablas!$H$16:$I$25,2,FALSE),"") -> Riesgo Bajo | Y12: SI | Z12: Revisión de establecimiento de las pólizas | AA12: Subdirección de Contratación | AB12: Etapa Contractual
B13: 6 | C13: General | D13: Externo | E13: Ejecución | F13: Regulatorios | G13: Cambios regulatorios en la legislación o normas técnicas o de calidad | H13: Modificación de los términos en los que fue adjudicado el contrato | I13: Raro | J13: Menor | K13: =IFERROR((VLOOKUP(I13,Tablas!$B$16:$C$20,2,FALSE))+(VLOOKUP(J13,Tablas!$E$16:$F$20,2,FALSE)),0) -> 3 | L13: =IFERROR(VLOOKUP(K13,Tablas!$H$16:$I$25,2,FALSE),"") -> Riesgo Bajo | M13: X | N13: X | O13: Aceptar | P13: N/A | Q13: Ajustes o modificación según los términos del Contrato. | R13: SDIS y Contratista | S13: Acta de inicio | T13: Finalización del contrato | U13: Raro | V13: Menor | W13: =IFERROR((VLOOKUP(U13,Tablas!$B$16:$C$20,2,FALSE))+(VLOOKUP(V13,Tablas!$E$16:$F$20,2,FALSE)),0) -> 3 | X13: =IFERROR(VLOOKUP(W13,Tablas!$H$16:$I$25,2,FALSE),"") -> Riesgo Bajo | Y13: SI | Z13: Verificación permanente de las novedades legislativas relacionadas con el objeto del Contrato e impulso de la modificación contractual a que haya lugar | AA13: Supervisor y Contratista | AB13: Mensual
B14: 7 | C14: General | D14: Interno | E14: Planeación | F14: Económicos | G14: Análisis inadecuado del Sector por no solicitar cotizaciones a diferentes tipos de proveedores del servicio solicitado | H14: Cálculo inadecuado en las tarifas estimadas. | I14: Posible | J14: Mayor | K14: =IFERROR((VLOOKUP(I14,Tablas!$B$16:$C$20,2,FALSE))+(VLOOKUP(J14,Tablas!$E$16:$F$20,2,FALSE)),0) -> 7 | L14: =IFERROR(VLOOKUP(K14,Tablas!$H$16:$I$25,2,FALSE),"") -> Riesgo Alto | M14: X | O14: Reducir la Probabilidad | P14: N/A | Q14: Verificación de la realización del análisis del sector teniendo en cuenta cotizaciones requeridas | R14: Grupo Financiero | S14: Etapa de Planeación | T14: Etapa de Planeación | U14: Improbable | V14: Menor | W14: =IFERROR((VLOOKUP(U14,Tablas!$B$16:$C$20,2,FALSE))+(VLOOKUP(V14,Tablas!$E$16:$F$20,2,FALSE)),0) -> 4 | X14: =IFERROR(VLOOKUP(W14,Tablas!$H$16:$I$25,2,FALSE),"") -> Riesgo Bajo | Y14: NO | Z14: Análisis en la estructuración de costos. | AA14: Grupo Financiero | AB14: Etapa precontractual
B15: 8 | C15: Específico | D15: Externo | E15: Ejecución | F15: Económicos | G15: Incremento de los costos operativos del contratista que afecten la ejecución del contrato y las condiciones pactadas del mismo, por cambios o modificaciones de la legislación o normatividad vigente. | H15: Afecta la ejecución del contrato sin alterar el beneficio para las partes | I15: Posible | J15: Mayor | K15: =IFERROR((VLOOKUP(I15,Tablas!$B$16:$C$20,2,FALSE))+(VLOOKUP(J15,Tablas!$E$16:$F$20,2,FALSE)),0) -> 7 | L15: =IFERROR(VLOOKUP(K15,Tablas!$H$16:$I$25,2,FALSE),"") -> Riesgo Alto | N15: X | O15: Reducir la Probabilidad | P15: N/A | Q15: Estructuración de la propuesta teniendo en cuenta todas las variables, los costos directos e indirectos y demás conceptos requeridos para la prestación del servicio, incluidos los valores de insumos incluyendo la variación del IPC y las condiciones del contrato. | R15: Grupo Técnico y Supervisor de los Contrato | S15: Acta de inicio | T15: Acta de finalización | U15: Improbable | V15: Menor | W15: =IFERROR((VLOOKUP(U15,Tablas!$B$16:$C$20,2,FALSE))+(VLOOKUP(V15,Tablas!$E$16:$F$20,2,FALSE)),0) -> 4 | X15: =IFERROR(VLOOKUP(W15,Tablas!$H$16:$I$25,2,FALSE),"") -> Riesgo Bajo | Y15: SI | Z15: Validación de la estructuración de costos en donde se incluya el valor del IPC y del mercado | AA15: Grupo Técnico y Supervisor de los Contrato | AB15: Permanente
B16: 9 | C16: General | D16: Externo | E16: Ejecución | F16: Regulatorios | G16: Expedición de regulacion tritubaria - creacion de instrumentos impositivos que se apliquen al contrato | H16: Afecta la ejecución del contrato físico y presupuestal, incrementando los precios ofrecidos, genera desequilibrio contractual | I16: Posible | J16: Moderado | K16: =IFERROR((VLOOKUP(I16,Tablas!$B$16:$C$20,2,FALSE))+(VLOOKUP(J16,Tablas!$E$16:$F$20,2,FALSE)),0) -> 6 | L16: =IFERROR(VLOOKUP(K16,Tablas!$H$16:$I$25,2,FALSE),"") -> Riesgo Alto | M16: X | N16: X | O16: Aceptar | P16: N/A | Q16: Revisar la regulación impositiva o tributaria que impacta economicamente el contrato e identificar si afecta la ecuación financiera del contrato y en caso de que aplique generar las acciones para lograr el equilibrio del contrato | R16: SDIS y Contratista | S16: Acta de inicio | T16: Finalización del contrato | U16: Posible | V16: Moderado | W16: =IFERROR((VLOOKUP(U16,Tablas!$B$16:$C$20,2,FALSE))+(VLOOKUP(V16,Tablas!$E$16:$F$20,2,FALSE)),0) -> 6 | X16: =IFERROR(VLOOKUP(W16,Tablas!$H$16:$I$25,2,FALSE),"") -> Riesgo Alto | Y16: SI | Z16: Revisión por partedelsupervisor de la regulación tributaria e impositiva que pueda afectar el contrato e iniciar las acciones para lograr la equilibrio del contrato a través de la modificación contractual si hay lugar a ello | AA16: Supervisor y Contratista | AB16: Semanal
B17: 10 | C17: General | D17: Externo | E17: Ejecución | F17: Económicos | G17: Desabastecimiento de los insumos requeridos y alza en los precios de los insumos e indisponibilidad de los mismos | H17: Afectación en el cumplimiento de las obligaciones a cargo del Contratista | I17: Probable | J17: Mayor | K17: =IFERROR((VLOOKUP(I17,Tablas!$B$16:$C$20,2,FALSE))+(VLOOKUP(J17,Tablas!$E$16:$F$20,2,FALSE)),0) -> 8 | L17: =IFERROR(VLOOKUP(K17,Tablas!$H$16:$I$25,2,FALSE),"") -> Riesgo Extremo | N17: X | O17: Reducir las Consecuencias | P17: N/A | Q17: Monitoreo por parte del contratista de abastecimiento de insumos así como seguimiento del incremento de precios para evaluar si podría existir desequilibrio económico | R17: Contratista | S17: Acta de inicio | T17: Finalización del contrato | U17: Posible | V17: Mayor | W17: =IFERROR((VLOOKUP(U17,Tablas!$B$16:$C$20,2,FALSE))+(VLOOKUP(V17,Tablas!$E$16:$F$20,2,FALSE)),0) -> 7 | X17: =IFERROR(VLOOKUP(W17,Tablas!$H$16:$I$25,2,FALSE),"") -> Riesgo Alto | Y17: SI | Z17: Supervisión y seguimiento. | AA17: Supervisor y Contratista | AB17: Mensual
B18: 11 | C18: General | D18: Externo | E18: Ejecución | F18: Económicos | G18: Disminución del patrimonio técnico de la sociedad como consecuencia del incumplimiento de una obligación financiera en los términos acordados | H18: Afectación de la operatividad de la prestación del servicio | I18: Improbable | J18: Menor | K18: =IFERROR((VLOOKUP(I18,Tablas!$B$16:$C$20,2,FALSE))+(VLOOKUP(J18,Tablas!$E$16:$F$20,2,FALSE)),0) -> 4 | L18: =IFERROR(VLOOKUP(K18,Tablas!$H$16:$I$25,2,FALSE),"") -> Riesgo Bajo | N18: X | O18: Aceptar | P18: N/A | Q18: Realizar monitoreo | R18: Contratista | S18: Acta de inicio | T18: Finalización del contrato | U18: Improbable | V18: Menor | W18: =IFERROR((VLOOKUP(U18,Tablas!$B$16:$C$20,2,FALSE))+(VLOOKUP(V18,Tablas!$E$16:$F$20,2,FALSE)),0) -> 4 | X18: =IFERROR(VLOOKUP(W18,Tablas!$H$16:$I$25,2,FALSE),"") -> Riesgo Bajo | Y18: SI | Z18: Adelantar el proceso administrativo sancionatorio consignado en el articulo 86 de las Ley 1474 de 2011. | AA18: Mediante informe de actividades o reuniones de seguimiento | AB18: Mensual
B19: 12 | C19: General | D19: Externo | E19: Ejecución | F19: Financieros | G19: La fluctuación del dólar que afecte los valores proyectados en los estudios previos y estimados a contratar. | H19: Afecta el equilibrio económico del contrato | I19: Posible | J19: Mayor | K19: =IFERROR((VLOOKUP(I19,Tablas!$B$16:$C$20,2,FALSE))+(VLOOKUP(J19,Tablas!$E$16:$F$20,2,FALSE)),0) -> 7 | L19: =IFERROR(VLOOKUP(K19,Tablas!$H$16:$I$25,2,FALSE),"") -> Riesgo Alto | M19: X | N19: X | O19: Reducir las Consecuencias | P19: N/A | Q19: Si durante la ejecución del contrato se establece que desde la fecha de adjudicación se presenta una variación de hasta el 20% en la TRM, el riesgo será asumido por el contratista, cuando la variación sea mayor al 20% las partes contratantes entraran a modificar los precios de común acuerdo | R19: Supervisor y Contratista | S19: Acta de inicio | T19: Finalización del contrato | U19: Posible | V19: Mayor | W19: =IFERROR((VLOOKUP(U19,Tablas!$B$16:$C$20,2,FALSE))+(VLOOKUP(V19,Tablas!$E$16:$F$20,2,FALSE)),0) -> 7 | X19: =IFERROR(VLOOKUP(W19,Tablas!$H$16:$I$25,2,FALSE),"") -> Riesgo Alto | Y19: SI | Z19: Contratista deberá informar por escrito al supervisor de la ocurrencia del hecho | AA19: Supervisor y Contratista | AB19: Mensual y en la liquidación del contrato
B20: 13 | C20: General | D20: Externo | E20: Ejecución | F20: Operacionales | G20: Falta del personal idóneo y suficiente para la ejecución del contrato. | H20: Prestación inadecuada del servicio | I20: Posible | J20: Menor | K20: =IFERROR((VLOOKUP(I20,Tablas!$B$16:$C$20,2,FALSE))+(VLOOKUP(J20,Tablas!$E$16:$F$20,2,FALSE)),0) -> 5 | L20: =IFERROR(VLOOKUP(K20,Tablas!$H$16:$I$25,2,FALSE),"") -> Riesgo Medio | N20: X | O20: Reducir la Probabilidad | P20: N/A | Q20: Capacitación y reemplazo de personal oportunamente | R20: Grupo Técnico y Supervisor de los Contrato | S20: Acta de inicio | T20: Acta de finalización | U20: Raro | V20: Menor | W20: =IFERROR((VLOOKUP(U20,Tablas!$B$16:$C$20,2,FALSE))+(VLOOKUP(V20,Tablas!$E$16:$F$20,2,FALSE)),0) -> 3 | X20: =IFERROR(VLOOKUP(W20,Tablas!$H$16:$I$25,2,FALSE),"") -> Riesgo Bajo | Y20: NO | Z20: Verificación documental de las hojas de vida y programas de capacitación presentados por el contratista | AA20: Grupo Técnico y Supervisor de los Contrato | AB20: Permanente
B21: 14 | C21: General | D21: Externo | E21: Ejecución | F21: Ambientales | G21: Manejo inadecuado de residuos | H21: Pérdidas económicas por sanciones y multas de autoridades competentes por daños ambientales | I21: Improbable | J21: Moderado | K21: =IFERROR((VLOOKUP(I21,Tablas!$B$16:$C$20,2,FALSE))+(VLOOKUP(J21,Tablas!$E$16:$F$20,2,FALSE)),0) -> 5 | L21: =IFERROR(VLOOKUP(K21,Tablas!$H$16:$I$25,2,FALSE),"") -> Riesgo Medio | N21: X | O21: Reducir la Probabilidad | P21: N/A | Q21: Validación de cumplimiento de protocolos y procedimientos | R21: Grupo Técnico y Supervisor de los Contrato | S21: Acta de inicio | T21: Acta de finalización | U21: Raro | V21: Menor | W21: =IFERROR((VLOOKUP(U21,Tablas!$B$16:$C$20,2,FALSE))+(VLOOKUP(V21,Tablas!$E$16:$F$20,2,FALSE)),0) -> 3 | X21: =IFERROR(VLOOKUP(W21,Tablas!$H$16:$I$25,2,FALSE),"") -> Riesgo Bajo | Y21: NO | Z21: Validaciones de documentación y procedimientos | AA21: Grupo Técnico y Supervisor de los Contrato | AB21: Mensual
B22: 15 | C22: Específico | D22: Interno | E22: Ejecución | F22: Operacionales | G22: No atención oportuna y resolución de casos reportados para atención de soporte técnico | H22: Afecta la respuesta a las necesidades de las unidades operativas y la ejecución del contrato. | I22: Posible | J22: Mayor | K22: =IFERROR((VLOOKUP(I22,Tablas!$B$16:$C$20,2,FALSE))+(VLOOKUP(J22,Tablas!$E$16:$F$20,2,FALSE)),0) -> 7 | L22: =IFERROR(VLOOKUP(K22,Tablas!$H$16:$I$25,2,FALSE),"") -> Riesgo Alto | N22: X | O22: Evitar | P22: N/A | Q22: Coordinar con el contratista la priorización y reprogramación de los servicios de mantenimientos y demás actividades actividades a su cargo. | R22: Contratista | S22: Acta de inicio | T22: Finalización del contrato | U22: Posible | V22: Mayor | W22: =IFERROR((VLOOKUP(U22,Tablas!$B$16:$C$20,2,FALSE))+(VLOOKUP(V22,Tablas!$E$16:$F$20,2,FALSE)),0) -> 7 | X22: =IFERROR(VLOOKUP(W22,Tablas!$H$16:$I$25,2,FALSE),"") -> Riesgo Alto | Y22: SI | Z22: Supervisión y seguimiento. | AA22: Supervisor y Contratista | AB22: Mensual
B23: 16 | C23: Específico | D23: Interno | E23: Ejecución | F23: Operacionales | G23: Averías o daños de mobiliario y/o equipos que prestan el servicio por parte del Contratista | H23: Interrupción y demora en la prestación del servicio. | I23: Improbable | J23: Moderado | K23: =IFERROR((VLOOKUP(I23,Tablas!$B$16:$C$20,2,FALSE))+(VLOOKUP(J23,Tablas!$E$16:$F$20,2,FALSE)),0) -> 5 | L23: =IFERROR(VLOOKUP(K23,Tablas!$H$16:$I$25,2,FALSE),"") -> Riesgo Medio | N23: X | O23: Reducir las Consecuencias | P23: N/A | Q23: Solicitar el mantenimiento preventivo y hacer seguimiento a dicha actividad por parte del Contratista | R23: Contratista | S23: Acta de inicio | T23: Finalización del contrato | U23: Raro | V23: Menor | W23: =IFERROR((VLOOKUP(U23,Tablas!$B$16:$C$20,2,FALSE))+(VLOOKUP(V23,Tablas!$E$16:$F$20,2,FALSE)),0) -> 3 | X23: =IFERROR(VLOOKUP(W23,Tablas!$H$16:$I$25,2,FALSE),"") -> Riesgo Bajo | Y23: SI | Z23: Supervisión y seguimiento. | AA23: Supervisor y Contratista | AB23: Mensual
B24: 17 | C24: General | D24: Externo | E24: Ejecución | F24: Operacionales | G24: Falta en la logística y organización que afecten la prestación del servicio | H24: Retraso en los suministros y tiempos de cumplimiento de los cronogramas. | I24: Improbable | J24: Moderado | K24: =IFERROR((VLOOKUP(I24,Tablas!$B$16:$C$20,2,FALSE))+(VLOOKUP(J24,Tablas!$E$16:$F$20,2,FALSE)),0) -> 5 | L24: =IFERROR(VLOOKUP(K24,Tablas!$H$16:$I$25,2,FALSE),"") -> Riesgo Medio | M24: X | N24: X | O24: Reducir las Consecuencias | P24: N/A | Q24: Hacer seguimiento a los cronogramas establecidos, mantener el recurso humano requerido para el cumplimiento del contrato. | R24: Supervisor y Contratista | S24: Acta de inicio | T24: Finalización del contrato | U24: Raro | V24: Menor | W24: =IFERROR((VLOOKUP(U24,Tablas!$B$16:$C$20,2,FALSE))+(VLOOKUP(V24,Tablas!$E$16:$F$20,2,FALSE)),0) -> 3 | X24: =IFERROR(VLOOKUP(W24,Tablas!$H$16:$I$25,2,FALSE),"") -> Riesgo Bajo | Y24: SI | Z24: Supervisión y seguimiento. | AA24: Supervisor | AB24: Permanente
B25: 18 | C25: General | D25: Externo | E25: Ejecución | F25: Sociales o Políticos | G25: Huelgas, paros, motines y demás factores del equipo de trabajo del contratista que puedan afectar el ejercicio común de su actividad, en la prestación del servicio, como parte del contrato suscrito con la SDIS. | H25: Interrupción en la prestación del servicio, afectando el contrato. | I25: Posible | J25: Moderado | K25: =IFERROR((VLOOKUP(I25,Tablas!$B$16:$C$20,2,FALSE))+(VLOOKUP(J25,Tablas!$E$16:$F$20,2,FALSE)),0) -> 6 | L25: =IFERROR(VLOOKUP(K25,Tablas!$H$16:$I$25,2,FALSE),"") -> Riesgo Alto | N25: X | O25: Reducir las Consecuencias | P25: N/A | Q25: El contratista deberá tener un plan de contingencia, el cual debe ser aprobado por el supervisor para que este acorde con las necesidades de la Entidad y no causar traumatismo en la prestación del servicio | R25: Contratista | S25: 5 días calendario después de iniciado el contrato. | T25: Posible | U25: Posible | V25: Menor | W25: =IFERROR((VLOOKUP(U25,Tablas!$B$16:$C$20,2,FALSE))+(VLOOKUP(V25,Tablas!$E$16:$F$20,2,FALSE)),0) -> 5 | X25: =IFERROR(VLOOKUP(W25,Tablas!$H$16:$I$25,2,FALSE),"") -> Riesgo Medio | Y25: SI | Z25: Revisión del plan de contingencia del Contratista al inicio de la ejecución del contrato. | AA25: Supervisor | AB25: Al inicio del contrato
B26: 19 | C26: General | D26: Externo | E26: Ejecución | F26: Operacionales | G26: Accidentes laborales en el sitio de ejecución del contrato por parte del personal que presta el servicio y que no se encuentre afiliado a ARL | H26: Interrupción y demora en la prestación del servicio. | I26: Improbable | J26: Moderado | K26: =IFERROR((VLOOKUP(I26,Tablas!$B$16:$C$20,2,FALSE))+(VLOOKUP(J26,Tablas!$E$16:$F$20,2,FALSE)),0) -> 5 | L26: =IFERROR(VLOOKUP(K26,Tablas!$H$16:$I$25,2,FALSE),"") -> Riesgo Medio | N26: X | O26: Reducir las Consecuencias | P26: N/A | Q26: Implementación permanente del Sistema de Gestión de Seguridad y Salud en el Trabajo, propendiendo, además, por el cumplimiento permanente de la normatividad legal vigente en materia de seguridad social y riesgos laborales. | R26: Grupo Técnico y Supervisor de los Contrato | S26: Acta de inicio | T26: Finalización del contrato | U26: Raro | V26: Menor | W26: =IFERROR((VLOOKUP(U26,Tablas!$B$16:$C$20,2,FALSE))+(VLOOKUP(V26,Tablas!$E$16:$F$20,2,FALSE)),0) -> 3 | X26: =IFERROR(VLOOKUP(W26,Tablas!$H$16:$I$25,2,FALSE),"") -> Riesgo Bajo | Y26: SI | Z26: Verificación documental de la implementación correspondiente al Sistema de Gestión de Seguridad y Salud en el Trabajo, soportes, procedimientos, información documentada, pagos al sistema de seguridad social, etc. | AA26: Supervisor | AB26: Trimestral
B27: 20 | C27: General | D27: Externo | E27: Ejecución | F27: Operacionales | G27: Daños o pérdidas de los bienes de propiedad de la SDIS, causados en el lugar de ejecución del contrato | H27: Afectación en la ejecución del servicio Pérdidas económicas por reposición o arreglo de Bienes | I27: Improbable | J27: Moderado | K27: =IFERROR((VLOOKUP(I27,Tablas!$B$16:$C$20,2,FALSE))+(VLOOKUP(J27,Tablas!$E$16:$F$20,2,FALSE)),0) -> 5 | L27: =IFERROR(VLOOKUP(K27,Tablas!$H$16:$I$25,2,FALSE),"") -> Riesgo Medio | N27: X | O27: Evitar | P27: N/A | Q27: La Entidad cuenta con procedimientos establecidos de seguridad. El contratista también debe contar con ellos. | R27: Grupo Técnico y Supervisor de los Contrato | S27: Acta de inicio | T27: Finalización del contrato | U27: Raro | V27: Menor | W27: =IFERROR((VLOOKUP(U27,Tablas!$B$16:$C$20,2,FALSE))+(VLOOKUP(V27,Tablas!$E$16:$F$20,2,FALSE)),0) -> 3 | X27: =IFERROR(VLOOKUP(W27,Tablas!$H$16:$I$25,2,FALSE),"") -> Riesgo Bajo | Y27: SI | Z27: Verificación permanente de las máquinas e insumos del contratista, así como del servicio prestado. | AA27: Supervisor y Contratista | AB27: Mensual y en la liquidación del contrato
G29: Aprobó: GLORIA MATILDE TORRES CRUZ
G30: SUBDIRECTORA ADMINISTRATIVA Y FINANCIERA
G34: Andrés Mauricio Valencia Pardo
F35: CONTRATISTA SUBDIRECCION ADMINISTRATIVA Y FINANCIERA
G37: Revisó: OSCAR ENRIQUE POLO MEZA
F38: ASESOR APOYO LOGÍSTICO SAF

Sheet Tablas
B3: CLASE | D3: FUENTE | F3: ETAPA | H3: TIPO DE RIESGO | K3: TRATAMIENTO | L3: TRATAMIENTO2 | N3: ASIGNACIÓN | P3: AFECTA EJECUCION
B4: General | D4: Interno | F4: Planeación | H4: Económicos | K4: Evitar | L4: Evitar | N4: SDIS | P4: SI
B5: Específico | D5: Externo | F5: Selección | H5: Sociales o Políticos | K5: Transferir | L5: Transferir | N5: Contratista o Asociado | P5: NO
F6: Contratación | H6: Operacionales | K6: Aceptar | L6: Aceptar
F7: Ejecución | H7: Financieros | K7: Reducir la Probabilidad | L7: Reducir la Probabilidad
H8: Regulatorios | K8: Reducir las Consecuencias | L8: Reducir las Consecuencias
H9: De la Naturaleza | L9: N/A | O9: RESPONSABLE TRATAMIENTO
H10: Ambientales | O10: SDIS
H11: Tecnológicos | O11: Contratista o Asociado
O12: Supervisión - Contratista o Asociado
B14: PROBABILIDAD | E14: IMPACTO | H14: CATEGORÍA
B15: Categoría | C15: Valoración | E15: Categoría | F15: Valoración | H15: Valoración | I15: Categoría
B16: Raro | C16: 1 | E16: Insignificante | F16: 1 | H16: 1 | I16: Riesgo Bajo
B17: Improbable | C17: 2 | E17: Menor | F17: 2 | H17: 2 | I17: Riesgo Bajo
B18: Posible | C18: 3 | E18: Moderado | F18: 3 | H18: 3 | I18: Riesgo Bajo
B19: Probable | C19: 4 | E19: Mayor | F19: 4 | H19: 4 | I19: Riesgo Bajo
B20: Casi Cierto | C20: 5 | E20: Catastrófico | F20: 5 | H20: 5 | I20: Riesgo Medio
H21: 6 | I21: Riesgo Alto
H22: 7 | I22: Riesgo Alto
H23: 8 | I23: Riesgo Extremo
H24: 9 | I24: Riesgo Extremo
H25: 10 | I25: Riesgo Extremo

Sheet INSTRUCCIONES DILIGENCIAMIENTO
A1: INSTRUCCIONES DE DILIGENCIAMIENTO
A3: 1. IDENTIFICACIÓN
A4: Seleccione de la lista desplegable la Clase, Fuente, Etapa y Tipo, de conformidad con las condiciones generales del procedimiento.
A6: 2. EVALUACIÓN
A7: Seleccione de la lista desplegable la probabilidad y el impacto de conformidad con las condiciones generales del procedimiento. El formato de manera automática establece la evaluación y la categoría del riesgo.
A9: 3. ASIGNACIÓN
A10: Indique con una X si la asignación del responsable de llevar a cabo el tratamiento del riesgo es el contratista, la SDIS o ambos.
A12: 4. PLAN DE TRATAMIENTO
A13: Seleccione de la lista desplegable el tratamiento o los tratamientos del riesgo identificado.
A14: Indique los controles o el tratamiento a implementar.
A15: Relacione el responsable de llevar a cabo el tratamiento respectivo
A16: Relacione las fechas de inicio y fin del tratamiento a implementar
... A23: Indique cómo se realizará el monitoreo de conformidad con las condiciones generales del procedimiento, así como la persona responsable de efectuarlo y su periodicidad.

Sheet GUIA DE RIESGOS 
A1: GUIA DE RIESGOS DE POSIBLES RIESGOS INHERENTES
A4: ETAPA CONTRACTUAL | B4: EVENTO | C4: CAUSAS | D4: CONSECUENCIAS
A5: Planeación | B5: Inadecuada formulación y elaboración del PAA | C5: Indebida identificación de las necesidades de la entidad en el PAA | D5: Incumplimiento en la satisfacción de las necesidades de la entidad
C6: Incorrecta priorización | D6: Incumplimiento de las metas propuestas por la entidad
C7: Recortes presupuestales
A8: Selección | B8: Adelantar un proceso de selección sin contar con la debida disponibilidad presupuestal | C8: Desconocimiento de la normatividad que rige la contratación estatal | D8: Investigaciones disciplinarias, fiscales y penales
C9: No contar con la disponibilidad presupuestal
B10: Adelantar un proceso contractual sin tener la aprobación correspondiente por parte del comité de contratación o de la instancia correspondiente | C10: Errados procedimientos internos | D10: Investigaciones disciplinarias, fiscales y penales
C11: No contar con actas de comité de contratación
C12: Comité de contratación mal diseñado
B13: Adelantar un proceso contractual sin tener la competencia legal para realizarlo | C13: Desconocimiento de las facultades y delegaciones existentes en la entidad | D13: Investigaciones disciplinarias, fiscales y penales
C14: Desconocimiento de las competencias de la entidad | D14: Nulidad Absoluta del contrato
B15: Aprobar la adquisición de bienes, obras y servicios que no se ajustan a las necesidades o al cumplimiento de los objetivos de la entidad | C15: Indebida descripción de la necesidad a contar | D15: Insatisfacción de las necesidades y objetivos de la entidad
C16: Errada relación entre el objeto y la necesidad a contratar
C17: Indebida maduración o planeación del proceso contractual en tiempos, cantidades, valores, etc. | D17: Investigaciones disciplinarias, fiscales y penales
C18: Elaboración deficiente de los estudios previos, y de los pliegos de condiciones
C19: Elaboración deficiente de análisis del sector | D19: Posible incumplimiento en el objeto del contrato
C20: Errores en las especificaciones técnicas del bien, obra o servicios a contratar
B21: Selección de contratistas que no cuenten con la capacidad financiera y/o técnica y/o jurídica necesarias para la ejecución del contrato | C21: Establecer de manera inadecuada los requisitos de carácter habilitante en los procesos de selección | D21: Investigaciones disciplinarias, fiscales y penales
C22: Incumplimiento del principio de selección objetiva | D22: Demandas
C23: Indebida evaluación de los proponentes en el proceso de selección
C24: Elaboración deficiente de los análisis de sector | D24: pone en riesgo la adecuada ejecución del contrato
C25: Elaboración deficiente de los estudios previos y de los pliegos de condiciones
C26: Inadecuada aplicación de la normatividad vigente, manual de contratación y procedimientos asociados | D26: Sanciones disciplinarias, fiscales y/o penales
B27: Direccionamiento de contratación y/o vinculación a favor de un tercero | C27: Tráfico de influencias | D27: Demandas
C28: Inadecuada elaboración de los documentos previos, tales como estudios previos, pliegos de condiciones, análisis del sector y estudio de mercado | D28: Enriquecimiento ilícito de contratistas y/o funcionarios
D29: Detrimento patrimonial
B30: Pérdida de información, modificación o alteración de las ofertas a evaluar o de los expedientes que soportan los procesos de contratación | C30: Inadecuado manejo de expedientes | D30: Investigaciones disciplinarias, fiscales y penales
C31: Inadecuada custodia de expedientes | D31: Retrasos en la contratación
C32: Inaplicación de los procedimientos y métodos de archivo establecidos por la entidad y la norma | D32: Demandas
B33: Suspensión del procesos de selección | C33: Evidenciar un error en la estructuración de los documentos contractuales | D33: Retrasos en el cumplimiento de las metas de la entidad
C34: Demandas, tutelas y solicitudes de proponentes | D34: Insatisfacción de las necesidades y objetivos de la entidad
C35: Por sugerencia de algún órgano de control, con el propósito de realizar ajustes al proceso de selección directamente relacionados con la normatividad en materia contractual | D35: Investigaciones disciplinarias, fiscales y penales
B36: Retrasos en el proceso de selección | C36: Ampliación de plazos para dar respuesta a las observaciones del proceso | D36: Incumplimiento de metas y objetivos de la entidad
C37: Ampliación de plazos para poder evaluar el proceso de selección, en la eventualidad que se reciban muchas ofertas
B38: Declaratoria de desierta del proceso de selección | C38: Documentos falsos o irregulares presentados por los oferentes y que la entidad no logra evidenciar en el momento de la evaluación | D38: Demandas
C39: No revisión de inhabilidades e incompatibilidades | D39: Investigaciones disciplinarias, fiscales y penales
A40: Contratación | B40: Retraso en la suscripción del contrato | C40: Incumplimiento o retraso del contratista en la firma del contrato | D40: Incumplimiento de las metas propuestas por la entidad
C41: Minuta contractual con errores | D41: Incumplimiento en la satisfacción de las necesidades de la entidad
C42: Demora en la elaboración, revisión y aprobación de la minuta del contrato
...
