Workbook
Name \a: #REF!
Name \a: #REF!
Name \s: #REF!
Name \s: #REF!
Name \X: #N/A
Name \Z: #N/A
Name _________AFC1: [1]INV!$A$25:$D$28
Name _________AFC3: [1]INV!$F$25:$I$28
Name _________AFC5: [1]INV!$K$25:$N$28
Name _________BGC1: [1]INV!$A$5:$D$8
Name _________BGC3: [1]INV!$F$5:$I$8
Name _________BGC5: [1]INV!$K$5:$N$8
Name _________CAC1: [1]INV!$A$19:$D$22
Name _________CAC3: [1]INV!$F$19:$I$22
Name _________CAC5: [1]INV!$K$19:$N$22
Name _________PJ50: #REF!
Name _________PJ50: #REF!
Name _________SBC1: [1]INV!$A$12:$D$15
Name _________SBC3: [1]INV!$F$12:$I$15
Name _________SBC5: [1]INV!$K$12:$N$15
Name ________AFC1: [1]INV!$A$25:$D$28
Name ________AFC3: [1]INV!$F$25:$I$28
Name ________AFC5: [1]INV!$K$25:$N$28
Name ________BGC1: [1]INV!$A$5:$D$8
Name ________BGC3: [1]INV!$F$5:$I$8
Name ________BGC5: [1]INV!$K$5:$N$8
Name ________CAC1: [1]INV!$A$19:$D$22
Name ________CAC3: [1]INV!$F$19:$I$22
Name ________CAC5: [1]INV!$K$19:$N$22
Name ________MA2: #REF!
Name ________MA2: #REF!
Name ________PJ50: #REF!
Name ________PJ50: #REF!
Name ________SBC1: [1]INV!$A$12:$D$15
Name ________SBC3: [1]INV!$F$12:$I$15
Name ________SBC5: [1]INV!$K$12:$N$15
Name _______AFC1: [1]INV!$A$25:$D$28
Name _______AFC3: [1]INV!$F$25:$I$28
Name _______AFC5: [1]INV!$K$25:$N$28
Name _______BGC1: [1]INV!$A$5:$D$8
Name _______BGC3: [1]INV!$F$5:$I$8
Name _______BGC5: [1]INV!$K$5:$N$8
Name _______CAC1: [1]INV!$A$19:$D$22
Name _______CAC3: [1]INV!$F$19:$I$22
Name _______CAC5: [1]INV!$K$19:$N$22
Name _______MA2: #REF!
Name _______MA2: #REF!
Name _______PJ50: #REF!
Name _______PJ50: #REF!
Name _______SBC1: [1]INV!$A$12:$D$15
Name _______SBC3: [1]INV!$F$12:$I$15
Name _______SBC5: [1]INV!$K$12:$N$15
Name ______AFC1: [1]INV!$A$25:$D$28
Name ______AFC3: [1]INV!$F$25:$I$28
Name ______AFC5: [1]INV!$K$25:$N$28
Name ______BGC1: [1]INV!$A$5:$D$8
Name ______BGC3: [1]INV!$F$5:$I$8
Name ______BGC5: [1]INV!$K$5:$N$8
Name ______CAC1: [1]INV!$A$19:$D$22
Name ______CAC3: [1]INV!$F$19:$I$22

Sheet PORTADA
C1: MINISTERIO DE TRANSPORTE
A3: INSTITUTO NACIONAL DE VIAS
A4: SUBDIRECCION RED NACIONAL DE CARRETERAS
A14: INFORME TRIMESTRAL
A15: DEL ADMINISTRADOR VIAL GRUPO No.__02_____
A16: VERSIÓN No. _01__ DE FECHA: 01/04/2023
A17: ARA INGENIERIA S.A.S
A18: TERRITORIAL ANTIOQUIA
A22: CARRETERAS:
A23: TRAMO 5601
A24: PR49+0000 AL PR103+0000
A33: TRIMESTRE: (ENERO - MARZO / 2023)
A35: LA UNION, ABRIL 2023
A42: “La movilidad es de todos”

Sheet TABLA DE CONTENIDO
A1: INSTITUTO NACIONAL DE VIAS
A2: INFORME TRIMESTRAL PERIODO ENERO - MARZO de 2023
A3: ADMINISTRACION VIAL GRUPO _02__ TERRITORIAL __ANTIOQUIA___________
A5: TABLA DE CONTENIDO
A7: ITEM | B7: DESCRIPCION
A9: Cuadro No. 1 | B9: Generalidades
A10: Cuadro No. 2 | B10: Cumplimiento indicadores de mantenimiento rutinario
A11: Cuadro No. 3 | B11: Relación estado de la red criterio de transitabilidad (visual)
A12: Gráfico No. 1 | B12: Estado de la red criterio de transitabilidad - visual (Semáforo)
A13: Gráfico No. 2 | B13: Estado de la red en torta-criterio de transitabilidad (visual)
A14: Cuadro No. 4 | B14: Relación estado de la red criterio Técnico
A15: Gráfico No. 3 | B15: Estado de la red criterio Técnico
A16: Grafico No. 4 | B16: Estado de la red en torta criterio Técnico
A17: Mapa No. 1 | B17: Estado de la red y sitios críticos de inestabilidad
A18: Cuadro No. 5 | B18: Necesidades preventivas de las vías
A19: Cuadro No. 6 | B19: Necesidades críticas de las vías
... A41: Capacitación Microempresas | B41: Capacitación Microempresas

Sheet GENERALIDADES 
B1: INSTITUTO NACIONAL DE VIAS
B2: DIRECCION TERRITORIAL ANTIOQUIA
B4: CUADRO No. 1
B6: GENERALIDADES
B8: NOMBRE DEL INGENIERO RESIDENTE: | D8: CARLOS MARIO MORENO IDÁRRAGA
B9: NOMBRE DEL INGENIERO AUXILIAR: | D9: N/A
B10: SECTOR ADMINISTRADO: | D10: LA UNION - LA FRONTERA - SONSÓN, CÓDIGO 5601
B11: DIRECCION OFICINA: | D11: CALLE 7 No 10-46
B12: TELEFONOS : | D12: OFICINA: | F12: (4) 556 22 90 | J12: FAX:
D13: CELULARES: | G13: 311 210 04 53 | J13: CORREO ELECTRONICO: | K13: amvantioquia02@gmail.com
G14: 323 285 74 09
A17: VERSIÓN No. _01__ DE FECHA: 01/01/2021 | B17: CARRETERAS A CARGO
B18: CARRETERA | C18: CODIGO | D18: LONGITUD (km) | G18: PRi | H18: PRf | I18: No. DE PUENTES | J18: MICROEMPRESA | K18: OBSERVACIONES
D19: P | E19: A | F19: T
B20: La Unión - Sonsón | C20: 5601 | D20: 53.74 | F20: =+D20+E20 -> 53.74 | G20: 49+0000 | H20: 103+0000 | I20: 8 | J20: VIAS DE ORIENTE S.A.S
B25: TOTALES | D25: =SUM(D20:D24) -> 53.74 | F25: =SUM(F20:F24) -> 53.74 | I25: 8
C26: P: Pavimento | F26: A: Afirmado | I26: T. Total
K28: VOLVER A TABLA DE CONTENIDO
B30: NOTA: CUALQUIER CAMBIO DE DIRECCION, CORREO ELECTRONICO O TELEFONO SE DEBE INFORMAR

Sheet CUMPLIMIENTO % 
A1: INSTITUTO NACIONAL DE VIAS
A2: DIRECCION TERRITORIAL ANTIOQUIA
A3: CUADRO No. 2
A5: CUMPLIMIENTO INDICADORES DE MANTENIMIENTO RUTINARIO
A7: INGENIERO RESIDENTE: | C7: CARLOS MARIO MORENO IDÁRRAGA | I7: FECHA: ENE - MAR 2023
A9: MICROEMPRESA | C9: MICROEMPRESA | E9: MICROEMPRESA | G9: MICROEMPRESA | I9: MICROEMPRESA
C10: VIAS DE ORIENTE
A11: INDICADOR | C11: % | E11: % | G11: % | I11: %
A12: ROCERIA Y DESM. MANUAL | K12: 100
A13: LIMPIEZA MANUAL CUNETAS | K13: 100
A14: LIMPIEZA ENCOLES Y DESCOLES | K14: 100
A15: LIMPIEZA OBRAS DE ARTE | K15: 100
A16: MANTENIMIENTO PUENTES | K16: 100
A17: LIMPIEZA SEÑALES Y MOJONES | K17: 60
A18: DESPEJE DE DERRUMBES | K18: 100
A19: PINTURA, RENOVACIÓN DE INDICACIONES EN EL MOJON
A20: BACHEO CARRETERA PAV. | K20: 100
A21: PARCHEO CARRETERA PAV. | K21: 100
A22: LIMPIEZA DE LA CALZADA | K22: 100
A23: ARBORIZACION (SIEMBRA)
A24: PODA, CORTE Y RETIRO DE ARBOLES | K24: 100
A25: ATENCION DE EMERGENCIAS | K25: 100
C28: BUENO | E28: REGULAR | G28: MALO | I28: NO HUBO
A29: OBSERVACIONES : SE REALIZOINSTALACIÓN DE PROHIBIDOS PARQUEAR CON PINTURA ACRILICA ENTRE EL PR50+0000 AL PR50+0250 PASO NACIONAL POR LA UNIÓN, TAMBIEN SE INSTALO LINEA DE DEMARCACION ENTRE EL PR61+0000 AL PR 68+0600 CD, INSTALACIÓN DE LINEAS LOGARITMICAS EN EL PR97+0300(FALLO GEOLOGICO)
A31: * Indicar nombre de cada microempresa a la que se le aplica el indicador. Resolución N°
A32: En caso de no cumplir totalmente con el indicador, informar la razón. | G32: VOLVER A TABLA DE CONTENIDO
A33: Indicar el Porcentaje de cumplimiento mensual para cada microempresa

Sheet ESTADO RED VIS
A1: INSTITUTO NACIONAL DE VIAS
A2: DIRECCION TERRITORIAL ANTIOQUIA
A4: CUADRO No 3
A6: RELACION ESTADO DE LA RED CRITERIO DE TRANSITABILIDAD (VISUAL)
A8: INGENIERO RESIDENTE: | C8: CARLOS MARIO MORENO IDÁRRAGA | E8: TRIMESTRE EVALUADO: | G8: ENE - MAR / 2023
A10: CODIGO VIA | B10: PR INICIAL | C10: PR FINAL | D10: CARRETERA | E10: Kms. | F10: TIPO DE | G10: ESTADO
F11: SUPERFICIE
A13: 5601 | B13: 49000 | C13: 50000 | D13: LA UNIÓN - SONSÓN | E13: =905/1000 -> 0.905 | F13: P | G13: M | H13: =+#REF! -> #REF! | I13: 5601
I14: BUENO | J14: =+SUMIF(G$13,"B",E$13)+SUMIF(G$15,"B",E$15)+SUMIF(G$17,"B",E$17)+SUMIF($G$19,"B",$E$19)+SUMIF($G$21,"B",$E$21)+SUMIF($G$23,"B",$E$23)+SUMIF($G$25,"B",$E$25)+SUMIF($G$27,"B",$E$27)+SUMIF($G$29,"B",$E$29)+SUMIF($G$31,"B",$E$31)+SUMIF($G$33,"B",$E$33)+SUMIF($G$35,"B",$E$35)+SUMIF($G$37,"B",$E$37) -> 33.597
A15: 5601 | B15: =C13 -> 50000 | C15: 68613 | D15: LA UNIÓN - SONSÓN | E15: =(18863-211)/1000 -> 18.652 | F15: P | G15: B | H15: =+SUM(C39:C51)+0.5 -> 0.5 | I15: REGULAR | J15: =+SUMIF(G$13,"R",E$13)+SUMIF(G$15,"R",E$15)+SUMIF(G$17,"R",E$17)+SUMIF(G$19,"R",E$19)+SUMIF(G$21,"R",E$21)+SUMIF(G$23,"R",E$23)+SUMIF(G$25,"R",E$25)+SUMIF(G$27,"R",E$27)+SUMIF(G$29,"R",E$29)+SUMIF(G$31,"R",E$31)+SUMIF(G$33,"R",E$33)+SUMIF(G$35,"R",E$35)+SUMIF(G$37,"R",E$37) -> 11.764
I16: MALO | J16: =+SUMIF(G$13,"M",E$13)+SUMIF(G$15,"M",E$15)+SUMIF(G$17,"M",E$17)+SUMIF(G$19,"M",E$19)+SUMIF(G$21,"M",E$21)+SUMIF(G$23,"M",E$23)+SUMIF(G$25,"M",E$25)+SUMIF(G$27,"M",E$27)+SUMIF(G$29,"M",E$29)+SUMIF(G$31,"M",E$31)+SUMIF(G$33,"M",E$33)+SUMIF(G$35,"M",E$35)+SUMIF(G$37,"M",E$37) -> 8.382
A17: 5601 | B17: =C15 -> 68613 | C17: 71323 | D17: LA UNIÓN - SONSÓN | E17: =(2698)/1000 -> 2.698 | F17: P | G17: M | H17: =+SUM(C51:C52)-0.5+0.323 -> -0.177 | I17: TOTAL | J17: =SUM(J14:J16) -> 53.743
A19: 5601 | B19: =C17 -> 71323 | C19: 85160 | D19: LA UNIÓN - SONSÓN | E19: =+(13545+160)/1000 -> 13.705 | F19: P | G19: B | H19: =+SUM(C53:C66)-0.323+0.13 -> -0.193
A21: 5601 | B21: =C19 -> 85160 | C21: 87000 | D21: LA UNIÓN - SONSÓN | E21: =+(1977-160)/1000 -> 1.817 | F21: P | G21: M | H21: =+SUM(C67)-0.13+0.22 -> 0.09
A23: 5601 | B23: =C21 -> 87000 | C23: 88000 | D23: LA UNIÓN - SONSÓN | E23: =+(980)/1000 -> 0.98 | F23: P | G23: M | H23: =+SUM(C68)-0.22+0.16 -> -0.06
A25: 5601 | B25: 88000 | C25: 90000 | D25: LA UNIÓN - SONSÓN | E25: =+(1982)/1000 -> 1.982 | F25: P | G25: M
A27: 5601 | B27: =+C25 -> 90000 | C27: 91000 | D27: LA UNIÓN - SONSÓN | E27: =+(994)/1000 -> 0.994 | F27: P | G27: R
A29: 5601 | B29: =+C27 -> 91000 | C29: 95000 | D29: LA UNIÓN - SONSÓN | E29: =(3974)/1000 -> 3.974 | F29: P | G29: R
A31: 5601 | B31: =+C29 -> 95000 | C31: 97900 | D31: LA UNIÓN - SONSÓN | E31: =(958+969+900)/1000 -> 2.827 | F31: P | G31: R
A33: 5601 | B33: 97900 | C33: 100900 | D33: =+D31 -> LA UNIÓN - SONSÓN | E33: =(100+990+989+900)/1000 -> 2.979 | F33: P | G33: R
A35: 5601 | B35: 100900 | C35: 101+0900 | D35: LA UNIÓN - SONSÓN | E35: =(90+900)/1000 -> 0.99 | F35: P | G35: R
A37: 5601 | B37: =C35 -> 101+0900 | C37: 103000 | D37: LA UNIÓN - SONSÓN | E37: =(11+84+950+195)/1000 -> 1.24 | F37: P | G37: B
E38: =SUM(E13:E37) -> 53.743
A40: Nota: La información contenida es un ejemplo sobre la forma de diligenciar este cuadro.Debe presentarse a color.
E43: CONVENCIONES
E44: B | F44: BUENO
E45: R | F45: REGULAR
E46: M | F46: MALO
E48: VOLVER A TABLA DE CONTENIDO

Sheet SEMAFORO VIS
A1: INSTITUTO NACIONAL DE VÍAS
A2: DIRECCIÓN TERRITORIAL ANTIOQUIA
A3: GRAFICO No. 1
A4: ESTADO DE LAS VÍAS CRITERIO DE TRANSITABILIDAD (VISUAL)
A7: NOMBRE DE LA VIA: | B7: LA UNION - LA FRONTERA - SONSÓN | BB7: Codigo de la vía: | BG7: 5601
A9: SECTOR | B9: 01 | I9: LA UNIÓN - LA FRONTERA | BF9: PR49+0000 A PR67+0700
B10: 02 | I10: LA FRONTERA - SONSÓN | BF10: PR67+0700 A PR103+0000
A12: INGENIERO RESIDENTE: | B12: CARLOS MARIO MORENO IDARRAGA | AV12: PERÍODO EVALUADO: | BG12: =+'ESTADO RED VIS'!G8 -> ENE - MAR / 2023
A40: CÓDIGO | B40: SECTOR | BE40: Longitud y Porcentaje
B41: 5601 | BE41: sobre el total de la vía
A42: PR | B42: 49 | M42: 60 | W42: 70 | AG42: 80 | AQ42: 90 | AX42: 100 | BA42: 103 | BE42: o del ítem
A43: ÍTEM | F43: 49 | AH43: 55 | AI43: 60 | AJ43: 65 | AX43: 70 | AY43: 75 | AZ43: 80 | BD43: 103 | BE43: B | BG43: R | BI43: M
BE44: km | BF44: % | BG44: km | BH44: % | BI44: km | BJ44: %
A45: Pavimento | C45: B | BC45: B
B46: M | C46: B | D46: b | E46: b | F46: B | G46: B | H46: B | I46: B | J46: B | K46: B | L46: B | M46: B | N46: B | O46: B | P46: B | Q46: B | R46: B | S46: B | T46: B | U46: B | V46: R | W46: R | X46: R | Y46: R | Z46: b | AA46: B | AB46: B | AC46: B | AD46: B | AE46: B | AF46: B | AG46: B | AH46: B | AI46: B | AJ46: B | AK46: B | AL46: M | AM46: M | AN46: M | AO46: m | AP46: m | AQ46: r | AR46: m | AS46: m | AT46: m | AU46: m | AV46: M | AW46: M | AX46: b | AY46: b | AZ46: r | BA46: r | BB46: B | BC46: B | BE46: =+'ESTADO RED VIS'!J14 -> 33.597 | BF46: =+BE46/53.74 -> 0.62517678 | BG46: =+'ESTADO RED VIS'!J15 -> 11.764 | BH46: =+BG46/53.74 -> 0.21890584 | BI46: =+'ESTADO RED VIS'!J16 -> 8.382 | BJ46: =+BI46/53.74 -> 0.1559732 | BM46: =+BJ46+BH46+BF46 -> 1.0000558
A47: Afirmado
B48: NO APLICA | BE48: =(COUNTIF($B$48:$BC$48,"B")) -> 0 | BF48: =+BE48/54 -> 0 | BG48: =(COUNTIF($B$48:$BC$48,"R")) -> 0 | BH48: =+BG48/54 -> 0 | BI48: =(COUNTIF($B$48:$BC$48,"M")) -> 0 | BJ48: =+BI48/54 -> 0 | BM48: =+BJ48+BH48+BF48 -> 0
A49: Puentes (Son: 8 )
J50: B | N50: B | U50: B | Y50: B | AI50: B | AJ50: M | AM50: B | AT50: R | BE50: =(COUNTIF($B$50:$BC$50,"B")) -> 6 | BF50: =+BE50/8 -> 0.75 | BG50: =(COUNTIF($B$50:$BC$50,"R")) -> 1 | BH50: =+BG50/8 -> 0.125 | BI50: =(COUNTIF($B$50:$BC$50,"M")) -> 1 | BJ50: =+BI50/8 -> 0.125 | BM50: =+BJ50+BH50+BF50 -> 1
A51: Cunetas
B52: b | C52: b | D52: b | E52: b | F52: r | G52: b | H52: b | I52: r | J52: r | K52: b | L52: b | M52: r | N52: b | O52: b | P52: b | Q52: b | R52: b | S52: b | T52: b | U52: r | V52: r | W52: r | X52: b | Y52: b | Z52: b | AA52: b | AB52: b | AC52: b | AD52: b | AE52: b | AF52: b | AG52: b | AH52: b | AI52: b | AJ52: b | AK52: b | AL52: r | AM52: r | AN52: r | AO52: B | AP52: r | AQ52: r | AR52: r | AS52: b | AT52: b | AU52: r | AV52: m | AW52: m | AX52: m | AY52: m | AZ52: m | BA52: m | BB52: m | BC52: b | BE52: =(COUNTIF($B$52:$BC$52,"B")) -> 33 | BF52: =+BE52/54 -> 0.61111111 | BG52: =(COUNTIF($B$52:$BC$52,"R")) -> 14 | BH52: =+BG52/54 -> 0.25925926 | BI52: =(COUNTIF($B$52:$BC$52,"M")) -> 7 | BJ52: =+BI52/54 -> 0.12962963 | BM52: =+BJ52+BH52+BF52 -> 1
A53: Señalización Vertical
B54: B | C54: B | D54: B | E54: B | F54: B | G54: B | H54: R | I54: R | J54: R | K54: M | L54: R | M54: R | N54: R | O54: R | P54: R | Q54: B | R54: B | S54: B | T54: R | U54: R | V54: M | W54: R | X54: M | Y54: R | Z54: R | AA54: R | AB54: R | AC54: R | AD54: R | AE54: R | AF54: R | AG54: R | AH54: R | AI54: R | AJ54: R | AK54: R | AL54: R | AM54: R | AN54: R | AO54: R | AP54: R | AQ54: R | AR54: R | AS54: R | AT54: R | AU54: R | AV54: R | AW54: R | AX54: R | AY54: R | AZ54: R | BA54: R | BB54: R | BC54: R | BE54: =(COUNTIF($B$54:$BC$54,"B")) -> 9 | BF54: =+BE54/54 -> 0.16666667 | BG54: =(COUNTIF($B$54:$BC$54,"R")) -> 42 | BH54: =+BG54/54 -> 0.77777778 | BI54: =(COUNTIF($B$54:$BC$54,"M")) -> 3 | BJ54: =+BI54/54 -> 0.055555556 | BM54: =+BJ54+BH54+BF54 -> 1
A55: Señalización horizontal
B56: m | C56: R | D56: R | E56: R | F56: R | G56: R | H56: b | I56: b | J56: b | K56: b | L56: b | M56: b | N56: b | O56: b | P56: M | Q56: M | R56: M | S56: M | T56: M | U56: M | V56: M | W56: M | X56: M | Y56: M | Z56: M | AA56: B | AB56: B | AC56: B | AD56: B | AE56: b | AF56: b | AG56: b | AH56: b | AI56: b | AJ56: b | AK56: b | AL56: b | AM56: b | AN56: b | AO56: b | AP56: b | AQ56: b | AR56: b | AS56: b | AT56: b | AU56: b | AV56: b | AW56: b | AX56: b | AY56: b | AZ56: b | BA56: b | BB56: b | BC56: B | BE56: =(COUNTIF($B$56:$BC$56,"B")) -> 37 | BF56: =+BE56/54 -> 0.68518519 | BG56: =(COUNTIF($B$56:$BC$56,"R")) -> 5 | BH56: =+BG56/54 -> 0.092592593 | BI56: =(COUNTIF($B$56:$BC$56,"M")) -> 12 | BJ56: =+BI56/54 -> 0.22222222 | BM56: =+BJ56+BH56+BF56 -> 1
A57: Rocería
B58: B | C58: B | D58: B | E58: B | F58: B | G58: B | H58: B | I58: B | J58: B | K58: B | L58: B | M58: B | N58: B | O58: B | P58: B | Q58: B | R58: B | S58: B | T58: B | U58: B | V58: B | W58: B | X58: B | Y58: B | Z58: B | AA58: B | AB58: B | AC58: B | AD58: B | AE58: B | AF58: B | AG58: B | AH58: B | AI58: B | AJ58: B | AK58: B | AL58: B | AM58: B | AN58: B | AO58: B | AP58: B | AQ58: B | AR58: B | AS58: B | AT58: B | AU58: B | AV58: B | AW58: B | AX58: B | AY58: B | AZ58: B | BA58: B | BB58: B | BC58: B | BE58: =(COUNTIF($B$58:$BC$58,"B")) -> 54 | BF58: =+BE58/54 -> 1 | BG58: =(COUNTIF($B$58:$BC$58,"R")) -> 0 | BH58: =+BG58/54 -> 0 | BI58: =(COUNTIF($B$58:$BC$58,"M")) -> 0 | BJ58: =+BI58/54 -> 0 | BM58: =+BJ58+BH58+BF58 -> 1
A59: Alcantarillas
B60: b | C60: b | D60: R | E60: R | F60: R | G60: R | H60: R | I60: R | J60: R | K60: B | L60: R | M60: R | N60: R | O60: R | P60: R | Q60: R | R60: R | S60: B | T60: B | U60: R | V60: R | W60: R | X60: B | Y60: B | Z60: B | AA60: B | AB60: B | AC60: B | AD60: B | AE60: B | AF60: B | AG60: B | AH60: B | AI60: B | AJ60: B | AK60: B | AL60: R | AM60: R | AN60: R | AO60: R | AP60: R | AQ60: R | AR60: R | AS60: R | AT60: R | AU60: R | AV60: R | AW60: R | AX60: R | AY60: R | AZ60: B | BA60: R | BB60: B | BC60: B | BE60: =(COUNTIF($B$60:$BC$60,"B")) -> 22 | BF60: =+BE60/54 -> 0.40740741 | BG60: =(COUNTIF($B$60:$BC$60,"R")) -> 32 | BH60: =+BG60/54 -> 0.59259259 | BI60: =(COUNTIF($B$60:$BC$60,"M")) -> 0 | BJ60: =+BI60/54 -> 0 | BM60: =+BJ60+BH60+BF60 -> 1
A61: Limpiezas de bermas
B62: B | C62: B | D62: B | E62: B | F62: B | G62: B | H62: B | I62: B | J62: B | K62: B | L62: B | M62: B | N62: B | O62: B | P62: B | Q62: B | R62: B | S62: B | T62: B | U62: B | V62: B | W62: B | X62: B | Y62: B | Z62: B | AA62: B | AB62: B | AC62: B | AD62: B | AE62: B | AF62: B | AG62: B | AH62: B | AI62: B | AJ62: B | AK62: B | AL62: B | AM62: B | AN62: B | AO62: B | AP62: B | AQ62: B | AR62: B | AS62: B | AT62: B | AU62: B | AV62: B | AW62: B | AX62: B | AY62: B | AZ62: B | BA62: B | BB62: B | BC62: B | BE62: =(COUNTIF($B$62:$BC$62,"B")) -> 54 | BF62: =+BE62/54 -> 1 | BG62: =(COUNTIF($B$62:$BC$62,"R")) -> 0 | BH62: =+BG62/54 -> 0 | BI62: =(COUNTIF($B$62:$BC$62,"M")) -> 0 | BJ62: =+BI62/54 -> 0 | BM62: =+BJ62+BH62+BF62 -> 1
A64: NOTA: Indicar en el mapa los PRs de cada uno de los sitios importantes | BE64: VOLVER A TABLA DE CONTENIDO

Sheet TORTA EST. VIAS VIS
A1: INSTITUTO NACIONAL DE VIAS
A2: DIRECCION TERRITORIAL ANTIOQUIA
A4: GRAFICO No. 2
A6: ESTADO DE LAS VIAS EN TORTA-CRITERIO DE TRANSITABILIDAD (VISUAL)
A8: INGENIERO RESIDENTE: | B8: CARLOS MARIO MORENO IDÁRRAGA
A10: TRIMESTRE EVALUADO: | B10: ENE - MAR / 2023
A13: CARRETERA | B13: TRIMESTRE ANTERIOR | C13: TRIMESTRE EVALUADO
G16: %
E17: BUENO | F17: =+'ESTADO RED VIS'!J14 -> 33.597 | G17: =+F17/$F$20 -> 0.62514188
A18: TRAMO | E18: REGULAR | F18: =+'ESTADO RED VIS'!J15 -> 11.764 | G18: =+F18/$F$20 -> 0.21889362
A19: 5601 | E19: MALO | F19: =+'ESTADO RED VIS'!J16 -> 8.382 | G19: =+F19/$F$20 -> 0.1559645
A20: LA UNION-LA FRONTERA-SONSON | E20: TOTAL | F20: =SUM(F17:F19) -> 53.743 | G20: =SUM(G17:G19) -> 1
A47: CONVENCIONES
A48: BUENO
A49: REGULAR
A50: MALO | C50: VOLVER A TABLA DE CONTENIDO

Sheet ESTADO RED TEC
A1: INSTITUTO NACIONAL DE VIAS
A2: DIRECCION TERRITORIAL ANTIOQUIA
A4: CUADRO No 4
A6: RELACION ESTADO DE LA RED CRITERIO TECNICO
A8: INGENIERO RESIDENTE: | C8: CARLOS MARIO MORENO IDÁRRAGA | E8: PERIODO EVALUADO: | G8: JULIO - DICIEMBRE/2022
A10: CODIGO VIA | B10: PR INICIAL | C10: PR FINAL | D10: CARRETERA | E10: Kms. | F10: TIPO DE | G10: ESTADO
F11: SUPERFICIE | J11: 5601
A12: 5601 | B12: 49+0000 | C12: 49+0885 | D12: La Unión - Sonsón | E12: 0.885 | F12: P-1 | G12: M | J12: MB | K12: =+SUMIF(G$12:G$76,"MB",E$12:E$76) -> 0
A13: =+A12 -> 5601 | B13: =+C12 -> 49+0885 | C13: 50+0040 | D13: La Unión - Sonsón | E13: 0.02 | F13: P-6 | G13: R | J13: B | K13: =+SUMIF(G$12:G$76,"B",E$12:E$76) -> 5.137
A14: =+A13 -> 5601 | B14: =+C12 -> 49+0885 | C14: =+C13 -> 50+0040 | D14: La Unión - Sonsón | E14: 0.04 | F14: P-6 | G14: M | J14: R | K14: =+SUMIF(G$12:G$76,"R",E$12:E$76) -> 30.87
A15: =+A14 -> 5601 | B15: =+C14 -> 50+0040 | C15: 50+0240 | D15: La Unión - Sonsón | E15: 0.2 | F15: P-6 | G15: M | J15: M | K15: =+SUMIF(G$12:G$76,"M",E$12:E$76) -> 18.911
A16: =+A15 -> 5601 | B16: =+C14 -> 50+0040 | C16: 50+0240 | D16: La Unión - Sonsón | E16: 0.2 | F16: P-6 | G16: M | J16: MM | K16: =+SUMIF(G$12:G$76,"MM",E$12:E$76) -> 0
A17: =+A16 -> 5601 | B17: =+C16 -> 50+0240 | C17: 51+0000 | D17: La Unión - Sonsón | E17: 0.76 | F17: P-6 | G17: R | J17: TOTAL | K17: =SUM(K12:K16) -> 54.918
A18: =+A17 -> 5601 | B18: =+C17 -> 51+0000 | C18: 52+0000 | D18: La Unión - Sonsón | E18: 1 | F18: P-6 | G18: R
A19: =+A18 -> 5601 | B19: =+C18 -> 52+0000 | C19: 53+0000 | D19: La Unión - Sonsón | E19: 0.996 | F19: P-6 | G19: R
A20: =+A19 -> 5601 | B20: =+C19 -> 53+0000 | C20: 54+0000 | D20: La Unión - Sonsón | E20: 1.002 | F20: P-6 | G20: B
A21: =+A20 -> 5601 | B21: =+C20 -> 54+0000 | C21: 55+0000 | D21: La Unión - Sonsón | E21: 1.002 | F21: P-6 | G21: R
A22: =+A21 -> 5601 | B22: =+C21 -> 55+0000 | C22: 56+0000 | D22: La Unión - Sonsón | E22: 0.999 | F22: P-6 | G22: R
A23: =+A22 -> 5601 | B23: =+C22 -> 56+0000 | C23: 57+0000 | D23: La Unión - Sonsón | E23: 1.002 | F23: P-6 | G23: R
A24: =+A23 -> 5601 | B24: =+C23 -> 57+0000 | C24: 58+0000 | D24: La Unión - Sonsón | E24: 0.976 | F24: P-6 | G24: R
A25: =+A24 -> 5601 | B25: =+C24 -> 58+0000 | C25: 59+0000 | D25: La Unión - Sonsón | E25: 0.956 | F25: P-6 | G25: R
A26: =+A25 -> 5601 | B26: =+C25 -> 59+0000 | C26: 60+0000 | D26: La Unión - Sonsón | E26: 1.043 | F26: P-6 | G26: R
A27: =+A26 -> 5601 | B27: =+C26 -> 60+0000 | C27: 61+0000 | D27: La Unión - Sonsón | E27: 1.006 | F27: P-6 | G27: R
A28: =+A27 -> 5601 | B28: =+C27 -> 61+0000 | C28: 62+0000 | D28: La Unión - Sonsón | E28: 1.012 | F28: P-6 | G28: R
A29: =+A28 -> 5601 | B29: =+C28 -> 62+0000 | C29: 63+0000 | D29: La Unión - Sonsón | E29: 1.007 | F29: P-6 | G29: R
... A76: =+A75 -> 5601 | B76: =+C75 -> 102+0950 | C76: 103+0000 | D76: La Unión - Sonsón | E76: 0.185 | F76: P-1 | G76: B
E77: =SUM(E12:E76) -> 54.918
E82: CONVENCIONES
E83: MB | F83: MUY BUENO
E84: B | F84: BUENO
E85: R | F85: REGULAR
E86: M | F86: MALO
E87: MM | F87: MUY MALO | G87: VOLVER A TABLA DE CONTENIDO

Sheet SEMAFORO TEC
A1: INSTITUTO NACIONAL DE VÍAS
A2: DIRECCIÓN TERRITORIAL ANTIOQUIA
A3: GRAFICO No. 3
A4: ESTADO DE LA RED CRITERIO TÉCNICO
A6: NOMBRE DE LA VÍA: | B6: LA UNIÓN - LA FRONTERA - SONSÓN | BD6: Código de la vía: | BH6: 5601
A8: SECTOR | B8: LA UNIÓN - SONSÓN | BD8: PR 49+0000 A PR 103+0000
A10: INGENIERO RESIDENTE: | G10: CARLOS MARIO MORENO I. | BD10: PERIODO EVALUADO: | BI10: JULIO - DICIEMBRE / 2022
A39: CÓDIGO | BF39: Longitud y Porcentaje
B40: SECTOR | BF40: sobre el total de la vía
A41: PR | B41: 5601 | BF41: o del ítem
A42: ÍTEM | B42: 49 | M42: 60 | W42: 70 | AG42: 80 | AQ42: 90 | AX42: 100 | BA42: 103 | BD42: MB | BF42: B | BH42: R | BJ42: M | BL42: MM
F43: 49 | AH43: 55 | AI43: 60 | AJ43: 65 | AX43: 70 | AY43: 75 | AZ43: 80 | BD43: km | BE43: % | BF43: km | BG43: % | BH43: km | BI43: % | BJ43: km | BK43: % | BL43: km | BM43: %
A44: Pavimento | C44: M | BC44: B
B45: M | C45: R | D45: M | E45: R | F45: B | G45: R | H45: B | I45: R | J45: R | K45: R | L45: R | M45: R | N45: R | O45: R | P45: R | Q45: R | R45: R | S45: R | T45: R | U45: M | V45: M | W45: M | X45: M | Y45: R | Z45: R | AA45: M | AB45: M | AC45: R | AD45: R | AE45: R | AF45: M | AG45: R | AH45: R | AI45: R | AJ45: R | AK45: R | AL45: M | AM45: M | AN45: M | AO45: M | AP45: M | AQ45: M | AR45: M | AS45: M | AT45: M | AU45: M | AV45: B | AW45: B | AX45: R | AY45: R | AZ45: R | BA45: B | BB45: R | BC45: B | BD45: =+'ESTADO RED TEC'!K12 -> 0 | BE45: =+BD45/+'ESTADO RED TEC'!K17 -> 0 | BF45: =+'ESTADO RED TEC'!K13 -> 5.137 | BG45: =+BF45/'ESTADO RED TEC'!K17 -> 0.093539459 | BH45: =+'ESTADO RED TEC'!K14 -> 30.87 | BI45: =+BH45/'ESTADO RED TEC'!K17 -> 0.56211078 | BJ45: =+'ESTADO RED TEC'!K15 -> 18.911 | BK45: =+BJ45/'ESTADO RED TEC'!K17 -> 0.34434976 | BL45: =+'ESTADO RED TEC'!K16 -> 0 | BM45: =+BL45/'ESTADO RED TEC'!K17 -> 0 | BN45: =+BE45+BG45+BI45+BK45+BM45 -> 1
A46: Afirmado
B47: NO APLICA | BD47: =(COUNTIF($B$47:$BC$47,"MB")) -> 0 | BE47: =+BD47/8 -> 0 | BF47: =(COUNTIF($B$47:$BC$47,"B")) -> 0 | BG47: =+BF47/54 -> 0 | BH47: =(COUNTIF($B$47:$BC$47,"R")) -> 0 | BI47: =+BH47/54 -> 0 | BJ47: =(COUNTIF($B$47:$BC$47,"M")) -> 0 | BK47: =+BJ47/54 -> 0 | BL47: =(COUNTIF($B$47:$BC$47,"MM")) -> 0 | BM47: =+BL47/54 -> 0 | BN47: =+BE47+BG47+BI47+BK47+BM47 -> 0
A48: Puentes (Son: 8 )
J49: B | N49: B | U49: B | Y49: B | AI49: B | AJ49: M | AM49: B | AT49: B | BD49: =(COUNTIF($B$49:$BC$49,"MB")) -> 0 | BE49: =+BD49/8 -> 0 | BF49: =(COUNTIF($B$49:$BC$49,"B")) -> 7 | BG49: =+BF49/8 -> 0.875 | BH49: =(COUNTIF($B$49:$BC$49,"R")) -> 0 | BI49: =+BH49/8 -> 0 | BJ49: =(COUNTIF($B$49:$BC$49,"M")) -> 1 | BK49: =+BJ49/8 -> 0.125 | BL49: =(COUNTIF($B$49:$BC$49,"MM")) -> 0 | BM49: =+BL49/54 -> 0 | BN49: =+BE49+BG49+BI49+BK49+BM49 -> 1
A50: Cunetas
B51: b | C51: b | D51: b | E51: b | F51: r | G51: b | H51: b | I51: r | J51: r | K51: b | L51: b | M51: r | N51: b | O51: b | P51: b | Q51: b | R51: b | S51: b | T51: b | U51: r | V51: r | W51: r | X51: b | Y51: b | Z51: b | AA51: b | AB51: b | AC51: b | AD51: b | AE51: b | AF51: b | AG51: b | AH51: b | AI51: b | AJ51: b | AK51: b | AL51: r | AM51: r | AN51: r | AO51: m | AP51: r | AQ51: r | AR51: r | AS51: b | AT51: b | AU51: r | AV51: m | AW51: m | AX51: m | AY51: m | AZ51: m | BA51: m | BB51: m | BC51: b | BD51: =(COUNTIF($B$51:$BC$51,"MB")) -> 0 | BE51: =+BD51/54 -> 0 | BF51: =(COUNTIF($B$51:$BC$51,"B")) -> 32 | BG51: =+BF51/54 -> 0.59259259 | BH51: =(COUNTIF($B$51:$BC$51,"R")) -> 14 | BI51: =+BH51/54 -> 0.25925926 | BJ51: =(COUNTIF($B$51:$BC$51,"M")) -> 8 | BK51: =+BJ51/54 -> 0.14814815 | BL51: =(COUNTIF($B$51:$BC$51,"MM")) -> 0 | BM51: =+BL51/54 -> 0 | BN51: =+BE51+BG51+BI51+BK51+BM51 -> 1
A52: Señalización Vertical
B53: R | C53: M | D53: B | E53: B | F53: R | G53: R | H53: R | I53: R | J53: R | K53: M | L53: R | M53: R | N53: R | O53: R | P53: R | Q53: R | R53: R | S53: R | T53: R | U53: R | V53: M | W53: R | X53: M | Y53: R | Z53: R | AA53: R | AB53: R | AC53: R | AD53: R | AE53: R | AF53: R | AG53: R | AH53: R | AI53: R | AJ53: R | AK53: R | AL53: R | AM53: R | AN53: R | AO53: R | AP53: R | AQ53: R | AR53: R | AS53: R | AT53: R | AU53: R | AV53: R | AW53: R | AX53: R | AY53: R | AZ53: R | BA53: R | BB53: R | BC53: R | BD53: =(COUNTIF($B$53:$BC$53,"MB")) -> 0 | BE53: =+BD53/54 -> 0 | BF53: =(COUNTIF($B$53:$BC$53,"B")) -> 2 | BG53: =+BF53/54 -> 0.037037037 | BH53: =(COUNTIF($B$53:$BC$53,"R")) -> 48 | BI53: =+BH53/54 -> 0.88888889 | BJ53: =(COUNTIF($B$53:$BC$53,"M")) -> 4 | BK53: =+BJ53/54 -> 0.074074074 | BL53: =(COUNTIF($B$53:$BC$53,"MM")) -> 0 | BM53: =+BL53/54 -> 0 | BN53: =+BE53+BG53+BI53+BK53+BM53 -> 1
A54: Señalización horizontal
B55: M | C55: M | D55: M | E55: R | F55: R | G55: R | H55: R | I55: R | J55: R | K55: R | L55: R | M55: R | N55: R | O55: R | P55: R | Q55: R | R55: R | S55: R | T55: R | U55: R | V55: R | W55: B | X55: B | Y55: B | Z55: B | AA55: B | AB55: B | AC55: B | AD55: B | AE55: B | AF55: B | AG55: B | AH55: B | AI55: B | AJ55: B | AK55: B | AL55: m | AM55: m | AN55: m | AO55: m | AP55: m | AQ55: m | AR55: m | AS55: m | AT55: m | AU55: m | AV55: m | AW55: m | AX55: m | AY55: m | AZ55: m | BA55: m | BB55: m | BC55: B | BD55: =(COUNTIF($B$55:$BC$55,"MB")) -> 0 | BE55: =+BD55/54 -> 0 | BF55: =(COUNTIF($B$55:$BC$55,"B")) -> 16 | BG55: =+BF55/54 -> 0.2962963 | BH55: =(COUNTIF($B$55:$BC$55,"R")) -> 18 | BI55: =+BH55/54 -> 0.33333333 | BJ55: =(COUNTIF($B$55:$BC$55,"M")) -> 20 | BK55: =+BJ55/54 -> 0.37037037 | BL55: =(COUNTIF($B$55:$BC$55,"MM")) -> 0 | BM55: =+BL55/54 -> 0 | BN55: =+BE55+BG55+BI55+BK55+BM55 -> 1
A56: Rocería
B57: B | C57: B | D57: B | E57: B | F57: B | G57: B | H57: B | I57: B | J57: B | K57: B | L57: B | M57: B | N57: B | O57: B | P57: B | Q57: B | R57: B | S57: B | T57: B | U57: B | V57: B | W57: B | X57: B | Y57: B | Z57: B | AA57: B | AB57: B | AC57: B | AD57: B | AE57: B | AF57: B | AG57: B | AH57: B | AI57: B | AJ57: B | AK57: B | AL57: B | AM57: B | AN57: B | AO57: B | AP57: B | AQ57: B | AR57: B | AS57: B | AT57: B | AU57: B | AV57: B | AW57: B | AX57: B | AY57: B | AZ57: B | BA57: B | BB57: B | BC57: B | BD57: =(COUNTIF($B$57:$BC$57,"MB")) -> 0 | BE57: =+BD57/54 -> 0 | BF57: =(COUNTIF($B$57:$BC$57,"B")) -> 54 | BG57: =+BF57/54 -> 1 | BH57: =(COUNTIF($B$57:$BC$57,"R")) -> 0 | BI57: =+BH57/54 -> 0 | BJ57: =(COUNTIF($B$57:$BC$57,"M")) -> 0 | BK57: =+BJ57/54 -> 0 | BL57: =(COUNTIF($B$57:$BC$57,"MM")) -> 0 | BM57: =+BL57/54 -> 0 | BN57: =+BE57+BG57+BI57+BK57+BM57 -> 1
A58: Alcantarillas
B59: b | C59: b | D59: R | E59: R | F59: R | G59: R | H59: R | I59: R | J59: R | K59: B | L59: R | M59: R | N59: R | O59: R | P59: R | Q59: R | R59: R | S59: B | T59: B | U59: R | V59: R | W59: R | X59: B | Y59: B | Z59: B | AA59: B | AB59: B | AC59: B | AD59: B | AE59: B | AF59: B | AG59: B | AH59: B | AI59: B | AJ59: B | AK59: B | AL59: R | AM59: R | AN59: R | AO59: R | AP59: R | AQ59: R | AR59: R | AS59: R | AT59: R | AU59: R | AV59: R | AW59: R | AX59: R | AY59: R | AZ59: B | BA59: R | BB59: B | BC59: B | BD59: =(COUNTIF($B$59:$BC$59,"MB")) -> 0 | BE59: =+BD59/54 -> 0 | BF59: =(COUNTIF($B$59:$BC$59,"B")) -> 22 | BG59: =+BF59/54 -> 0.40740741 | BH59: =(COUNTIF($B$59:$BC$59,"R")) -> 32 | BI59: =+BH59/54 -> 0.59259259 | BJ59: =(COUNTIF($B$59:$BC$59,"M")) -> 0 | BK59: =+BJ59/54 -> 0 | BL59: =(COUNTIF($B$59:$BC$59,"MM")) -> 0 | BM59: =+BL59/54 -> 0 | BN59: =+BE59+BG59+BI59+BK59+BM59 -> 1
A60: Limpiezas de bermas
BD61: =(COUNTIF($B$61:$BC$61,"MB")) -> 0 | BE61: =+BD61/54 -> 0 | BF61: =(COUNTIF($B$61:$BC$61,"B")) -> 0 | BG61: =+BF61/54 -> 0 | BH61: =(COUNTIF($B$61:$BC$61,"R")) -> 0 | BI61: =+BH61/54 -> 0 | BJ61: =(COUNTIF($B$61:$BC$61,"M")) -> 0 | BK61: =+BJ61/54 -> 0 | BL61: =(COUNTIF($B$61:$BC$61,"MM")) -> 0 | BM61: =+BL61/54 -> 0 | BN61: =+BE61+BG61+BI61+BK61+BM61 -> 0
A63: NOTA: Indicar en el mapa los PRs de cada uno de los sitios importantes
A64: Hacer montaje del mapa de la red vial sobre cartografía o mapas aerofotogramétricos
A65: OBSERVACIONES:
BE67: VOLVER A TABLA DE CONTENIDO

Sheet TORTA EST. VIAS TEC
A1: INSTITUTO NACIONAL DE VIAS
A2: DIRECCION TERRITORIAL ANTIOQUIA
A4: GRAFICO No. 4
A6: ESTADO DE LA RED EN TORTA - CRITERIO TECNICO
A8: INGENIERO RESIDENTE: | B8: CARLOS MARIO MORENO IDARRAGA
A10: PERIODO EVALUADO: | B10: JULIO - DICIEMBRE / 2022
A13: CARRETERA | B13: SEMESTRE ANTERIOR | C13: SEMESTRE EVALUADO | G13: SEMESTRE EVALUADO
G15: =+'ESTADO RED TEC'!K12 -> 0 | H15: =+G15/G20 -> 0
G16: =+'ESTADO RED TEC'!K13 -> 5.137 | H16: =+G16/G20 -> 0.093539459
A17: LA UNION - SONSON | G17: =+'ESTADO RED TEC'!K14 -> 30.87 | H17: =+G17/G20 -> 0.56211078
A18: RUTA 5601 | G18: =+'ESTADO RED TEC'!K15 -> 18.911 | H18: =+G18/G20 -> 0.34434976
G19: =+'ESTADO RED TEC'!K16 -> 0 | H19: =+G19/G20 -> 0
G20: =SUM(G15:G19) -> 54.918 | H20: =SUM(H15:H19) -> 1
A26: CONVENCIONES
A27: MUY BUENO
A28: BUENO
A29: REGULAR
A30: MALO
A31: MUY MALO | C31: VOLVER A TABLA DE CONTENIDO

Sheet MAPA EST RED
A1: INSTITUTO NACIONAL DE VÍAS
A2: DIRECCIÓN TERRITORIAL ANTIOQUIA
A6: MAPA No. 1
A7: ESTADO DE LA RED Y SITIOS CRÍTICOS DE INESTABILIDAD
A14: INCLUIR AQUÍ EL MAPA CON EL ESTADO GENERAL DE LA RED VIAL A CARGO (CON COLORES
A15: DEL CRITERIO TÉCNICO) Y LA UBICACIÓN CON PR DE LOS SITIOS CRÍTICOS DE INESTABILIDAD
F36: CONVENCIONES
F37: MB | G37: MUY BUENO
F38: B | G38: BUENO
F39: R | G39: REGULAR
F40: M | G40: MALO
F41: MM | G41: MUY MALO
A42: NOTA: | B42: Ubicar en el mapa municipios, PRs de sitios importantes y lugares donde hay
B43: cambios en el estado de la red y sitios críticos de inestabilidad.
A45: RELACIÓN SITIOS CRÍTICOS DE INESTABILIDAD
A46: No | B46: CÓDIGO VÍA | C46: SECTOR | D46: PR | E46: DESCRIPCIÓN DEL PROBLEMA
A47: 1 | B47: 5601 | C47: EL CARDAL | D47: 70+0080 | E47: Socavación y erosión pata del talud inferior. | F47: 19+500
A48: 2 | B48: 5601 | C48: AURES | D48: 80+0460 | E48: Erosión en descole de obra de drenaje, formación de gran cárcava en talud inferior | F48: 24+700
A49: 3 | B49: 5601 | C49: AURES | D49: 81+0820 | E49: Reactivación inestabilidad talud superior, con caídas de suelo e invasión de calzada.
A50: 4 | B50: 5601 | C50: AURES | D50: 81+0200 | E50: Fallo de muro en gaviones, por malla deteriorada
A51: 5 | B51: 5601 | C51: AURES | D51: 81+0250 | E51: Fallo de cuneta y de talud inferioren el costado izquierdo, se presentan grietas en el talud. Lugar en constante chequeo
A52: 6 | B52: 5601 | C52: AURES CARTAGENA | D52: 83+0012 | E52: Daño en losa de puente "Cartagena", fisuras en vigas, socavación en estribos y aletas y disipador de energía.
A53: 7 | B53: 5601 | C53: LA MORELIA | D53: 84+0750 | E53: Fallo de Bordillo en talud Inferior
A54: 8 | B54: 5601 | C54: LA MORELIA | D54: 85+0660 | E54: Asentamiento carril derecho. Talud inferior inestable lado derecho. | F54: 61+100 a 61+600
A55: 9 | B55: 5601 | C55: MANANTIALES | D55: 92+0087 | E55: Daño serevo en obra, encole y decole, se requiere cambio y mejoramiento.
A56: 10 | B56: 5601 | C56: MANANTIALES | D56: 91+0840 - 92+0010 | E56: Deformación de la calzada, deslizamiento lento masivo.
A57: 11 | B57: 5601 | C57: TASAJO | D57: 93+0750 | E57: Desprendimiento del talud inferior, lado izquierdo de la vía por acción erosiva del río "Tasajo". | F57: 18+000
A58: 12 | B58: 5601 | C58: TASAJO | D58: 94+0260 | E58: Fuerte Erosion en descole causado por incremento de caudal de quebrada.
A59: 13 | B59: 5601 | C59: TASAJO | D59: 94+0450 | E59: Carcava descole obra y desconfinamiento de banca.
A60: 14 | B60: 5601 | C60: TASAJO | D60: 94+0820 - 94+0875 | E60: Hundimiento de banca en longitud de 65 metros. Ya es notorio el desnivel tanto a la entrada como a la salida de sector afectado. | F60: 44+500 a 45+500
A61: 15 | B61: 5601 | C61: TASAJO | D61: 95+0750 - 95+0840 | E61: Hundimiento de banca en longitud de 100 metros. El paso continua estable luego de aplicación en 2013 de capa de renivelación de MSC-1, como medida de mitigación. | F61: 44+500 a 45+500
A62: 16 | B62: 5601 | C62: LA HONDA | D62: 97+0300 | E62: Asentamiento carril derecho. Talud inferior inestable lado derecho. | F62: 61+100 a 61+600
E64: VOLVER A LA TABLA DE CONTENIDO

Sheet NECESIDAD VIA
A1: INSTITUTO NACIONAL DE VIAS
A2: DIRECCION TERRITORIAL ANTIOQUIA
A4: CUADRO No. 5
A6: NECESIDADES PREVENTIVAS DE LA VIA
A7: MANTENIMIENTO PERIODICO
A9: INGENIERO RESIDENTE: | B9: CARLOS MARIO MORENO IDÁRRAGA | F9: TRIMESTRE EVALUADO: ENE - MAR/2023
A11: CARRETERA | B11: CODIGO | C11: PR inicial | D11: PR final | E11: DESCRIPCION DE LA NECESIDAD | F11: COSTO ESTIMADO ($) | G11: OBSERVACIONES
A12: LA UNIÓN - SONSÓN | B12: 5601 | C12: 52+200 | E12: REEMPLAZO DE OBRA DE DRENAJE INSUFICIENTE HIDRÁULICAMENTE | F12: =+'CANT OBRA'!H607 -> 45360053
A13: LA UNIÓN - SONSÓN | B13: 5601 | C13: 52+530 | E13: REEMPLAZO DE OBRA DE DRENAJE COLAPSADA | F13: =+'CANT OBRA'!H623 -> 59110699
A14: LA UNIÓN - SONSÓN | B14: 5601 | C14: 53+475 | E14: REEMPLAZO DE OBRA DE DRENAJE COLAPSADA | F14: =+'CANT OBRA'!H639 -> 45137254
A15: LA UNIÓN - SONSÓN | B15: 5601 | C15: 55+850 | E15: CONSTRUCCIÓN DE DISIPADOR DE CUNETAS PARA EVITAR EROSIÓN EN DESCOLE | F15: =+'CANT OBRA'!H650 -> 9819791
A16: LA UNIÓN - SONSÓN | B16: 5601 | C16: 56+0210 | E16: REEMPLAZO DE ALCANTARILLA, ENCAUCE DE AGUAS DE ENCOLE HACIA OBRA DE DRENAJE Y PROTECCIÓN DEL MISMO | F16: =+'CANT OBRA'!H668 -> 53009483
A17: LA UNIÓN - SONSÓN | B17: 5601 | C17: 56+0563 | E17: RECONSTRUCCIÓN DE CUNETAS DETERIORADAS | F17: =+'CANT OBRA'!H961 -> 2954856
A18: LA UNIÓN - SONSÓN | B18: 5601 | C18: 57+0784 | E18: RECONSTRUCCIÓN DE CUNETAS DETERIORADAS | F18: =+'CANT OBRA'!H970 -> 2178500
A19: LA UNIÓN - SONSÓN | B19: 5601 | C19: 58+0790 | E19: PROTECCIÓN BANCA DE ACCIÓN EROSIVA DE QUEBRADA | F19: =+'CANT OBRA'!H45 -> 115954828
A20: LA UNIÓN - SONSÓN | B20: 5601 | C20: 60+0125 | E20: DEMOLICIÓN DE CABEZOTE VOLCADO QUE OBSTRUYE SALIDA DE OBRA DE DRENAJE | F20: =+'CANT OBRA'!H675 -> 1027469
A21: LA UNIÓN - SONSÓN | B21: 5601 | C21: 60+0820 | E21: DEMOLICIÓN Y RECONSTRUCCIÓN DE PLACAS DE PAVIMENTO DE CONCRETO | F21: =+'CANT OBRA'!H980 -> 28664712
A22: LA UNIÓN - SONSÓN | B22: 5601 | C22: 61+0585 | E22: REEMPLAZO DE OBRA DE DRENAJE INSUFICIENTE HIDRÁULICAMENTE | F22: =+'CANT OBRA'!H691 -> 46333568
A23: LA UNIÓN - SONSÓN | B23: 5601 | C23: 63+0110 | E23: CONSTRUCCIÓN DE MURO EN GAVIONES PARA ESTABILIZACIÓN BANCA, MARGEN DERECHA VÍA | F23: =+'CANT OBRA'!H71 -> 60859889
A24: LA UNIÓN - SONSÓN | B24: 5601 | C24: 68+0812 | E24: CONSTRUCCIÓN DE DISIPADOR DE OBRA DE DRENAJE PARA EVITAR MAYOR EROSIÓN DE DESCOLE | F24: =+'CANT OBRA'!H703 -> 117061756
A25: LA UNIÓN - SONSÓN | B25: 5601 | C25: 68+0910 | E25: CONSTRUCCIÓN DE ALETA DE OBRA DE DRENAJE | F25: =+'CANT OBRA'!H714 -> 5749713
A26: LA UNIÓN - SONSÓN | B26: 5602 | C26: 68+0980 | E26: REEMPLAZO DE OBRA DE DRENAJE INSUFICIENTE | F26: =+'CANT OBRA'!H730 -> 43915459
A27: LA UNIÓN - SONSÓN | B27: 5601 | C27: 82+0904 | E27: RECONSTRUCCIÓN DE MURO EN GAVIONES | F27: =+'CANT OBRA'!H292 -> 258790772
A28: LA UNIÓN - SONSÓN | B28: 5601 | C28: 89+0890 | E28: RECONSTRUCCIÓN DE MURO EN GAVIONES | F28: =+'CANT OBRA'!H334 -> 28476266
A29: LA UNIÓN - SONSÓN | B29: 5601 | C29: 92+0087 | E29: REEMPLAZO DE OBRA DE DRENAJE DETERIORADA | F29: =+'CANT OBRA'!H856 -> 110353229
A30: LA UNIÓN - SONSÓN | B30: 5601 | C30: 96+0015 | E30: CONSTRUCCIÓN DE GAVIONES PARA ESTABILIZACIÓN DE BANCA | F30: =+'CANT OBRA'!H379 -> 7711694
A31: LA UNIÓN - SONSÓN | B31: 5601 | C31: 97+0720 | E31: RECONSTRUCCIÓN DE MURO EN GAVIONES | F31: =+'CANT OBRA'!H491 -> 16501116
A32: LA UNIÓN - SONSÓN | B32: 5601 | C32: 98+0790 | E32: CONSTRUCCIÓN DE DISIPADOR DE CUNETA | F32: =+'CANT OBRA'!H931 -> 15559213
A33: LA UNIÓN - SONSÓN | B33: 5601 | C33: 72+0700 - 85+0130 y 101+0905 - 103+0000 | E33: SELLO DE FISURAS PAVIMENTO FLEXIBLE | F33: =+'CANT OBRA'!H1035 -> 195850993
A34: LA UNIÓN - SONSÓN | B34: 5601 | C34: 49+0885 | D34: 72+688 | E34: REPARACIÓN DE PLACAS DE PAVIMENTO RÍGIDO | F34: =+'CANT OBRA'!H1047 -> 473123594
A35: LA UNIÓN - SONSÓN | B35: 5601 | C35: 49+0000 | D35: 103+0000 | E35: REMOCIÓN DE DERRUMBES TRAMO 5601 | F35: =+'CANT OBRA'!H1014 -> 150768053
A36: LA UNIÓN - SONSÓN | B36: 5601 | C36: 85+0160 | D36: 101+906 | E36: PARCHEO CON MEZCLA ASFÁLTICA PR´S 85+0150 AL PR 101+0906 | F36: =+'CANT OBRA'!H1005 -> 7779329008
A37: LA UNIÓN - SONSÓN | B37: 5601 | C37: 49+0000-49+0885, 68+0601-71+0318, 85+0103-101+0900 | E37: PARCHEO CON MEZCLA ASFÁLTICA Y REFORZAMIENTO DE LA ESTRUCTURA DEL PAVIMENTO PR´S 49+000-49+885, 68+601-71+318, 85+103-101+900 | F37: =+'CANT OBRA'!H1029 -> 21054950220
A38: LA UNIÓN - SONSÓN | B38: 5601 | C38: 49+0000 | D38: 103+0000 | E38: RECONSTRUCCIÓN DE CUNETAS Y FILTROS TRAMO 5601 | F38: =+'CANT OBRA'!H952 -> 5521881160
E39: TOTAL | F39: =SUM(F12:F38) -> 36250433348
A41: LOS VALORES REGISTRADOS EN LA COLUMNA COSTO ESTIMADO, DEBEN ESTAR ENLAZADOS CON EL HIPERVINCULO DEL CUADRO No. 7 "CALCULO DE CANTIDADES Y COSTOS ESTIMADOS DE NECESIDADES DE LAS VIAS", RESPECTIVO.
A42: NOTA (1): El costo debe incluir AIU e IVA (16% sobre utilidades) | F42: VOLVER A TABLA DE CONTENIDO

Sheet NECESIDADES CRITICAS
A1: INSTITUTO NACIONAL DE VIAS
A2: DIRECCION TERRITORIAL ANTIOQUIA
A4: CUADRO No. 6
A6: NECESIDADES CRITICAS DE LAS VIAS
A7: MANTENIMIENTO PERIODICO
A10: ADMINISTRADOR (ING. RESIDENTE): | C10: CARLOS MARIO MORENO IDÁRRAGA | F10: TRIMESTRE EVALUADO: | G10: ENE-MAR/2023
A12: CARRETERA | B12: CODIGO | C12: PR inicial | D12: PR final | E12: DESCRIPCION DE LA NECESIDAD | F12: COSTO ESTIMADO ($) | G12: OBSERVACIONES
A13: LA UNIÓN - SONSÓN | B13: 5601 | C13: 57+0950 | E13: CONSTRUCCIÓN DE MURO SOBRE CAISSONS Y REPARACIÓN DE CUNETAS | F13: =+'CANT OBRA'!H19 -> 55240515
A14: LA UNIÓN - SONSÓN | B14: 5601 | C14: 58+0045 | E14: PROTECCIÓN BANCA Y ESTRUCTURA DE CONTENCIÓN DE ACCIÓN EROSIVA DE QUEBRADA | F14: =+'CANT OBRA'!H32 -> 56300482
A15: LA UNIÓN - SONSÓN | B15: 5601 | C15: 65+0970 | E15: CONSTRUCCIÓN DE MURO DE PATA EN GAVIONES Y DE DISIPADOR DE ENERGÍA | F15: =+'CANT OBRA'!H83 -> 49048492
A16: LA UNIÓN - SONSÓN | B16: 5601 | C16: 67+0990 | D16: 68+030 | E16: CONSTRUCCIÓN DE BORDILLO (INCLUYE CONTRAFUERTES PARA EVITAR VOLCAMIENTO), PARA EVITAR EROSIÓN EN TALUD INFERIOR | F16: =+'CANT OBRA'!H96 -> 44093403
A17: LA UNIÓN - SONSÓN | B17: 5601 | C17: 68+0500 | E17: CONSTRUCCIÓN DE MURO EN CONCRETO (CIMENTACIÓN SUPERFICIAL), H=3,5 M, L=35 M | F17: =+'CANT OBRA'!H110 -> 203580850
A18: LA UNIÓN - SONSÓN | B18: 5601 | C18: 68+0600 | E18: CONSTRUCCIÓN DE MURO EN CONCRETO (CIMENTACIÓN SUPERFICIAL), H=3,5 M, L=20M | F18: =+'CANT OBRA'!H125 -> 118527925
A19: LA UNIÓN - SONSÓN | B19: 5601 | C19: 68+0773 | E19: REEMPLAZO DE MURO EN GAVIONES DETERIORADOS Y CONSTRUCCIÓN DE DISIPADOR DE OBRA DE DRENAJE PARA EVITAR MAYOR EROSIÓN DE DESCOLE | F19: =+'CANT OBRA'!H137 -> 131978879
A20: LA UNIÓN - SONSÓN | B20: 5601 | C20: 70+0080 | E20: CONSTRUCCIÓN DE MURO EN CONCRETO (CIMENTACIÓN SUPERFICIAL) Y PROTECCIÓN DE CAUCE QUEBRADA | F20: =+'CANT OBRA'!H155 -> 597717994
A21: LA UNIÓN - SONSÓN | B21: 5601 | C21: 70+0775 | E21: CONSTRUCCIÓN DE DISIPADOR DE CUNETA | F21: =+'CANT OBRA'!H995 -> 29133767
A22: LA UNIÓN - SONSÓN | B22: 5601 | C22: 72+0900 | E22: RECONSTRUCCIÓN DE MURO EN GAVIONES | F22: =+'CANT OBRA'!H168 -> 104311505
A23: =+A22 -> LA UNIÓN - SONSÓN | B23: 5601 | C23: 76+0400 | E23: REPARACIÓN DE CUNETA Y CONSTRUCCIÓN MURO EN GAVIONES | F23: =+'CANT OBRA'!H179 -> 47323131
A24: =+A23 -> LA UNIÓN - SONSÓN | B24: =+B23 -> 5601 | C24: 76+0515 | E24: CONSTRUCCIÓN DE MURO EN GAVIONES | F24: =+'CANT OBRA'!H191 -> 41083880
A25: =+A24 -> LA UNIÓN - SONSÓN | B25: 5601 | C25: 76+0880 | E25: RECONSTRUCCIÓN DE BORDILLO | F25: =+'CANT OBRA'!H200 -> 4360043
A26: =+A25 -> LA UNIÓN - SONSÓN | B26: 5601 | C26: 76+0900 | E26: CONSTRUCCIÓN DE MURO PATERO | F26: =+'CANT OBRA'!H210 -> 21512503
A27: LA UNIÓN - SONSÓN | B27: 5601 | C27: 77+0010 | E27: CONSTRUCCIÓN DE MURO EN CONCRETO (CIMENTACIÓN SUPERFICIAL), H=3,5 M, L=25 M | F27: =+'CANT OBRA'!H225 -> 152982791
A28: LA UNIÓN - SONSÓN | B28: 5601 | C28: 77+0930 | E28: RECONSTRUCCIÓN DE MURO EN GAVIONES | F28: =+'CANT OBRA'!H240 -> 60151701
A29: LA UNIÓN - SONSÓN | B29: 5601 | C29: 78+0030 | E29: REEMPLAZO DE CAJA DE DRENAJE INSUFICIENTE POR BOX COULVERT DE 2X2 | F29: =+'CANT OBRA'!H748 -> 167734941
A30: LA UNIÓN - SONSÓN | B30: 5601 | C30: 78+0540 | E30: CONSTRUCCIÓN DE GAVIONES Y DISIPADOR DE OBRA DE DRENAJE PARA RECUPERAR ESTABILIDAD BANCA | F30: =+'CANT OBRA'!H252 -> 24549309
A31: LA UNIÓN - SONSÓN | B31: 5601 | C31: 78+0580 | E31: CONSTRUCCIÓN DE DISIPADOR DE OBRA DE DRENAJE PARA RECUPERACIÓN CÁRCAVA | F31: =+'CANT OBRA'!H761 -> 77289577
A32: LA UNIÓN - SONSÓN | B32: 5601 | C32: 80+0060 | E32: CONSTRUCCIÓN DE DISIPADOR DE OBRA DE DRENAJE Y RECUPERACIÓN CÁRCAVA | F32: =+'CANT OBRA'!H775 -> 79145468
A33: LA UNIÓN - SONSÓN | B33: 5601 | C33: 80+0460 | E33: CONSTRUCCIÓN DE DISIPADOR DE OBRA DE DRENAJE | F33: =+'CANT OBRA'!H262 -> 68033655
A34: LA UNIÓN - SONSÓN | B34: 5601 | C34: 80+0640 | E34: PROTECCIÓN TALUD INFERIOR Y CAUCE QUEBRADA DE ACCIÓN EROSIVA | F34: =+'CANT OBRA'!H270 -> 131669917
A35: LA UNIÓN - SONSÓN | B35: 5601 | C35: 80+0720 | E35: REEMPLAZO DE CAJA DE DRENAJE INSUFICIENTE POR BOX COULVERT DE 2X2 | F35: =+'CANT OBRA'!H793 -> 179454255
A36: LA UNIÓN - SONSÓN | B36: 5601 | C36: 80+0750 | E36: PROTECCIÓN DE TALUD CON REVEGETALIZACIÓN Y MANTO DE REFUERZO | F36: =+'CANT OBRA'!H521 -> 135604379
A37: LA UNIÓN - SONSÓN | B37: 5601 | C37: 81+0820 | E37: OBRAS DE ESTABILIZACIÓN TALUD SUPERIOR (MURO CIMENTACIÓN SUPERFICIAL PARA CONTENER MASA, H=2,0 M., L=30 M.), DRENAJE Y SUBDRENAJE | F37: =+'CANT OBRA'!H539 -> 293484310
A38: LA UNIÓN - SONSÓN | B38: 5601 | C38: 81+0200 | E38: RECONSTRUCCION DE MURO DE GAVIONES L=30M | F38: =+'CANT OBRA'!H549 -> 206899906
A39: LA UNIÓN - SONSÓN | B39: 5601 | C39: 81+0250 | E39: RECUPERACION Y CONSTRUCCION DE CUNETA L=20M | F39: =+'CANT OBRA'!H560 -> 32005071
A40: LA UNIÓN - SONSÓN | B40: 5601 | C40: 83+0440 | E40: CONSTRUCCIÓN MURO CONCRETO SOBRE CAISSONS PARA ESTABILIZACIÓN DE LA BANCA, L=25,0 m. | F40: =+'CANT OBRA'!H308 -> 571875901
A41: LA UNIÓN - SONSÓN | B41: 5601 | C41: 84+0750 | E41: CONSTRUCCIÓN DE BORDILLO MICROPILOTESDO DE 15 M DE LONGITUD. | F41: =+'CANT OBRA'!H572 -> 88483546
A42: LA UNIÓN - SONSÓN | B42: 5601 | C42: 85+0660 | E42: ESTABILIZACIÓN DE TERRENO CON CAISSONS, VIGA CABEZAL Y OBRAS COMPLEMENTARIAS | F42: =+'CANT OBRA'!H588 -> 350643379
A43: LA UNIÓN - SONSÓN | B43: 5601 | C43: 87+0220 | E43: CONSTRUCCIÓN DE MURO DE CONCRETO REFORZADO DE CIMENTACIÓN SUPERFICIAL, H=3,5 M., L=15,0 M. | F43: =+'CANT OBRA'!H836 -> 339320298
A44: LA UNIÓN - SONSÓN | B44: 5601 | C44: 87+0396 | E44: CONSTRUCCIÓN DE DISIPADOR DE OBRA DE DRENAJE PARA EVITAR MAYOR EROSIÓN DE DESCOLE | F44: =+'CANT OBRA'!H807 -> 183704085
A45: LA UNIÓN - SONSÓN | B45: 5601 | C45: 88+0190 | E45: RECONSTRUCCIÓN ALETAS DE SALIDA OBRA DRENAJE Y CONSTRUCCIÓN DE DISIPADOR PARA EVITAR EROSIÓN EN DESCOLE Y FORMACIÓN DE CÁRCAVA | F45: =+'CANT OBRA'!H820 -> 57888024
...

Sheet CANT OBRA
A1: INSTITUTO NACIONAL DE VIAS
A2: DIRECCION TERRITORIAL ANTIOQUIA
A3: CUADRO No. 7
A5: CALCULO DE CANTIDADES Y COSTOS ESTIMADOS DE NECESIDADES
A6: DE LAS VIAS (PREVENTIVAS Ó CRITICAS Ó PUENTES Ó PONTONES)
A7: INGENIERO RESIDENTE: | D7: CARLOS MARIO MORENO IDÁRRAGA | G7: TRIMESTRE EVALUADO: | H7: ENE - MAR / 2023
A8: CARRETERA: | C8: LA UNION - LA FRONTERA - SONSÓN (PR49+0000 - PR103+0000) | E8: SECTOR: | F8: 5601
A10: ITEM DE PAGO | B10: ESPECIFICACIONES
B11: GENERAL | C11: PARTICULAR | D11: DESCRIPCION | E11: UND. | F11: CANTIDAD | G11: VALOR UNITARIO ( $ ) | H11: VALOR TOTAL ( $ )
A13: 1. Descripción de la actividad : OBRAS DE PROTECCIÓN Y RECUPERACIÓN DE BANCA
C15: PR57+0950 CONSTRUCCIÓN DE MURO SOBRE CAISSONS Y REPARACIÓN DE CUNETAS l=23,60 ML
A16: 623.1 | B16: =MID(A16,1,3)&"-"&13 -> 623-13 | D16: =VLOOKUP(A16,[33]ÍNDICE!$C$6:$N$380,5,FALSE) -> ANCLAJE TIPO _____ (ROCA) | E16: =VLOOKUP(A16,[33]ÍNDICE!$C$6:$N$380,2,FALSE) -> m | F16: 105 | G16: =VLOOKUP(A16,[33]ÍNDICE!$C$6:$N$380,12,FALSE) -> 522283.45 | H16: =F16*G16 -> 54839763
G17: VALOR BÁSICO | H17: =SUM(H16:H16) -> 54839763
G18: VALOR IVA (19% SOBRE UTILIDADES) | H18: =ROUND((+H17*0.05*0.19)/(1+0.3),0) -> 400752
G19: VALOR TOTAL DE LA OBRA | H19: =+ROUND(H17+H18,0) -> 55240515
C21: PR 58+0045 PROTECCIÓN BANCA Y ESTRUCTURA DE CONTENCIÓN DE ACCIÓN EROSIVA DE QUEBRADA
A22: 600.1.1 | B22: =MID(A22,1,3)&"-"&13 -> 600-13 | D22: =VLOOKUP(A22,[33]ÍNDICE!$C$6:$N$380,5,FALSE) -> EXCAVACIONES VARIAS SIN CLASIFICAR | E22: =VLOOKUP(A22,[33]ÍNDICE!$C$6:$N$380,2,FALSE) -> m3 | F22: =6*2*3 -> 36 | G22: =VLOOKUP(A22,[33]ÍNDICE!$C$6:$N$380,12,FALSE) -> 58828.261 | H22: =F22*G22 -> 2117817.4
A23: 600.2.4 | B23: =MID(A23,1,3)&"-"&13 -> 600-13 | D23: =VLOOKUP(A23,[33]ÍNDICE!$C$6:$N$380,5,FALSE) -> EXCAVACIONES VARIAS EN MATERIAL COMÚN BAJO AGUA | E23: =VLOOKUP(A23,[33]ÍNDICE!$C$6:$N$380,2,FALSE) -> m3 | F23: 12 | G23: =VLOOKUP(A23,[33]ÍNDICE!$C$6:$N$380,12,FALSE) -> 59036.508 | H23: =F23*G23 -> 708438.1
A24: 610.1 | B24: =MID(A24,1,3)&"-"&13 -> 610-13 | D24: =VLOOKUP(A24,[33]ÍNDICE!$C$6:$N$380,5,FALSE) -> RELLENO PARA ESTRUCTURAS CON SUELO (analizado sin preparación de la superficie base del relleno) | E24: =VLOOKUP(A24,[33]ÍNDICE!$C$6:$N$380,2,FALSE) -> m3 | F24: 5 | G24: =VLOOKUP(A24,[33]ÍNDICE!$C$6:$N$380,12,FALSE) -> 162354.11 | H24: =F24*G24 -> 811770.55
A25: 630.1.5 | B25: =MID(A25,1,3)&"-"&13 -> 630-13 | D25: =VLOOKUP(A25,[33]ÍNDICE!$C$6:$N$380,5,FALSE) -> CONCRETO SIMPLE RESISTENCIA 17 MPa - MEZCLA IN SITU | E25: =VLOOKUP(A25,[33]ÍNDICE!$C$6:$N$380,2,FALSE) -> m3 | F25: =8*4*0.1 -> 3.2 | G25: =VLOOKUP(A25,[33]ÍNDICE!$C$6:$N$380,12,FALSE) -> 994779.33 | H25: =F25*G25 -> 3183293.9
A26: 630.1.7 | B26: =MID(A26,1,3)&"-"&13 -> 630-13 | D26: =VLOOKUP(A26,[33]ÍNDICE!$C$6:$N$380,5,FALSE) -> CONCRETO CICLÓPEO RESISTENCIA 14MPa (G) | E26: =VLOOKUP(A26,[33]ÍNDICE!$C$6:$N$380,2,FALSE) -> m3 | F26: 2 | G26: =VLOOKUP(A26,[33]ÍNDICE!$C$6:$N$380,12,FALSE) -> 680494.67 | H26: =F26*G26 -> 1360989.3
A27: 630.P | B27: =MID(A27,1,3)&"-"&13 -> 630-13 | D27: =VLOOKUP(A27,[33]ÍNDICE!$C$6:$N$380,5,FALSE) -> BOLSACRETO CONCRETO 210 MPA | E27: =VLOOKUP(A27,[33]ÍNDICE!$C$6:$N$380,2,FALSE) -> m3 | F27: 30 | G27: =VLOOKUP(A27,[33]ÍNDICE!$C$6:$N$380,12,FALSE) -> 858421.78 | H27: =F27*G27 -> 25752653
A28: 673.1.2 | B28: =MID(A28,1,3)&"-"&13 -> 673-13 | D28: =VLOOKUP(A28,[33]ÍNDICE!$C$6:$N$380,5,FALSE) -> GEOTEXTIL TIPO TEJIDO CON RESISTENCIA A LA TENSIÓN GRAB MÍNIMA DE 1400 N | E28: =VLOOKUP(A28,[33]ÍNDICE!$C$6:$N$380,2,FALSE) -> m2 | F28: =7*3*1.1 -> 23.1 | G28: =VLOOKUP(A28,[33]ÍNDICE!$C$6:$N$380,12,FALSE) -> 12861.246 | H28: =F28*G28 -> 297094.79
A29: 681.1 | B29: =MID(A29,1,3)&"-"&13 -> 681-13 | D29: =VLOOKUP(A29,[33]ÍNDICE!$C$6:$N$380,5,FALSE) -> GAVIONES DE MALLA DE ALAMBRE DE ACERO ENTRELAZADO CLASE 1; RECUBRIMIENTO DE ZINC (GALVANIZADO) | E29: =VLOOKUP(A29,[33]ÍNDICE!$C$6:$N$380,2,FALSE) -> m3 | F29: 36 | G29: =VLOOKUP(A29,[33]ÍNDICE!$C$6:$N$380,12,FALSE) -> 601666.2 | H29: =F29*G29 -> 21659983
G30: VALOR BÁSICO | H30: =SUM(H22:H29) -> 55892040
G31: VALOR IVA (19% SOBRE UTILIDADES) | H31: =SUM(H30:H30)*0.05*0.19/1.3 -> 408441.83
G32: VALOR TOTAL DE LA OBRA | H32: =+ROUND(H30+H31,0) -> 56300482
C35: PR 58+0790 PROTECCIÓN BANCA DE ACCIÓN EROSIVA DE QUEBRADA
A36: 600.1.1 | B36: =MID(A36,1,3)&"-"&13 -> 600-13 | D36: =VLOOKUP(A36,[33]ÍNDICE!$C$6:$N$380,5,FALSE) -> EXCAVACIONES VARIAS SIN CLASIFICAR | E36: =VLOOKUP(A36,[33]ÍNDICE!$C$6:$N$380,2,FALSE) -> m3 | F36: =20*2*3 -> 120 | G36: =VLOOKUP(A36,[33]ÍNDICE!$C$6:$N$380,12,FALSE) -> 58828.261 | H36: =F36*G36 -> 7059391.3
A37: 600.2.4 | B37: =MID(A37,1,3)&"-"&13 -> 600-13 | D37: =VLOOKUP(A37,[33]ÍNDICE!$C$6:$N$380,5,FALSE) -> EXCAVACIONES VARIAS EN MATERIAL COMÚN BAJO AGUA | E37: =VLOOKUP(A37,[33]ÍNDICE!$C$6:$N$380,2,FALSE) -> m3 | F37: =0.7*F36 -> 84 | G37: =VLOOKUP(A37,[33]ÍNDICE!$C$6:$N$380,12,FALSE) -> 59036.508 | H37: =F37*G37 -> 4959066.7
A38: 610.1 | B38: =MID(A38,1,3)&"-"&13 -> 610-13 | D38: =VLOOKUP(A38,[33]ÍNDICE!$C$6:$N$380,5,FALSE) -> RELLENO PARA ESTRUCTURAS CON SUELO (analizado sin preparación de la superficie base del relleno) | E38: =VLOOKUP(A38,[33]ÍNDICE!$C$6:$N$380,2,FALSE) -> m3 | F38: =0.75*F36 -> 90 | G38: =VLOOKUP(A38,[33]ÍNDICE!$C$6:$N$380,12,FALSE) -> 162354.11 | H38: =F38*G38 -> 14611870
A39: 630.1.4.1 | B39: =MID(A39,1,3)&"-"&13 -> 630-13 | D39: =VLOOKUP(A39,[33]ÍNDICE!$C$6:$N$380,5,FALSE) -> CONCRETO REFORZADO RESISTENCIA 21MPa (D) - MEZCLA IN SITU | E39: =VLOOKUP(A39,[33]ÍNDICE!$C$6:$N$380,2,FALSE) -> m3 | F39: =20*4*0.1 -> 8 | G39: =VLOOKUP(A39,[33]ÍNDICE!$C$6:$N$380,12,FALSE) -> 1243512.5 | H39: =F39*G39 -> 9948099.7
A40: 630.1.7 | B40: =MID(A40,1,3)&"-"&13 -> 630-13 | D40: =VLOOKUP(A40,[33]ÍNDICE!$C$6:$N$380,5,FALSE) -> CONCRETO CICLÓPEO RESISTENCIA 14MPa (G) | E40: =VLOOKUP(A40,[33]ÍNDICE!$C$6:$N$380,2,FALSE) -> m3 | F40: 8 | G40: =VLOOKUP(A40,[33]ÍNDICE!$C$6:$N$380,12,FALSE) -> 680494.67 | H40: =F40*G40 -> 5443957.3
A41: 673.1.2 | B41: =MID(A41,1,3)&"-"&13 -> 673-13 | D41: =VLOOKUP(A41,[33]ÍNDICE!$C$6:$N$380,5,FALSE) -> GEOTEXTIL TIPO TEJIDO CON RESISTENCIA A LA TENSIÓN GRAB MÍNIMA DE 1400 N | E41: =VLOOKUP(A41,[33]ÍNDICE!$C$6:$N$380,2,FALSE) -> m2 | F41: =21*3*1.1 -> 69.3 | G41: =VLOOKUP(A41,[33]ÍNDICE!$C$6:$N$380,12,FALSE) -> 12861.246 | H41: =F41*G41 -> 891284.37
A42: 681.1 | B42: =MID(A42,1,3)&"-"&13 -> 681-13 | D42: =VLOOKUP(A42,[33]ÍNDICE!$C$6:$N$380,5,FALSE) -> GAVIONES DE MALLA DE ALAMBRE DE ACERO ENTRELAZADO CLASE 1; RECUBRIMIENTO DE ZINC (GALVANIZADO) | E42: =VLOOKUP(A42,[33]ÍNDICE!$C$6:$N$380,2,FALSE) -> m3 | F42: =20*3*(2/3)*3 -> 120 | G42: =VLOOKUP(A42,[33]ÍNDICE!$C$6:$N$380,12,FALSE) -> 601666.2 | H42: =F42*G42 -> 72199943
G43: VALOR BÁSICO | H43: =SUM(H36:H42) -> 1.1511361e+08
G44: VALOR IVA (19% SOBRE UTILIDADES) | H44: =SUM(H43:H43)*0.05*0.19/1.3 -> 841214.86
G45: VALOR TOTAL DE LA OBRA | H45: =+ROUND(H43+H44,0) -> 115954828
C48: PR 62+0260 EROSIÓN SEVERO POR DESCOLE
A49: 600.1.1 | B49: =MID(A49,1,3)&"-"&13 -> 600-13 | D49: =VLOOKUP(A49,[33]ÍNDICE!$C$6:$N$380,5,FALSE) -> EXCAVACIONES VARIAS SIN CLASIFICAR | E49: =VLOOKUP(A49,[33]ÍNDICE!$C$6:$N$380,2,FALSE) -> m3 | F49: 128 | G49: =VLOOKUP(A49,[33]ÍNDICE!$C$6:$N$380,12,FALSE) -> 58828.261 | H49: =F49*G49 -> 7530017.4
...

Sheet INF. EMERGENCIAS
A1: INSTITUTO NACIONAL DE VIAS
A2: DIRECCION TERRITORIAL ANTIOQUIA
A4: CUADRO No.8
A6: INFORMACION SOBRE EMERGENCIAS
A8: INGENIERO RESIDENTE: | C8: CARLOS MARIO MORENO IDÁRRAGA | G8: TRIMESTRE EVALUADO: | I8: ENERO-MARZO / 2023
A10: FECHA | B10: CARRETERA | C10: CODIGO | D10: PRi | E10: PRf | F10: TIPO DE EMERGENCIA | G10: SOLUCION | H10: COSTO ESTIMADO ($) | I10: OBSERVACIONES
A11: 44991 | B11: LA UNIÓN - LA FRONTERA -SONSÓN | C11: 5601 | D11: 81+0650 | F11: MOVIMIENTO EN MASA | G11: RETIRO DE DERRUMBE | H11: 80000000 | I11: ATENCION REALIZADA POR VIAS DE ORIENTE Y POR MEDIO DEL CONTRATO DE MANTENIMIENTO xxxxx
H19: =SUM(H11:H18) -> 80000000
A21: NOTA (1): El costo debe incluir AIU e IVA (19% sobre utilidades)
H22: VOLVER A TABLA DE CONTENIDO

Sheet PUENTES
A1: INSTITUTO NACIONAL DE VIAS
A2: DIRECCION TERRITORIAL ANTIOQUIA
A4: CUADRO No. 9
A6: ESTADO GENERAL DE LOS PUENTES
A8: INGENIERO RESIDENTE: | D8: CARLOS MARIO MORENO IDÁRRAGA | J8: TRIMESTRE EVALUADO: | M8: ENERO MARZO/ 2023
A10: No. | B10: NOMBRE DEL PUENTE | C10: PR inicial | D10: PR final | E10: Longitud (m) | F10: CARRETERA | G10: CODIGO DE LA VIA | H10: TRANSITO | J10: ESTADO GENERAL | N10: OBSERVACIONES
H11: Normal | I11: Restringido | J11: Estribos Aletas | K11: Vigas Losas | L11: Barandas | M11: Estado crítico inmediato
A12: 1 | B12: Piedras | C12: 57+0597 | D12: 57+0611 | E12: 13.45 | F12: La Unión - Sonsón | G12: 5601 | H12: X | N12: Se requiere obras para protección de aleta AL3, socavación de estribos E1 y E2. Algunos desprendimientos superficie y hormigoneos en la parte inferior de la losa, hormigoneos en VL3 y hormigoneos y hierro expuesto en VL4, riostra RI2 con fisuras.
A13: 2 | B13: San Miguel | C13: 61+0449 | D13: 61+0463 | E13: 14 | F13: La Unión - Sonsón | G13: 5601 | H13: X | N13: Daños tipo bache y desprendimientos en superficie de rodadura y vigas VL3, con hierro expuesto y humedad y VL4, con hierro expuesto.
A14: 3 | B14: El Cardal | C14: 68+0435 | D14: 68+0445 | E14: 9.8 | F14: La Unión - Sonsón | G14: 5601 | H14: X | N14: Desgaste superficie de rodadura y hormigoneos en losa inferior.
A15: 4 | B15: El Buey | C15: 72+0724 | D15: 72+0733 | E15: 9 | F15: La Unión - Sonsón | G15: 5601 | H15: X | N15: Superficie de rodadura con piel de cocodrilo y bache en el acceso AC2, socavación estribo ES1 y aleta AL1.
A16: 5 | B16: Aures | C16: 82+0184 | D16: 82+0195 | E16: 11.2 | F16: La Unión - Sonsón | G16: 5601 | H16: X | N16: Desgaste superficie de rodadura( fisuras en bloque), hormigoneos losa inferior entre VL1 y VL2. Vigas VL1, VL2 y VL3 con hormigoneos y hierro expuesto en VL2. Socavación aleta VL4.
A17: 6 | B17: Cartagena | C17: 83+0012 | D17: 83+0023 | E17: 11 | F17: La Unión - Sonsón | G17: 5601 | H17: X | N17: Desgaste superficie de rodadura con fisuras en bloque, daño en losa, fisuras en vigas VL1, VL2, VL3 y VL4, socavación estibo ES1, socavación en aletas VL1 Y VL2 y disipador de concreto, hasta el momento no se ha realizado inspección especial solicitada por las fisuras que presenta en vigas principales.
A18: 7 | B18: Quebrada Negra | C18: 86+0920 | D18: 86+0932 | E18: 11.5 | F18: La Unión - Sonsón | G18: 5601 | H18: X | N18: Desgaste en superficie de rodadura con exposición de acero. Las vigas VL1, VL2, VL3, y VL4. presentan fisuras a cortante.
A19: 8 | B19: Tasajo | C19: 93+0709 | D19: 93+0732 | E19: 23 | F19: La Unión - Sonsón | G19: 5601 | H19: X | N19: Desgaste en la carpeta de rodadura y huecos en la junta No.2. La losa inferior presenta hormigoneos. Viga VL4 presenta hormigoneo. Se requiere reparación de 2,0 m. de baranda metálica existente.
B21: CONVENCIONES:
B22: N.E. : No existe | F22: En buen estado | G22: En regular estado | J22: En mal estado | M22: x | N22: Se reparó en el presente mes
A25: NOTA: Se deben diligenciar todas las casillas.
L26: VOLVER A TABLA DE CONTENIDO

Sheet NEC PTES
A1: INSTITUTO NACIONAL DE VIAS
A2: DIRECCION TERRITORIAL ANTIOQUIA
A3: CUADRO No. 10
A5: PRIORIZACION PUENTES QUE REQUIEREN ATENCION - REHABILITACION Y CONSERVACION
A8: INGENIERO RESIDENTE: | D8: CARLOS MARIO MORENO IDÁRRAGA | I8: TRIMESTRE EVALUADO: | L8: ENE-MAR/2023
A10: No. | B10: TERRITORIAL | C10: CODIGO DEL PUENTE (Sipucol) | D10: NOMBRE DEL PUENTE | E10: CALIFICACION | F10: TPDS | G10: LONG. (m) | H10: CARRETERA | I10: PR inicial | J10: PR final | K10: TIPO DAÑO | L10: DESCRIPCION DE LOS TRABAJOS | M10: COSTO APROXIMADO | O10: OBSERVACIONES
M11: $
M12: ESTUDIOS | N12: OBRA
A13: 1 | B13: ANTIOQUIA | C13: 01-5601-104.00 | D13: Piedras | E13: 2 | F13: 1935 | G13: 13.5 | H13: La Unión - Sonsón | I13: 57+0597 | J13: 57+0611 | K13: Socavación | L13: Obras para protección de aleta AL3 y socavación estribo E2. | N13: =+'CANT OBRA'!H1082 -> 63691075
A14: 2 | B14: ANTIOQUIA | C14: 01-5601-105.00 | D14: San Miguel | E14: 2 | F14: 1935 | G14: 14 | H14: La Unión - Sonsón | I14: 61+0449 | J14: 61+0463 | K14: Superficie de rodadura | L14: Reparación de superficie del puente, baches en la losa. | N14: =+'CANT OBRA'!H1094 -> 182009079 | O14: Superficie con daños tipo bache y desprendimientos
A15: 3 | B15: ANTIOQUIA | D15: El Buey | E15: 2 | F15: 511 | G15: 9 | H15: La Unión - Sonsón | I15: 72+0724 | J15: 72+0733 | K15: Socavación | L15: Recinte estribo ES1 y aleta AL1 | N15: =+'CANT OBRA'!H1108 -> 9618035 | O15: Se requiere recinte de estribo y aleta
A16: 4 | B16: ANTIOQUIA | C16: 01-5601-106.00 | D16: Aures | E16: 2 | F16: 511 | G16: 11.2 | H16: La Unión - Sonsón | I16: 82+0184 | J16: 82+0195 | K16: Socavación aleta VL4 | L16: Recinte aleta | N16: =+'CANT OBRA'!H1116 -> 5246482 | O16: Se requiere recinte de aleta
A17: 5 | B17: ANTIOQUIA | C17: 01-5601-107.00 | D17: Cartagena | E17: 4 | F17: 511 | G17: 11 | H17: La Unión - Sonsón | I17: 83+0012 | J17: 83+0023 | K17: Losa, vigas, estribos y aletas | L17: Reparación de losa, obras de protección de aletas AL1 y AL2 y disipadores de concreto, recinte de disipador a la salida de la corriente de agua. Inspección especial para revisar estado de las vigas ya que estas presentan fisuras a cortante. | M17: =+'CANT OBRA'!I1189 -> 24514000 | N17: =+'CANT OBRA'!H1131 -> 193425180 | O17: MITIGACIÓN. Se requieren obras de protección de aletas y disipadores existentes y reparar la losa. Requiere inspección especial
A18: 6 | B18: ANTIOQUIA | C18: 01-5601-108.00 | D18: Quebrada Negra | E18: 2 | F18: 511 | G18: 11.5 | H18: La Unión - Sonsón | I18: 86+0920 | J18: 86+0932 | K18: Superficie de rodadura | L18: Reparación de superficie de la losa del puente con acero expuesto. | N18: =+'CANT OBRA'!H1136 -> 11502040 | O18: Superficie con daño tipo desgaste
M23: =SUM(M17:M22) -> 24514000 | N23: =SUM(N13:N22) -> 465491891
A24: LOS VALORES REGISTRADOS EN LA COLUMNA COSTO ESTIMADO, DEBEN ESTAR ENLAZADOS CON EL HIPERVINCULO DEL CUADRO No. 7 "CALCULO DE CANTIDADES Y COSTOS ESTIMADOS DE NECESIDADES DE LAS VIAS", RESPECTIVO.
L25: Valor Interven. | N25: =0.2*(N23-N24) -> 93098378
L27: Valor Necesidades | N27: =+N23-N24+N25 -> 5.5859027e+08
M29: VOLVER A TABLA DE CONTENIDO

Sheet PONTONES
A1: INSTITUTO NACIONAL DE VIAS
A2: DIRECCION TERRITORIAL ANTIOQUIA
A4: CUADRO No. 11
A6: ESTADO GENERAL DE LOS PONTONES
A9: INGENIERO RESIDENTE: | D9: CARLOS MARIO MORENO IDÁRRAGA | I9: TRIMESTRE EVALUADO: | K9: ENE-MAR/2023
F11: TRANSITO | H11: ESTADO GENERAL
A12: No. | B12: PR inicial | C12: PR final | D12: CARRETERA | E12: CODIGO | F12: Normal | G12: Restringido | H12: Estribos Aletas | I12: Vigas Losas | J12: Barandas | K12: Estado crítico inmediato | L12: OBSERVACIONES
A13: 1 | B13: 58+240 | C13: 58+245 | D13: La Unión - Sonsón | E13: 5601 | F13: X | J13: N.E. | L13: Actualmente las barandas son defensas metálicas
A14: 2 | B14: 70+190 | C14: 70+194 | D14: La Unión - Sonsón | E14: 5601 | F14: X
A15: 3 | B15: 77+961 | C15: 77+963 | D15: La Unión - Sonsón | E15: 5601 | F15: X | J15: N.E. | L15: Presenta grieta a lo ancho del ponton
A16: 4 | B16: 80+580 | C16: 80+582 | D16: La Unión - Sonsón | E16: 5601 | F16: X | L16: El ponton es de mamposteria y presenta grieta a lo ancho y socavacion
A24: CONVENCIONES:
A25: N.E. : No existe | D25: En buen estado | E25: En regular estado | H25: En mal estado | K25: x | L25: Se reparó en el presente mes
A28: NOTA: Se deben diligenciar todas las casillas. | K28: VOLVER A TABLA DE CONTENIDO

Sheet NEC. PONTONES
A1: INSTITUTO NACIONAL DE VIAS
A2: DIRECCION TERRITORIAL ANTIOQUIA
A4: CUADRO No. 12
A6: NECESIDADES DE LOS PONTONES
A9: INGENIERO RESIDENTE: | B9: CARLOS MARIO MORENO I. | E9: TRIMESTRE EVALUADO: | F9: ENE-MAR/2023
A11: CARRETERA | B11: CODIGO | C11: PR inicial | D11: PR final | E11: DESCRIPCION DE LA NECESIDAD | F11: COSTO ESTIMADO ($) | G11: OBSERVACIONES
A12: La Unión - Sonsón | B12: 5601 | C12: 58+0240 | D12: 58+0245 | E12: Recinte estribo de salida | F12: =+'CANT OBRA'!H1147 -> 4310225
A13: La Unión - Sonsón | B13: 5601 | C13: 80+580 | D13: 80+0582 | E13: Sellamiento de grieta y recubrimiento de sovacacion | F13: =+'CANT OBRA'!H1155 -> 3117919 | G13: PONTON EN MAMPOSTERIA
