Workbook

Sheet FICHA TECNICA
A1: ITEM | B1: PRODUCTO | C1: UND | D1: CANT | E1: FERREMATERIALES LA ROCA | F1: CABLE ELECTRICOS LA 12 | G1: ELECTROARTICULOS | H1: VR TOTAL PROMEDIO
E2: VR TOTAL | F2: VR TOTAL | G2: VR TOTAL
A3: 1 | B3: TOMA DOBLE DE INCRUSTAR | C3: UND | D3: 1 | E3: 10000 | F3: 7000 | G3: 12000 | H3: =AVERAGE(E3,F3,G3) -> 9666.6667
A4: 2 | B4: INTERRUPTOR SENCILLO INCRUSTAR | C4: UND | D4: 1 | E4: 12000 | F4: 6000 | G4: 14000 | H4: =AVERAGE(E4,F4,G4) -> 10666.667
A5: 3 | B5: PLAFON | C5: UND | D5: 1 | E5: 8000 | F5: 5000 | G5: 9500 | H5: =AVERAGE(E5,F5,G5) -> 7500
A6: 4 | B6: BOMBILLO LED DE 40W | C6: UND | D6: 1 | E6: 22000 | F6: 18500 | G6: 25000 | H6: =AVERAGE(E6,F6,G6) -> 21833.333
A7: 5 | B7: BOMBILLO LED DE 30W | C7: UND | D7: 1 | E7: 15000 | F7: 12000 | G7: 20000 | H7: =AVERAGE(E7,F7,G7) -> 15666.667
A8: 6 | B8: PANEL LED DE S/P 24W REDONDO | C8: UND | D8: 1 | E8: 20000 | F8: 20000 | G8: 28000 | H8: =AVERAGE(E8,F8,G8) -> 22666.667
A9: 7 | B9: CANALETA 20X12 DEXSON | C9: UND | D9: 1 | E9: 16000 | F9: 13000 | G9: 18000 | H9: =AVERAGE(E9,F9,G9) -> 15666.667
A10: 8 | B10: CANALETA 20X20 DEXSON | C10: UND | D10: 1 | E10: 20000 | F10: 16100 | G10: 23000 | H10: =AVERAGE(E10,F10,G10) -> 19700
A11: 9 | B11: CAJA DE 2X4 DEXSON 40MM | C11: UND | D11: 1 | E11: 11000 | F11: 9850 | G11: 13000 | H11: =AVERAGE(E11,F11,G11) -> 11283.333
A12: 10 | B12: CHAZO PLASTICO DE 1/4 | C12: UND | D12: 1 | E12: 200 | F12: 100 | G12: 250 | H12: =AVERAGE(E12,F12,G12) -> 183.33333
A13: 11 | B13: CONECTOR DE EMPALME R/Y | C13: UND | D13: 1 | E13: 2500 | F13: 1650 | G13: 3000 | H13: =AVERAGE(E13,F13,G13) -> 2383.3333
A14: 12 | B14: CABLE DUPLEX 2X14 | C14: ML | D14: 1 | E14: 8000 | F14: 6000 | G14: 8500 | H14: =AVERAGE(E14,F14,G14) -> 7500
... A51: 49 | B51: BREKES DE 15A HASTA 50A | C51: UND | D51: 1 | E51: 32000 | F51: 29300 | G51: 40000 | H51: =AVERAGE(E51,F51,G51) -> 33766.667
A52: 50 | B52: MOSQUETONES DIELECTRICOS | C52: UND | D52: 1 | E52: 200000 | F52: 185000 | H52: =AVERAGE(E52,F52) -> 192500
A53: 51 | B53: ARNES DIELECTRICO | C53: UND | D53: 1 | E53: 410000 | F53: 390000 | G53: 500000 | H53: =AVERAGE(E53,F53,G53) -> 433333.33
A54: 52 | B54: BOTAS DIELECTRICAS POR PARES | C54: UND | D54: 1 | E54: 155000 | F54: 145000 | G54: 230000 | H54: =AVERAGE(E54,F54,G54) -> 176666.67
A55: 53 | B55: CAJA DE BREKES DE 6 PUESTOS | C55: UND | D55: 1 | E55: 80000 | F55: 74000 | G55: 90000 | H55: =AVERAGE(E55,F55,G55) -> 81333.333
A56: 54 | B56: AMARRAS PLASTICAS DE 20 MM POR PAQUETE X 100 | C56: UND | D56: 1 | E56: 16000 | F56: 14000 | H56: =AVERAGE(E56,F56) -> 15000
A57: 55 | B57: REFLECTOR LED DE 100 W | C57: UND | D57: 1 | E57: 82000 | F57: 75000 | G57: 105000 | H57: =AVERAGE(E57,F57,G57) -> 87333.333
A58: 56 | B58: CINTA AUTOFUNDENTE 18 MM X 9,1 M | C58: ROLLO | D58: 1 | E58: 42000 | F58: 31000 | G58: 60000 | H58: =AVERAGE(E58,F58,G58) -> 44333.333
A59: SUBTOTAL | E59: =SUM(E3:E58) -> 5340750 | F59: =SUM(F3:F58) -> 4908827 | G59: =SUM(G3:G58) -> 6259000 | H59: =SUM(H3:H58) -> 5572025.7
A62: SUBTOTAL | E62: =H59 -> 5572025.7
A63: NOTA: Los valores incluyen IVA
A64: VR TOTAL PRESUPUESTO | E64: =E62 -> 5572025.7

Sheet PRESUPUESTO 
A1: ITEM | B1: PRODUCTO | C1: UND | D1: CANT | E1: VR TOTAL
A2: ='FICHA TECNICA'!A3 -> 1 | B2: ='FICHA TECNICA'!B3 -> TOMA DOBLE DE INCRUSTAR | C2: ='FICHA TECNICA'!C3 -> UND | D2: ='FICHA TECNICA'!D3 -> 1 | E2: ='FICHA TECNICA'!H3 -> 9666.6667
A3: ='FICHA TECNICA'!A4 -> 2 | B3: ='FICHA TECNICA'!B4 -> INTERRUPTOR SENCILLO INCRUSTAR | C3: ='FICHA TECNICA'!C4 -> UND | D3: ='FICHA TECNICA'!D4 -> 1 | E3: ='FICHA TECNICA'!H4 -> 10666.667
A4: ='FICHA TECNICA'!A5 -> 3 | B4: ='FICHA TECNICA'!B5 -> PLAFON | C4: ='FICHA TECNICA'!C5 -> UND | D4: ='FICHA TECNICA'!D5 -> 1 | E4: ='FICHA TECNICA'!H5 -> 7500
A5: ='FICHA TECNICA'!A6 -> 4 | B5: ='FICHA TECNICA'!B6 -> BOMBILLO LED DE 40W | C5: ='FICHA TECNICA'!C6 -> UND | D5: ='FICHA TECNICA'!D6 -> 1 | E5: ='FICHA TECNICA'!H6 -> 21833.333
A6: ='FICHA TECNICA'!A7 -> 5 | B6: ='FICHA TECNICA'!B7 -> BOMBILLO LED DE 30W | C6: ='FICHA TECNICA'!C7 -> UND | D6: ='FICHA TECNICA'!D7 -> 1 | E6: ='FICHA TECNICA'!H7 -> 15666.667
A7: ='FICHA TECNICA'!A8 -> 6 | B7: ='FICHA TECNICA'!B8 -> PANEL LED DE S/P 24W REDONDO | C7: ='FICHA TECNICA'!C8 -> UND | D7: ='FICHA TECNICA'!D8 -> 1 | E7: ='FICHA TECNICA'!H8 -> 22666.667
A8: ='FICHA TECNICA'!A9 -> 7 | B8: ='FICHA TECNICA'!B9 -> CANALETA 20X12 DEXSON | C8: ='FICHA TECNICA'!C9 -> UND | D8: ='FICHA TECNICA'!D9 -> 1 | E8: ='FICHA TECNICA'!H9 -> 15666.667
A9: ='FICHA TECNICA'!A10 -> 8 | B9: ='FICHA TECNICA'!B10 -> CANALETA 20X20 DEXSON | C9: ='FICHA TECNICA'!C10 -> UND | D9: ='FICHA TECNICA'!D10 -> 1 | E9: ='FICHA TECNICA'!H10 -> 19700
A10: ='FICHA TECNICA'!A11 -> 9 | B10: ='FICHA TECNICA'!B11 -> CAJA DE 2X4 DEXSON 40MM | C10: ='FICHA TECNICA'!C11 -> UND | D10: ='FICHA TECNICA'!D11 -> 1 | E10: ='FICHA TECNICA'!H11 -> 11283.333
A11: ='FICHA TECNICA'!A12 -> 10 | B11: ='FICHA TECNICA'!B12 -> CHAZO PLASTICO DE 1/4 | C11: ='FICHA TECNICA'!C12 -> UND | D11: ='FICHA TECNICA'!D12 -> 1 | E11: ='FICHA TECNICA'!H12 -> 183.33333
A12: ='FICHA TECNICA'!A13 -> 11 | B12: ='FICHA TECNICA'!B13 -> CONECTOR DE EMPALME R/Y | C12: ='FICHA TECNICA'!C13 -> UND | D12: ='FICHA TECNICA'!D13 -> 1 | E12: ='FICHA TECNICA'!H13 -> 2383.3333
A13: ='FICHA TECNICA'!A14 -> 12 | B13: ='FICHA TECNICA'!B14 -> CABLE DUPLEX 2X14 | C13: ='FICHA TECNICA'!C14 -> ML | D13: ='FICHA TECNICA'!D14 -> 1 | E13: ='FICHA TECNICA'!H14 -> 7500
... A57: ='FICHA TECNICA'!A58 -> 56 | B57: ='FICHA TECNICA'!B58 -> CINTA AUTOFUNDENTE 18 MM X 9,1 M | C57: ='FICHA TECNICA'!C58 -> ROLLO | D57: ='FICHA TECNICA'!D58 -> 1 | E57: ='FICHA TECNICA'!H58 -> 44333.333
A58: TOTAL | E58: =SUM(E2:E57) -> 5572025.7
A60: SUBTOTAL | C60: =E58 -> 5572025.7
A61: NOTA: Los valores incluyen IVA
A62: VR TOTAL PRESUPUESTO | C62: =C60 -> 5572025.7
