Workbook

Sheet ESTUDIO DE MERCADO
B2: DESCRIPCIÓN ITEM / CANTIDADES | F2: COTIZACIÓN DIAGNOSTIAUTOS SAS | N2: COTIZACIÓN MOTOMAS LTDA AVENIDA 1 DE MAYO | V2: COTIZACIÓN DIAGNOSTICENTRO INTEGRAL AUTOMOTRIZ D.I.A. E.U | AD2: COTIZACIÓN CDA BONANZA SAS | AL2: VALOR PROMEDIO UNITARIO TOTAL | AM2: DESVIACION ESTÁNDAR UNITARIO TOTAL | AN2: CONFIABILIDAD | AQ2: VALOR PROMEDIO VALOR TOTAL X CANTIDAD
B3: ITEM | C3: DESCRIPCIÓN | D3: UND | E3: CANTIDAD | F3: VALOR DEL SERVICIO | G3: IVA (19%) | H3: OTROS IMPUESTOS O GRAVAMENES* | I3: VALOR RUNT | J3: VALOR SICOV | K3: VALOR ANSV | L3: VALOR RECAUDO | M3: VALOR UNITARIO TOTAL | N3: VALOR DEL SERVICIO | O3: IVA (19%) | P3: OTROS IMPUESTOS O GRAVAMENES* | Q3: VALOR RUNT | R3: VALOR SICOV | S3: VALOR ANSV | T3: VALOR RECAUDO | U3: VALOR UNITARIO TOTAL | V3: VALOR DEL SERVICIO | W3: IVA (19%) | X3: OTROS IMPUESTOS O GRAVAMENES* | Y3: VALOR RUNT | Z3: VALOR SICOV | AA3: VALOR ANSV | AB3: VALOR RECAUDO | AC3: VALOR UNITARIO TOTAL | AD3: VALOR DEL SERVICIO | AE3: IVA (19%) | AF3: OTROS IMPUESTOS O GRAVAMENES* | AG3: VALOR RUNT | AH3: VALOR SICOV | AI3: VALOR ANSV | AJ3: VALOR RECAUDO | AK3: VALOR UNITARIO TOTAL | AN3: COEF DE VARIACIÓN | AO3: MARGEN DE CONFIABILIDAD | AP3: NIVEL DE CONFIABILIDAD
B4: 1 | C4: SERVICIO DE REVISIÓN TÉCNICO-MECÁNICA PARA VEHÍCULO LIVIANO CAMIONETA NISSAN URVAN MODELO 2020 | D4: UND | E4: 31 | F4: 231000 | G4: =ROUND((F4*19%),0) -> 43890 | H4: 10626 | I4: 4900 | J4: 31746 | K4: 8900 | L4: 9877 | M4: =SUM(F4:L4) -> 340939 | N4: 221088 | O4: =ROUND((N4*19%),0) -> 42007 | P4: 6642 | Q4: 4900 | R4: 26677 | S4: 8900 | T4: 8279 | U4: =SUM(N4:T4) -> 318493 | V4: 246750 | W4: =ROUND(V4*19%,0) -> 46883 | X4: 0 | Y4: 4900 | Z4: 31746 | AA4: 8900 | AB4: 9818 | AC4: =SUM(V4:AB4) -> 348997 | AD4: 231000 | AE4: =ROUND(AD4*19%,0) -> 43890 | AF4: 0 | AG4: 4900 | AH4: 31746 | AI4: 8900 | AJ4: 9818 | AK4: =SUM(AD4:AJ4) -> 330254 | AL4: =ROUND(AVERAGE(M4,U4,AC4,AK4),0) -> 334671 | AM4: =ROUND(_xlfn.STDEV.S(M4,U4,AC4,AK4),0) -> 13238 | AN4: =(AM4/AL4*100) -> 3.9555265 | AO4: =100-AN4 -> 96.044474 | AP4: =IF(AO4>=90,"ALTO","BAJO") -> ALTO | AQ4: =AL4*E4 -> 10374801
B5: 2 | C5: SERVICIO DE REVISIÓN TÉCNICO-MECÁNICA PARA VEHÍCULO LIVIANO CAMIONETA NISSAN URVAN MODELO 2018 | D5: UND | E5: 3 | F5: 231000 | G5: =ROUND((F5*19%),0) -> 43890 | H5: 10626 | I5: 4900 | J5: 31746 | K5: 8900 | L5: 9877 | M5: =SUM(F5:L5) -> 340939 | N5: 221088 | O5: =ROUND((N5*19%),0) -> 42007 | P5: 6642 | Q5: 4900 | R5: 26677 | S5: 8900 | T5: 8279 | U5: =SUM(N5:T5) -> 318493 | V5: 246750 | W5: =ROUND(V5*19%,0) -> 46883 | X5: 0 | Y5: 4900 | Z5: 31746 | AA5: 8900 | AB5: 9818 | AC5: =SUM(V5:AB5) -> 348997 | AD5: 231000 | AE5: =ROUND(AD5*19%,0) -> 43890 | AF5: 0 | AG5: 4900 | AH5: 31746 | AI5: 8900 | AJ5: 9818 | AK5: =SUM(AD5:AJ5) -> 330254 | AL5: =ROUND(AVERAGE(M5,U5,AC5,AK5),0) -> 334671 | AM5: =ROUND(_xlfn.STDEV.S(M5,U5,AC5,AK5),0) -> 13238 | AN5: =(AM5/AL5*100) -> 3.9555265 | AO5: =100-AN5 -> 96.044474 | AP5: =IF(AO5>=90,"ALTO","BAJO") -> ALTO | AQ5: =AL5*E5 -> 1004013
B6: 3 | C6: SERVICIO DE REVISIÓN TÉCNICO-MECÁNICA PARA VEHÍCULO LIVIANO CAMIONETA NISSAN URVAN MODELO 2011 | D6: UND | E6: 1 | F6: 231000 | G6: =ROUND((F6*19%),0) -> 43890 | H6: 10626 | I6: 4900 | J6: 31746 | K6: 9200 | L6: 9877 | M6: =SUM(F6:L6) -> 341239 | N6: 221088 | O6: =ROUND((N6*19%),0) -> 42007 | P6: 6642 | Q6: 4900 | R6: 26677 | S6: 9200 | T6: 8279 | U6: =SUM(N6:T6) -> 318793 | V6: 246750 | W6: =ROUND(V6*19%,0) -> 46883 | X6: 0 | Y6: 4900 | Z6: 31746 | AA6: 9200 | AB6: 9818 | AC6: =SUM(V6:AB6) -> 349297 | AD6: 231000 | AE6: =ROUND(AD6*19%,0) -> 43890 | AF6: 0 | AG6: 4900 | AH6: 31746 | AI6: 9200 | AJ6: 9818 | AK6: =SUM(AD6:AJ6) -> 330554 | AL6: =ROUND(AVERAGE(M6,U6,AC6,AK6),0) -> 334971 | AM6: =ROUND(_xlfn.STDEV.S(M6,U6,AC6,AK6),0) -> 13238 | AN6: =(AM6/AL6*100) -> 3.9519839 | AO6: =100-AN6 -> 96.048016 | AP6: =IF(AO6>=90,"ALTO","BAJO") -> ALTO | AQ6: =AL6*E6 -> 334971
B7: 4 | C7: SERVICIO DE REVISIÓN TÉCNICO-MECÁNICA PARA VEHÍCULO LIVIANO CAMIONETA NISSAN FRONTIER MODELO 2020 | D7: UND | E7: 6 | F7: 231000 | G7: =ROUND((F7*19%),0) -> 43890 | H7: 10626 | I7: 4900 | J7: 31746 | K7: 8900 | L7: 9877 | M7: =SUM(F7:L7) -> 340939 | N7: 221088 | O7: =ROUND((N7*19%),0) -> 42007 | P7: 6642 | Q7: 4900 | R7: 26677 | S7: 8900 | T7: 8279 | U7: =SUM(N7:T7) -> 318493 | V7: 246750 | W7: =ROUND(V7*19%,0) -> 46883 | X7: 0 | Y7: 4900 | Z7: 31746 | AA7: 8900 | AB7: 9818 | AC7: =SUM(V7:AB7) -> 348997 | AD7: 231000 | AE7: =ROUND(AD7*19%,0) -> 43890 | AF7: 0 | AG7: 4900 | AH7: 31746 | AI7: 8900 | AJ7: 9818 | AK7: =SUM(AD7:AJ7) -> 330254 | AL7: =ROUND(AVERAGE(M7,U7,AC7,AK7),0) -> 334671 | AM7: =ROUND(_xlfn.STDEV.S(M7,U7,AC7,AK7),0) -> 13238 | AN7: =(AM7/AL7*100) -> 3.9555265 | AO7: =100-AN7 -> 96.044474 | AP7: =IF(AO7>=90,"ALTO","BAJO") -> ALTO | AQ7: =AL7*E7 -> 2008026
B8: 5 | C8: SERVICIO DE REVISIÓN TÉCNICO-MECÁNICA PARA MOTOCICLETA YAMAHA FZN250-A MODELO 2023 | D8: UND | E8: 184 | F8: 134400 | G8: =ROUND((F8*19%),0) -> 25536 | H8: 6182 | I8: 4900 | J8: 31746 | K8: 8100 | L8: 9877 | M8: =SUM(F8:L8) -> 220741 | N8: 126610 | O8: =ROUND((N8*19%),0) -> 24056 | P8: 6642 | Q8: 4900 | R8: 26677 | S8: 8100 | T8: 8279 | U8: =SUM(N8:T8) -> 205264 | V8: 149944 | W8: =ROUND(V8*19%,0) -> 28489 | X8: 0 | Y8: 4900 | Z8: 31746 | AA8: 8100 | AB8: 9818 | AC8: =SUM(V8:AB8) -> 232997 | AD8: 134000 | AE8: =ROUND(AD8*19%,0) -> 25460 | AF8: 0 | AG8: 4900 | AH8: 31746 | AI8: 8100 | AJ8: 9818 | AK8: =SUM(AD8:AJ8) -> 214024 | AL8: =ROUND(AVERAGE(M8,U8,AC8,AK8),0) -> 218257 | AM8: =ROUND(_xlfn.STDEV.S(M8,U8,AC8,AK8),0) -> 11693 | AN8: =(AM8/AL8*100) -> 5.3574456 | AO8: =100-AN8 -> 94.642554 | AP8: =IF(AO8>=90,"ALTO","BAJO") -> ALTO | AQ8: =AL8*E8 -> 40159288
B9: 6 | C9: SERVICIO DE REVISIÓN TÉCNICO-MECÁNICA PARA MOTOCICLETA YAMAHA XTZ 250 MODELO 2023 | D9: UND | E9: 1 | F9: 134400 | G9: =ROUND((F9*19%),0) -> 25536 | H9: 6182 | I9: 4900 | J9: 31746 | K9: 8100 | L9: 9877 | M9: =SUM(F9:L9) -> 220741 | N9: 126610 | O9: =ROUND((N9*19%),0) -> 24056 | P9: 6642 | Q9: 4900 | R9: 26677 | S9: 8100 | T9: 8279 | U9: =SUM(N9:T9) -> 205264 | V9: 149944 | W9: =ROUND(V9*19%,0) -> 28489 | X9: 0 | Y9: 4900 | Z9: 31746 | AA9: 8100 | AB9: 9818 | AC9: =SUM(V9:AB9) -> 232997 | AD9: 134000 | AE9: =ROUND(AD9*19%,0) -> 25460 | AF9: 0 | AG9: 4900 | AH9: 31746 | AI9: 8100 | AJ9: 9818 | AK9: =SUM(AD9:AJ9) -> 214024 | AL9: =ROUND(AVERAGE(M9,U9,AC9,AK9),0) -> 218257 | AM9: =ROUND(_xlfn.STDEV.S(M9,U9,AC9,AK9),0) -> 11693 | AN9: =(AM9/AL9*100) -> 5.3574456 | AO9: =100-AN9 -> 94.642554 | AP9: =IF(AO9>=90,"ALTO","BAJO") -> ALTO | AQ9: =AL9*E9 -> 218257
B10: 7 | C10: SERVICIO DE REVISIÓN TÉCNICO-MECÁNICA PARA MOTOCICLETA YAMAHA XT660R MODELO 2011 | D10: UND | E10: 9 | F10: 134400 | G10: =ROUND((F10*19%),0) -> 25536 | H10: 6182 | I10: 4900 | J10: 31746 | K10: 8700 | L10: 9877 | M10: =SUM(F10:L10) -> 221341 | N10: 126610 | O10: =ROUND((N10*19%),0) -> 24056 | P10: 6642 | Q10: 4900 | R10: 26677 | S10: 8700 | T10: 8279 | U10: =SUM(N10:T10) -> 205864 | V10: 149944 | W10: =ROUND(V10*19%,0) -> 28489 | X10: 0 | Y10: 4900 | Z10: 31746 | AA10: 8700 | AB10: 9818 | AC10: =SUM(V10:AB10) -> 233597 | AD10: 134000 | AE10: =ROUND(AD10*19%,0) -> 25460 | AF10: 0 | AG10: 4900 | AH10: 31746 | AI10: 8700 | AJ10: 9818 | AK10: =SUM(AD10:AJ10) -> 214624 | AL10: =ROUND(AVERAGE(M10,U10,AC10,AK10),0) -> 218857 | AM10: =ROUND(_xlfn.STDEV.S(M10,U10,AC10,AK10),0) -> 11693 | AN10: =(AM10/AL10*100) -> 5.3427581 | AO10: =100-AN10 -> 94.657242 | AP10: =IF(AO10>=90,"ALTO","BAJO") -> ALTO | AQ10: =AL10*E10 -> 1969713
B11: TOTAL | AL11: =SUM(AL4:AL10) -> 1994355 | AM11: =SUM(AM4:AM10) -> 88031 | AQ11: =SUM(AQ4:AQ10) -> 56069069
C12: NOTA: Se redondean algunos valores cotizados al peso mas cercano

Sheet Precios Techo
B4: DESCRIPCIÓN ITEM / CANTIDADES | F4: PRECIOS TECHO UNITARIOS INCLUIDO IVA | G4: PRECIOS TECHO TOTALES INCLUIDO IVA
B5: ITEM | C5: DESCRIPCIÓN | D5: UND | E5: CANTIDAD
B6: 1 | C6: ='ESTUDIO DE MERCADO'!C4 -> SERVICIO DE REVISIÓN TÉCNICO-MECÁNICA PARA VEHÍCULO LIVIANO CAMIONETA NISSAN URVAN MODELO 2020 | D6: ='ESTUDIO DE MERCADO'!D4 -> UND | E6: ='ESTUDIO DE MERCADO'!E4 -> 31 | F6: ='ESTUDIO DE MERCADO'!AL4 -> 334671 | G6: ='ESTUDIO DE MERCADO'!AQ4 -> 10374801
B7: 2 | C7: ='ESTUDIO DE MERCADO'!C5 -> SERVICIO DE REVISIÓN TÉCNICO-MECÁNICA PARA VEHÍCULO LIVIANO CAMIONETA NISSAN URVAN MODELO 2018 | D7: ='ESTUDIO DE MERCADO'!D5 -> UND | E7: ='ESTUDIO DE MERCADO'!E5 -> 3 | F7: ='ESTUDIO DE MERCADO'!AL5 -> 334671 | G7: ='ESTUDIO DE MERCADO'!AQ5 -> 1004013
B8: 3 | C8: ='ESTUDIO DE MERCADO'!C6 -> SERVICIO DE REVISIÓN TÉCNICO-MECÁNICA PARA VEHÍCULO LIVIANO CAMIONETA NISSAN URVAN MODELO 2011 | D8: ='ESTUDIO DE MERCADO'!D6 -> UND | E8: ='ESTUDIO DE MERCADO'!E6 -> 1 | F8: ='ESTUDIO DE MERCADO'!AL6 -> 334971 | G8: ='ESTUDIO DE MERCADO'!AQ6 -> 334971
B9: 4 | C9: ='ESTUDIO DE MERCADO'!C7 -> SERVICIO DE REVISIÓN TÉCNICO-MECÁNICA PARA VEHÍCULO LIVIANO CAMIONETA NISSAN FRONTIER MODELO 2020 | D9: ='ESTUDIO DE MERCADO'!D7 -> UND | E9: ='ESTUDIO DE MERCADO'!E7 -> 6 | F9: ='ESTUDIO DE MERCADO'!AL7 -> 334671 | G9: ='ESTUDIO DE MERCADO'!AQ7 -> 2008026
B10: 5 | C10: ='ESTUDIO DE MERCADO'!C8 -> SERVICIO DE REVISIÓN TÉCNICO-MECÁNICA PARA MOTOCICLETA YAMAHA FZN250-A MODELO 2023 | D10: ='ESTUDIO DE MERCADO'!D8 -> UND | E10: ='ESTUDIO DE MERCADO'!E8 -> 184 | F10: ='ESTUDIO DE MERCADO'!AL8 -> 218257 | G10: ='ESTUDIO DE MERCADO'!AQ8 -> 40159288
B11: 6 | C11: ='ESTUDIO DE MERCADO'!C9 -> SERVICIO DE REVISIÓN TÉCNICO-MECÁNICA PARA MOTOCICLETA YAMAHA XTZ 250 MODELO 2023 | D11: ='ESTUDIO DE MERCADO'!D9 -> UND | E11: ='ESTUDIO DE MERCADO'!E9 -> 1 | F11: ='ESTUDIO DE MERCADO'!AL9 -> 218257 | G11: ='ESTUDIO DE MERCADO'!AQ9 -> 218257
B12: 7 | C12: ='ESTUDIO DE MERCADO'!C10 -> SERVICIO DE REVISIÓN TÉCNICO-MECÁNICA PARA MOTOCICLETA YAMAHA XT660R MODELO 2011 | D12: ='ESTUDIO DE MERCADO'!D10 -> UND | E12: ='ESTUDIO DE MERCADO'!E10 -> 9 | F12: ='ESTUDIO DE MERCADO'!AL10 -> 218857 | G12: ='ESTUDIO DE MERCADO'!AQ10 -> 1969713
B13: TOTAL | G13: =SUM(G6:G12) -> 56069069
