Workbook
Name \0: #REF!
Name \0: #REF!
Name \00: #REF!
Name \00: #REF!
Name \a: #REF!
Name \a: #REF!
Name \AA: #REF!
Name \AA: [1]LIQUIDACION!#REF!
Name \b: #REF!
Name \b: [2]STRSUMM0!#REF!
Name \bb: #REF!
Name \bb: [2]STRSUMM0!#REF!
Name \E: #REF!
Name \EE: #REF!
Name \G: #REF!
Name \k: #REF!
Name \k: '[3]7422CW00'!#REF!
Name \l: #REF!
Name \l: [4]STRSUMM0!#REF!
Name \M: #REF!
Name \ñ: #REF!
Name \ñ: '[5]7422CW00'!#REF!
Name \P: #REF!
Name \R: #REF!
Name \s: #REF!
Name \V: #REF!
Name \X: 'Analisis AIU_Vabr'!ERR
Name \X: 'APU AGRO'!ERR
Name \X: [0]!ERR
Name \Z: 'Analisis AIU_Vabr'!ERR
Name \Z: 'APU AGRO'!ERR
Name \Z: [0]!ERR
Name _________AFC1: #REF!
Name _________AFC1: [6]INV!$A$25:$D$28
Name _________AFC3: #REF!
Name _________AFC3: [6]INV!$F$25:$I$28
Name _________AFC5: #REF!
Name _________AFC5: [6]INV!$K$25:$N$28
Name _________BGC1: #REF!
Name _________BGC1: [6]INV!$A$5:$D$8
Name _________BGC3: #REF!
Name _________BGC3: [6]INV!$F$5:$I$8
Name _________BGC5: #REF!
Name _________BGC5: [6]INV!$K$5:$N$8
Name _________CAC1: #REF!
Name _________CAC1: [6]INV!$A$19:$D$22
Name _________CAC3: #REF!
Name _________CAC3: [6]INV!$F$19:$I$22
Name _________CAC5: #REF!
Name _________CAC5: [6]INV!$K$19:$N$22
Name _________PJ50: #REF!
Name _________SBC1: #REF!
Name _________SBC1: [6]INV!$A$12:$D$15
Name _________SBC3: #REF!
Name _________SBC3: [6]INV!$F$12:$I$15
Name _________SBC5: #REF!
Name _________SBC5: [6]INV!$K$12:$N$15
Name ________AFC1: #REF!
Name ________AFC1: [6]INV!$A$25:$D$28
Name ________AFC3: #REF!

Sheet PRESUPUESTO AGROTURISTICO
C3: Formulario 1 - Propuesta económica - Licitación de obra pública de infraestructura social
C4: Código | D4: CCE-EICP-FM-116 | E4: Versión | F4: 1
C7: PRESUPUESTO OFICIAL
C8: [La Entidad puede utilizar este Formulario de detalle del Presupuesto Oficial para determinar las condiciones bajo las cuales los Proponentes analizarán y presentarán su propuesta económica de forma detallada, sin perjuicio que la Entidad pueda modificarlo o establecer la presentación de la oferta económica con un Formulario distinto al indicado.]
C10: Adicionalmente, cuando el Proceso de Contratación es estructurado por Precios Unitarios, la Entidad debe aplicar las notas 1 y 2 del presente Formulario y las casillas de "Descripción", "Porcentaje" de la Administración, Utilidad y total A.U. resaltadas en color amarillo. Tratándose de otras modalidades de precio, la Entidad puede o no configurar los mismos aspectos.
C11: MANTENIMIENTO Y OBRAS VARIAS DE LAS PLANTAS FÍSICAS DE LAS INSTITUCIONES EDUCATIVAS DEL CORREGIMIENTO CORREDOR AGROTURISTICO EL TABLAZO DEL MUNICIPIO DE MANIZALES.
C12: PRESUPUESTO OBRA CIVIL "MEJORAMIENTO DE LA PLANTA FÍSICA DEL ESTABLECIMIENTO EDUCATIVO OFICIAL SERÁFICO SAN ANTONIO DE PADUA SEDE PRINCIPAL"
C13: Nº | D13: ÍTEM DE PAGO | E13: ESPECIFICACIONES | G13: DESCRIPCIÓN | H13: UND. | I13: CANTIDAD | J13: VALOR UNITARIO | K13: VALOR TOTAL
G14: 002 MOVIMIENTO DE TIERRAS
D15: 002A.021 | G15: SUMINISTRO, TRANSPORTE E INSTALACION SOBRE CIMIENTO h=0,20 m REVOQUE IMPERMEABILIZADO 2 CARAS | H15: M2 | I15: 20 | J15: =+VLOOKUP(D15,'APU AGRO'!$1:$1048576,11,FALSE) -> 115082 | K15: =+ROUND(I15*J15,0) -> 2301640
D16: 002.089 | G16: RETIRO DE MATERIAL SOBRANTE EN VOLQUETA, CARGUE MANUAL, DISPOSICIÓN EN BOTADERO (HASTA 25 KM) | H16: M3-Suelto | I16: 21 | J16: =+VLOOKUP(D16,'APU AGRO'!$1:$1048576,11,FALSE) -> 58038 | K16: =+ROUND(I16*J16,0) -> 1218798
C17: Subtotal | K17: =ROUND(SUM(K15:K16),0) -> 3520438
G18: 003 DESAGUES E INSTALACIONES SANITARIAS
D19: 003.011 | G19: SUMINISTRO, TRANSPORTE E INSTALACION BAJANTE AGUAS LLUVIAS PVC 4" (INCLUYE CODO, UNION Y ACCESORIOS DE FIJACION) | H19: ML | I19: 70 | J19: =+VLOOKUP(D19,'APU AGRO'!$1:$1048576,11,FALSE) -> 55352 | K19: =+ROUND(I19*J19,0) -> 3874640
D20: 003.105 | G20: SUMINISTRO, TRANSPORTE E INSTALACION SANITARIO TIPO INSTITUCIONAL BAJO CONSUMO POR DESCARGA, COLOR BLANCO CORONA REF 340021001 O SIMILAR, INCLUYE MUEBLE Y ACCESORIOS GENERALES DE INSTALACIÓN. | H20: UND | I20: 8 | J20: =+VLOOKUP(D20,'APU AGRO'!$1:$1048576,11,FALSE) -> 761503 | K20: =+ROUND(I20*J20,0) -> 6092024
C21: Subtotal | K21: =ROUND(SUM(K19:K20),0) -> 9966664
G22: 004 PISOS-BASES-RELLENOS
G25: 005 ESTRUCTURAS EN CONCRETO, METALICAS Y DE MADERA
D26: 005.048 | G26: SUMINISTRO, TRANSPORTE E INSTALACION MESON EN CONCRETO 3000 psi a=0.60 m e=0.08 m. | H26: ML | I26: 6 | J26: =+VLOOKUP(D26,'APU AGRO'!$1:$1048576,11,FALSE) -> 226605 | K26: =+ROUND(I26*J26,0) -> 1359630
C27: Subtotal | K27: =ROUND(SUM(K26:K26),0) -> 1359630
G28: 008 INSTALACIONES ELECTRICAS
D29: 08B.309 | G29: SUMINISTRO, TRANSPORTE E INSTALACIÓN LAMPARA LED 2 X (18W - 25W) 6500 K Ó SIMILAR (INCLUYE ACCESORIOS DE FIJACIÓN E INSTALACIÓN) | H29: UND | I29: 65 | J29: =+VLOOKUP(D29,'APU AGRO'!$1:$1048576,11,FALSE) -> 241544 | K29: =+ROUND(I29*J29,0) -> 15700360
D30: 08B.447 | G30: SUMINISTRO, TRANSPORTE E INSTALACION SALIDA ILUMINACION EN TUBERIA CONDUIT PVC SCH40 1/2", CABLE N° 12 AWG | H30: UND | I30: 10 | J30: =+VLOOKUP(D30,'APU AGRO'!$1:$1048576,11,FALSE) -> 238700 | K30: =+ROUND(I30*J30,0) -> 2387000
D31: 08B.175 | G31: SUMINISTRO, TRANSPORTE E INSTALACION SALIDA TOMACORRIENTE NORMAL DOBLE PT EN TUBERIA CONDUIT PVC 3/4", ALAMBRE No 12 AWG | H31: UND | I31: 10 | J31: =+VLOOKUP(D31,'APU AGRO'!$1:$1048576,11,FALSE) -> 176922 | K31: =+ROUND(I31*J31,0) -> 1769220
D32: 08B.196 | G32: SUMINISTRO, TRANSPORTE E INSTALACION SALIDA INTERRUPTOR SENCILLO EN TUBERIA CONDUIT PVC 3/4", ALAMBRE No 12 AWG. | H32: UND | I32: 10 | J32: =+VLOOKUP(D32,'APU AGRO'!$1:$1048576,11,FALSE) -> 232287 | K32: =+ROUND(I32*J32,0) -> 2322870
D33: 08B.303 | G33: SUMINISTRO, TRANSPORTE E INSTALACION DE LUMINARIA DE SOBREPONER TIPO BALA PANEL LED REDONDO, 24W BLANCO OPAL. INCLUYE DRIVER SC | H33: UND | I33: 20 | J33: =+VLOOKUP(D33,'APU AGRO'!$1:$1048576,11,FALSE) -> 96762 | K33: =+ROUND(I33*J33,0) -> 1935240
C34: Subtotal | K34: =ROUND(SUM(K29:K33),0) -> 24114690
G35: 009 REVOQUES-RESANES
D36: 009.005 | G36: SUMINISTRO,TRANSPORTE E INSTALACION REVOQUE LISO MUROS 1:3 IMPERMEABILIZADO (INCLUYE FILOS Y DILATACIONES) PARA ALTURAS MENORES A 3 METROS | H36: M2 | I36: 20 | J36: =+VLOOKUP(D36,'APU AGRO'!$1:$1048576,11,FALSE) -> 53852 | K36: =+ROUND(I36*J36,0) -> 1077040
C37: Subtotal | K37: =ROUND(SUM(K36:K36),0) -> 1077040
G38: 010 CUBIERTAS
D39: 010.019 | G39: SUMINISTRO, TRANSPORTE E INSTALACION CANAL EN LAMINA GALVANIZADA CAL .20 D/ 0.60 M. (SUMINISTRO E INSTALACIÓN CON WASH PRIMER + ESMALTE + ANCLAJE A MURO + SILICONA) | H39: ML | I39: 113 | J39: =+VLOOKUP(D39,'APU AGRO'!$1:$1048576,11,FALSE) -> 121625 | K39: =+ROUND(I39*J39,0) -> 13743625
C40: Subtotal | K40: =ROUND(SUM(K39:K39),0) -> 13743625
G41: 011 CIELO RASOS
D42: 011.001 | G42: SUMINISTRO, TRANSPORTE E INSTALACIÓN A TODO COSTO DE CIELO RASO EN SUPERBOARD 6 MM JUNTA PERDIDA, UNA MANO DE VINILO Y DOS MANOS DE ACRILTEX. INCLUYE PERFILERÍA, ANCLAJES, DILATACION Z EN PERIMETRO, Y TODO LO NECESARIO PARA SU CORRECTA INSTALACIÓN. | H42: M2 | I42: 300 | J42: =+VLOOKUP(D42,'APU AGRO'!$1:$1048576,11,FALSE) -> 114571 | K42: =+ROUND(I42*J42,0) -> 34371300
C43: Subtotal | K43: =ROUND(SUM(K42),0) -> 34371300
G44: 012 PISOS - ACABADOS
D45: 012.010 | G45: SUMINISTRO, TRANSPORTE E INSTALACION BALDOSA GRANO DE MARMOL PCL 5 PERLATO CLARO TERRAZO TIPO ALFA O SIMILAR. (INCLUYE DESTRONCADA, PULIDA, BRILLADA, MORTERO DE NIVELACIÓN Y DILATACIÓN EN PVC). | H45: M2 | I45: 345 | J45: =+VLOOKUP(D45,'APU AGRO'!$1:$1048576,11,FALSE) -> 225580 | K45: =+ROUND(I45*J45,0) -> 77825100
D46: 012.034 | G46: SUMINISTRO, TRANSPORTE E INSTALACION GUARDAESCOBA RECTO Baldosa Grano de Marmol PCL 5 Perlato Claro 30 x 7.2 cm. Tipo Alfa o Similar. Fondo Crema. (Incluye boquilla.) | H46: ML | I46: 100 | J46: =+VLOOKUP(D46,'APU AGRO'!$1:$1048576,11,FALSE) -> 50103 | K46: =+ROUND(I46*J46,0) -> 5010300
D47: 012.069 | G47: SUMINISTRO TRANSPORTE E INSTALACION DE BOCAPUERTA EN TERRAZO (INCLUYE PULIDA Y BRILLADA). INCLUYE MORTERO DE PEGA Y/O NIVELACIÓN | H47: ML | I47: 20 | J47: =+VLOOKUP(D47,'APU AGRO'!$1:$1048576,11,FALSE) -> 91165 | K47: =+ROUND(I47*J47,0) -> 1823300
...

Sheet APU AGRO
A1: ANÁLISIS DE PRECIOS UNITARIOS | J1: AU | K1: =+'Analisis AIU_Vabr'!$G$18 -> 1.4233
A2: CODIGO | B2: CODINSUMO | C2: INSUMO | D2: TIPO | E2: UNIDAD | F2: REND | G2: UNITARIO | H2: VR. PARCIAL | I2: VR. TOTAL
A3: 001.043 | B3: - | C3: ROCERIA Y LIMPIEZA | D3: Actividad | E3: M2 | I3: 1525 | J3: =+$K$1 -> 1.4233 | K3: =+ROUND(I3*J3,0) -> 2171
A4: 001.043 | B4: C44 | C4: CUADRILLA AA (2 AYUDANTES) | D4: Cuadrilla | E4: HR | F4: 0.05 | G4: 23678 | H4: 1184
A5: 001.043 | B5: H2 | C5: EQUIPO BASICO (HERRAMIENTA MENOR) | D5: Herramienta | E5: UND | F5: 0.07 | G5: 3484 | H5: 244
A6: 001.043 | B6: I1565 | C6: ACARREO INTERNO | D6: Insumos | E6: UND | F6: 0.053 | G6: 1824 | H6: 97
A7: 001.044 | B7: - | C7: DESCAPOTE MANUAL e=0.20 m. | D7: Actividad | E7: M2 | I7: 2857 | J7: =+$K$1 -> 1.4233 | K7: =+ROUND(I7*J7,0) -> 4066
A8: 001.044 | B8: C44 | C8: CUADRILLA AA (2 AYUDANTES) | D8: Cuadrilla | E8: HR | F8: 0.1 | G8: 23678 | H8: 2368
A9: 001.044 | B9: H2 | C9: EQUIPO BASICO (HERRAMIENTA MENOR) | D9: Herramienta | E9: UND | F9: 0.09 | G9: 3484 | H9: 314
A10: 001.044 | B10: I1565 | C10: ACARREO INTERNO | D10: Insumos | E10: UND | F10: 0.096 | G10: 1824 | H10: 175
A11: 001.061 | B11: - | C11: SUMINISTRO, TRANSPORTE E INSTALACION CORDÓN PARA CONTROL DE AGUAS LLUVIAS CON SUELO CEMENTO | D11: Actividad | E11: ML | I11: 5841 | J11: =+$K$1 -> 1.4233 | K11: =+ROUND(I11*J11,0) -> 8313
A12: 001.061 | B12: C1 | C12: CUADRILLA AA TIPO 1 (1 OFICIAL + 1 AYUDANTE) (Albañileria) | D12: Cuadrilla | E12: HR | F12: 0.1 | G12: 30782 | H12: 3078
A13: 001.061 | B13: I282 | C13: SUELO CEMENTO 10:1 | D13: Insumos | E13: M3 | F13: 0.01 | G13: 195036 | H13: 1950
A14: 001.061 | B14: H2 | C14: EQUIPO BASICO (HERRAMIENTA MENOR) | D14: Herramienta | E14: UND | F14: 0.15 | G14: 3484 | H14: 523
A15: 001.061 | B15: I1565 | C15: ACARREO INTERNO | D15: Insumos | E15: UND | F15: 0.159 | G15: 1824 | H15: 290
A16: 002.001 | B16: - | C16: EXCAVACIÓN EN ZANJA - MATERIAL COMÚN - 0.0 A 2.0 M | D16: Actividad | E16: M3 | I16: 36872 | J16: =+$K$1 -> 1.4233 | K16: =+ROUND(I16*J16,0) -> 52480
A17: 002.001 | B17: C1 | C17: CUADRILLA AA TIPO 1 (1 OFICIAL + 1 AYUDANTE) (Albañileria) | D17: Cuadrilla | E17: HR | F17: 1.1 | G17: 30782 | H17: 33860
A18: 002.001 | B18: I282 | C18: SUELO CEMENTO 10:1 | D18: Insumos | E18: M3 | F18: 0.01 | G18: 195036 | H18: 1950
A19: 002.001 | B19: H2 | C19: EQUIPO BASICO (HERRAMIENTA MENOR) | D19: Herramienta | E19: UND | F19: 0.2 | G19: 3484 | H19: 697
A20: 002.001 | B20: I1565 | C20: ACARREO INTERNO | D20: Insumos | E20: UND | F20: 0.2 | G20: 1824 | H20: 365
A21: 002.022 | B21: - | C21: CONFORMACION MANUAL DE TALUDES EN TIERRA | D21: Actividad | E21: M3 | I21: 55113 | J21: =+$K$1 -> 1.4233 | K21: =+ROUND(I21*J21,0) -> 78442
A22: 002.022 | B22: C22 | C22: CUADRILLA AA TIPO 4 (1 OFICIAL + 4 AYUDANTE) (Albañileria) | D22: Cuadrilla | E22: HR | F22: 0.8 | G22: 66299 | H22: 53039
A23: 002.022 | B23: H2 | C23: EQUIPO BASICO (HERRAMIENTA MENOR) | D23: Herramienta | E23: UND | F23: 0.5 | G23: 3484 | H23: 1742
A24: 002.022 | B24: I1565 | C24: ACARREO INTERNO | D24: Insumos | E24: UND | F24: 0.182 | G24: 1824 | H24: 332
A25: 002A.021 | B25: - | C25: SUMINISTRO, TRANSPORTE E INSTALACION SOBRE CIMIENTO h=0,20 m REVOQUE IMPERMEABILIZADO 2 CARAS | D25: Actividad | E25: M2 | I25: 80856 | J25: =+$K$1 -> 1.4233 | K25: =+ROUND(I25*J25,0) -> 115082
A26: 002A.021 | B26: AB20 | C26: MORTERO 1:3 | D26: Analisis Basico | E26: M3 | F26: 0.08 | G26: 505998 | H26: 40480
A27: 002A.021 | B27: C29 | C27: CUADRILLA AA TIPO 5 (1 OFICIAL + 5 AYUDANTE) (Albañileria) | D27: Cuadrilla | E27: HR | F27: 0.35 | G27: 78138 | H27: 27348
A28: 002A.021 | B28: E12 | C28: EQUIPO DE TRANSPORTE | D28: Equipos | E28: DIA | F28: 0.006 | G28: 180217 | H28: 1081
A29: 002A.021 | B29: H2 | C29: EQUIPO BASICO (HERRAMIENTA MENOR) | D29: Herramienta | E29: UND | F29: 0.4 | G29: 3484 | H29: 1394
A30: 002A.021 | B30: I1565 | C30: ACARREO INTERNO | D30: Insumos | E30: UND | F30: 0.85 | G30: 1824 | H30: 1550
A31: 002A.021 | B31: I427 | C31: SIKA-1 IMPERMEABILIZANTE INTEGRAL MORTEROS O SIMILAR. | D31: Insumos | E31: KG | F31: 0.2 | G31: 16645 | H31: 3329
A32: 002A.021 | B32: I49 | C32: AGUA LITRO | D32: Insumos | E32: LT | F32: 30 | G32: 33 | H32: 990
A33: 002A.021 | B33: I940 | C33: LADRILLO TOLETE COMUN | D33: Insumos | E33: UND | F33: 10.03 | G33: 467 | H33: 4684
A35: 002.089 | B35: - | C35: RETIRO DE MATERIAL SOBRANTE EN VOLQUETA, CARGUE MANUAL, DISPOSICIÓN EN BOTADERO (HASTA 25 KM) | D35: Actividad | E35: M3-Suelto | I35: 40777 | J35: =+$K$1 -> 1.4233 | K35: =+ROUND(I35*J35,0) -> 58038
A36: 002.089 | B36: I2414 | C36: DERECHO A BOTADERO - LA NUBIA | D36: Insumos | E36: M3 | F36: 1 | G36: 8715 | H36: 8715
A37: 002.089 | B37: H2 | C37: EQUIPO BASICO (HERRAMIENTA MENOR) | D37: Herramienta | E37: UND | F37: 0.1 | G37: 3484 | H37: 348
A38: 002.089 | B38: C44 | C38: CUADRILLA AA (2 AYUDANTES) | D38: Cuadrilla | E38: HR | F38: 0.5 | G38: 23678 | H38: 11839
A39: 002.089 | B39: E25 | C39: VOLQUETA SENCILLA 8M3 | D39: Equipos | E39: VJE | F39: 0.125 | G39: 159000 | H39: 19875
A41: 002.120 | B41: - | C41: EXCAVACION EN MATERIAL COMUN SECO DE A=0.2M, E=0.50, MANUAL | D41: Actividad | E41: ML | I41: 3726 | J41: =+$K$1 -> 1.4233 | K41: =+ROUND(I41*J41,0) -> 5303
A42: 002.120 | B42: C44 | C42: CUADRILLA AA (2 AYUDANTES) | D42: Cuadrilla | E42: HR | F42: 0.15 | G42: 23678 | H42: 3552
...

Sheet Analisis AIU_Vabr
A1: ANALISIS DEL AIU
A3: Valor estimado de la Obra (Costo Directo). | D3: Valor | E3: =+'PRESUPUESTO AGROTURISTICO'!$K$637 -> 1.166253e+09
A4: Plazo estimado de ejecución. | D4: Meses | E4: 4
A5: Contratista Persona Natural (SI o NO) | E5: no
A7: CAPITULO | B7: TIPO DE GASTO | C7: UN | D7: CANTIDAD. | E7: DEDICACION | F7: VLOR UNITARIO (mes) | G7: FACTOR PRESTACIONAL O FACTOR AIU (PARA INDIRECTOS) | H7: VALOR TOTAL | I7: SUMA | J7: PORCENTAJE
A8: 1 | B8: GASTOS GENERALES. | J8: =+J9 -> 0.13899378
A9: 1.1 | B9: MANO DE OBRA Y GASTOS DE OFICINA | I9: =SUM(H10:H15) -> 1.6210192e+08 | J9: =+I9/$E$3 -> 0.13899378
B10: Ingeniero Residente | C10: Un | D10: 2 | E10: 1 | F10: 4450000 | G10: 0.6556 | H10: =+D10*E10*$E$4*F10*(1+G10) -> 58939360 | J10: =+H10/$E$3 -> 0.050537369
B11: Maestro de Obra | C11: Un | D11: 3 | E11: 1 | F11: 3600000 | G11: 0.6556 | H11: =+D11*E11*$E$4*F11*(1+G11) -> 71521920 | J11: =+H11/$E$3 -> 0.061326246
B12: Residente de Salud Ocupacional | C12: Un | D12: 1 | E12: 1 | F12: 3600000 | G12: 0.6556 | H12: =+D12*E12*$E$4*F12*(1+G12) -> 23840640 | J12: =+H12/$E$3 -> 0.020442082
B13: Seguridad industrial personal | C13: Mes | D13: 4 | E13: 1 | F13: 200000 | H13: =+D13*E13*$E$4*F13*(1+G13) -> 3200000 | J13: =+H13/$E$3 -> 0.00274383
B14: Plan de Salud ocupacional y seguridad industrial | C14: Mes | D14: 4 | E14: 1 | F14: 100000 | H14: =+D14*E14*$E$4*F14*(1+G14) -> 1600000 | J14: =+H14/$E$3 -> 0.001371915
B15: Ensayos de laboratorio | C15: GL | D15: 1 | F15: 3000000 | H15: =F15 -> 3000000 | J15: =+H15/$E$3 -> 0.0025723406
A16: 2 | B16: GASTOS INDIRECTOS. | J16: =+J17+J19+J30+J26 -> 0.22431381
A17: 2.1 | B17: LEGALIZACION. | I17: =SUM(H18:H18) -> 0 | J17: =+I17/$E$3 -> 0
B18: AIU ITERACION | G18: 1.4233 | H18: =+F18*D18*G18 -> 0 | J18: =+H18/$E$3 -> 0
A19: 2.2 | B19: POLIZAS | I19: =SUM(H20:H24) -> 14735303 | J19: =+I19/$E$3 -> 0.012634739
B20: Anticipo | C20: % | D20: 0.0006 | E20: 0.2 | F20: =+$E$3*E20 -> 2.3325061e+08 | G20: =+$G$18 -> 1.4233 | H20: =+(((F20*G20*D20)/365)*($E$4*30+120))*1.19 -> 155860.41 | J20: =+H20/$E$3 -> 0.00013364202
B21: Cumplimiento | C21: % | D21: 0.0006 | F21: =+$E$3 -> 1.166253e+09 | G21: =+$G$18 -> 1.4233 | H21: =+(((F21*G21*D21)/365)*($E$4*30+120))*1.19 -> 779302.06 | J21: =+H21/$E$3 -> 0.0006682101
B22: Estabilidad | C22: % | D22: 0.0009 | F22: =+$E$3 -> 1.166253e+09 | G22: =+$G$18 -> 1.4233 | H22: =+(((F22*G22*D22)/365)*(1825))*1.19 -> 8888914.1 | J22: =+H22/$E$3 -> 0.0076217715
B23: Prestaciones Sociales | C23: % | D23: 0.0005 | F23: =+$E$3 -> 1.166253e+09 | G23: =+$G$18 -> 1.4233 | H23: =+(((F23*G23*D23)/365)*($E$4*30+1095))*1.19 -> 3287680.6 | J23: =+H23/$E$3 -> 0.0028190114
B24: Responsabilidad Civil | C24: % | D24: 0.0025 | F24: =+$E$3 -> 1.166253e+09 | G24: =+$G$18 -> 1.4233 | H24: =+(((F24*G24*D24)/365)*($E$4*30+0))*1.19 -> 1623546 | J24: =+H24/$E$3 -> 0.0013921044
A26: 2.3 | B26: VALLAS Y SEÑALIZACION | I26: =SUM(H27:H29) -> 1700000 | J26: =+I26/$E$3 -> 0.0014576597
B27: Vallas (8 m2) | C27: GL | D27: 1 | F27: 700000 | H27: =+F27*D27 -> 700000 | J27: =+H27/$E$3 -> 0.0006002128
B28: Señalización de obra (señales verticales, demarcación, cintas, etc) | C28: GL | D28: 1 | F28: 1000000 | H28: =+F28*D28 -> 1000000 | J28: =+H28/$E$3 -> 0.00085744686
A30: 2.4 | B30: IMPUESTOS Y CONTRIBUCIONES | I30: =SUM(H31:H39) -> 2.4517136e+08 | J30: =+I30/$E$3 -> 0.21022141
B31: Impuesto de timbre (Decreto 0175 - 2025) | C31: % | D31: =IF(E3>298000000,0.5%,0) -> 0.005 | F31: =+$E$3 -> 1.166253e+09 | G31: =+$G$18 -> 1.4233 | H31: =+F31*D31*G31 -> 8299639.7 | J31: =+H31/$E$3 -> 0.0071165
B32: Contribuación Especial | C32: % | D32: 0.05 | F32: =+$E$3 -> 1.166253e+09 | G32: =+$G$18 -> 1.4233 | H32: =+F32*D32*G32 -> 82996397 | J32: =+H32/$E$3 -> 0.071165
B33: Estampillas para el bienestar del adulto mayor | C33: % | D33: 0.02 | F33: =+$E$3 -> 1.166253e+09 | G33: =+$G$18 -> 1.4233 | H33: =+F33*D33*G33 -> 33198559 | J33: =+H33/$E$3 -> 0.028466
B34: Estampillas Pro - Universidades. | C34: % | D34: 0.02 | F34: =+$E$3 -> 1.166253e+09 | G34: =+$G$18 -> 1.4233 | H34: =+F34*D34*G34 -> 33198559 | J34: =+H34/$E$3 -> 0.028466
B35: Estampilla pro cultura | C35: % | D35: 0.02 | F35: =+$E$3 -> 1.166253e+09 | G35: =+$G$18 -> 1.4233 | H35: =+F35*D35*G35 -> 33198559 | J35: =+H35/$E$3 -> 0.028466
B36: Estampilla pro justicia familiar | C36: % | D36: 0.02 | F36: =+$E$3 -> 1.166253e+09 | G36: =+$G$18 -> 1.4233 | H36: =+F36*D36*G36 -> 33198559 | J36: =+H36/$E$3 -> 0.028466
B37: Gasto bancarios4x1000 y retiros | C37: % | D37: 0.004 | F37: =+$E$3 -> 1.166253e+09 | G37: =+$G$18 -> 1.4233 | H37: =+F37*D37*G37 -> 6639711.7 | J37: =+H37/$E$3 -> 0.0056932
B38: Industria y Comercio 3,7 x 1.000 sobre valor total | C38: % | D38: 0.0037 | F38: =+$E$3 -> 1.166253e+09 | G38: =+$G$18 -> 1.4233 | H38: =+F38*D38*G38 -> 6141733.4 | J38: =+H38/$E$3 -> 0.00526621
B39: Tasa pro deporte y recreación | C39: % | D39: 0.005 | F39: =+$E$3 -> 1.166253e+09 | G39: =+$G$18 -> 1.4233 | H39: =+F39*D39*G39 -> 8299639.7 | J39: =+H39/$E$3 -> 0.0071165
B40: TOTAL GASTOS INDIRECTOS DE ADMINISTRACION. | I40: =SUM(I9:I39) -> 4.2370858e+08 | J40: =ROUND(SUM(J8:J39)/3,4) -> 0.3633
B41: IMPREVISTO | J41: 0
B42: UTILIDAD: | J42: 0.06
B43: IVA SOBRE UTILIDAD: | J43: =J42*I43 -> 0
B44: A.I.U. | J44: =SUM(J40:J43) -> 0.4233
...
