Workbook
Name ABRIL: 'Formato Único de Contratación'!#REF!
Name AGOSTO: 'Formato Único de Contratación'!#REF!
Name ANALISTA: [1]Parametrización!$L$2:$L$15
Name CAUSAL: PARAMETRIZACIÓN!$E$2:$E$10
Name CAUSAL_DESIERTO: PARAMETRIZACIÓN!$W$2:$W$8
Name CAUSAL_MODALIDAD: [2]Parametrización!$N$2:$N$14
Name Causas: PARAMETRIZACIÓN!$AE$1:$AE$44
Name Certificación_2016: [3]PARAMETRIZACIÓN!$AF$2:$AG$9
Name Certificación_2017: PARAMETRIZACIÓN!$AL$2:$AM$6
Name CUANTIA: PARAMETRIZACIÓN!$A$2:$A$4
Name CXP: 'Formato Único de Contratación'!#REF!
Name DEPARTAMENTO: PARAMETRIZACIÓN!$I$2:$I$20
Name DICIEMBRE: 'Formato Único de Contratación'!#REF!
Name ENERO: 'Formato Único de Contratación'!#REF!
Name ENVIO1: PARAMETRIZACIÓN!$S$1:$S$4
Name ESTADO: PARAMETRIZACIÓN!$L$2:$L$8
Name ESTADO1: PARAMETRIZACIÓN!$Q$1:$Q$7
Name ESTADOS: [4]Parametrización!$F$2:$F$8
Name FEBRERO: 'Formato Único de Contratación'!#REF!
Name FECHA_2017: PARAMETRIZACIÓN!$Z$2:$Z$367
Name FECHA1: PARAMETRIZACIÓN!$N$2:$N$12063
Name FECHA2: PARAMETRIZACIÓN!$O$1:$O$11689
Name frmMainForm_tblFormContainer_trContentRow_tdLeftColumn_divViewProfilePerspective_tblProfileDetails_trIsGroupContentRow_tdTitleCell_rptIsGroupRepeater_rpteIsGroupConditionalElements_lnkIsGroupConditionalSpan_0: 'Informe Cámaras de Comercio'!$T$86
Name frmMainForm_tblFormContainer_trContentRow_tdLeftColumn_divViewProfilePerspective_tblProfileDetails_trIsGroupContentRow_tdTitleCell_rptIsGroupRepeater_rpteIsGroupConditionalElements_lnkIsGroupConditionalSpan_1: 'Informe Cámaras de Comercio'!$X$86
Name JULIO: 'Formato Único de Contratación'!#REF!
Name JUNIO: 'Formato Único de Contratación'!#REF!
Name MARZO: 'Formato Único de Contratación'!#REF!
Name MAYO: 'Formato Único de Contratación'!#REF!
Name MODALIDAD: PARAMETRIZACIÓN!$C$2:$C$8
Name MODALIDAD_CONTRATACION: [2]Parametrización!$A$2:$A$7
Name MUNICIPIO: PARAMETRIZACIÓN!$J$2:$J$20
Name No_corto_2016: [3]PARAMETRIZACIÓN!$AC$2:$AD$188
Name No_corto_2017: PARAMETRIZACIÓN!$AI$2:$AJ$757
Name NOMENCLATURA: PARAMETRIZACIÓN!$AB$3:$AC$22
Name NOVIEMBRE: 'Formato Único de Contratación'!#REF!
Name OCTUBRE: 'Formato Único de Contratación'!#REF!
Name orde: [5]Parametrización!$J$2:$J$15
Name ORDENADOR: [4]Parametrización!$H$2:$H$28
Name ORDENADOR_2016: PARAMETRIZACIÓN!$Y$2:$Y$24
Name ORDENADOR_GASTO: [6]Parametrización!$J$2:$J$13
Name RESERVA15: 'Formato Único de Contratación'!#REF!
Name Salario_Cer: PARAMETRIZACIÓN!$AO$2:$AP$19
Name salarios: Certificaciones!$E$24:$F$46
Name SEPTIEMBRE: 'Formato Único de Contratación'!#REF!
Name TABLA_2017: Plancontratacion2019[#All]
Name TABLADEPARTAMENTOS: PARAMETRIZACIÓN!$I$1:$J$20
Name TABLAFECHA: PARAMETRIZACIÓN!$N$2:$O$13515
Name tdContractReferenceCol_24_lnkContractReferenceLink_0: 'Formato Único de Contratación'!$C$49
Name tdReferenceCol_23_lnkAwardViewLink_0: 'Formato Único de Contratación'!$C$40
Name TIPO: PARAMETRIZACIÓN!$G$2:$G$10
Name TIPO_DE_PROCESO: [7]Parametrización!$A$2:$A$7
Name TIPO1: PARAMETRIZACIÓN!$U$1:$U$4
Name VIGENCIASFUTURAS: 'Formato Único de Contratación'!#REF!

Sheet Formato Único de Contratación
B2: UNIDAD/ DEPENDENCIA | D2: EPFAC | G2: ESTADO | I2: Correcion
B4: FECHA INICIO REPORTE | D4: 43831 | F4: 43831 | G4: NÚMERO | I4: =COUNTIF($AG$17:$AG$385,I2) -> 39
B6: FECHA FIN REPORTE | D6: 43861 | F6: 44196 | G6: VALOR PROCESOS PROYECTADOS VIGENCIA | I6: =SUM($X$17:$X$385) -> 1784649427
B8: SEGUIMIENTO | D8: # Procesos Planeados adjudicar | E8: # Procesos Adjudicados | F8: % de Ejecución procesos adjudicados | G8: # Procesos Planeados iniciar | H8: # Procesos iniciados | I8: % de procesos iniciados
B9: NÚMERO PROCESOS PLANEADOS EN LA VIGENCIA 2020 | D9: =COUNTA($AF$17:$AF$385) -> 39 | E9: =IFERROR(COUNTIFS($AI$17:$AI$172,">="&$F$4,$AI$17:$AI$172,"<="&$F$6)," ") -> 0 | F9: =IFERROR(IF($E$9/$D$9>100%,100%,$E$9/$D$9),"") -> 0 | G9: =COUNTA($AE$17:$AE$172) -> 39 | H9: =IFERROR(COUNTIFS($AH$17:$AH$172,">="&$F$4,$AE$17:$AE$172,"<="&$F$6)," ") -> 0 | I9: =IFERROR(IF($H$9/$G$9>100%,100%,$H$9/$G$9),"") -> 0
B10: NÚMERO PLANEADO DE PROCESOS A CORTE DEL REPORTE | D10: =COUNTIFS($AF$17:$AF$172,">="&F4,$AI$17:$AI$172,"<="&F6) -> 0 | E10: =COUNTIFS($AI$17:$AI$172,">="&F4,$AI$17:$AI$172,"<="&$F$6) -> 0 | F10: =IFERROR(IF($E$10/$D$10>100%,100%,$E$10/$D$10),"") | G10: =COUNTIFS($AE$17:$AE$385,">="&D4,$AH$17:$AH$385,"<="&D6) -> 0 | H10: =COUNTIFS($AE$17:$AE$173,">="&F6,$AH$17:$AH$173,"<="&$F$4) -> 0 | I10: =IFERROR(IF($H$10/$G$10>100%,100%,$H$10/$G$10),"")
B11: NÚMERO DE PROCESOS CON PPTO VIGENCIAS FUTURAS | D11: =COUNTA($O17:$O385) -> 0 | E11: =COUNTIFS($AI$17:$AI$172,">="&$F$4,$O$17:$O$172,"<="&$F$6) -> 0 | F11: =IFERROR(IF($E$11/$D$11>100%,100%,$E$11/$D$11),"")
B12: NÚMERO DE PROCESOS CON APOYOS | D12: =COUNTA($K$17:$K$172) -> 0 | E12: =COUNTIFS($AI$17:$AI$172,">="&$F$4,$K$17:$K$172,"<="&$F$6) -> 0 | F12: =IFERROR(IF($E$12/$D$12>100%,100%,$E$12/$D$12),"")
B14: PLAN DE CONTRATACIÓN | AH14: CONTROL CONTRATOS, CONTRALORIA Y SIGEP
B15: IDENTIFICACIÓN DEL CONTRATO | D15: CPA VIGENCIA (VALOR PROYECTADO VIGENCIA) | H15: CPA APOYOS | L15: CPA VIGENCIAS FUTURAS (VALOR PROYECTADO VIGENCIAS FUTURAS) | P15: CDP VIGENCIA ACTUAL | T15: RECURSOS VIGENCIAS FUTURAS | X15: INFORMACIÓN DEL PROCESO | AH15: INFORMACION CONTRATO | BG15: LUGAR DE EJECUCIÓN | BI15: CRP VIGENCIA ACTUAL | BL15: COMPROMISO VIGENCIAS FUTURAS | BO15: MODIFICATORIOS / OTRO SI | BU15: PÓLIZAS | BY15: CUMPLIMIENTO | CA15: CALIDAD | CC15: SALARIOS Y PRESTACIONES SOCIALES | CE15: RESPONSABILIDAD CIVIL | CG15: BUEN MANEJO ANTICIPO | CI15: CALIDAD Y CORRECTO FUNCIONAMIENTO | CK15: CALIDAD Y ESTABILIDAD OBRA | CM15: OTROS | CQ15: PROGRAMACIÓN DE PAGOS(EL VALOR DEL PAGO ANTICIPADO O ANTICIPO ES INFORMATIVO, DEBE INCLUIRSE TAMBIEN EN EL MES PREVISTO PARA SU PAGO) | DK15: SUPERVISOR | DN15: INFORMES DE SUPERVISIÓN 2020 (% DE AVANCE) | DZ15: INCUMPLIMIENTOS Y MULTAS | EC15: SIGEP | ED15: SIRECI | EE15: FECHA DE LIQUIDACION | EF15: FECHA CONSTANCIA DE CIERRE PROCESO DE CONTRATACIÓN | EG15: UNIDAD
B16: No. Contrato | C16: No ASIGNADO POR SECOP | D16: No | E16: FECHA (AAAA-MM-DD) | F16: RUBRO (SE DEBE REPORTARTAR EN SIGEP SERVICIOS PERSONAS NATURALES) | G16: VALOR | H16: No2 | I16: FECHA (AAAA-MM-DD)3 | J16: RUBRO (SE DEBE REPORTARTAR EN SIGEP SERVICIOS PERSONAS NATURALES)2 | K16: VALOR TOTAL DEL APOYO | L16: No. | M16: FECHA (AAAA-MM-DD) | N16: RUBRO | O16: VALOR | P16: No. | Q16: FECHA (AAAA-MM-DD) | R16: RUBRO | S16: VALOR | T16: No. OFICIO | U16: FECHA_ (AAAA-MM-DD) | V16: RUBRO | W16: VALOR | X16: TOTAL RECURSOS | Y16: CLASIFICADOR DE BIENES Y SERVICIOS CÓDIGO UNSPSC | Z16: OBJETO DEL PROCESO | AA16: CUANTÍA PROCESO | AB16: MODALIDAD DE SELECCIÓN | AC16: CAUSAL DE MODALIDAD | AD16: TIPO MODALIDAD | AE16: FECHA PROYECTADA DE PUBLICACION SECOP | AF16: FECHA PROYECTADA ADJUDICACIÓN | AG16: ESTADO | AH16: FECHA REAL DE INICIO DEL PROCESO (AAAA-MM-DD) | AI16: FECHA REAL ADJUDICACIÓN (AAAA-MM-DD) | AJ16: FECHA DECLARATORIA DE DESIERTO | AK16: CAUSAL DE DECLARACIÓN DESIERTO | AL16: ANALISTA RESPONSABLE DEL PROCESO | AM16: GRUPO O SUBDIRECCION QUE LIDERA EL PROCESO | AN16: NOMBRE DEL ORDENADOR DEL GASTO | AO16: FECHA FIRMA (AAAA-MM-DD) | AP16: RAZÓN SOCIAL CONTRATISTA | AQ16: NIT | AR16: ¿EL CONTRATISTA TIENE RUP? (Consultar en página RUES) | AS16: REPRESENTANTE LEGAL O PROPIETARIO | AT16: CÉDULA DE CUIDADANIA REPRESENTANTE LEGAL | AU16: DIRECCIÓN | AV16: TELÉFONO | AW16: FAX | AX16: CORREO ELECTRÓNICO | AY16: VALOR INICIAL DEL CONTRATO | AZ16: VALOR ADICION AL CONTRATO | BA16: VALOR REDUCCIÓN DEL CONTRATO | BB16: VALOR TOTAL CONTRATO | BC16: FECHA ACTA DE INICIO | BD16: PLAZO EJECUCIÓN DEL CONTRATO (AAAA-MM-DD) | BE16: PLAZO EJECUCIÓN EN DIAS | BF16: PLAZO REALIZACIÓN DEL ACTA DE LIQUIDACIÓN Ó CONSTANCIA DE NO LIQUIDACIÓN (AAAA-MM-DD) | BG16: DEPARTAMENTO | BH16: CIUDAD/ MUNICIPIO | BI16: No. | BJ16: FECHA | BK16: VALOR | BL16: No. | BM16: FECHA | BN16: VALOR | BO16: No. MODIFICATORIO | BP16: DESCRIPCIÓN DE LA MODIFICACIÓN | BQ16: CAUSA RAÍZ MODIFICATORIO | BR16: FECHA DE LA FIRMA DEL MODIFICATORIO (AAAA-MM-DD) | BS16: FECHA PRORROGA EJECUCIÓN (AAAA-MM-DD) | BT16: PLAZO EJECUCIÓN EN DÍAS (INCLUIDA LA PRORROGA) | BU16: FECHA APROBACIÓN (AAAA-MM-DD) | BV16: No. PÓLIZA | BW16: FECHA EXPEDICIÓN (AAAA-MM-DD) | BX16: NOMBRE ASEGURADORA | BY16: VALOR_ | BZ16: FECHA VIGENCIA (AAAA-MM-DD) | CA16: VALOR17 | CB16: FECHA VIGENCIA (AAAA-MM-DD) | CC16: VALOR19 | CD16: FECHA_VIGENCIA (AAAA-MM-DD) | CE16: VALOR. | CF16: FECHA VIGENCIA_(AAAA-MM-DD)3 | CG16: _VALOR | CH16: _FECHA VIGENCIA (AAAA-MM-DD) | CI16: VALOR.. | CJ16: FECHA VIGENCIA (AAAA-MM-DD). | CK16: VALOR… | CL16: FECHA VIGENCIA (AAAA-MM-DD).. | CM16: DESCRIPCIÓN | CN16: VALOR…. | CO16: FECHA VIGENCIA (AAAA-MM-DD)' | CP16: No. GARANTIAS | CQ16: VALOR PAGO ANTICIPADO | CR16: VALOR ANTICIPO | CS16: ENE | CT16: FEB | CU16: MAR | CV16: ABR | CW16: MAY | CX16: JUN | CY16: JUL | CZ16: AGO | DA16: SEP | DB16: OCT | DC16: NOV | DD16: DIC | DE16: CXP | DF16: VIGENCIAS FUTURAS | DG16: RESERVA PRESUPUESTAL | DH16: TOTAL PAGOS REALIZADOS AÑO | DI16: DIFERENCIA RECURSOS VS. PROG. PAGOS REALIZADOS | DJ16: PORCENTAJE PAGADO VIENCIA | DK16: NOMBRE | DL16: No. IDENTIFICACIÓN SUPERVISOR | DM16: DEPENDENCIA | DN16: ENERO | DO16: FEBRERO | DP16: MARZO | DQ16: ABRIL | DR16: MAYO | DS16: JUNIO | DT16: JULIO | DU16: AGOSTO | DV16: SEPTIEMBRE | DW16: OCTUBRE | DX16: NOVIEMBRE | DY16: DICIEMBRE | DZ16: INCUMPLIMIENTOS (SI/NO) | EA16: DESCRIPCIÓN DEL INCUMPLIMIENTO | EB16: CAUSA RAÍZ DEL INCUMPLIMIENTO | EC16: FECHA REPORTE SIGEP | ED16: FECHA REPORTE SIRECI | EE16: FECHA DE LIQUIDACION | EF16: FECHA CONSTANCIA DE CIERRE PROCESO DE CONTRATACIÓN | EG16: UNIDAD
D17: 17 | E17: 43832 | F17: 02.02.02.008.003.09-10 | G17: 170000000 | R17: =Plancontratacion2019[[#This Row],[RUBRO (SE DEBE REPORTARTAR EN SIGEP SERVICIOS PERSONAS NATURALES)]] -> 02.02.02.008.003.09-10 | S17: =Plancontratacion2019[[#This Row],[VALOR]] -> 170000000 | V17: =Plancontratacion2019[[#This Row],[RUBRO ]] -> 0 | W17: =Plancontratacion2019[[#This Row],[VALOR ]] -> 0 | X17: =SUM($S17+$W17+Plancontratacion2019[[#This Row],[VALOR TOTAL DEL APOYO]]) -> 170000000 | Z17: Servicio gestión editorial y difusión cientifica de las publicaciones de la EPFAC | AA17: Menor cuantia | AB17: CONTRATACION DIRECTA | AD17: Prestacion de Servicios | AE17: 43878 | AF17: 43903 | AG17: Correcion | BB17: =Plancontratacion2019[[#This Row],[VALOR INICIAL DEL CONTRATO]]+Plancontratacion2019[[#This Row],[VALOR ADICION AL CONTRATO]]-Plancontratacion2019[[#This Row],[VALOR REDUCCIÓN DEL CONTRATO]] -> 0 | BE17: =$BD17-$BC17 -> 0 | BH17: =IFERROR(VLOOKUP('Formato Único de Contratación'!$BG17,TABLADEPARTAMENTOS,2,0),"DIGITE DEPARTAMENTO") -> DIGITE DEPARTAMENTO | BT17: =Plancontratacion2019[[#This Row],[FECHA PRORROGA EJECUCIÓN (AAAA-MM-DD)]]-Plancontratacion2019[[#This Row],[FECHA ACTA DE INICIO]] -> 0 | CP17: =COUNT(BY17,CA17,CE17,CG17,CI17,CK17,CC17,CN17) -> 0 | DH17: =SUM(CS17:DD17) -> 0 | DI17: =BB17-DH17 -> 0 | DJ17: =IFERROR(DH17/BB17,0) -> 0 | EF17: =MAX(Plancontratacion2019[[#This Row],[FECHA VIGENCIA (AAAA-MM-DD)]],Plancontratacion2019[[#This Row],[FECHA VIGENCIA (AAAA-MM-DD)]],Plancontratacion2019[[#This Row],[FECHA_VIGENCIA (AAAA-MM-DD)]],Plancontratacion2019[[#This Row],[FECHA VIGENCIA_(AAAA-MM-DD)3]],Plancontratacion2019[[#This Row],[_FECHA VIGENCIA (AAAA-MM-DD)]],Plancontratacion2019[[#This Row],[FECHA VIGENCIA (AAAA-MM-DD).]],Plancontratacion2019[[#This Row],[FECHA VIGENCIA (AAAA-MM-DD)..]],Plancontratacion2019[[#This Row],[FECHA VIGENCIA (AAAA-MM-DD)'']],0) -> 0 | EG17: =IFERROR(VLOOKUP(MID(B17,8,1),NOMENCLATURA,2,FALSE),"-") -> -
D18: 25 | E18: 43833 | F18: 02.02.02.008.002-09-16 | G18: 28800000 | R18: =Plancontratacion2019[[#This Row],[RUBRO (SE DEBE REPORTARTAR EN SIGEP SERVICIOS PERSONAS NATURALES)]] -> 02.02.02.008.002-09-16 | S18: =Plancontratacion2019[[#This Row],[VALOR]] -> 28800000 | V18: =Plancontratacion2019[[#This Row],[RUBRO ]] -> 0 | W18: =Plancontratacion2019[[#This Row],[VALOR ]] -> 0 | X18: =SUM($S18+$W18+Plancontratacion2019[[#This Row],[VALOR TOTAL DEL APOYO]]) -> 28800000 | Z18: Servicio profesional en psicopedagogía para el proceso de evaluación docente y seguimiento pedagogico para la EPFAC | AA18: Minima Cuantia | AB18: CONTRATACION DIRECTA | AD18: Prestacion de Servicios | AE18: 43868 | AF18: 43887 | AG18: Correcion | BB18: =Plancontratacion2019[[#This Row],[VALOR INICIAL DEL CONTRATO]]+Plancontratacion2019[[#This Row],[VALOR ADICION AL CONTRATO]]-Plancontratacion2019[[#This Row],[VALOR REDUCCIÓN DEL CONTRATO]] -> 0 | BE18: =$BD18-$BC18 -> 0 | BH18: =IFERROR(VLOOKUP('Formato Único de Contratación'!$BG18,TABLADEPARTAMENTOS,2,0),"DIGITE DEPARTAMENTO") -> DIGITE DEPARTAMENTO | BT18: =Plancontratacion2019[[#This Row],[FECHA PRORROGA EJECUCIÓN (AAAA-MM-DD)]]-Plancontratacion2019[[#This Row],[FECHA ACTA DE INICIO]] -> 0 | CP18: =COUNT(BY18,CA18,CE18,CG18,CI18,CK18,CC18,CN18) -> 0 | DH18: =SUM(CS18:DD18) -> 0 | DI18: =BB18-DH18 -> 0 | DJ18: =IFERROR(DH18/BB18,0) -> 0 | EF18: =MAX(Plancontratacion2019[[#This Row],[FECHA VIGENCIA (AAAA-MM-DD)]],Plancontratacion2019[[#This Row],[FECHA VIGENCIA (AAAA-MM-DD)]],Plancontratacion2019[[#This Row],[FECHA_VIGENCIA (AAAA-MM-DD)]],Plancontratacion2019[[#This Row],[FECHA VIGENCIA_(AAAA-MM-DD)3]],Plancontratacion2019[[#This Row],[_FECHA VIGENCIA (AAAA-MM-DD)]],Plancontratacion2019[[#This Row],[FECHA VIGENCIA (AAAA-MM-DD).]],Plancontratacion2019[[#This Row],[FECHA VIGENCIA (AAAA-MM-DD)..]],Plancontratacion2019[[#This Row],[FECHA VIGENCIA (AAAA-MM-DD)'']],0) -> 0 | EG18: =IFERROR(VLOOKUP(MID(B18,8,1),NOMENCLATURA,2,FALSE),"-") -> -
D19: 32 | E19: 43838 | F19: 02.02.02.008.007.01-5-10 | G19: 4520045 | R19: =Plancontratacion2019[[#This Row],[RUBRO (SE DEBE REPORTARTAR EN SIGEP SERVICIOS PERSONAS NATURALES)]] -> 02.02.02.008.007.01-5-10 | S19: =Plancontratacion2019[[#This Row],[VALOR]] -> 4520045 | V19: =Plancontratacion2019[[#This Row],[RUBRO ]] -> 0 | W19: =Plancontratacion2019[[#This Row],[VALOR ]] -> 0 | X19: =SUM($S19+$W19+Plancontratacion2019[[#This Row],[VALOR TOTAL DEL APOYO]]) -> 4520045 | Z19: Mantenimiento preventivo Videobeam de la EPFAC | AA19: Minima Cuantia | AD19: Prestacion de Servicios | AE19: 43945 | AF19: 43969 | AG19: Correcion | BB19: =Plancontratacion2019[[#This Row],[VALOR INICIAL DEL CONTRATO]]+Plancontratacion2019[[#This Row],[VALOR ADICION AL CONTRATO]]-Plancontratacion2019[[#This Row],[VALOR REDUCCIÓN DEL CONTRATO]] -> 0 | BE19: =$BD19-$BC19 -> 0 | BH19: =IFERROR(VLOOKUP('Formato Único de Contratación'!$BG19,TABLADEPARTAMENTOS,2,0),"DIGITE DEPARTAMENTO") -> DIGITE DEPARTAMENTO | BT19: =Plancontratacion2019[[#This Row],[FECHA PRORROGA EJECUCIÓN (AAAA-MM-DD)]]-Plancontratacion2019[[#This Row],[FECHA ACTA DE INICIO]] -> 0 | CP19: =COUNT(BY19,CA19,CE19,CG19,CI19,CK19,CC19,CN19) -> 0 | DH19: =SUM(CS19:DD19) -> 0 | DI19: =BB19-DH19 -> 0 | DJ19: =IFERROR(DH19/BB19,0) -> 0 | EF19: =MAX(Plancontratacion2019[[#This Row],[FECHA VIGENCIA (AAAA-MM-DD)]],Plancontratacion2019[[#This Row],[FECHA VIGENCIA (AAAA-MM-DD)]],Plancontratacion2019[[#This Row],[FECHA_VIGENCIA (AAAA-MM-DD)]],Plancontratacion2019[[#This Row],[FECHA VIGENCIA_(AAAA-MM-DD)3]],Plancontratacion2019[[#This Row],[_FECHA VIGENCIA (AAAA-MM-DD)]],Plancontratacion2019[[#This Row],[FECHA VIGENCIA (AAAA-MM-DD).]],Plancontratacion2019[[#This Row],[FECHA VIGENCIA (AAAA-MM-DD)..]],Plancontratacion2019[[#This Row],[FECHA VIGENCIA (AAAA-MM-DD)'']],0) -> 0 | EG19: =IFERROR(VLOOKUP(MID(B19,8,1),NOMENCLATURA,2,FALSE),"-") -> -
D20: 41 | E20: 43838 | F20: 02.02.02.008.003.09-16 | G20: 46800000 | R20: =Plancontratacion2019[[#This Row],[RUBRO (SE DEBE REPORTARTAR EN SIGEP SERVICIOS PERSONAS NATURALES)]] -> 02.02.02.008.003.09-16 | S20: =Plancontratacion2019[[#This Row],[VALOR]] -> 46800000 | V20: =Plancontratacion2019[[#This Row],[RUBRO ]] -> 0 | W20: =Plancontratacion2019[[#This Row],[VALOR ]] -> 0 | X20: =SUM($S20+$W20+Plancontratacion2019[[#This Row],[VALOR TOTAL DEL APOYO]]) -> 46800000 | Z20: Servicio de profesional especializado para el desarrollo de proyectos de investigación en el programa de Maestría en Seguridad Operacional | AA20: Minima Cuantia | AB20: CONTRATACION DIRECTA | AD20: Prestacion de Servicios | AE20: 43868 | AF20: 43887 | AG20: Correcion | BB20: =Plancontratacion2019[[#This Row],[VALOR INICIAL DEL CONTRATO]]+Plancontratacion2019[[#This Row],[VALOR ADICION AL CONTRATO]]-Plancontratacion2019[[#This Row],[VALOR REDUCCIÓN DEL CONTRATO]] -> 0 | BE20: =$BD20-$BC20 -> 0 | BH20: =IFERROR(VLOOKUP('Formato Único de Contratación'!$BG20,TABLADEPARTAMENTOS,2,0),"DIGITE DEPARTAMENTO") -> DIGITE DEPARTAMENTO | BT20: =Plancontratacion2019[[#This Row],[FECHA PRORROGA EJECUCIÓN (AAAA-MM-DD)]]-Plancontratacion2019[[#This Row],[FECHA ACTA DE INICIO]] -> 0 | CP20: =COUNT(BY20,CA20,CE20,CG20,CI20,CK20,CC20,CN20) -> 0 | DH20: =SUM(CS20:DD20) -> 0 | DI20: =BB20-DH20 -> 0 | DJ20: =IFERROR(DH20/BB20,0) -> 0 | EF20: =MAX(Plancontratacion2019[[#This Row],[FECHA VIGENCIA (AAAA-MM-DD)]],Plancontratacion2019[[#This Row],[FECHA VIGENCIA (AAAA-MM-DD)]],Plancontratacion2019[[#This Row],[FECHA_VIGENCIA (AAAA-MM-DD)]],Plancontratacion2019[[#This Row],[FECHA VIGENCIA_(AAAA-MM-DD)3]],Plancontratacion2019[[#This Row],[_FECHA VIGENCIA (AAAA-MM-DD)]],Plancontratacion2019[[#This Row],[FECHA VIGENCIA (AAAA-MM-DD).]],Plancontratacion2019[[#This Row],[FECHA VIGENCIA (AAAA-MM-DD)..]],Plancontratacion2019[[#This Row],[FECHA VIGENCIA (AAAA-MM-DD)'']],0) -> 0 | EG20: =IFERROR(VLOOKUP(MID(B20,8,1),NOMENCLATURA,2,FALSE),"-") -> -
D21: 42 | E21: 43838 | F21: 02.02.02.008.003.09-16 | G21: 46800000 | R21: =Plancontratacion2019[[#This Row],[RUBRO (SE DEBE REPORTARTAR EN SIGEP SERVICIOS PERSONAS NATURALES)]] -> 02.02.02.008.003.09-16 | S21: =Plancontratacion2019[[#This Row],[VALOR]] -> 46800000 | V21: =Plancontratacion2019[[#This Row],[RUBRO ]] -> 0 | W21: =Plancontratacion2019[[#This Row],[VALOR ]] -> 0 | X21: =SUM($S21+$W21+Plancontratacion2019[[#This Row],[VALOR TOTAL DEL APOYO]]) -> 46800000 | Z21: Servicio de profesional especializado para el desarrollo de proyectos de investigación en el programa de Maestría Ciencias Militares Aeronáuticas | AA21: Minima Cuantia | AB21: CONTRATACION DIRECTA | AD21: Prestacion de Servicios | AE21: 43868 | AF21: 43887 | AG21: Correcion | BB21: =Plancontratacion2019[[#This Row],[VALOR INICIAL DEL CONTRATO]]+Plancontratacion2019[[#This Row],[VALOR ADICION AL CONTRATO]]-Plancontratacion2019[[#This Row],[VALOR REDUCCIÓN DEL CONTRATO]] -> 0 | BE21: =$BD21-$BC21 -> 0 | BH21: =IFERROR(VLOOKUP('Formato Único de Contratación'!$BG21,TABLADEPARTAMENTOS,2,0),"DIGITE DEPARTAMENTO") -> DIGITE DEPARTAMENTO | BT21: =Plancontratacion2019[[#This Row],[FECHA PRORROGA EJECUCIÓN (AAAA-MM-DD)]]-Plancontratacion2019[[#This Row],[FECHA ACTA DE INICIO]] -> 0 | CP21: =COUNT(BY21,CA21,CE21,CG21,CI21,CK21,CC21,CN21) -> 0 | DH21: =SUM(CS21:DD21) -> 0 | DI21: =BB21-DH21 -> 0 | DJ21: =IFERROR(DH21/BB21,0) -> 0 | EF21: =MAX(Plancontratacion2019[[#This Row],[FECHA VIGENCIA (AAAA-MM-DD)]],Plancontratacion2019[[#This Row],[FECHA VIGENCIA (AAAA-MM-DD)]],Plancontratacion2019[[#This Row],[FECHA_VIGENCIA (AAAA-MM-DD)]],Plancontratacion2019[[#This Row],[FECHA VIGENCIA_(AAAA-MM-DD)3]],Plancontratacion2019[[#This Row],[_FECHA VIGENCIA (AAAA-MM-DD)]],Plancontratacion2019[[#This Row],[FECHA VIGENCIA (AAAA-MM-DD).]],Plancontratacion2019[[#This Row],[FECHA VIGENCIA (AAAA-MM-DD)..]],Plancontratacion2019[[#This Row],[FECHA VIGENCIA (AAAA-MM-DD)'']],0) -> 0 | EG21: =IFERROR(VLOOKUP(MID(B21,8,1),NOMENCLATURA,2,FALSE),"-") -> -
D22: 43 | E22: 43838 | F22: 02.02.02.008.003.09-16 | G22: 46800000 | R22: =Plancontratacion2019[[#This Row],[RUBRO (SE DEBE REPORTARTAR EN SIGEP SERVICIOS PERSONAS NATURALES)]] -> 02.02.02.008.003.09-16 | S22: =Plancontratacion2019[[#This Row],[VALOR]] -> 46800000 | V22: =Plancontratacion2019[[#This Row],[RUBRO ]] -> 0 | W22: =Plancontratacion2019[[#This Row],[VALOR ]] -> 0 | X22: =SUM($S22+$W22+Plancontratacion2019[[#This Row],[VALOR TOTAL DEL APOYO]]) -> 46800000 | Z22: Servicio de profesional especializado para el desarrollo de proyectos de investigación en el programa de Logística Aeronáutica | AA22: Minima Cuantia | AB22: CONTRATACION DIRECTA | AD22: Prestacion de Servicios | AE22: 43868 | AF22: 43887 | AG22: Correcion | BB22: =Plancontratacion2019[[#This Row],[VALOR INICIAL DEL CONTRATO]]+Plancontratacion2019[[#This Row],[VALOR ADICION AL CONTRATO]]-Plancontratacion2019[[#This Row],[VALOR REDUCCIÓN DEL CONTRATO]] -> 0 | BE22: =$BD22-$BC22 -> 0 | BH22: =IFERROR(VLOOKUP('Formato Único de Contratación'!$BG22,TABLADEPARTAMENTOS,2,0),"DIGITE DEPARTAMENTO") -> DIGITE DEPARTAMENTO | BT22: =Plancontratacion2019[[#This Row],[FECHA PRORROGA EJECUCIÓN (AAAA-MM-DD)]]-Plancontratacion2019[[#This Row],[FECHA ACTA DE INICIO]] -> 0 | CP22: =COUNT(BY22,CA22,CE22,CG22,CI22,CK22,CC22,CN22) -> 0 | DB22: 2564654 | DH22: =SUM(CS22:DD22) -> 2564654 | DI22: =BB22-DH22 -> -2564654 | DJ22: =IFERROR(DH22/BB22,0) -> 0 | EF22: =MAX(Plancontratacion2019[[#This Row],[FECHA VIGENCIA (AAAA-MM-DD)]],Plancontratacion2019[[#This Row],[FECHA VIGENCIA (AAAA-MM-DD)]],Plancontratacion2019[[#This Row],[FECHA_VIGENCIA (AAAA-MM-DD)]],Plancontratacion2019[[#This Row],[FECHA VIGENCIA_(AAAA-MM-DD)3]],Plancontratacion2019[[#This Row],[_FECHA VIGENCIA (AAAA-MM-DD)]],Plancontratacion2019[[#This Row],[FECHA VIGENCIA (AAAA-MM-DD).]],Plancontratacion2019[[#This Row],[FECHA VIGENCIA (AAAA-MM-DD)..]],Plancontratacion2019[[#This Row],[FECHA VIGENCIA (AAAA-MM-DD)'']],0) -> 0 | EG22: =IFERROR(VLOOKUP(MID(B22,8,1),NOMENCLATURA,2,FALSE),"-") -> -
D23: 29 | E23: 43843 | F23: 02.02.02.008.003.09-16 | G23: 46800000 | R23: =Plancontratacion2019[[#This Row],[RUBRO (SE DEBE REPORTARTAR EN SIGEP SERVICIOS PERSONAS NATURALES)]] -> 02.02.02.008.003.09-16 | S23: =Plancontratacion2019[[#This Row],[VALOR]] -> 46800000 | V23: =Plancontratacion2019[[#This Row],[RUBRO ]] -> 0 | W23: =Plancontratacion2019[[#This Row],[VALOR ]] -> 0 | X23: =SUM($S23+$W23+Plancontratacion2019[[#This Row],[VALOR TOTAL DEL APOYO]]) -> 46800000 | Z23: Servicio de profesional especializado para el desarrollo de proyectos de investigación en el programa de Maestria en Dirección y Gestión de la Seguridad Integral de la EPFAC | AA23: Minima Cuantia | AB23: CONTRATACION DIRECTA | AD23: Prestacion de Servicios | AE23: 43868 | AF23: 43887 | AG23: Correcion | BB23: =Plancontratacion2019[[#This Row],[VALOR INICIAL DEL CONTRATO]]+Plancontratacion2019[[#This Row],[VALOR ADICION AL CONTRATO]]-Plancontratacion2019[[#This Row],[VALOR REDUCCIÓN DEL CONTRATO]] -> 0 | BE23: =$BD23-$BC23 -> 0 | BH23: =IFERROR(VLOOKUP('Formato Único de Contratación'!$BG23,TABLADEPARTAMENTOS,2,0),"DIGITE DEPARTAMENTO") -> DIGITE DEPARTAMENTO | BT23: =Plancontratacion2019[[#This Row],[FECHA PRORROGA EJECUCIÓN (AAAA-MM-DD)]]-Plancontratacion2019[[#This Row],[FECHA ACTA DE INICIO]] -> 0 | CP23: =COUNT(BY23,CA23,CE23,CG23,CI23,CK23,CC23,CN23) -> 0 | DH23: =SUM(CS23:DD23) -> 0 | DI23: =BB23-DH23 -> 0 | DJ23: =IFERROR(DH23/BB23,0) -> 0 | EF23: =MAX(Plancontratacion2019[[#This Row],[FECHA VIGENCIA (AAAA-MM-DD)]],Plancontratacion2019[[#This Row],[FECHA VIGENCIA (AAAA-MM-DD)]],Plancontratacion2019[[#This Row],[FECHA_VIGENCIA (AAAA-MM-DD)]],Plancontratacion2019[[#This Row],[FECHA VIGENCIA_(AAAA-MM-DD)3]],Plancontratacion2019[[#This Row],[_FECHA VIGENCIA (AAAA-MM-DD)]],Plancontratacion2019[[#This Row],[FECHA VIGENCIA (AAAA-MM-DD).]],Plancontratacion2019[[#This Row],[FECHA VIGENCIA (AAAA-MM-DD)..]],Plancontratacion2019[[#This Row],[FECHA VIGENCIA (AAAA-MM-DD)'']],0) -> 0 | EG23: =IFERROR(VLOOKUP(MID(B23,8,1),NOMENCLATURA,2,FALSE),"-") -> -
D24: 14 | E24: 43832 | F24: 02.02.02.006.003.03-16 | G24: 35000000 | R24: =Plancontratacion2019[[#This Row],[RUBRO (SE DEBE REPORTARTAR EN SIGEP SERVICIOS PERSONAS NATURALES)]] -> 02.02.02.006.003.03-16 | S24: =Plancontratacion2019[[#This Row],[VALOR]] -> 35000000 | V24: =Plancontratacion2019[[#This Row],[RUBRO ]] -> 0 | W24: =Plancontratacion2019[[#This Row],[VALOR ]] -> 0 | X24: =SUM($S24+$W24+Plancontratacion2019[[#This Row],[VALOR TOTAL DEL APOYO]]) -> 35000000 | Z24: Servicio de cafetería y restaurante para la realización de clausuras, seminaros y eventos | AA24: Minima Cuantia | AB24: MINIMA CUANTIA | AD24: Prestacion de Servicios | AE24: 43868 | AF24: 43889 | AG24: Correcion | BB24: =Plancontratacion2019[[#This Row],[VALOR INICIAL DEL CONTRATO]]+Plancontratacion2019[[#This Row],[VALOR ADICION AL CONTRATO]]-Plancontratacion2019[[#This Row],[VALOR REDUCCIÓN DEL CONTRATO]] -> 0 | BE24: =$BD24-$BC24 -> 0 | BH24: =IFERROR(VLOOKUP('Formato Único de Contratación'!$BG24,TABLADEPARTAMENTOS,2,0),"DIGITE DEPARTAMENTO") -> DIGITE DEPARTAMENTO | BT24: =Plancontratacion2019[[#This Row],[FECHA PRORROGA EJECUCIÓN (AAAA-MM-DD)]]-Plancontratacion2019[[#This Row],[FECHA ACTA DE INICIO]] -> 0 | CP24: =COUNT(BY24,CA24,CE24,CG24,CI24,CK24,CC24,CN24) -> 0 | DH24: =SUM(CS24:DD24) -> 0 | DI24: =BB24-DH24 -> 0 | DJ24: =IFERROR(DH24/BB24,0) -> 0 | EF24: =MAX(Plancontratacion2019[[#This Row],[FECHA VIGENCIA (AAAA-MM-DD)]],Plancontratacion2019[[#This Row],[FECHA VIGENCIA (AAAA-MM-DD)]],Plancontratacion2019[[#This Row],[FECHA_VIGENCIA (AAAA-MM-DD)]],Plancontratacion2019[[#This Row],[FECHA VIGENCIA_(AAAA-MM-DD)3]],Plancontratacion2019[[#This Row],[_FECHA VIGENCIA (AAAA-MM-DD)]],Plancontratacion2019[[#This Row],[FECHA VIGENCIA (AAAA-MM-DD).]],Plancontratacion2019[[#This Row],[FECHA VIGENCIA (AAAA-MM-DD)..]],Plancontratacion2019[[#This Row],[FECHA VIGENCIA (AAAA-MM-DD)'']],0) -> 0 | EG24: =IFERROR(VLOOKUP(MID(B24,8,1),NOMENCLATURA,2,FALSE),"-") -> -
D25: 18 | E25: 43833 | F25: 02.02.008.004.03-10 | G25: 32993000 | R25: =Plancontratacion2019[[#This Row],[RUBRO (SE DEBE REPORTARTAR EN SIGEP SERVICIOS PERSONAS NATURALES)]] -> 02.02.008.004.03-10 | S25: =Plancontratacion2019[[#This Row],[VALOR]] -> 32993000 | V25: =Plancontratacion2019[[#This Row],[RUBRO ]] -> 0 | W25: =Plancontratacion2019[[#This Row],[VALOR ]] -> 0 | X25: =SUM($S25+$W25+Plancontratacion2019[[#This Row],[VALOR TOTAL DEL APOYO]]) -> 32993000 | Z25: Suscripción EBSCO para la biblioteca de la EPFAC | AA25: Minima Cuantia | AB25: CONTRATACION DIRECTA | AC25: Proveedor Exclusivo | AD25: Prestacion de Servicios | AE25: 43885 | AF25: 43909 | AG25: Correcion | BB25: =Plancontratacion2019[[#This Row],[VALOR INICIAL DEL CONTRATO]]+Plancontratacion2019[[#This Row],[VALOR ADICION AL CONTRATO]]-Plancontratacion2019[[#This Row],[VALOR REDUCCIÓN DEL CONTRATO]] -> 0 | BE25: =$BD25-$BC25 -> 0 | BH25: =IFERROR(VLOOKUP('Formato Único de Contratación'!$BG25,TABLADEPARTAMENTOS,2,0),"DIGITE DEPARTAMENTO") -> DIGITE DEPARTAMENTO | BT25: =Plancontratacion2019[[#This Row],[FECHA PRORROGA EJECUCIÓN (AAAA-MM-DD)]]-Plancontratacion2019[[#This Row],[FECHA ACTA DE INICIO]] -> 0 | CP25: =COUNT(BY25,CA25,CE25,CG25,CI25,CK25,CC25,CN25) -> 0 | DH25: =SUM(CS25:DD25) -> 0 | DI25: =BB25-DH25 -> 0 | DJ25: =IFERROR(DH25/BB25,0) -> 0 | EF25: =MAX(Plancontratacion2019[[#This Row],[FECHA VIGENCIA (AAAA-MM-DD)]],Plancontratacion2019[[#This Row],[FECHA VIGENCIA (AAAA-MM-DD)]],Plancontratacion2019[[#This Row],[FECHA_VIGENCIA (AAAA-MM-DD)]],Plancontratacion2019[[#This Row],[FECHA VIGENCIA_(AAAA-MM-DD)3]],Plancontratacion2019[[#This Row],[_FECHA VIGENCIA (AAAA-MM-DD)]],Plancontratacion2019[[#This Row],[FECHA VIGENCIA (AAAA-MM-DD).]],Plancontratacion2019[[#This Row],[FECHA VIGENCIA (AAAA-MM-DD)..]],Plancontratacion2019[[#This Row],[FECHA VIGENCIA (AAAA-MM-DD)'']],0) -> 0 | EG25: =IFERROR(VLOOKUP(MID(B25,8,1),NOMENCLATURA,2,FALSE),"-") -> -
D26: 50 | E26: 43852 | F26: 02.02.008.004.03-10 | G26: 2489738 | R26: =Plancontratacion2019[[#This Row],[RUBRO (SE DEBE REPORTARTAR EN SIGEP SERVICIOS PERSONAS NATURALES)]] -> 02.02.008.004.03-10 | S26: =Plancontratacion2019[[#This Row],[VALOR]] -> 2489738 | V26: =Plancontratacion2019[[#This Row],[RUBRO ]] -> 0 | W26: =Plancontratacion2019[[#This Row],[VALOR ]] -> 0 | X26: =SUM($S26+$W26+Plancontratacion2019[[#This Row],[VALOR TOTAL DEL APOYO]]) -> 2489738 | Z26: Suscripción al sistema de clasificación de la bliblioteca del congreso de los EEUU online | AA26: Minima Cuantia | AB26: MINIMA CUANTIA | AD26: Prestacion de Servicios | AE26: 43885 | AF26: 43906 | AG26: Correcion | BB26: =Plancontratacion2019[[#This Row],[VALOR INICIAL DEL CONTRATO]]+Plancontratacion2019[[#This Row],[VALOR ADICION AL CONTRATO]]-Plancontratacion2019[[#This Row],[VALOR REDUCCIÓN DEL CONTRATO]] -> 0 | BE26: =$BD26-$BC26 -> 0 | BH26: =IFERROR(VLOOKUP('Formato Único de Contratación'!$BG26,TABLADEPARTAMENTOS,2,0),"DIGITE DEPARTAMENTO") -> DIGITE DEPARTAMENTO | BT26: =Plancontratacion2019[[#This Row],[FECHA PRORROGA EJECUCIÓN (AAAA-MM-DD)]]-Plancontratacion2019[[#This Row],[FECHA ACTA DE INICIO]] -> 0 | CP26: =COUNT(BY26,CA26,CE26,CG26,CI26,CK26,CC26,CN26) -> 0 | DH26: =SUM(CS26:DD26) -> 0 | DI26: =BB26-DH26 -> 0 | DJ26: =IFERROR(DH26/BB26,0) -> 0 | EF26: =MAX(Plancontratacion2019[[#This Row],[FECHA VIGENCIA (AAAA-MM-DD)]],Plancontratacion2019[[#This Row],[FECHA VIGENCIA (AAAA-MM-DD)]],Plancontratacion2019[[#This Row],[FECHA_VIGENCIA (AAAA-MM-DD)]],Plancontratacion2019[[#This Row],[FECHA VIGENCIA_(AAAA-MM-DD)3]],Plancontratacion2019[[#This Row],[_FECHA VIGENCIA (AAAA-MM-DD)]],Plancontratacion2019[[#This Row],[FECHA VIGENCIA (AAAA-MM-DD).]],Plancontratacion2019[[#This Row],[FECHA VIGENCIA (AAAA-MM-DD)..]],Plancontratacion2019[[#This Row],[FECHA VIGENCIA (AAAA-MM-DD)'']],0) -> 0 | EG26: =IFERROR(VLOOKUP(MID(B26,8,1),NOMENCLATURA,2,FALSE),"-") -> -
D27: 50 | E27: 43852 | F27: 02.02.008.004.03-10 | G27: 927000 | R27: =Plancontratacion2019[[#This Row],[RUBRO (SE DEBE REPORTARTAR EN SIGEP SERVICIOS PERSONAS NATURALES)]] -> 02.02.008.004.03-10 | S27: =Plancontratacion2019[[#This Row],[VALOR]] -> 927000 | V27: =Plancontratacion2019[[#This Row],[RUBRO ]] -> 0 | W27: =Plancontratacion2019[[#This Row],[VALOR ]] -> 0 | X27: =SUM($S27+$W27+Plancontratacion2019[[#This Row],[VALOR TOTAL DEL APOYO]]) -> 927000 | Z27: Suscripción RDA toolkit online (Resource Description and Access) | AA27: Minima Cuantia | AB27: MINIMA CUANTIA | AD27: Prestacion de Servicios | AE27: 43885 | AF27: 43906 | AG27: Correcion | BB27: =Plancontratacion2019[[#This Row],[VALOR INICIAL DEL CONTRATO]]+Plancontratacion2019[[#This Row],[VALOR ADICION AL CONTRATO]]-Plancontratacion2019[[#This Row],[VALOR REDUCCIÓN DEL CONTRATO]] -> 0 | BE27: =$BD27-$BC27 -> 0 | BH27: =IFERROR(VLOOKUP('Formato Único de Contratación'!$BG27,TABLADEPARTAMENTOS,2,0),"DIGITE DEPARTAMENTO") -> DIGITE DEPARTAMENTO | BT27: =Plancontratacion2019[[#This Row],[FECHA PRORROGA EJECUCIÓN (AAAA-MM-DD)]]-Plancontratacion2019[[#This Row],[FECHA ACTA DE INICIO]] -> 0 | CP27: =COUNT(BY27,CA27,CE27,CG27,CI27,CK27,CC27,CN27) -> 0 | DH27: =SUM(CS27:DD27) -> 0 | DI27: =BB27-DH27 -> 0 | DJ27: =IFERROR(DH27/BB27,0) -> 0 | EF27: =MAX(Plancontratacion2019[[#This Row],[FECHA VIGENCIA (AAAA-MM-DD)]],Plancontratacion2019[[#This Row],[FECHA VIGENCIA (AAAA-MM-DD)]],Plancontratacion2019[[#This Row],[FECHA_VIGENCIA (AAAA-MM-DD)]],Plancontratacion2019[[#This Row],[FECHA VIGENCIA_(AAAA-MM-DD)3]],Plancontratacion2019[[#This Row],[_FECHA VIGENCIA (AAAA-MM-DD)]],Plancontratacion2019[[#This Row],[FECHA VIGENCIA (AAAA-MM-DD).]],Plancontratacion2019[[#This Row],[FECHA VIGENCIA (AAAA-MM-DD)..]],Plancontratacion2019[[#This Row],[FECHA VIGENCIA (AAAA-MM-DD)'']],0) -> 0 | EG27: =IFERROR(VLOOKUP(MID(B27,8,1),NOMENCLATURA,2,FALSE),"-") -> -
D28: 12 | E28: 43832 | F28: 02.02.008.004.03-10 | G28: 10093000 | R28: =Plancontratacion2019[[#This Row],[RUBRO (SE DEBE REPORTARTAR EN SIGEP SERVICIOS PERSONAS NATURALES)]] -> 02.02.008.004.03-10 | S28: =Plancontratacion2019[[#This Row],[VALOR]] -> 10093000 | V28: =Plancontratacion2019[[#This Row],[RUBRO ]] -> 0 | W28: =Plancontratacion2019[[#This Row],[VALOR ]] -> 0 | X28: =SUM($S28+$W28+Plancontratacion2019[[#This Row],[VALOR TOTAL DEL APOYO]]) -> 10093000 | Z28: Adquisición de libros para la biblioteca | AA28: Minima Cuantia | AB28: MINIMA CUANTIA | AD28: Compraventa | AE28: 43903 | AF28: 43929 | AG28: Correcion | BB28: =Plancontratacion2019[[#This Row],[VALOR INICIAL DEL CONTRATO]]+Plancontratacion2019[[#This Row],[VALOR ADICION AL CONTRATO]]-Plancontratacion2019[[#This Row],[VALOR REDUCCIÓN DEL CONTRATO]] -> 0 | BE28: =$BD28-$BC28 -> 0 | BH28: =IFERROR(VLOOKUP('Formato Único de Contratación'!$BG28,TABLADEPARTAMENTOS,2,0),"DIGITE DEPARTAMENTO") -> DIGITE DEPARTAMENTO | BT28: =Plancontratacion2019[[#This Row],[FECHA PRORROGA EJECUCIÓN (AAAA-MM-DD)]]-Plancontratacion2019[[#This Row],[FECHA ACTA DE INICIO]] -> 0 | CP28: =COUNT(BY28,CA28,CE28,CG28,CI28,CK28,CC28,CN28) -> 0 | DH28: =SUM(CS28:DD28) -> 0 | DI28: =BB28-DH28 -> 0 | DJ28: =IFERROR(DH28/BB28,0) -> 0 | EF28: =MAX(Plancontratacion2019[[#This Row],[FECHA VIGENCIA (AAAA-MM-DD)]],Plancontratacion2019[[#This Row],[FECHA VIGENCIA (AAAA-MM-DD)]],Plancontratacion2019[[#This Row],[FECHA_VIGENCIA (AAAA-MM-DD)]],Plancontratacion2019[[#This Row],[FECHA VIGENCIA_(AAAA-MM-DD)3]],Plancontratacion2019[[#This Row],[_FECHA VIGENCIA (AAAA-MM-DD)]],Plancontratacion2019[[#This Row],[FECHA VIGENCIA (AAAA-MM-DD).]],Plancontratacion2019[[#This Row],[FECHA VIGENCIA (AAAA-MM-DD)..]],Plancontratacion2019[[#This Row],[FECHA VIGENCIA (AAAA-MM-DD)'']],0) -> 0 | EG28: =IFERROR(VLOOKUP(MID(B28,8,1),NOMENCLATURA,2,FALSE),"-") -> -
D29: 16 | E29: 43832 | F29: 02.02.008.003.01.5-10 | G29: 59986876 | R29: =Plancontratacion2019[[#This Row],[RUBRO (SE DEBE REPORTARTAR EN SIGEP SERVICIOS PERSONAS NATURALES)]] -> 02.02.008.003.01.5-10 | S29: =Plancontratacion2019[[#This Row],[VALOR]] -> 59986876 | V29: =Plancontratacion2019[[#This Row],[RUBRO ]] -> 0 | W29: =Plancontratacion2019[[#This Row],[VALOR ]] -> 0 | X29: =SUM($S29+$W29+Plancontratacion2019[[#This Row],[VALOR TOTAL DEL APOYO]]) -> 59986876 | Z29: Servicio de información y publicación de revistas monográficas, científicas en formato electronico, gestión del prefijo DOI y marcación Crosmark en los sistemas OJS y ONP. | AA29: Minima Cuantia | AB29: MINIMA CUANTIA | AD29: Prestacion de Servicios | AE29: 43893 | AF29: 43917 | AG29: Correcion | BB29: =Plancontratacion2019[[#This Row],[VALOR INICIAL DEL CONTRATO]]+Plancontratacion2019[[#This Row],[VALOR ADICION AL CONTRATO]]-Plancontratacion2019[[#This Row],[VALOR REDUCCIÓN DEL CONTRATO]] -> 0 | BE29: =$BD29-$BC29 -> 0 | BH29: =IFERROR(VLOOKUP('Formato Único de Contratación'!$BG29,TABLADEPARTAMENTOS,2,0),"DIGITE DEPARTAMENTO") -> DIGITE DEPARTAMENTO | BT29: =Plancontratacion2019[[#This Row],[FECHA PRORROGA EJECUCIÓN (AAAA-MM-DD)]]-Plancontratacion2019[[#This Row],[FECHA ACTA DE INICIO]] -> 0 | CP29: =COUNT(BY29,CA29,CE29,CG29,CI29,CK29,CC29,CN29) -> 0 | DH29: =SUM(CS29:DD29) -> 0 | DI29: =BB29-DH29 -> 0 | DJ29: =IFERROR(DH29/BB29,0) -> 0 | EF29: =MAX(Plancontratacion2019[[#This Row],[FECHA VIGENCIA (AAAA-MM-DD)]],Plancontratacion2019[[#This Row],[FECHA VIGENCIA (AAAA-MM-DD)]],Plancontratacion2019[[#This Row],[FECHA_VIGENCIA (AAAA-MM-DD)]],Plancontratacion2019[[#This Row],[FECHA VIGENCIA_(AAAA-MM-DD)3]],Plancontratacion2019[[#This Row],[_FECHA VIGENCIA (AAAA-MM-DD)]],Plancontratacion2019[[#This Row],[FECHA VIGENCIA (AAAA-MM-DD).]],Plancontratacion2019[[#This Row],[FECHA VIGENCIA (AAAA-MM-DD)..]],Plancontratacion2019[[#This Row],[FECHA VIGENCIA (AAAA-MM-DD)'']],0) -> 0 | EG29: =IFERROR(VLOOKUP(MID(B29,8,1),NOMENCLATURA,2,FALSE),"-") -> -
D30: 10 | E30: 43832 | F30: 02.01.003.008.01.1-10 02.01.01.003.008-01.2-10 02.01.003.008.01.4-10 02.01.01.004.006-09-10 02.01.01.004.006-09.3-10 02.02.01.003.002-1-10 02.02.01.004-02-10 02-01-01-003-008-01-1 | G30: 31241257 | R30: =Plancontratacion2019[[#This Row],[RUBRO (SE DEBE REPORTARTAR EN SIGEP SERVICIOS PERSONAS NATURALES)]] -> 02.01.003.008.01.1-10 02.01.01.003.008-01.2-10 02.01.003.008.01.4-10 02.01.01.004.006-09-10 02.01.01.004.006-09.3-10 02.02.01.003.002-1-10 02.02.01.004-02-10 02-01-01-003-008-01-1 | S30: =Plancontratacion2019[[#This Row],[VALOR]] -> 31241257 | V30: =Plancontratacion2019[[#This Row],[RUBRO ]] -> 0 | W30: =Plancontratacion2019[[#This Row],[VALOR ]] -> 0 | X30: =SUM($S30+$W30+Plancontratacion2019[[#This Row],[VALOR TOTAL DEL APOYO]]) -> 31241257 | Z30: Adquisición de elementos para la bliblioteca de la EPFAC que incluye mobiliario y materiales y suministros. | AA30: Minima Cuantia | AB30: MINIMA CUANTIA | AD30: Prestacion de Servicios | AE30: 43914 | AF30: 43941 | AG30: Correcion | BB30: =Plancontratacion2019[[#This Row],[VALOR INICIAL DEL CONTRATO]]+Plancontratacion2019[[#This Row],[VALOR ADICION AL CONTRATO]]-Plancontratacion2019[[#This Row],[VALOR REDUCCIÓN DEL CONTRATO]] -> 0 | BE30: =$BD30-$BC30 -> 0 | BH30: =IFERROR(VLOOKUP('Formato Único de Contratación'!$BG30,TABLADEPARTAMENTOS,2,0),"DIGITE DEPARTAMENTO") -> DIGITE DEPARTAMENTO | BT30: =Plancontratacion2019[[#This Row],[FECHA PRORROGA EJECUCIÓN (AAAA-MM-DD)]]-Plancontratacion2019[[#This Row],[FECHA ACTA DE INICIO]] -> 0 | CP30: =COUNT(BY30,CA30,CE30,CG30,CI30,CK30,CC30,CN30) -> 0 | DH30: =SUM(CS30:DD30) -> 0 | DI30: =BB30-DH30 -> 0 | DJ30: =IFERROR(DH30/BB30,0) -> 0 | EF30: =MAX(Plancontratacion2019[[#This Row],[FECHA VIGENCIA (AAAA-MM-DD)]],Plancontratacion2019[[#This Row],[FECHA VIGENCIA (AAAA-MM-DD)]],Plancontratacion2019[[#This Row],[FECHA_VIGENCIA (AAAA-MM-DD)]],Plancontratacion2019[[#This Row],[FECHA VIGENCIA_(AAAA-MM-DD)3]],Plancontratacion2019[[#This Row],[_FECHA VIGENCIA (AAAA-MM-DD)]],Plancontratacion2019[[#This Row],[FECHA VIGENCIA (AAAA-MM-DD).]],Plancontratacion2019[[#This Row],[FECHA VIGENCIA (AAAA-MM-DD)..]],Plancontratacion2019[[#This Row],[FECHA VIGENCIA (AAAA-MM-DD)'']],0) -> 0 | EG30: =IFERROR(VLOOKUP(MID(B30,8,1),NOMENCLATURA,2,FALSE),"-") -> -
D31: 21 | E31: 43832 | F31: 02.02.008-008-01.1-10 02.02.001.003.006-09-10 | G31: =2328000+952000 -> 3280000 | R31: =Plancontratacion2019[[#This Row],[RUBRO (SE DEBE REPORTARTAR EN SIGEP SERVICIOS PERSONAS NATURALES)]] -> 02.02.008-008-01.1-10 02.02.001.003.006-09-10 | V31: =Plancontratacion2019[[#This Row],[RUBRO ]] -> 0 | W31: =Plancontratacion2019[[#This Row],[VALOR ]] -> 0 | X31: =SUM($S31+$W31+Plancontratacion2019[[#This Row],[VALOR TOTAL DEL APOYO]]) -> 0 | Z31: Servicio de mantenimiento reparación de equipos y sistemas de protección ante incendios y adquisición de cintas antideslizantes. | AA31: Minima Cuantia | AB31: MINIMA CUANTIA | AD31: Prestacion de Servicios | AE31: 43882 | AF31: 43916 | AG31: Correcion | BB31: =Plancontratacion2019[[#This Row],[VALOR INICIAL DEL CONTRATO]]+Plancontratacion2019[[#This Row],[VALOR ADICION AL CONTRATO]]-Plancontratacion2019[[#This Row],[VALOR REDUCCIÓN DEL CONTRATO]] -> 0 | BE31: =$BD31-$BC31 -> 0 | BH31: =IFERROR(VLOOKUP('Formato Único de Contratación'!$BG31,TABLADEPARTAMENTOS,2,0),"DIGITE DEPARTAMENTO") -> DIGITE DEPARTAMENTO | BT31: =Plancontratacion2019[[#This Row],[FECHA PRORROGA EJECUCIÓN (AAAA-MM-DD)]]-Plancontratacion2019[[#This Row],[FECHA ACTA DE INICIO]] -> 0 | CP31: =COUNT(BY31,CA31,CE31,CG31,CI31,CK31,CC31,CN31) -> 0 | DH31: =SUM(CS31:DD31) -> 0 | DI31: =BB31-DH31 -> 0 | DJ31: =IFERROR(DH31/BB31,0) -> 0 | EF31: =MAX(Plancontratacion2019[[#This Row],[FECHA VIGENCIA (AAAA-MM-DD)]],Plancontratacion2019[[#This Row],[FECHA VIGENCIA (AAAA-MM-DD)]],Plancontratacion2019[[#This Row],[FECHA_VIGENCIA (AAAA-MM-DD)]],Plancontratacion2019[[#This Row],[FECHA VIGENCIA_(AAAA-MM-DD)3]],Plancontratacion2019[[#This Row],[_FECHA VIGENCIA (AAAA-MM-DD)]],Plancontratacion2019[[#This Row],[FECHA VIGENCIA (AAAA-MM-DD).]],Plancontratacion2019[[#This Row],[FECHA VIGENCIA (AAAA-MM-DD)..]],Plancontratacion2019[[#This Row],[FECHA VIGENCIA (AAAA-MM-DD)'']],0) -> 0 | EG31: =IFERROR(VLOOKUP(MID(B31,8,1),NOMENCLATURA,2,FALSE),"-") -> -
D32: 13 | E32: 43832 | F32: 02.02.01.003.002-01-10 02.02.01.003.06.06.09-10 2.02.02.01.003.008.09-10 02.02.01.004.002-10 02.02.01.004.005-01-10 | G32: 10040000 | R32: =Plancontratacion2019[[#This Row],[RUBRO (SE DEBE REPORTARTAR EN SIGEP SERVICIOS PERSONAS NATURALES)]] -> 02.02.01.003.002-01-10 02.02.01.003.06.06.09-10 2.02.02.01.003.008.09-10 02.02.01.004.002-10 02.02.01.004.005-01-10 | S32: =Plancontratacion2019[[#This Row],[VALOR]] -> 10040000 | V32: =Plancontratacion2019[[#This Row],[RUBRO ]] -> 0 | W32: =Plancontratacion2019[[#This Row],[VALOR ]] -> 0 | X32: =SUM($S32+$W32+Plancontratacion2019[[#This Row],[VALOR TOTAL DEL APOYO]]) -> 10040000 | Z32: Adquisición de papelería para la EPFAC | AA32: Minima Cuantia | AB32: MINIMA CUANTIA | AD32: Compraventa | AE32: 43934 | AF32: 43969 | AG32: Correcion | BB32: =Plancontratacion2019[[#This Row],[VALOR INICIAL DEL CONTRATO]]+Plancontratacion2019[[#This Row],[VALOR ADICION AL CONTRATO]]-Plancontratacion2019[[#This Row],[VALOR REDUCCIÓN DEL CONTRATO]] -> 0 | BE32: =$BD32-$BC32 -> 0 | BH32: =IFERROR(VLOOKUP('Formato Único de Contratación'!$BG32,TABLADEPARTAMENTOS,2,0),"DIGITE DEPARTAMENTO") -> DIGITE DEPARTAMENTO | BT32: =Plancontratacion2019[[#This Row],[FECHA PRORROGA EJECUCIÓN (AAAA-MM-DD)]]-Plancontratacion2019[[#This Row],[FECHA ACTA DE INICIO]] -> 0 | CP32: =COUNT(BY32,CA32,CE32,CG32,CI32,CK32,CC32,CN32) -> 0 | DH32: =SUM(CS32:DD32) -> 0 | DI32: =BB32-DH32 -> 0 | DJ32: =IFERROR(DH32/BB32,0) -> 0 | EF32: =MAX(Plancontratacion2019[[#This Row],[FECHA VIGENCIA (AAAA-MM-DD)]],Plancontratacion2019[[#This Row],[FECHA VIGENCIA (AAAA-MM-DD)]],Plancontratacion2019[[#This Row],[FECHA_VIGENCIA (AAAA-MM-DD)]],Plancontratacion2019[[#This Row],[FECHA VIGENCIA_(AAAA-MM-DD)3]],Plancontratacion2019[[#This Row],[_FECHA VIGENCIA (AAAA-MM-DD)]],Plancontratacion2019[[#This Row],[FECHA VIGENCIA (AAAA-MM-DD).]],Plancontratacion2019[[#This Row],[FECHA VIGENCIA (AAAA-MM-DD)..]],Plancontratacion2019[[#This Row],[FECHA VIGENCIA (AAAA-MM-DD)'']],0) -> 0 | EG32: =IFERROR(VLOOKUP(MID(B32,8,1),NOMENCLATURA,2,FALSE),"-") -> -
D33: 22 | E33: 43832 | F33: 02.02.01.004.002-10 | G33: 2968000 | R33: =Plancontratacion2019[[#This Row],[RUBRO (SE DEBE REPORTARTAR EN SIGEP SERVICIOS PERSONAS NATURALES)]] -> 02.02.01.004.002-10 | S33: =Plancontratacion2019[[#This Row],[VALOR]] -> 2968000 | V33: =Plancontratacion2019[[#This Row],[RUBRO ]] -> 0 | W33: =Plancontratacion2019[[#This Row],[VALOR ]] -> 0 | X33: =SUM($S33+$W33+Plancontratacion2019[[#This Row],[VALOR TOTAL DEL APOYO]]) -> 2968000 | Z33: Mantenimiento de la UPS preventivo y correctivo de la EPFAC | AA33: Minima Cuantia | AB33: MINIMA CUANTIA | AD33: Prestacion de Servicios | AE33: 43945 | AF33: 43969 | AG33: Correcion | BB33: =Plancontratacion2019[[#This Row],[VALOR INICIAL DEL CONTRATO]]+Plancontratacion2019[[#This Row],[VALOR ADICION AL CONTRATO]]-Plancontratacion2019[[#This Row],[VALOR REDUCCIÓN DEL CONTRATO]] -> 0 | BE33: =$BD33-$BC33 -> 0 | BH33: =IFERROR(VLOOKUP('Formato Único de Contratación'!$BG33,TABLADEPARTAMENTOS,2,0),"DIGITE DEPARTAMENTO") -> DIGITE DEPARTAMENTO | BT33: =Plancontratacion2019[[#This Row],[FECHA PRORROGA EJECUCIÓN (AAAA-MM-DD)]]-Plancontratacion2019[[#This Row],[FECHA ACTA DE INICIO]] -> 0 | CP33: =COUNT(BY33,CA33,CE33,CG33,CI33,CK33,CC33,CN33) -> 0 | DH33: =SUM(CS33:DD33) -> 0 | DI33: =BB33-DH33 -> 0 | DJ33: =IFERROR(DH33/BB33,0) -> 0 | EF33: =MAX(Plancontratacion2019[[#This Row],[FECHA VIGENCIA (AAAA-MM-DD)]],Plancontratacion2019[[#This Row],[FECHA VIGENCIA (AAAA-MM-DD)]],Plancontratacion2019[[#This Row],[FECHA_VIGENCIA (AAAA-MM-DD)]],Plancontratacion2019[[#This Row],[FECHA VIGENCIA_(AAAA-MM-DD)3]],Plancontratacion2019[[#This Row],[_FECHA VIGENCIA (AAAA-MM-DD)]],Plancontratacion2019[[#This Row],[FECHA VIGENCIA (AAAA-MM-DD).]],Plancontratacion2019[[#This Row],[FECHA VIGENCIA (AAAA-MM-DD)..]],Plancontratacion2019[[#This Row],[FECHA VIGENCIA (AAAA-MM-DD)'']],0) -> 0 | EG33: =IFERROR(VLOOKUP(MID(B33,8,1),NOMENCLATURA,2,FALSE),"-") -> -
D34: 22 | E34: 43832 | F34: 02.02.02.008.007.01.5-10 | G34: 4000000 | R34: =Plancontratacion2019[[#This Row],[RUBRO (SE DEBE REPORTARTAR EN SIGEP SERVICIOS PERSONAS NATURALES)]] -> 02.02.02.008.007.01.5-10 | S34: =Plancontratacion2019[[#This Row],[VALOR]] -> 4000000 | V34: =Plancontratacion2019[[#This Row],[RUBRO ]] -> 0 | W34: =Plancontratacion2019[[#This Row],[VALOR ]] -> 0 | X34: =SUM($S34+$W34+Plancontratacion2019[[#This Row],[VALOR TOTAL DEL APOYO]]) -> 4000000 | Z34: Mantenimiento de aires acondicionados de la EFPAC | AA34: Minima Cuantia | AB34: MINIMA CUANTIA | AD34: Prestacion de Servicios | AE34: 43945 | AF34: 43969 | AG34: Correcion | BB34: =Plancontratacion2019[[#This Row],[VALOR INICIAL DEL CONTRATO]]+Plancontratacion2019[[#This Row],[VALOR ADICION AL CONTRATO]]-Plancontratacion2019[[#This Row],[VALOR REDUCCIÓN DEL CONTRATO]] -> 0 | BE34: =$BD34-$BC34 -> 0 | BH34: =IFERROR(VLOOKUP('Formato Único de Contratación'!$BG34,TABLADEPARTAMENTOS,2,0),"DIGITE DEPARTAMENTO") -> DIGITE DEPARTAMENTO | BT34: =Plancontratacion2019[[#This Row],[FECHA PRORROGA EJECUCIÓN (AAAA-MM-DD)]]-Plancontratacion2019[[#This Row],[FECHA ACTA DE INICIO]] -> 0 | CP34: =COUNT(BY34,CA34,CE34,CG34,CI34,CK34,CC34,CN34) -> 0 | DH34: =SUM(CS34:DD34) -> 0 | DI34: =BB34-DH34 -> 0 | DJ34: =IFERROR(DH34/BB34,0) -> 0 | EF34: =MAX(Plancontratacion2019[[#This Row],[FECHA VIGENCIA (AAAA-MM-DD)]],Plancontratacion2019[[#This Row],[FECHA VIGENCIA (AAAA-MM-DD)]],Plancontratacion2019[[#This Row],[FECHA_VIGENCIA (AAAA-MM-DD)]],Plancontratacion2019[[#This Row],[FECHA VIGENCIA_(AAAA-MM-DD)3]],Plancontratacion2019[[#This Row],[_FECHA VIGENCIA (AAAA-MM-DD)]],Plancontratacion2019[[#This Row],[FECHA VIGENCIA (AAAA-MM-DD).]],Plancontratacion2019[[#This Row],[FECHA VIGENCIA (AAAA-MM-DD)..]],Plancontratacion2019[[#This Row],[FECHA VIGENCIA (AAAA-MM-DD)'']],0) -> 0 | EG34: =IFERROR(VLOOKUP(MID(B34,8,1),NOMENCLATURA,2,FALSE),"-") -> -
D35: 23 | E35: 43832 | F35: 02.02.02.008.009.01-10 | G35: 7508000 | R35: =Plancontratacion2019[[#This Row],[RUBRO (SE DEBE REPORTARTAR EN SIGEP SERVICIOS PERSONAS NATURALES)]] -> 02.02.02.008.009.01-10 | S35: =Plancontratacion2019[[#This Row],[VALOR]] -> 7508000 | V35: =Plancontratacion2019[[#This Row],[RUBRO ]] -> 0 | W35: =Plancontratacion2019[[#This Row],[VALOR ]] -> 0 | X35: =SUM($S35+$W35+Plancontratacion2019[[#This Row],[VALOR TOTAL DEL APOYO]]) -> 7508000 | Z35: Servcio de edición e impresión de libros de investigación para la EPFAC | AA35: Minima Cuantia | AB35: MINIMA CUANTIA | AD35: Prestacion de Servicios | AE35: 43962 | AF35: 43990 | AG35: Correcion | BB35: =Plancontratacion2019[[#This Row],[VALOR INICIAL DEL CONTRATO]]+Plancontratacion2019[[#This Row],[VALOR ADICION AL CONTRATO]]-Plancontratacion2019[[#This Row],[VALOR REDUCCIÓN DEL CONTRATO]] -> 0 | BE35: =$BD35-$BC35 -> 0 | BH35: =IFERROR(VLOOKUP('Formato Único de Contratación'!$BG35,TABLADEPARTAMENTOS,2,0),"DIGITE DEPARTAMENTO") -> DIGITE DEPARTAMENTO | BT35: =Plancontratacion2019[[#This Row],[FECHA PRORROGA EJECUCIÓN (AAAA-MM-DD)]]-Plancontratacion2019[[#This Row],[FECHA ACTA DE INICIO]] -> 0 | CP35: =COUNT(BY35,CA35,CE35,CG35,CI35,CK35,CC35,CN35) -> 0 | DH35: =SUM(CS35:DD35) -> 0 | DI35: =BB35-DH35 -> 0 | DJ35: =IFERROR(DH35/BB35,0) -> 0 | EF35: =MAX(Plancontratacion2019[[#This Row],[FECHA VIGENCIA (AAAA-MM-DD)]],Plancontratacion2019[[#This Row],[FECHA VIGENCIA (AAAA-MM-DD)]],Plancontratacion2019[[#This Row],[FECHA_VIGENCIA (AAAA-MM-DD)]],Plancontratacion2019[[#This Row],[FECHA VIGENCIA_(AAAA-MM-DD)3]],Plancontratacion2019[[#This Row],[_FECHA VIGENCIA (AAAA-MM-DD)]],Plancontratacion2019[[#This Row],[FECHA VIGENCIA (AAAA-MM-DD).]],Plancontratacion2019[[#This Row],[FECHA VIGENCIA (AAAA-MM-DD)..]],Plancontratacion2019[[#This Row],[FECHA VIGENCIA (AAAA-MM-DD)'']],0) -> 0 | EG35: =IFERROR(VLOOKUP(MID(B35,8,1),NOMENCLATURA,2,FALSE),"-") -> -
D36: 44 | E36: 43838 | F36: 02.02.02.006.004-10 | G36: 9000000 | R36: =Plancontratacion2019[[#This Row],[RUBRO (SE DEBE REPORTARTAR EN SIGEP SERVICIOS PERSONAS NATURALES)]] -> 02.02.02.006.004-10 | S36: =Plancontratacion2019[[#This Row],[VALOR]] -> 9000000 | V36: =Plancontratacion2019[[#This Row],[RUBRO ]] -> 0 | W36: =Plancontratacion2019[[#This Row],[VALOR ]] -> 0 | X36: =SUM($S36+$W36+Plancontratacion2019[[#This Row],[VALOR TOTAL DEL APOYO]]) -> 9000000 | Z36: Servicio de transporte para el personal de alumnos, docentes y orgánicos de la EPFAC - Vehículo tipo bus y automovil - Amarre vigencia 2021 | AA36: Minima Cuantia | AB36: MINIMA CUANTIA | AD36: Prestacion de Servicios | AE36: 44033 | AF36: 44062 | AG36: Correcion | BB36: =Plancontratacion2019[[#This Row],[VALOR INICIAL DEL CONTRATO]]+Plancontratacion2019[[#This Row],[VALOR ADICION AL CONTRATO]]-Plancontratacion2019[[#This Row],[VALOR REDUCCIÓN DEL CONTRATO]] -> 0 | BE36: =$BD36-$BC36 -> 0 | BH36: =IFERROR(VLOOKUP('Formato Único de Contratación'!$BG36,TABLADEPARTAMENTOS,2,0),"DIGITE DEPARTAMENTO") -> DIGITE DEPARTAMENTO | BT36: =Plancontratacion2019[[#This Row],[FECHA PRORROGA EJECUCIÓN (AAAA-MM-DD)]]-Plancontratacion2019[[#This Row],[FECHA ACTA DE INICIO]] -> 0 | CP36: =COUNT(BY36,CA36,CE36,CG36,CI36,CK36,CC36,CN36) -> 0 | DH36: =SUM(CS36:DD36) -> 0 | DI36: =BB36-DH36 -> 0 | DJ36: =IFERROR(DH36/BB36,0) -> 0 | EF36: =MAX(Plancontratacion2019[[#This Row],[FECHA VIGENCIA (AAAA-MM-DD)]],Plancontratacion2019[[#This Row],[FECHA VIGENCIA (AAAA-MM-DD)]],Plancontratacion2019[[#This Row],[FECHA_VIGENCIA (AAAA-MM-DD)]],Plancontratacion2019[[#This Row],[FECHA VIGENCIA_(AAAA-MM-DD)3]],Plancontratacion2019[[#This Row],[_FECHA VIGENCIA (AAAA-MM-DD)]],Plancontratacion2019[[#This Row],[FECHA VIGENCIA (AAAA-MM-DD).]],Plancontratacion2019[[#This Row],[FECHA VIGENCIA (AAAA-MM-DD)..]],Plancontratacion2019[[#This Row],[FECHA VIGENCIA (AAAA-MM-DD)'']],0) -> 0 | EG36: =IFERROR(VLOOKUP(MID(B36,8,1),NOMENCLATURA,2,FALSE),"-") -> -
D37: 44 | E37: 43838 | F37: 02.02.02.008.004.05-10 | G37: 1650000 | R37: =Plancontratacion2019[[#This Row],[RUBRO (SE DEBE REPORTARTAR EN SIGEP SERVICIOS PERSONAS NATURALES)]] -> 02.02.02.008.004.05-10 | S37: =Plancontratacion2019[[#This Row],[VALOR]] -> 1650000 | V37: =Plancontratacion2019[[#This Row],[RUBRO ]] -> 0 | W37: =Plancontratacion2019[[#This Row],[VALOR ]] -> 0 | X37: =SUM($S37+$W37+Plancontratacion2019[[#This Row],[VALOR TOTAL DEL APOYO]]) -> 1650000 | Z37: Servicio de custodia archivo documental de la EPFAC - Amarre vigencia 2021 | AA37: Minima Cuantia | AB37: MINIMA CUANTIA | AD37: Prestacion de Servicios | AE37: 44033 | AF37: 44062 | AG37: Correcion | BB37: =Plancontratacion2019[[#This Row],[VALOR INICIAL DEL CONTRATO]]+Plancontratacion2019[[#This Row],[VALOR ADICION AL CONTRATO]]-Plancontratacion2019[[#This Row],[VALOR REDUCCIÓN DEL CONTRATO]] -> 0 | BE37: =$BD37-$BC37 -> 0 | BH37: =IFERROR(VLOOKUP('Formato Único de Contratación'!$BG37,TABLADEPARTAMENTOS,2,0),"DIGITE DEPARTAMENTO") -> DIGITE DEPARTAMENTO | BT37: =Plancontratacion2019[[#This Row],[FECHA PRORROGA EJECUCIÓN (AAAA-MM-DD)]]-Plancontratacion2019[[#This Row],[FECHA ACTA DE INICIO]] -> 0 | CP37: =COUNT(BY37,CA37,CE37,CG37,CI37,CK37,CC37,CN37) -> 0 | DH37: =SUM(CS37:DD37) -> 0 | DI37: =BB37-DH37 -> 0 | DJ37: =IFERROR(DH37/BB37,0) -> 0 | EF37: =MAX(Plancontratacion2019[[#This Row],[FECHA VIGENCIA (AAAA-MM-DD)]],Plancontratacion2019[[#This Row],[FECHA VIGENCIA (AAAA-MM-DD)]],Plancontratacion2019[[#This Row],[FECHA_VIGENCIA (AAAA-MM-DD)]],Plancontratacion2019[[#This Row],[FECHA VIGENCIA_(AAAA-MM-DD)3]],Plancontratacion2019[[#This Row],[_FECHA VIGENCIA (AAAA-MM-DD)]],Plancontratacion2019[[#This Row],[FECHA VIGENCIA (AAAA-MM-DD).]],Plancontratacion2019[[#This Row],[FECHA VIGENCIA (AAAA-MM-DD)..]],Plancontratacion2019[[#This Row],[FECHA VIGENCIA (AAAA-MM-DD)'']],0) -> 0 | EG37: =IFERROR(VLOOKUP(MID(B37,8,1),NOMENCLATURA,2,FALSE),"-") -> -
D38: 44 | E38: 43838 | F38: 02.02.02.008.005.02-10 | G38: 9000000 | R38: =Plancontratacion2019[[#This Row],[RUBRO (SE DEBE REPORTARTAR EN SIGEP SERVICIOS PERSONAS NATURALES)]] -> 02.02.02.008.005.02-10 | S38: =Plancontratacion2019[[#This Row],[VALOR]] -> 9000000 | V38: =Plancontratacion2019[[#This Row],[RUBRO ]] -> 0 | W38: =Plancontratacion2019[[#This Row],[VALOR ]] -> 0 | X38: =SUM($S38+$W38+Plancontratacion2019[[#This Row],[VALOR TOTAL DEL APOYO]]) -> 9000000 | Z38: Servicio de seguridad y vigilancia para el edificio JES - Amarre vigencia 2021 | AA38: Minima Cuantia | AB38: MINIMA CUANTIA | AD38: Prestacion de Servicios | AE38: 44033 | AF38: 44062 | AG38: Correcion | BB38: =Plancontratacion2019[[#This Row],[VALOR INICIAL DEL CONTRATO]]+Plancontratacion2019[[#This Row],[VALOR ADICION AL CONTRATO]]-Plancontratacion2019[[#This Row],[VALOR REDUCCIÓN DEL CONTRATO]] -> 0 | BE38: =$BD38-$BC38 -> 0 | BH38: =IFERROR(VLOOKUP('Formato Único de Contratación'!$BG38,TABLADEPARTAMENTOS,2,0),"DIGITE DEPARTAMENTO") -> DIGITE DEPARTAMENTO | BT38: =Plancontratacion2019[[#This Row],[FECHA PRORROGA EJECUCIÓN (AAAA-MM-DD)]]-Plancontratacion2019[[#This Row],[FECHA ACTA DE INICIO]] -> 0 | CP38: =COUNT(BY38,CA38,CE38,CG38,CI38,CK38,CC38,CN38) -> 0 | DH38: =SUM(CS38:DD38) -> 0 | DI38: =BB38-DH38 -> 0 | DJ38: =IFERROR(DH38/BB38,0) -> 0 | EF38: =MAX(Plancontratacion2019[[#This Row],[FECHA VIGENCIA (AAAA-MM-DD)]],Plancontratacion2019[[#This Row],[FECHA VIGENCIA (AAAA-MM-DD)]],Plancontratacion2019[[#This Row],[FECHA_VIGENCIA (AAAA-MM-DD)]],Plancontratacion2019[[#This Row],[FECHA VIGENCIA_(AAAA-MM-DD)3]],Plancontratacion2019[[#This Row],[_FECHA VIGENCIA (AAAA-MM-DD)]],Plancontratacion2019[[#This Row],[FECHA VIGENCIA (AAAA-MM-DD).]],Plancontratacion2019[[#This Row],[FECHA VIGENCIA (AAAA-MM-DD)..]],Plancontratacion2019[[#This Row],[FECHA VIGENCIA (AAAA-MM-DD)'']],0) -> 0 | EG38: =IFERROR(VLOOKUP(MID(B38,8,1),NOMENCLATURA,2,FALSE),"-") -> -
D39: 44 | E39: 43838 | F39: 02.02.02.008.005.03-10 | G39: 14223197 | R39: =Plancontratacion2019[[#This Row],[RUBRO (SE DEBE REPORTARTAR EN SIGEP SERVICIOS PERSONAS NATURALES)]] -> 02.02.02.008.005.03-10 | S39: =Plancontratacion2019[[#This Row],[VALOR]] -> 14223197 | V39: =Plancontratacion2019[[#This Row],[RUBRO ]] -> 0 | W39: =Plancontratacion2019[[#This Row],[VALOR ]] -> 0 | X39: =SUM($S39+$W39+Plancontratacion2019[[#This Row],[VALOR TOTAL DEL APOYO]]) -> 14223197 | Z39: Servicio de aseo para las instalaciones de la EPFAC- Amarre vigencia 2021 | AA39: Minima Cuantia | AB39: MINIMA CUANTIA | AD39: Prestacion de Servicios | AE39: 44033 | AF39: 44062 | AG39: Correcion | BB39: =Plancontratacion2019[[#This Row],[VALOR INICIAL DEL CONTRATO]]+Plancontratacion2019[[#This Row],[VALOR ADICION AL CONTRATO]]-Plancontratacion2019[[#This Row],[VALOR REDUCCIÓN DEL CONTRATO]] -> 0 | BE39: =$BD39-$BC39 -> 0 | BH39: =IFERROR(VLOOKUP('Formato Único de Contratación'!$BG39,TABLADEPARTAMENTOS,2,0),"DIGITE DEPARTAMENTO") -> DIGITE DEPARTAMENTO | BT39: =Plancontratacion2019[[#This Row],[FECHA PRORROGA EJECUCIÓN (AAAA-MM-DD)]]-Plancontratacion2019[[#This Row],[FECHA ACTA DE INICIO]] -> 0 | CP39: =COUNT(BY39,CA39,CE39,CG39,CI39,CK39,CC39,CN39) -> 0 | DH39: =SUM(CS39:DD39) -> 0 | DI39: =BB39-DH39 -> 0 | DJ39: =IFERROR(DH39/BB39,0) -> 0 | EF39: =MAX(Plancontratacion2019[[#This Row],[FECHA VIGENCIA (AAAA-MM-DD)]],Plancontratacion2019[[#This Row],[FECHA VIGENCIA (AAAA-MM-DD)]],Plancontratacion2019[[#This Row],[FECHA_VIGENCIA (AAAA-MM-DD)]],Plancontratacion2019[[#This Row],[FECHA VIGENCIA_(AAAA-MM-DD)3]],Plancontratacion2019[[#This Row],[_FECHA VIGENCIA (AAAA-MM-DD)]],Plancontratacion2019[[#This Row],[FECHA VIGENCIA (AAAA-MM-DD).]],Plancontratacion2019[[#This Row],[FECHA VIGENCIA (AAAA-MM-DD)..]],Plancontratacion2019[[#This Row],[FECHA VIGENCIA (AAAA-MM-DD)'']],0) -> 0 | EG39: =IFERROR(VLOOKUP(MID(B39,8,1),NOMENCLATURA,2,FALSE),"-") -> -
D40: 44 | E40: 43838 | F40: 02.02.02.008.005.09.5-10 | G40: 1841314 | R40: =Plancontratacion2019[[#This Row],[RUBRO (SE DEBE REPORTARTAR EN SIGEP SERVICIOS PERSONAS NATURALES)]] -> 02.02.02.008.005.09.5-10 | S40: =Plancontratacion2019[[#This Row],[VALOR]] -> 1841314 | V40: =Plancontratacion2019[[#This Row],[RUBRO ]] -> 0 | W40: =Plancontratacion2019[[#This Row],[VALOR ]] -> 0 | X40: =SUM($S40+$W40+Plancontratacion2019[[#This Row],[VALOR TOTAL DEL APOYO]]) -> 1841314 | Z40: Servicio de fotocopiado e impresión para la EPFAC- Amarre vigencia 2021 | AA40: Minima Cuantia | AB40: MINIMA CUANTIA | AD40: Prestacion de Servicios | AE40: 44033 | AF40: 44062 | AG40: Correcion | BB40: =Plancontratacion2019[[#This Row],[VALOR INICIAL DEL CONTRATO]]+Plancontratacion2019[[#This Row],[VALOR ADICION AL CONTRATO]]-Plancontratacion2019[[#This Row],[VALOR REDUCCIÓN DEL CONTRATO]] -> 0 | BE40: =$BD40-$BC40 -> 0 | BH40: =IFERROR(VLOOKUP('Formato Único de Contratación'!$BG40,TABLADEPARTAMENTOS,2,0),"DIGITE DEPARTAMENTO") -> DIGITE DEPARTAMENTO | BT40: =Plancontratacion2019[[#This Row],[FECHA PRORROGA EJECUCIÓN (AAAA-MM-DD)]]-Plancontratacion2019[[#This Row],[FECHA ACTA DE INICIO]] -> 0 | CP40: =COUNT(BY40,CA40,CE40,CG40,CI40,CK40,CC40,CN40) -> 0 | DH40: =SUM(CS40:DD40) -> 0 | DI40: =BB40-DH40 -> 0 | DJ40: =IFERROR(DH40/BB40,0) -> 0 | EF40: =MAX(Plancontratacion2019[[#This Row],[FECHA VIGENCIA (AAAA-MM-DD)]],Plancontratacion2019[[#This Row],[FECHA VIGENCIA (AAAA-MM-DD)]],Plancontratacion2019[[#This Row],[FECHA_VIGENCIA (AAAA-MM-DD)]],Plancontratacion2019[[#This Row],[FECHA VIGENCIA_(AAAA-MM-DD)3]],Plancontratacion2019[[#This Row],[_FECHA VIGENCIA (AAAA-MM-DD)]],Plancontratacion2019[[#This Row],[FECHA VIGENCIA (AAAA-MM-DD).]],Plancontratacion2019[[#This Row],[FECHA VIGENCIA (AAAA-MM-DD)..]],Plancontratacion2019[[#This Row],[FECHA VIGENCIA (AAAA-MM-DD)'']],0) -> 0 | EG40: =IFERROR(VLOOKUP(MID(B40,8,1),NOMENCLATURA,2,FALSE),"-") -> -
D41: 11 | E41: 43832 | F41: 02-01-01-004-006-09 | G41: 48368000 | R41: =Plancontratacion2019[[#This Row],[RUBRO (SE DEBE REPORTARTAR EN SIGEP SERVICIOS PERSONAS NATURALES)]] -> 02-01-01-004-006-09 | S41: =Plancontratacion2019[[#This Row],[VALOR]] -> 48368000 | V41: =Plancontratacion2019[[#This Row],[RUBRO ]] -> 0 | W41: =Plancontratacion2019[[#This Row],[VALOR ]] -> 0 | X41: =SUM($S41+$W41+Plancontratacion2019[[#This Row],[VALOR TOTAL DEL APOYO]]) -> 48368000 | Z41: Sistema de vigilancia electrónica, activador y desactivador y Etiquetas tipo labels autoadhesivas | AA41: Minima Cuantia | AB41: CONTRATACION DIRECTA | AC41: Apoyo a la Gestión | AD41: Prestacion de Servicios | AE41: 43914 | AF41: 43941 | AG41: Correcion | BB41: =Plancontratacion2019[[#This Row],[VALOR INICIAL DEL CONTRATO]]+Plancontratacion2019[[#This Row],[VALOR ADICION AL CONTRATO]]-Plancontratacion2019[[#This Row],[VALOR REDUCCIÓN DEL CONTRATO]] -> 0 | BE41: =$BD41-$BC41 -> 0 | BH41: =IFERROR(VLOOKUP('Formato Único de Contratación'!$BG41,TABLADEPARTAMENTOS,2,0),"DIGITE DEPARTAMENTO") -> DIGITE DEPARTAMENTO | BT41: =Plancontratacion2019[[#This Row],[FECHA PRORROGA EJECUCIÓN (AAAA-MM-DD)]]-Plancontratacion2019[[#This Row],[FECHA ACTA DE INICIO]] -> 0 | CP41: =COUNT(BY41,CA41,CE41,CG41,CI41,CK41,CC41,CN41) -> 0 | DH41: =SUM(CS41:DD41) -> 0 | DI41: =BB41-DH41 -> 0 | DJ41: =IFERROR(DH41/BB41,0) -> 0 | EF41: =MAX(Plancontratacion2019[[#This Row],[FECHA VIGENCIA (AAAA-MM-DD)]],Plancontratacion2019[[#This Row],[FECHA VIGENCIA (AAAA-MM-DD)]],Plancontratacion2019[[#This Row],[FECHA_VIGENCIA (AAAA-MM-DD)]],Plancontratacion2019[[#This Row],[FECHA VIGENCIA_(AAAA-MM-DD)3]],Plancontratacion2019[[#This Row],[_FECHA VIGENCIA (AAAA-MM-DD)]],Plancontratacion2019[[#This Row],[FECHA VIGENCIA (AAAA-MM-DD).]],Plancontratacion2019[[#This Row],[FECHA VIGENCIA (AAAA-MM-DD)..]],Plancontratacion2019[[#This Row],[FECHA VIGENCIA (AAAA-MM-DD)'']],0) -> 0 | EG41: =IFERROR(VLOOKUP(MID(B41,8,1),NOMENCLATURA,2,FALSE),"-") -> -
