Workbook
Name \0: #REF!
Name \00: #REF!
Name \a: #REF!
Name \AA: [1]LIQUIDACION!#REF!
Name \b: [2]STRSUMM0!#REF!
Name \bb: [2]STRSUMM0!#REF!
Name \E: #REF!
Name \EE: #REF!
Name \f: #REF!
Name \G: #REF!
Name \k: '[3]7422CW00'!#REF!
Name \l: [4]STRSUMM0!#REF!
Name \M: #REF!
Name \ñ: '[5]7422CW00'!#REF!
Name \P: #REF!
Name \R: #REF!
Name \s: #REF!
Name \V: #REF!
Name \X: [0]!ERR
Name \Z: [0]!ERR
Name _________AFC1: [6]INV!$A$25:$D$28
Name _________AFC3: [6]INV!$F$25:$I$28
Name _________AFC5: [6]INV!$K$25:$N$28
Name _________BGC1: [6]INV!$A$5:$D$8
Name _________BGC3: [6]INV!$F$5:$I$8
Name _________BGC5: [6]INV!$K$5:$N$8
Name _________CAC1: [6]INV!$A$19:$D$22
Name _________CAC3: [6]INV!$F$19:$I$22
Name _________CAC5: [6]INV!$K$19:$N$22
Name _________PJ50: #REF!
Name _________SBC1: [6]INV!$A$12:$D$15
Name _________SBC3: [6]INV!$F$12:$I$15
Name _________SBC5: [6]INV!$K$12:$N$15
Name ________AFC1: [6]INV!$A$25:$D$28
Name ________AFC3: [6]INV!$F$25:$I$28
Name ________AFC5: [6]INV!$K$25:$N$28
Name ________BGC1: [6]INV!$A$5:$D$8
Name ________BGC3: [6]INV!$F$5:$I$8
Name ________BGC5: [6]INV!$K$5:$N$8
Name ________CAC1: [6]INV!$A$19:$D$22
Name ________CAC3: [6]INV!$F$19:$I$22
Name ________CAC5: [6]INV!$K$19:$N$22
Name ________MA2: #REF!
Name ________PJ50: #REF!
Name ________SBC1: [6]INV!$A$12:$D$15
Name ________SBC3: [6]INV!$F$12:$I$15
Name ________SBC5: [6]INV!$K$12:$N$15
Name _______AFC1: [6]INV!$A$25:$D$28
Name _______AFC3: [6]INV!$F$25:$I$28
Name _______AFC5: [6]INV!$K$25:$N$28
Name _______BGC1: [6]INV!$A$5:$D$8
Name _______BGC3: [6]INV!$F$5:$I$8
Name _______BGC5: [6]INV!$K$5:$N$8
Name _______CAC1: [6]INV!$A$19:$D$22
Name _______CAC3: [6]INV!$F$19:$I$22
Name _______CAC5: [6]INV!$K$19:$N$22
Name _______MA2: #REF!
Name _______PJ50: #REF!
Name _______SBC1: [6]INV!$A$12:$D$15
Name _______SBC3: [6]INV!$F$12:$I$15

Sheet PRESUPUESTO OFICIAL (Entidad)
C3: Formulario 1 - Propuesta económica
C5: PRESUPUESTO OFICIAL
C10: Nº | D10: ÍTEM DE PAGO | E10: ESPECIFICACIONES | G10: DESCRIPCIÓN | H10: UND. | I10: CANTIDAD | J10: VALOR UNITARIO | K10: VALOR TOTAL
E11: GENERAL | F11: PARTICULAR
C12: OLIVAR DE LOS VIENTOS
D13: 1 | G13: PRELIMINARES
D14: 1.01 | G14: Trinchos en guadua h libre= 2m | H14: m2 | I14: 135 | J14: =+APU!E827 -> 122716 | K14: =+J14*I14 -> 16566660
C15: Subtotal | K15: =+SUM(K14) -> 16566660
D16: 2 | G16: OBRAS DE CIERRE
D17: 2.01 | G17: Canal en concreto champeado, incluye geomembrana 0.30mx0.30m | H17: m | I17: 140 | J17: =+APU!E835 -> 228821 | K17: =+J17*I17 -> 32034940
D18: 2.02 | G18: Canal disipador energia en concreto de 27,6 Mpa (4000 PSI) | H18: m3 | I18: 20 | J18: =+APU!E850 -> 1425622 | K18: =+J18*I18 -> 28512440
D19: 2.03 | G19: Micro pilotes para canal de disipador | H19: m | I19: 15 | J19: =+APU!E863 -> 396982 | K19: =+J19*I19 -> 5954730
D20: 2.04 | G20: Camara de inspección CLL-01 | H20: Und | I20: 1 | J20: =+APU!E873 -> 964892 | K20: =+J20*I20 -> 964892
D21: 2.05 | G21: Camara de inspección CLL-02 | H21: Und | I21: 1 | J21: =+APU!E883 -> 1278497 | K21: =+J21*I21 -> 1278497
D22: 2.06 | G22: Estructura de entrega cabezal | H22: m3 | I22: 5 | J22: =+APU!E898 -> 884097 | K22: =+J22*I22 -> 4420485
C23: Subtotal | K23: =+ROUND(SUM(K17:K22),0) -> 73165984
C24: I.E. HUGO ANGEL JARAMILLO
D25: 3 | G25: BOX CULVERT
D26: 3.01 | G26: Box-Culvert C 20.7 MPa (m3) | H26: m3 | I26: 21.84125 | J26: =+APU!E911 -> 1228444 | K26: =+J26*I26 -> 26830752
D27: 3.02 | G27: Mejoramiento Superf. Apoyo en conc.ciclópeo (m3) | H27: m3 | I27: 2.480003 | J27: =+APU!E919 -> 733031 | K27: =+J27*I27 -> 1817919.1
D28: 3.03 | G28: Subbase granular tipo INVIAS (m3) | H28: m3 | I28: 3.3 | J28: =+APU!E929 -> 142297 | K28: =+J28*I28 -> 469580.1
D29: 3.04 | G29: Junta Dil/Exp cinta PVC V-22 (m) | H29: m | I29: 22 | J29: =+APU!E935 -> 62600 | K29: =+J29*I29 -> 1377200
D30: 3.05 | G30: Acero Fy=420 MPa Co+Fi+Ar (Kg) | H30: kg | I30: 3111 | J30: =+APU!E944 -> 8763 | K30: =+J30*I30 -> 27261693
D31: 3.06 | G31: Señal vertical de transito tipo SP, SR de 75x75 con lámina retroreflectiva tipo diamante | H31: und | I31: 8 | J31: =+APU!E953 -> 528000 | K31: =+J31*I31 -> 4224000
D32: 3.07 | G32: Líneas de demarcación vial pintura en frío | H32: m | I32: 74 | J32: =+APU!E962 -> 6200 | K32: =+J32*I32 -> 458800
D33: 3.08 | G33: Tacha reflectiva bidireccional incluye suministro e instalación | H33: und | I33: 60 | J33: =+APU!E970 -> 19897 | K33: =+J33*I33 -> 1193820
C34: Subtotal | K34: =+ROUND(SUM(K26:K33),0) -> 63633764
C35: CAMINOS DE MARAYA
D36: 4 | G36: MURO DE CONTENCION
D37: 4.01 | G37: Mejoramiento de superficie de apoyo en concreto ciclopeo | H37: m3 | I37: 40 | J37: =+APU!E977 -> 657420 | K37: =+J37*I37 -> 26296800
D38: 4.02 | G38: Canal en concreto champeado, incluye geomembrana 0.30mx0.30m | H38: m | I38: 77.38 | J38: =+APU!E985 -> 228821 | K38: =+J38*I38 -> 17706169
D39: 4.03 | G39: Fijación de Micro hexapodos mediante perforación con barreno de dren mecánico | H39: m | I39: 144 | J39: =+APU!E994 -> 434325 | K39: =+J39*I39 -> 62542800
D40: 4.04 | G40: Instalacion micro hexapodos incluye Juego de fijacion y acarreo en talud y lecho del río | H40: und | I40: 67 | J40: =+APU!E1003 -> 228083 | K40: =+J40*I40 -> 15281561
D41: 4.05 | G41: Perforación en material común (mecánica) de 4" para dren en tubería PVC | H41: m | I41: 156 | J41: =+APU!E1010 -> 190147 | K41: =+J41*I41 -> 29662932
D42: 4.06 | G42: Instalacion de tubería PVC de 3" (tubería perforada + accesorios y geotextil) | H42: m | I42: 156 | J42: =+APU!E1018 -> 60639 | K42: =+J42*I42 -> 9459684
C43: Subtotal | K43: =+ROUND(SUM(K37:K42),0) -> 160949946
C44: SUBTOTAL OBRAS | K44: =+ROUND(K15+K23+K34+K43,0) -> 314316354
G46: ADMINISTRACION | J46: =+K52 -> 0.3122 | K46: =+ROUNDDOWN(J46*K44,0) -> 98129565
G47: UTILIDAD | J47: =+K54 -> 0.05 | K47: =+ROUNDDOWN(J47*K44,0) -> 15715817
G48: VALOR TOTAL+AU | K48: =+K44+K46+K47 -> 428161736
...

Sheet PROPUESTA ECONOMICA
C3: Formulario 1 - Propuesta económica
C5: PRESUPUESTO OFICIAL
C10: Nº | D10: ÍTEM DE PAGO | E10: ESPECIFICACIONES | G10: DESCRIPCIÓN | H10: UND. | I10: CANTIDAD | J10: VALOR UNITARIO | K10: VALOR TOTAL
E11: GENERAL | F11: PARTICULAR
C12: OLIVAR DE LOS VIENTOS
D13: 1 | G13: PRELIMINARES
D14: 1.01 | G14: Trinchos en guadua h libre= 2m | H14: m2 | I14: 135 | J14: DIGITAR | K14: =+J14*I14 -> #VALUE!
C15: Subtotal | K15: =+SUM(K14) -> #VALUE!
D16: 2 | G16: OBRAS DE CIERRE
D17: 2.01 | G17: Canal en concreto champeado, incluye geomembrana 0.30mx0.30m | H17: m | I17: 140 | J17: DIGITAR | K17: =+J17*I17 -> #VALUE!
D18: 2.02 | G18: Canal disipador energia en concreto de 27,6 Mpa (4000 PSI) | H18: m3 | I18: 20 | J18: DIGITAR | K18: =+J18*I18 -> #VALUE!
D19: 2.03 | G19: Micro pilotes para canal de disipador | H19: m | I19: 15 | J19: DIGITAR | K19: =+J19*I19 -> #VALUE!
D20: 2.04 | G20: Camara de inspección CLL-01 | H20: Und | I20: 1 | J20: DIGITAR | K20: =+J20*I20 -> #VALUE!
D21: 2.05 | G21: Camara de inspección CLL-02 | H21: Und | I21: 1 | J21: DIGITAR | K21: =+J21*I21 -> #VALUE!
D22: 2.06 | G22: Estructura de entrega cabezal | H22: m3 | I22: 5 | J22: DIGITAR | K22: =+J22*I22 -> #VALUE!
C23: Subtotal | K23: =+ROUND(SUM(K17:K22),0) -> #VALUE!
C24: I.E. HUGO ANGEL JARAMILLO
D25: 3 | G25: BOX CULVERT
D26: 3.01 | G26: Box-Culvert C 20.7 MPa (m3) | H26: m3 | I26: 21.84125 | J26: DIGITAR | K26: =+J26*I26 -> #VALUE!
D27: 3.02 | G27: Mejoramiento Superf. Apoyo en conc.ciclópeo (m3) | H27: m3 | I27: 2.480003 | J27: DIGITAR | K27: =+J27*I27 -> #VALUE!
D28: 3.03 | G28: Subbase granular tipo INVIAS (m3) | H28: m3 | I28: 3.3 | J28: DIGITAR | K28: =+J28*I28 -> #VALUE!
D29: 3.04 | G29: Junta Dil/Exp cinta PVC V-22 (m) | H29: m | I29: 22 | J29: DIGITAR | K29: =+J29*I29 -> #VALUE!
D30: 3.05 | G30: Acero Fy=420 MPa Co+Fi+Ar (Kg) | H30: kg | I30: 3111 | J30: DIGITAR | K30: =+J30*I30 -> #VALUE!
D31: 3.06 | G31: Señal vertical de transito tipo SP, SR de 75x75 con lámina retroreflectiva tipo diamante | H31: und | I31: 8 | J31: DIGITAR | K31: =+J31*I31 -> #VALUE!
D32: 3.07 | G32: Líneas de demarcación vial pintura en frío | H32: m | I32: 74 | J32: DIGITAR | K32: =+J32*I32 -> #VALUE!
D33: 3.08 | G33: Tacha reflectiva bidireccional incluye suministro e instalación | H33: und | I33: 60 | J33: DIGITAR | K33: =+J33*I33 -> #VALUE!
C34: Subtotal | K34: =+ROUND(SUM(K26:K33),0) -> #VALUE!
C35: CAMINOS DE MARAYA
D36: 4 | G36: MURO DE CONTENCION
D37: 4.01 | G37: Mejoramiento de superficie de apoyo en concreto ciclopeo | H37: m3 | I37: 40 | J37: DIGITAR | K37: =+J37*I37 -> #VALUE!
D38: 4.02 | G38: Canal en concreto champeado, incluye geomembrana 0.30mx0.30m | H38: m | I38: 77.38 | J38: DIGITAR | K38: =+J38*I38 -> #VALUE!
D39: 4.03 | G39: Fijación de Micro hexapodos mediante perforación con barreno de dren mecánico | H39: m | I39: 144 | J39: DIGITAR | K39: =+J39*I39 -> #VALUE!
D40: 4.04 | G40: Instalacion micro hexapodos incluye Juego de fijacion y acarreo en talud y lecho del río | H40: und | I40: 67 | J40: DIGITAR | K40: =+J40*I40 -> #VALUE!
D41: 4.05 | G41: Perforación en material común (mecánica) de 4" para dren en tubería PVC | H41: m | I41: 156 | J41: DIGITAR | K41: =+J41*I41 -> #VALUE!
D42: 4.06 | G42: Instalacion de tubería PVC de 3" (tubería perforada + accesorios y geotextil) | H42: m | I42: 156 | J42: DIGITAR | K42: =+J42*I42 -> #VALUE!
C43: Subtotal | K43: =+ROUND(SUM(K37:K42),0) -> #VALUE!
C44: SUBTOTAL OBRAS | K44: =+ROUND(K15+K23+K34+K43,0) -> #VALUE!
G46: ADMINISTRACION | J46: =+K52 -> 0.3122 | K46: =+ROUNDDOWN(J46*K44,0) -> #VALUE!
G47: UTILIDAD | J47: =+K54 -> 0.05 | K47: =+ROUNDDOWN(J47*K44,0) -> #VALUE!
G48: VALOR TOTAL+AU | K48: =+K44+K46+K47 -> #VALUE!
...

Sheet Analisis de AU
A1: ALCALDIA DE PEREIRA | E1: Version: | H1: AU (supuesto):
A2: ANALISIS DE AU | E2: Fecha: | H2: =+'[118]PROPUESTA ECONOMICA'!K55 -> 0.3622
A3: INFORMACION GENERAL DEL CONTRATO:
A5: “OBRAS COMPLEMENTARIAS A LA CONSTRUCCIÓN DE LA OBRA DE PROTECCIÓN, MITIGACIÓN Y DE OBRAS COMPLEMENTARIAS EN PUENTE DE ACCESO AL I.E. HUGO ÁNGEL JARAMILLO, SECTOR DE LA QUEBRADA LA DULCERA EN LA URBANIZACIÓN CAMINOS DE MARAYA Y SECTOR EN LA URBANIZACIÓN OLIVAR DE LOS VIENTOS ETAPA II DEL MUNICIPIO DE PEREIRA CONFORME A LA DECLARATORIA DE CALAMIDAD PUBLICA SEGÚN DECRETO No. 000883 DEL 08 DE MAYO DE 2024”. | C5: AU (calculado): | D5: =E54 -> 0.3622 | E5: PLAZO (meses): | F5: 1.5
C6: DIRECTO: | D6: 314316354 | E6: Anticipo: | F6: 0
C7: PRESUP OFICIAL: | D7: 428161736 | E7: Salario Minimo: | F7: =+'Factor Prestacional'!C7 -> 1300000
A10: PERSONAL DE PLANILLA (con vinculacion) | B10: SUELDO MES | C10: CANTIDAD | D10: DEDICACION MES | E10: No. MESES | F10: V/r PARCIAL
A11: Director de Obra Ingeniero Civil | B11: 6500000 | C11: 1 | D11: 0.2 | E11: =$F$5 -> 1.5 | F11: =+IF(B11>2*$F$7,E11*C11*D11*B11*(1+'Factor Prestacional'!$G$27),E11*D11*B11*(1+'Factor Prestacional'!$B$27)) -> 3030592.5
A12: Residente de Obra Ingeniero Civil | B12: 5000000 | C12: 1 | D12: 1 | E12: =$F$5 -> 1.5 | F12: =+IF(B12>2*$F$7,E12*C12*D12*B12*(1+'Factor Prestacional'!$G$27),E12*D12*B12*(1+'Factor Prestacional'!$B$27)) -> 11656125
A13: Maestro de Obra | B13: 2500000 | C13: 1 | D13: 1 | E13: =$F$5 -> 1.5 | F13: =+IF(B13>2*$F$7,E13*C13*D13*B13*(1+'Factor Prestacional'!$G$27),E13*D13*B13*C13*(1+'Factor Prestacional'!$B$27)) -> 6587521.7
A14: Subtotal Personal | F14: =SUM(F11:F13) -> 21274239
A15: Total Personal | F15: =+F14 -> 21274239
A17: PERSONAL Y ACTIVIDADES DE APOYO | B17: VALOR | C17: CANTIDAD | D17: DEDICACION MES | E17: No. MESES | F17: V/r PARCIAL
A18: Asesor Seguridad industrial salud ocupacional | B18: 4500000 | C18: 1 | D18: 0.5 | E18: =$F$5 -> 1.5 | F18: =B18*D18*E18*C18 -> 3375000
A19: Asesor en gestión Ambiental | B19: 4500000 | C19: 1 | D19: 0.2 | E19: =$F$5 -> 1.5 | F19: =B19*D19*E19*C19 -> 1350000
A20: Secretaria | B20: 2635008.7 | C20: 1 | D20: 0.2 | E20: =$F$5 -> 1.5 | F20: =B20*D20*E20*C20 -> 790502.61
A21: Almacenista | B21: 2635008.7 | C21: 1 | D21: 1 | E21: =$F$5 -> 1.5 | F21: =B21*D21*E21*C21 -> 3952513
A22: Contador | B22: 2635008.7 | C22: 1 | D22: 0.2 | E22: =$F$5 -> 1.5 | F22: =B22*D22*E22*C22 -> 790502.61
A23: Vigilante Nocturno | B23: 2635008.7 | C23: 1 | D23: 1 | E23: =$F$5 -> 1.5 | F23: =B23*D23*E23*C23 -> 3952513
A24: Mensajero | B24: 2283674.2 | C24: 1 | D24: 0.3 | E24: =$F$5 -> 1.5 | F24: =B24*D24*E24*C24 -> 1027653.4
A26: Subtotal personal y actividades de Apoyo | F26: =SUM(F18:F24) -> 15238685
A28: COSTOS DE LEGALIZACIÓN | B28: VALOR | D28: CANTIDAD | F28: V/r PARCIAL
A29: Pólizas | B29: =+D7 -> 428161736 | D29: 0.008 | F29: =ROUND((B29*D29),2) -> 3425293.9
A30: Subtotal costos de legalización | F30: =SUM(F29) -> 3425293.9
A32: IMPUESTOS | B32: VALOR | D32: CANTIDAD | F32: V/r PARCIAL
A33: Estampilla Procultura (si > 15 SMMLV) | B33: =IF($D$7>15*$F$7,$D$7,0) -> 428161736 | D33: 0.015 | F33: =ROUND((B33*D33),2) -> 6422426
A34: Estampilla Pro Adulto mayor (si > 30 SMMLV) | B34: =IF($D$7>30*$F$7,$D$7,0) -> 428161736 | D34: 0.02 | F34: =ROUND((B34*D34),2) -> 8563234.7
A35: Industria y Comercio | B35: =$D$7 -> 428161736 | D35: 0.007 | F35: =ROUND((B35*D35),2) -> 2997132.1
A36: Contribucion Especial | B36: =$D$7 -> 428161736 | D36: 0.05 | F36: =ROUND((B36*D36),2) -> 21408087
A37: Estampilla Pro Universidad Tecnológica | B37: =$D$7 -> 428161736 | D37: 0.01 | F37: =ROUND((B37*D37),2) -> 4281617.4
A38: Estampilla Pro Deporte y Recreación | B38: =$D$7 -> 428161736 | D38: 0.02 | F38: =ROUND((B38*D38),2) -> 8563234.7
A39: Subtotal Impuestos | F39: =SUM(F33:F38) -> 52235732
A41: OTROS COSTOS | B41: VALOR | D41: CANTIDAD | F41: V/r PARCIAL
A42: Papelería | B42: 350000 | D42: 1.6459613 | E42: =$F$5 -> 1.5 | F42: =(B42*D42*E42) -> 864129.68
A43: Comunicaciones e Informes | B43: 685000 | D43: 1 | E43: =$F$5 -> 1.5 | F43: =ROUND((B43*D43*E43),2) -> 1027500
A44: Oficina | B44: 1600000 | D44: 0.3 | E44: =$F$5 -> 1.5 | F44: =ROUND((B44*D44*E44),2) -> 720000
A45: Servicios Públicos en oficina | B45: 565000 | D45: 0.6 | E45: =$F$5 -> 1.5 | F45: =ROUND((B45*D45*E45),2) -> 508500
A46: Computador y software | B46: 3150000 | D46: 0.6 | E46: =$F$5 -> 1.5 | F46: =ROUND((B46*D46*E46),2) -> 2835000
A47: Subtotal Otros costos | F47: =SUM(F42:F46) -> 5955129.7
A50: VALOR TOTAL ADMINISTRACION | E50: =ROUND(F50/$D$6,4) -> 0.3122 | F50: =F15+F26+F30+F39+F47 -> 98129079
...

Sheet APU
B1: ITEM | C1: CÓDIGO | D1: DESCRIPCIÓN | E1: UNIDAD | F1: Cantidad | G1: Vr/insumo | H1: Desper. | I1: Equipo | J1: Material | K1: Personal
B2: 5.001 | D2: Concreto ciclópeo (m3) | L2: =+E12 -> 475645
C3: I00115 | D3: Arena | E3: m3 | F3: 0.336 | G3: =+VLOOKUP(C3,'[112]Insumos-Equipo M_L'!$A$2:$D$166,4,FALSE) -> 86000 | H3: 0.03 | J3: =+($F3*$G3*(1+$H3)) -> 29762.88
C4: I00496 | D4: Grava triturada de cantera Ø max 3/4" | E4: m3 | F4: 0.504 | G4: =+VLOOKUP(C4,'[112]Insumos-Equipo M_L'!$A$2:$D$166,4,FALSE) -> 102187.35 | H4: 0.03 | J4: =+($F4*$G4*(1+$H4)) -> 53047.497
C5: I00061 | D5: Agua | E5: Lt | F5: 170 | G5: =+VLOOKUP(C5,'[112]Insumos-Equipo M_L'!$A$2:$D$166,4,FALSE) -> 13.182168 | H5: 0.03 | J5: =+($F5*$G5*(1+$H5)) -> 2308.1976
C6: I00793 | D6: Piedra media zonga | E6: m3 | F6: 0.4 | G6: =+VLOOKUP(C6,'[112]Insumos-Equipo M_L'!$A$2:$D$166,4,FALSE) -> 102187.35 | H6: 0.03 | J6: =+($F6*$G6*(1+$H6)) -> 42101.188
C7: I00221-1 | D7: Cemento gris | E7: KG | F7: 210 | G7: =+VLOOKUP(C7,'[112]Insumos-Equipo M_L'!$A$2:$D$166,4,FALSE) -> 650 | J7: =+($F7*$G7*(1+$H7)) -> 136500
C8: E0031 | D8: Mezcladora de 1 saco | E8: Día | F8: 0.35 | G8: =+VLOOKUP(C8,'[112]Insumos-Equipo M_L'!$A$2:$D$166,4,FALSE) -> 50458.737 | I8: =+($F8*$G8*(1+$H8)) -> 17660.558
C9: C 1O+4A | D9: Cuadrilla C 1 Of + 4 Ay (jornal + prestaciones) | E9: Día | F9: 0.4 | G9: =+VLOOKUP(C9,'[113]Mano de Obra'!$A$7:$G$35,4,FALSE) -> 441510 | K9: =+($F9*$G9*(1+$H9)) -> 176604
D10: Acarreo Horizontal (% M.O.) | E10: % | F10: 0.05 | G10: =+K9 -> 176604 | K10: =+($F10*$G10*(1+$H10)) -> 8830.2
D11: Herramienta Menor (% M.O.) | E11: % | F11: 0.05 | G11: =+K9 -> 176604 | J11: =+($F11*$G11*(1+$H11)) -> 8830.2
D12: COSTO DIRECTO | E12: =+ROUND(SUM(I12:K12),0) -> 475645 | I12: =+ROUND(SUM(I3:I11),0) -> 17661 | J12: =+ROUND(SUM(J3:J11),0) -> 272550 | K12: =+ROUND(SUM(K3:K11),0) -> 185434
B14: 5.002 | D14: Concreto fluido 20.7 MPa (m3) | L14: =+E24 -> 640944
C15: I00115 | D15: Arena | E15: m3 | F15: 0.56 | G15: =+VLOOKUP(C15,'[112]Insumos-Equipo M_L'!$A$2:$D$166,4,FALSE) -> 86000 | H15: 0.03 | J15: =+($F15*$G15*(1+$H15)) -> 49604.8
C16: I00496 | D16: Grava triturada de cantera Ø max 3/4" | E16: m3 | F16: 0.84 | G16: =+VLOOKUP(C16,'[112]Insumos-Equipo M_L'!$A$2:$D$166,4,FALSE) -> 102187.35 | H16: 0.03 | J16: =+($F16*$G16*(1+$H16)) -> 88412.495
C17: I00061 | D17: Agua | E17: Lt | F17: 170 | G17: =+VLOOKUP(C17,'[112]Insumos-Equipo M_L'!$A$2:$D$166,4,FALSE) -> 13.182168 | H17: 0.03 | J17: =+($F17*$G17*(1+$H17)) -> 2308.1976
C18: I00221-1 | D18: Cemento gris | E18: KG | F18: 350 | G18: =+VLOOKUP(C18,'[112]Insumos-Equipo M_L'!$A$2:$D$166,4,FALSE) -> 650 | J18: =+($F18*$G18*(1+$H18)) -> 227500
C19: I00451 | D19: Fluidificante para concretos | E19: Kg | F19: 14 | G19: =+VLOOKUP(C19,'[112]Insumos-Equipo M_L'!$A$2:$D$166,4,FALSE) -> 10545.735 | J19: =+($F19*$G19*(1+$H19)) -> 147640.28
C20: E0031 | D20: Mezcladora de 1 saco | E20: Día | F20: 0.35 | G20: =+VLOOKUP(C20,'[112]Insumos-Equipo M_L'!$A$2:$D$166,4,FALSE) -> 50458.737 | I20: =+($F20*$G20*(1+$H20)) -> 17660.558
C21: C 1O+4A | D21: Cuadrilla C 1 Of + 4 Ay (jornal + prestaciones) | E21: Día | F21: 0.222 | G21: =+VLOOKUP(C21,'[113]Mano de Obra'!$A$7:$G$35,4,FALSE) -> 441510 | K21: =+($F21*$G21*(1+$H21)) -> 98015.22
D22: Acarreo Horizontal (% M.O.) | E22: % | F22: 0.05 | G22: =+K21 -> 98015.22 | K22: =+($F22*$G22*(1+$H22)) -> 4900.761
D23: Herramienta Menor (% M.O.) | E23: % | F23: 0.05 | G23: =+K21 -> 98015.22 | J23: =+($F23*$G23*(1+$H23)) -> 4900.761
D24: COSTO DIRECTO | E24: =+ROUND(SUM(I24:K24),0) -> 640944 | I24: =+ROUND(SUM(I15:I23),0) -> 17661 | J24: =+ROUND(SUM(J15:J23),0) -> 520367 | K24: =+ROUND(SUM(K15:K23),0) -> 102916
B26: 5.003 | D26: Concreto imperm 20.7 MPa (m3) | L26: =+E36 -> 700922
C27: I00115 | D27: Arena | E27: m3 | F27: 0.56 | G27: =+VLOOKUP(C27,'[112]Insumos-Equipo M_L'!$A$2:$D$166,4,FALSE) -> 86000 | H27: 0.03 | J27: =+($F27*$G27*(1+$H27)) -> 49604.8
C28: I00496 | D28: Grava triturada de cantera Ø max 3/4" | E28: m3 | F28: 0.84 | G28: =+VLOOKUP(C28,'[112]Insumos-Equipo M_L'!$A$2:$D$166,4,FALSE) -> 102187.35 | H28: 0.03 | J28: =+($F28*$G28*(1+$H28)) -> 88412.495
C29: I00061 | D29: Agua | E29: Lt | F29: 170 | G29: =+VLOOKUP(C29,'[112]Insumos-Equipo M_L'!$A$2:$D$166,4,FALSE) -> 13.182168 | H29: 0.03 | J29: =+($F29*$G29*(1+$H29)) -> 2308.1976
C30: I00221-1 | D30: Cemento gris | E30: KG | F30: 350 | G30: =+VLOOKUP(C30,'[112]Insumos-Equipo M_L'!$A$2:$D$166,4,FALSE) -> 650 | J30: =+($F30*$G30*(1+$H30)) -> 227500
C31: I00545 | D31: Impermeabilizante para concreto | E31: Kg | F31: 10.5 | G31: =+VLOOKUP(C31,'[112]Insumos-Equipo M_L'!$A$2:$D$166,4,FALSE) -> 19773.252 | J31: =+($F31*$G31*(1+$H31)) -> 207619.15
C32: E0031 | D32: Mezcladora de 1 saco | E32: Día | F32: 0.35 | G32: =+VLOOKUP(C32,'[112]Insumos-Equipo M_L'!$A$2:$D$166,4,FALSE) -> 50458.737 | I32: =+($F32*$G32*(1+$H32)) -> 17660.558
C33: C 1O+4A | D33: Cuadrilla C 1 Of + 4 Ay (jornal + prestaciones) | E33: Día | F33: 0.222 | G33: =+VLOOKUP(C33,'[113]Mano de Obra'!$A$7:$G$35,4,FALSE) -> 441510 | K33: =+($F33*$G33*(1+$H33)) -> 98015.22
D34: Acarreo Horizontal (% M.O.) | E34: % | F34: 0.05 | G34: =+K33 -> 98015.22 | K34: =+($F34*$G34*(1+$H34)) -> 4900.761
D35: Herramienta Menor (% M.O.) | E35: % | F35: 0.05 | G35: =+K33 -> 98015.22 | J35: =+($F35*$G35*(1+$H35)) -> 4900.761
D36: COSTO DIRECTO | E36: =+ROUND(SUM(I36:K36),0) -> 700922 | I36: =+ROUND(SUM(I27:I35),0) -> 17661 | J36: =+ROUND(SUM(J27:J35),0) -> 580345 | K36: =+ROUND(SUM(K27:K35),0) -> 102916
B38: 5.004 | D38: Concreto imperm 24.1 Mpa (m3) | L38: =+E48 -> 781735
C39: I00115 | D39: Arena | E39: m3 | F39: 0.68 | G39: =+VLOOKUP(C39,'[112]Insumos-Equipo M_L'!$A$2:$D$166,4,FALSE) -> 86000 | H39: 0.03 | J39: =+($F39*$G39*(1+$H39)) -> 60234.4
C40: I00496 | D40: Grava triturada de cantera Ø max 3/4" | E40: m3 | F40: 0.68 | G40: =+VLOOKUP(C40,'[112]Insumos-Equipo M_L'!$A$2:$D$166,4,FALSE) -> 102187.35 | H40: 0.03 | J40: =+($F40*$G40*(1+$H40)) -> 71572.02
C41: I00061 | D41: Agua | E41: Lt | F41: 170 | G41: =+VLOOKUP(C41,'[112]Insumos-Equipo M_L'!$A$2:$D$166,4,FALSE) -> 13.182168 | H41: 0.03 | J41: =+($F41*$G41*(1+$H41)) -> 2308.1976
C42: I00221-1 | D42: Cemento gris | E42: KG | F42: 420 | G42: =+VLOOKUP(C42,'[112]Insumos-Equipo M_L'!$A$2:$D$166,4,FALSE) -> 650 | J42: =+($F42*$G42*(1+$H42)) -> 273000
C43: I00545 | D43: Impermeabilizante para concreto | E43: Kg | F43: 12.6 | G43: =+VLOOKUP(C43,'[112]Insumos-Equipo M_L'!$A$2:$D$166,4,FALSE) -> 19773.252 | J43: =+($F43*$G43*(1+$H43)) -> 249142.98
...

Sheet Factor Prestacional
A2: ANALISIS FACTOR PRESTACIONAL
A7: Salario Mínimo Mensual Legal Vigente año 2024 | C7: 1300000
A8: Subsidio de Transporte (salario <= 2 SMMLV) | C8: 162000
B10: SALARIO <= 2 SMMLV | F10: SALARIO > 2 SMMLV
A11: DETALLE | B11: PORCENTAJE PATRONAL | C11: PORCENTAJE EMPLEADO | D11: SM | E11: AT | F11: PORCENTAJE PATRONAL | G11: PORCENTAJE EMPLEADO | H11: SM | I11: AT
A12: SALARIO MINIMO (S.M) | B12: S.M. | D12: 1 | F12: SALARIO | H12: 1
A13: AUX. TRANSPORTE (A.T) | B13: A.T | E13: 1
A14: CESANTIAS (CS) | B14: (S.M + A.T) X 8,33% | D14: 0.0833 | E14: 0.0833 | F14: (SALARIO) X 8,33% | H14: 0.0833
A15: PRIMA | B15: (S.M + A.T) X 8,33% | D15: 0.0833 | E15: 0.0833 | F15: (SALARIO) X 8,33% | H15: 0.0833
A16: VACACIONES | B16: S.M X 4,17% | D16: 0.0417 | F16: SALARIO X 4,17% | H16: 0.0417
A17: INTERES A LAS CESANTIAS | B17: (S.M + A.T) X 1% | D17: 0.01 | E17: 0.01 | F17: (SALARIO) X 1% | H17: 0.01
A18: PENSION | B18: S.M X 12% (PATRONO) | C18: S.M X 4% (EMPLEADO) | D18: 0.12 | F18: SALARIO X 12% (PATRONO) | G18: S.M X 4% (EMPLEADO) | H18: 0.12
A19: SALUD | B19: S.M X 8,5% (PATRONO) | C19: S.M X 4% (EMPLEADO) | D19: 0.085 | F19: SALARIO X 8,5% (PATRONO) | G19: S.M X 4% (EMPLEADO) | H19: 0.085
A20: ARL | B20: S.M X % (NIVEL CONSTRUCCION 6.96%) | D20: 0.0696 | F20: SALARIO X % (NIVEL CONSTRUCCION 6.96%) | H20: 0.0696
A21: PARAFISCALES | B21: S.M X 4% ( COMFA 4%) | D21: 0.04 | F21: S.M X 4% ( COMFA 4%) | H21: 0.04
A22: EXAMEN DE INGRESO | D22: 0.021 | F22: EXAMEN DE INGRESO | H22: 0.021
A23: FIC | B23: S.M. / 40 | D23: 0.00025 | F23: FIC | G23: S.M. / 40 | H23: 0.00025
A24: DOTACIÓN | D24: 0.0559
A25: VALOR SALARIO + PRESTACIONES | B25: =+CONCATENATE(D25, " S.M. + ",E25," AT") -> 1,61005 S.M. + 1,1766 AT | D25: =SUM(D12:D24) -> 1.61005 | E25: =SUM(E12:E24) -> 1.1766 | F25: VALOR SALARIO + PRESTACIONES | G25: =+CONCATENATE(H25, " S.M. + ",I25," AT") -> 1,55415 S.M. + 0 AT | H25: =SUM(H12:H24) -> 1.55415 | I25: =SUM(I12:I24) -> 0
A26: VALOR SALARIO + PRESTACIONES | B26: =+D25*C7+E25*C8 -> 2283674.2 | F26: VALOR SALARIO + PRESTACIONES | G26: =+H25*C7+I25*C8 -> 2020395
A27: FACTOR PRESTACIONAL | B27: =+(B26-C7)/C7 -> 0.75667246 | F27: FACTOR PRESTACIONAL | G27: =+(G26-C7)/C7 -> 0.55415

Sheet Mano de Obra
A2: ANALISIS MANO DE OBRA
A6: COD. | B6: PERSONAL | C6: UNIDAD | D6: SALARIO DIA | E6: SALARIO MENSUAL | F6: % FACTOR PRESTACIONAL | G6: SALARIO + PRESTACIONES
A7: A | B7: Ayudante | C7: día | D7: =ROUND((G7/30),0) -> 76122 | E7: =+'Factor Prestacional'!C7 -> 1300000 | F7: =+IF(E7<=2*'Factor Prestacional'!$C$7,'Factor Prestacional'!$B$27,'Factor Prestacional'!$G$27) -> 0.75667246 | G7: =+ROUND(E7+E7*F7,0) -> 2283674
A8: AP | B8: Ayudante práctico | C8: día | D8: =ROUND((G8/30),0) -> 91347 | E8: =+E7*1.2 -> 1560000 | F8: =+IF(E8<=2*'Factor Prestacional'!$C$7,'Factor Prestacional'!$B$27,'Factor Prestacional'!$G$27) -> 0.75667246 | G8: =+ROUND(E8+E8*F8,0) -> 2740409
A9: O | B9: Oficial | C9: día | D9: =ROUND((G9/30),0) -> 137020 | E9: =E7*1.8 -> 2340000 | F9: =+IF(E9<=2*'Factor Prestacional'!$C$7,'Factor Prestacional'!$B$27,'Factor Prestacional'!$G$27) -> 0.75667246 | G9: =+ROUND(E9+E9*F9,0) -> 4110614
A10: CA | B10: Cadenero 1 | C10: día | D10: =ROUND((G10/30),0) -> 114184 | E10: =E7*1.5 -> 1950000 | F10: =+IF(E10<=2*'Factor Prestacional'!$C$7,'Factor Prestacional'!$B$27,'Factor Prestacional'!$G$27) -> 0.75667246 | G10: =+ROUND(E10+E10*F10,0) -> 3425511
A11: MO | B11: Maestro de obra | C11: día | D11: =ROUND((G11/30),0) -> 168366 | E11: =E7*2.5 -> 3250000 | F11: =+IF(E11<=2*'Factor Prestacional'!$C$7,'Factor Prestacional'!$B$27,'Factor Prestacional'!$G$27) -> 0.55415 | G11: =+ROUND(E11+E11*F11,0) -> 5050988
A12: MI | B12: Minero | C12: día | D12: =ROUND((G12/30),0) -> 168366 | E12: =E7*2.5 -> 3250000 | F12: =+IF(E12<=2*'Factor Prestacional'!$C$7,'Factor Prestacional'!$B$27,'Factor Prestacional'!$G$27) -> 0.55415 | G12: =+ROUND(E12+E12*F12,0) -> 5050988
A13: OE | B13: Oficial eléctrico | C13: día | D13: =ROUND((G13/30),0) -> 152245 | E13: =E7*2 -> 2600000 | F13: =+IF(E13<=2*'Factor Prestacional'!$C$7,'Factor Prestacional'!$B$27,'Factor Prestacional'!$G$27) -> 0.75667246 | G13: =+ROUND(E13+E13*F13,0) -> 4567348
A14: OP | B14: Oficial pintor | C14: día | D14: =ROUND((G14/30),0) -> 121796 | E14: =E7*1.6 -> 2080000 | F14: =+IF(E14<=2*'Factor Prestacional'!$C$7,'Factor Prestacional'!$B$27,'Factor Prestacional'!$G$27) -> 0.75667246 | G14: =+ROUND(E14+E14*F14,0) -> 3653879
A15: Oper | B15: Oficial Perforación | C15: día | D15: =ROUND((G15/30),0) -> 152245 | E15: =+E7*2 -> 2600000 | F15: =+IF(E15<=2*'Factor Prestacional'!$C$7,'Factor Prestacional'!$B$27,'Factor Prestacional'!$G$27) -> 0.75667246 | G15: =+ROUND(E15+E15*F15,0) -> 4567348
A16: OM | B16: Operador de maquinaria | C16: día | D16: =ROUND((G16/30),0) -> 137020 | E16: =E7*1.8 -> 2340000 | F16: =+IF(E16<=2*'Factor Prestacional'!$C$7,'Factor Prestacional'!$B$27,'Factor Prestacional'!$G$27) -> 0.75667246 | G16: =+ROUND(E16+E16*F16,0) -> 4110614
A17: SOL | B17: Soldador | C17: día | D17: =ROUND((G17/30),0) -> 137020 | E17: =E7*1.8 -> 2340000 | F17: =+IF(E17<=2*'Factor Prestacional'!$C$7,'Factor Prestacional'!$B$27,'Factor Prestacional'!$G$27) -> 0.75667246 | G17: =+ROUND(E17+E17*F17,0) -> 4110614
A18: TOP | B18: Topógrafo | C18: día | D18: =ROUND((G18/30),0) -> 235713 | E18: =E7*3.5 -> 4550000 | F18: =+IF(E18<=2*'Factor Prestacional'!$C$7,'Factor Prestacional'!$B$27,'Factor Prestacional'!$G$27) -> 0.55415 | G18: =+ROUND(E18+E18*F18,0) -> 7071383
A19: PSO | B19: Profesional en salud ocupacional | C19: día | D19: =ROUND((G19/30),0) -> 188570 | E19: =E7*2.8 -> 3640000 | F19: =+IF(E19<=2*'Factor Prestacional'!$C$7,'Factor Prestacional'!$B$27,'Factor Prestacional'!$G$27) -> 0.55415 | G19: =+ROUND(E19+E19*F19,0) -> 5657106
A20: C 1O+1A | B20: Cuadrilla A 1 Of +1 Ay (jornal + prestaciones) | C20: día | D20: =ROUND((G20/30),0) -> 213143 | E20: =+E7+E9 -> 3640000 | G20: =+G7+G9 -> 6394288
A21: C 1O+2A | B21: Cuadrilla B 1 Of + 2 Ay (jornal + prestaciones) | C21: día | D21: =ROUND((G21/30),0) -> 289265 | E21: =+E9+E7*2 -> 4940000 | G21: =+G9+G7*2 -> 8677962
A22: C 1O+4A | B22: Cuadrilla C 1 Of + 4 Ay (jornal + prestaciones) | C22: día | D22: =ROUND((G22/30),0) -> 441510 | E22: =+E9+4*E7 -> 7540000 | G22: =+G9+4*G7 -> 13245310
A23: C 2O+4A | B23: Cuadrilla D 2 Of + 4 Ay (jornal + prestaciones) | C23: día | D23: =ROUND((G23/30),0) -> 578531 | E23: =2*E9+4*E7 -> 9880000 | G23: =2*G9+4*G7 -> 17355924
A24: C 4A | B24: Cuadrilla E 4 Ay (jornal + prestaciones) | C24: día | D24: =ROUND((G24/30),0) -> 304490 | E24: =+E7*4 -> 5200000 | G24: =+G7*4 -> 9134696
A25: C 1OE+1A | B25: Cuadrilla F 1 Of eléctrico+1Ay (jornal + prestaciones) | C25: día | D25: =ROUND((G25/30),0) -> 228367 | E25: =+E13+E7 -> 3900000 | G25: =+G13+G7 -> 6851022
A26: C 1OE+2A | B26: Cuadrilla G 1 Of eléctrico+2Ay (jornal + prestaciones) | C26: día | D26: =ROUND((G26/30),0) -> 304490 | E26: =+E13+2*E7 -> 5200000 | G26: =+G13+2*G7 -> 9134696
A27: C 1SOL+1AP | B27: Cuadrilla H (1Sold.+1Ay práctico) (jornal + prestaciones) | C27: día | D27: =ROUND((G27/30),0) -> 228367 | E27: =+E17+E8 -> 3900000 | G27: =+G17+G8 -> 6851023
A28: PT | B28: Paletero | C28: Día | D28: =ROUND((G28/30),0) -> 76122 | E28: =+E7 -> 1300000 | F28: =+IF(E28<2*'Factor Prestacional'!$C$7,'Factor Prestacional'!$B$27,'Factor Prestacional'!$G$27) -> 0.75667246 | G28: =+ROUND(E28+E28*F28,0) -> 2283674
A29: CT | B29: Controlador de Transito | C29: Día | D29: =ROUND((G29/30),0) -> 91347 | E29: =+E7*1.2 -> 1560000 | F29: =+IF(E29<2*'Factor Prestacional'!$C$7,'Factor Prestacional'!$B$27,'Factor Prestacional'!$G$27) -> 0.75667246 | G29: =+ROUND(E29+E29*F29,0) -> 2740409
A30: C 2A | B30: Cuadrilla I (Dos ayudantes) (jornal + prestaciones) | C30: Día | D30: =ROUND((G30/30),0) -> 135540 | E30: =+E7*2 -> 2600000 | G30: 4066190
A31: C 1O+3A | B31: Cuadrilla C 1 Of + 3 Ay (jornal + prestaciones) | C31: Día | D31: =ROUND((G31/30),0) -> 365388 | E31: =+E9+E7*3 -> 6240000 | G31: =+G9+G7*3 -> 10961636
A32: C 1 Ofper+1AP+3A | B32: Cuadrilla J 1of per+1AP+3Ay (jornal + prestaciones) | C32: Día | D32: =ROUND((G32/30),0) -> 471959 | E32: =+E15+E8+E7*3 -> 8060000 | G32: =+G15+G8+G7*3 -> 14158779
A34: SEG PRIV | B34: Servicio de Escolta Vigilancia Privada | C34: Día | D34: =+((E34/30)/24)*8 -> 113422.22 | E34: 10208000
