Workbook

Sheet PRESUPUESTO
C2: DEPARTAMENTO DE NORTE DE SANTANDER
C4: MUNICIPIO DE TEORAMA
C6: SECRETARIA DE PLANEACIÓN E INFRAESTRUCTURA MUNICIPAL
C7: PRESUPUESTO DE OBRA
B8: REPARACIÓN Y PINTURA DE LAS PAREDES, INSTALACIÓN DE CERRAMIENTO PERIMETRAL Y DE CUBIERTA EN LA ESTACIÓN DE POLICIA EN EL MUNICIPIO DE TEORAMA, NORTE DE SANTANDER
B9: Nº | C9: DESCRIPCION | D9: UNIDAD | E9: CANTIDAD | F9: VALOR UNITARIO ( $ ) | G9: VALOR TOTAL ( $ )
B11: 1 | C11: PRELIMINARES
B12: 1.1 | C12: Desmonte de pañete | D12: M2 | E12: 278 | F12: ='Desmonte Pañetes'!I50 -> 45178 | G12: =ROUND((F12*E12),0) -> 12559484
B13: 1.2 | C13: Desmonte de polisombra | D13: M2 | E13: 140 | F13: ='Desmonte Polisombra'!I50 -> 29638 | G13: =E13*F13 -> 4149320
B14: SUBTOTAL | G14: =SUM(G12:G13) -> 16708804
B15: 2 | C15: PINTURAS SOBRE MUROS Y ASEOS
B16: 2.1 | C16: Resanar muros con estuco plástico | D16: M2 | E16: 385 | F16: =Estuco!I50 -> 49783 | G16: =E16*F16 -> 19166455
B17: 2.2 | C17: Mortero para paredes | D17: M3 | E17: 7.8 | F17: =Mortero!I50 -> 791140 | G17: =E17*F17 -> 6170892
B18: 2.3 | C18: Pintura tipo 1 para muros primer piso 2 manos | D18: M2 | E18: 1785 | F18: ='Pintura 1er piso'!I51 -> 10179 | G18: =E18*F18 -> 18169515
B19: 2.4 | C19: Pintura tipo 1 para muros segundo piso 2 manos | D19: M2 | E19: 1398 | F19: ='Pintura 2do piso'!I51 -> 13169 | G19: =E19*F19 -> 18410262
B20: 2.5 | C20: Pintura tipo 1 para muros tercer piso 2 manos | D20: M2 | E20: 1229 | F20: ='Pintura 3er piso'!I51 -> 15112 | G20: =E20*F20 -> 18572648
B21: SUBTOTAL | G21: =SUM(G16:G20) -> 80489772
B22: 3 | C22: CERRAMIENTO
B23: 3.1 | C23: Instalación de costales con material arcilloso | D23: M3 | E23: 17.5 | F23: =Costales!I54 -> 943927 | G23: =E23*F23 -> 16518722
B24: 3.1 | C24: Instalación de malla eslabonada | D24: M2 | E24: 375 | F24: ='Instalación malla'!I54 -> 216773 | G24: =E24*F24 -> 81289875
B25: 3.2 | C25: Instalación puerta principal | D25: UND | E25: 1 | F25: =Puerta!I49 -> 2106165 | G25: =E25*F25 -> 2106165
B26: SUBTOTAL | G26: =SUM(G23:G25) -> 99914762
B27: 4 | C27: CUBIERTA
B28: 4.1 | C28: Tubo rectangular Cal. 18 3''x1-1/2'' | D28: ML | E28: 370 | F28: ='Tubo rectangular'!I51 -> 84250 | G28: =E28*F28 -> 31172500
B29: 4.2 | C29: Tubos redondos galvanizados de 2'' x 6 m | D29: ML | E29: 170 | F29: ='Tubos Galvanizados 2plg'!I48 -> 92518 | G29: =E29*F29 -> 15728060
B30: 4.3 | C30: Cubierta Lámina master 1000 x 6 m | D30: M2 | E30: 312 | F30: ='Master 1000'!I49 -> 137518 | G30: =E30*F30 -> 42905616
B31: SUBTOTAL | G31: =SUM(G28:G30) -> 89806176
B32: 5 | C32: OTROS
B33: 5.1 | C33: Retiro de escombros | D33: M2 | E33: 318.03 | F33: =Retiro!I50 -> 21726 | G33: =E33*F33 -> 6909519.8
B34: 5.2 | C34: Aseo y limpieza general | D34: M2 | E34: =E18+E19+E20-787 -> 3625 | F34: ='Aseo y Limpieza'!I50 -> 1506 | G34: =E34*F34 -> 5459250
B35: SUBTOTAL | G35: =SUM(G33:G34) -> 12368770
B37: COSTO SIN AIU | G37: =G14+G21+G26+G31+G35 -> 2.9928828e+08
B38: ADMINISTRACIÓN 22% | G38: =G37*22% -> 65843423
B39: UTILIDAD 7% | G39: =G37*7% -> 20950180
B40: IMPREVISTOS 1% | G40: =G37*1% -> 2992882.8
B42: PRESUPUESTO TOTAL | G42: =SUM(G37:G40) -> 3.8907477e+08

Sheet Desmonte Pañetes
B2: ANÁLISIS DE PRECIOS UNITARIO
B5: DEPARTAMENTO DE NORTE DE SANTANDER
B7: ='[1]CANTIDAD DE OBRA'!C6 -> PRESUPUESTO DE OBRA
B8: FECHA
B10: PROYECTO | D10: =PRESUPUESTO!B8 -> REPARACIÓN Y PINTURA DE LAS PAREDES, INSTALACIÓN DE CERRAMIENTO PERIMETRAL Y DE CUBIERTA EN LA ESTACIÓN DE POLICIA EN EL MUNICIPIO DE TEORAMA, NORTE DE SANTANDER
B11: DESCRIPCIÓN | D11: =PRESUPUESTO!C12 -> Desmonte de pañete | I11: UNIDAD
I12: M2
B14: I. EQUIPO
B15: DESCRIPCIÓN | E15: TIPO | F15: TARIFA / DIA | G15: RDTO | H15: VR. PARCIAL
B16: 1 | C16: Herramienta menor (%MO) | F16: =I48 -> 42550 | G16: 0.05 | H16: =+F16*G16 -> 2127.5
B17: 2 | C17: Alquiler Andamio Tubular Sección 1.50x1.50mt | F17: 5000 | G17: 10 | H17: =F17/G17 -> 500
B18: 3
B19: 4
B20: 5
B21: 6
B22: OBSERVACIONES: | H22: SUBTOTAL | I22: =ROUND(SUM(H16:H21),) -> 2628
B24: II. MATERIALES EN OBRA
B25: DESCRIPCIÓN | E25: UNIDAD | F25: VR. UNITARIO | G25: CANTIDAD | H25: VR. PARCIAL
B26: 1
B27: 2
B28: 3
B29: 4
B30: 5
B31: 6 | C31: Desperdicio | G31: 0.07 | H31: =H26*G31 -> 0
B32: OBSERVACIONES: | H32: SUBTOTAL | I32: =ROUND(SUM(H26:H31),) -> 0
B34: III. TRANSPORTE
B35: DESCRIPCIÓN | D35: VOL-PESO-CANT. | E35: DISTANCIA | F35: M3 ó M3/Km | G35: TARIFA | H35: VR. PARCIAL
B36: 1
B37: 2
B38: 3
B39: 4
B40: 5
B41: OBSERVACIONES: | H41: SUBTOTAL | I41: =ROUND(SUM(H36:H40),) -> 0
B42: IV. MANO DE OBRA
B43: DESCRIPCIÓN | D43: JORNAL | E43: PRESTACIONES | F43: JORNAL TOTAL | G43: RENDIMIENTO | H43: VR. PARCIAL
B44: 2 | C44: Maestro | D44: 120000 | E44: 1.85 | F44: =+D44*E44 -> 222000 | G44: 15 | H44: =+F44/G44 -> 14800
B45: 3 | C45: Ayudante x 4 | D45: =75000*4 -> 300000 | E45: 1.85 | F45: =+D45*E45 -> 555000 | G45: 20 | H45: =+F45/G45 -> 27750
B46: 4
B47: 5
H48: SUBTOTAL | I48: =ROUND(SUM(H44:H46),) -> 42550
...

Sheet Desmonte Polisombra
B2: ANÁLISIS DE PRECIOS UNITARIO
B5: DEPARTAMENTO DE NORTE DE SANTANDER
B7: ='[1]CANTIDAD DE OBRA'!C6 -> PRESUPUESTO DE OBRA
B8: FECHA
B10: PROYECTO | D10: =PRESUPUESTO!B8 -> REPARACIÓN Y PINTURA DE LAS PAREDES, INSTALACIÓN DE CERRAMIENTO PERIMETRAL Y DE CUBIERTA EN LA ESTACIÓN DE POLICIA EN EL MUNICIPIO DE TEORAMA, NORTE DE SANTANDER
B11: DESCRIPCIÓN | D11: =PRESUPUESTO!C13 -> Desmonte de polisombra | I11: UNIDAD
I12: M2
B14: I. EQUIPO
B15: DESCRIPCIÓN | E15: TIPO | F15: TARIFA / DIA | G15: RDTO | H15: VR. PARCIAL
B16: 1 | C16: Herramienta menor (%MO) | F16: =I48 -> 27750 | G16: 0.05 | H16: =+F16*G16 -> 1387.5
B17: 2 | C17: Alquiler Andamio Tubular Sección 1.50x1.50mt | F17: 5000 | G17: 10 | H17: =F17/G17 -> 500
B18: 3
B19: 4
B20: 5
B21: 6
B22: OBSERVACIONES: | H22: SUBTOTAL | I22: =ROUND(SUM(H16:H21),) -> 1888
B24: II. MATERIALES EN OBRA
B25: DESCRIPCIÓN | E25: UNIDAD | F25: VR. UNITARIO | G25: CANTIDAD | H25: VR. PARCIAL
B26: 1
B27: 2
B28: 3
B29: 4
B30: 5
B31: 6 | C31: Desperdicio | G31: 0.07 | H31: =H26*G31 -> 0
B32: OBSERVACIONES: | H32: SUBTOTAL | I32: =ROUND(SUM(H26:H31),) -> 0
B34: III. TRANSPORTE
B35: DESCRIPCIÓN | D35: VOL-PESO-CANT. | E35: DISTANCIA | F35: M3 ó M3/Km | G35: TARIFA | H35: VR. PARCIAL
B36: 1
B37: 2
B38: 3
B39: 4
B40: 5
B41: OBSERVACIONES: | H41: SUBTOTAL | I41: =ROUND(SUM(H36:H40),) -> 0
B42: IV. MANO DE OBRA
B43: DESCRIPCIÓN | D43: JORNAL | E43: PRESTACIONES | F43: JORNAL TOTAL | G43: RENDIMIENTO | H43: VR. PARCIAL
B44: 2 | C44: Maestro | D44: 120000 | E44: 1.85 | F44: =+D44*E44 -> 222000 | G44: 20 | H44: =+F44/G44 -> 11100
B45: 3 | C45: Ayudante x 3 | D45: =75000*3 -> 225000 | E45: 1.85 | F45: =+D45*E45 -> 416250 | G45: 25 | H45: =+F45/G45 -> 16650
B46: 4
B47: 5
H48: SUBTOTAL | I48: =ROUND(SUM(H44:H46),) -> 27750
...

Sheet Estuco
B2: ANÁLISIS DE PRECIOS UNITARIO
B5: DEPARTAMENTO DE NORTE DE SANTANDER
B7: ='[1]CANTIDAD DE OBRA'!C6 -> PRESUPUESTO DE OBRA
B8: FECHA
B10: PROYECTO | D10: =PRESUPUESTO!B8 -> REPARACIÓN Y PINTURA DE LAS PAREDES, INSTALACIÓN DE CERRAMIENTO PERIMETRAL Y DE CUBIERTA EN LA ESTACIÓN DE POLICIA EN EL MUNICIPIO DE TEORAMA, NORTE DE SANTANDER
B11: DESCRIPCIÓN | D11: =PRESUPUESTO!C12 -> Desmonte de pañete | I11: UNIDAD
I12: M2
B14: I. EQUIPO
B15: DESCRIPCIÓN | E15: TIPO | F15: TARIFA / DIA | G15: RDTO | H15: VR. PARCIAL
B16: 1 | C16: Herramienta menor (%MO) | F16: =I48 -> 37000 | G16: 0.05 | H16: =+F16*G16 -> 1850
B17: 2 | C17: Alquiler Andamio Tubular Sección 1.50x1.50mt | F17: 5000 | G17: 10 | H17: =F17/G17 -> 500
B18: 3
B19: 4
B20: 5
B21: 6
B22: OBSERVACIONES: | H22: SUBTOTAL | I22: =ROUND(SUM(H16:H21),) -> 2350
B24: II. MATERIALES EN OBRA
B25: DESCRIPCIÓN | E25: UNIDAD | F25: VR. UNITARIO | G25: CANTIDAD | H25: VR. PARCIAL
B26: 1 | C26: Estuco plástico 30 kg | E26: M2 | F26: 117000 | G26: 12 | H26: =F26/G26 -> 9750
B27: 2
B28: 3
B29: 4
B30: 5
B31: 6 | C31: Desperdicio | G31: 0.07 | H31: =H26*G31 -> 682.5
B32: OBSERVACIONES: | H32: SUBTOTAL | I32: =ROUND(SUM(H26:H31),) -> 10433
B34: III. TRANSPORTE
B35: DESCRIPCIÓN | D35: VOL-PESO-CANT. | E35: DISTANCIA | F35: M3 ó M3/Km | G35: TARIFA | H35: VR. PARCIAL
B36: 1
B37: 2
B38: 3
B39: 4
B40: 5
B41: OBSERVACIONES: | H41: SUBTOTAL | I41: =ROUND(SUM(H36:H40),) -> 0
B42: IV. MANO DE OBRA
B43: DESCRIPCIÓN | D43: JORNAL | E43: PRESTACIONES | F43: JORNAL TOTAL | G43: RENDIMIENTO | H43: VR. PARCIAL
B44: 2 | C44: Maestro | D44: 100000 | E44: 1.85 | F44: =+D44*E44 -> 185000 | G44: 10 | H44: =+F44/G44 -> 18500
B45: 3 | C45: Ayudante x 2 | D45: =60000*2 -> 120000 | E45: 1.85 | F45: =+D45*E45 -> 222000 | G45: 12 | H45: =+F45/G45 -> 18500
B46: 4
B47: 5
H48: SUBTOTAL | I48: =ROUND(SUM(H44:H46),) -> 37000
...

Sheet Mortero
B2: ANÁLISIS DE PRECIOS UNITARIO
B5: DEPARTAMENTO DE NORTE DE SANTANDER
B7: ='[1]CANTIDAD DE OBRA'!C6 -> PRESUPUESTO DE OBRA
B8: FECHA
B10: PROYECTO | D10: =PRESUPUESTO!B8 -> REPARACIÓN Y PINTURA DE LAS PAREDES, INSTALACIÓN DE CERRAMIENTO PERIMETRAL Y DE CUBIERTA EN LA ESTACIÓN DE POLICIA EN EL MUNICIPIO DE TEORAMA, NORTE DE SANTANDER
B11: DESCRIPCIÓN | D11: =PRESUPUESTO!C13 -> Desmonte de polisombra | I11: UNIDAD
I12: M3
B14: I. EQUIPO
B15: DESCRIPCIÓN | E15: TIPO | F15: TARIFA / DIA | G15: RDTO | H15: VR. PARCIAL
B16: 1 | C16: Herramienta menor (%MO) | F16: =I48 -> 172667 | G16: 0.05 | H16: =+F16*G16 -> 8633.35
B17: 2 | C17: Mezcladora de 1 bulto | F17: 90000 | G17: 3 | H17: =F17/G17 -> 30000
B18: 3
B19: 4
B20: 5
B21: 6
B22: OBSERVACIONES: | H22: SUBTOTAL | I22: =ROUND(SUM(H16:H21),) -> 38633
B24: II. MATERIALES EN OBRA
B25: DESCRIPCIÓN | E25: UNIDAD | F25: VR. UNITARIO | G25: CANTIDAD | H25: VR. PARCIAL
B26: 1 | C26: Cemento de 50 Kg | E26: Bulto | F26: 39000 | G26: 8 | H26: =F26*G26 -> 312000
B27: 2 | C27: Arena para pega | E27: M3 | F27: 210000 | G27: 1.1 | H27: =F27*G27 -> 231000
B28: 3 | C28: Agua | E28: Litro | F28: 60 | G28: 250 | H28: =F28*G28 -> 15000
B29: 4
B30: 5
B31: 6 | C31: Desperdicio | G31: 0.07 | H31: =H26*G31 -> 21840
B32: OBSERVACIONES: | H32: SUBTOTAL | I32: =ROUND(SUM(H26:H31),) -> 579840
B34: III. TRANSPORTE
B35: DESCRIPCIÓN | D35: VOL-PESO-CANT. | E35: DISTANCIA | F35: M3 ó M3/Km | G35: TARIFA | H35: VR. PARCIAL
B36: 1
B37: 2
B38: 3
B39: 4
B40: 5
B41: OBSERVACIONES: | H41: SUBTOTAL | I41: =ROUND(SUM(H36:H40),) -> 0
B42: IV. MANO DE OBRA
B43: DESCRIPCIÓN | D43: JORNAL | E43: PRESTACIONES | F43: JORNAL TOTAL | G43: RENDIMIENTO | H43: VR. PARCIAL
B44: 2 | C44: Oficial | D44: 100000 | E44: 1.85 | F44: =+D44*E44 -> 185000 | G44: 3 | H44: =+F44/G44 -> 61666.667
B45: 3 | C45: Obreros | D45: =75000*4 -> 300000 | E45: 1.85 | F45: =+D45*E45 -> 555000 | G45: 5 | H45: =+F45/G45 -> 111000
B46: 4
B47: 5
H48: SUBTOTAL | I48: =ROUND(SUM(H44:H46),) -> 172667
...

Sheet Pintura 1er piso
B2: ANÁLISIS DE PRECIOS UNITARIO
B5: DEPARTAMENTO DE NORTE DE SANTANDER
B7: ='[1]CANTIDAD DE OBRA'!C6 -> PRESUPUESTO DE OBRA
B8: FECHA
B10: PROYECTO | D10: =PRESUPUESTO!B8 -> REPARACIÓN Y PINTURA DE LAS PAREDES, INSTALACIÓN DE CERRAMIENTO PERIMETRAL Y DE CUBIERTA EN LA ESTACIÓN DE POLICIA EN EL MUNICIPIO DE TEORAMA, NORTE DE SANTANDER
B11: DESCRIPCIÓN | D11: =PRESUPUESTO!C18 -> Pintura tipo 1 para muros primer piso 2 manos | I11: UNIDAD
I12: M2
B14: I. EQUIPO
B15: DESCRIPCIÓN | E15: TIPO | F15: TARIFA / DIA | G15: RDTO | H15: VR. PARCIAL
B16: 1 | C16: Herramienta menor (%MO) | F16: =I49 -> 4933 | G16: 0.05 | H16: =+F16*G16 -> 246.65
B17: 2
B18: 3
B19: 4
B20: 5
B21: 6
B22: OBSERVACIONES: | H22: SUBTOTAL | I22: =ROUND(SUM(H16:H21),) -> 247
B24: II. MATERIALES EN OBRA
B25: DESCRIPCIÓN | E25: UNIDAD | F25: VR. UNITARIO | G25: UTILIDAD M2 | H25: VR. PARCIAL
B26: 1 | C26: Pintura Tipo 1 blanca | E26: Cuñete | F26: 420000 | G26: ='Metros Cuadrados'!L19 -> 113.52 | H26: =F26/G26 -> 3699.7886
B27: 2 | C27: Brocha No. 4 | E27: Und | F27: 27000 | G27: 100 | H27: =F27/G27 -> 270
B28: 3 | C28: Brocha No. 2 | E28: Und | F28: 18000 | G28: 100 | H28: =F28/G28 -> 180
B29: 4 | C29: Rodillo Polimax 9'' Antigoteo | E29: Und | F29: 39000 | G29: 100 | H29: =F29/G29 -> 390
B30: 5
B31: 6
B32: 7 | C32: Desperdicio | G32: 0.07 | H32: =H26*G32 -> 258.9852
B33: OBSERVACIONES: | H33: SUBTOTAL | I33: =ROUND(SUM(H26:H32),) -> 4799
B35: III. TRANSPORTE
B36: DESCRIPCIÓN | D36: VOL-PESO-CANT. | E36: DISTANCIA | F36: M3 ó M3/Km | G36: TARIFA | H36: VR. PARCIAL
B37: 1 | C37: Tranporte de materiales | D37: Glb | E37: 42 | F37: 1 | G37: 200 | H37: =F37*G37 -> 200
B38: 2
B39: 3
B40: 4
B41: 5
B42: OBSERVACIONES: | H42: SUBTOTAL | I42: =ROUND(SUM(H37:H41),) -> 200
B43: IV. MANO DE OBRA
B44: DESCRIPCIÓN | D44: JORNAL | E44: PRESTACIONES | F44: JORNAL TOTAL | G44: RENDIMIENTO | H44: VR. PARCIAL
B45: 2 | C45: Pintor x 4 | D45: =100000*4 -> 400000 | E45: 1.85 | F45: =+D45*E45 -> 740000 | G45: 150 | H45: =+F45/G45 -> 4933.3333
B46: 3
B47: 4
B48: 5
...

Sheet Pintura 2do piso
B2: ANÁLISIS DE PRECIOS UNITARIO
B5: DEPARTAMENTO DE NORTE DE SANTANDER
B7: ='[1]CANTIDAD DE OBRA'!C6 -> PRESUPUESTO DE OBRA
B8: FECHA
B10: PROYECTO | D10: =PRESUPUESTO!B8 -> REPARACIÓN Y PINTURA DE LAS PAREDES, INSTALACIÓN DE CERRAMIENTO PERIMETRAL Y DE CUBIERTA EN LA ESTACIÓN DE POLICIA EN EL MUNICIPIO DE TEORAMA, NORTE DE SANTANDER
B11: DESCRIPCIÓN | D11: =PRESUPUESTO!C19 -> Pintura tipo 1 para muros segundo piso 2 manos | I11: UNIDAD
I12: M2
B14: I. EQUIPO
B15: DESCRIPCIÓN | E15: TIPO | F15: TARIFA / DIA | G15: RDTO | H15: VR. PARCIAL
B16: 1 | C16: Herramienta menor (%MO) | F16: =I49 -> 7400 | G16: 0.05 | H16: =+F16*G16 -> 370
B17: 2 | C17: Alquiler Andamio Tubular Sección 1.50x1.50mt | F17: 4000 | G17: 10 | H17: =F17/G17 -> 400
B18: 3
B19: 4
B20: 5
B21: 6
B22: OBSERVACIONES: | H22: SUBTOTAL | I22: =ROUND(SUM(H16:H21),) -> 770
B24: II. MATERIALES EN OBRA
B25: DESCRIPCIÓN | E25: UNIDAD | F25: VR. UNITARIO | G25: CANTIDAD | H25: VR. PARCIAL
B26: 1 | C26: Pintura Tipo 1 blanca | E26: Cuñete | F26: 420000 | G26: ='Metros Cuadrados'!L19 -> 113.52 | H26: =F26/G26 -> 3699.7886
B27: 2 | C27: Brocha No. 4 | E27: Und | F27: 27000 | G27: 100 | H27: =F27/G27 -> 270
B28: 3 | C28: Brocha No. 2 | E28: Und | F28: 18000 | G28: 100 | H28: =F28/G28 -> 180
B29: 4 | C29: Rodillo Polimax 9'' Antigoteo | E29: Und | F29: 39000 | G29: 100 | H29: =F29/G29 -> 390
B30: 5
B31: 6
B32: 7 | C32: Desperdicio | G32: 0.07 | H32: =H26*G32 -> 258.9852
B33: OBSERVACIONES: | H33: SUBTOTAL | I33: =ROUND(SUM(H26:H32),) -> 4799
B35: III. TRANSPORTE
B36: DESCRIPCIÓN | D36: VOL-PESO-CANT. | E36: DISTANCIA | F36: M3 ó M3/Km | G36: TARIFA | H36: VR. PARCIAL
B37: 1 | C37: Tranporte de materiales | D37: Glb | E37: 42 | F37: 1 | G37: 200 | H37: =F37*G37 -> 200
B38: 2
B39: 3
B40: 4
B41: 5
B42: OBSERVACIONES: | H42: SUBTOTAL | I42: =ROUND(SUM(H37:H41),) -> 200
B43: IV. MANO DE OBRA
B44: DESCRIPCIÓN | D44: JORNAL | E44: PRESTACIONES | F44: JORNAL TOTAL | G44: RENDIMIENTO | H44: VR. PARCIAL
B45: 2 | C45: Pintor x 4 | D45: =100000*4 -> 400000 | E45: 1.85 | F45: =+D45*E45 -> 740000 | G45: 100 | H45: =+F45/G45 -> 7400
B46: 3
B47: 4
B48: 5
...

Sheet Pintura 3er piso
B2: ANÁLISIS DE PRECIOS UNITARIO
B5: DEPARTAMENTO DE NORTE DE SANTANDER
B7: ='[1]CANTIDAD DE OBRA'!C6 -> PRESUPUESTO DE OBRA
B8: FECHA
B10: PROYECTO | D10: =PRESUPUESTO!B8 -> REPARACIÓN Y PINTURA DE LAS PAREDES, INSTALACIÓN DE CERRAMIENTO PERIMETRAL Y DE CUBIERTA EN LA ESTACIÓN DE POLICIA EN EL MUNICIPIO DE TEORAMA, NORTE DE SANTANDER
B11: DESCRIPCIÓN | D11: =PRESUPUESTO!C20 -> Pintura tipo 1 para muros tercer piso 2 manos | I11: UNIDAD
I12: M2
B14: I. EQUIPO
B15: DESCRIPCIÓN | E15: TIPO | F15: TARIFA / DIA | G15: RDTO | H15: VR. PARCIAL
B16: 1 | C16: Herramienta menor (%MO) | F16: =I49 -> 9250 | G16: 0.05 | H16: =+F16*G16 -> 462.5
B17: 2 | C17: Alquiler Andamio Tubular Sección 1.50x1.50mt | F17: 4000 | G17: 10 | H17: =F17/G17 -> 400
B18: 3
B19: 4
B20: 5
B21: 6
B22: OBSERVACIONES: | H22: SUBTOTAL | I22: =ROUND(SUM(H16:H21),) -> 863
B24: II. MATERIALES EN OBRA
B25: DESCRIPCIÓN | E25: UNIDAD | F25: VR. UNITARIO | G25: CANTIDAD | H25: VR. PARCIAL
B26: 1 | C26: Pintura Tipo 1 blanca | E26: Cuñete | F26: 420000 | G26: ='Metros Cuadrados'!L19 -> 113.52 | H26: =F26/G26 -> 3699.7886
B27: 2 | C27: Brocha No. 4 | E27: Und | F27: 27000 | G27: 100 | H27: =F27/G27 -> 270
B28: 3 | C28: Brocha No. 2 | E28: Und | F28: 18000 | G28: 100 | H28: =F28/G28 -> 180
B29: 4 | C29: Rodillo Polimax 9'' Antigoteo | E29: Und | F29: 39000 | G29: 100 | H29: =F29/G29 -> 390
B30: 5
B31: 6
B32: 7 | C32: Desperdicio | G32: 0.07 | H32: =H26*G32 -> 258.9852
B33: OBSERVACIONES: | H33: SUBTOTAL | I33: =ROUND(SUM(H26:H32),) -> 4799
B35: III. TRANSPORTE
B36: DESCRIPCIÓN | D36: VOL-PESO-CANT. | E36: DISTANCIA | F36: M3 ó M3/Km | G36: TARIFA | H36: VR. PARCIAL
B37: 1 | C37: Tranporte de materiales | D37: Glb | E37: 42 | F37: 1 | G37: 200 | H37: =F37*G37 -> 200
B38: 2
B39: 3
B40: 4
B41: 5
B42: OBSERVACIONES: | H42: SUBTOTAL | I42: =ROUND(SUM(H37:H41),) -> 200
B43: IV. MANO DE OBRA
B44: DESCRIPCIÓN | D44: JORNAL | E44: PRESTACIONES | F44: JORNAL TOTAL | G44: RENDIMIENTO | H44: VR. PARCIAL
B45: 2 | C45: Pintor x 4 | D45: =100000*4 -> 400000 | E45: 1.85 | F45: =+D45*E45 -> 740000 | G45: 80 | H45: =+F45/G45 -> 9250
B46: 3
B47: 4
B48: 5
...

Sheet Costales
B2: ANÁLISIS DE PRECIOS UNITARIO
B5: DEPARTAMENTO DE NORTE DE SANTANDER
B7: ='[1]CANTIDAD DE OBRA'!C6 -> PRESUPUESTO DE OBRA
B8: FECHA
B10: PROYECTO | D10: =PRESUPUESTO!B8 -> REPARACIÓN Y PINTURA DE LAS PAREDES, INSTALACIÓN DE CERRAMIENTO PERIMETRAL Y DE CUBIERTA EN LA ESTACIÓN DE POLICIA EN EL MUNICIPIO DE TEORAMA, NORTE DE SANTANDER
B11: DESCRIPCIÓN | D11: =PRESUPUESTO!C23 -> Instalación de costales con material arcilloso | I11: UNIDAD
I12: M3
B14: I. EQUIPO
B15: DESCRIPCIÓN | E15: TIPO | F15: TARIFA / DIA | G15: RDTO | H15: VR. PARCIAL
B16: 1 | C16: Herramienta menor (%MO) | F16: =I52 -> 229929 | G16: 0.05 | H16: =+F16*G16 -> 11496.45
B17: 2
B18: 3
B19: 4
B20: 5
B21: 6
B22: OBSERVACIONES: | H22: SUBTOTAL | I22: =ROUND(SUM(H16:H21),) -> 11496
B24: II. MATERIALES EN OBRA
B25: DESCRIPCIÓN | E25: UNIDAD | F25: VR. UNITARIO | G25: CANTIDAD | H25: VR. PARCIAL
B26: 1 | C26: Costales | E26: Und | F26: 12000 | G26: 1 | H26: =F26*G26 -> 12000
B27: 2 | C27: Arcilla | E27: m3 | F27: 150000 | G27: 1.05 | H27: =F27*G27 -> 157500
B28: 3 | C28: Malla gallinero alambre galv 1 1/4 plg | E28: ML | F28: 4120 | G28: 3 | H28: =F28*G28 -> 12360
B29: 4 | C29: Mortero | E29: m3 | F29: =Mortero!I50 -> 791140 | G29: 0.6 | H29: =F29*G29 -> 474684
B30: 5
B31: 6
B32: 7
B33: 8
B34: 9
B35: 10 | C35: Desperdicio | G35: 0.07 | H35: =SUM(H26:H34)*0.07 -> 45958.08
B36: OBSERVACIONES: | H36: SUBTOTAL | I36: =ROUND(SUM(H26:H35),) -> 702502
B38: III. TRANSPORTE
B39: DESCRIPCIÓN | D39: VOL-PESO-CANT. | E39: DISTANCIA | F39: M3 ó M3/Km | G39: TARIFA | H39: VR. PARCIAL
B40: 1
B41: 2
B42: 3
B43: 4
B44: 5
B45: OBSERVACIONES: | H45: SUBTOTAL | I45: =ROUND(SUM(H40:H44),) -> 0
B46: IV. MANO DE OBRA
B47: DESCRIPCIÓN | D47: JORNAL | E47: PRESTACIONES | F47: JORNAL TOTAL | G47: RENDIMIENTO | H47: VR. PARCIAL
B48: 2 | C48: Maestro | D48: 120000 | E48: 1.85 | F48: =+D48*E48 -> 222000 | G48: 2 | H48: =+F48/G48 -> 111000
...

Sheet Instalación malla
B2: ANÁLISIS DE PRECIOS UNITARIO
B5: DEPARTAMENTO DE NORTE DE SANTANDER
B7: ='[1]CANTIDAD DE OBRA'!C6 -> PRESUPUESTO DE OBRA
B8: FECHA
B10: PROYECTO | D10: =PRESUPUESTO!B8 -> REPARACIÓN Y PINTURA DE LAS PAREDES, INSTALACIÓN DE CERRAMIENTO PERIMETRAL Y DE CUBIERTA EN LA ESTACIÓN DE POLICIA EN EL MUNICIPIO DE TEORAMA, NORTE DE SANTANDER
B11: DESCRIPCIÓN | D11: =PRESUPUESTO!C24 -> Instalación de malla eslabonada | I11: UNIDAD
I12: M2
B14: I. EQUIPO
B15: DESCRIPCIÓN | E15: TIPO | F15: TARIFA / DIA | G15: RDTO | H15: VR. PARCIAL
B16: 1 | C16: Herramienta menor (%MO) | F16: =I52 -> 90958 | G16: 0.05 | H16: =+F16*G16 -> 4547.9
B17: 2 | C17: Alquiler Andamio Tubular Sección 1.50x1.50mt | F17: 4000 | G17: 10 | H17: =F17/G17 -> 400
B18: 3
B19: 4
B20: 5
B21: 6
B22: OBSERVACIONES: | H22: SUBTOTAL | I22: =ROUND(SUM(H16:H21),) -> 4948
B24: II. MATERIALES EN OBRA
B25: DESCRIPCIÓN | E25: UNIDAD | F25: VR. UNITARIO | G25: CANTIDAD | H25: VR. PARCIAL
B26: 1 | C26: Malla eslabonada | E26: M2 | F26: 150000 | G26: 0.5 | H26: =F26*G26 -> 75000
B27: 2 | C27: Tubo galvanizado 2'' TP | E27: Und | F27: 160000 | G27: 0.17 | H27: =F27*G27 -> 27200
B28: 3 | C28: Angulos 3/16 | E28: Und | F28: 160000 | G28: 0.03 | H28: =F28*G28 -> 4800
B29: 4 | C29: Varilla Lisa 1/4'' | E29: Und | F29: 21000 | G29: 0.12 | H29: =F29*G29 -> 2520
B30: 5 | C30: Soldadura | E30: Kg | F30: 28000 | G30: 0.05 | H30: =F30*G30 -> 1400
B31: 6 | C31: Anticorrosivo | E31: Galón | F31: 90000 | G31: 0.01 | H31: =F31*G31 -> 900
B32: 7 | C32: Chazos metálicos 3/8'' | E32: Und | F32: 2500 | G32: 0.14 | H32: =F32*G32 -> 350
B33: 8 | C33: brochas | E33: Und | F33: 27000 | G33: 0.01 | H33: =F33*G33 -> 270
B34: 9 | C34: Thinner | E34: Galón | F34: 52000 | G34: 0.01 | H34: =F34*G34 -> 520
B35: 10 | C35: Desperdicio | G35: 0.07 | H35: =SUM(H26:H34)*0.07 -> 7907.2
B36: OBSERVACIONES: | H36: SUBTOTAL | I36: =ROUND(SUM(H26:H35),) -> 120867
B38: III. TRANSPORTE
B39: DESCRIPCIÓN | D39: VOL-PESO-CANT. | E39: DISTANCIA | F39: M3 ó M3/Km | G39: TARIFA | H39: VR. PARCIAL
B40: 1
B41: 2
B42: 3
B43: 4
B44: 5
B45: OBSERVACIONES: | H45: SUBTOTAL | I45: =ROUND(SUM(H40:H44),) -> 0
B46: IV. MANO DE OBRA
B47: DESCRIPCIÓN | D47: JORNAL | E47: PRESTACIONES | F47: JORNAL TOTAL | G47: RENDIMIENTO | H47: VR. PARCIAL
B48: 2 | C48: Maestro | D48: 120000 | E48: 1.85 | F48: =+D48*E48 -> 222000 | G48: 4.5 | H48: =+F48/G48 -> 49333.333
...

Sheet Puerta
B2: ANÁLISIS DE PRECIOS UNITARIO
B5: DEPARTAMENTO DE NORTE DE SANTANDER
B7: ='[1]CANTIDAD DE OBRA'!C6 -> PRESUPUESTO DE OBRA
B8: FECHA
B10: PROYECTO | D10: =PRESUPUESTO!B8 -> REPARACIÓN Y PINTURA DE LAS PAREDES, INSTALACIÓN DE CERRAMIENTO PERIMETRAL Y DE CUBIERTA EN LA ESTACIÓN DE POLICIA EN EL MUNICIPIO DE TEORAMA, NORTE DE SANTANDER
B11: DESCRIPCIÓN | D11: =PRESUPUESTO!C25 -> Instalación puerta principal | I11: UNIDAD
I12: Und
B14: I. EQUIPO
B15: DESCRIPCIÓN | E15: TIPO | F15: TARIFA / DIA | G15: RDTO | H15: VR. PARCIAL
B16: 1 | C16: Herramienta menor (%MO) | F16: =I47 -> 477300 | G16: 0.05 | H16: =+F16*G16 -> 23865
B17: 2
B18: 3
B19: 4
B20: 5
B21: 6
B22: OBSERVACIONES: | H22: SUBTOTAL | I22: =ROUND(SUM(H16:H21),) -> 23865
B24: II. MATERIALES EN OBRA
B25: DESCRIPCIÓN | E25: UNIDAD | F25: VR. UNITARIO | G25: CANTIDAD | H25: VR. PARCIAL
B26: 1 | C26: Puerta Malla eslabonada | E26: Und | F26: 1500000 | G26: 1 | H26: =F26*G26 -> 1500000
B27: 2
B28: 3
B29: 4
B30: 5 | C30: Desperdicio | G30: 0.07 | H30: =H26*G30 -> 105000
B31: OBSERVACIONES: | H31: SUBTOTAL | I31: =ROUND(SUM(H26:H30),) -> 1605000
B33: III. TRANSPORTE
B34: DESCRIPCIÓN | D34: VOL-PESO-CANT. | E34: DISTANCIA | F34: M3 ó M3/Km | G34: TARIFA | H34: VR. PARCIAL
B35: 1
B36: 2
B37: 3
B38: 4
B39: 5
B40: OBSERVACIONES: | H40: SUBTOTAL | I40: =ROUND(SUM(H35:H39),) -> 0
B41: IV. MANO DE OBRA
B42: DESCRIPCIÓN | D42: JORNAL | E42: PRESTACIONES | F42: JORNAL TOTAL | G42: RENDIMIENTO | H42: VR. PARCIAL
B43: 2 | C43: Maestro | D43: 120000 | E43: 1.85 | F43: =+D43*E43 -> 222000 | G43: 0.9 | H43: =+F43*G43 -> 199800
B44: 3 | C44: Obrero x 2 | D44: =75000*2 -> 150000 | E44: 1.85 | F44: =+D44*E44 -> 277500 | G44: 1 | H44: =+F44*G44 -> 277500
B45: 4
B46: 5
H47: SUBTOTAL | I47: =ROUND(SUM(H43:H45),) -> 477300
F49: TOTAL COSTO DIRECTO | I49: =ROUND(SUM(I22:I47),0) -> 2106165
...

Sheet Tubo rectangular
B2: ANÁLISIS DE PRECIOS UNITARIO
B5: DEPARTAMENTO DE NORTE DE SANTANDER
B7: ='[1]CANTIDAD DE OBRA'!C6 -> PRESUPUESTO DE OBRA
B8: FECHA
B10: PROYECTO | D10: =PRESUPUESTO!B8 -> REPARACIÓN Y PINTURA DE LAS PAREDES, INSTALACIÓN DE CERRAMIENTO PERIMETRAL Y DE CUBIERTA EN LA ESTACIÓN DE POLICIA EN EL MUNICIPIO DE TEORAMA, NORTE DE SANTANDER
B11: DESCRIPCIÓN | D11: =PRESUPUESTO!C28 -> Tubo rectangular Cal. 18 3''x1-1/2'' | I11: UNIDAD
I12: ML
B14: I. EQUIPO
B15: DESCRIPCIÓN | E15: TIPO | F15: TARIFA / DIA | G15: RDTO | H15: VR. PARCIAL
B16: 1 | C16: Herramienta menor (%MO) | F16: =I49 -> 50875 | G16: 0.05 | H16: =+F16*G16 -> 2543.75
B17: 2
B18: 3
B19: 4
B20: 5
B21: 6
B22: OBSERVACIONES: | H22: SUBTOTAL | I22: =ROUND(SUM(H16:H21),) -> 2544
B24: II. MATERIALES EN OBRA
B25: DESCRIPCIÓN | E25: UNIDAD | F25: VR. UNITARIO | G25: CANTIDAD | H25: VR. PARCIAL
B26: 1 | C26: Tubo rectangular Cal. 18 3''x1-1/2' | E26: ML | F26: =147500/6 -> 24583.333 | G26: 1.1 | H26: =F26*G26 -> 27041.667 | K26: =H26*PRESUPUESTO!E28 -> 10005417
B27: 2 | C27: Soldadura | E27: KG | F27: 25000 | G27: 0.05 | H27: =F27*G27 -> 1250 | K27: =H27*PRESUPUESTO!E28 -> 462500
B28: 3 | C28: Anticorrosivo | E28: Galón | F28: 70000 | G28: 0.005 | H28: =F28*G28 -> 350 | K28: =H28*PRESUPUESTO!E28 -> 129500
B29: 4 | C29: Thinner | E29: Galón | F29: 37000 | G29: 0.008 | H29: =F29*G29 -> 296 | K29: =H29*PRESUPUESTO!E28 -> 109520
B30: 5
B31: 6 | C31: Desperdicio | G31: 0.07 | H31: =H26*G31 -> 1892.9167
B32: OBSERVACIONES: | H32: SUBTOTAL | I32: =ROUND(SUM(H26:H31),) -> 30831
B34: III. TRANSPORTE
B35: DESCRIPCIÓN | D35: VOL-PESO-CANT. | E35: DISTANCIA | F35: M3 ó M3/Km | G35: TARIFA | H35: VR. PARCIAL
B36: 1
B37: 2
B38: 3
B39: 4
B40: 5
B41: OBSERVACIONES: | H41: SUBTOTAL | I41: =ROUND(SUM(H36:H40),) -> 0
B42: IV. MANO DE OBRA
B43: DESCRIPCIÓN | D43: JORNAL | E43: PRESTACIONES | F43: JORNAL TOTAL | G43: RENDIMIENTO | H43: VR. PARCIAL
B44: 1 | C44: Maestro | D44: 120000 | E44: 1.85 | F44: =+D44*E44 -> 222000 | G44: 20 | H44: =+F44/G44 -> 11100
B45: 2 | C45: Soldador | D45: 140000 | E45: 1.85 | F45: =+D45*E45 -> 259000 | G45: 10 | H45: =+F45/G45 -> 25900
B46: 3 | C46: Obrero x 3 | D46: =75000*3 -> 225000 | E46: 1.85 | F46: =+D46*E46 -> 416250 | G46: 30 | H46: =+F46/G46 -> 13875
B47: 4
B48: 5
...

Sheet Tubos Galvanizados 2plg
B2: ANÁLISIS DE PRECIOS UNITARIO
B5: DEPARTAMENTO DE NORTE DE SANTANDER
B7: ='[1]CANTIDAD DE OBRA'!C6 -> PRESUPUESTO DE OBRA
B8: FECHA
B10: PROYECTO | D10: =PRESUPUESTO!B8 -> REPARACIÓN Y PINTURA DE LAS PAREDES, INSTALACIÓN DE CERRAMIENTO PERIMETRAL Y DE CUBIERTA EN LA ESTACIÓN DE POLICIA EN EL MUNICIPIO DE TEORAMA, NORTE DE SANTANDER
B11: DESCRIPCIÓN | D11: =PRESUPUESTO!C29 -> Tubos redondos galvanizados de 2'' x 6 m | I11: UNIDAD
I12: ML
B14: I. EQUIPO
B15: DESCRIPCIÓN | E15: TIPO | F15: TARIFA / DIA | G15: RDTO | H15: VR. PARCIAL
B16: 1 | C16: Herramienta menor (%MO) | F16: =I46 -> 63825 | G16: 0.05 | H16: =+F16*G16 -> 3191.25
B17: 2
B18: 3
B19: 4
B20: 5
B21: 6
B22: OBSERVACIONES: | H22: SUBTOTAL | I22: =ROUND(SUM(H16:H21),) -> 3191
B24: II. MATERIALES EN OBRA
B25: DESCRIPCIÓN | E25: UNIDAD | F25: VR. UNITARIO | G25: CANTIDAD | H25: VR. PARCIAL
B26: 2 | C26: Tubos redondos galvanizados de 2'' | E26: ML | F26: =130000/6 -> 21666.667 | G26: 1.1 | H26: =F26*G26 -> 23833.333
B27: 6
B28: 7 | C28: Desperdicio | G28: 0.07 | H28: =H26*G28 -> 1668.3333
B29: OBSERVACIONES: | H29: SUBTOTAL | I29: =ROUND(SUM(H26:H28),) -> 25502
B31: III. TRANSPORTE
B32: DESCRIPCIÓN | D32: VOL-PESO-CANT. | E32: DISTANCIA | F32: M3 ó M3/Km | G32: TARIFA | H32: VR. PARCIAL
B33: 1
B34: 2
B35: 3
B36: 4
B37: 5
B38: OBSERVACIONES: | H38: SUBTOTAL | I38: =ROUND(SUM(H33:H37),) -> 0
B39: IV. MANO DE OBRA
B40: DESCRIPCIÓN | D40: JORNAL | E40: PRESTACIONES | F40: JORNAL TOTAL | G40: RENDIMIENTO | H40: VR. PARCIAL
B41: 2 | C41: Maestro | D41: 120000 | E41: 1.85 | F41: =+D41*E41 -> 222000 | G41: 15 | H41: =+F41/G41 -> 14800
B42: 2 | C42: Soldador | D42: 140000 | E42: 1.85 | F42: =+D42*E42 -> 259000 | G42: 8 | H42: =+F42/G42 -> 32375
B43: 3 | C43: Obrero x3 | D43: =75000*3 -> 225000 | E43: 1.85 | F43: =+D43*E43 -> 416250 | G43: 25 | H43: =+F43/G43 -> 16650
B44: 4
B45: 5
H46: SUBTOTAL | I46: =ROUND(SUM(H41:H44),) -> 63825 | K46: =I46*PRESUPUESTO!E29 -> 10850250
F48: TOTAL COSTO DIRECTO | I48: =ROUND(SUM(I22:I46),0) -> 92518
B51: DESCRIPCIÓN | H51: PORCENTAJE | I51: VALOR TOTAL
...

Sheet Master 1000
B2: ANÁLISIS DE PRECIOS UNITARIO
B5: DEPARTAMENTO DE NORTE DE SANTANDER
B7: ='[1]CANTIDAD DE OBRA'!C6 -> PRESUPUESTO DE OBRA
B8: FECHA
B10: PROYECTO | D10: =PRESUPUESTO!B8 -> REPARACIÓN Y PINTURA DE LAS PAREDES, INSTALACIÓN DE CERRAMIENTO PERIMETRAL Y DE CUBIERTA EN LA ESTACIÓN DE POLICIA EN EL MUNICIPIO DE TEORAMA, NORTE DE SANTANDER
B11: DESCRIPCIÓN | D11: =PRESUPUESTO!C30 -> Cubierta Lámina master 1000 x 6 m | I11: UNIDAD
I12: m2
B14: I. EQUIPO
B15: DESCRIPCIÓN | E15: TIPO | F15: TARIFA / DIA | G15: RDTO | H15: VR. PARCIAL
B16: 1 | C16: Herramienta menor (%MO) | F16: =I47 -> 59464 | G16: 0.05 | H16: =+F16*G16 -> 2973.2
B17: 2
B18: 3
B19: 4
B20: 5
B21: 6
B22: OBSERVACIONES: | H22: SUBTOTAL | I22: =ROUND(SUM(H16:H21),) -> 2973
B24: II. MATERIALES EN OBRA
B25: DESCRIPCIÓN | E25: UNIDAD | F25: VR. UNITARIO | G25: CANTIDAD | H25: VR. PARCIAL
B26: 1 | C26: Lámina master 1000 x 6 m | E26: M2 | F26: =305000/6 -> 50833.333 | G26: 1.1 | H26: =F26*G26 -> 55916.667
B27: 2 | C27: Caballetes x 12 m | E27: ML | F27: =310000/12 -> 25833.333 | G27: 0.3 | H27: =F27*G27 -> 7750
B28: 3 | C28: Tornillo autoperforantes 2-12'' | E28: Und | F28: 1500 | G28: 5 | H28: =F28*G28 -> 7500
B29: 4
B30: 5 | C30: Desperdicio | G30: 0.07 | H30: =H26*G30 -> 3914.1667
B31: OBSERVACIONES: | H31: SUBTOTAL | I31: =ROUND(SUM(H26:H30),) -> 75081
B33: III. TRANSPORTE
B34: DESCRIPCIÓN | D34: VOL-PESO-CANT. | E34: DISTANCIA | F34: M3 ó M3/Km | G34: TARIFA | H34: VR. PARCIAL
B35: 1
B36: 2
B37: 3
B38: 4
B39: 5
B40: OBSERVACIONES: | H40: SUBTOTAL | I40: =ROUND(SUM(H35:H39),) -> 0
B41: IV. MANO DE OBRA
B42: DESCRIPCIÓN | D42: JORNAL | E42: PRESTACIONES | F42: JORNAL TOTAL | G42: RENDIMIENTO | H42: VR. PARCIAL
B43: 2 | C43: Maestro | D43: 120000 | E43: 1.85 | F43: =+D43*E43 -> 222000 | G43: 7 | H43: =+F43/G43 -> 31714.286
B44: 3 | C44: Obrero x 3 | D44: =75000*3 -> 225000 | E44: 1.85 | F44: =+D44*E44 -> 416250 | G44: 15 | H44: =+F44/G44 -> 27750
B45: 4
B46: 5 | K46: =I47*PRESUPUESTO!E30 -> 18552768
H47: SUBTOTAL | I47: =ROUND(SUM(H43:H45),) -> 59464
F49: TOTAL COSTO DIRECTO | I49: =ROUND(SUM(I22:I47),0) -> 137518
...

Sheet Retiro
B2: ANÁLISIS DE PRECIOS UNITARIO
B5: DEPARTAMENTO DE NORTE DE SANTANDER
B7: ='[1]CANTIDAD DE OBRA'!C6 -> PRESUPUESTO DE OBRA
B8: FECHA
B10: PROYECTO | D10: =PRESUPUESTO!B8 -> REPARACIÓN Y PINTURA DE LAS PAREDES, INSTALACIÓN DE CERRAMIENTO PERIMETRAL Y DE CUBIERTA EN LA ESTACIÓN DE POLICIA EN EL MUNICIPIO DE TEORAMA, NORTE DE SANTANDER
B11: DESCRIPCIÓN | D11: =PRESUPUESTO!C33 -> Retiro de escombros | I11: UNIDAD
I12: M3
B14: I. EQUIPO
B15: DESCRIPCIÓN | E15: TIPO | F15: TARIFA / DIA | G15: RDTO | H15: VR. PARCIAL
B16: 1 | C16: Herramienta menor (%MO) | F16: =I48 -> 12025 | G16: 0.05 | H16: =+F16*G16 -> 601.25
B17: 2
B18: 3
B19: 4
B20: 5
B21: 6
B22: OBSERVACIONES: | H22: SUBTOTAL | I22: =ROUND(SUM(H16:H21),) -> 601
B24: II. MATERIALES EN OBRA
B25: DESCRIPCIÓN | E25: UNIDAD | F25: VR. UNITARIO | G25: CANTIDAD | H25: VR. PARCIAL
B26: 1
B27: 2
B28: 3
B29: 4
B30: 5
B31: 6 | C31: Desperdicio | G31: 0.07 | H31: =H26*G31 -> 0
B32: OBSERVACIONES: | H32: SUBTOTAL | I32: =ROUND(SUM(H26:H31),) -> 0
B34: III. TRANSPORTE
B35: DESCRIPCIÓN | D35: VOL-PESO-CANT. | E35: DISTANCIA | F35: M3 ó M3/Km | G35: TARIFA | H35: VR. PARCIAL
B36: 1 | C36: Transporte de materiales | D36: Glb | E36: 7 | F36: 7 | G36: 1300 | H36: =F36*G36 -> 9100
B37: 2
B38: 3
B39: 4
B40: 5
B41: OBSERVACIONES: | H41: SUBTOTAL | I41: =ROUND(SUM(H36:H40),) -> 9100
B42: IV. MANO DE OBRA
B43: DESCRIPCIÓN | D43: JORNAL | E43: PRESTACIONES | F43: JORNAL TOTAL | G43: RENDIMIENTO | H43: VR. PARCIAL
B44: 2 | C44: Maestro | D44: 120000 | E44: 1.85 | F44: =+D44*E44 -> 222000 | G44: 30 | H44: =+F44/G44 -> 7400
B45: 3 | C45: Obrero x 2 | D45: =75000*2 -> 150000 | E45: 1.85 | F45: =+D45*E45 -> 277500 | G45: 60 | H45: =+F45/G45 -> 4625
B46: 4
B47: 5
H48: SUBTOTAL | I48: =ROUND(SUM(H44:H46),) -> 12025
...

Sheet Aseo y Limpieza
B2: ANÁLISIS DE PRECIOS UNITARIO
B5: DEPARTAMENTO DE NORTE DE SANTANDER
B7: ='[1]CANTIDAD DE OBRA'!C6 -> PRESUPUESTO DE OBRA
B8: FECHA
B10: PROYECTO | D10: =PRESUPUESTO!B8 -> REPARACIÓN Y PINTURA DE LAS PAREDES, INSTALACIÓN DE CERRAMIENTO PERIMETRAL Y DE CUBIERTA EN LA ESTACIÓN DE POLICIA EN EL MUNICIPIO DE TEORAMA, NORTE DE SANTANDER
B11: DESCRIPCIÓN | D11: =PRESUPUESTO!C34 -> Aseo y limpieza general | I11: UNIDAD
I12: M2
B14: I. EQUIPO
B15: DESCRIPCIÓN | E15: TIPO | F15: TARIFA / DIA | G15: RDTO | H15: VR. PARCIAL
B16: 1 | C16: Herramienta menor (%MO) | F16: =I48 -> 1434 | G16: 0.05 | H16: =+F16*G16 -> 71.7
B17: 2
B18: 3
B19: 4
B20: 5
B21: 6
B22: OBSERVACIONES: | H22: SUBTOTAL | I22: =ROUND(SUM(H16:H21),) -> 72
B24: II. MATERIALES EN OBRA
B25: DESCRIPCIÓN | E25: UNIDAD | F25: VR. UNITARIO | G25: CANTIDAD | H25: VR. PARCIAL
B26: 1
B27: 2
B28: 3
B29: 4
B30: 5
B31: 6 | C31: Desperdicio | G31: 0.07 | H31: =H26*G31 -> 0
B32: OBSERVACIONES: | H32: SUBTOTAL | I32: =ROUND(SUM(H26:H31),) -> 0
B34: III. TRANSPORTE
B35: DESCRIPCIÓN | D35: VOL-PESO-CANT. | E35: DISTANCIA | F35: M3 ó M3/Km | G35: TARIFA | H35: VR. PARCIAL
B36: 1
B37: 2
B38: 3
B39: 4
B40: 5
B41: OBSERVACIONES: | H41: SUBTOTAL | I41: =ROUND(SUM(H36:H40),) -> 0
B42: IV. MANO DE OBRA
B43: DESCRIPCIÓN | D43: JORNAL | E43: PRESTACIONES | F43: JORNAL TOTAL | G43: RENDIMIENTO | H43: VR. PARCIAL
B44: 2 | C44: Maestro | D44: 120000 | E44: 1.85 | F44: =+D44*E44 -> 222000 | G44: 300 | H44: =+F44/G44 -> 740
B45: 3 | C45: Obrero x 2 | D45: =75000*2 -> 150000 | E45: 1.85 | F45: =+D45*E45 -> 277500 | G45: 400 | H45: =+F45/G45 -> 693.75
B46: 4
B47: 5
H48: SUBTOTAL | I48: =ROUND(SUM(H44:H46),) -> 1434
...

Sheet Metros Cuadrados
B2: PINTURA PINTULAND TIPO 1 BLANCA
B3: DESCRIPCIÓN | C3: LARGO | D3: ANCHO | F3: M2 | G3: DOBLE MANO M2
B4: Frente | C4: 13 | D4: 34 | F4: =C4*D4 -> 442 | G4: =F4*3 -> 1326
B5: Entrada | C5: 2.8 | D5: 24 | F5: =((D5+E5))*C5 -> 67.2 | G5: =F5*3 -> 201.6
B6: Oficina de Informatica | C6: 2.8 | D6: 18 | F6: =((D6+E6))*C6 -> 50.4 | G6: =F6*3 -> 151.2
B7: Placa 1er piso | C7: 16 | D7: 6 | F7: =+C7*D7 -> 96 | G7: =F7*3 -> 288
B8: Baños (2) | C8: 1.8 | D8: 24 | F8: =C8*D8 -> 43.2 | G8: =F8*3 -> 129.6
B9: Patio | C9: 7 | D9: 29 | F9: =C9*D9 -> 203 | G9: =F9*3 -> 609
B10: Cocina | C10: 2.8 | D10: 16 | F10: =+C10*D10 -> 44.8 | G10: =F10*3 -> 134.4
B11: Gimnasio | C11: 2.8 | D11: 28 | F11: =((D11+E11)*C11) -> 78.4 | G11: =F11*3 -> 235.2
B12: Escaleras Pasillo | C12: 12 | D12: 7 | F12: =C12*D12 -> 84 | G12: =F12*3 -> 252
B14: Pasillos | C14: 2.8 | D14: 42 | F14: =C14*D14 -> 117.6 | G14: =F14*2 -> 235.2
B15: Escaleras Pasillo | C15: 12 | D15: 7 | F15: =C15*D15 -> 84 | G15: =F15*2 -> 168 | K15: PINTULAND BLANCA TIPO 1
B16: Habitaciones (3) | C16: 2.8 | D16: =20*3 -> 60 | F16: =C16*D16 -> 168 | G16: =F16*2 -> 336 | K16: # CUÑETES | L16: =ROUND(G21/L19*1.05,0) -> 43
B18: Pasillos | C18: 2.8 | D18: =12+12+5 -> 29 | F18: =C18*D18 -> 81.2 | G18: =F18*2 -> 162.4 | K18: 1 | L18: 6
B19: Habitaciones (3) | C19: 2.8 | D19: 60 | F19: =C19*D19 -> 168 | G19: =F19*2 -> 336 | J19: CUÑETE | K19: 18.92 | L19: =(K19*L18)/K18 -> 113.52 | O19: =L19/4 -> 28.38
B20: Cubierta | C20: 1.1 | D20: 38 | F20: =C20*D20 -> 41.8 | G20: =F20*2 -> 83.6
B21: SUMATORIA M2 | F21: =SUM(F4:F20) -> 1769.6 | G21: =SUM(G4:G20) -> 4648.2 | K21: GRIS BASALTO CORONA
K22: #GALONES | L22: =ROUND(G27/O19*1.05,0) -> 9
B25: PINTURA GRIS
B26: DESCRIPCIÓN | C26: #Franjas | D26: LARGO | E26: ANCHO | F26: M2 | G26: DOBLE MANO M2
B27: Franjas Afuera Grises | C27: 4 | D27: 20 | E27: 1 | F27: =(D27*E27)*C27 -> 80 | G27: =F27*3 -> 240
