Workbook

Sheet Control RDP
A1: 2021
A2: SEC | B2: TIPO | C2: VALOR | D2: ACTA 1 | E2: SALDO | F2: ACTA 2 | G2: SALDO | H2: ACTA 3 | I2: SALDO | J2: ACTA 4 | K2: SALDO | L2: ACTA 5 | M2: SALDO | N2: ACTA 10 | O2: SALDO | P2: ACTA 11 | Q2: SALDO | R2: ACTA 12 | S2: SALDO
A3: 1 | B3: PROPIOS | C3: 778582720 | D3: 0 | E3: =C3-D3 -> 778582720 | F3: 0 | G3: =E3-F3 -> 778582720 | H3: =G3 -> 778582720 | I3: =G3-H3 -> 0 | J3: 0 | K3: =I3-J3 -> 0 | L3: 0 | M3: 0 | N3: - | O3: 0 | P3: - | Q3: 0 | R3: - | S3: 0
A4: 2 | B4: CRÉDITO | C4: 7000000000 | D4: 3118025897 | E4: =C4-D4 -> 3881974103 | F4: 0 | G4: =E4-F4 -> 3881974103 | H4: 0 | I4: =G4-H4 -> 3881974103 | J4: 3881974103 | K4: =I4-J4 -> 0 | L4: 0 | M4: 0 | N4: - | O4: 0 | P4: - | Q4: 0 | R4: - | S4: 0
A5: 3 | B5: CRÉDITO | C5: 7000000000 | D5: 0 | E5: =C5-D5 -> 7000000000 | F5: 6127596801 | G5: =E5-F5 -> 872403199 | H5: 0 | I5: =G5-H5 -> 872403199 | J5: 872403199 | K5: =I5-J5 -> 0 | L5: 0 | M5: 0 | N5: - | O5: 0 | P5: - | Q5: 0 | R5: - | S5: 0
A6: 4 | B6: AMVA | C6: 6000000000 | D6: 0 | E6: =C6-D6 -> 6000000000 | F6: 0 | G6: =E6-F6 -> 6000000000 | H6: 0 | I6: =G6-H6 -> 6000000000 | J6: 0 | K6: =I6-J6 -> 6000000000 | L6: =+K6 -> 6000000000 | M6: 0 | N6: - | O6: 0 | P6: - | Q6: 0 | R6: - | S6: 0
A7: 5 | B7: AMVA | C7: 6000000000 | D7: 0 | E7: =C7-D7 -> 6000000000 | F7: 0 | G7: =E7-F7 -> 6000000000 | H7: 0 | I7: =G7-H7 -> 6000000000 | J7: 0 | K7: =I7-J7 -> 6000000000 | L7: =+C32-L6 -> 2079706914 | M7: =+#REF!-#REF! -> #REF! | N7: 180814763 | O7: =+M7-N7 -> #REF! | P7: 412057437 | Q7: =+O7-P7 -> #REF! | R7: 601406882 | S7: =+Q7-R7 -> #REF!
C8: =SUM(C3:C7) -> 26778582720 | D8: =SUM(D3:D7) -> 3118025897 | E8: =SUM(E3:E7) -> 23660556823 | F8: =SUM(F3:F7) -> 6127596801 | G8: =SUM(G3:G7) -> 17532960022 | H8: =SUM(H3:H7) -> 778582720 | I8: =SUM(I3:I7) -> 16754377302 | J8: =SUM(J3:J7) -> 4754377302 | ... S8: =SUM(S3:S7) -> #REF!
A10: 2022
A11: SEC | B11: TIPO | C11: VALOR | D11: ACTA 13 | E11: SALDO | F11: ACTA 14 | G11: SALDO | H11: ACTA 15 | I11: SALDO | J11: ACTA 16 | K11: SALDO | L11: ACTA 17
A12: 1 | B12: AMVA (junio 2022) | C12: 8000000000 | D12: 150010461 | E12: =C12-D12 -> 7849989539 | F12: 632329167 | G12: =E12-F12 -> 7217660372 | H12: 130798830 | I12: =G12-H12 -> 7086861542 | J12: 325479874 | K12: =I12-J12 -> 6761381668 | L12: 142822556
A13: 2 | B13: AMVA (junio 2022) | C13: 8000000000 | D13: 0 | E13: =C13-D13 -> 8000000000 | F13: 0 | G13: =E13-F13 -> 8000000000 | H13: 0 | I13: =G13-H13 -> 8000000000 | J13: 0 | K13: =I13-J13 -> 8000000000 | L13: 0
A14: 3 | B14: AMVA (noviembre 2022) | C14: 8000000000 | D14: 0 | E14: =C14-D14 -> 8000000000 | F14: 0 | G14: =E14-F14 -> 8000000000 | H14: 0 | I14: =G14-H14 -> 8000000000 | J14: 0 | K14: =I14-J14 -> 8000000000 | L14: 0
A15: 4 | B15: AMVA (noviembre 2022) | C15: 8000000000 | D15: 0 | E15: =C15-D15 -> 8000000000 | F15: 0 | G15: =E15-F15 -> 8000000000 | H15: 0 | I15: =G15-H15 -> 8000000000 | J15: 0 | K15: =I15-J15 -> 8000000000 | L15: 0
A16: 5 | B16: AMVA (saldo 2021) | C16: =S7 -> #REF! | D16: =C16 -> #REF! | E16: =C16-D16 -> #REF! | F16: 0 | G16: =E16-F16 -> #REF! | H16: 0 | I16: =G16-H16 -> #REF! | J16: 0 | K16: =I16-J16 -> #REF! | L16: 0
C17: =SUM(C12:C15) -> 32000000000 | D17: =SUM(D12:D16) -> #REF! | E17: =SUM(E12:E16) -> #REF! | F17: =SUM(F12:F16) -> 632329167 | G17: =SUM(G12:G16) -> #REF! | H17: =SUM(H12:H16) -> 130798830 | I17: =SUM(I12:I16) -> #REF! | J17: =SUM(J12:J16) -> 325479874 | K17: =SUM(K12:K16) -> #REF! | L17: =SUM(L12:L16) -> 142822556
A19: 2023
A20: SEC | B20: TIPO | C20: VALOR
A21: 1 | B21: AMVA | C21: 30392739786 | H21: RAZÓN | J21: RESUMEN | L21: SALDO
A22: 2 | B22: PROPIOS | C22: 9352562249 | H22: APORTES 2021 | J22: 12000000000 | L22: =J22 -> 12000000000
C23: =SUM(C21:C22) -> 39745302035 | H23: PAGO No. 1 | L23: =L22-J23 -> 12000000000
H24: PAGO No. 2 | L24: =L23-J24 -> 12000000000
B25: TOTAL | C25: =C8+C17+C23 -> 98523884755 | H25: PAGO No. 3 | L25: =L24-J25 -> 12000000000
H26: PAGO No. 4 | L26: =L25-J26 -> 12000000000
H27: PAGO No. 5 Anticipo marzo 10 2022 | J27: 8079706914 | L27: =L26-J27 -> 3920293086
B28: Anticipo contratista | C28: 17325329612 | H28: PAGO No. 6 pago 1 obra abril 19 | J28: 1468138387 | L28: =L27-J28 -> 2452154699
B29: Recurso Administrar | C29: =D8+F8 -> 9245622698 | H29: PAGO No. 7 pago 2 obra mayo 23 | J29: 335238670 | L29: =L28-J29 -> 2116916029
B30: Honorarios | C30: =H8+J8 -> 5532960022 | H30: PAGO No. 8 pago 3 obra junio 17 | J30: 670015256 | L30: =L29-J30 -> 1446900773
H31: PAGO No. 9 pago 4 obra agosto 1 | J31: 241247683 | L31: =L30-J31 -> 1205653090
B32: Diferencia | C32: =C28-C29 -> 8079706914 | H32: PAGO No. 10 pago 1 interv. Agosto 25 | J32: 180814763 | L32: =L31-J32 -> 1024838327
H33: PAGO No. 11 pago 5 obra septiembre 6 | J33: 412057437 | L33: =L32-J33 -> 612780890
H34: PAGO No. 12 pago 6 obra septiembre 20 | J34: 601406882 | L34: =L33-J34 -> 11374008
B35: TOTAL PAGADO | H35: APORTES 2022 | J35: 32000000000 | L35: =L34+J35 -> 32011374008
B36: N° | C36: TIPO RECURSO | D36: TOTAL | E36: PAGADO | F36: SALDO | H36: PAGO No. 13 pago 2 interv. Septiembre 20 | J36: 161384469 | L36: =L35-J36 -> 31849989539
B37: 1 | C37: PROPIOS | D37: =C3+C22 -> 10131144969 | E37: =H3 -> 778582720 | F37: =D37-E37 -> 9352562249 | H37: PAGO No. 14 pago 7 obra octubre 23 | J37: 632329167 | L37: =L36-J37 -> 31217660372
B38: 2 | C38: CRÉDITO | D38: =C4+C5 -> 14000000000 | E38: =D4+F5+J4+J5 -> 14000000000 | F38: =D38-E38 -> 0 | H38: PAGO No. 15 pago 3 interv. Octubre 24 | J38: 130798830 | L38: =L37-J38 -> 31086861542
B39: 4 | C39: AMVA | D39: =C6+C7+C12+C13+C14+C15+C21 -> 74392739786 | E39: ='Obra-interv'!C23 -> #REF! | F39: =D39-E39 -> #REF! | H39: PAGO No. 16 pago 8 obra noviembre 16 | J39: 325479874 | L39: =L38-J39 -> 30761381668
H40: PAGO No. 17 pago 4 interv. Noviembre 18 | J40: 142822556 | L40: =L39-J40 -> 30618559112
H41: PAGO No. 18 pago 9 obra diciembre 6 | J41: 785091126 | L41: =L40-J41 -> 29833467986
H42: PAGO No. 19 pago 10 obra febrero 13 2023 | J42: 724118490 | L42: =L41-J42 -> 29109349496
B43: RENDIMIENTOS FINANCIEROS | H43: PAGO No. 20 pago 5 interv. Febrero 15 | J43: 165918645 | L43: =L42-J43 -> 28943430851
B44: MES | C44: FECHA | D44: VALOR | E44: SUMATORIA | H44: PAGO No. 21 pago 11 obra febrero 15 | J44: 738723353 | L44: =L43-J44 -> 28204707498
B45: 44531 | C45: 44669 | D45: 1008355 | E45: =D45 -> 1008355 | H45: PAGO No. 22 pago 12 obra marzo 23 | J45: 717722432 | L45: =L44-J45 -> 27486985066
B46: 44562 | C46: 44669 | D46: 10029696 | E46: =E45+D46 -> 11038051 | H46: PAGO No. 23 pago 6 interv. marzo 02 | J46: 132139648 | L46: =L45-J46 -> 27354845418
B47: 44593 | C47: 44669 | D47: 10453263 | E47: =E46+D47 -> 21491314 | H47: PAGO No. 24 pago 7 interv. marzo 28 | J47: 135418420 | L47: =L46-J47 -> 27219426998
B48: 44621 | C48: 44704 | D48: 14224457 | E48: =E47+D48 -> 35715771 | H48: PAGO No. 25 pago 8 interv. mayo 11 | J48: 139725841 | L48: =L47-J48 -> 27079701157
B49: 44652 | C49: 44704 | D49: 6871750 | E49: =E48+D49 -> 42587521 | H49: PAGO No. 26 pago 13 obra mayo 11 | J49: 679841844 | L49: =L48-J49 -> 26399859313
B50: 44682 | C50: 44749 | D50: 4314975 | E50: =E49+D50 -> 46902496 | H50: PAGO No. 27 pago 14 obra mayo 24 | J50: 972507283 | L50: =L49-J50 -> 25427352030
B51: 44713 | C51: 44782 | D51: 4085011 | E51: =E50+D51 -> 50987507 | H51: PAGO No. 28 pago 9 interv. junio 14 | J51: 152070683 | L51: =L50-J51 -> 25275281347
B52: 44773 | C52: 44820 | D52: 24124646 | E52: =E51+D52 -> 75112153 | H52: PAGO No. 29 pago 10 interv. junio 26 | J52: 185408700 | L52: =L51-J52 -> 25089872647
B53: 44774 | C53: 44846 | D53: 43222998 | E53: =E52+D53 -> 118335151 | H53: PAGO No. 30 pago 15 obra julio 05 | J53: 611521046 | L53: =L52-J53 -> 24478351601
B54: 44805 | C54: 44865 | D54: 43139067 | E54: =E53+D54 -> 161474218 | H54: PAGO No. 31 pago 16 obra agosto 03 | J54: 1236426593 | L54: =L53-J54 -> 23241925008
B55: 44835 | C55: 44897 | D55: 43137265 | E55: =E54+D55 -> 204611483 | H55: PAGO No. 32 pago 17 obra agosto 23 | J55: 966398119 | L55: =L54-J55 -> 22275526889
B56: 44866 | C56: 44915 | D56: 44973220 | E56: =E55+D56 -> 249584703 | H56: PAGO No. 33 pago11 Interv. septiembre 07 | J56: 177639595 | L56: =L55-J56 -> 22097887294
B57: 44896 | C57: 44987 | D57: 52610842 | E57: =E56+D57 -> 302195545 | H57: PAGO No. 34 pago 12 Interv. septiembre 19 | J57: 181775582 | L57: =L56-J57 -> 21916111712
... B65: 45170 | C65: 45217 | D65: 82176023 | E65: =E64+D65 -> 9.945769e+08 | H65: PAGO No. 42 pago 22 obra diciembre 12 | J65: 3873739184 | L65: =L64-J65 -> 8808505977
B66: 45200 | C66: 45230 | D66: 70403780 | E66: =E65+D66 -> 1.0649807e+09 | H66: APORTES 2023 | J66: 30392739786 | L66: =L65+J66 -> 39201245763
B67: 45231 | C67: 45251 | D67: 67290416 | E67: =E66+D67 -> 1.1322711e+09 | H67: PAGO No. 43 pago 23 obra diciembre 15 | J67: 10041389543 | L67: =L66-J67 -> 29159856220
B68: 45261 | C68: 45281 | D68: 52313045 | E68: =E67+D68 -> 1.1845841e+09 | H68: PAGO No. 44 pago 16 Interv. Diciembre 20 | J68: 193021956 | L68: =L67-J68 -> 28966834264
H69: ADICIÓN No. 1 | J69: 11361000000 | L69: =L68+J69 -> 40327834264
H70: PAGO No. 45 pago 24 obra abril 09 2024 | J70: 8.5669285e+08 | L70: =L69-J70 -> 3.9471141e+10
H71: PAGO No. 46 pago 25 obra abril 12 | J71: 5.4564972e+08 | L71: =L70-J71 -> 3.8925492e+10
H72: PAGO No. 47 pago 26 obra mayo 06 | J72: 4.0043193e+08 | L72: =L71-J72 -> 3.852506e+10
H73: PAGO No. 48 pago 27 obra mayo 24 | J73: 2.7042445e+09 | L73: =L72-J73 -> 3.5820815e+10
H74: PAGO No. 49 pago 28 obra junio 24 | J74: 1.0353984e+09 | L74: =L73-J74 -> 3.4785417e+10
H75: PAGO No. 50 pago 29 obra junio 27 | J75: 5.4810096e+09 | L75: =L74-J75 -> 2.9304407e+10
H76: PAGO No. 51 pago 30 obra julio 25 | J76: 357973312 | L76: =L75-J76 -> 2.8946434e+10
H77: PAGO No. 52 pago 31 obra agosto 28 | J77: 5.3072357e+09 | L77: =L76-J77 -> 2.3639198e+10
H78: PAGO No. 53 pago 32 obra octubre 04 | J78: 1.1316234e+09 | L78: =L77-J78 -> 2.2507575e+10
H79: PAGO No. 54 pago 33 obra octubre 24 | J79: 1.903572e+09 | L79: =L78-J79 -> 2.0604003e+10
H80: PAGO No. 55 pago 34 obra diciembre 04 | J80: 7.9574334e+08 | L80: =L79-J80 -> 1.980826e+10
H81: PAGO No. 56 pago 35 obra diciembre 17 | J81: 11577250804 | L81: =L80-J81 -> 8.2310087e+09
B87: CONVENIO 954-2021 | G87: ANTICIPO | H87: FACTURADO
B88: CONSORCIO NUEVO PALACIO NIT 901572947-1 | C88: FACTURAS | D88: CAUSACION | E88: FECHA | F88: VALOR | G88: 0.2 | H88: 0.8 | I88: CE- | J88: FECHA | K88: ACTA | L88: OK
B89: CONSORCIO NUEVO PALACIO NIT 901572947-1 | C89: FE-NP55 | D89: 248 | E89: 45391 | F89: 1.070.866.064,00 | G89: 214.173.212,80 | H89: 856.692.851,20 | I89: CE-7087 | J89: 45391 | K89: 24 | L89: OK
B90: CONSORCIO NUEVO PALACIO NIT 901572947-1 | C90: FE-NP57 | D90: 250 | E90: 45394 | F90: 682.062.154,00 | G90: 136.412.430,80 | H90: 545.649.723,20 | I90: CE-7110 | J90: 45394 | K90: 25 | L90: OK
B91: CONSORCIO NUEVO PALACIO NIT 901572947-1 | C91: FE-NP59 | D91: 256 | E91: 45418 | F91: 500.539.917,00 | G91: 100.107.983,40 | H91: 400.431.933,60 | I91: CE-7224 | J91: 45419 | K91: 26 | L91: OK
B92: CONSORCIO NUEVO PALACIO NIT 901572947-1 | C92: FE-NP61 | D92: 261 | E92: 45436 | F92: 3.380.305.599,00 | G92: 676.061.119,80 | H92: 2.704.244.479,20 | I92: CE-7361 | J92: 45441 | K92: 27 | L92: OK
B93: CONSORCIO NUEVO PALACIO NIT 901572947-1 | C93: FE-NP63 | D93: 265 | E93: 45467 | F93: 1.294.248.046,00 | G93: 258.849.609,20 | H93: 1.035.398.436,80 | I93: CE-7531 | J93: 45468 | K93: 28 | L93: OK
B94: CONSORCIO NUEVO PALACIO NIT 901572947-1 | C94: FE-NP65 | D94: 266 | E94: 45470 | F94: 6.851.261.944,00 | G94: 1.370.252.388,80 | H94: 5.481.009.555,20 | I94: CE-7544 | J94: 45500 | K94: 29 | L94: OK
B95: CONSORCIO NUEVO PALACIO NIT 901572947-1 | C95: FE-NP68 | D95: 270 | E95: 45498 | F95: 447.466.640,00 | G95: 89.493.328,00 | H95: 357.973.312,00 | I95: CE-7705 | J95: 45502 | K95: 30 | L95: OK
B96: CONSORCIO NUEVO PALACIO NIT 901572947-1 | C96: FE-NP70 | D96: 273 | E96: 45532 | F96: 6.634.044.596,00 | G96: 1.326.808.919,20 | H96: 5.307.235.676,80 | I96: CE-7859 | J96: 45533 | K96: 31 | L96: OK
B97: CONSORCIO NUEVO PALACIO NIT 901572947-1 | C97: FE-NP72 | D97: 277 | E97: 45569 | F97: 1.414.529.243,00 | G97: 282.905.848,60 | H97: 1.131.623.394,40 | I97: CE-8084 | J97: 45569 | K97: 32 | L97: OK
B98: CONSORCIO NUEVO PALACIO NIT 901572947-1 | C98: FE-NP76 | D98: 281 | E98: 45589 | F98: 2.379.645.023,00 | G98: 475.929.004,60 | H98: 1.903.716.018,40 | I98: CE-8164 | J98: 45590 | K98: 33 | L98: OK
B99: CONSORCIO NUEVO PALACIO NIT 901572947-1 | C99: FE-NP77 | D99: 285 | E99: 45630 | F99: 994.679.178,00 | G99: 198.935.835,60 | H99: 795.743.342,40 | I99: CE-8372 | J99: 45631 | K99: 34 | L99: OK
B100: CONSORCIO NUEVO PALACIO NIT 901572947-1 | C100: FE-NP79 | D100: 289 | E100: 45643 | F100: 14.471.563.505,00 | G100: 2.894.312.701,00 | H100: 11.577.250.804,00 | I100: CE-8428 | J100: 45643 | K100: 35 | L100: OK
B101: TOTAL | F101: 40.121.211.909,00 | G101: 8.024.242.381,80 | H101: 32.096.969.527,20

Sheet Hoja1
A1: 2021 | F1: 2022 | K1: 2023 | P1: TOTAL
A2: SEC | B2: TIPO | C2: VALOR | F2: SEC | G2: TIPO | H2: VALOR | K2: SEC | L2: TIPO | M2: VALOR
A3: 1 | B3: PROPIOS | C3: 778582720 | F3: 1 | G3: AMVA (junio 2022) | H3: 8000000000 | K3: 1 | L3: AMVA (junio 2022) | M3: =I47 -> 5833467986 | P3: =C8+H8+M9 -> 98523884755
A4: 2 | B4: CRÉDITO | C4: 7000000000 | F4: 2 | G4: AMVA (junio 2022) | H4: 8000000000 | K4: 2 | L4: AMVA (junio 2022) | M4: =I48 -> 8000000000
A5: 3 | B5: CRÉDITO | C5: 7000000000 | F5: 3 | G5: AMVA (noviembre 2022) | H5: 8000000000 | K5: 3 | L5: AMVA (noviembre 2022) | M5: =I49 -> 8000000000
A6: 4 | B6: AMVA | C6: 6000000000 | F6: 4 | G6: AMVA (noviembre 2022) | H6: 8000000000 | K6: 4 | L6: AMVA (noviembre 2022) | M6: =I50 -> 8000000000
A7: 5 | B7: AMVA | C7: 6000000000 | F7: 5 | G7: AMVA (saldo 2021) | H7: =D93 -> 11374008 | K7: 1 | L7: AMVA | M7: 30392739786
B8: RECURSOS 2021 | C8: =SUM(C3:C7) -> 26778582720 | G8: RECURSOS 2022 | H8: =SUM(H3:H6) -> 32000000000 | K8: 2 | L8: PROPIOS | M8: 9352562249
L9: RECURSOS 2023 | M9: =SUM(M7:M8) -> 39745302035
A11: SEC | B11: TIPO | C11: ACTA 1 | D11: SALDO | F11: SEC | G11: TIPO | H11: ACTA 13 | I11: SALDO | K11: SEC | L11: TIPO | M11: ACTA 19 | N11: SALDO
A12: 1 | B12: PROPIOS | C12: 0 | D12: =C3-C12 -> 778582720 | F12: 1 | G12: AMVA (junio 2022) | H12: 150010461 | I12: =H3-H12 -> 7849989539 | K12: 1 | L12: AMVA (junio 2022) | N12: =M3 -> 5833467986
A13: 2 | B13: CRÉDITO | C13: 3118025897 | D13: =C4-C13 -> 3881974103 | F13: 2 | G13: AMVA (junio 2022) | H13: 0 | I13: =H4-H13 -> 8000000000 | K13: 2 | L13: AMVA (junio 2022) | N13: =M4 -> 8000000000
A14: 3 | B14: CRÉDITO | C14: 0 | D14: =C5-C14 -> 7000000000 | F14: 3 | G14: AMVA (noviembre 2022) | H14: 0 | I14: =H5-H14 -> 8000000000 | K14: 3 | L14: AMVA (noviembre 2022) | N14: =M5 -> 8000000000
A15: 4 | B15: AMVA | C15: 0 | D15: =C6-C15 -> 6000000000 | F15: 4 | G15: AMVA (noviembre 2022) | H15: 0 | I15: =H6-H15 -> 8000000000 | K15: 4 | L15: AMVA (noviembre 2022) | N15: =M6 -> 8000000000
A16: 5 | B16: AMVA | C16: 0 | D16: =C7-C16 -> 6000000000 | F16: 5 | G16: AMVA (saldo 2021) | H16: =H7 -> 11374008 | I16: =H7-H16 -> 0 | K16: 1 | L16: AMVA 2023 | N16: =M7 -> 30392739786
C17: =SUM(C12:C16) -> 3118025897 | D17: =SUM(D12:D16) -> 23660556823 | H17: =SUM(H12:H16) -> 161384469 | I17: =SUM(I12:I16) -> 31849989539 | K17: 2 | L17: PROPIOS 2023 | N17: =M8 -> 9352562249
A18: SEC | B18: TIPO | C18: ACTA 2 | D18: SALDO | F18: SEC | G18: TIPO | H18: ACTA 14 | I18: SALDO | M18: =SUM(M12:M17) -> 0 | N18: =SUM(N12:N17) -> 69578770021
A19: 1 | B19: PROPIOS | C19: 0 | D19: =D12-C19 -> 778582720 | F19: 1 | G19: AMVA (junio 2022) | H19: 632329167 | I19: =I12-H19 -> 7217660372
A20: 2 | B20: CRÉDITO | C20: 0 | D20: =D13-C20 -> 3881974103 | F20: 2 | G20: AMVA (junio 2022) | H20: 0 | I20: =I13-H20 -> 8000000000
A21: 3 | B21: CRÉDITO | C21: 6127596801 | D21: =D14-C21 -> 872403199 | F21: 3 | G21: AMVA (noviembre 2022) | H21: 0 | I21: =I14-H21 -> 8000000000
A22: 4 | B22: AMVA | C22: 0 | D22: =D15-C22 -> 6000000000 | F22: 4 | G22: AMVA (noviembre 2022) | H22: 0 | I22: =I15-H22 -> 8000000000
A23: 5 | B23: AMVA | C23: 0 | D23: =D16-C23 -> 6000000000 | F23: 5 | G23: AMVA (saldo 2021) | H23: 0 | I23: =I16-H23 -> 0
C24: =SUM(C19:C23) -> 6127596801 | D24: =SUM(D19:D23) -> 17532960022 | H24: =SUM(H19:H23) -> 632329167 | I24: =SUM(I19:I23) -> 31217660372
A25: SEC | B25: TIPO | C25: ACTA 3 | D25: SALDO | F25: SEC | G25: TIPO | H25: ACTA 15 | I25: SALDO
A26: 1 | B26: PROPIOS | C26: =D19 -> 778582720 | D26: =D19-C26 -> 0 | F26: 1 | G26: AMVA (junio 2022) | H26: 130798830 | I26: =I19-H26 -> 7086861542
A27: 2 | B27: CRÉDITO | C27: 0 | D27: =D20-C27 -> 3881974103 | F27: 2 | G27: AMVA (junio 2022) | H27: 0 | I27: =I20-H27 -> 8000000000
A28: 3 | B28: CRÉDITO | C28: 0 | D28: =D21-C28 -> 872403199 | F28: 3 | G28: AMVA (noviembre 2022) | H28: 0 | I28: =I21-H28 -> 8000000000
A29: 4 | B29: AMVA | C29: 0 | D29: =D22-C29 -> 6000000000 | F29: 4 | G29: AMVA (noviembre 2022) | H29: 0 | I29: =I22-H29 -> 8000000000
A30: 5 | B30: AMVA | C30: 0 | D30: =D23-C30 -> 6000000000 | F30: 5 | G30: AMVA (saldo 2021) | H30: 0 | I30: =I23-H30 -> 0
C31: =SUM(C26:C30) -> 778582720 | D31: =SUM(D26:D30) -> 16754377302 | H31: =SUM(H26:H30) -> 130798830 | I31: =SUM(I26:I30) -> 31086861542
A32: SEC | B32: TIPO | C32: ACTA 4 | D32: SALDO | F32: SEC | G32: TIPO | H32: ACTA 16 | I32: SALDO
A33: 1 | B33: PROPIOS | C33: 0 | D33: =D26-C33 -> 0 | F33: 1 | G33: AMVA (junio 2022) | H33: 325479874 | I33: =I26-H33 -> 6761381668
A34: 2 | B34: CRÉDITO | C34: 3881974103 | D34: =D27-C34 -> 0 | F34: 2 | G34: AMVA (junio 2022) | H34: 0 | I34: =I27-H34 -> 8000000000
A35: 3 | B35: CRÉDITO | C35: 872403199 | D35: =D28-C35 -> 0 | F35: 3 | G35: AMVA (noviembre 2022) | H35: 0 | I35: =I28-H35 -> 8000000000
A36: 4 | B36: AMVA | C36: 0 | D36: =D29-C36 -> 6000000000 | F36: 4 | G36: AMVA (noviembre 2022) | H36: 0 | I36: =I29-H36 -> 8000000000
A37: 5 | B37: AMVA | C37: 0 | D37: =D30-C37 -> 6000000000 | F37: 5 | G37: AMVA (saldo 2021) | H37: 0 | I37: =I30-H37 -> 0
C38: =SUM(C33:C37) -> 4754377302 | D38: =SUM(D33:D37) -> 12000000000 | H38: =SUM(H33:H37) -> 325479874 | I38: =SUM(I33:I37) -> 30761381668
A39: SEC | B39: TIPO | C39: ACTA 5 | D39: SALDO | F39: SEC | G39: TIPO | H39: ACTA 17 | I39: SALDO
A40: 1 | B40: PROPIOS | C40: 0 | D40: =+D33-C40 -> 0 | F40: 1 | G40: AMVA (junio 2022) | H40: 142822556 | I40: =I33-H40 -> 6618559112
A41: 2 | B41: CRÉDITO | C41: 0 | D41: =+D34-C41 -> 0 | F41: 2 | G41: AMVA (junio 2022) | H41: 0 | I41: =I34-H41 -> 8000000000
A42: 3 | B42: CRÉDITO | C42: 0 | D42: =+D35-C42 -> 0 | F42: 3 | G42: AMVA (noviembre 2022) | H42: 0 | I42: =I35-H42 -> 8000000000
A43: 4 | B43: AMVA | C43: =+D36 -> 6000000000 | D43: =+D36-C43 -> 0 | F43: 4 | G43: AMVA (noviembre 2022) | H43: 0 | I43: =I36-H43 -> 8000000000
A44: 5 | B44: AMVA | C44: =+C104-C43 -> 2079706914 | D44: =+D37-C44 -> 3920293086 | F44: 5 | G44: AMVA (saldo 2021) | H44: 0 | I44: =I37-H44 -> 0
C45: =SUM(C40:C44) -> 8079706914 | D45: =SUM(D40:D44) -> 3920293086 | H45: =SUM(H40:H44) -> 142822556 | I45: =SUM(I40:I44) -> 30618559112
A46: SEC | B46: TIPO | C46: ACTA 6 | D46: SALDO | F46: SEC | G46: TIPO | H46: ACTA 18 | I46: SALDO
A47: 1 | B47: PROPIOS | C47: 0 | D47: =+D40-C47 -> 0 | F47: 1 | G47: AMVA (junio 2022) | H47: 785091126 | I47: =I40-H47 -> 5833467986
A48: 2 | B48: CRÉDITO | C48: 0 | D48: =+D41-C48 -> 0 | F48: 2 | G48: AMVA (junio 2022) | H48: 0 | I48: =I41-H48 -> 8000000000
A49: 3 | B49: CRÉDITO | C49: 0 | D49: =+D42-C49 -> 0 | F49: 3 | G49: AMVA (noviembre 2022) | H49: 0 | I49: =I42-H49 -> 8000000000
A50: 4 | B50: AMVA | C50: 0 | D50: =+D43-C50 -> 0 | F50: 4 | G50: AMVA (noviembre 2022) | H50: 0 | I50: =I43-H50 -> 8000000000
A51: 5 | B51: AMVA | C51: 1468138387 | D51: =+D44-C51 -> 2452154699 | F51: 5 | G51: AMVA (saldo 2021) | H51: 0 | I51: =I44-H51 -> 0
C52: =SUM(C47:C51) -> 1468138387 | D52: =SUM(D47:D51) -> 2452154699 | H52: =SUM(H47:H51) -> 785091126 | I52: =SUM(I47:I51) -> 29833467986
A53: SEC | B53: TIPO | C53: ACTA 7 | D53: SALDO
A54: 1 | B54: PROPIOS | C54: - | D54: 0
A55: 2 | B55: CRÉDITO | C55: - | D55: 0
A56: 3 | B56: CRÉDITO | C56: - | D56: 0
A57: 4 | B57: AMVA | C57: - | D57: 0
A58: 5 | B58: AMVA | C58: 335238670 | D58: =+D51-C58 -> 2116916029
C59: =SUM(C54:C58) -> 335238670 | D59: =SUM(D54:D58) -> 2116916029
A60: SEC | B60: TIPO | C60: ACTA 8 | D60: SALDO
A61: 1 | B61: PROPIOS | C61: - | D61: 0
A62: 2 | B62: CRÉDITO | C62: - | D62: 0
A63: 3 | B63: CRÉDITO | C63: - | D63: 0
A64: 4 | B64: AMVA | C64: - | D64: 0
A65: 5 | B65: AMVA | C65: 670015256 | D65: =+D58-C65 -> 1446900773
C66: =SUM(C61:C65) -> 670015256 | D66: =SUM(D61:D65) -> 1446900773
A67: SEC | B67: TIPO | C67: ACTA 9 | D67: SALDO
A68: 1 | B68: PROPIOS | C68: - | D68: 0
A69: 2 | B69: CRÉDITO | C69: - | D69: 0
A70: 3 | B70: CRÉDITO | C70: - | D70: 0
A71: 4 | B71: AMVA | C71: - | D71: 0
A72: 5 | B72: AMVA | C72: 241247683 | D72: =+D65-C72 -> 1205653090
C73: =SUM(C68:C72) -> 241247683 | D73: =SUM(D68:D72) -> 1205653090
A74: SEC | B74: TIPO | C74: ACTA 10 | D74: SALDO
A75: 1 | B75: PROPIOS | C75: - | D75: 0
A76: 2 | B76: CRÉDITO | C76: - | D76: 0
A77: 3 | B77: CRÉDITO | C77: - | D77: 0
A78: 4 | B78: AMVA | C78: - | D78: 0
A79: 5 | B79: AMVA | C79: 180814763 | D79: =+D72-C79 -> 1024838327
C80: =SUM(C75:C79) -> 180814763 | D80: =SUM(D75:D79) -> 1024838327
A81: SEC | B81: TIPO | C81: ACTA 11 | D81: SALDO
A82: 1 | B82: PROPIOS | C82: - | D82: 0
A83: 2 | B83: CRÉDITO | C83: - | D83: 0
A84: 3 | B84: CRÉDITO | C84: - | D84: 0
A85: 4 | B85: AMVA | C85: - | D85: 0
A86: 5 | B86: AMVA | C86: 412057437 | D86: =+D79-C86 -> 612780890
C87: =SUM(C82:C86) -> 412057437 | D87: =SUM(D82:D86) -> 612780890
A88: SEC | B88: TIPO | C88: ACTA 12 | D88: SALDO
A89: 1 | B89: PROPIOS | C89: - | D89: 0
A90: 2 | B90: CRÉDITO | C90: - | D90: 0
A91: 3 | B91: CRÉDITO | C91: - | D91: 0
A92: 4 | B92: AMVA | C92: - | D92: 0
A93: 5 | B93: AMVA | C93: 601406882 | D93: =+D86-C93 -> 11374008
C94: =SUM(C89:C93) -> 601406882 | D94: =SUM(D89:D93) -> 11374008
B100: Anticipo contratista | C100: 17325329612
B101: Recurso Administrar | C101: =C17+C24 -> 9245622698
B102: Honorarios | C102: =C31+C38 -> 5532960022
B104: Diferencia | C104: =C100-C101 -> 8079706914

Sheet Obra-interv
A1: RECURSOS AMVA
A2: N° | B2: VALOR | C2: OBRA | D2: INTERVENTORÍA
A3: 5 | B3: ='Control RDP'!L8 -> 8079706914 | C3: =B3 -> 8079706914 | D3: 0
A4: 6 | B4: ='Control RDP'!#REF! -> #REF! | C4: =B4 -> #REF! | D4: 0
A5: 7 | B5: ='Control RDP'!#REF! -> #REF! | C5: =B5 -> #REF! | D5: 0
A6: 8 | B6: ='Control RDP'!#REF! -> #REF! | C6: =B6 -> #REF! | D6: 0
A7: 9 | B7: ='Control RDP'!#REF! -> #REF! | C7: =B7 -> #REF! | D7: 0
A8: 10 | B8: 180814763 | C8: 0 | D8: =B8 -> 180814763
A9: 11 | B9: 412057437 | C9: =B9 -> 412057437 | D9: 0
A10: 12 | B10: 601406882 | C10: =B10 -> 601406882 | D10: 0
A11: 13 | B11: 161384469 | C11: 0 | D11: =B11 -> 161384469
A12: 14 | B12: ='Control RDP'!F12 -> 632329167 | C12: =B12 -> 632329167 | D12: 0
A13: 15 | B13: ='Control RDP'!H12 -> 130798830 | C13: 0 | D13: =B13 -> 130798830
A14: 16 | B14: ='Control RDP'!J17 -> 325479874 | C14: =B14 -> 325479874 | D14: 0
A15: 17 | B15: ='Control RDP'!L17 -> 142822556 | C15: 0 | D15: =B15 -> 142822556
A16: 18 | B16: 785091126 | C16: =B16 -> 785091126 | D16: 0
C17: =SUM(C3:C16) -> #REF! | D17: =SUM(D3:D16) -> 615820618
B20: APORTE AMVA | C20: 74392739786
B21: PAGADO OBRA | C21: =C17 -> #REF!
B22: PAGADO INT | C22: =D17 -> 615820618
B23: PAGADO TOTAL | C23: =C21+C22 -> #REF!
B24: SALDO | C24: =C20-C23 -> #REF!
