Workbook

Sheet Control RDP
A1: 2021
A2: SEC | B2: TIPO | C2: VALOR | D2: ACTA 1 | E2: SALDO | F2: ACTA 2 | G2: SALDO | H2: ACTA 3 | I2: SALDO | J2: ACTA 4 | K2: SALDO | L2: ACTA 5 | M2: SALDO | N2: ACTA 10 | O2: SALDO | P2: ACTA 11 | Q2: SALDO | R2: ACTA 12 | S2: SALDO
A3: 1 | B3: PROPIOS | C3: 778582720 | D3: 0 | E3: =C3-D3 -> 778582720 | F3: 0 | G3: =E3-F3 -> 778582720 | H3: =G3 -> 778582720 | I3: =G3-H3 -> 0 | J3: 0 | K3: =I3-J3 -> 0 | L3: 0 | M3: 0 | N3: - | O3: 0 | P3: - | Q3: 0 | R3: - | S3: 0
A4: 2 | B4: CRÉDITO | C4: 7000000000 | D4: 3118025897 | E4: =C4-D4 -> 3881974103 | F4: 0 | G4: =E4-F4 -> 3881974103 | H4: 0 | I4: =G4-H4 -> 3881974103 | J4: 3881974103 | K4: =I4-J4 -> 0 | L4: 0 | M4: 0 | N4: - | O4: 0 | P4: - | Q4: 0 | R4: - | S4: 0
A5: 3 | B5: CRÉDITO | C5: 7000000000 | D5: 0 | E5: =C5-D5 -> 7000000000 | F5: 6127596801 | G5: =E5-F5 -> 872403199 | H5: 0 | I5: =G5-H5 -> 872403199 | J5: 872403199 | K5: =I5-J5 -> 0 | L5: 0 | M5: 0 | N5: - | O5: 0 | P5: - | Q5: 0 | R5: - | S5: 0
A6: 4 | B6: AMVA | C6: 6000000000 | D6: 0 | E6: =C6-D6 -> 6000000000 | F6: 0 | G6: =E6-F6 -> 6000000000 | H6: 0 | I6: =G6-H6 -> 6000000000 | J6: 0 | K6: =I6-J6 -> 6000000000 | L6: =+K6 -> 6000000000 | M6: 0 | N6: - | O6: 0 | P6: - | Q6: 0 | R6: - | S6: 0
A7: 5 | B7: AMVA | C7: 6000000000 | D7: 0 | E7: =C7-D7 -> 6000000000 | F7: 0 | G7: =E7-F7 -> 6000000000 | H7: 0 | I7: =G7-H7 -> 6000000000 | J7: 0 | K7: =I7-J7 -> 6000000000 | L7: =+C32-L6 -> 2079706914 | M7: =+#REF!-#REF! -> #REF! | N7: 180814763 | O7: =+M7-N7 -> #REF! | P7: 412057437 | Q7: =+O7-P7 -> #REF! | R7: 601406882 | S7: =+Q7-R7 -> #REF!
C8: =SUM(C3:C7) -> 26778582720 | D8: =SUM(D3:D7) -> 3118025897 | E8: =SUM(E3:E7) -> 23660556823 | F8: =SUM(F3:F7) -> 6127596801 | G8: =SUM(G3:G7) -> 17532960022 | H8: =SUM(H3:H7) -> 778582720 | I8: =SUM(I3:I7) -> 16754377302 | J8: =SUM(J3:J7) -> 4754377302 | ... S8: =SUM(S3:S7) -> #REF!
A10: 2022
A11: SEC | B11: TIPO | C11: VALOR | D11: ACTA 13 | E11: SALDO | F11: ACTA 14 | G11: SALDO | H11: ACTA 15 | I11: SALDO | J11: ACTA 16 | K11: SALDO | L11: ACTA 17
A12: 1 | B12: AMVA (junio 2022) | C12: 8000000000 | D12: 150010461 | E12: =C12-D12 -> 7849989539 | F12: 632329167 | G12: =E12-F12 -> 7217660372 | H12: 130798830 | I12: =G12-H12 -> 7086861542 | J12: 325479874 | K12: =I12-J12 -> 6761381668 | L12: 142822556
A13: 2 | B13: AMVA (junio 2022) | C13: 8000000000 | D13: 0 | E13: =C13-D13 -> 8000000000 | F13: 0 | G13: =E13-F13 -> 8000000000 | H13: 0 | I13: =G13-H13 -> 8000000000 | J13: 0 | K13: =I13-J13 -> 8000000000 | L13: 0
A14: 3 | B14: AMVA (noviembre 2022) | C14: 8000000000 | D14: 0 | E14: =C14-D14 -> 8000000000 | F14: 0 | G14: =E14-F14 -> 8000000000 | H14: 0 | I14: =G14-H14 -> 8000000000 | J14: 0 | K14: =I14-J14 -> 8000000000 | L14: 0
A15: 4 | B15: AMVA (noviembre 2022) | C15: 8000000000 | D15: 0 | E15: =C15-D15 -> 8000000000 | F15: 0 | G15: =E15-F15 -> 8000000000 | H15: 0 | I15: =G15-H15 -> 8000000000 | J15: 0 | K15: =I15-J15 -> 8000000000 | L15: 0
A16: 5 | B16: AMVA (saldo 2021) | C16: =S7 -> #REF! | D16: =C16 -> #REF! | E16: =C16-D16 -> #REF! | F16: 0 | G16: =E16-F16 -> #REF! | H16: 0 | I16: =G16-H16 -> #REF! | J16: 0 | K16: =I16-J16 -> #REF! | L16: 0
C17: =SUM(C12:C15) -> 32000000000 | D17: =SUM(D12:D16) -> #REF! | E17: =SUM(E12:E16) -> #REF! | F17: =SUM(F12:F16) -> 632329167 | G17: =SUM(G12:G16) -> #REF! | H17: =SUM(H12:H16) -> 130798830 | I17: =SUM(I12:I16) -> #REF! | J17: =SUM(J12:J16) -> 325479874 | K17: =SUM(K12:K16) -> #REF! | L17: =SUM(L12:L16) -> 142822556
A19: 2023
A20: SEC | B20: TIPO | C20: VALOR
A21: 1 | B21: AMVA | C21: 30392739786 | H21: RAZÓN | J21: RESUMEN | L21: SALDO
A22: 2 | B22: PROPIOS | C22: 9352562249 | H22: APORTES 2021 | J22: 12000000000 | L22: =J22 -> 12000000000
C23: =SUM(C21:C22) -> 39745302035 | H23: PAGO No. 1 | L23: =L22-J23 -> 12000000000
H24: PAGO No. 2 | L24: =L23-J24 -> 12000000000
B25: TOTAL | C25: =C8+C17+C23 -> 98523884755 | H25: PAGO No. 3 | L25: =L24-J25 -> 12000000000
H26: PAGO No. 4 | L26: =L25-J26 -> 12000000000
H27: PAGO No. 5 Anticipo marzo 10 2022 | J27: 8079706914 | L27: =L26-J27 -> 3920293086
B28: Anticipo contratista | C28: 17325329612 | H28: PAGO No. 6 pago 1 obra abril 19 | J28: 1468138387 | L28: =L27-J28 -> 2452154699
B29: Recurso Administrar | C29: =D8+F8 -> 9245622698 | H29: PAGO No. 7 pago 2 obra mayo 23 | J29: 335238670 | L29: =L28-J29 -> 2116916029
B30: Honorarios | C30: =H8+J8 -> 5532960022 | H30: PAGO No. 8 pago 3 obra junio 17 | J30: 670015256 | L30: =L29-J30 -> 1446900773
H31: PAGO No. 9 pago 4 obra agosto 1 | J31: 241247683 | L31: =L30-J31 -> 1205653090
B32: Diferencia | C32: =C28-C29 -> 8079706914 | H32: PAGO No. 10 pago 1 interv. Agosto 25 | J32: 180814763 | L32: =L31-J32 -> 1024838327
H33: PAGO No. 11 pago 5 obra septiembre 6 | J33: 412057437 | L33: =L32-J33 -> 612780890
H34: PAGO No. 12 pago 6 obra septiembre 20 | J34: 601406882 | L34: =L33-J34 -> 11374008
B35: TOTAL PAGADO | H35: APORTES 2022 | J35: 32000000000 | L35: =L34+J35 -> 32011374008
B36: N° | C36: TIPO RECURSO | D36: TOTAL | E36: PAGADO | F36: SALDO | H36: PAGO No. 13 pago 2 interv. Septiembre 20 | J36: 161384469 | L36: =L35-J36 -> 31849989539
B37: 1 | C37: PROPIOS | D37: =C3+C22 -> 10131144969 | E37: =H3 -> 778582720 | F37: =D37-E37 -> 9352562249 | H37: PAGO No. 14 pago 7 obra octubre 23 | J37: 632329167 | L37: =L36-J37 -> 31217660372
B38: 2 | C38: CRÉDITO | D38: =C4+C5 -> 14000000000 | E38: =D4+F5+J4+J5 -> 14000000000 | F38: =D38-E38 -> 0 | H38: PAGO No. 15 pago 3 interv. Octubre 24 | J38: 130798830 | L38: =L37-J38 -> 31086861542
B39: 4 | C39: AMVA | D39: =C6+C7+C12+C13+C14+C15+C21 -> 74392739786 | E39: ='Obra-interv'!C23 -> #REF! | F39: =D39-E39 -> #REF! | H39: PAGO No. 16 pago 8 obra noviembre 16 | J39: 325479874 | L39: =L38-J39 -> 30761381668
H40: PAGO No. 17 pago 4 interv. Noviembre 18 | J40: 142822556 | L40: =L39-J40 -> 30618559112
H41: PAGO No. 18 pago 9 obra diciembre 6 | J41: 785091126 | L41: =L40-J41 -> 29833467986
H42: PAGO No. 19 pago 10 obra febrero 13 2023 | J42: 724118490 | L42: =L41-J42 -> 29109349496
...

Sheet Hoja1
A1: 2021 | F1: 2022 | K1: 2023 | P1: TOTAL
A2: SEC | B2: TIPO | C2: VALOR | F2: SEC | G2: TIPO | H2: VALOR | K2: SEC | L2: TIPO | M2: VALOR
A3: 1 | B3: PROPIOS | C3: 778582720 | F3: 1 | G3: AMVA (junio 2022) | H3: 8000000000 | K3: 1 | L3: AMVA (junio 2022) | M3: =I47 -> 5833467986 | P3: =C8+H8+M9 -> 98523884755
A4: 2 | B4: CRÉDITO | C4: 7000000000 | F4: 2 | G4: AMVA (junio 2022) | H4: 8000000000 | K4: 2 | L4: AMVA (junio 2022) | M4: =I48 -> 8000000000
A5: 3 | B5: CRÉDITO | C5: 7000000000 | F5: 3 | G5: AMVA (noviembre 2022) | H5: 8000000000 | K5: 3 | L5: AMVA (noviembre 2022) | M5: =I49 -> 8000000000
A6: 4 | B6: AMVA | C6: 6000000000 | F6: 4 | G6: AMVA (noviembre 2022) | H6: 8000000000 | K6: 4 | L6: AMVA (noviembre 2022) | M6: =I50 -> 8000000000
A7: 5 | B7: AMVA | C7: 6000000000 | F7: 5 | G7: AMVA (saldo 2021) | H7: =D93 -> 11374008 | K7: 1 | L7: AMVA | M7: 30392739786
B8: RECURSOS 2021 | C8: =SUM(C3:C7) -> 26778582720 | G8: RECURSOS 2022 | H8: =SUM(H3:H6) -> 32000000000 | K8: 2 | L8: PROPIOS | M8: 9352562249
L9: RECURSOS 2023 | M9: =SUM(M7:M8) -> 39745302035
A11: SEC | B11: TIPO | C11: ACTA 1 | D11: SALDO | F11: SEC | G11: TIPO | H11: ACTA 13 | I11: SALDO | K11: SEC | L11: TIPO | M11: ACTA 19 | N11: SALDO
A12: 1 | B12: PROPIOS | C12: 0 | D12: =C3-C12 -> 778582720 | F12: 1 | G12: AMVA (junio 2022) | H12: 150010461 | I12: =H3-H12 -> 7849989539 | K12: 1 | L12: AMVA (junio 2022) | N12: =M3 -> 5833467986
A13: 2 | B13: CRÉDITO | C13: 3118025897 | D13: =C4-C13 -> 3881974103 | F13: 2 | G13: AMVA (junio 2022) | H13: 0 | I13: =H4-H13 -> 8000000000 | K13: 2 | L13: AMVA (junio 2022) | N13: =M4 -> 8000000000
A14: 3 | B14: CRÉDITO | C14: 0 | D14: =C5-C14 -> 7000000000 | F14: 3 | G14: AMVA (noviembre 2022) | H14: 0 | I14: =H5-H14 -> 8000000000 | K14: 3 | L14: AMVA (noviembre 2022) | N14: =M5 -> 8000000000
A15: 4 | B15: AMVA | C15: 0 | D15: =C6-C15 -> 6000000000 | F15: 4 | G15: AMVA (noviembre 2022) | H15: 0 | I15: =H6-H15 -> 8000000000 | K15: 4 | L15: AMVA (noviembre 2022) | N15: =M6 -> 8000000000
A16: 5 | B16: AMVA | C16: 0 | D16: =C7-C16 -> 6000000000 | F16: 5 | G16: AMVA (saldo 2021) | H16: =H7 -> 11374008 | I16: =H7-H16 -> 0 | K16: 1 | L16: AMVA 2023 | N16: =M7 -> 30392739786
C17: =SUM(C12:C16) -> 3118025897 | D17: =SUM(D12:D16) -> 23660556823 | H17: =SUM(H12:H16) -> 161384469 | I17: =SUM(I12:I16) -> 31849989539 | K17: 2 | L17: PROPIOS 2023 | N17: =M8 -> 9352562249
A18: SEC | B18: TIPO | C18: ACTA 2 | D18: SALDO | F18: SEC | G18: TIPO | H18: ACTA 14 | I18: SALDO | M18: =SUM(M12:M17) -> 0 | N18: =SUM(N12:N17) -> 69578770021
A19: 1 | B19: PROPIOS | C19: 0 | D19: =D12-C19 -> 778582720 | F19: 1 | G19: AMVA (junio 2022) | H19: 632329167 | I19: =I12-H19 -> 7217660372
A20: 2 | B20: CRÉDITO | C20: 0 | D20: =D13-C20 -> 3881974103 | F20: 2 | G20: AMVA (junio 2022) | H20: 0 | I20: =I13-H20 -> 8000000000
A21: 3 | B21: CRÉDITO | C21: 6127596801 | D21: =D14-C21 -> 872403199 | F21: 3 | G21: AMVA (noviembre 2022) | H21: 0 | I21: =I14-H21 -> 8000000000
A22: 4 | B22: AMVA | C22: 0 | D22: =D15-C22 -> 6000000000 | F22: 4 | G22: AMVA (noviembre 2022) | H22: 0 | I22: =I15-H22 -> 8000000000
A23: 5 | B23: AMVA | C23: 0 | D23: =D16-C23 -> 6000000000 | F23: 5 | G23: AMVA (saldo 2021) | H23: 0 | I23: =I16-H23 -> 0
C24: =SUM(C19:C23) -> 6127596801 | D24: =SUM(D19:D23) -> 17532960022 | H24: =SUM(H19:H23) -> 632329167 | I24: =SUM(I19:I23) -> 31217660372
A25: SEC | B25: TIPO | C25: ACTA 3 | D25: SALDO | F25: SEC | G25: TIPO | H25: ACTA 15 | I25: SALDO
A26: 1 | B26: PROPIOS | C26: =D19 -> 778582720 | D26: =D19-C26 -> 0 | F26: 1 | G26: AMVA (junio 2022) | H26: 130798830 | I26: =I19-H26 -> 7086861542
A27: 2 | B27: CRÉDITO | C27: 0 | D27: =D20-C27 -> 3881974103 | F27: 2 | G27: AMVA (junio 2022) | H27: 0 | I27: =I20-H27 -> 8000000000
A28: 3 | B28: CRÉDITO | C28: 0 | D28: =D21-C28 -> 872403199 | F28: 3 | G28: AMVA (noviembre 2022) | H28: 0 | I28: =I21-H28 -> 8000000000
A29: 4 | B29: AMVA | C29: 0 | D29: =D22-C29 -> 6000000000 | F29: 4 | G29: AMVA (noviembre 2022) | H29: 0 | I29: =I22-H29 -> 8000000000
A30: 5 | B30: AMVA | C30: 0 | D30: =D23-C30 -> 6000000000 | F30: 5 | G30: AMVA (saldo 2021) | H30: 0 | I30: =I23-H30 -> 0
C31: =SUM(C26:C30) -> 778582720 | D31: =SUM(D26:D30) -> 16754377302 | H31: =SUM(H26:H30) -> 130798830 | I31: =SUM(I26:I30) -> 31086861542
A32: SEC | B32: TIPO | C32: ACTA 4 | D32: SALDO | F32: SEC | G32: TIPO | H32: ACTA 16 | I32: SALDO
A33: 1 | B33: PROPIOS | C33: 0 | D33: =D26-C33 -> 0 | F33: 1 | G33: AMVA (junio 2022) | H33: 325479874 | I33: =I26-H33 -> 6761381668
A34: 2 | B34: CRÉDITO | C34: 3881974103 | D34: =D27-C34 -> 0 | F34: 2 | G34: AMVA (junio 2022) | H34: 0 | I34: =I27-H34 -> 8000000000
A35: 3 | B35: CRÉDITO | C35: 872403199 | D35: =D28-C35 -> 0 | F35: 3 | G35: AMVA (noviembre 2022) | H35: 0 | I35: =I28-H35 -> 8000000000
A36: 4 | B36: AMVA | C36: 0 | D36: =D29-C36 -> 6000000000 | F36: 4 | G36: AMVA (noviembre 2022) | H36: 0 | I36: =I29-H36 -> 8000000000
A37: 5 | B37: AMVA | C37: 0 | D37: =D30-C37 -> 6000000000 | F37: 5 | G37: AMVA (saldo 2021) | H37: 0 | I37: =I30-H37 -> 0
C38: =SUM(C33:C37) -> 4754377302 | D38: =SUM(D33:D37) -> 12000000000 | H38: =SUM(H33:H37) -> 325479874 | I38: =SUM(I33:I37) -> 30761381668
A39: SEC | B39: TIPO | C39: ACTA 5 | D39: SALDO | F39: SEC | G39: TIPO | H39: ACTA 17 | I39: SALDO
A40: 1 | B40: PROPIOS | C40: 0 | D40: =+D33-C40 -> 0 | F40: 1 | G40: AMVA (junio 2022) | H40: 142822556 | I40: =I33-H40 -> 6618559112
A41: 2 | B41: CRÉDITO | C41: 0 | D41: =+D34-C41 -> 0 | F41: 2 | G41: AMVA (junio 2022) | H41: 0 | I41: =I34-H41 -> 8000000000
...

Sheet Obra-interv
A1: RECURSOS AMVA
A2: N° | B2: VALOR | C2: OBRA | D2: INTERVENTORÍA
A3: 5 | B3: ='Control RDP'!L8 -> 8079706914 | C3: =B3 -> 8079706914 | D3: 0
A4: 6 | B4: ='Control RDP'!#REF! -> #REF! | C4: =B4 -> #REF! | D4: 0
A5: 7 | B5: ='Control RDP'!#REF! -> #REF! | C5: =B5 -> #REF! | D5: 0
A6: 8 | B6: ='Control RDP'!#REF! -> #REF! | C6: =B6 -> #REF! | D6: 0
A7: 9 | B7: ='Control RDP'!#REF! -> #REF! | C7: =B7 -> #REF! | D7: 0
A8: 10 | B8: 180814763 | C8: 0 | D8: =B8 -> 180814763
A9: 11 | B9: 412057437 | C9: =B9 -> 412057437 | D9: 0
A10: 12 | B10: 601406882 | C10: =B10 -> 601406882 | D10: 0
A11: 13 | B11: 161384469 | C11: 0 | D11: =B11 -> 161384469
A12: 14 | B12: ='Control RDP'!F12 -> 632329167 | C12: =B12 -> 632329167 | D12: 0
A13: 15 | B13: ='Control RDP'!H12 -> 130798830 | C13: 0 | D13: =B13 -> 130798830
A14: 16 | B14: ='Control RDP'!J17 -> 325479874 | C14: =B14 -> 325479874 | D14: 0
A15: 17 | B15: ='Control RDP'!L17 -> 142822556 | C15: 0 | D15: =B15 -> 142822556
A16: 18 | B16: 785091126 | C16: =B16 -> 785091126 | D16: 0
C17: =SUM(C3:C16) -> #REF! | D17: =SUM(D3:D16) -> 615820618
B20: APORTE AMVA | C20: 74392739786
B21: PAGADO OBRA | C21: =C17 -> #REF!
B22: PAGADO INT | C22: =D17 -> 615820618
B23: PAGADO TOTAL | C23: =C21+C22 -> #REF!
B24: SALDO | C24: =C20-C23 -> #REF!
