Workbook

Sheet PRESUPUESTO GENERAL
B2: DESARROLLO DE ACTIVIDADES PARA EL FORTALECIMIENTO DE LA ATENCIÓN AL ADULTO MAYOR DEL MUNICIPIO DE PUEBLO BELLO, CESAR
B3: PRESUPUESTO GENERAL
B4: ITEM | C4: DESCRIPCIÓN | D4: VALOR
B5: 1. | C5: GASTO DE PERSONAL Y ELEMENTOS DE BIOSEGURIDAD EL EQUIPO DE TRABAJO FIJO DEL PROYECTO | D5: ='PRESUPUESTO DETALLADO'!I21 -> 139694300
B6: 2. | C6: TRANSPORTE PARA LA ATENCION Y PROMOCION DE LA POBLACION ADULTA MAYOR BENEFICIADA | D6: =+'PRESUPUESTO DETALLADO'!I26 -> 71500000
B7: 3. | C7: CANASTA DE SERVICIOS | D7: ='PRESUPUESTO DETALLADO'!I117 -> 665932980
B8: 4. | C8: FUNCIONAMIENTO DEL HOGAR DE PASO | D8: ='PRESUPUESTO DETALLADO'!I166 -> 45780499
B9: 5 | C9: EVENTOS | D9: =+'PRESUPUESTO DETALLADO'!I235 -> 87621700
B10: VALOR TOTAL | D10: =SUM(D5:D9) -> 1010529479
B16: JOHANA MARCELA MESTRE IZQUIERDO
B17: Secretaría de Gobierno

Sheet PRESUPUESTO DETALLADO
D1: DESARROLLO DE ACTIVIDADES PARA EL FORTALECIMIENTO DE LA ATENCIÓN AL ADULTO MAYOR DEL MUNICIPIO DE PUEBLO BELLO, CESAR
A2: PRESUPUESTO OFICIAL DETALLADO
A3: 1. | B3: GASTO DE PERSONAL Y ELEMENTOS DE BIOSEGURIDAD EL EQUIPO DE TRABAJO FIJO DEL PROYECTO
A4: ITEM | B4: DESCRIPCION | C4: PORCENTAJE DEDICACION | D4: UNIDAD DE MEDIDA | E4: CANTIDAD | G4: MESES | H4: VALOR UNITARIO | I4: TOTAL ACTIVIDAD
A5: 1.1 | B5: GASTO DE PERSONAL
A6: 1.1.1 | B6: COORDINADOR GENERAL | C6: 0.85 | D6: Unidad | E6: 1 | G6: 6.5 | H6: ='ESTUDIO DE MERCADO'!I6 -> 4860000 | I6: =C6*E6*G6*H6 -> 26851500
A7: 1.1.2 | B7: COORDINADOR OPERATIVO | C7: 0.85 | D7: Unidad | E7: 1 | G7: 6.5 | H7: ='ESTUDIO DE MERCADO'!I7 -> 4320000 | I7: =C7*E7*G7*H7 -> 23868000
A8: 1.1.3 | B8: NUTRICIONISTA | C8: 0.6 | D8: Unidad | E8: 1 | G8: 6.5 | H8: ='ESTUDIO DE MERCADO'!I8 -> 2916000 | I8: =C8*E8*G8*H8 -> 11372400
A9: 1.1.4 | B9: ENFERMERAS | C9: 0.85 | D9: Unidad | E9: 3 | G9: 6.5 | H9: ='ESTUDIO DE MERCADO'!I9 -> 2376000 | I9: =E9*G9*H9*C9 -> 39382200
A10: 1.1.5 | B10: PSICOLOGA | C10: 0.75 | D10: Unidad | E10: 1 | G10: 6.5 | H10: ='ESTUDIO DE MERCADO'!I10 -> 2592000 | I10: =G10*H10*C10 -> 12636000
A11: 1.1.6 | B11: SERVICIOS GENERALES | C11: 0.8 | D11: Unidad | E11: 1 | G11: 6.5 | H11: ='ESTUDIO DE MERCADO'!I11 -> 1423500 | I11: =C11*E11*G11*H11 -> 7402200
A12: TOTAL GASTO DE PERSONAL | I12: =SUM(I6:I11) -> 121512300
A13: 1.2 | B13: ELEMENTOS DE BIOSEGURIDAD EL EQUIPO DE TRABAJO FIJO DEL PROYECTO
A14: ITEM | B14: ESPECIFICACIÓN | D14: UNIDAD DE MEDIDA | F14: CANTIDAD | G14: ENTREGA | H14: VALOR UNITARIO | I14: VALOR TOTAL
A15: 1.2.1. | B15: TAPABOCAS TERMOSELLADO | D15: Unidad | F15: 24 | G15: 10 | H15: ='ESTUDIO DE MERCADO'!I15 -> 720 | I15: =H15*G15*F15 -> 172800
A16: 1.2.2. | B16: CAJA DE GUANTES PARA MANIPULADORAS DE ALIMENTOS (látex de caucho natural, Esteril .(caja x 50 pares) | D16: Caja | F16: 60 | G16: 10 | H16: ='ESTUDIO DE MERCADO'!I16 -> 26500 | I16: =H16*G16*F16 -> 15900000
A17: 1.2.3. | B17: ALCOHOL x 120 ML * 70 % de concentración. | D17: Unidad | F17: 24 | G17: 4 | H17: ='ESTUDIO DE MERCADO'!I17 -> 5200 | I17: =H17*G17*F17 -> 499200
A18: 1.2.4. | B18: GORROS PARA LAS MANIPULADORAS DE ALIMENTOS (fabricado en tela dril blanca). | D18: Unidad | F18: 10 | G18: 4 | H18: ='ESTUDIO DE MERCADO'!I18 -> 6150 | I18: =H18*G18*F18 -> 246000
A19: 1.2.5. | B19: BATAS PARA LAS MANIPULADORAS DE ALIMENTOS (en dril resistente a la suciedad, 1 bolsillo grande, 2 bolsillos medianos y uno pequeño en el pecho, Ancho x Altura: 60 cm x 75 cm). | D19: Unidad | F19: 10 | G19: 2 | H19: ='ESTUDIO DE MERCADO'!I19 -> 68200 | I19: =H19*G19*F19 -> 1364000
A20: SUBTOTAL ELEMENTOS DE BIOSEGURIDAD EL EQUIPO DE TRABAJO FIJO DEL PROYECTO | I20: =SUM(I15:I19) -> 18182000
A21: TOTAL GASTO DE PERSONAL Y ELEMENTOS DE BIOSEGURIDAD EL EQUIPO DE TRABAJO FIJO DEL PROYECTO | I21: =I12+I20 -> 139694300 | J21: ok
A22: 2. | B22: TRANSPORTE PARA LA ATENCION Y PROMOCION DE LA POBLACION ADULTA MAYOR BENEFICIADA
A23: ITEM | B23: ESPECIFICACIÓN | D23: UNIDAD DE MEDIDA. | E23: No | G23: MES / VIAJES | H23: VALOR UNITARIO | I23: VALOR TOTAL
A24: 2.1. | B24: TRANSPORTE PARA LA ENTREGA DE VIVERES PARA EL SERVICIO DE COMEDOR . ENTREGA DE KITS NUTRICIONALES, ENTREGA DE LA DOTACION, KITS ASEO E HIGIENE PERSONAL , UTILES Y ELEMENTOS DE ASEO, EN EL HOGAR DE PASO DE PUEBLO - CESAR | C24: Arrendamiento de Transporte (tipo furgon) Mensual para la entrega de Viveres al Hogar de Paso para la preparacion dedesayunos, meriendas, almuerzos y cenas diarias a los Adultos Mayores Beneficiados. Transporte para la entrega de un kit nutricional, kit de aseo mensual, transporte de dotaciones, a los adultos mayores Saliendo Desde Valledupar hasta Pueblo Bello - Cesar, Incluye Conductor, Combustible y Mantenimiento. | D24: Unidad | E24: 1 | G24: 6.5 | H24: ='ESTUDIO DE MERCADO'!I24 -> 5500000 | I24: =H24*G24*E24 -> 35750000
A25: 2.2. | B25: TRANSPORTE PARA LA ATENCION Y , TRASLADO DE ADULTOS MAYORES A LAS ACTIVIDADES DEL PROGRAMA Y CITAS MEDICAS. | C25: TRANSPORTE PARA LA ATENCION Y , TRASLADO DE ADULTOS MAYORES A LAS ACTIVIDADES DEL PROGRAMA Y CITAS MEDICAS DENTRO DEL MUNICIPIO DE PUEBLO BELLO -CESAR | D25: Unidad | E25: 1 | G25: 6.5 | H25: ='ESTUDIO DE MERCADO'!I25 -> 5500000 | I25: =H25*G25*E25 -> 35750000
A26: TOTAL TRANSPORTE PARA LA ATENCION Y PROMOCION DE LA POBLACION ADULTA MAYOR BENEFICIADA | I26: =SUM(I24:I25) -> 71500000
A27: 3. | B27: CANASTA DE SERVICIOS
A28: 3.1. | B28: SUBPROGRAMA NUTRICIONAL Y CARDIOVASCULAR
A29: 3.1.1. | B29: SERVICIO DE COMEDOR EN EL HOGAR DE PASO (DESAYUNOS, ALMUERZOS Y CENA)
A30: ITEM | B30: ESPECIFICACIÓN | D30: UNIDAD DE MEDIDA. | E30: CANTIDAD DIARIA | F30: BENEFICIARIOS | G30: MESES | H30: VALOR UNITARIO | I30: VALOR TOTAL
A31: 3.1.1.1. | B31: DESAYUNOS SERVIDOS: Huevos revueltos ó Queso, Arepa, yuca ó papa; Avena, Jugo Natural ó Café con Leche o según minuta recomendada por la nutricionista. | D31: Unidad | E31: 30 | F31: 20 | G31: 6.5 | H31: ='ESTUDIO DE MERCADO'!I31 -> 11250 | I31: =H31*G31*F31*E31 -> 43875000
A32: 3.1.1.2 | B32: MERIENDAS: FRUTA, CARBOHIDRATO, PROTEINA | D32: Unidad | E32: 60 | F32: 20 | G32: 6.5 | H32: ='ESTUDIO DE MERCADO'!I32 -> 7250 | I32: =H32*G32*F32*E32 -> 56550000
A33: 3.1.1.3 | B33: ALMUERZOS: PLATOS CORRIENTES INCLUYE: Proteina ( Cerdo, pollo, Carne de Res, Carnero hasta 200 gr) Sopa de Base Cárnica ó granos, Harina, Granos, Verduras y Jugo Natural ó Bebida carnonatada. Carbohidratos, Proteina, Jugo Natural. segun minuta sugerida por la nutricionista. | D33: Unidad | E33: 30 | F33: 20 | G33: 6.5 | H33: ='ESTUDIO DE MERCADO'!I33 -> 16300 | I33: =H33*G33*F33*E33 -> 63570000
A34: 3.1.1.4 | B34: CENA: Huevos revueltos ó Queso, Arepa, yuca ó papa; Avena, Jugo Natural ó Café con Leche. | D34: Unidad | E34: 30 | F34: 20 | G34: 6.5 | H34: ='ESTUDIO DE MERCADO'!I34 -> 11250 | I34: =H34*G34*F34*E34 -> 43875000
A35: SUBTOTAL SERVICIO DE COMEDOR EN EL HOGAR DE PASO (DESAYUNOS , ALMUERZOS Y CENA) | I35: =SUM(I31:I34) -> 207870000
A36: 3.1.2. | B36: ACTIVIDADES, LOGISTICA, EQUIPOS, MATERIALES Y ELEMENTOS PARA EL DESARROLLO DEL PROYECTO
A37: ITEM | B37: ESPECIFICACIÓN | D37: UNIDAD DE MEDIDA | E37: CANTIDAD | G37: MESES | H37: VALOR UNITARIO | I37: VALOR TOTAL
A38: 3.1.2.1. | B38: MAÑANAS DEPORTIVAS: ACTIVIDADES DE INTEGRACION SOCIAL, DEPORTIVA, FISICA Y LUDICO-RECRETIVA | C38: Instructor De actividades Recreativas y Deportivas: Incluye material logístico y para las actividades (Realizará 2 mañana deportivas mensuales) | D38: Número | E38: 1 | G38: 6.5 | H38: ='ESTUDIO DE MERCADO'!I39 -> 1455000 | I38: =H38*G38*E38 -> 9457500
C39: Alquiler de sillas Plasticas con Brazo para los Beneficiarios en la Realizacion de las 2 Mañanas Deportivas Mensuales. | D39: Unidad | E39: 110 | G39: 6.5 | H39: ='ESTUDIO DE MERCADO'!I40 -> 820 | I39: =H39*G39*E39 -> 586300
C40: Alquiler de sonido sencillo para la realizacion de las 2 mañanas deportivas Mensuales con microfono. | D40: Unidad | E40: 2 | G40: 6.5 | H40: ='ESTUDIO DE MERCADO'!I41 -> 275000 | I40: =H40*G40*E40 -> 3575000
...

Sheet ESTUDIO DE MERCADO
E1: DESARROLLO DE ACTIVIDADES PARA EL FORTALECIMIENTO DE LA ATENCIÓN AL ADULTO MAYOR DEL MUNICIPIO DE PUEBLO BELLO, CESAR
B2: PRESUPUESTO OFICIAL DETALLADO
B3: 1. | C3: GASTO DE PERSONAL Y ELEMENTOS DE BIOSEGURIDAD EL EQUIPO DE TRABAJO FIJO DEL PROYECTO
B4: ITEM | C4: DESCRIPCION | D4: PORCENTAJE DEDICACION | E4: UNIDAD DE MEDIDA | F4: CANTIDAD | H4: MESES | I4: VALOR UNITARIO | J4: TOTAL ACTIVIDAD
B5: 1.1 | C5: GASTO DE PERSONAL
B6: 1.1.1 | C6: COORDINADOR GENERAL | D6: 0.85 | E6: Unidad | F6: 1 | H6: 9 | I6: 4860000 | J6: =D6*F6*H6*I6 -> 37179000
B7: 1.1.2 | C7: COORDINADOR OPERATIVO | D7: 0.85 | E7: Unidad | F7: 1 | H7: 9 | I7: 4320000 | J7: =D7*F7*H7*I7 -> 33048000
B8: 1.1.3 | C8: NUTRICIONISTA | D8: 0.6 | E8: Unidad | F8: 1 | H8: 9 | I8: 2916000 | J8: =D8*F8*H8*I8 -> 15746400
B9: 1.1.4 | C9: ENFERMERAS | D9: 0.85 | E9: Unidad | F9: 3 | H9: 9 | I9: 2376000 | J9: =F9*H9*I9*D9 -> 54529200
B10: 1.1.5 | C10: PSICOLOGA | D10: 0.85 | E10: Unidad | F10: 1 | H10: 9 | I10: 2592000 | J10: =H10*I10*D10 -> 19828800
B11: 1.1.6 | C11: SERVICIOS GENERALES | D11: 0.8 | E11: Unidad | F11: 1 | H11: 9 | I11: 1423500 | J11: =D11*F11*H11*I11 -> 10249200
B12: TOTAL GASTO DE PERSONAL | J12: =SUM(J6:J11) -> 170580600
B13: 1.2 | C13: ELEMENTOS DE BIOSEGURIDAD EL EQUIPO DE TRABAJO FIJO DEL PROYECTO | M13: COTIZACION 1: PROVEDURIA & LOGISTICA TOTAL | W13: COTIZACION 2 | AG13: COTIZACION 3
B14: ITEM | C14: ESPECIFICACIÓN | E14: UNIDAD DE MEDIDA | G14: CANTIDAD | H14: ENTREGA | I14: VALOR UNITARIO | J14: VALOR TOTAL | L14: ITEM | M14: ESPECIFICACIÓN | O14: UNIDAD DE MEDIDA | Q14: CANTIDAD | R14: ENTREGA | S14: VALOR UNITARIO | T14: VALOR TOTAL | V14: ITEM | W14: ESPECIFICACIÓN | Y14: UNIDAD DE MEDIDA | AA14: CANTIDAD | AB14: ENTREGA | AC14: VALOR UNITARIO | AD14: VALOR TOTAL | AF14: ITEM | AG14: ESPECIFICACIÓN | AI14: UNIDAD DE MEDIDA | AK14: CANTIDAD | AL14: ENTREGA | AM14: VALOR UNITARIO | AN14: VALOR TOTAL
B15: 1.2.1. | C15: TAPABOCAS TERMOSELLADO | E15: Unidad | G15: 24 | H15: 18 | I15: =AVERAGE(S15,AC15,AM15) -> 720 | J15: =I15*H15*G15 -> 311040 | L15: 1 | M15: TAPABOCAS TERMOSELLADO | O15: Unidad | Q15: 24 | R15: 18 | S15: 720 | T15: =S15*R15*Q15 -> 311040 | V15: 1 | W15: TAPABOCAS TERMOSELLADO | Y15: Unidad | AA15: 24 | AB15: 18 | AC15: =S15*1.04 -> 748.8 | AD15: =AC15*AB15*AA15 -> 323481.6 | AF15: 1 | AG15: TAPABOCAS TERMOSELLADO | AI15: Unidad | AK15: 24 | AL15: 18 | AM15: =S15*0.96 -> 691.2 | AN15: =AM15*AL15*AK15 -> 298598.4
B16: 1.2.2. | C16: CAJA DE GUANTES PARA MANIPULADORAS DE ALIMENTOS (látex de caucho natural, Esteril .(caja x 50 pares) | E16: Caja | G16: 60 | H16: 18 | I16: =AVERAGE(S16,AC16,AM16) -> 26500 | J16: =I16*H16*G16 -> 28620000 | L16: 2 | M16: CAJA DE GUANTES PARA MANIPULADORAS DE ALIMENTOS (látex de caucho natural, Esteril .(caja x 50 pares) | O16: Caja | Q16: 60 | R16: 18 | S16: 26500 | T16: =S16*R16*Q16 -> 28620000 | V16: 2 | W16: CAJA DE GUANTES PARA MANIPULADORAS DE ALIMENTOS (látex de caucho natural, Esteril .(caja x 50 pares) | Y16: Caja | AA16: 60 | AB16: 18 | AC16: =S16*1.04 -> 27560 | AD16: =AC16*AB16*AA16 -> 29764800 | AF16: 2 | AG16: CAJA DE GUANTES PARA MANIPULADORAS DE ALIMENTOS (látex de caucho natural, Esteril .(caja x 50 pares) | AI16: Caja | AK16: 60 | AL16: 18 | AM16: =S16*0.96 -> 25440 | AN16: =AM16*AL16*AK16 -> 27475200
B17: 1.2.3. | C17: ALCOHOL x 120 ML * 70 % de concentración. | E17: Unidad | G17: 24 | H17: 4 | I17: =AVERAGE(S17,AC17,AM17) -> 5200 | J17: =I17*H17*G17 -> 499200 | L17: 3 | M17: ALCOHOL x 120 ML * 70 % de concentración. | O17: Unidad | Q17: 24 | R17: 4 | S17: 5200 | T17: =S17*R17*Q17 -> 499200 | V17: 3 | W17: ALCOHOL x 120 ML * 70 % de concentración. | Y17: Unidad | AA17: 24 | AB17: 4 | AC17: =S17*1.04 -> 5408 | AD17: =AC17*AB17*AA17 -> 519168 | AF17: 3 | AG17: ALCOHOL x 120 ML * 70 % de concentración. | AI17: Unidad | AK17: 24 | AL17: 4 | AM17: =S17*0.96 -> 4992 | AN17: =AM17*AL17*AK17 -> 479232
B18: 1.2.4. | C18: GORROS PARA LAS MANIPULADORAS DE ALIMENTOS (fabricado en tela dril blanca). | E18: Unidad | G18: 10 | H18: 4 | I18: =AVERAGE(S18,AC18,AM18) -> 6150 | J18: =I18*H18*G18 -> 246000 | L18: 4 | M18: GORROS PARA LAS MANIPULADORAS DE ALIMENTOS (fabricado en tela dril blanca). | O18: Unidad | Q18: 10 | R18: 4 | S18: 6150 | T18: =S18*R18*Q18 -> 246000 | V18: 4 | W18: GORROS PARA LAS MANIPULADORAS DE ALIMENTOS (fabricado en tela dril blanca). | Y18: Unidad | AA18: 10 | AB18: 4 | AC18: =S18*1.04 -> 6396 | AD18: =AC18*AB18*AA18 -> 255840 | AF18: 4 | AG18: GORROS PARA LAS MANIPULADORAS DE ALIMENTOS (fabricado en tela dril blanca). | AI18: Unidad | AK18: 10 | AL18: 4 | AM18: =S18*0.96 -> 5904 | AN18: =AM18*AL18*AK18 -> 236160
B19: 1.2.5. | C19: BATAS PARA LAS MANIPULADORAS DE ALIMENTOS (en dril resistente a la suciedad, 1 bolsillo grande, 2 bolsillos medianos y uno pequeño en el pecho, Ancho x Altura: 60 cm x 75 cm). | E19: Unidad | G19: 10 | H19: 2 | I19: =AVERAGE(S19,AC19,AM19) -> 68200 | J19: =I19*H19*G19 -> 1364000 | L19: 5 | M19: BATAS PARA LAS MANIPULADORAS DE ALIMENTOS (en dril resistente a la suciedad, 1 bolsillo grande, 2 bolsillos medianos y uno pequeño en el pecho, Ancho x Altura: 60 cm x 75 cm). | O19: Unidad | Q19: 10 | R19: 2 | S19: 68200 | T19: =S19*R19*Q19 -> 1364000 | V19: 5 | W19: BATAS PARA LAS MANIPULADORAS DE ALIMENTOS (en dril resistente a la suciedad, 1 bolsillo grande, 2 bolsillos medianos y uno pequeño en el pecho, Ancho x Altura: 60 cm x 75 cm). | Y19: Unidad | AA19: 10 | AB19: 2 | AC19: =S19*1.04 -> 70928 | AD19: =AC19*AB19*AA19 -> 1418560 | AF19: 5 | AG19: BATAS PARA LAS MANIPULADORAS DE ALIMENTOS (en dril resistente a la suciedad, 1 bolsillo grande, 2 bolsillos medianos y uno pequeño en el pecho, Ancho x Altura: 60 cm x 75 cm). | AI19: Unidad | AK19: 10 | AL19: 2 | AM19: =S19*0.96 -> 65472 | AN19: =AM19*AL19*AK19 -> 1309440
B20: SUBTOTAL ELEMENTOS DE BIOSEGURIDAD EL EQUIPO DE TRABAJO FIJO DEL PROYECTO | J20: =SUM(J15:J19) -> 31040240 | L20: TOTAL COTIZACION | T20: =SUM(T15:T19) -> 31040240 | V20: TOTAL COTIZACION | AD20: =SUM(AD15:AD19) -> 32281850 | AF20: TOTAL COTIZACION | AN20: =SUM(AN15:AN19) -> 29798630
B21: TOTAL GASTO DE PERSONAL Y ELEMENTOS DE BIOSEGURIDAD EL EQUIPO DE TRABAJO FIJO DEL PROYECTO | J21: =J12+J20 -> 201620840
B22: 2. | C22: TRANSPORTE PARA LA ATENCION Y PROMOCION DE LA POBLACION ADULTA MAYOR BENEFICIADA | M22: COTIZACION 1: COOMALPE | W22: =+W13 -> COTIZACION 2 | AG22: =+AG13 -> COTIZACION 3
B23: ITEM | C23: ESPECIFICACIÓN | E23: UNIDAD DE MEDIDA. | F23: No | H23: MES / VIAJES | I23: VALOR UNITARIO | J23: VALOR TOTAL | L23: ITEM | M23: ESPECIFICACIÓN | O23: UNIDAD DE MEDIDA. | P23: No | R23: MES / VIAJES | S23: VALOR UNITARIO | T23: VALOR TOTAL | V23: ITEM | W23: ESPECIFICACIÓN | Y23: UNIDAD DE MEDIDA. | Z23: No | AB23: MES / VIAJES | AC23: VALOR UNITARIO | AD23: VALOR TOTAL | AF23: ITEM | AG23: ESPECIFICACIÓN | AI23: UNIDAD DE MEDIDA. | AJ23: No | AL23: MES / VIAJES | AM23: VALOR UNITARIO | AN23: VALOR TOTAL
B24: 2.1. | C24: TRANSPORTE PARA LA ENTREGA DE VIVERES PARA EL SERVICIO DE COMEDOR . ENTREGA DE KITS NUTRICIONALES, ENTREGA DE LA DOTACION, KITS ASEO E HIGIENE PERSONAL , UTILES Y ELEMENTOS DE ASEO, EN EL HOGAR DE PASO DE PUEBLO - CESAR | D24: Arrendamiento de Transporte (tipo furgon) Mensual para la entrega de Viveres al Hogar de Paso para la preparacion dedesayunos, meriendas, almuerzos y cenas diarias a los Adultos Mayores Beneficiados. Transporte para la entrega de un kit nutricional, kit de aseo mensual, transporte de dotaciones, a los adultos mayores Saliendo Desde Valledupar hasta Pueblo Bello - Cesar, Incluye Conductor, Combustible y Mantenimiento. | E24: Unidad | F24: 1 | H24: 9 | I24: =AVERAGE(S24,AC24,AM24) -> 5500000 | J24: =I24*H24*F24 -> 49500000 | L24: 1 | M24: TRANSPORTE PARA LA ENTREGA DE VIVERES PARA EL SERVICIO DE COMEDOR . ENTREGA DE KITS NUTRICIONALES, ENTREGA DE LA DOTACION, KITS ASEO E HIGIENE PERSONAL , UTILES Y ELEMENTOS DE ASEO, EN EL HOGAR DE PASO DE PUEBLO - CESAR | N24: Arrendamiento de Transporte (tipo furgon) Mensual para la entrega de Viveres al Hogar de Paso para la preparacion dedesayunos, meriendas, almuerzos y cenas diarias a los Adultos Mayores Beneficiados. Transporte para la entrega de un kit nutricional, kit de aseo mensual, transporte de dotaciones, a los adultos mayores Saliendo Desde Valledupar hasta Pueblo Bello - Cesar, Incluye Conductor, Combustible y Mantenimiento. | O24: Unidad | P24: 1 | R24: 9 | S24: 5500000 | T24: =S24*R24*P24 -> 49500000 | V24: 1 | W24: TRANSPORTE PARA LA ENTREGA DE VIVERES PARA EL SERVICIO DE COMEDOR . ENTREGA DE KITS NUTRICIONALES, ENTREGA DE LA DOTACION, KITS ASEO E HIGIENE PERSONAL , UTILES Y ELEMENTOS DE ASEO, EN EL HOGAR DE PASO DE PUEBLO - CESAR | X24: Arrendamiento de Transporte (tipo furgon) Mensual para la entrega de Viveres al Hogar de Paso para la preparacion dedesayunos, meriendas, almuerzos y cenas diarias a los Adultos Mayores Beneficiados. Transporte para la entrega de un kit nutricional, kit de aseo mensual, transporte de dotaciones, a los adultos mayores Saliendo Desde Valledupar hasta Pueblo Bello - Cesar, Incluye Conductor, Combustible y Mantenimiento. | Y24: Unidad | Z24: 1 | AB24: 9 | AC24: =S24*1.04 -> 5720000 | AD24: =AC24*AB24*Z24 -> 51480000 | AF24: 1 | AG24: TRANSPORTE PARA LA ENTREGA DE VIVERES PARA EL SERVICIO DE COMEDOR . ENTREGA DE KITS NUTRICIONALES, ENTREGA DE LA DOTACION, KITS ASEO E HIGIENE PERSONAL , UTILES Y ELEMENTOS DE ASEO, EN EL HOGAR DE PASO DE PUEBLO - CESAR | AH24: Arrendamiento de Transporte (tipo furgon) Mensual para la entrega de Viveres al Hogar de Paso para la preparacion dedesayunos, meriendas, almuerzos y cenas diarias a los Adultos Mayores Beneficiados. Transporte para la entrega de un kit nutricional, kit de aseo mensual, transporte de dotaciones, a los adultos mayores Saliendo Desde Valledupar hasta Pueblo Bello - Cesar, Incluye Conductor, Combustible y Mantenimiento. | AI24: Unidad | AJ24: 1 | AL24: 9 | AM24: =0.96*S24 -> 5280000 | AN24: =AM24*AL24*AJ24 -> 47520000
B25: 2.2. | C25: TRANSPORTE PARA LA ATENCION Y , TRASLADO DE ADULTOS MAYORES A LAS ACTIVIDADES DEL PROGRAMA Y CITAS MEDICAS. | D25: TRANSPORTE PARA LA ATENCION Y , TRASLADO DE ADULTOS MAYORES A LAS ACTIVIDADES DEL PROGRAMA Y CITAS MEDICAS DENTRO DEL MUNICIPIO DE PUEBLO BELLO -CESAR | E25: Unidad | F25: 1 | H25: 9 | I25: =AVERAGE(S25,AC25,AM25) -> 5500000 | J25: =I25*H25*F25 -> 49500000 | L25: 2 | M25: TRANSPORTE PARA LA ATENCION Y , TRASLADO DE ADULTOS MAYORES A LAS ACTIVIDADES DEL PROGRAMA Y CITAS MEDICAS. | N25: TRANSPORTE PARA LA ATENCION Y , TRASLADO DE ADULTOS MAYORES A LAS ACTIVIDADES DEL PROGRAMA Y CITAS MEDICAS DENTRO DEL MUNICIPIO DE PUEBLO BELLO -CESAR | O25: Unidad | P25: 1 | R25: 9 | S25: 5500000 | T25: =S25*R25*P25 -> 49500000 | V25: 2 | W25: TRANSPORTE PARA LA ATENCION Y , TRASLADO DE ADULTOS MAYORES A LAS ACTIVIDADES DEL PROGRAMA Y CITAS MEDICAS. | X25: TRANSPORTE PARA LA ATENCION Y , TRASLADO DE ADULTOS MAYORES A LAS ACTIVIDADES DEL PROGRAMA Y CITAS MEDICAS DENTRO DEL MUNICIPIO DE PUEBLO BELLO -CESAR | Y25: Unidad | Z25: 1 | AB25: 9 | AC25: =S25*1.04 -> 5720000 | AD25: =AC25*AB25*Z25 -> 51480000 | AF25: 2 | AG25: TRANSPORTE PARA LA ATENCION Y , TRASLADO DE ADULTOS MAYORES A LAS ACTIVIDADES DEL PROGRAMA Y CITAS MEDICAS. | AH25: TRANSPORTE PARA LA ATENCION Y , TRASLADO DE ADULTOS MAYORES A LAS ACTIVIDADES DEL PROGRAMA Y CITAS MEDICAS DENTRO DEL MUNICIPIO DE PUEBLO BELLO -CESAR | AI25: Unidad | AJ25: 1 | AL25: 9 | AM25: =0.96*S25 -> 5280000 | AN25: =AM25*AL25*AJ25 -> 47520000
B26: TOTAL TRANSPORTE PARA LA ATENCION Y PROMOCION DE LA POBLACION ADULTA MAYOR BENEFICIADA | J26: =SUM(J24:J25) -> 99000000 | L26: =+L20 -> TOTAL COTIZACION | T26: =SUM(T24:T25) -> 99000000 | V26: =+V20 -> TOTAL COTIZACION | AD26: =SUM(AD24:AD25) -> 102960000 | AF26: =+AF20 -> TOTAL COTIZACION | AN26: =SUM(AN24:AN25) -> 95040000
B27: 3. | C27: CANASTA DE SERVICIOS
B28: 3.1. | C28: SUBPROGRAMA NUTRICIONAL Y CARDIOVASCULAR
B29: 3.1.1. | C29: SERVICIO DE COMEDOR EN EL HOGAR DE PASO (DESAYUNOS, ALMUERZOS Y CENA) | M29: COTIZACION 1 | W29: COTIZACION 2 | AG29: COTIZACION 3
B30: ITEM | C30: ESPECIFICACIÓN | E30: UNIDAD DE MEDIDA. | F30: CANTIDAD DIARIA | G30: BENEFICIARIOS | H30: MESES | I30: VALOR UNITARIO | J30: VALOR TOTAL | L30: ITEM | M30: ESPECIFICACIÓN | O30: UNIDAD DE MEDIDA. | P30: CANTIDAD DIARIA | Q30: BENEFICIARIOS | R30: MESES | S30: VALOR UNITARIO | T30: VALOR TOTAL | V30: ITEM | W30: ESPECIFICACIÓN | Y30: UNIDAD DE MEDIDA. | Z30: CANTIDAD DIARIA | AA30: BENEFICIARIOS | AB30: MESES | AC30: VALOR UNITARIO | AD30: VALOR TOTAL | AF30: ITEM | AG30: ESPECIFICACIÓN | AI30: UNIDAD DE MEDIDA. | AJ30: CANTIDAD DIARIA | AK30: BENEFICIARIOS | AL30: MESES | AM30: VALOR UNITARIO | AN30: VALOR TOTAL
B31: 3.1.1.1. | C31: DESAYUNOS SERVIDOS: Huevos revueltos ó Queso, Arepa, yuca ó papa; Avena, Jugo Natural ó Café con Leche o según minuta recomendada por la nutricionista. | E31: Unidad | F31: 30 | G31: 20 | H31: 9 | I31: =AVERAGE(S31,AC31,AM31) -> 11250 | J31: =I31*H31*G31*F31 -> 60750000 | L31: 1 | M31: DESAYUNOS SERVIDOS: Huevos revueltos ó Queso, Arepa, yuca ó papa; Avena, Jugo Natural ó Café con Leche o según minuta recomendada por la nutricionista. | O31: Unidad | P31: 30 | Q31: 20 | R31: 9 | S31: 11250 | T31: =S31*R31*Q31*P31 -> 60750000 | V31: 1 | W31: DESAYUNOS SERVIDOS: Huevos revueltos ó Queso, Arepa, yuca ó papa; Avena, Jugo Natural ó Café con Leche o según minuta recomendada por la nutricionista. | Y31: Unidad | Z31: 30 | AA31: 20 | AB31: 9 | AC31: =S31*1.04 -> 11700 | AD31: =AC31*AB31*AA31*Z31 -> 63180000 | AF31: 1 | AG31: DESAYUNOS SERVIDOS: Huevos revueltos ó Queso, Arepa, yuca ó papa; Avena, Jugo Natural ó Café con Leche o según minuta recomendada por la nutricionista. | AI31: Unidad | AJ31: 30 | AK31: 20 | AL31: 9 | AM31: =S31*0.96 -> 10800 | AN31: =AM31*AL31*AK31*AJ31 -> 58320000
B32: 3.1.1.2 | C32: MERIENDAS: FRUTA, CARBOHIDRATO, PROTEINA | E32: Unidad | F32: 60 | G32: 20 | H32: 9 | I32: =AVERAGE(S32,AC32,AM32) -> 7250 | J32: =I32*H32*G32*F32 -> 78300000 | L32: 2 | M32: MERIENDAS: FRUTA, CARBOHIDRATO, PROTEINA | O32: Unidad | P32: 60 | Q32: 20 | R32: 9 | S32: 7250 | T32: =S32*R32*Q32*P32 -> 78300000 | V32: 2 | W32: MERIENDAS: FRUTA, CARBOHIDRATO, PROTEINA | Y32: Unidad | Z32: 60 | AA32: 20 | AB32: 9 | AC32: =S32*1.04 -> 7540 | AD32: =AC32*AB32*AA32*Z32 -> 81432000 | AF32: 2 | AG32: MERIENDAS: FRUTA, CARBOHIDRATO, PROTEINA | AI32: Unidad | AJ32: 60 | AK32: 20 | AL32: 9 | AM32: =S32*0.96 -> 6960 | AN32: =AM32*AL32*AK32*AJ32 -> 75168000
B33: 3.1.1.3 | C33: ALMUERZOS: PLATOS CORRIENTES INCLUYE: Proteina ( Cerdo, pollo, Carne de Res, Carnero hasta 200 gr) Sopa de Base Cárnica ó granos, Harina, Granos, Verduras y Jugo Natural ó Bebida carnonatada. Carbohidratos, Proteina, Jugo Natural. segun minuta sugerida por la nutricionista. | E33: Unidad | F33: 30 | G33: 20 | H33: 9 | I33: =AVERAGE(S33,AC33,AM33) -> 16300 | J33: =I33*H33*G33*F33 -> 88020000 | L33: 3 | M33: ALMUERZOS: PLATOS CORRIENTES INCLUYE: Proteina ( Cerdo, pollo, Carne de Res, Carnero hasta 200 gr) Sopa de Base Cárnica ó granos, Harina, Granos, Verduras y Jugo Natural ó Bebida carnonatada. Carbohidratos, Proteina, Jugo Natural. segun minuta sugerida por la nutricionista. | O33: Unidad | P33: 30 | Q33: 20 | R33: 9 | S33: 16300 | T33: =S33*R33*Q33*P33 -> 88020000 | V33: 3 | W33: ALMUERZOS: PLATOS CORRIENTES INCLUYE: Proteina ( Cerdo, pollo, Carne de Res, Carnero hasta 200 gr) Sopa de Base Cárnica ó granos, Harina, Granos, Verduras y Jugo Natural ó Bebida carnonatada. Carbohidratos, Proteina, Jugo Natural. segun minuta sugerida por la nutricionista. | Y33: Unidad | Z33: 30 | AA33: 20 | AB33: 9 | AC33: =S33*1.04 -> 16952 | AD33: =AC33*AB33*AA33*Z33 -> 91540800 | AF33: 3 | AG33: ALMUERZOS: PLATOS CORRIENTES INCLUYE: Proteina ( Cerdo, pollo, Carne de Res, Carnero hasta 200 gr) Sopa de Base Cárnica ó granos, Harina, Granos, Verduras y Jugo Natural ó Bebida carnonatada. Carbohidratos, Proteina, Jugo Natural. segun minuta sugerida por la nutricionista. | AI33: Unidad | AJ33: 30 | AK33: 20 | AL33: 9 | AM33: =S33*0.96 -> 15648 | AN33: =AM33*AL33*AK33*AJ33 -> 84499200
B34: 3.1.1.4 | C34: CENA: Huevos revueltos ó Queso, Arepa, yuca ó papa; Avena, Jugo Natural ó Café con Leche. | E34: Unidad | F34: 30 | G34: 20 | H34: 9 | I34: =AVERAGE(S34,AC34,AM34) -> 11250 | J34: =I34*H34*G34*F34 -> 60750000 | L34: 4 | M34: CENA: Huevos revueltos ó Queso, Arepa, yuca ó papa; Avena, Jugo Natural ó Café con Leche. | O34: Unidad | P34: 30 | Q34: 20 | R34: 9 | S34: 11250 | T34: =S34*R34*Q34*P34 -> 60750000 | V34: 4 | W34: CENA: Huevos revueltos ó Queso, Arepa, yuca ó papa; Avena, Jugo Natural ó Café con Leche. | Y34: Unidad | Z34: 30 | AA34: 20 | AB34: 9 | AC34: =S34*1.04 -> 11700 | AD34: =AC34*AB34*AA34*Z34 -> 63180000 | AF34: 4 | AG34: CENA: Huevos revueltos ó Queso, Arepa, yuca ó papa; Avena, Jugo Natural ó Café con Leche. | AI34: Unidad | AJ34: 30 | AK34: 20 | AL34: 9 | AM34: =S34*0.96 -> 10800 | AN34: =AM34*AL34*AK34*AJ34 -> 58320000
B35: SUBTOTAL SERVICIO DE COMEDOR EN EL HOGAR DE PASO (DESAYUNOS , ALMUERZOS Y CENA) | J35: =SUM(J31:J34) -> 287820000 | L35: TOTAL COTIZACION | T35: =SUM(T31:T34) -> 287820000 | V35: TOTAL COTIZACION | AD35: =SUM(AD31:AD34) -> 299332800 | AF35: TOTAL COTIZACION | AN35: =SUM(AN31:AN34) -> 276307200
B37: 3.1.2. | C37: ACTIVIDADES, LOGISTICA, EQUIPOS, MATERIALES Y ELEMENTOS PARA EL DESARROLLO DEL PROYECTO | M37: COTIZACION 1 | W37: COTIZACION 2 | AG37: COTIZACION 3
B38: ITEM | C38: ESPECIFICACIÓN | E38: UNIDAD DE MEDIDA | F38: CANTIDAD | H38: MESES | I38: VALOR UNITARIO | J38: VALOR TOTAL | L38: ITEM | M38: ESPECIFICACIÓN | O38: UNIDAD DE MEDIDA | P38: CANTIDAD | R38: MESES | S38: VALOR UNITARIO | T38: VALOR TOTAL | V38: ITEM | W38: ESPECIFICACIÓN | Y38: UNIDAD DE MEDIDA | Z38: CANTIDAD | AB38: MESES | AC38: VALOR UNITARIO | AD38: VALOR TOTAL | AF38: ITEM | AG38: ESPECIFICACIÓN | AI38: UNIDAD DE MEDIDA | AJ38: CANTIDAD | AL38: MESES | AM38: VALOR UNITARIO | AN38: VALOR TOTAL
B39: 3.1.2.1. | C39: MAÑANAS DEPORTIVAS: ACTIVIDADES DE INTEGRACION SOCIAL, DEPORTIVA, FISICA Y LUDICO-RECRETIVA | D39: Instructor De actividades Recreativas y Deportivas: Incluye material logístico y para las actividades (Realizará 2 mañana deportivas mensuales) | E39: Número | F39: 1 | H39: 9 | I39: =AVERAGE(S39,AC39,AM39) -> 1455000 | J39: =I39*H39*F39 -> 13095000 | L39: 1 | M39: MAÑANAS DEPORTIVAS: ACTIVIDADES DE INTEGRACION SOCIAL, DEPORTIVA, FISICA Y LUDICO-RECRETIVA | N39: Instructor De actividades Recreativas y Deportivas: Incluye material logístico y para las actividades (Realizará 2 mañana deportivas mensuales) | O39: Número | P39: 1 | R39: 9 | S39: 1455000 | T39: =S39*R39*P39 -> 13095000 | V39: 1 | W39: MAÑANAS DEPORTIVAS: ACTIVIDADES DE INTEGRACION SOCIAL, DEPORTIVA, FISICA Y LUDICO-RECRETIVA | X39: Instructor De actividades Recreativas y Deportivas: Incluye material logístico y para las actividades (Realizará 2 mañana deportivas mensuales) | Y39: Número | Z39: 1 | AB39: 9 | AC39: =S39*1.04 -> 1513200 | AD39: =AC39*AB39*Z39 -> 13618800 | AF39: 1 | AG39: MAÑANAS DEPORTIVAS: ACTIVIDADES DE INTEGRACION SOCIAL, DEPORTIVA, FISICA Y LUDICO-RECRETIVA | AH39: Instructor De actividades Recreativas y Deportivas: Incluye material logístico y para las actividades (Realizará 2 mañana deportivas mensuales) | AI39: Número | AJ39: 1 | AL39: 9 | AM39: =S39*0.96 -> 1396800 | AN39: =AM39*AL39*AJ39 -> 12571200
D40: Alquiler de sillas Plasticas con Brazo para los Beneficiarios en la Realizacion de las 2 Mañanas Deportivas Mensuales. | E40: Unidad | F40: 110 | H40: 9 | I40: =AVERAGE(S40,AC40,AM40) -> 820 | J40: =I40*H40*F40 -> 811800 | N40: Alquiler de sillas Plasticas con Brazo para los Beneficiarios en la Realizacion de las 2 Mañanas Deportivas Mensuales. | O40: Unidad | P40: 110 | R40: 9 | S40: 820 | T40: =S40*R40*P40 -> 811800 | X40: Alquiler de sillas Plasticas con Brazo para los Beneficiarios en la Realizacion de las 2 Mañanas Deportivas Mensuales. | Y40: Unidad | Z40: 110 | AB40: 9 | AC40: =S40*1.04 -> 852.8 | AD40: =AC40*AB40*Z40 -> 844272 | AH40: Alquiler de sillas Plasticas con Brazo para los Beneficiarios en la Realizacion de las 2 Mañanas Deportivas Mensuales. | AI40: Unidad | AJ40: 110 | AL40: 9 | AM40: =S40*0.96 -> 787.2 | AN40: =AM40*AL40*AJ40 -> 779328
D41: Alquiler de sonido sencillo para la realizacion de las 2 mañanas deportivas Mensuales con microfono. | E41: Unidad | F41: 2 | H41: 9 | I41: =AVERAGE(S41,AC41,AM41) -> 275000 | J41: =I41*H41*F41 -> 4950000 | N41: Alquiler de sonido sencillo para la realizacion de las 2 mañanas deportivas Mensuales con microfono. | O41: Unidad | P41: 2 | R41: 9 | S41: 275000 | T41: =S41*R41*P41 -> 4950000 | X41: Alquiler de sonido sencillo para la realizacion de las 2 mañanas deportivas Mensuales con microfono. | Y41: Unidad | Z41: 2 | AB41: 9 | AC41: =S41*1.04 -> 286000 | AD41: =AC41*AB41*Z41 -> 5148000 | AH41: Alquiler de sonido sencillo para la realizacion de las 2 mañanas deportivas Mensuales con microfono. | AI41: Unidad | AJ41: 2 | AL41: 9 | AM41: =S41*0.96 -> 264000 | AN41: =AM41*AL41*AJ41 -> 4752000
...

Sheet APU Ancheta
C4: ANALISIS DE PRECIOS UNITARIOS ANCHETA CONMEMORACIÓN ADULTO MAYOR
C5: ITEM | D5: DESCRIPCIÓN | E5: UNIDAD DE MEDIDA | F5: CANTIDAD | G5: VALOR UNITARIO | H5: VALOR TOTAL
C6: 1. | D6: ARROZ (empaque plástico) x 1000 gr. | E6: Unidad | F6: 2 | G6: 4950 | H6: =G6*F6 -> 9900
C7: 2. | D7: AZUCAR(empaque plástico) x 1000 gr | E7: Unidad | F7: 1 | G7: 5600 | H7: =G7*F7 -> 5600
C8: 3. | D8: CAFÉ ( empaque carlix plast) 500 gr | E8: Unidad | F8: 1 | G8: 20200 | H8: =G8*F8 -> 20200
C9: 4. | D9: ACEITE ( botella plástica, aceite vegetal de palma comestible) 900 ml | E9: Unidad | F9: 1 | G9: 12500 | H9: =G9*F9 -> 12500
C10: 5. | D10: HARINA DE MAIZ PRECOCIDA (empaque plástico, Maiz blanco extrasuave) x 1000 gr | E10: Unidad | F10: 1 | G10: 5200 | H10: =G10*F10 -> 5200
C11: 6. | D11: AVENA MOLIDA (empaque plástico 100% natural, libre de colesterol) x 1000 gr | E11: Unidad | F11: 1 | G11: 14000 | H11: =G11*F11 -> 14000
C12: 7. | D12: LECHE EN POLVO (empaque carlix plast con vitamina 100% A, 03) x 900 gr | E12: Unidad | F12: 1 | G12: 32600 | H12: =G12*F12 -> 32600
C13: 8. | D13: FRIJOL ROJO (empaque plástico) x 1000 gr | E13: Unidad | F13: 1 | G13: 9800 | H13: =G13*F13 -> 9800
C14: 9. | D14: LENTEJA (empaque plástico) x 1000 gr | E14: Unidad | F14: 1 | G14: 9200 | H14: =G14*F14 -> 9200
C15: 10 | D15: SARDINA ( lata abre facil) x 415 gr | E15: Unidad | F15: 1 | G15: 13600 | H15: =G15*F15 -> 13600
C16: 11. | D16: PASTA TIPO ESPAGUETTI ( empaque plástico) x 1000 gr | E16: Unidad | F16: 1 | G16: 9800 | H16: =G16*F16 -> 9800
C17: 12. | D17: PANELA ( 100% natural, empaque plástico) x 240 gr | E17: Unidad | F17: 1 | G17: 2500 | H17: =G17*F17 -> 2500
C18: 13. | D18: SAL ( empaque plástico) x 500 gr | E18: Unidad | F18: 1 | G18: 1400 | H18: =G18*F18 -> 1400
C19: VALOR TOTAL | H19: =SUM(H6:H18) -> 146300

Sheet 4. ACTIVIDADES DEPORTIVAS
C4: ACOMPAÑAMIENTO EN EL DESARROLLO DEL EVENTO DEPORTIVO, ACTIVIDADES PSICOMOTORAS Y ORIENTACIÓN EN HÁBITOS Y ESTILOS DE VIDA SALUDABLE DIRIGIDO A LOS ADULTOS MAYORES DEL MUNICIPIO DE PUEBLO BELLO CESAR
C8: PRESUPUESTO OFICIAL
C9: ITEM | D9: DESCRIPCION / DETALLE | E9: UNIDAD DE MEDIDA | F9: CANTIDAD | G9: TIEMPO DE EJECUCIÓN (dias) | H9: VALOR UNITARIO | I9: VALOR TOTAL
C10: 1. | D10: TALENTO HUMANO
C11: 1.1 | D11: Coordinador del Proyecto | E11: Unidad | F11: 1 | G11: 3 | H11: 200000 | I11: =H11*F11*G11 -> 600000
C12: 1.2 | D12: Personal apoyo logístico | E12: Unidad | F12: 5 | G12: 3 | H12: 100000 | I12: =H12*F12*G12 -> 1500000
C13: 1.3 | D13: Auxiliar de enfermería | E13: Unidad | F13: 1 | G13: 3 | H13: 130000 | I13: =H13*F13*G13 -> 390000
C14: Subtotal | I14: =SUM(I11:I13) -> 2490000
C15: 2. | D15: INSUMOS
C16: 2.1 | D16: Gorras con logo municipal y del evento | E16: Unidad | F16: 300 | G16: 1 | H16: 25000 | I16: =F16*H16*G16 -> 7500000
C17: 2.2 | D17: Escarapela Con Reata Tipo Documento 13 X 10 Cm para talento humano y apoyo logístico | E17: Unidad | F17: 10 | G17: 1 | H17: 4500 | I17: =F17*H17*G17 -> 45000
C18: 2.3 | D18: Alquiler de sillas plasticas resistentes | E18: Und | F18: 300 | G18: 3 | H18: 800 | I18: =F18*H18*G18 -> 720000
C19: 2.4 | D19: Perifoneo para difusión local (4 horas diarias) | E19: Días | F19: 3 | G19: 1 | H19: 40000 | I19: =F19*H19*G19 -> 120000
C20: 2.5 | D20: Premiación primer puesto (ancheta saludable).SI la persona ganadora no habita en la casa del adulto mayor, la premiación será ancheta con mercado. | E20: Unidad | F20: 1 | G20: 1 | H20: 300000 | I20: =F20*H20*G20 -> 300000
C21: 2.6 | D21: Premiación segundo puesto (ancheta saludable).SI la persona ganadora no habita en la casa del adulto mayor, la premiación será ancheta con mercado. | E21: Unidad | F21: 1 | G21: 1 | H21: 200000 | I21: =F21*H21*G21 -> 200000
C22: 2.7 | D22: Premiación tercer puesto (ancheta saludable).SI la persona ganadora no habita en la casa del adulto mayor, la premiación será ancheta con mercado. | E22: Unidad | F22: 1 | G22: 1 | H22: 100000 | I22: =F22*H22*G22 -> 100000
C23: 2.8 | D23: Dorsales para carreras adhesiva en Pretex 120g. Impresos y personalizados al 100% a todo color con diseño alusivo al evento. Tamaño: 21 x 15cm. | E23: Unidad | F23: 100 | G23: 1 | H23: 8000 | I23: =F23*H23*G23 -> 800000
C24: 2.9 | D24: Pendones (Tamaño 1x2 Metros, Full Color En Vinilo De 200 Grs) alusivo al evento | E24: Unidad | F24: 1 | G24: 1 | H24: 155000 | I24: =F24*H24*G24 -> 155000
C25: 2.10 | D25: Ayuda audiovisual sonido tipo convencional, video beam | E25: Unidad | F25: 1 | G25: 1 | H25: 257500 | I25: =F25*H25*G25 -> 257500
C26: 2.11 | D26: Botiquín De Primeros Auxilios | E26: Unidad | F26: 1 | G26: 1 | H26: 50000 | I26: =F26*H26*G26 -> 50000
C27: Subtotal | I27: =SUM(I16:I26) -> 10247500
C28: 3 | D28: HABITOS Y VIDA SALUDABLE
C29: 3.1 | D29: Charla por parte del Instructor sobre la importancia del habito del ejercicio adecuado y alimentación saludable | E29: Und | F29: 1 | G29: 1 | H29: 180000 | I29: =F29*H29*G29 -> 180000
C30: 3.2 | D30: Ensalada de frutas | E30: Unidad | F30: 300 | G30: 1 | H30: 19500 | I30: =F30*H30*G30 -> 5850000
C31: 3.3 | D31: REFRIGERIOS que contenga porción mínima de 70 grms de harina Opciones: (Sandwich, Croasan), una fruta y jugo natural o bebida o jugo carbonatado de mínimo 600 ML | E31: Und | F31: 320 | G31: 1 | H31: 8667 | I31: =H31*F31 -> 2773440
C32: Subtotal | I32: =SUM(I29:I31) -> 8803440
C33: 4 | D33: ACTIVIDADES PSICOMOTORAS
C34: 4.1 | D34: Profesional en psicología para realizar charla motivacional | E34: Und | F34: 1 | G34: 1 | H34: 180000 | I34: =F34*H34*G34 -> 180000
C35: 4.2 | D35: Juego Cartas Barajas Naipes Plastificadas Plástico Poker #1 | E35: Und | F35: 5 | G35: 1 | H35: 30000 | I35: =F35*H35*G35 -> 150000
C36: 4.3 | D36: Domino Profesional Caja Madera Juego Fichas Casino Grande | E36: Und | F36: 5 | G36: 1 | H36: 30000 | I36: =F36*H36*G36 -> 150000
C37: 4.4 | D37: Ajedrez En Madera Artesanal De 45 X 45 | E37: Und | F37: 3 | G37: 1 | H37: 50000 | I37: =F37*H37*G37 -> 150000
C38: 4.5 | D38: REFRIGERIOS que contenga porción mínima de 70 grms de harina Opciones: (Sándwich, Croasan), una fruta y jugo natural o bebida o jugo carbonatado de mínimo 300 ML | E38: Und | F38: 320 | G38: 1 | H38: 8667 | I38: =F38*H38*G38 -> 2773440
C39: Subtotal | I39: =SUM(I34:I38) -> 3403440
C40: 5 | D40: ACTIVIDADES DEPORTIVAS
C41: 5.1 | D41: Instructor de aerobicos de bajo impacto | E41: Und | F41: 1 | G41: 1 | H41: 190000 | I41: =H41*F41*G41 -> 190000
C42: 5.2 | D42: Aro Hula-hula Grande Fluo Stasio 65cm Aprox X 10u | E42: Und | F42: 1 | G42: 1 | H42: 100000 | I42: =H42*F42*G42 -> 100000
C43: 5.3 | D43: Conos Platillos Marcación Deportivo Entrenamiento X 5 | E43: Und | F43: 5 | G43: 1 | H43: 22000 | I43: =H43*F43*G43 -> 110000
C44: 5.4 | D44: Escalera De Agilidad Coordinación Entrenamiento 10 pasos | E44: Und | F44: 5 | G44: 1 | H44: 30000 | I44: =H44*F44*G44 -> 150000
C45: 5.5 | D45: REFRIGERIOS que contenga porción mínima de 70 grms de harina Opciones: (Sandwich, Croasan), una fruta y jugo natural o bebida o jugo carbonatado de mínimo 600 ML | E45: Und | F45: 320 | G45: 1 | H45: 8667 | I45: =H45*F45*G45 -> 2773440
C46: 5.6 | D46: Hidratación a personas asistentes (botella de agua de 600 ml) | E46: Unidad | F46: 300 | G46: 1 | H46: 2137 | I46: =H46*F46*G46 -> 641100
...
