Workbook

Sheet presupuesto
B1: ALCALDÍA MUNICIPAL DE SOGAMOSO
B2: NIT.891.855.130
B3: INFRAESTRUCTURA CON PROPÓSITO
A4: PRESUPUESTO ESTIMADO DE REFERENCIA
A5: CONVENIO SOLIDARIO ENTRE EL MUNICIPIO DE SOGAMOSO Y EL ORGANISMO DE ACCIÓN COMUNAL DE LA VDA SAN JOSÉ DE LA PROVIDENCIA, PARA LA REHABILITACIÓN DE LA CALLE 22 SUR CON CARRERA 11
A6: DEPARTAMENTO | B6: NOMBRE DEL ORGANISMO DE ACCIÓN COMUNAL | D6: LONGITUD DEL CORREDOR (Km) | F6: DIRECCIÓN TERRITORIAL | G6: FECHA ELABORACIÓN
A7: BOYACÁ | B7: ACCIÓN COMUNAL DE LA VDA SAN JOSÉ DE LA PROVIDENCIA SOGAMOSO | D7: =+B65/1000 -> 0.1755 | F7: BOYACÁ | G7: 45748
A8: ACTIVIDADES DE MANTENIMIENTO Y MEJORAMIENTO
A9: No | B9: DESCRIPCIÓN | D9: UNID | E9: CANTIDAD | F9: VALOR UNITARIO | G9: VALOR TOTAL
A12: SECCIÓN 1 - ACTIVIDADES DE MEJORAMIENTO | J12: =134079445/12 -> 11173287
A13: CONSTRUCCIÓN VIA ADOQUINADA
A14: 1 | B14: =+'apu presupuesto'!I3 -> CONFORMACIÓN COMPACTACIÓN SUBRASANTE CBR=95% | D14: =+'apu presupuesto'!I4 -> M2 | E14: =+C70 -> 878 | F14: =+'apu presupuesto'!M27 -> 7891 | G14: =+ROUND(E14*F14,2) -> 6928298 | I14: =885.85*6396.75 -> 5666561
A15: 2 | B15: PEDRAPLEN COMPACTO | D15: M3 | E15: =+C75 -> 10 | F15: =+'apu presupuesto'!M60 -> 133212 | G15: =+ROUND(E15*F15,2) -> 1332120
A16: 3 | B16: =+'apu presupuesto'!H64 -> EXCAVACION MANUAL EN MATERIAL COMUN | D16: =+'apu presupuesto'!H65 -> M3 | E16: =+C80 -> 11 | F16: =+'apu presupuesto'!M80 -> 70578 | G16: =+ROUND(E16*F16,2) -> 776358
A17: 4 | B17: =+'apu presupuesto'!H85 -> SUMINISTRO E INSTALACION DE BORDILLO PREFABRICADO A-80 | D17: =+'apu presupuesto'!H86 -> ML | E17: =+C85 -> 176 | F17: =+'apu presupuesto'!M110 -> 56815 | G17: =+ROUND(E17*F17,2) -> 9999440 | J17: =+F17*E17 -> 9999440
A18: 5 | B18: =+'apu presupuesto'!H115 -> SUMINISTRO, EXTENDIDA Y COMPACTACION DE MATERIAL SELECCIONADO PARA BASE GRANULAR (INCLUYE ACARREO LIBRE DE 5KM) | D18: =+'apu presupuesto'!H116 -> M3 | E18: =+C90 -> 219 | F18: =+'apu presupuesto'!M144 -> 137165 | G18: =+ROUND(E18*F18,2) -> 30039135
A19: 6 | B19: =+'apu presupuesto'!H149 -> PAVIMENTO EN ADOQUIN TOLETE COMUN INSTALADO EN PANDERETA. | D19: =+'apu presupuesto'!H150 -> M2 | E19: =+C95 -> 878 | F19: =+'apu presupuesto'!M173 -> 83302 | G19: =+ROUND(E19*F19,2) -> 73139156 | I19: =+G29-I20 -> 71325626 | J19: 74396847 | K19: 71396847 | L19: =+J19-K19 -> 3000000
I20: 24059770 | J20: 24136755 | K20: 24059770 | L20: =+J20-K20 -> 76985
A21: SUB-TOTAL BÁSICO DE OBRA = (A) | G21: =SUM(G14:H20) -> 122214507 | I21: =SUM(I19:I20) -> 95385396 | J21: =SUM(J19:J20) -> 98533602 | K21: =SUM(K19:K20) -> 95456617
A22: GASTOS ADMINISTRATIVOS | G22: =+ADMINISTRATIVOS!G50 -> 21104698
A23: VALOR ESTIMADO CONVENIO | G23: =+G22+G21 -> 143319205
A25: =+A32 -> PRESUPUESTO DE APORTES DE LA OAC | G25: =+G40 -> 39889296
A26: =+A42 -> PRESUPUESTO DE APORTES DE MAQUINARIA DEL MUNICIPIO | G26: =+G50 -> 8044513 | L26: E
A27: =+A52 -> PRESUPUESTO DE APORTE ECONÓMICO DEL MUNICIPIO | G27: =+G60 -> 74280698
A28: =+A22 -> GASTOS ADMINISTRATIVOS | G28: =+G22 -> 21104698 | I28: =+G28+G27 -> 95385396 | J28: 95533602
A29: TOTAL APOYO ECONÓMICO | G29: =+G27+G28 -> 95385396 | I29: =+G25+G26+G27 -> 122214507 | J29: =+G29-J28 -> -148206 | L29: 95456617
A30: VALOR ESTIMADO CONVENIO | G30: =SUM(G25:H28) -> 143319205 | J30: 24136755
J31: =+J30+J29 -> 23988549
A32: PRESUPUESTO DE APORTES DE LA OAC
A33: CONSTRUCCIÓN VIA ADOQUINADA
A34: 1 | B34: =+B14 -> CONFORMACIÓN COMPACTACIÓN SUBRASANTE CBR=95% | D34: =+D14 -> M2 | E34: =+E14 -> 878 | F34: =+ROUND('apu presupuesto'!O27,2) -> 0 | G34: =+ROUND(E34*F34,2) -> 0 | I34: =+F34+F44+F54 -> 7891
A35: 2 | B35: =+B15 -> PEDRAPLEN COMPACTO | D35: =+D15 -> M3 | E35: =+E15 -> 10 | F35: =+ROUND('apu presupuesto'!O61,2) -> 0 | G35: =+ROUND(E35*F35,2) -> 0 | I35: =+F35+F45+F55 -> 133212
A36: 3 | B36: =+B16 -> EXCAVACION MANUAL EN MATERIAL COMUN | D36: =+D16 -> M3 | E36: =+E16 -> 11 | F36: =+ROUND('apu presupuesto'!O80,2) -> 0 | G36: =+ROUND(E36*F36,2) -> 0 | I36: =+F36+F46+F56 -> 70578
A37: 4 | B37: =+B17 -> SUMINISTRO E INSTALACION DE BORDILLO PREFABRICADO A-80 | D37: =+D17 -> ML | E37: =+E17 -> 176 | F37: =+ROUND('apu presupuesto'!O110,2) -> 0 | G37: =+ROUND(E37*F37,2) -> 0 | I37: =+F37+F47+F57 -> 56815
A38: 5 | B38: =+B18 -> SUMINISTRO, EXTENDIDA Y COMPACTACION DE MATERIAL SELECCIONADO PARA BASE GRANULAR (INCLUYE ACARREO LIBRE DE 5KM) | D38: =+D18 -> M3 | E38: =+E18 -> 219 | F38: =+ROUND('apu presupuesto'!O144,2) -> 0 | G38: =+ROUND(E38*F38,2) -> 0 | I38: =+F38+F48+F58 -> 137165
A39: 6 | B39: =+B19 -> PAVIMENTO EN ADOQUIN TOLETE COMUN INSTALADO EN PANDERETA. | D39: =+D19 -> M2 | E39: =+E19 -> 878 | F39: =+ROUND('apu presupuesto'!O173,2) -> 45432 | G39: =+ROUND(E39*F39,2) -> 39889296 | I39: =+F39+F49+F59 -> 83302
A40: SUB-TOTAL | G40: =ROUND(SUM(G34:H39),2) -> 39889296
A42: PRESUPUESTO DE APORTES DE MAQUINARIA DEL MUNICIPIO
A43: CONSTRUCCIÓN VIA ADOQUINADA
A44: 1 | B44: =+B34 -> CONFORMACIÓN COMPACTACIÓN SUBRASANTE CBR=95% | D44: =+D34 -> M2 | E44: =+E34 -> 878 | F44: =+ROUND('apu presupuesto'!P27,2) -> 1964 | G44: =+ROUND(E44*F44,2) -> 1724392
...

Sheet ADMINISTRATIVOS
B3: COSTOS DE ADMINISTRACIÓN DE REFERENCIA
B6: ÍTEM | E6: MESES | G6: 3
B7: 1 | C7: PERSONAL TÉCNICO Y ADMINISTRATIVO
B8: 1.1 | C8: Item 9,01,16 INGENIERO RESIDENTE (INCLUYE SALARIO BASE + FACTOR PRESTACIONAL DEL 72.85%) valor $ 7,029,353,60 50% de dedicación (*) | D8: Mes | E8: 3 | F8: =7029353.6*0.5 -> 3514676.8 | G8: =+E8*F8 -> 10544030 | I8: Item 9,01,16 INGENIERO RESIDENTE (INCLUYE SALARIO BASE + FACTOR PRESTACIONAL DEL 72.85%) valor $ 7,029,353,60 50% de dedicación
B9: 1.3 | C9: Res 050 5/5/2025 Item 9,01,16 ADMINISTRADOR (INCLUYE SALARIO BASE + FACTOR PRESTACIONAL DEL 72.85%) valor $ 3,762,261,23 dedicación 20% (*) | D9: Mes | E9: 3 | F9: =3762261.23*0.2 -> 752452.25 | G9: =+E9*F9 -> 2257356.7 | I9: Res 050 5/5/2025 Item 9,01,16 ADMINISTRADOR (INCLUYE SALARIO BASE + FACTOR PRESTACIONAL DEL 72.85%) valor $ 3,762,261,23 dedicación 20%
B10: 1.4 | C10: Maestro de obra (Nómina) | D10: Mes | E10: 3.5 | F10: 2700000
B11: 1.4.1 | C11: Carga Prestacional Maestro de Obra | D11: Mes | E11: 3.5 | F11: 1755000
B12: SUBTOTAL | G12: =SUM(G8:G11) -> 12801387
B13: 2 | C13: SEGURIDAD INDUSTRIAL Y DOTACIÓN
B14: 2.1 | C14: Casco Industrial con certificación ansi con rache para obrero | D14: Unidad | E14: 7 | G14: =+E14*F14 -> 0
B15: 2.2 | C15: Bota en caucho punta de acero para obrero | D15: Unidad | E15: 7 | G15: =+E15*F15 -> 0
B16: 2.3 | C16: Gafa industrial unilente clara protectora | D16: Unidad | E16: 21 | G16: =+E16*F16 -> 0
B17: 2.4 | C17: Guante de Carnaza corto reforzado | D17: Unidad | E17: 21 | G17: =+E17*F17 -> 0
B18: 2.5 | C18: Guante baqueta corto reforzado | D18: Unidad | E18: =+E14*2 -> 14 | G18: =+E18*F18 -> 0
B19: 2.6 | C19: Peto Carnaza | D19: Unidad | E19: 1 | G19: =+E19*F19 -> 0
B20: 2.7 | C20: Careta para guadañar | D20: Unidad | E20: 0 | G20: =+E20*F20 -> 0
B21: 2.8 | C21: Tapaoidos de inserción siliconado | D21: Unidad | E21: 21 | G21: =+E21*F21 -> 0
B22: 2.9 | C22: Botiquín Tipo A | D22: Unidad | E22: 1 | G22: =+E22*F22 -> 0
B23: 2.10 | C23: Uniforme | D23: Unidad | E23: 7 | G23: =+E23*F23 -> 0
B24: SUBTOTAL | G24: =SUM(G14:G23) -> 0
B25: 2 | C25: MEDIDAS AMBIENTALES
B26: 2.1 | C26: Señalizacion provisional de la obra | D26: Global | E26: 1 | F26: 800000 | G26: =+E26*F26 -> 800000
B27: 3.2 | C27: Plástico negro Cal. 6 ancho 4m para cubrimiento de agregados | D27: ML | E27: 50 | G27: =+E27*F27 -> 0
B28: 3.3 | C28: Cinta de demarcación L=500 M | D28: UND | E28: 3 | G28: =+E28*F28 -> 0
B29: 3.4 | C29: Señalizador trafico h=1,30m con base de caucho | D29: UND | E29: 6 | G29: =+E29*F29 -> 0
B30: 3.5 | C30: Señalizacion en lamina galvanizada con vinillo adhesivo | D30: UND | E30: 4 | G30: =+E30*F30 -> 0
B31: 3.6 | C31: Paleta de señalización PARE-SIGA | D31: UND | E31: 2 | G31: =+E31*F31 -> 0
B32: 3.7 | C32: Maletin Vial | D32: UND | E32: 3 | G32: =+E32*F32 -> 0
B33: 3.8 | C33: Caneca Plástica 55 gal para residuos | D33: UND | E33: 3 | G33: =+E33*F33 -> 0
B34: SUBTOTAL | G34: =SUM(G26:G33) -> 800000
B35: 3 | C35: GASTOS BANCARIOS
B36: 3.1 | C36: Gravámenes financieros 4*1000 | D36: Global | E36: 1 | F36: =ROUND(J39*0.004,0) -> 382134 | G36: =+E36*F36 -> 382134
B37: 3.2 | C37: Chequeras (100 cheques) o token | D37: Global | E37: 2 | F37: 350000 | G37: =+E37*F37 -> 700000
B38: SUBTOTAL | G38: =SUM(G36:G37) -> 1082134
B39: 4 | C39: OTROS COSTOS | J39: 95533602
B40: 4.1 | C40: Descuentos por retefuente 2%. | D40: Global | E40: 1 | F40: =ROUND(J39*0.02,0) -> 1910672 | G40: =+E40*F40 -> 1910672 | J40: =+presupuesto!I28 -> 95385396
B41: 4.2 | C41: Estampillas procultura 1,5% | D41: Global | E41: 1 | F41: =ROUND(J39*0.015,0) -> 1433004 | G41: =+E41*F41 -> 1433004 | J41: =+J39-J40 -> 148206
B42: 4.3 | C42: Densidades y control de calidad de materiales | D42: Global | E42: 1 | F42: 1000000 | G42: =+E42*F42 -> 1000000
B43: 4.4 | C43: Póliza | D43: GBL | E43: 1 | F43: =ROUND(147750138.88*0.01,0) -> 1477501 | G43: =+E43*F43 -> 1477501 | J43: =+presupuesto!I28 -> 95385396
B44: 4.5 | C44: Bodega | D44: Mes | E44: 3 | F44: 200000 | G44: =+E44*F44 -> 600000 | J44: 175.5
...

Sheet CRONOGRAMA
K2: 1 | L2: 2 | M2: 3 | N2: 4 | O2: 5 | P2: 6 | Q2: 7 | R2: 8 | S2: 9 | T2: 10 | U2: 11 | V2: 12 | W2: 13 | X2: 14 | Y2: 15 | Z2: 16 | AA2: 17 | AB2: 18 | AC2: 19 | AD2: 20 | AE2: 21 | AF2: 22 | AG2: 23 | AH2: 24 | AI2: 25 | AJ2: 26 | AK2: 27 | AL2: 28 | AM2: 29 | AN2: 30 | AO2: 31 | AP2: 32 | AQ2: 33 | AR2: 34 | AS2: 35 | AT2: 36 | AU2: 37 | AV2: 38 | AW2: 39 | AX2: 40 | AY2: 41 | AZ2: 42 | BA2: 43 | BB2: 44 | BC2: 45 | BD2: 46 | BE2: 47 | BF2: 48 | BG2: 49 | BH2: 50 | BI2: 51 | BJ2: 52 | BK2: 53 | BL2: 54 | BM2: 55 | BN2: 56 | BO2: 57 | BP2: 58 | BQ2: 59 | BR2: 60 | BS2: 61 | BT2: 62 | BU2: 63 | BV2: 64 | BW2: 65 | BX2: 66 | BY2: 67 | BZ2: 68 | CA2: 69 | CB2: 70 | CC2: 71 | CD2: 72 | CE2: 73 | CF2: 74 | CG2: 75 | CH2: 76 | CI2: 77 | CJ2: 78 | CK2: 79 | CL2: 80 | CM2: 81 | CN2: 82 | CO2: 83 | CP2: 84 | CQ2: 85 | CR2: 86 | CS2: 87 | CT2: 88 | CU2: 89 | CV2: 90
A3: CONSTRUCCIÓN VIA ADOQUINADA | D3: Und | E3: Ren | F3: Días | H3: Cantidad
A4: 1 | B4: =+presupuesto!B14 -> CONFORMACIÓN COMPACTACIÓN SUBRASANTE CBR=95% | D4: =+'apu presupuesto'!D23:H23 -> hh | E4: =+'apu presupuesto'!K24 -> 0,16 | F4: =+E4/8 -> 0.02 | G4: =+presupuesto!D14 -> M2 | H4: =+presupuesto!E14 -> 878 | I4: =+ROUND(H4*F4,0) -> 18 | J4: 9
B5: =+presupuesto!B15 -> PEDRAPLEN COMPACTO | D5: =+'apu presupuesto'!D50:H50 -> jr | E5: =+'apu presupuesto'!K50 -> 0,05 | F5: =+E5 -> 0,05 | G5: =+presupuesto!D15 -> M3 | H5: =+presupuesto!E15 -> 10 | I5: =+ROUND(H5*F5,0) -> 1 | J5: 2
A6: 2 | B6: =+presupuesto!B16 -> EXCAVACION MANUAL EN MATERIAL COMUN | D6: =+'apu presupuesto'!D76:H76 -> jr | E6: =+'apu presupuesto'!K77 -> 2,3 | F6: =+'apu presupuesto'!K76 -> 2,3 | G6: =+presupuesto!D16 -> M3 | H6: =+presupuesto!E16 -> 11 | I6: =+ROUND(H6*F6,0) -> 25 | J6: 3
A7: 3 | B7: =+presupuesto!B17 -> SUMINISTRO E INSTALACION DE BORDILLO PREFABRICADO A-80 | D7: =+'apu presupuesto'!D106:H106 -> hh | E7: =+'apu presupuesto'!K107 -> 0.6 | F7: =+E7/8 -> 0.075 | G7: =+presupuesto!D17 -> ML | H7: =+presupuesto!E17 -> 176 | I7: =+ROUND(H7*F7,0) -> 13 | J7: 11
A8: 4 | B8: =+presupuesto!B18 -> SUMINISTRO, EXTENDIDA Y COMPACTACION DE MATERIAL SELECCIONADO PARA BASE GRANULAR (INCLUYE ACARREO LIBRE DE 5KM) | D8: =+'apu presupuesto'!D135:H135 -> hr | E8: =+'apu presupuesto'!K135 -> 0,4 | F8: =+E8 -> 0,4 | G8: =+presupuesto!D18 -> M3 | H8: =+presupuesto!E18 -> 219 | I8: =+ROUND(H8*F8,0) -> 88 | J8: 6
A9: 5 | B9: =+presupuesto!B19 -> PAVIMENTO EN ADOQUIN TOLETE COMUN INSTALADO EN PANDERETA. | D9: =+'apu presupuesto'!D169:H169 -> jr | E9: =+'apu presupuesto'!K169 -> 0,2 | F9: =+E9 -> 0,2 | G9: =+presupuesto!D19 -> M2 | H9: =+presupuesto!E19 -> 878 | I9: =+ROUND(H9*F9,0) -> 176 | J9: 45

Sheet apu presupuesto
F1: Capitulo | I1: PRELIMINARES
F2: SubCap. | I2: PRELIMINARES
F3: Actividad | I3: CONFORMACIÓN COMPACTACIÓN SUBRASANTE CBR=95%
F4: U.M. | I4: M2
A6: 1 | B6: Material
O7: DISTRIBUCIÓN DE INVERSIONES EN EL CONVENIO | T7: Convenio
A8: Descripción | D8: U.M. | I8: Vr. Unitario | K8: Cantidad | M8: Vr. Parcial | N8: =+#REF! -> #REF! | O8: AOC | P8: MAQUINARIA | Q8: A/ECONÓMICO | R8: TOTAL | T8: Retro
A9: AGUA | D9: lt | I9: 3,65 | K9: 0,35 | M9: =+ROUND(I9*K9,0) -> 1 | N9: =+#REF! -> #REF! | Q9: =+M9 -> 1 | R9: =+O9+P9+Q9 -> 1 | T9: Vibro
J10: Total | K10: Material | M10: =SUM(M9) -> 1 | N10: =+#REF! -> #REF! | R10: =+O10+P10+Q10 -> 0 | T10: Transporte del ladrillo
A12: 2 | B12: Equipo | R12: =+O12+P12+Q12 -> 0
R13: =+O13+P13+Q13 -> 0
A14: Descripción | D14: U.M. | I14: Vr. Unitario | K14: Cantidad | M14: Vr. Parcial | N14: =+#REF! -> #REF! | R14: =+O14+P14+Q14 -> 0 | T14: Municipio
A15: RETROEXCAVADORA | D15: hr | I15: =+listados!D25 -> 130900 | K15: 0,015 | M15: =+ROUND(I15*K15,0) -> 1964 | N15: =+#REF! -> #REF! | P15: =+M15 -> 1964 | R15: =+O15+P15+Q15 -> 1964 | T15: Motoniveladora
M16: =+ROUND(I16*K16,0) -> 0 | N16: =+#REF! -> #REF! | P16: =+M16 -> 0 | R16: =+O16+P16+Q16 -> 0 | T16: Minicargador
A17: VIBROCOMPACTADOR CA-15 O SIMILAR | D17: hr | I17: =+listados!D26 -> 124950 | K17: 0,01 | M17: =+ROUND(I17*K17,0) -> 1250 | N17: =+#REF! -> #REF! | Q17: =+M17 -> 1250 | R17: =+O17+P17+Q17 -> 1250 | T17: Carro tanque
J18: Total | K18: Equipo | M18: =SUM(M15:M17) -> 3214 | N18: =+#REF! -> #REF! | R18: =+O18+P18+Q18 -> 0 | T18: Volquetas dobles
A20: 3 | B20: Mano de obra | R20: =+O20+P20+Q20 -> 0
R21: =+O21+P21+Q21 -> 0
A22: Descripción | D22: U.M. | I22: Vr. Unitario | K22: Cantidad | M22: Vr. Parcial | N22: =+#REF! -> #REF! | R22: =+O22+P22+Q22 -> 0
A23: AUXILIAR DE OBRA (B) | D23: hh | I23: =+listados!L20 -> 11689.878 | K23: 0,16 | M23: =+ROUND(I23*K23,0) -> 1870 | N23: =+#REF! -> #REF! | Q23: =+M23 -> 1870 | R23: =+O23+P23+Q23 -> 1870
A24: OFICIAL OBRA (A) | D24: hh | I24: =+listados!L21 -> 17534.815 | K24: 0,16 | M24: =+ROUND(I24*K24,0) -> 2806 | N24: =+#REF! -> #REF! | Q24: =+M24 -> 2806 | R24: =+O24+P24+Q24 -> 2806 | T24: =11689+17534 -> 29223
J25: Total Mano de obra | M25: =SUM(M23:M24) -> 4676 | N25: =+#REF! -> #REF! | R25: =+O25+P25+Q25 -> 0 | T25: =+T24*0.16 -> 4675.68
J27: Costo Total Actividad | M27: =+ROUND((M25+M18+M10),0) -> 7891 | N27: =+#REF! -> #REF! | O27: =ROUND(SUM(O9:O25),0) -> 0 | P27: =ROUND(SUM(P9:P25),4) -> 1964 | Q27: =ROUND(SUM(Q9:Q25),4) -> 5927 | R27: =ROUND(SUM(R9:R25),0) -> 7891 | S27: =+O27+P27+Q27+R27 -> 15782
E29: Capitulo | H29: EXPLANACIONES
E30: SubCap. | H30: EXPLANACIONES
E31: Actividad | H31: CONFORMACIÓN DE PEDRAPLEN COMPACTO
E32: U.M. | H32: M3
A34: 1 | B34: Material
O35: DISTRIBUCIÓN DE INVERSIONES EN EL CONVENIO
A36: Descripción | D36: U.M. | I36: Vr. Unitario | K36: Cantidad | M36: Vr. Parcial | O36: AOC | P36: MAQUINARIA | Q36: A/ECONÓMICO | R36: TOTAL
A37: PIEDRA RAJON | D37: M3 | I37: =+listados!D3 -> 78937 | K37: 1,3 | M37: =+ROUND(I37*K37,0) -> 102618 | Q37: =+M37 -> 102618 | R37: =+O37+P37+Q37 -> 102618
J38: Total | K38: Material | M38: =+M37 -> 102618 | R38: =+O38+P38+Q38 -> 0
A40: 2 | B40: Equipo | R40: =+O40+P40+Q40 -> 0
R41: =+O41+P41+Q41 -> 0
A42: Descripción | D42: U.M. | I42: Vr. Unitario | K42: Cantidad | M42: Vr. Parcial | R42: =+O42+P42+Q42 -> 0
A43: RETROEXCAVADORA JD-510 O SIMILAR | D43: hr | I43: =+listados!D25 -> 130900 | K43: 0,09 | M43: =+ROUND(I43*K43,0) -> 11781 | Q43: =+M43 -> 11781 | R43: =+O43+P43+Q43 -> 11781
A44: VIBROCOMPACTADOR CA-15 O SIMILAR | D44: hr | I44: =+listados!D26 -> 124950 | K44: 0,03 | M44: =+ROUND(I44*K44,0) -> 3749 | Q44: =+M44 -> 3749 | R44: =+O44+P44+Q44 -> 3749
J45: Total | K45: Equipo | M45: =SUM(M43:M44) -> 15530 | R45: =+O45+P45+Q45 -> 0
A47: 3 | B47: Mano de obra | R47: =+O47+P47+Q47 -> 0
R48: =+O48+P48+Q48 -> 0
...

Sheet listados
B1: MATERIALES | E1: ANÁLISIS DE PRECIOS UNITARIOS DE REFERENCIA REGIONALIZADOS 2024-1
B2: DESCRIPCIÓN | C2: UNIDAD | D2: VR UNITARIO | E2: # | F2: Código | G2: unidad | H2: Insumo | I2: Precio ($ COP)
B3: Piedra Rajón | C3: m3 | D3: 78937 | E3: 284 | F3: B0014700 | G3: m3 | H3: Piedra para concreto ciclópeo (rajón o canto rodado) | I3: 52402.098
B4: Base granular | C4: m3 | D4: 72987 | E4: 217 | F4: B0014304 | G4: m3 | H4: Material de base clase A (NT3) gradación gruesa BG 40 | I4: 66262.887
B5: Sub base granular | C5: m3 | E5: 416 | F5: B0033034 | G5: m3 | H5: Subbase granular con agregado siderúrgico - clase B, gradación SBG-50 | I5: 52515.362
B6: Sardinel Prefabricado A-80 | C6: und | D6: 30940 | E6: 72 | F6: B0013438 | G6: u | H6: Bordillo prefabricado en concreto Ref.A80 NTC-4109, 0,20 x 0,35 x 0.80 m | I6: 31225.283
B7: Cemento en saco de uso general x 50 kg puesto en obra (zona urbana) | C7: blt | D7: 28500 | E7: 103 | F7: B0103564 | G7: kg | H7: Cemento portland ASTM C150 tipo I | I7: 645.7323 | K7: =+I7*50 -> 32286.615
B8: Arena de peña | C8: m3 | D8: 62523 | E8: 56 | F8: B0093320 | G8: m3 | H8: Arena fina de rio para sello de juntas | I8: 60769.781
B9: Ladrillo Tolete Común (incluye transporte zona urbana) | C9: und | D9: 507 | E9: 16 | F9: B0043080 | G9: m2 | H9: Adoquín rectangular biselado de 10cm x 20cm e=8cm | I9: 70464.729 | K9: =+I9/54 -> 1304.9024
F10: Gobernación | G10: UND | H10: LADRILLO TOLETE RECOCIDO | I10: 700
D12: =+D7/50 -> 570
B14: MANO DE OBRA | I14: Gobernación de Boyacá 2023
B15: DESCRIPCIÓN | C15: UNIDAD | D15: VR UNITARIO | E15: rendimiento gobernación | F15: INVIAS pero acostado el adoquin | G15: precio gobernación 2023 | I15: Auxiliar de obra | J15: Jr | K15: 95545
B16: Mano de obra instalación de adoquín vertical | C16: m2 | D16: 26500 | E16: 29961.692 | F16: 10007 | G16: 25959 | I16: Oficial de obra | J16: Jr | K16: 164047
B17: Instalación de sardinel prefabricado A - 80 | C17: m | D17: 21000 | F17: =+#REF! -> #REF! | G17: 15576
B18: Mano de obra, preliminares, excavaciones manuales, rellenos | C18: ayudante/mes | D18: 1623500 | I18: Resolución No. 050 de 5 de mayo de 2025
I19: ANEXO 4 - LISTADO DE SALARIOS, PERSONAL Y CUADRILLAS SECRETARÍA DE INFRAESTRUCTURA PÚBLICA GOBERNACIÓN DE BOYACÁ
I20: Auxiliar de obra | J20: Jr | K20: 93519.02 | L20: =+K20/8 -> 11689.878 | N20: 11689.88
I21: Oficial de obra | J21: jr | K21: 140278.52 | L21: =+K21/8 -> 17534.815 | N21: 17534.81
B22: HERREMIENTAS Y EQUIPOS
B23: DESCRIPCIÓN | C23: UNIDAD | D23: VR UNITARIO | E23: # | F23: Código | G23: unidad | H23: Insumo | I23: Precio ($ COP) | K23: gobernación
B24: Motoniveladora Potencia mínima 120 HP y Max 215 HP | C24: hr | D24: 175525 | E24: 91 | F24: C0010611 | G24: h | H24: Motoniveladora, potencia 140 HP, ancho de cuchilla 3,66 m, peso 11 ton | I24: 372085.84 | K24: 170683
B25: Retroexcavadora Pajarita | C25: hr | D25: 130900 | E25: 112 | F25: C0010822 | G25: h | H25: Retroexcavadora sobre llantas, motor 62HP, Profundidad de excavación de 5.41 metros | I25: 257359.38 | K25: 95000
B26: Vibrocompactador CA-15 o Similar | C26: hr | D26: 124950 | E26: 128 | F26: C0010923 | G26: h | H26: Vibrocompactador, potencia 153 HP, peso 10 ton | I26: 260460.09 | K26: 100000
B27: Carrotanque Agua | C27: día | D27: 475000 | E27: 25 | F27: C0010150 | G27: h | H27: Carrotanque de agua(1000 Galones) | I27: 182942.21 | K27: 81667
B28: Vibrocompactador tipo rana | C28: hr | K28: 8333.33
B30: TRANSPORTE
B31: DESCRIPCIÓN | C31: UNIDAD | D31: VR UNITARIO | E31: # | F31: Código | G31: unidad | H31: Insumo | I31: Precio ($ COP)
B32: Retiro de escombros | C32: vj | D32: 175000 | E32: 18 | F32: T0010032 | G32: m3-km | H32: Transporte de material de demolición | I32: 1157.9769
B33: Piedra Rajón | C33: vj | D33: 175000 | H33: 13 | I33: m3
B34: Base granular | C34: vj | D34: 175000 | H34: 10 | I34: km
B35: Sardineles Prefabricados A-80 | C35: vj | D35: 175000 | I35: =+I32*H33*H34 -> 150537
B36: Arena de peña | C36: vj | D36: 175000
E38: canteras o distancias de transporte

Sheet APU GOBER 050 RES
K16: Resolución Gobernación 050 de 5/5/2025
K17: Referencia | L17: Unidad | M17: Material | N17: Valor
K18: 2,01,06 | L18: Lt | M18: Agua | N18: 3.65
K19: 3,02,10 | L19: M3-Km | M19: Transporte m3/Km | N19: 10464
K20: 3,07,02 | L20: H | M20: VIBROCOMPACTADOR RANA (AA) | N20: 12500
K35: =11689.88+17534.82 -> 29224.7
