Workbook
Name modificaciones: [1]Listas!$D$61:$D$64

Sheet INSTRUCCIONES
A5: Generalidades | B5: 1. El Plan Operativo de Actividades - POA es el instrumento de seguimiento a la ejecución y control del proyecto. 2. El POA será insumo para programar las actividades del proyecto en GESPROY en su línea base. 3. La información para el diligenciamiento del POA debe extraerse de la MGA y el presupuesto aprobado. 4. Es responsabilidad de la entidad ejecutora el diligenciamiento de todas las pestañas. 5. El diligenciamiento de la ejecución mensual es responsabilidad de la entidad, en las pestañas de POA técnico y financiero. 6. La entidad ejecutora no podrá registrar porcentajes de avance diferentes al período que está reportando ni en GESPROY ni en el POA sin el aval de la supervisión. (En los casos que la supervisión no se pronuncie el día 15, la entidad ejecutora podrá registrar el porcentaje que presenta en su informe mensual de ejecución). 7. Este documento de POA debe ser enviado junto con el informe de ejecución en cada período. 8. Este documento de POA solo podrá ser modificado si lo antecede un ajuste/modificación aprobado (Supervisión, OCAD CTeI SGR, Secretaría técnica).
A6: Datos Generales del Proyecto | B6: La Información debe extraerse de la MGA aprobada.
A7: Control de Ajustes | B7: Consecutivo de las modificaciones/ajustes solicitados y aprobados por el supervisor/Secretaría Técnica/OCAD. Actualizarlo con todos los ajustes realizados desde la aprobación del proyecto hasta el cierre.
A8: Control de Ajustes POA | B8: Consecutivo de las modificaciones realizadas al POA
A9: Actividades MGA | B9: Nota 1. La columna "PESO FÍSICO OBJETIVOS ESPECIFICOS” Se puede determinar mediante la importancia del aporte del objetivo específico para el cumplimiento del objetivo general, u otro marco de referencia que sustente la entidad. La sumatoria de los objetivos específicos debe ser 100%. En unidades de % se debe calcular con dos (2) digitos decimales. Nota 2. La supervisión recomienda programar con unidades de %. Nota 3. Actividades Predecesoras. Nota 4. Actividad-CC/FC. Corresponde al tipo de actividad. CC: Comienzo-Comienzo, la actividad puede comenzar una vez haya comenzado la actividad precedente. Fin-Comienzo, la actividad no puede empezar hasta tanti no haya terminado la actividad precedente. Nota 5. Tiempo Probable: El tiempo más frecuente de ejecución de una actividad de iguales características.
A10: POA Técnico | B10: Nota 1. Las columnas "OBJETIVO GENERAL", "OBJETIVO ESPECÍFICO", "PAQUETE DE TRABAJO (ACTIVIDADES DE LA MGA)", "PRODUCTO", "INDICADORES", "META", es información que debe extraerse de la MGA del proyecto aprobado. Recordar que el nombre de las actividades deberá registrarse conforme numeración de la MGA. Nota 2. La columna "PESO FÍSICO ACTIVIDADES" Se puede determinar mediante la importancia del aporte de la actividad para el cumplimiento del objetivo específico, o por la ponderación del costo de la actividad frente al valor total del objetivo específico, u otro marco de referencia que sustente la entidad. La sumatoria de las actividades debe ser 100%. En unidades de % se debe calcular con dos (2) digitos decimales. Nota 3. En la columna "ENTREGABLE", diligenciar por actividad el nombre del/los entregable/s para el cumplimiento de la misma. Cada entregable deberá relacionarse en una fila independiente. Nota 4. En la columna "MEDIO DE VERIFICACIÓN DEL ENTREGABLE", diligenciar mediante que soporte(s) se podrá validar el cumplimiento del avance mensual para el entregable. Nota 5. La columna "PESO FÍSICO ENTREGABLE" podrá determinarse por la importancia del aporte del entregable para el cumplimiento de la actividad, u otro marco de referencia que sustente la entidad (sin incluir recursos). En unidades de % se debe calcular con dos (2) digitos decimales. Nota 6. Las columnas "DURACIÓN ENTREGABLES", "MES INICIO ", "MES FIN ", son información que deberá registrar la entidad para el tiempo requerido en ejecutar el entregable. Nota 7. Las filas relacionadas a lo "Planeado" deberán ser diligenciadas por la entidad ejecutora. Nota 8. Las filas relacionadas a lo "Ejecutado" deberán diligenciadas por la entidad ejecutora a partir del inicio del proyecto.
A11: POA Financiero | B11: Para el diligenciamiento del POA Financiero, las actividades serán registradas conforme a los valores aprobados por actividad en el proyecto.
A12: Metodología de Cuantificación de Actividades | B12: Metodología: La formulación del POA debe reflejar el conjunto de resultados concretos, medibles, realizables y verificables que se esperan obtener en el horizonte de tiempo del proyecto. Las actividades aprobadas en la MGA deben establecerse en términos de resultado o productos, en este sentido, la gestión institucional que se adelante es el medio para cumplir el objetivo general del proyecto, y sus porcentajes programados no es el presupuesto sino la importancia o el aporte al cumplimiento del proyecto desde lo técnico. Se recomienda a la entidad describir brevemente la metodología realizada para la formulación del POA, que posibilite hacer un seguimiento y control del cumplimiento de lo contemplado en este instrumento y su cuantificación frente a los entregables, evidencias.

Sheet PROYECTO
A5: Fecha Inicio del Proyecto
A6: Fecha de Terminación del Proyecto:
A7: DILIGENCIA ENTIDAD EJECUTORA-INFORMACIÓN EXTRAIDA DE LA MGA
A8: BPIN | B8: Nombre del Proyecto | C8: Objetivo General | D8: Acuerdo Aprobación OCAD | E8: Convocatoria | F8: Entidad Ejecutora | G8: Costo Total del Proyecto | H8: Plazo | I8: % Ejecución Física | J8: % Ejecución financiera | K8: Representante Legal | L8: Localización
A9: 2023000100011 | B9: Implementación de la ruta de la innovación para fortalecer la competitividad de las empresas de la región Centro Sur, Caquetá, Huila, Tolima y Putumayo | C9: Incrementar la actividad innovadora del tejido empresarial de la región Centro Sur | D9: ACUERDO No. 33 de 16/08/2023 | E9: CONVOCATORIA No. 30 | F9: Asesoría Estrategica Empresarial S.A.S. | G9: 3736763000 | H9: 24 | I9: =+'POA TÉCNICO'!AJ38 -> 0.54129685 | J9: ='POA FINAN'!AG37/G9 -> 0.51109056 | K9: Daniela Rave Acevedo | L9: Pereira

Sheet CONTROL DE AJUSTES
A6: Diligenciar por parte de la Entidad Ejecutora | G6: Diligencia- Apoyo de la Supervisión
A7: BPIN | B7: Proyecto | C7: Tipo de Modificación o Ajuste | D7: Fecha de Radicación | E7: Instancia que Aprueba | F7: DESCRIPCIÓN DEL AJUSTE | G7: Firmado por el Supervisor (SI / NO) | H7: Fecha de aprobación | I7: Fecha de notificación de aprobación a la Entidad Ejecutora
A8: =PROYECTO!A9 -> 2023000100011 | B8: =+PROYECTO!B9 -> Implementación de la ruta de la innovación para fortalecer la competitividad de las empresas de la región Centro Sur, Caquetá, Huila, Tolima y Putumayo

Sheet CONTROL DE CAMBIOS POA
A6: Diligenciar por parte de la Entidad Ejecutora
A7: BPIN | B7: Proyecto | C7: Fecha radicado POA a Modificar | D7: Fecha Mesa Técnica | E7: Fecha de aprobación del POA | F7: OBSERVACIONES Describa brevemente la modificación
A8: =+PROYECTO!A9 -> 2023000100011 | B8: =+PROYECTO!$B$9 -> Implementación de la ruta de la innovación para fortalecer la competitividad de las empresas de la región Centro Sur, Caquetá, Huila, Tolima y Putumayo

Sheet PRODUCTOS MGA
B5: DILIGENCIA EL EJECUTOR - EXTRAE LA INFORMACIÓN DE LA MGA
A6: Nombre de Proyecto | B6: Objetivos Específicos | C6: Objetivo Específico | D6: VALOR | E6: Nombre Producto MGA | F6: Indicador del producto | G6: Unidad de Medida del producto | H6: Cantidad
A8: =+PROYECTO!B9 -> Implementación de la ruta de la innovación para fortalecer la competitividad de las empresas de la región Centro Sur, Caquetá, Huila, Tolima y Putumayo | B8: 1 | C8: Desarrollar capacidades para la generación de innovación en el tejido empresarial de la región | D8: 1537101286 | E8: 1.1. Servicios de apoyo para entrenamiento especializado | F8: Número de cursos | G8: Unidad | H8: 3
A9: =+PROYECTO!B9 -> Implementación de la ruta de la innovación para fortalecer la competitividad de las empresas de la región Centro Sur, Caquetá, Huila, Tolima y Putumayo | B9: 2 | C9: Promover el desarrollo de proyectos de innovación en el sector productivo de la región | D9: 2199661714 | E9: 2.1 Servicio de apoyo para el desarrollo tecnológico y la innovación (Producto principal del proyecto) | F9: Número de proyectos | G9: Unidad | H9: 20
D10: =SUM(D8:D9) -> 3736763000

Sheet ACTIVIDADES MGA
A5: SE DILIGENCIA AUTOMÁTICAMENTE | R5: ENTIDAD EJECUTORA - PROGRAMA POR MESES
A6: BPIN | B6: Nombre del proyecto | C6: Objetivos Específicos | D6: % | E6: No. de la actividad | F6: Descripción de la actividad | G6: Unidad de Medida | H6: Duración (Mes - Meses) | I6: Mes Inicio de la Actividad | J6: Mes de Terminación de la Actividad | K6: Actividad Predecesora | L6: Actividad CC/FC | M6: Días | N6: Tiempo Optimista Días | O6: Tiempo Probable Días | P6: Tiempo Pesimista Mes | Q6: Tiempo Estimado/Ruta Crítica | AP6: Peso Porcentual | AQ6: Presupuesto | AR6: Aporte en especie
R7: Mes 1 | S7: Mes 2 | T7: Mes 3 | U7: Mes 4 | V7: Mes 5 | W7: Mes 6 | X7: Mes 7 | Y7: Mes 8 | Z7: Mes 9 | AA7: Mes 10 | AB7: Mes 11 | AC7: Mes 12 | AD7: Mes 13 | AE7: Mes 14 | AF7: Mes 15 | AG7: Mes 16 | AH7: Mes 17 | AI7: Mes 18 | AJ7: Mes 19 | AK7: Mes 20 | AL7: Mes 21 | AM7: Mes 22 | AN7: Mes 23 | AO7: Mes 24
R8: Nov | S8: Dic | T8: Enero | U8: Feb | V8: Mar | W8: Abril | X8: Mayo | Y8: Junio | Z8: Julio | AA8: Agosto | AB8: Sept | AC8: Oct | AD8: Nov | AE8: Dic | AF8: Enero | AG8: Feb | AH8: Mar | AI8: Abril | AJ8: Mayo | AK8: Junio | AL8: Julio | AM8: Agosto | AN8: Sept | AO8: Oct
R9: =VLOOKUP(R8,[2]Hoja1!$B$2:$C$13,2,0) -> 30 | S9: =VLOOKUP(S8,[2]Hoja1!$B$2:$C$13,2,0) -> 31 | T9: =VLOOKUP(T8,[2]Hoja1!$B$2:$C$13,2,0) -> 30 | U9: =VLOOKUP(U8,[2]Hoja1!$B$2:$C$13,2,0) -> 28 | V9: =VLOOKUP(V8,[2]Hoja1!$B$2:$C$13,2,0) -> 31 | W9: =VLOOKUP(W8,[2]Hoja1!$B$2:$C$13,2,0) -> 30 | X9: =VLOOKUP(X8,[2]Hoja1!$B$2:$C$13,2,0) -> 31 | Y9: =VLOOKUP(Y8,[2]Hoja1!$B$2:$C$13,2,0) -> 30 | ... AO9: =VLOOKUP(AO8,[2]Hoja1!$B$2:$C$13,2,0) -> 31
A10: =+PROYECTO!$A$9 -> 2023000100011 | B10: =+PROYECTO!$B$9 -> Implementación de la ruta de la innovación para fortalecer la competitividad de las empresas de la región Centro Sur, Caquetá, Huila, Tolima y Putumayo | C10: =+'PRODUCTOS MGA'!C8 -> Desarrollar capacidades para la generación de innovación en el tejido empresarial de la región | E10: Actividad 1.1.1 | F10: Realizar eventos de socialización y divulgación a las MiPyMe en departamentos de la región | G10: und | H10: 4 | I10: 1 | J10: 4 | L10: FC | N10: =+O10-(O10*20%) -> 96 | O10: 120 | P10: =+O10+30 -> 150 | Q10: =+(N10+4*(O10)+P10)/6 -> 121 | R10: X | S10: X | T10: X | U10: X | AP10: ='POA TÉCNICO'!K11+'POA TÉCNICO'!K12 -> 0.068235541 | AQ10: ='POA FINAN'!H10+'POA FINAN'!H11 -> 242800000
A11: =+PROYECTO!$A$9 -> 2023000100011 | B11: =+PROYECTO!$B$9 -> Implementación de la ruta de la innovación para fortalecer la competitividad de las empresas de la región Centro Sur, Caquetá, Huila, Tolima y Putumayo | C11: =+C10 -> Desarrollar capacidades para la generación de innovación en el tejido empresarial de la región | E11: Actividad 1.1.2 | F11: Desarrollar la inscripción y selección de las empresas beneficiarias | G11: und | H11: 5 | I11: 2 | J11: 6 | K11: =+E10 -> Actividad 1.1.1 | L11: FC | N11: =+O11-(O11*20%) -> 120 | O11: 150 | P11: =+O11+30 -> 180 | Q11: =+(N11+4*(O11)+P11)/6 -> 150 | S11: X | T11: X | U11: X | V11: X | W11: X | AP11: ='POA TÉCNICO'!K13+'POA TÉCNICO'!K14 -> 0.034005356 | AQ11: ='POA FINAN'!H12+'POA FINAN'!H13 -> 121000000
A12: =+PROYECTO!$A$9 -> 2023000100011 | B12: =+PROYECTO!$B$9 -> Implementación de la ruta de la innovación para fortalecer la competitividad de las empresas de la región Centro Sur, Caquetá, Huila, Tolima y Putumayo | C12: =+C11 -> Desarrollar capacidades para la generación de innovación en el tejido empresarial de la región | E12: Actividad 1.1.3 | F12: Realizar talleres para la promoción y difusión de mentalidad innovadora en empresarios de la región | G12: und | H12: 2 | I12: 8 | J12: 9 | K12: =+E11 -> Actividad 1.1.2 | L12: FC | N12: =+O12-(O12*20%) -> 48 | O12: 60 | P12: =+O12+30 -> 90 | Q12: =+(N12+4*(O12)+P12)/6 -> 63 | Y12: X | Z12: X | AP12: ='POA TÉCNICO'!K15+'POA TÉCNICO'!K16+'POA TÉCNICO'!K17+'POA TÉCNICO'!K18+'POA TÉCNICO'!K19+'POA TÉCNICO'!K20+'POA TÉCNICO'!K21 -> 0.11474138 | AQ12: ='POA FINAN'!H14+'POA FINAN'!H15+'POA FINAN'!H16+'POA FINAN'!H17+'POA FINAN'!H18+'POA FINAN'!H19+'POA FINAN'!H20 -> 408280000
A13: =+PROYECTO!$A$9 -> 2023000100011 | B13: =+PROYECTO!$B$9 -> Implementación de la ruta de la innovación para fortalecer la competitividad de las empresas de la región Centro Sur, Caquetá, Huila, Tolima y Putumayo | C13: =+C12 -> Desarrollar capacidades para la generación de innovación en el tejido empresarial de la región | E13: Actividad 1.1.4 | F13: Implementar en las MiPyME beneficiarias la ruta de la innovación | G13: und | H13: 2 | I13: 9 | J13: 10 | K13: =+K12 -> Actividad 1.1.2 | L13: FC | N13: =+O13-(O13*20%) -> 48 | O13: 60 | P13: =+O13+30 -> 90 | Q13: =+(N13+4*(O13)+P13)/6 -> 63 | Z13: X | AA13: X | AP13: ='POA TÉCNICO'!K22+'POA TÉCNICO'!K23+'POA TÉCNICO'!K24 -> 0.1633044 | AQ13: ='POA FINAN'!H21+'POA FINAN'!H22+'POA FINAN'!H23 -> 581080000
A14: =+PROYECTO!$A$9 -> 2023000100011 | B14: =+PROYECTO!$B$9 -> Implementación de la ruta de la innovación para fortalecer la competitividad de las empresas de la región Centro Sur, Caquetá, Huila, Tolima y Putumayo | C14: =+C13 -> Desarrollar capacidades para la generación de innovación en el tejido empresarial de la región | E14: Actividad 1.1.5 | F14: Desarrollar jornadas de formación en formulación y gestión de proyectos de CTeI | G14: und | H14: 4 | I14: 8 | J14: 11 | K14: =+K13 -> Actividad 1.1.2 | L14: FC | N14: =+O14-(O14*20%) -> 96 | O14: 120 | P14: =+O14+30 -> 150 | Q14: =+(N14+4*(O14)+P14)/6 -> 121 | Y14: X | Z14: X | AA14: X | AB14: X | AP14: ='POA TÉCNICO'!K25+'POA TÉCNICO'!K26 -> 0.019734348 | AQ14: ='POA FINAN'!H24+'POA FINAN'!H25 -> 70220000
A15: =+PROYECTO!$A$9 -> 2023000100011 | B15: =+PROYECTO!$B$9 -> Implementación de la ruta de la innovación para fortalecer la competitividad de las empresas de la región Centro Sur, Caquetá, Huila, Tolima y Putumayo | C15: =+C14 -> Desarrollar capacidades para la generación de innovación en el tejido empresarial de la región | E15: Actividad 1.1.6 | F15: Realizar la administración del proyecto | G15: und | H15: 11 | I15: 1 | J15: 11 | N15: =+O15-(O15*20%) -> 264 | O15: 330 | P15: =+O15+30 -> 360 | Q15: =+(N15+4*(O15)+P15)/6 -> 324 | R15: X | S15: X | T15: X | U15: X | V15: X | W15: X | X15: X | Y15: X | Z15: X | AA15: X | AB15: X | AP15: ='POA TÉCNICO'!K27 -> 0.067837313 | AQ15: ='POA FINAN'!H26 -> 241383000
A16: =+PROYECTO!$A$9 -> 2023000100011 | B16: =+PROYECTO!$B$9 -> Implementación de la ruta de la innovación para fortalecer la competitividad de las empresas de la región Centro Sur, Caquetá, Huila, Tolima y Putumayo | C16: ='PRODUCTOS MGA'!C9 -> Promover el desarrollo de proyectos de innovación en el sector productivo de la región | E16: Actividad 2.1.1 | F16: Presentar proyectos para el desarrollo de prototipos en las MiPyME | G16: und | H16: 4 | I16: 9 | J16: 12 | K16: =+E14 -> Actividad 1.1.5 | L16: CC | N16: =+O16-(O16*20%) -> 96 | O16: 120 | P16: =+O16+30 -> 150 | Q16: =+(N16+4*(O16)+P16)/6 -> 121 | Z16: X | AA16: X | AB16: X | AC16: X | AP16: ='POA TÉCNICO'!K28 -> 0.011803512 | AQ16: ='POA FINAN'!H27 -> 42000000
A17: =+PROYECTO!$A$9 -> 2023000100011 | B17: =+PROYECTO!$B$9 -> Implementación de la ruta de la innovación para fortalecer la competitividad de las empresas de la región Centro Sur, Caquetá, Huila, Tolima y Putumayo | C17: =+C16 -> Promover el desarrollo de proyectos de innovación en el sector productivo de la región | E17: Actividad 2.1.2 | F17: Evaluar jurídica, técnica y financieramente los proyectos presentados por las MiPyME para la región | G17: und | H17: 3 | I17: 13 | J17: 15 | K17: =+E16 -> Actividad 2.1.1 | L17: FC | N17: =+O17-(O17*20%) -> 72 | O17: 90 | P17: =+O17+30 -> 120 | Q17: =+(N17+4*(O17)+P17)/6 -> 92 | AD17: X | AE17: X | AF17: X | AP17: ='POA TÉCNICO'!K29+'POA TÉCNICO'!K30 -> 0.044825242 | AQ17: ='POA FINAN'!H28+'POA FINAN'!H29 -> 159500000
A18: =+PROYECTO!$A$9 -> 2023000100011 | B18: =+PROYECTO!$B$9 -> Implementación de la ruta de la innovación para fortalecer la competitividad de las empresas de la región Centro Sur, Caquetá, Huila, Tolima y Putumayo | C18: =+C17 -> Promover el desarrollo de proyectos de innovación en el sector productivo de la región | E18: Actividad 2.1.3 | F18: Acompañar e Implementar los proyectos de innovación y prototipado de las empresas beneficiarias | G18: und | H18: 6 | I18: 16 | J18: 21 | K18: =+E17 -> Actividad 2.1.2 | L18: FC | N18: =+O18-(O18*20%) -> 144 | O18: 180 | P18: =+O18+30 -> 210 | Q18: =+(N18+4*(O18)+P18)/6 -> 179 | AG18: X | AH18: X | AI18: X | AJ18: X | AK18: X | AL18: X | AP18: ='POA TÉCNICO'!K31+'POA TÉCNICO'!K32+'POA TÉCNICO'!K33+'POA TÉCNICO'!K34 -> 0.37869601 | AQ18: ='POA FINAN'!H30+'POA FINAN'!H31+'POA FINAN'!H32+'POA FINAN'!H33 -> 1347500000
A19: =+PROYECTO!$A$9 -> 2023000100011 | B19: =+PROYECTO!$B$9 -> Implementación de la ruta de la innovación para fortalecer la competitividad de las empresas de la región Centro Sur, Caquetá, Huila, Tolima y Putumayo | C19: =+C18 -> Promover el desarrollo de proyectos de innovación en el sector productivo de la región | E19: Actividad 2.1.4 | F19: Desarrollar el evento de cierre del proyecto para la divulgación de resultados | G19: und | H19: 1 | I19: 22 | J19: 22 | K19: =+E18 -> Actividad 2.1.3 | L19: FC | N19: =+O19-(O19*20%) -> 24 | O19: 30 | P19: =+O19+30 -> 60 | Q19: =+(N19+4*(O19)+P19)/6 -> 34 | AM19: X | AP19: ='POA TÉCNICO'!K35+'POA TÉCNICO'!K36 -> 0.042014882 | AQ19: ='POA FINAN'!H34+'POA FINAN'!H35 -> 149500000
A20: =+PROYECTO!$A$9 -> 2023000100011 | B20: =+PROYECTO!$B$9 -> Implementación de la ruta de la innovación para fortalecer la competitividad de las empresas de la región Centro Sur, Caquetá, Huila, Tolima y Putumayo | C20: =+C19 -> Promover el desarrollo de proyectos de innovación en el sector productivo de la región | E20: Actividad 2.1.5 | F20: Realizar la administración del proyecto | G20: und | H20: 13 | I20: 12 | J20: 24 | K20: =+E15 -> Actividad 1.1.6 | L20: FC | N20: =+O20-(O20*20%) -> 312 | O20: 390 | P20: =+O20+30 -> 420 | Q20: =+(N20+4*(O20)+P20)/6 -> 382 | AC20: X | AD20: X | AE20: X | AF20: X | AG20: X | AH20: X | AI20: X | AJ20: X | AK20: X | AL20: X | AM20: X | AN20: X | AO20: X | AP20: ='POA TÉCNICO'!K37 -> 0.05480202 | AQ20: ='POA FINAN'!H36 -> 195000000
AP21: =SUM(AP10:AP20) -> 1 | AQ21: =SUM(AQ10:AQ20) -> 3558263000
F22: Supervisión | AQ22: 178500000
F23: Valor total del Proyecto | AQ23: =SUM(AQ21:AQ22)+AR21 -> 3736763000

Sheet POA TÉCNICO
A5: RESPONSABLE
A7: Nombre del proyecto | B7: No. de la actividad | C7: Descripción de la actividad | D7: No. de Tareas | E7: Descripción de la Tarea | F7: Entregables | G7: Medio de Verificación | H7: Fecha cumplimiento entregable | I7: Mes de Inicio | J7: Mes de Terminación | K7: Ponderación de Tarea | L7: PROGRAMACIÓN DE ACTIVIDADES | AJ7: Total Ejecutado | AK7: AVANCE DE CUMPLIMIENTO | AL7: EJECUCIÓN ACTIVIDADES/AVANCE FÍSICO
L8: Mes 1 | M8: Mes 2 | N8: Mes 3 | O8: Mes 4 | P8: Mes 5 | Q8: Mes 6 | R8: Mes 7 | S8: Mes 8 | T8: Mes 9 | U8: Mes 10 | V8: Mes 11 | W8: Mes 12 | X8: Mes 13 | Y8: Mes 14 | Z8: Mes 15 | AA8: Mes 16 | AB8: Mes 17 | AC8: Mes 18 | AD8: Mes 19 | AE8: Mes 20 | AF8: Mes 21 | AG8: Mes 22 | AH8: Mes 23 | AI8: Mes 24 | AL8: Mes 1 | AM8: Mes 2 | AN8: Mes 3 | AO8: Mes 4 | AP8: Mes 5 | AQ8: Mes 6 | AR8: Mes 7 | AS8: Mes 8 | AT8: Mes 9 | AU8: Mes 10 | AV8: Mes 11 | AW8: Mes 12 | AX8: Mes 13 | AY8: Mes 14 | AZ8: Mes 15 | BA8: Mes 16 | BB8: Mes 17 | BC8: Mes 18 | BD8: Mes 19 | BE8: Mes 20 | BF8: Mes 21 | BG8: Mes 22 | BH8: Mes 23 | BI8: Mes 24
L9: Nov | M9: Dic | N9: Enero | O9: Feb | P9: Mar | Q9: Abril | R9: Mayo | S9: Junio | T9: Julio | U9: Agosto | V9: Sept | W9: Oct | X9: Nov | Y9: Dic | Z9: Enero | AA9: Feb | AB9: Mar | AC9: Abril | AD9: Mayo | AE9: Junio | AF9: Julio | AG9: Agosto | AH9: Sept | AI9: Oct | AL9: =+L9 -> Nov | AM9: =+M9 -> Dic | AN9: =+N9 -> Enero | AO9: =+O9 -> Feb | AP9: =+P9 -> Mar | AQ9: =+Q9 -> Abril | AR9: =+R9 -> Mayo | AS9: =+S9 -> Junio | ... BI9: =+AI9 -> Oct
L10: =VLOOKUP(L9,[2]Hoja1!$B$2:$C$13,2,0) -> 30 | M10: =VLOOKUP(M9,[2]Hoja1!$B$2:$C$13,2,0) -> 31 | N10: =VLOOKUP(N9,[2]Hoja1!$B$2:$C$13,2,0) -> 30 | O10: =VLOOKUP(O9,[2]Hoja1!$B$2:$C$13,2,0) -> 28 | P10: =VLOOKUP(P9,[2]Hoja1!$B$2:$C$13,2,0) -> 31 | Q10: =VLOOKUP(Q9,[2]Hoja1!$B$2:$C$13,2,0) -> 30 | R10: =VLOOKUP(R9,[2]Hoja1!$B$2:$C$13,2,0) -> 31 | S10: =VLOOKUP(S9,[2]Hoja1!$B$2:$C$13,2,0) -> 30 | ... AI10: =VLOOKUP(AI9,[2]Hoja1!$B$2:$C$13,2,0) -> 31
A11: =+PROYECTO!$B$9 -> Implementación de la ruta de la innovación para fortalecer la competitividad de las empresas de la región Centro Sur, Caquetá, Huila, Tolima y Putumayo | B11: Actividad 1.1.1 | C11: =+'ACTIVIDADES MGA'!F10 -> Realizar eventos de socialización y divulgación a las MiPyMe en departamentos de la región | D11: 2 | E11: Convocatoria para eventos de participación ciudadana y socialización y divulgación a las MiPyMe en departamentos de la región | F11: Documento que describa proceso de invitación pública al evento | G11: Documento informe | H11: 45265 | I11: 45231 | J11: 45260 | K11: =SUM(L11:AI11) -> 0.029031019 | L11: =+'POA FINAN'!I10/'POA FINAN'!$H$37 -> 0.0089650484 | M11: =+'POA FINAN'!J10/'POA FINAN'!$H$37 -> 0.00772849 | N11: =+'POA FINAN'!K10/'POA FINAN'!$H$37 -> 0 | O11: =+'POA FINAN'!L10/'POA FINAN'!$H$37 -> 0.01233748 | P11: =+'POA FINAN'!M10/'POA FINAN'!$H$37 -> 0 | Q11: =+'POA FINAN'!N10/'POA FINAN'!$H$37 -> 0 | R11: =+'POA FINAN'!O10/'POA FINAN'!$H$37 -> 0 | S11: =+'POA FINAN'!P10/'POA FINAN'!$H$37 -> 0 | ... AI11: =+'POA FINAN'!AF10/'POA FINAN'!$H$37 -> 0 | AJ11: =SUM(AL11:BC11) -> 0.029031019 | AK11: =+AJ11/K11 -> 1 | AL11: 0.0089650484 | AM11: 0.00772849 | AO11: 0.01233748
E12: Desarrollar eventos de socialización en los municipios seleccionados (Espinal, Garzón, Cartagena del Chaira y Villa Garzón) 40 personas por municipio | F12: Documento que contiene Registros de asistencia / Registros fotográficos | G12: Documento informe | H12: 45327 | I12: 45301 | J12: 45321 | K12: =SUM(L12:AI12) -> 0.039204522 | L12: =+'POA FINAN'!I11/'POA FINAN'!$H$37 -> 0.01264662 | M12: =+'POA FINAN'!J11/'POA FINAN'!$H$37 -> 0 | N12: =+'POA FINAN'!K11/'POA FINAN'!$H$37 -> 0.013911282 | O12: =+'POA FINAN'!L11/'POA FINAN'!$H$37 -> 0.01264662 | P12: =+'POA FINAN'!M11/'POA FINAN'!$H$37 -> 0 | Q12: =+'POA FINAN'!N11/'POA FINAN'!$H$37 -> 0 | R12: =+'POA FINAN'!O11/'POA FINAN'!$H$37 -> 0 | S12: =+'POA FINAN'!P11/'POA FINAN'!$H$37 -> 0 | ... AI12: =+'POA FINAN'!AF11/'POA FINAN'!$H$37 -> 0 | AJ12: =SUM(AL12:BC12) -> 0.039204522 | AK12: =+AJ12/K12 -> 1 | AL12: 0.01264662 | AN12: 0.013911282 | AO12: 0.01264662
B13: =+'ACTIVIDADES MGA'!E11 -> Actividad 1.1.2 | C13: =+'ACTIVIDADES MGA'!F11 -> Desarrollar la inscripción y selección de las empresas beneficiarias | D13: 2 | E13: Convocatoria para postulación de empresas en la ruta de innovación | F13: Documento que contiene Formularios de inscripción / Formato de cumplimiento de requisitos / Listado de empresas seleccionadas | G13: Documento informe | H13: 45356 | I13: 45275 | J13: 45350 | K13: =SUM(L13:AI13) -> 0.00070259 | L13: =+'POA FINAN'!I12/'POA FINAN'!$H$37 -> 0 | M13: =+'POA FINAN'!J12/'POA FINAN'!$H$37 -> 0 | N13: =+'POA FINAN'!K12/'POA FINAN'!$H$37 -> 0 | O13: =+'POA FINAN'!L12/'POA FINAN'!$H$37 -> 0.00070259 | P13: =+'POA FINAN'!M12/'POA FINAN'!$H$37 -> 0 | Q13: =+'POA FINAN'!N12/'POA FINAN'!$H$37 -> 0 | R13: =+'POA FINAN'!O12/'POA FINAN'!$H$37 -> 0 | S13: =+'POA FINAN'!P12/'POA FINAN'!$H$37 -> 0 | ... AI13: =+'POA FINAN'!AF12/'POA FINAN'!$H$37 -> 0 | AJ13: =SUM(AL13:BC13) -> 0.00070259 | AK13: =+AJ13/K13 -> 1 | AO13: 0.00070259
E14: Selección de 60 empresas beneficiarias y 16 facilitadores y publicación de resultados | F14: Documento que contiene Formularios de inscripción / Formato de cumplimiento de requisitos / Listado de empresas seleccionadas | G14: Documento informe | H14: 45387 | I14: 45352 | J14: 45381 | K14: =SUM(L14:AI14) -> 0.033302766 | L14: =+'POA FINAN'!I13/'POA FINAN'!$H$37 -> 0 | M14: =+'POA FINAN'!J13/'POA FINAN'!$H$37 -> 0 | N14: =+'POA FINAN'!K13/'POA FINAN'!$H$37 -> 0 | O14: =+'POA FINAN'!L13/'POA FINAN'!$H$37 -> 0 | P14: =+'POA FINAN'!M13/'POA FINAN'!$H$37 -> 0.011100922 | Q14: =+'POA FINAN'!N13/'POA FINAN'!$H$37 -> 0.011100922 | R14: =+'POA FINAN'!O13/'POA FINAN'!$H$37 -> 0.011100922 | S14: =+'POA FINAN'!P13/'POA FINAN'!$H$37 -> 0 | ... AI14: =+'POA FINAN'!AF13/'POA FINAN'!$H$37 -> 0 | AJ14: =SUM(AL14:BC14) -> 0.033302766 | AK14: =+AJ14/K14 -> 1 | AP14: 0.011100922 | AQ14: 0.011100922 | AR14: 0.011100922
B15: Actividad 1.1.3 | C15: =+'ACTIVIDADES MGA'!F12 -> Realizar talleres para la promoción y difusión de mentalidad innovadora en empresarios de la región | D15: 7 | E15: Realizar taller de introducción a la innovación | F15: Documento que contiene descripción de las jornadas de formación, contenidos, registro de asistencia y registro fotográfico | G15: Documento informe | H15: 45478 | I15: 45413 | J15: 45473 | K15: =SUM(L15:AI15) -> 0.0071495558 | L15: =+'POA FINAN'!I14/'POA FINAN'!$H$37 -> 0 | M15: =+'POA FINAN'!J14/'POA FINAN'!$H$37 -> 0 | N15: =+'POA FINAN'!K14/'POA FINAN'!$H$37 -> 0 | O15: =+'POA FINAN'!L14/'POA FINAN'!$H$37 -> 0 | P15: =+'POA FINAN'!M14/'POA FINAN'!$H$37 -> 0 | Q15: =+'POA FINAN'!N14/'POA FINAN'!$H$37 -> 0 | R15: =+'POA FINAN'!O14/'POA FINAN'!$H$37 -> 0 | S15: =+'POA FINAN'!P14/'POA FINAN'!$H$37 -> 0.0024551305 | ... AI15: =+'POA FINAN'!AF14/'POA FINAN'!$H$37 -> 0 | AJ15: =SUM(AL15:BC15) -> 0.0071495558 | AK15: =+AJ15/K15 -> 1 | AS15: 0.0024551305 | AT15: 0.0010117296 | AU15: 0.0036826957
E16: Realizar taller nociones de prototipado | F16: Documento que contiene descripción de las jornadas de formación, contenidos, registro de asistencia y registro fotográfico | G16: Documento informe | H16: 45478 | I16: 45419 | J16: 45473 | K16: =SUM(L16:AI16) -> 0.028598223 | L16: =+'POA FINAN'!I15/'POA FINAN'!$H$37 -> 0 | M16: =+'POA FINAN'!J15/'POA FINAN'!$H$37 -> 0 | N16: =+'POA FINAN'!K15/'POA FINAN'!$H$37 -> 0 | O16: =+'POA FINAN'!L15/'POA FINAN'!$H$37 -> 0 | P16: =+'POA FINAN'!M15/'POA FINAN'!$H$37 -> 0 | Q16: =+'POA FINAN'!N15/'POA FINAN'!$H$37 -> 0 | R16: =+'POA FINAN'!O15/'POA FINAN'!$H$37 -> 0 | S16: =+'POA FINAN'!P15/'POA FINAN'!$H$37 -> 0.009820522 | ... AI16: =+'POA FINAN'!AF15/'POA FINAN'!$H$37 -> 0 | AJ16: =SUM(AL16:BC16) -> 0.028598223 | AK16: =+AJ16/K16 -> 1 | AS16: 0.009820522 | AT16: 0.0040469184 | AU16: 0.014730783
E17: Realizar taller de innovación abierta | F17: Documento que contiene descripción de las jornadas de formación, contenidos, registro de asistencia y registro fotográfico | G17: Documento informe | H17: 45478 | I17: 45424 | J17: 45473 | K17: =SUM(L17:AI17) -> 0.014299112 | L17: =+'POA FINAN'!I16/'POA FINAN'!$H$37 -> 0 | M17: =+'POA FINAN'!J16/'POA FINAN'!$H$37 -> 0 | N17: =+'POA FINAN'!K16/'POA FINAN'!$H$37 -> 0 | O17: =+'POA FINAN'!L16/'POA FINAN'!$H$37 -> 0 | P17: =+'POA FINAN'!M16/'POA FINAN'!$H$37 -> 0 | Q17: =+'POA FINAN'!N16/'POA FINAN'!$H$37 -> 0 | R17: =+'POA FINAN'!O16/'POA FINAN'!$H$37 -> 0 | S17: =+'POA FINAN'!P16/'POA FINAN'!$H$37 -> 0.004910261 | ... AI17: =+'POA FINAN'!AF16/'POA FINAN'!$H$37 -> 0 | AJ17: =SUM(AL17:BC17) -> 0.014299112 | AK17: =+AJ17/K17 -> 1 | AS17: 0.004910261 | AT17: 0.0020234592 | AU17: 0.0073653915
E18: Realizar taller de co-creación y económia colaborativa | F18: Documento que contiene descripción de las jornadas de formación, contenidos, registro de asistencia y registro fotográfico | G18: Documento informe | H18: 45478 | I18: 45427 | J18: 45473 | K18: =SUM(L18:AI18) -> 0.014299112 | L18: =+'POA FINAN'!I17/'POA FINAN'!$H$37 -> 0 | M18: =+'POA FINAN'!J17/'POA FINAN'!$H$37 -> 0 | N18: =+'POA FINAN'!K17/'POA FINAN'!$H$37 -> 0 | O18: =+'POA FINAN'!L17/'POA FINAN'!$H$37 -> 0 | P18: =+'POA FINAN'!M17/'POA FINAN'!$H$37 -> 0 | Q18: =+'POA FINAN'!N17/'POA FINAN'!$H$37 -> 0 | R18: =+'POA FINAN'!O17/'POA FINAN'!$H$37 -> 0 | S18: =+'POA FINAN'!P17/'POA FINAN'!$H$37 -> 0.004910261 | ... AI18: =+'POA FINAN'!AF17/'POA FINAN'!$H$37 -> 0 | AJ18: =SUM(AL18:BC18) -> 0.014299112 | AK18: =+AJ18/K18 -> 1 | AS18: 0.004910261 | AT18: 0.0020234592 | AU18: 0.0073653915
E19: Realizar taller de casos de éxito de innovación en Colombia | F19: Documento que contiene descripción de las jornadas de formación, contenidos, registro de asistencia y registro fotográfico | G19: Documento informe | H19: 45478 | I19: 45435 | J19: 45473 | K19: =SUM(L19:AI19) -> 0.0071495558 | L19: =+'POA FINAN'!I18/'POA FINAN'!$H$37 -> 0 | M19: =+'POA FINAN'!J18/'POA FINAN'!$H$37 -> 0 | N19: =+'POA FINAN'!K18/'POA FINAN'!$H$37 -> 0 | O19: =+'POA FINAN'!L18/'POA FINAN'!$H$37 -> 0 | P19: =+'POA FINAN'!M18/'POA FINAN'!$H$37 -> 0 | Q19: =+'POA FINAN'!N18/'POA FINAN'!$H$37 -> 0 | R19: =+'POA FINAN'!O18/'POA FINAN'!$H$37 -> 0 | S19: =+'POA FINAN'!P18/'POA FINAN'!$H$37 -> 0.0024551305 | ... AI19: =+'POA FINAN'!AF18/'POA FINAN'!$H$37 -> 0 | AJ19: =SUM(AL19:BC19) -> 0.0071495558 | AK19: =+AJ19/K19 -> 1 | AS19: 0.0024551305 | AT19: 0.0010117296 | AU19: 0.0036826957
E20: Realizar taller de liderazgo innovador | F20: Documento que contiene descripción de las jornadas de formación, contenidos, registro de asistencia y registro fotográfico | G20: Documento informe | H20: 45478 | I20: 45445 | J20: 45473 | K20: =SUM(L20:AI20) -> 0.014299112 | L20: =+'POA FINAN'!I19/'POA FINAN'!$H$37 -> 0 | M20: =+'POA FINAN'!J19/'POA FINAN'!$H$37 -> 0 | N20: =+'POA FINAN'!K19/'POA FINAN'!$H$37 -> 0 | O20: =+'POA FINAN'!L19/'POA FINAN'!$H$37 -> 0 | P20: =+'POA FINAN'!M19/'POA FINAN'!$H$37 -> 0 | Q20: =+'POA FINAN'!N19/'POA FINAN'!$H$37 -> 0 | R20: =+'POA FINAN'!O19/'POA FINAN'!$H$37 -> 0 | S20: =+'POA FINAN'!P19/'POA FINAN'!$H$37 -> 0.004910261 | ... AI20: =+'POA FINAN'!AF19/'POA FINAN'!$H$37 -> 0 | AJ20: =SUM(AL20:BC20) -> 0.014299112 | AK20: =+AJ20/K20 -> 1 | AS20: 0.004910261 | AT20: 0.0020234592 | AU20: 0.0073653915
E21: Elaboración Guía ruta de Innovación | F21: Guía Ruta de Innovación | G21: Documento informe | H21: 45478 | I21: 45413 | J21: 45473 | K21: =SUM(L21:AI21) -> 0.028946708 | L21: =+'POA FINAN'!I20/'POA FINAN'!$H$37 -> 0 | M21: =+'POA FINAN'!J20/'POA FINAN'!$H$37 -> 0 | N21: =+'POA FINAN'!K20/'POA FINAN'!$H$37 -> 0 | O21: =+'POA FINAN'!L20/'POA FINAN'!$H$37 -> 0 | P21: =+'POA FINAN'!M20/'POA FINAN'!$H$37 -> 0 | Q21: =+'POA FINAN'!N20/'POA FINAN'!$H$37 -> 0 | R21: =+'POA FINAN'!O20/'POA FINAN'!$H$37 -> 0 | S21: =+'POA FINAN'!P20/'POA FINAN'!$H$37 -> 0.013798868 | ... AI21: =+'POA FINAN'!AF20/'POA FINAN'!$H$37 -> 0 | AJ21: =SUM(AL21:BC21) -> 0.028946708 | AK21: =+AJ21/K21 -> 1 | AS21: 0.013798868 | AT21: 0.011100922 | AU21: 0.0040469184
B22: =+'ACTIVIDADES MGA'!E13 -> Actividad 1.1.4 | C22: =+'ACTIVIDADES MGA'!F13 -> Implementar en las MiPyME beneficiarias la ruta de la innovación | D22: 3 | E22: Taller de formación para la construcción de la ruta de innovación | F22: Documento que contiene descripción de las jornadas de formación, contenidos, registro de asistencia y registro fotográfico | G22: Documento informe | H22: 45509 | I22: 45461 | J22: 45486 | K22: =SUM(L22:AI22) -> 0.071495558 | L22: =+'POA FINAN'!I21/'POA FINAN'!$H$37 -> 0 | M22: =+'POA FINAN'!J21/'POA FINAN'!$H$37 -> 0 | N22: =+'POA FINAN'!K21/'POA FINAN'!$H$37 -> 0 | O22: =+'POA FINAN'!L21/'POA FINAN'!$H$37 -> 0 | P22: =+'POA FINAN'!M21/'POA FINAN'!$H$37 -> 0 | Q22: =+'POA FINAN'!N21/'POA FINAN'!$H$37 -> 0 | R22: =+'POA FINAN'!O21/'POA FINAN'!$H$37 -> 0 | S22: =+'POA FINAN'!P21/'POA FINAN'!$H$37 -> 0 | ... AI22: =+'POA FINAN'!AF21/'POA FINAN'!$H$37 -> 0 | AJ22: =SUM(AL22:BC22) -> 0.071495558 | AK22: =+AJ22/K22 -> 1 | AT22: 0.02778884 | AU22: 0.0020234592 | AV22: 0.04168326
E23: Taller de construcción de prototipo | F23: Documento que contiene descripción de las jornadas de formación, contenidos, registro de asistencia y registro fotográfico | G23: Documento informe | H23: 45509 | I23: 45464 | J23: 45503 | K23: =SUM(L23:AI23) -> 0.06744864 | L23: =+'POA FINAN'!I22/'POA FINAN'!$H$37 -> 0 | M23: =+'POA FINAN'!J22/'POA FINAN'!$H$37 -> 0 | N23: =+'POA FINAN'!K22/'POA FINAN'!$H$37 -> 0 | O23: =+'POA FINAN'!L22/'POA FINAN'!$H$37 -> 0 | P23: =+'POA FINAN'!M22/'POA FINAN'!$H$37 -> 0 | Q23: =+'POA FINAN'!N22/'POA FINAN'!$H$37 -> 0 | R23: =+'POA FINAN'!O22/'POA FINAN'!$H$37 -> 0 | S23: =+'POA FINAN'!P22/'POA FINAN'!$H$37 -> 0 | ... AI23: =+'POA FINAN'!AF22/'POA FINAN'!$H$37 -> 0 | AJ23: =SUM(AL23:BC23) -> 0.06744864 | AK23: =+AJ23/K23 -> 1 | AT23: 0.022932538 | AU23: 0.010117296 | AV23: 0.034398806
E24: Taller de formación de facilitadores en ejecución de proyectos de CTeI | F24: Documento que contiene descripción de las jornadas de formación, contenidos, registro de asistencia y registro fotográfico | G24: Documento informe | H24: 45509 | I24: 45458 | J24: 45488 | K24: =SUM(L24:AI24) -> 0.0243602 | L24: =+'POA FINAN'!I23/'POA FINAN'!$H$37 -> 0 | M24: =+'POA FINAN'!J23/'POA FINAN'!$H$37 -> 0 | N24: =+'POA FINAN'!K23/'POA FINAN'!$H$37 -> 0 | O24: =+'POA FINAN'!L23/'POA FINAN'!$H$37 -> 0 | P24: =+'POA FINAN'!M23/'POA FINAN'!$H$37 -> 0 | Q24: =+'POA FINAN'!N23/'POA FINAN'!$H$37 -> 0 | R24: =+'POA FINAN'!O23/'POA FINAN'!$H$37 -> 0 | S24: =+'POA FINAN'!P23/'POA FINAN'!$H$37 -> 0 | ... AI24: =+'POA FINAN'!AF23/'POA FINAN'!$H$37 -> 0 | AJ24: =SUM(AL24:BC24) -> 0.0243602 | AK24: =+AJ24/K24 -> 1 | AT24: 5.3958912e-05 | AU24: 0.013124381 | AV24: 0.01118186
B25: =+'ACTIVIDADES MGA'!E14 -> Actividad 1.1.5 | C25: =+'ACTIVIDADES MGA'!F14 -> Desarrollar jornadas de formación en formulación y gestión de proyectos de CTeI | D25: 2 | E25: Taller en formualación de proyectos | F25: Documento que contiene descripción de las jornadas de formación, contenidos, registro de asistencia y registro fotográfico | G25: Documento informe | H25: 45540 | I25: 45413 | J25: 45534 | K25: =SUM(L25:AI25) -> 0.015417635 | L25: =+'POA FINAN'!I24/'POA FINAN'!$H$37 -> 0 | M25: =+'POA FINAN'!J24/'POA FINAN'!$H$37 -> 0 | N25: =+'POA FINAN'!K24/'POA FINAN'!$H$37 -> 0 | O25: =+'POA FINAN'!L24/'POA FINAN'!$H$37 -> 0 | P25: =+'POA FINAN'!M24/'POA FINAN'!$H$37 -> 0 | Q25: =+'POA FINAN'!N24/'POA FINAN'!$H$37 -> 0 | R25: =+'POA FINAN'!O24/'POA FINAN'!$H$37 -> 0 | S25: =+'POA FINAN'!P24/'POA FINAN'!$H$37 -> 0.0011511235 | ... AI25: =+'POA FINAN'!AF24/'POA FINAN'!$H$37 -> 0 | AJ25: =SUM(AL25:BC25) -> 0.015417635 | AK25: =+AJ25/K25 -> 1 | AS25: 0.0011511235 | AV25: =0.143890431932659%+1.28276071779967% -> 0.014266511
E26: Taller en gestión de proyectos de CTeI | F26: Documento que contiene descripción de las jornadas de formación, contenidos, registro de asistencia y registro fotográfico | G26: Documento informe | H26: 45540 | I26: 45413 | J26: 45534 | K26: =SUM(L26:AI26) -> 0.004316713 | L26: =+'POA FINAN'!I25/'POA FINAN'!$H$37 -> 0 | M26: =+'POA FINAN'!J25/'POA FINAN'!$H$37 -> 0 | N26: =+'POA FINAN'!K25/'POA FINAN'!$H$37 -> 0 | O26: =+'POA FINAN'!L25/'POA FINAN'!$H$37 -> 0 | P26: =+'POA FINAN'!M25/'POA FINAN'!$H$37 -> 0 | Q26: =+'POA FINAN'!N25/'POA FINAN'!$H$37 -> 0 | R26: =+'POA FINAN'!O25/'POA FINAN'!$H$37 -> 0 | S26: =+'POA FINAN'!P25/'POA FINAN'!$H$37 -> 0.0011511235 | ... AI26: =+'POA FINAN'!AF25/'POA FINAN'!$H$37 -> 0 | AJ26: =SUM(AL26:BC26) -> 0.004316713 | AK26: =+AJ26/K26 -> 1 | AV26: =0.115112345546127%+0.143890431932659%+0.172668518319191% -> 0.004316713
B27: =+'ACTIVIDADES MGA'!E15 -> Actividad 1.1.6 | C27: =+'ACTIVIDADES MGA'!F15 -> Realizar la administración del proyecto | D27: 1 | E27: Realizar la administración | F27: Informe que contiene las actividades administrativas desarrolladas | G27: Documento informe | H27: 45540 | I27: 45231 | J27: 45534 | K27: =SUM(L27:AI27) -> 0.067837313 | L27: =+'POA FINAN'!I26/'POA FINAN'!$H$37 -> 0.013035293 | M27: =+'POA FINAN'!J26/'POA FINAN'!$H$37 -> 0.005480202 | N27: =+'POA FINAN'!K26/'POA FINAN'!$H$37 -> 0.005480202 | O27: =+'POA FINAN'!L26/'POA FINAN'!$H$37 -> 0.005480202 | P27: =+'POA FINAN'!M26/'POA FINAN'!$H$37 -> 0.005480202 | Q27: =+'POA FINAN'!N26/'POA FINAN'!$H$37 -> 0.005480202 | R27: =+'POA FINAN'!O26/'POA FINAN'!$H$37 -> 0.005480202 | S27: =+'POA FINAN'!P26/'POA FINAN'!$H$37 -> 0.005480202 | ... AI27: =+'POA FINAN'!AF26/'POA FINAN'!$H$37 -> 0 | AJ27: =SUM(AL27:BC27) -> 0.067837313 | AK27: =+AJ27/K27 -> 1 | AL27: 0.013035293 | AM27: 0.005480202 | AN27: 0.005480202 | AO27: 0.005480202 | AP27: 0.005480202 | AQ27: 0.005480202 | AR27: 0.005480202 | AS27: 0.005480202 | AT27: 0.005480202 | AU27: 0.005480202 | AV27: 0.005480202
B28: =+'ACTIVIDADES MGA'!E16 -> Actividad 2.1.1 | C28: =+'ACTIVIDADES MGA'!F16 -> Presentar proyectos para el desarrollo de prototipos en las MiPyME | D28: 1 | E28: Convocatoria para la presentación de proyectos empresariales | F28: Documento que describa proceso de invitación pública para la presentación y recepción de proyectos empresariales | G28: Documento informe | H28: 45570 | I28: 45444 | J28: 45565 | K28: =SUM(L28:AI28) -> 0.011803512 | L28: =+'POA FINAN'!I27/'POA FINAN'!$H$37 -> 0 | M28: =+'POA FINAN'!J27/'POA FINAN'!$H$37 -> 0 | N28: =+'POA FINAN'!K27/'POA FINAN'!$H$37 -> 0 | O28: =+'POA FINAN'!L27/'POA FINAN'!$H$37 -> 0 | P28: =+'POA FINAN'!M27/'POA FINAN'!$H$37 -> 0 | Q28: =+'POA FINAN'!N27/'POA FINAN'!$H$37 -> 0 | R28: =+'POA FINAN'!O27/'POA FINAN'!$H$37 -> 0 | S28: =+'POA FINAN'!P27/'POA FINAN'!$H$37 -> 0 | ... AI28: =+'POA FINAN'!AF27/'POA FINAN'!$H$37 -> 0 | AJ28: =SUM(AL28:BC28) -> 0.011803512 | AK28: =+AJ28/K28 -> 1 | AX28: 0.011803512
B29: =+'ACTIVIDADES MGA'!E17 -> Actividad 2.1.2 | C29: =+'ACTIVIDADES MGA'!F17 -> Evaluar jurídica, técnica y financieramente los proyectos presentados por las MiPyME para la región | D29: 2 | E29: Proceso de verificación y selección de proyectos para evaluar. | F29: Documento que describa proceso de invitación pública para la presentación y recepción de proyectos empresariales | G29: Documento informe | H29: 45662 | I29: 45566 | J29: 45656 | K29: =SUM(L29:AI29) -> 0.03372432 | L29: =+'POA FINAN'!I28/'POA FINAN'!$H$37 -> 0 | M29: =+'POA FINAN'!J28/'POA FINAN'!$H$37 -> 0 | N29: =+'POA FINAN'!K28/'POA FINAN'!$H$37 -> 0 | O29: =+'POA FINAN'!L28/'POA FINAN'!$H$37 -> 0 | P29: =+'POA FINAN'!M28/'POA FINAN'!$H$37 -> 0 | Q29: =+'POA FINAN'!N28/'POA FINAN'!$H$37 -> 0 | R29: =+'POA FINAN'!O28/'POA FINAN'!$H$37 -> 0 | S29: =+'POA FINAN'!P28/'POA FINAN'!$H$37 -> 0 | ... AI29: =+'POA FINAN'!AF28/'POA FINAN'!$H$37 -> 0 | AJ29: =SUM(AL29:BC29) -> 0.017585 | AK29: =+AJ29/K29 -> 0.52143379 | AX29: 0 | AY29: 0.0141 | AZ29: 0.0009 | BC29: 0.002585
E30: Evaluación y selección de proyectos empresariales | F30: Cuentas de cobro del personal del proyecto | G30: Cuentas de cobro con anexos | H30: 45662 | I30: 45566 | J30: 45656 | K30: =SUM(L30:AI30) -> 0.011100922 | L30: =+'POA FINAN'!I29/'POA FINAN'!$H$37 -> 0 | M30: =+'POA FINAN'!J29/'POA FINAN'!$H$37 -> 0 | N30: =+'POA FINAN'!K29/'POA FINAN'!$H$37 -> 0 | O30: =+'POA FINAN'!L29/'POA FINAN'!$H$37 -> 0 | P30: =+'POA FINAN'!M29/'POA FINAN'!$H$37 -> 0 | Q30: =+'POA FINAN'!N29/'POA FINAN'!$H$37 -> 0 | R30: =+'POA FINAN'!O29/'POA FINAN'!$H$37 -> 0 | S30: =+'POA FINAN'!P29/'POA FINAN'!$H$37 -> 0 | ... AI30: =+'POA FINAN'!AF29/'POA FINAN'!$H$37 -> 0 | AJ30: =SUM(AL30:BC30) -> 0.00555 | AK30: =+AJ30/K30 -> 0.49995847 | AY30: 0.00555 | AZ30: 0 | BC30: 0
B31: =+'ACTIVIDADES MGA'!E18 -> Actividad 2.1.3 | C31: =+'ACTIVIDADES MGA'!F18 -> Acompañar e Implementar los proyectos de innovación y prototipado de las empresas beneficiarias | D31: 4 | E31: Cofinanciación de proyectos empresariales | F31: Convenios suscritos para cofinanciación de proyectos empresariales | G31: Documento informe | H31: 45843 | I31: 45667 | J31: 45838 | K31: =SUM(L31:AI31) -> 0.2248288 | L31: =+'POA FINAN'!I30/'POA FINAN'!$H$37 -> 0 | M31: =+'POA FINAN'!J30/'POA FINAN'!$H$37 -> 0 | N31: =+'POA FINAN'!K30/'POA FINAN'!$H$37 -> 0 | O31: =+'POA FINAN'!L30/'POA FINAN'!$H$37 -> 0 | P31: =+'POA FINAN'!M30/'POA FINAN'!$H$37 -> 0 | Q31: =+'POA FINAN'!N30/'POA FINAN'!$H$37 -> 0 | R31: =+'POA FINAN'!O30/'POA FINAN'!$H$37 -> 0 | S31: =+'POA FINAN'!P30/'POA FINAN'!$H$37 -> 0 | ... AI31: =+'POA FINAN'!AF30/'POA FINAN'!$H$37 -> 0 | AJ31: =SUM(AL31:BD31) -> 0 | AK31: =+AJ31/K31 -> 0 | AY31: 0 | AZ31: 0 | BA31: 0 | BB31: 0 | BC31: 0
E32: Acompañamiento en prototipado | F32: Informe de asistencia técnica y seguimiento a la ejecución de proyectos cofinanciados | G32: Documento informe | H32: 45843 | I32: 45667 | J32: 45838 | K32: =SUM(L32:AI32) -> 0.10665316 | L32: =+'POA FINAN'!I31/'POA FINAN'!$H$37 -> 0 | M32: =+'POA FINAN'!J31/'POA FINAN'!$H$37 -> 0 | N32: =+'POA FINAN'!K31/'POA FINAN'!$H$37 -> 0 | O32: =+'POA FINAN'!L31/'POA FINAN'!$H$37 -> 0 | P32: =+'POA FINAN'!M31/'POA FINAN'!$H$37 -> 0 | Q32: =+'POA FINAN'!N31/'POA FINAN'!$H$37 -> 0 | R32: =+'POA FINAN'!O31/'POA FINAN'!$H$37 -> 0 | S32: =+'POA FINAN'!P31/'POA FINAN'!$H$37 -> 0 | ... AI32: =+'POA FINAN'!AF31/'POA FINAN'!$H$37 -> 0 | AJ32: =SUM(AL32:BC32) -> 0 | AK32: =+AJ32/K32 -> 0 | AX32: 0 | AY32: 0 | AZ32: 0 | BA32: 0 | BB32: 0 | BC32: 0
E33: Despligue y control técnico | F33: Informe de gestión y administración de proyectos de innovación en el marco de las actividades | G33: Documento informe | H33: 45843 | I33: 45667 | J33: 45838 | K33: =SUM(L33:AI33) -> 0.03372432 | L33: =+'POA FINAN'!I32/'POA FINAN'!$H$37 -> 0 | M33: =+'POA FINAN'!J32/'POA FINAN'!$H$37 -> 0 | N33: =+'POA FINAN'!K32/'POA FINAN'!$H$37 -> 0 | O33: =+'POA FINAN'!L32/'POA FINAN'!$H$37 -> 0 | P33: =+'POA FINAN'!M32/'POA FINAN'!$H$37 -> 0 | Q33: =+'POA FINAN'!N32/'POA FINAN'!$H$37 -> 0 | R33: =+'POA FINAN'!O32/'POA FINAN'!$H$37 -> 0 | S33: =+'POA FINAN'!P32/'POA FINAN'!$H$37 -> 0 | ... AI33: =+'POA FINAN'!AF32/'POA FINAN'!$H$37 -> 0 | AJ33: =SUM(AL33:BC33) -> 0 | AK33: =+AJ33/K33 -> 0 | AX33: 0 | AY33: 0 | AZ33: 0 | BA33: 0 | BB33: 0 | BC33: 0
E34: Divulgación de la ejecución de los proyectos financiados | F34: Video de la experiencia de las 16 empresas beneficiadas | G34: Documento informe | H34: 45843 | I34: 45667 | J34: 45838 | K34: =SUM(L34:AI34) -> 0.013489728 | L34: =+'POA FINAN'!I33/'POA FINAN'!$H$37 -> 0 | M34: =+'POA FINAN'!J33/'POA FINAN'!$H$37 -> 0 | N34: =+'POA FINAN'!K33/'POA FINAN'!$H$37 -> 0 | O34: =+'POA FINAN'!L33/'POA FINAN'!$H$37 -> 0 | P34: =+'POA FINAN'!M33/'POA FINAN'!$H$37 -> 0 | Q34: =+'POA FINAN'!N33/'POA FINAN'!$H$37 -> 0 | R34: =+'POA FINAN'!O33/'POA FINAN'!$H$37 -> 0 | S34: =+'POA FINAN'!P33/'POA FINAN'!$H$37 -> 0 | ... AI34: =+'POA FINAN'!AF33/'POA FINAN'!$H$37 -> 0 | AJ34: =SUM(AL34:BC34) -> 0 | AK34: =+AJ34/K34 -> 0 | AX34: 0 | AY34: 0 | AZ34: 0 | BA34: 0 | BB34: 0 | BC34: 0
B35: =+'ACTIVIDADES MGA'!E19 -> Actividad 2.1.4 | C35: =+'ACTIVIDADES MGA'!F19 -> Desarrollar el evento de cierre del proyecto para la divulgación de resultados | D35: 2 | E35: Invitación a los actores territoriales de CTeI | F35: Informe del proceso de invitación a los actores territoriales de CTei | G35: Documento informe | H35: 45874 | I35: 45824 | J35: 45853 | K35: =SUM(L35:AI35) -> 0.008993152 | L35: =+'POA FINAN'!I34/'POA FINAN'!$H$37 -> 0 | M35: =+'POA FINAN'!J34/'POA FINAN'!$H$37 -> 0 | N35: =+'POA FINAN'!K34/'POA FINAN'!$H$37 -> 0 | O35: =+'POA FINAN'!L34/'POA FINAN'!$H$37 -> 0 | P35: =+'POA FINAN'!M34/'POA FINAN'!$H$37 -> 0 | Q35: =+'POA FINAN'!N34/'POA FINAN'!$H$37 -> 0 | R35: =+'POA FINAN'!O34/'POA FINAN'!$H$37 -> 0 | S35: =+'POA FINAN'!P34/'POA FINAN'!$H$37 -> 0 | ... AI35: =+'POA FINAN'!AF34/'POA FINAN'!$H$37 -> 0 | AJ35: =SUM(AL35:BC35) -> 0 | AK35: =+AJ35/K35 -> 0 | AX35: 0 | AY35: 0 | AZ35: 0 | BA35: 0 | BB35: 0 | BC35: 0
E36: Realización evento de cierre | F36: Informe que describa el proceso de cierre del proyecto con registro fotográfico y listado de asistencia | G36: Documento informe | H36: 45874 | I36: 45855 | J36: 45868 | K36: =SUM(L36:AI36) -> 0.03302173 | L36: =+'POA FINAN'!I35/'POA FINAN'!$H$37 -> 0 | M36: =+'POA FINAN'!J35/'POA FINAN'!$H$37 -> 0 | N36: =+'POA FINAN'!K35/'POA FINAN'!$H$37 -> 0 | O36: =+'POA FINAN'!L35/'POA FINAN'!$H$37 -> 0 | P36: =+'POA FINAN'!M35/'POA FINAN'!$H$37 -> 0 | Q36: =+'POA FINAN'!N35/'POA FINAN'!$H$37 -> 0 | R36: =+'POA FINAN'!O35/'POA FINAN'!$H$37 -> 0 | S36: =+'POA FINAN'!P35/'POA FINAN'!$H$37 -> 0 | ... AI36: =+'POA FINAN'!AF35/'POA FINAN'!$H$37 -> 0 | AJ36: =SUM(AL36:BC36) -> 0 | AK36: =+AJ36/K36 -> 0 | AX36: 0 | AY36: 0 | AZ36: 0 | BA36: 0 | BB36: 0 | BC36: 0
B37: =+'ACTIVIDADES MGA'!E20 -> Actividad 2.1.5 | C37: =+'ACTIVIDADES MGA'!F20 -> Realizar la administración del proyecto | D37: 1 | E37: Realizar la administración | F37: Informe que contiene las actividades administrativas desarrolladas | G37: Documento informe | H37: 45540 | I37: 45536 | J37: 45899 | K37: =SUM(L37:AI37) -> 0.05480202 | L37: =+'POA FINAN'!I36/'POA FINAN'!$H$37 -> 0 | M37: =+'POA FINAN'!J36/'POA FINAN'!$H$37 -> 0 | N37: =+'POA FINAN'!K36/'POA FINAN'!$H$37 -> 0 | O37: =+'POA FINAN'!L36/'POA FINAN'!$H$37 -> 0 | P37: =+'POA FINAN'!M36/'POA FINAN'!$H$37 -> 0 | Q37: =+'POA FINAN'!N36/'POA FINAN'!$H$37 -> 0 | R37: =+'POA FINAN'!O36/'POA FINAN'!$H$37 -> 0 | S37: =+'POA FINAN'!P36/'POA FINAN'!$H$37 -> 0 | ... AI37: =+'POA FINAN'!AF36/'POA FINAN'!$H$37 -> 0 | AJ37: =SUM(AL37:BC37) -> 0.0385 | AK37: =+AJ37/K37 -> 0.70252885 | AW37: 0.0055 | AX37: 0.0055 | AY37: 0.0055 | AZ37: 0.0055 | BA37: 0.0055 | BB37: 0.0055 | BC37: 0.0055
K38: =SUM(K11:K37) -> 1 | L38: =SUM(L11:L37) -> 0.034646961 | M38: =SUM(M11:M37) -> 0.013208692 | N38: =SUM(N11:N37) -> 0.019391484 | O38: =SUM(O11:O37) -> 0.031166892 | P38: =SUM(P11:P37) -> 0.016581124 | Q38: =SUM(Q11:Q37) -> 0.016581124 | R38: =SUM(R11:R37) -> 0.016581124 | ... AI38: =SUM(AI11:AI37) -> 0 | AJ38: =SUM(AL38:BC38) -> 0.54129685 | AL38: =SUM(AL11:AL37) -> 0.034646961 | AM38: =SUM(AM11:AM37) -> 0.013208692 | AN38: =SUM(AN11:AN37) -> 0.019391484 | AO38: =SUM(AO11:AO37) -> 0.031166892 | AP38: =SUM(AP11:AP37) -> 0.016581124 | AQ38: =SUM(AQ11:AQ37) -> 0.016581124 | AR38: =SUM(AR11:AR37) -> 0.016581124 | AS38: =SUM(AS11:AS37) -> 0.049891759 | ... BI38: =SUM(BI11:BI37) -> 0
H39: Planeado | K39: =SUM(L39:AI39) -> 1 | L39: =+L38 -> 0.034646961 | M39: =+M38 -> 0.013208692 | N39: =+N38 -> 0.019391484 | O39: =+O38 -> 0.031166892 | P39: =+P38 -> 0.016581124 | Q39: =+Q38 -> 0.016581124 | R39: =+R38 -> 0.016581124 | S39: =+S38 -> 0.051042882 | ... AI39: =+AI38 -> 0
H40: Ejecutado | K40: =SUM(L40:AI40) -> 0.54129685 | L40: =+AL38 -> 0.034646961 | M40: =+AM38 -> 0.013208692 | N40: =+AN38 -> 0.019391484 | O40: =+AO38 -> 0.031166892 | P40: =+AP38 -> 0.016581124 | Q40: =+AQ38 -> 0.016581124 | R40: =+AR38 -> 0.016581124 | S40: =+AS38 -> 0.049891759 | ... AI40: =+BI38 -> 0
H42: Acumulado Planeado | L42: =+L39 -> 0.034646961 | M42: =+L42+M39 -> 0.047855653 | N42: =+M42+N39 -> 0.067247137 | O42: =+N42+O39 -> 0.09841403 | P42: =+O42+P39 -> 0.11499515 | Q42: =+P42+Q39 -> 0.13157628 | R42: =+Q42+R39 -> 0.1481574 | S42: =+R42+S39 -> 0.19920028 | T42: =+S42+T39 -> 0.29553268 | ... AI42: =+AH42+AI39 -> 1
H43: Acumulado Ejecuado | L43: =+L40 -> 0.034646961 | M43: =+L43+M40 -> 0.047855653 | N43: =+M43+N40 -> 0.067247137 | O43: =+N43+O40 -> 0.09841403 | P43: =+O43+P40 -> 0.11499515 | Q43: =+P43+Q40 -> 0.13157628 | R43: =+Q43+R40 -> 0.1481574 | S43: =+R43+S40 -> 0.19804916 | T43: =+S43+T40 -> 0.27754638 | ... AF43: =+AE43+AF40 -> 0.54129685 | AG43: 0 | AH43: =+AG43+AH40 -> 0 | AI43: =+AH43+AI40 -> 0
H44: Cumplimiento | L44: =+L40/L39 -> 1 | M44: =+M40/M39 -> 1 | N44: =+N40/N39 -> 1 | O44: =+O40/O39 -> 1 | P44: =+P40/P39 -> 1 | Q44: =+Q40/Q39 -> 1 | R44: =+R40/R39 -> 1 | S44: =+S40/S39 -> 0.97744791 | ... AF44: =+AF40/AF39 -> 0 | AG44: 0 | AH44: 0 | AI44: 0

Sheet POA FINAN
A5: RESPONSABLE
A7: Nombre del proyecto | B7: No. de la actividad | C7: Descripción de la actividad | D7: No. de Tareas | E7: Descripción de la Tarea | F7: Mes de Inicio | G7: Mes de Terminación | H7: Ponderación de Tarea | I7: PROGRAMACIÓN DE ACTIVIDADES POR PRESUPUESTO | AG7: Total Ejecutado | AH7: EJECUCIÓN ACTIVIDADES POR PRESUPUESTO-DESEMBOLSOS
I8: Mes 1 | J8: Mes 2 | K8: Mes 3 | L8: Mes 4 | M8: Mes 5 | N8: Mes 6 | O8: Mes 7 | P8: Mes 8 | Q8: Mes 9 | R8: Mes 10 | S8: Mes 11 | T8: Mes 12 | U8: Mes 13 | V8: Mes 14 | W8: Mes 15 | X8: Mes 16 | Y8: Mes 17 | Z8: Mes 18 | AA8: Mes 19 | AB8: Mes 20 | AC8: Mes 21 | AD8: Mes 22 | AE8: Mes 23 | AF8: Mes 24 | AH8: Mes 1 | AI8: Mes 2 | AJ8: Mes 3 | AK8: Mes 4 | AL8: Mes 5 | AM8: Mes 6 | AN8: Mes 7 | AO8: Mes 8 | AP8: Mes 9 | AQ8: Mes 10 | AR8: Mes 11 | AS8: Mes 12 | AT8: Mes 13 | AU8: Mes 14 | AV8: Mes 15 | AW8: Mes 16 | AX8: Mes 17 | AY8: Mes 18 | AZ8: Mes 19 | BA8: Mes 20 | BB8: Mes 21 | BC8: Mes 22 | BD8: Mes 23 | BE8: Mes 24
I9: Nov | J9: Dic | K9: Ene | L9: Feb | M9: Mar | N9: Abr | O9: May | P9: Jun | Q9: Jul | R9: Ago | S9: Sep | T9: Oct | U9: Nov | V9: Dic | W9: Ene | X9: Feb | Y9: Mar | Z9: Abr | AA9: May | AB9: Jun | AC9: Jul | AD9: Ago | AE9: Sep | AF9: Oct | AH9: Nov | AI9: Dic | AJ9: Ene | AK9: Feb | AL9: Mar | AM9: Abr | AN9: May | AO9: Jun | AP9: Jul | AQ9: Ago | AR9: Sep | AS9: Oct | AT9: Nov | AU9: Dic | AV9: Ene | AW9: Feb | AX9: Mar | AY9: Abr | AZ9: May | BA9: Jun | BB9: Jul | BC9: Ago | BD9: Sep | BE9: Oct
A10: =PROYECTO!B9 -> Implementación de la ruta de la innovación para fortalecer la competitividad de las empresas de la región Centro Sur, Caquetá, Huila, Tolima y Putumayo | B10: ='ACTIVIDADES MGA'!E10 -> Actividad 1.1.1 | C10: ='ACTIVIDADES MGA'!F10 -> Realizar eventos de socialización y divulgación a las MiPyMe en departamentos de la región | D10: 2 | E10: ='POA TÉCNICO'!E11 -> Convocatoria para eventos de participación ciudadana y socialización y divulgación a las MiPyMe en departamentos de la región | F10: ='POA TÉCNICO'!I11 -> 45231 | G10: ='POA TÉCNICO'!J11 -> 45260 | H10: =SUM(I10:AF10) -> 103300000 | I10: =4400000+27500000 -> 31900000 | J10: 27500000 | L10: =4400000+39500000 -> 43900000 | AG10: =SUM(AH10:AY10) -> 103300000 | AH10: 31900000 | AI10: 27500000 | AK10: 43900000
E11: ='POA TÉCNICO'!E12 -> Desarrollar eventos de socialización en los municipios seleccionados (Espinal, Garzón, Cartagena del Chaira y Villa Garzón) 40 personas por municipio | F11: ='POA TÉCNICO'!I12 -> 45301 | G11: ='POA TÉCNICO'!J12 -> 45321 | H11: =SUM(I11:AF11) -> 139500000 | I11: 45000000 | K11: =10000000+39500000 -> 49500000 | L11: 45000000 | AG11: =SUM(AH11:AY11) -> 139500000 | AH11: 45000000 | AJ11: 49500000 | AK11: 45000000
B12: ='ACTIVIDADES MGA'!E11 -> Actividad 1.1.2 | C12: ='ACTIVIDADES MGA'!F11 -> Desarrollar la inscripción y selección de las empresas beneficiarias | D12: 2 | E12: ='POA TÉCNICO'!E13 -> Convocatoria para postulación de empresas en la ruta de innovación | F12: ='POA TÉCNICO'!I13 -> 45275 | G12: ='POA TÉCNICO'!J13 -> 45350 | H12: =SUM(I12:AF12) -> 2500000 | L12: 2500000 | AG12: =SUM(AH12:AY12) -> 2500000 | AK12: 2500000
E13: ='POA TÉCNICO'!E14 -> Selección de 60 empresas beneficiarias y 16 facilitadores y publicación de resultados | F13: ='POA TÉCNICO'!I14 -> 45352 | G13: ='POA TÉCNICO'!J14 -> 45381 | H13: =SUM(I13:AF13) -> 118500000 | M13: 39500000 | N13: 39500000 | O13: 39500000 | AG13: =SUM(AH13:AY13) -> 118500000 | AL13: 39500000 | AM13: 39500000 | AN13: 39500000
B14: ='ACTIVIDADES MGA'!E12 -> Actividad 1.1.3 | C14: ='ACTIVIDADES MGA'!F12 -> Realizar talleres para la promoción y difusión de mentalidad innovadora en empresarios de la región | D14: 7 | E14: ='POA TÉCNICO'!E15 -> Realizar taller de introducción a la innovación | F14: ='POA TÉCNICO'!I15 -> 45413 | G14: ='POA TÉCNICO'!J15 -> 45473 | H14: =SUM(I14:AF14) -> 25440000 | P14: 8736000 | Q14: 3600000 | R14: 13104000 | AG14: =SUM(AH14:AY14) -> 25440000 | AO14: 8736000 | AP14: =+Q14 -> 3600000 | AQ14: =+R14 -> 13104000
E15: ='POA TÉCNICO'!E16 -> Realizar taller nociones de prototipado | F15: ='POA TÉCNICO'!I16 -> 45419 | G15: ='POA TÉCNICO'!J16 -> 45473 | H15: =SUM(I15:AF15) -> 101760000 | P15: 34944000 | Q15: 14400000 | R15: 52416000 | AG15: =SUM(AH15:AY15) -> 101760000 | AO15: =+P15 -> 34944000 | AP15: =+Q15 -> 14400000 | AQ15: =+R15 -> 52416000
E16: ='POA TÉCNICO'!E17 -> Realizar taller de innovación abierta | F16: ='POA TÉCNICO'!I17 -> 45424 | G16: ='POA TÉCNICO'!J17 -> 45473 | H16: =SUM(I16:AF16) -> 50880000 | P16: 17472000 | Q16: 7200000 | R16: 26208000 | AG16: =SUM(AH16:AY16) -> 50880000 | AP16: =+P16+Q16 -> 24672000 | AQ16: =+R16 -> 26208000
E17: ='POA TÉCNICO'!E18 -> Realizar taller de co-creación y económia colaborativa | F17: ='POA TÉCNICO'!I18 -> 45427 | G17: ='POA TÉCNICO'!J18 -> 45473 | H17: =SUM(I17:AF17) -> 50880000 | P17: 17472000 | Q17: 7200000 | R17: 26208000 | AG17: =SUM(AH17:AY17) -> 50880000 | AP17: =+P17+Q17 -> 24672000 | AQ17: =+R17 -> 26208000
E18: ='POA TÉCNICO'!E19 -> Realizar taller de casos de éxito de innovación en Colombia | F18: ='POA TÉCNICO'!I19 -> 45435 | G18: ='POA TÉCNICO'!J19 -> 45473 | H18: =SUM(I18:AF18) -> 25440000 | P18: 8736000 | Q18: 3600000 | R18: 13104000 | AG18: =SUM(AH18:AY18) -> 25440000 | AP18: =+P18+Q18 -> 12336000 | AQ18: =+R18 -> 13104000
E19: ='POA TÉCNICO'!E20 -> Realizar taller de liderazgo innovador | F19: ='POA TÉCNICO'!I20 -> 45445 | G19: ='POA TÉCNICO'!J20 -> 45473 | H19: =SUM(I19:AF19) -> 50880000 | P19: 17472000 | Q19: 7200000 | R19: 26208000 | AG19: =SUM(AH19:AY19) -> 50880000 | AP19: =+P19+Q19 -> 24672000 | AQ19: =+R19 -> 26208000
E20: ='POA TÉCNICO'!E21 -> Elaboración Guía ruta de Innovación | F20: ='POA TÉCNICO'!I21 -> 45413 | G20: ='POA TÉCNICO'!J21 -> 45473 | H20: =SUM(I20:AF20) -> 103000000 | P20: =9600000+39500000 -> 49100000 | Q20: 39500000 | R20: 14400000 | AG20: =SUM(AH20:AY20) -> 14400000 | AP20: 0 | AQ20: =+R20 -> 14400000
B21: ='ACTIVIDADES MGA'!E13 -> Actividad 1.1.4 | C21: ='ACTIVIDADES MGA'!F13 -> Implementar en las MiPyME beneficiarias la ruta de la innovación | D21: 3 | E21: ='POA TÉCNICO'!E22 -> Taller de formación para la construcción de la ruta de innovación | F21: ='POA TÉCNICO'!I22 -> 45461 | G21: ='POA TÉCNICO'!J22 -> 45486 | H21: =SUM(I21:AF21) -> 254400000 | Q21: 98880000 | R21: 7200000 | S21: 148320000 | AG21: =SUM(AH21:AY21) -> 254400000 | AP21: =+Q21 -> 98880000 | AQ21: =+R21 -> 7200000 | AR21: =+S21 -> 148320000
E22: ='POA TÉCNICO'!E23 -> Taller de construcción de prototipo | F22: ='POA TÉCNICO'!I23 -> 45464 | G22: ='POA TÉCNICO'!J23 -> 45503 | H22: =SUM(I22:AF22) -> 240000000 | Q22: 81600000 | R22: 36000000 | S22: 122400000 | AG22: =SUM(AH22:AY22) -> 240000000 | AP22: =+Q22 -> 81600000 | AQ22: =+R22 -> 36000000 | AR22: =+S22 -> 122400000
E23: ='POA TÉCNICO'!E24 -> Taller de formación de facilitadores en ejecución de proyectos de CTeI | F23: ='POA TÉCNICO'!I24 -> 45458 | G23: ='POA TÉCNICO'!J24 -> 45488 | H23: =SUM(I23:AF23) -> 86680000 | Q23: 192000 | R23: =7200000+39500000 -> 46700000 | S23: =288000+39500000 -> 39788000 | AG23: =SUM(AH23:AY23) -> 86488000 | AQ23: =+R23 -> 46700000 | AR23: =+S23 -> 39788000
B24: ='ACTIVIDADES MGA'!E14 -> Actividad 1.1.5 | C24: ='ACTIVIDADES MGA'!F14 -> Desarrollar jornadas de formación en formulación y gestión de proyectos de CTeI | D24: 2 | E24: ='POA TÉCNICO'!E25 -> Taller en formualación de proyectos | F24: ='POA TÉCNICO'!I25 -> 45413 | G24: ='POA TÉCNICO'!J25 -> 45534 | H24: =SUM(I24:AF24) -> 54860000 | P24: 4096000 | S24: 5120000 | T24: =6144000+39500000 -> 45644000 | AG24: =SUM(AH24:AY24) -> 5120000 | AR24: =+S24 -> 5120000
E25: ='POA TÉCNICO'!E26 -> Taller en gestión de proyectos de CTeI | F25: ='POA TÉCNICO'!I26 -> 45413 | G25: ='POA TÉCNICO'!J26 -> 45534 | H25: =SUM(I25:AF25) -> 15360000 | P25: 4096000 | S25: 5120000 | T25: 6144000 | AG25: =SUM(AH25:AY25) -> 5120000 | AR25: =+S25 -> 5120000
B26: ='ACTIVIDADES MGA'!E15 -> Actividad 1.1.6 | C26: ='ACTIVIDADES MGA'!F15 -> Realizar la administración del proyecto | D26: 1 | E26: ='POA TÉCNICO'!E27 -> Realizar la administración | F26: ='POA TÉCNICO'!I27 -> 45231 | G26: ='POA TÉCNICO'!J27 -> 45534 | H26: =SUM(I26:AF26) -> 241383000 | I26: =19500000+26883000 -> 46383000 | J26: 19500000 | K26: =+J26 -> 19500000 | L26: =+K26 -> 19500000 | M26: =+L26 -> 19500000 | N26: =+M26 -> 19500000 | O26: =+N26 -> 19500000 | P26: =+O26 -> 19500000 | Q26: =+P26 -> 19500000 | R26: =+Q26 -> 19500000 | S26: =+R26 -> 19500000 | AG26: =SUM(AH26:AY26) -> 241383000 | AH26: 46383000 | AI26: 19500000 | AJ26: 19500000 | AK26: 19500000 | AL26: 19500000 | AM26: 19500000 | AN26: 19500000 | AO26: 19500000 | AP26: =+Q26 -> 19500000 | AQ26: =+R26 -> 19500000 | AR26: =+S26 -> 19500000
B27: ='ACTIVIDADES MGA'!E16 -> Actividad 2.1.1 | C27: ='ACTIVIDADES MGA'!F16 -> Presentar proyectos para el desarrollo de prototipos en las MiPyME | D27: 1 | E27: ='POA TÉCNICO'!E28 -> Convocatoria para la presentación de proyectos empresariales | F27: ='POA TÉCNICO'!I28 -> 45444 | G27: ='POA TÉCNICO'!J28 -> 45565 | H27: =SUM(I27:AF27) -> 42000000 | U27: =2500000+39500000 -> 42000000 | AG27: =SUM(AH27:AY27) -> 42000000 | AT27: 42000000
B28: ='ACTIVIDADES MGA'!E17 -> Actividad 2.1.2 | C28: ='ACTIVIDADES MGA'!F17 -> Evaluar jurídica, técnica y financieramente los proyectos presentados por las MiPyME para la región | D28: 2 | E28: ='POA TÉCNICO'!E29 -> Proceso de verificación y selección de proyectos para evaluar. | F28: ='POA TÉCNICO'!I29 -> 45566 | G28: ='POA TÉCNICO'!J29 -> 45656 | H28: =SUM(I28:AF28) -> 120000000 | U28: 50000000 | V28: 50000000 | W28: 20000000 | AG28: =SUM(AH28:AY28) -> 63000000 | AU28: 50000000 | AV28: 0 | AW28: 0 | AX28: 0 | AY28: 13000000
E29: ='POA TÉCNICO'!E30 -> Evaluación y selección de proyectos empresariales | F29: ='POA TÉCNICO'!I30 -> 45566 | G29: ='POA TÉCNICO'!J30 -> 45656 | H29: =SUM(I29:AF29) -> 39500000 | V29: 39500000 | AG29: =SUM(AH29:AY29) -> 53333312 | AU29: 0 | AV29: 53333312
B30: ='ACTIVIDADES MGA'!E18 -> Actividad 2.1.3 | C30: ='ACTIVIDADES MGA'!F18 -> Acompañar e Implementar los proyectos de innovación y prototipado de las empresas beneficiarias | D30: 4 | E30: ='POA TÉCNICO'!E31 -> Cofinanciación de proyectos empresariales | F30: ='POA TÉCNICO'!I31 -> 45667 | G30: ='POA TÉCNICO'!J31 -> 45838 | H30: =SUM(I30:AF30) -> 800000000 | T30: 320000000 | W30: 240000000 | AA30: 240000000 | AG30: =SUM(AH30:AY30) -> 0 | AU30: 0
E31: ='POA TÉCNICO'!E32 -> Acompañamiento en prototipado | F31: ='POA TÉCNICO'!I32 -> 45667 | G31: ='POA TÉCNICO'!J32 -> 45838 | H31: =SUM(I31:AF31) -> 379500000 | Q31: 59904000 | T31: 89856000 | U31: 42240000 | W31: 39500000 | X31: 39500000 | Y31: 39500000 | Z31: 39500000 | AA31: 29500000 | AG31: =SUM(AH31:AY31) -> 132000000 | AU31: 0 | AV31: 44000000 | AW31: 44000000 | AX31: 44000000
E32: ='POA TÉCNICO'!E33 -> Despligue y control técnico | F32: ='POA TÉCNICO'!I33 -> 45667 | G32: ='POA TÉCNICO'!J33 -> 45838 | H32: =SUM(I32:AF32) -> 120000000 | U32: 48000000 | X32: 36000000 | AA32: 36000000 | AG32: =SUM(AH32:AY32) -> 0 | AU32: 0
E33: ='POA TÉCNICO'!E34 -> Divulgación de la ejecución de los proyectos financiados | F33: ='POA TÉCNICO'!I34 -> 45667 | G33: ='POA TÉCNICO'!J34 -> 45838 | H33: =SUM(I33:AF33) -> 48000000 | U33: 24000000 | AA33: 24000000 | AG33: =SUM(AH33:AY33) -> 0 | AU33: 0
B34: ='ACTIVIDADES MGA'!E19 -> Actividad 2.1.4 | C34: ='ACTIVIDADES MGA'!F19 -> Desarrollar el evento de cierre del proyecto para la divulgación de resultados | D34: 2 | E34: ='POA TÉCNICO'!E35 -> Invitación a los actores territoriales de CTeI | F34: ='POA TÉCNICO'!I35 -> 45824 | G34: ='POA TÉCNICO'!J35 -> 45853 | H34: =SUM(I34:AF34) -> 32000000 | AB34: =2500000+29500000 -> 32000000 | AG34: =SUM(AH34:AY34) -> 0 | AU34: 0
E35: ='POA TÉCNICO'!E36 -> Realización evento de cierre | F35: ='POA TÉCNICO'!I36 -> 45855 | G35: ='POA TÉCNICO'!J36 -> 45868 | H35: =SUM(I35:AF35) -> 117500000 | AA35: 50000000 | AB35: 50000000 | AC35: 17500000 | AG35: =SUM(AH35:AY35) -> 0 | AU35: 0
