Workbook
Name OLE_LINK1: Instructivo!$B$19

Sheet Instructivo
B1: PROCESO PROTECCIÓN FORMATO DE SEGUIMIENTO FINANCIERO MODALIDADES DE PROTECCIÓN | I1: F2.G28.P | J1: 45428
I2: Versión 4 | J2: Página 1 de 1
I3: Clasificación de la Información: Pública
A5: INSTRUCCIONES DE DILIGENCIAMIENTO
A6: Tener en cuenta: Ninguna de la casillas de este formato puede tener cifras negativas, por favor verificar antes de que sea firmado por las partes.
A7: PRESUPUESTO E INFORME DE INGRESOS Y GASTOS
A8: Este formato está diseñado para la realización del seguimiento financiero durante la vigencia del contrato de aportes.
A10: PRESUPUESTO
A11: FORMATO EN COP-PESOS COLOMBIANOS
A12: ASPECTOS A TENER EN CUENTA AL MOMENTO DE DILIGENCIAR EL PRESUPUESTO INICIAL
A14: Para diligenciar el archivo de presupuesto se realiza una proyección de los recursos que se ejecutarán en cada rubro, ya sea por histórico (en el caso en que la modalidad, medida o sanción ya lleve más de un periodo contractual) o por proyección, según la cantidad de cupos contratados y los gastos para el funcionamiento mensual. Este presupuesto debe cumplir con las orientaciones establecidas por el ICBF y la normatividad vigente. Se debe reportar el detalle de los rubros que se requieran para dar claridad a la distribución de los recursos que se utilizarán en la vigencia del contrato.
A19: PRESUPUESTO | B19: El presupuesto debe ser firmado por el contador y/o revisor fiscal (cuando esté obligado a tenerlo) y el representante legal. Debe presentarse durante el primer mes de ejecución del contrato para la aprobación por parte del supervisor.
B21: Es una herramienta flexible que permite ser ajustado durante la ejecución del contrato, dependiendo de la gestión administrativa; en este sentido, en las hojas de seguimiento se encuentran las columnas de adición (2) y disminución (3) del presupuesto.
B24: El presupuesto de ingresos y gastos debe evidenciar la correspondencia entre los dineros que ingresan a la entidad y los gastos efectuados de manera mensual, de acuerdo con lo establecido en los lineamientos correspondientes a la modalidad o modalidades contratadas.
A27: ALISTAMIENTO | B27: Recurso asignado para la prestación del servicio mes a mes, únicamente en los gastos definidos en los clasificadores de costo, exceptuando los que realizan por adición al contrato. Consiste en un giro por el valor total de los cupos contratados, al iniciar el contrato, el cual se mantiene durante toda la vigencia del contrato y permite a los operadores cubrir los gastos generados durante la prestación del primer mes de servicio, sin que tengan que ejecutarlo con recursos propios. El giro de alistamiento equivale al valor máximo de ejecución mensual contratado.
A33: DEFINICIÓN DE LOS RUBROS CONTENIDOS EN EL PRESUPUESTO | B33: Los recursos financieros establecidos en el contrato de aporte suscrito con el operador para el desarrollo de las diferentes modalidades, se invertirán en su totalidad para dar respuesta al objeto y obligaciones contratadas, teniendo en cuenta el cumplimiento de los aspectos siguientes:
B37: 1. En el presupuesto de ingresos se incluyen los ítems "Objeto del ingreso", en los cuales se consignan todas las fuentes de ingreso con las que cuente el contratista para el desarrollo de las modalidades, medidas o sanciones.
B39: 2. En el presupuesto de gastos se discriminan ítems "Objeto del gasto" definidos por el ICBF, para ejecutarse con los recursos del contrato. Adicionalmente, se incluyen recursos propios o recursos entregados por otra entidad pública o privada (cuando se cuente con ellos) para el desarrollo de las modalidades, medidas o sanciones. Este objeto de gasto esta distribuido de la manera siguiente:
B43: 1. Talento Humano
B44: 2. Gastos Niñas, Niños y Adolecentes
B45: 3. Gastos Generales y Administrativos
B46: Tanto los ingresos como los gastos cuentan con rubros específicos en los cuales se registran los recursos con los que cuenta el operador y sus respectivas salidas, destinadas a la prestación del servicio. Estas se definen de la manera siguiente:
A49: ESTRUCTURA DEL PRESUPUESTO INICIAL
A50: ENCABEZADO
A51: Regional: | B51: Registre la región o centro zonal al que se refiere el contrato | G51: Entidad contratista: | H51: Registre la Razón Social del Operador o contratista
A52: Centro Zonal: | G52: NIT. | H52: Registre el Número de Idenificacion Tributaria
A53: Municipio: | B53: Registre la ciudad o municipio al cual se refiere este contrato | G53: Contrato No. | H53: Registre el número de contrato
A54: VALOR POR MODALIDAD | G54: VALOR POR ALISTAMIENTO
A55: Valor cupo mes según modalidad Vigencia 2.02_ | G55: Período o mes a girar de alistamiento según minuta : | I55: Digite el mes o período según corresponda
A56: Modalidadad | B56: Registre el valor del cupo de acuerdo al valor establecido en los Lineamientos de programación y a la vigencia contractual de acuerdo a la modalidad (es), tener presente que si el valor esta con decimales estos deben ser registrados dentro del formato. El formato tiene capacidad para registrar 6 modalidades las cuales van en las casillas del (1) al ( 6) | G56: Valor del Alistamiento VIGENCIA : | I56: No registrar, el sistema calculara automáticamente el valor de la celda
G57: Adiciones Rubro 111-112-114: (Celda Informativa) | I57: No registrar, el sistema calculara automáticamente el valor de la celda.
G58: Meses del contrato o periodo proporcional ( según corresponda): | I58: Registre el numero de meses de vigencia del contrato. Para calcular periodos inferiores a un mes, utiliza la regla de tres simple. Por ejemplo, si el primer mes es de 15 días, registra 0.5 meses de vigencia.
A59: Costo Fijo: | B59: Registre el valor del cupo de acuerdo al valor establecido en los Lineamientos de programación y a la vigencia contractual | G59: Total Desembolso: | I59: No registrar, el sistema calculará automáticamente el valor de la celda de acuerdo al periodo contratual,
A60: VALOR CONTRATO
A61: Diligencia de manera completa la siguiente información
A62: Modalidades | B62: Coloque el nombre de la modalidad(es) contratadas
A63: Licencia de Funcionamiento | B63: Registre el número completo de Resolución de Licencia de Funcionamiento
A64: Vencimiento Licencia de Funcionamiento | B64: Registre la fecha del vencimiento de la Resolución de Licencia de Funcionamiento (DD-MM-YY)
A65: Cupos Contratados | B65: Registre por cada modalidad la cantidad de cupos contratados
A66: Meses Vigencia | B66: Registrar el número de meses de vigencia del contrato. Para calcular periodos inferiores a un mes, utiliza la regla de tres simple. Por ejemplo, si el primer mes es de 15 días, registra 0.5 meses de vigencia.
...

Sheet ACTA DE INFORME
B3: SISTEMA DE SUPERVISIÓN DE LOS CONTRATOS DE APORTE
B4: SUSCRITOS POR EL ICBF
B6: ACTA DE INFORME FINANCIERO
B8: RESTABLECIMIENTO DE DERECHOS Y DE CONFLICTO CON LA LEY – SRPA.
A11: Regional o Seccional | C11: Centro zonal
A12: Nombre de la entidad contratista
A13: Contrato No. | D13: NIT.
A14: Dirección | C14: Tel. | E14: Ciudad
A15: Fecha de presentación | B15: Día | C15: Mes | E15: Año
A17: 1. Situación encontrada: (Describa en forma detallada los resultados y hallazgos de la revisión, de acuerdo con lo establecido en el manual de legalización.)
A22: 2. Recomendaciones: (Preste la asesoría necesaria para que se superen las dificultades identificadas y se mantengan las fortalezas detectadas)
A27: 3, Compromisos: (Establezca claramente, qué tipo de actividades deberá desarrollar la entidad contratista para subsanar los hallazgos identificados y el tiempo en que deberá resolverlos)
A32: Nombres y apellidos del representante legal | D32: Firma y No. de cédula
A35: Nombres y apellidos del tesorero(a) | D35: Firma y No. de cédula
A38: Nombres, apellidos y cargo del responsable de la revisión | D38: Firma y No. de cédula

Sheet En Letras
A1: VALOR | B1: EXPRESION EN LETRAS
A2: =INT(10*RAND()) -> 9 | B2: =enletras(A2) -> #NAME?
A3: =INT(10*RAND()) -> 6 | B3: =enletras(A3) -> #NAME?
A4: =INT(100*RAND()) -> 5 | B4: =enletras(A4) -> #NAME?
A5: =INT(100*RAND()) -> 18 | B5: =enletras(A5) -> #NAME?
A6: =INT(1000*RAND()) -> 639 | B6: =enletras(A6) -> #NAME?
A7: =INT(1000*RAND()) -> 886 | B7: =enletras(A7) -> #NAME?
A8: =INT(10000*RAND()) -> 2219 | B8: =enletras(A8) -> #NAME?
A9: =INT(100000*RAND()) -> 21843 | B9: =enletras(A9) -> #NAME?
A10: =INT(1000000*RAND()) -> 417549 | B10: =enletras(A10) -> #NAME?
A11: =INT(10000000*RAND()) -> 7736296 | B11: =enletras(A11) -> #NAME?
A12: =INT(100000000*RAND()) -> 13214693 | B12: =enletras(A12) -> #NAME?
A13: =INT(1000000000*RAND()) -> 237952109 | B13: =enletras(A13) -> #NAME?
A14: =INT(100000*RAND())/100 -> 627.22 | B14: =enletras(INT(A14))&IF(INT(A14)<>A14," CON "&enletras((A14-INT(A14))*100),"") -> #NAME?
A15: =INT(1000000*RAND())/100 -> 3.14 | B15: =enletras(INT(A15))&IF(INT(A15)<>A15," CON "&enletras(A15*100-INT(A15)*100),"") -> #NAME?
A16: =INT(10000000*RAND())/100 -> 32173 | B16: =enletras(INT(A16))&IF(INT(A16)<>A16," CON "&enletras(A16*100-INT(A16)*100),"") -> #NAME?
A17: =INT(100000000*RAND())/100 -> 29071.52 | B17: =enletras(INT(A17))&IF(INT(A17)<>A17," CON "&enletras(A17*100-INT(A17)*100),"") -> #NAME?

Sheet PRESUPUESTO
A1: Encabezado | B1: PRESUPUESTO
B2: Regional: | C2: CUNDINAMARCA | F2: Entidad contratista: | I2: FUNDACION SAN NICOLAS
B3: Centro Zonal: | C3: CUNDINAMARCA | F3: NIT. | I3: 901.604.401-1
B4: Municipio: | C4: CHIA | F4: Contrato No. | I4: 25004852025
A5: Valor por Modalidad | B5: (1) | C5: (2) | D5: (3) | E5: (4) | F5: (5) | G5: (6) | H5: Valor Cupo Mes Según Modalidad Vigencia 2024 VALORES CORTE ENERO 2025 MES 2
B6: Valor Cupo Mes Según Modalidad Vigencia (DICIEMBRE-2024) MES 1 | H6: =+B7 -> 0 | I6: =+B11 -> 482599 | J6: 0 | K6: 0 | L6: 0 | M6: 0
B7: 0 | C7: 0 | D7: 0 | E7: 0 | F7: 0 | G7: 0 | H7: Período o mes a girar de alistamiento según minuta | I7: DICIEMBRE | K7: Valor del Alistamiento 2024: | M7: =(B7*J15)*K15 -> 0
B8: Costo Fijo Modalidad Vigencia 2024 | H8: ADICIONES | K8: Rubro 112 | M8: =+K25 -> 0
B9: 0 | C9: 0 | D9: 0 | E9: 0 | F9: 0 | G9: 0 | K9: Rubro 111 | M9: =+K26 -> 0
B10: Valor Cupo Mes Según Modalidad Vigencia (FEBRERO - 2025) MES 3 EN ADELANTE | K10: Rubro 114 | M10: =+K27 -> 0
B11: 482599 | C11: 0 | D11: 0 | E11: 0 | F11: 0 | G11: 0 | H11: Período o mes a girar de alistamiento según minuta | I11: ENERO | K11: Valor del Alistamiento 2025: | M11: =B11*J15+C11*J16+D11*J17+E11*J18+F11*J19+G11*J20 -> 19303960
B12: Costo Fijo Modalidad Vigencia 2025 | H12: TOTAL DESEMBOLSO | K12: 2024 | M12: 0
B13: 0 | C13: 0 | D13: 0 | E13: 0 | F13: 0 | G13: 0 | K13: 2025 | M13: =+M11+M8+M9+M10 -> 19303960
A14: Valor contrato | B14: NOMBRE DE LA MODALIDAD | H14: Licencia de funcionamiento Res. No. | I14: Vencimiento licencia de funcionamiento | J14: Cupos contratados | K14: Meses Vigencia 2024 | L14: Meses Vigencia 2025 | M14: Valor total contrato por modalidad
B15: (1) INTERVENCION APOYO PSICOLOGICO | J15: 40 | K15: 0 | L15: 6 | M15: =(J15*K15*B7)+(J15*L15*B11) -> 115823760
B16: (2) | J16: 0 | K16: 0 | L16: 0 | M16: =(J16*K16*C7)+(J16*L16*C11) -> 0
B17: (3) | J17: 0 | K17: 0 | L17: 0 | M17: =(J17*K17*D7)+(J17*L17*D11) -> 0
B18: (4) | J18: 0 | K18: 0 | L18: 0 | M18: =(J18*K18*E7)+(J18*L18*E11) -> 0
B19: (5) | J19: 0 | K19: 0 | L19: 0 | M19: =(J19*K19*F7)+(J19*L19*F11) -> 0
B20: (6) | J20: 0 | K20: 0 | L20: 0 | M20: =(J20*K20*G7)+(J20*L20*G11) -> 0
B21: VALOR TOTAL DEL CONTRATO | J21: =SUM(J15:J20) -> 40 | M21: =SUM(M15:M20) -> 115823760
A22: Estructura de Ingresos | B22: CODIGO | C22: 1.PRESUPUESTO DE INGRESOS | K22: 1 | M22: 2
B23: 1 | C23: OBJETO DEL INGRESO | K23: PRESUPUESTO INICIAL VIGENCIA AÑO 2.02 | M23: % PARTICIPACIÓN
B24: 1100 | C24: Aportes ICBF | K24: =+M21 -> 115823760 | M24: =K24/K32 -> 1
B25: 1200 | C25: Acciones complementarias para la gestión en el restablecimiento de derechos y/o administración de justicia (112) | K25: 0 | M25: =K25/K32 -> 0
B26: 1300 | C26: Orientación para la vida personal, social, profesional y vocacional (Subproyecto 111) | K26: 0 | M26: =K26/K32 -> 0
B27: 1400 | C27: Dotación de unidades aplicativas (Centro costos 114) | K27: 0 | M27: =K27/K32 -> 0
B28: 1500 | C28: Donaciones (Cuando aplique) | K28: 0 | M28: =K28/K32 -> 0
B29: 1600 | C29: Rendimientos Financieros (Cuando aplique) | K29: 0 | M29: =K29/K32 -> 0
B30: 1700 | C30: Aportes de la Institución (Cuando aplique) | K30: 0 | M30: =K30/K32 -> 0
B31: 1800 | C31: Otros Ingresos (Cuando aplique) | K31: 0 | L31: 0 | M31: =K31/K32 -> 0
B32: TOTAL PRESUPUESTO DE INGRESOS | K32: =SUM(K24:L31) -> 115823760 | M32: =+K32/K32 -> 1
A33: Estructura de Gastos | B33: CODIGO | C33: 2.PRESUPUESTO DE GASTOS | K33: 1 | M33: 2
B34: 2 | C34: OBJETO DEL GASTO | K34: PRESUPUESTO INICIAL VIGENCIA AÑO 2025 | M34: % PARTICIPACIÓN
B35: 2100 | C35: 1. TALENTO HUMANO
B36: 2101 | C36: Salario | K36: 0 | M36: =K36/K32 -> 0
B37: 2102 | C37: Auxilio de transporte | K37: 0 | M37: =K37/$K$32 -> 0
B38: 2103 | C38: Horas extras y recargo nocturno | K38: 0 | M38: =K38/$K$32 -> 0
B39: 2104 | C39: Cesantías | K39: 0 | M39: =K39/$K$32 -> 0
B40: 2105 | C40: Vacaciones | K40: 0 | M40: =K40/$K$32 -> 0
...

Sheet Honorarios
A2: FUNDACION SAN NICOLAS
A3: PERSONAL HONORARIOS ABRIL 1 AL 30 DE SEPTIEMBRE DE 2.025
A5: ITEM | B5: NOMBRE | C5: CARGO SEGÚN
C6: LINEAMIENTO | D6: ABRL | E6: MAYO | F6: JUNIO | G6: JULIO | H6: AGOSTO | I6: SEPTIEMBRE | J6: TOTAL
A7: 1 | B7: PARRA RODRIGUEZ LUIS ENRIQUE | C7: Coordinador | D7: 2300000 | E7: 2300000 | F7: 2300000 | G7: 2300000 | H7: 2300000 | I7: 2300000 | J7: =SUM(D7:I7) -> 13800000
A8: 2 | B8: PARRA CELIS PAULA ANDREA | C8: A. Administrativo | D8: 1100000 | E8: 1100000 | F8: 1100000 | G8: 1100000 | H8: 1100000 | I8: 1100000 | J8: =SUM(D8:I8) -> 6600000
A9: 3 | B9: VALVUENA ZAPATA LEIDY VIVIANA | C9: Psicólogo | D9: 2300000 | E9: 2300000 | F9: 2300000 | G9: 2300000 | H9: 2300000 | I9: 2300000 | J9: =SUM(D9:I9) -> 13800000
A10: 4 | B10: BENITEZ RAMIREZ JEIMY VIVIANA | C10: Trabajador Social | D10: 2300000 | E10: 2300000 | F10: 2300000 | G10: 2300000 | H10: 2300000 | I10: 2300000 | J10: =SUM(D10:I10) -> 13800000
A11: 5 | B11: GUTIERREZ BARRERA DANIELA | D11: 2300000 | E11: 2300000 | F11: 2300000 | G11: 2300000 | H11: 2300000 | I11: 2300000 | J11: =SUM(D11:I11) -> 13800000
A12: 6 | B12: ROA JIMENEZ ANDERSON YESID | C12: Tecnologo | D12: 1200000 | E12: 1200000 | F12: 1200000 | G12: 1200000 | H12: 1200000 | I12: 1200000 | J12: =SUM(D12:I12) -> 7200000
D13: =SUM(D7:D12) -> 11500000 | E13: =SUM(E7:E12) -> 11500000 | F13: =SUM(F7:F12) -> 11500000 | G13: =SUM(G7:G12) -> 11500000 | H13: =SUM(H7:H12) -> 11500000 | I13: =SUM(I7:I12) -> 11500000 | J13: =SUM(J7:J12) -> 69000000
A15: SERVICIO DE CONTABILIDAD
A16: ITEM | B16: NOMBRE | C16: CARGO
D17: ABRL | E17: MAYO | F17: JUNIO | G17: JULIO | H17: AGOSTO | I17: SEPTIEMBRE | J17: TOTAL
A18: 7 | B18: LUIS ANTONIO CASTILLO RAMOS | C18: Contador | D18: 1100000 | E18: 1100000 | F18: 1100000 | G18: 1100000 | H18: 1100000 | I18: 1100000 | J18: =SUM(D18:I18) -> 6600000
D19: =SUM(D18:D18) -> 1100000 | E19: =SUM(E18:E18) -> 1100000 | F19: =SUM(F18:F18) -> 1100000 | G19: =SUM(G18:G18) -> 1100000 | H19: =SUM(H18:H18) -> 1100000 | I19: =SUM(I18:I18) -> 1100000 | J19: =SUM(J18:J18) -> 6600000
A21: SISTEMA INTEGRADO DE GESTION
A22: ITEM | B22: NOMBRE | C22: CARGO
D23: ABRL | E23: MAYO | F23: JUNIO | G23: JULIO | H23: AGOSTO | I23: SEPTIEMBRE | J23: TOTAL
A24: 8 | B24: HINCAPIE HENRY DANIEL | C24: SIGE | D24: 500000 | E24: 500000 | F24: 500000 | G24: 500000 | H24: 500000 | I24: 500000 | J24: =SUM(D24:I24) -> 3000000
D25: =SUM(D24:D24) -> 500000 | E25: =SUM(E24:E24) -> 500000 | F25: =SUM(F24:F24) -> 500000 | G25: =SUM(G24:G24) -> 500000 | H25: =SUM(H24:H24) -> 500000 | I25: =SUM(I24:I24) -> 500000 | J25: =SUM(J24:J24) -> 3000000

Sheet Niños y Niñas
A3: 2200 - NIÑOS, NIÑAS ADOLESCENTES
A5: FUNDACION SAN NICOLAS
A6: PRESUPUESTO ABRIL1 AL 30 DE SEPTIEMBRE DE 2.025
E8: CUPOS | F8: MENSUAL | G8: SIETE MESES
E9: 40 | F9: 1 | G9: 6
A10: 2201 | B10: Alimentación | E10: 14000 | F10: =+E10*E9 -> 560000 | G10: =+F10*G9 -> 3360000 | H10: Refrigerios niños,niñas ,adolescentes
A11: 2202 | B11: Emergencias y botiquín (Medicamentos no incluidos en el POS) | E11: 0 | F11: 50000 | G11: =+F11*G9 -> 300000 | H11: Medicamentos y situaciones Imprevistas y elementos de botiquin
A12: 2203 | B12: Educación (Dotación escolar, material pedagógico y de aseo escolar) | E12: 0 | F12: 150000 | G12: =+F12*G9 -> 900000 | H12: Cartillas, material pedagogico
A13: 2206 | B13: RECREACION | E13: 0 | F13: 100000 | G13: =+F13*G9 -> 600000 | H13: Salida Recreacional, y eventos para los adolescentes
A14: 2207 | B14: DOTACION LUDICO DEPORTIVA | E14: 0 | F14: 120000 | G14: =+F14*G9 -> 720000 | H14: Material deportivo, y ludico
A15: 2208 | B15: TRANSPORTE NIÑOS Y NIÑAS ADOLESCENTES | E15: 0 | F15: 275000 | G15: =+F15*G9 -> 1650000 | H15: Transportes a los adolescentes.
A16: 2212 | B16: DOTACION BASICA ( Por Reposición o adición) | E16: 0 | F16: 0 | G16: =+F16*G9 -> 0 | H16: Reposición Implementos Dotación por uso y/o deterioro
G18: =SUM(G10:G17) -> 7530000

Sheet Gastos Generales
A2: 2300- GASTOS GENERALES
A3: FUNDACION SAN NICOLAS
A4: PRESUPUESTO ABRIL 1 A SEPTIEMBRE 30 DE 2.025
E6: MES | F6: SEIS MESES
E7: 1 | F7: 6
A8: 2301 | B8: SERVICIOS PUBLICOS | E8: 500000 | F8: =+E8*F7 -> 3000000 | G8: SERVICIOS DE GAS,AGUA ENERGIA, INTERNET
A9: 2302 | B9: MANTENIMIENTO Y REPARACIONES | E9: 50000 | F9: =+E9*F7 -> 300000 | G9: MANTENIMIENTO Y REPARACION DE LAS INSTALACIONES
A10: 2303 | B10: UTLIZACION DE INSTALACIONES EN AMBIENTES SANOS Y ADE | E10: 3500000 | F10: =+E10*F7 -> 21000000 | G10: ARRENDAMIENTOS
A11: 2304 | B11: REPARACION Y MANTENIMIENTO DOTACION INSTITUCIONAL | E11: 130000 | F11: =+E11*F7 -> 780000 | G11: REPARACION Y MANTENIMEINTO IMPRESORAS,COMPUTADORES Y DOTACION INSTITUCIONAL
A12: 2305 | B12: PAPELERIA Y UTILES | E12: 160000 | F12: =+E12*F7 -> 960000 | G12: PAPEL-ESFEROS-TINTAS
A13: 2306 | B13: ASEO | E13: 150000 | F13: =+E13*F7 -> 900000 | G13: IMPLEMENTOS DE ASEO,DETERGENTES, JABONES
A14: 2307 | B14: TRANSPORTE PERSONAL INSTITUCION | E14: 245000 | F14: =+E14*F7 -> 1470000 | G14: TALENTO HUMANO VISITAS DOMICILIARIAS, ADOLESCENTES, CITAS Y MEDIDAS QUE TENGAN MEDIDAS PREVENTIVAS.
A15: 2308 | B15: GRAVAMEN MOV.FINANCIEROS (4x1.000) | E15: 77215 | F15: =+E15*F7 -> 463290 | G15: VALOR CONTRATO $ 115.823.760 / 1.000X4= $ 463.295
A16: 2309 | B16: GASTOS FINANCIEROS | E16: 130000 | F16: =+E16*F7+40470 -> 820470 | G16: IVA+COMISIONES+GASTOS BANCARIOS
F18: =SUM(F8:F17) -> 29693760

Sheet MES 1
A1: DEFINICIÓN DE LOS RUBROS CONTENIDOS EN EL PRESUPUESTO-HOJA DE SEGUIMIENTO (2 DÍAS DE DICIEMBRE - 2024)
B2: Regional | C2: =PRESUPUESTO!C2 -> CUNDINAMARCA | E2: Informe correspondiente al período: | G2: Modalidades: | I2: Cupos contratados | J2: Cupos Ejecutados | L2: Cupos Inejecutados | M2: Valor total pagado por modalidad
B3: Centro Zonal | C3: =PRESUPUESTO!C3 -> CUNDINAMARCA | E3: ABRIL DE 2.025 | G3: =PRESUPUESTO!$B$15 -> (1) INTERVENCION APOYO PSICOLOGICO | I3: =PRESUPUESTO!J15 -> 40 | J3: 0 | L3: =I3-J3 -> 40 | M3: =ROUND((J3*(PRESUPUESTO!B7))+(L3*((PRESUPUESTO!B9)*PRESUPUESTO!B7)),0) -> 0
B4: Municipio | C4: =PRESUPUESTO!C4 -> CHIA | E4: Fecha de elaboración (dd/mm/aa): | G4: =PRESUPUESTO!$B$16 -> (2) | I4: =PRESUPUESTO!J16 -> 0 | J4: 0 | L4: =I4-J4 -> 0 | M4: =ROUND((J4*(PRESUPUESTO!C7))+(L4*((PRESUPUESTO!C7)*PRESUPUESTO!C9)),0) -> 0
B5: Entidad contratista | C5: =PRESUPUESTO!I2 -> FUNDACION SAN NICOLAS | E5: 13 05 2.025 | G5: =PRESUPUESTO!$B$17 -> (3) | I5: =PRESUPUESTO!J17 -> 0 | J5: 0 | L5: =I5-J5 -> 0 | M5: =ROUND((J5*(PRESUPUESTO!D7/30*2))+(L5*((PRESUPUESTO!D7/30*2)*PRESUPUESTO!D9)),0) -> 0
B6: NIT | C6: =PRESUPUESTO!I3 -> 901.604.401-1 | E6: Fecha de presentación (dd/mm/aa): | G6: =PRESUPUESTO!$B$18 -> (4) | I6: =PRESUPUESTO!J18 -> 0 | J6: 0 | L6: =I6-J6 -> 0 | M6: =ROUND((J6*(PRESUPUESTO!E7/30*2))+(L6*((PRESUPUESTO!E7/30*2)*PRESUPUESTO!E9)),0) -> 0
B7: Contrato No. | C7: =PRESUPUESTO!I4 -> 25004852025 | E7: 13 05 2.025 | G7: =PRESUPUESTO!$B$19 -> (5) | I7: =PRESUPUESTO!J19 -> 0 | J7: 0 | L7: =I7-J7 -> 0 | M7: =ROUND((J7*(PRESUPUESTO!F7/30*2))+(L7*((PRESUPUESTO!F7/30*2)*PRESUPUESTO!F9)),0) -> 0
B8: Valor del alistamiento | C8: =+PRESUPUESTO!M7 -> 0 | E8: Vigencia desembolso Alistamiento | G8: =PRESUPUESTO!B20 -> (6) | I8: =PRESUPUESTO!J20 -> 0 | J8: 0 | L8: =I8-J8 -> 0 | M8: =ROUND((J8*(PRESUPUESTO!G7/30*2))+(L8*((PRESUPUESTO!G7/30*2)*PRESUPUESTO!G9)),0) -> 0
B9: Fecha desembolso alistamiento | C9: 45775 | E9: 2025 | G9: VALOR EJECUCIÓN MES ACTUAL | I9: =SUM(I3:I7) -> 40 | J9: =SUM(J3:K8) -> 0 | L9: =SUM(L3:L8) -> 40 | M9: =SUM(M3:N8) -> 0
G10: ADICION | I10: 0 | J10: TOTAL DESEMBOLSO | M10: =+M9+I10 -> 0
A11: CODIGO | B11: EJECUCION DE INGRESOS | C11: 1 | D11: 2 | E11: 3 | F11: 4=(1+2)-3 | G11: 5 | H11: -6 | I11: 7=(5+6) | J11: 8=(7/4) | L11: 9 | N11: 10=(4-7)
A12: 1 | B12: OBJETO DEL INGRESO | C12: Presupuesto inicial | D12: Adición | E12: Disminución | F12: Presupuesto al final del periodo ejecutado | G12: Valor ingresos acumulados | H12: Ingresos - mes 1 | I12: Valor total ingresos | J12: % Aportes recibidos | L12: Ejecucion de Gastos | N12: Total saldo por ingresar
L13: Ingresos Pagados | M13: Cuentas por Cobrar
A14: 1100 | B14: Aportes ICBF | C14: =PRESUPUESTO!K24 -> 115823760 | D14: 0 | E14: =+C8-M3 -> 0 | F14: =C14+D14-E14 -> 115823760 | G14: 0 | H14: 19303960 | I14: =G14+H14 -> 19303960 | J14: =(I14/F14) -> 0.16666667 | L14: 0 | M14: 0 | N14: =F14-I14 -> 96519800
A15: 1200 | B15: Acciones complementarias para la gestión en el restablecimiento de derechos y/o administración de justicia (112) | C15: =+PRESUPUESTO!K25 -> 0 | D15: 0 | E15: 0 | F15: =C15+D15-E15 -> 0 | G15: 0 | H15: 0 | I15: =G15+H15 -> 0 | J15: =(I15/F15) -> #DIV/0! | L15: 0 | M15: 0 | N15: =F15-I15 -> 0
A16: 1300 | B16: Orientación para la vida personal, social, profesional y vocacional (Subproyecto 111) | C16: =+PRESUPUESTO!K26 -> 0 | D16: 0 | E16: 0 | F16: =C16+D16-E16 -> 0 | G16: 0 | H16: 0 | I16: =G16+H16 -> 0 | J16: =(I16/F16) -> #DIV/0! | L16: 0 | M16: 0 | N16: =F16-I16 -> 0
A17: 1400 | B17: Dotación de unidades aplicativas (Centro costos 114) | C17: =+PRESUPUESTO!K27 -> 0 | D17: 0 | E17: 0 | F17: =C17+D17-E17 -> 0 | G17: 0 | H17: 0 | I17: =G17+H17 -> 0 | J17: =(I17/F17) -> #DIV/0! | L17: 0 | M17: 0 | N17: =F17-I17 -> 0
A18: 1500 | B18: Donaciones (Cuando aplique) | C18: =PRESUPUESTO!K28 -> 0 | D18: 0 | E18: 0 | F18: =C18+D18-E18 -> 0 | G18: 0 | H18: 0 | I18: =G18+H18 -> 0 | J18: =(I18/F18) -> #DIV/0! | L18: 0 | M18: 0 | N18: =F18-I18 -> 0
A19: 1600 | B19: Rendimientos Financieros (Cuando aplique) | C19: =PRESUPUESTO!K29 -> 0 | D19: 0 | E19: 0 | F19: =C19+D19-E19 -> 0 | G19: 0 | H19: 0 | I19: =G19+H19 -> 0 | J19: =(I19/F19) -> #DIV/0! | L19: 0 | M19: 0 | N19: =F19-I19 -> 0
A20: 1700 | B20: Aportes de la institución (Cuando aplique) | C20: =PRESUPUESTO!K30 -> 0 | D20: 0 | E20: 0 | F20: =C20+D20-E20 -> 0 | G20: 0 | H20: 0 | I20: =G20+H20 -> 0 | J20: =(I20/F20) -> #DIV/0! | L20: 0 | M20: 0 | N20: =F20-I20 -> 0
A21: 1800 | B21: Otros ingresos (Cuando aplique) | C21: =PRESUPUESTO!K31 -> 0 | D21: 0 | E21: 0 | F21: =C21+D21-E21 -> 0 | G21: 0 | H21: 0 | I21: =G21+H21 -> 0 | J21: =(I21/F21) -> #DIV/0! | L21: 0 | M21: 0 | N21: =F21-I21 -> 0
A22: TOTAL INGRESOS | C22: =SUM(C14:C21) -> 115823760 | D22: 0 | E22: =SUM(E14:E21) -> 0 | F22: =SUM(F14:F21) -> 115823760 | G22: =SUM(G14:G21) -> 0 | H22: =SUM(H14:H21) -> 19303960 | I22: =SUM(I14:I21) -> 19303960 | J22: =(I22/F22) -> 0.16666667 | L22: =SUM(L14:L21) -> 0 | M22: =SUM(M14:M21) -> 0 | N22: =SUM(N14:N21) -> 96519800
A24: Nombres y apellidos del representante legal | E24: Nombres y apellidos del Tesorero o Contador Público | I24: Nombres y apellidos del Revisor FIscal (1)
A25: LILIANA PARRA CELIS | E25: LUIS ANTONIO CASTILLO RAMOS | I25: MAURICIO RAMIREZ MEDINA
E26: #VALUE! | I26: #VALUE!
A27: Firma | E27: Firma | I27: Firma
B29: (1) NOTA - Revisor Fiscal : Si está obligado legalmente a tener revisor fiscal.
A31: GASTOS
A33: CODIGO | B33: EJECUCION DE GASTOS | C33: 1 | D33: 2 | E33: 3 | F33: 4=(1+2)-3 | G33: 5 | H33: 6 | I33: 7=(5+6) | J33: 8=(7/4) | L33: 9 | N33: 10=(4-7)
A34: 2000 | B34: OBJETO DEL GASTO | C34: Presupuesto inicial | D34: Adición | E34: Disminución | F34: Presupuesto al final del periodo ejecutado | G34: Gastos acumulados | H34: Gastos - mes 1 | I34: Valor total ejecutado | J34: % aportes ejecutados | L34: Ejecucion de Gastos | N34: Total saldo por ejecutar
L35: Gastos Pagados | M35: Cuentas por Pagar
A36: 2100 | B36: 1. TALENTO HUMANO
A37: 2101 | B37: Salario | C37: =PRESUPUESTO!K36 -> 0 | D37: 0 | E37: 0 | F37: =C37+D37-E37 -> 0 | G37: 0 | H37: 0 | I37: =G37+H37 -> 0 | J37: =(I37/F37) -> #DIV/0! | L37: 0 | M37: 0 | N37: =(F37-I37) -> 0
A38: 2102 | B38: Auxilio de transporte | C38: =PRESUPUESTO!K37 -> 0 | D38: 0 | E38: 0 | F38: =C38+D38-E38 -> 0 | G38: 0 | H38: 0 | I38: =G38+H38 -> 0 | J38: =(I38/F38) -> #DIV/0! | L38: 0 | M38: 0 | N38: =(F38-I38) -> 0
A39: 2103 | B39: Horas extras y recargo nocturno | C39: =PRESUPUESTO!K38 -> 0 | D39: 0 | E39: 0 | F39: =C39+D39-E39 -> 0 | G39: 0 | H39: 0 | I39: =G39+H39 -> 0 | J39: =(I39/F39) -> #DIV/0! | L39: 0 | M39: 0 | N39: =(F39-I39) -> 0
A40: 2104 | B40: Cesantías | C40: =PRESUPUESTO!K39 -> 0 | D40: 0 | E40: 0 | F40: =C40+D40-E40 -> 0 | G40: 0 | H40: 0 | I40: =G40+H40 -> 0 | J40: =(I40/F40) -> #DIV/0! | L40: 0 | M40: 0 | N40: =(F40-I40) -> 0
A41: 2105 | B41: Vacaciones | C41: =PRESUPUESTO!K40 -> 0 | D41: 0 | E41: 0 | F41: =C41+D41-E41 -> 0 | G41: 0 | H41: 0 | I41: =G41+H41 -> 0 | J41: =(I41/F41) -> #DIV/0! | L41: 0 | M41: 0 | N41: =(F41-I41) -> 0
A42: 2106 | B42: Prima de servicios | C42: =PRESUPUESTO!K41 -> 0 | D42: 0 | E42: 0 | F42: =C42+D42-E42 -> 0 | G42: 0 | H42: 0 | I42: =G42+H42 -> 0 | J42: =(I42/F42) -> #DIV/0! | L42: 0 | M42: 0 | N42: =(F42-I42) -> 0
A43: 2107 | B43: Intereses/cesantías | C43: =PRESUPUESTO!K42 -> 0 | D43: 0 | E43: 0 | F43: =C43+D43-E43 -> 0 | G43: 0 | H43: 0 | I43: =G43+H43 -> 0 | J43: =(I43/F43) -> #DIV/0! | L43: 0 | M43: 0 | N43: =(F43-I43) -> 0
A44: 2108 | B44: Aportes parafiscales (SENA, Icbf y Caja de compensación) | C44: =PRESUPUESTO!K43 -> 0 | D44: 0 | E44: 0 | F44: =C44+D44-E44 -> 0 | G44: 0 | H44: 0 | I44: =G44+H44 -> 0 | J44: =(I44/F44) -> #DIV/0! | L44: 0 | M44: 0 | N44: =(F44-I44) -> 0
...

Sheet MES 2
A1: DEFINICIÓN DE LOS RUBROS CONTENIDOS EN EL PRESUPUESTO-HOJA DE SEGUIMIENTO (ENERO-2025)
B2: Regional | C2: =PRESUPUESTO!C2 -> CUNDINAMARCA | E2: Informe correspondiente al período: | G2: Modalidades: | I2: Cupos contratados | J2: Cupos Ejecutados | L2: Cupos Inejecutados | M2: Valor total pagado por modalidad
B3: Centro Zonal | C3: =PRESUPUESTO!C3 -> CUNDINAMARCA | G3: =PRESUPUESTO!$B$15 -> (1) INTERVENCION APOYO PSICOLOGICO | I3: =PRESUPUESTO!J15 -> 40 | J3: 10.48 | L3: =I3-J3 -> 29.52 | M3: =(J3*PRESUPUESTO!H6)+(L3*(PRESUPUESTO!H6*PRESUPUESTO!B13)) -> 0
B4: Municipio | C4: =PRESUPUESTO!C4 -> CHIA | E4: Fecha de elaboración (dd/mm/aa): | G4: =PRESUPUESTO!$B$16 -> (2) | I4: =PRESUPUESTO!J16 -> 0 | J4: 37.67 | L4: =I4-J4 -> -37.67 | M4: =(J4*PRESUPUESTO!I6)+(L4*(PRESUPUESTO!I6*PRESUPUESTO!C13)) -> 18179504
B5: Entidad contratista | C5: =PRESUPUESTO!I2 -> FUNDACION SAN NICOLAS | G5: =PRESUPUESTO!$B$17 -> (3) | I5: =PRESUPUESTO!J17 -> 0 | J5: 3 | L5: =I5-J5 -> -3 | M5: =(J5*PRESUPUESTO!J6)+(L5*(PRESUPUESTO!J6*PRESUPUESTO!D13)) -> 0
B6: NIT | C6: =PRESUPUESTO!I3 -> 901.604.401-1 | E6: Fecha de presentación (dd/mm/aa): | G6: =PRESUPUESTO!$B$18 -> (4) | I6: =PRESUPUESTO!J18 -> 0 | J6: 4 | L6: =I6-J6 -> -4 | M6: =(J6*PRESUPUESTO!K6)+(L6*(PRESUPUESTO!K6*PRESUPUESTO!E13)) -> 0
B7: Contrato No. | C7: =PRESUPUESTO!I4 -> 25004852025 | G7: =PRESUPUESTO!B19 -> (5) | I7: =PRESUPUESTO!J19 -> 0 | J7: 5 | L7: =I7-J7 -> -5 | M7: =(J7*PRESUPUESTO!L6)+(L7*(PRESUPUESTO!L6*PRESUPUESTO!F13)) -> 0
B8: Valor del alistamiento | C8: =PRESUPUESTO!M7+PRESUPUESTO!M11 -> 19303960 | E8: Vigencia desembolso Alistamiento | G8: =PRESUPUESTO!B20 -> (6) | I8: =PRESUPUESTO!J20 -> 0 | J8: 6 | L8: =I8-J8 -> -6 | M8: =(J8*PRESUPUESTO!M6)+(L8*(PRESUPUESTO!M6*PRESUPUESTO!G13)) -> 0
B9: Fecha desembolso alistamiento | G9: VALOR EJECUCIÓN MES ACTUAL | I9: =SUM(I3:I8) -> 40 | J9: =SUM(J3:K8) -> 66.15 | L9: =SUM(L3:L8) -> -26.15 | M9: =SUM(M3:N8) -> 18179504
G10: ADICION | I10: 0 | J10: TOTAL DESEMBOLSO | M10: =+M9+I10 -> 18179504
A11: CODIGO | B11: EJECUCION DE INGRESOS | C11: 1 | D11: 2 | E11: 3 | F11: 4=(1+2)-3 | G11: 5 | H11: -6 | I11: 7=(5+6) | J11: 8=(7/4) | L11: 9 | N11: 10=(4-7)
A12: 1 | B12: OBJETO DEL INGRESO | C12: Presupuesto inicial del periodo a ejecutar | D12: Adición | E12: Disminución | F12: Presupuesto al final del periodo ejecutado | G12: Valor ingresos acumulados al mes 1 | H12: Ingresos - mes 2 | I12: Valor total ingresos al final de periodo ejecutado | J12: % Aportes recibidos | L12: Ejecucion de Gastos | N12: Total saldo por ingresar
L13: Ingresos Pagados | M13: Cuentas por Cobrar
A14: 1100 | B14: Aportes ICBF | C14: =+'MES 1'!F14 -> 115823760 | D14: 0 | E14: 0 | F14: =C14+D14-E14 -> 115823760 | G14: ='MES 1'!I14 -> 19303960 | H14: =M9 -> 18179504 | I14: =G14+H14 -> 37483464 | J14: =(I14/F14) -> 0.323625 | L14: 0 | M14: 0 | N14: =F14-I14 -> 78340296
A15: 1200 | B15: Acciones complementarias para la gestión en el restablecimiento de derechos y/o administración de justicia (112) | C15: =+PRESUPUESTO!K25 -> 0 | D15: 0 | E15: 0 | F15: =C15+D15-E15 -> 0 | G15: ='MES 1'!I15 -> 0 | H15: 0 | I15: =G15+H15 -> 0 | J15: =(I15/F15) -> #DIV/0! | L15: 0 | M15: 0 | N15: =F15-I15 -> 0
A16: 1300 | B16: Orientación para la vida personal, social, profesional y vocacional (Subproyecto 111) | C16: =+PRESUPUESTO!K26 -> 0 | D16: 0 | E16: 0 | F16: =C16+D16-E16 -> 0 | G16: ='MES 1'!I16 -> 0 | H16: 0 | I16: =G16+H16 -> 0 | J16: =(I16/F16) -> #DIV/0! | L16: 0 | M16: 0 | N16: =F16-I16 -> 0
A17: 1400 | B17: Dotación de unidades aplicativas (Centro costos 114) | C17: =+PRESUPUESTO!K27 -> 0 | D17: 0 | E17: 0 | F17: =C17+D17-E17 -> 0 | G17: ='MES 1'!I17 -> 0 | H17: 0 | I17: =G17+H17 -> 0 | J17: =(I17/F17) -> #DIV/0! | L17: 0 | M17: 0 | N17: =F17-I17 -> 0
A18: 1500 | B18: Donaciones (Cuando aplique) | C18: =+PRESUPUESTO!K28 -> 0 | D18: 0 | E18: 0 | F18: =C18+D18-E18 -> 0 | G18: ='MES 1'!I18 -> 0 | H18: 0 | I18: =G18+H18 -> 0 | J18: =(I18/F18) -> #DIV/0! | L18: 0 | M18: 0 | N18: =F18-I18 -> 0
A19: 1600 | B19: Rendimientos Financieros (Cuando aplique) | C19: =+PRESUPUESTO!K29 -> 0 | D19: 0 | E19: 0 | F19: =C19+D19-E19 -> 0 | G19: ='MES 1'!I19 -> 0 | H19: 0 | I19: =G19+H19 -> 0 | J19: =(I19/F19) -> #DIV/0! | L19: 0 | M19: 0 | N19: =F19-I19 -> 0
A20: 1700 | B20: Aportes de la institución (Cuando aplique) | C20: =+PRESUPUESTO!K30 -> 0 | D20: 0 | E20: 0 | F20: =C20+D20-E20 -> 0 | G20: ='MES 1'!I20 -> 0 | H20: 0 | I20: =G20+H20 -> 0 | J20: =(I20/F20) -> #DIV/0! | L20: 0 | M20: 0 | N20: =F20-I20 -> 0
A21: 1800 | B21: Otros ingresos (Cuando aplique) | C21: =+PRESUPUESTO!K31 -> 0 | D21: 0 | E21: 0 | F21: =C21+D21-E21 -> 0 | G21: ='MES 1'!I21 -> 0 | H21: 0 | I21: =G21+H21 -> 0 | J21: =(I21/F21) -> #DIV/0! | L21: 0 | M21: 0 | N21: =F21-I21 -> 0
A22: TOTAL INGRESOS | C22: =SUM(C14:C21) -> 115823760 | D22: =SUM(D14:D21) -> 0 | E22: =SUM(E14:E21) -> 0 | F22: =SUM(F14:F21) -> 115823760 | G22: =SUM(G14:G21) -> 19303960 | H22: =SUM(H14:H21) -> 18179504 | I22: =SUM(I14:I21) -> 37483464 | J22: =(I22/F22) -> 0.323625 | L22: =SUM(L14:L21) -> 0 | M22: =SUM(M14:M21) -> 0 | N22: =SUM(N14:N21) -> 78340296
B24: Nombres y apellidos del representante legal | E24: Nombres y Apellidos del Tesorero o Contador Publico | I24: Nombres y apellidos del Revisor FIscal (2)
B27: Firma | E27: Firma | I27: Firma
B29: (1) NOTA - Revisor Fiscal : Si está obligado legalmente a tener revisor fiscal.
A33: GASTOS
A35: CODIGO | B35: EJECUCION DE GASTOS | C35: 1 | D35: 2 | E35: 3 | F35: 4=(1+2)-3 | G35: 5 | H35: 6 | I35: 7=(5+6) | J35: 8=(7/4) | L35: 9 | N35: 9=(4-7)
A36: 2000 | B36: OBJETO DEL GASTO | C36: Presupuesto inicial del periodo a ejecutar | D36: Adición | E36: Disminución | F36: Presupuesto al final del periodo ejecutado | G36: Gastos acumulados al mes 1 | H36: Gastos - mes 2 | I36: Valor total ejecutado al final de periodo | J36: % aportes ejecutados | L36: Ejecucion de Gastos | N36: Total saldo por ejecutar
L37: Gastos Pagados | M37: Cuentas por Pagar
A38: 2100 | B38: 1. TALENTO HUMANO
A39: 2101 | B39: Salario | C39: =+PRESUPUESTO!K36 -> 0 | D39: 0 | E39: 0 | F39: =C39+D39-E39 -> 0 | G39: ='MES 1'!I37 -> 0 | H39: 0 | I39: =G39+H39 -> 0 | J39: =(I39/F39) -> #DIV/0! | L39: 0 | M39: 0 | N39: =(F39-I39) -> 0
A40: 2102 | B40: Auxilio de transporte | C40: =+PRESUPUESTO!K37 -> 0 | D40: 0 | E40: 0 | F40: =C40+D40-E40 -> 0 | G40: ='MES 1'!I38 -> 0 | H40: 0 | I40: =G40+H40 -> 0 | J40: =(I40/F40) -> #DIV/0! | L40: 0 | M40: 0 | N40: =(F40-I40) -> 0
A41: 2103 | B41: Horas extras y recargo nocturno | C41: =+PRESUPUESTO!K38 -> 0 | D41: 0 | E41: 0 | F41: =C41+D41-E41 -> 0 | G41: ='MES 1'!I39 -> 0 | H41: 0 | I41: =G41+H41 -> 0 | J41: =(I41/F41) -> #DIV/0! | L41: 0 | M41: 0 | N41: =(F41-I41) -> 0
A42: 2104 | B42: Cesantías | C42: =+PRESUPUESTO!K39 -> 0 | D42: 0 | E42: 0 | F42: =C42+D42-E42 -> 0 | G42: ='MES 1'!I40 -> 0 | H42: 0 | I42: =G42+H42 -> 0 | J42: =(I42/F42) -> #DIV/0! | L42: 0 | M42: 0 | N42: =(F42-I42) -> 0
A43: 2105 | B43: Vacaciones | C43: =+PRESUPUESTO!K40 -> 0 | D43: 0 | E43: 0 | F43: =C43+D43-E43 -> 0 | G43: ='MES 1'!I41 -> 0 | H43: 0 | I43: =G43+H43 -> 0 | J43: =(I43/F43) -> #DIV/0! | L43: 0 | M43: 0 | N43: =(F43-I43) -> 0
A44: 2106 | B44: Prima de servicios | C44: =+PRESUPUESTO!K41 -> 0 | D44: 0 | E44: 0 | F44: =C44+D44-E44 -> 0 | G44: ='MES 1'!I42 -> 0 | H44: 0 | I44: =G44+H44 -> 0 | J44: =(I44/F44) -> #DIV/0! | L44: 0 | M44: 0 | N44: =(F44-I44) -> 0
A45: 2107 | B45: Intereses/cesantías | C45: =+PRESUPUESTO!K42 -> 0 | D45: 0 | E45: 0 | F45: =C45+D45-E45 -> 0 | G45: ='MES 1'!I43 -> 0 | H45: 0 | I45: =G45+H45 -> 0 | J45: =(I45/F45) -> #DIV/0! | L45: 0 | M45: 0 | N45: =(F45-I45) -> 0
A46: 2108 | B46: Aportes parafiscales (SENA, Icbf y Caja de compensación) | C46: =+PRESUPUESTO!K43 -> 0 | D46: 0 | E46: 0 | F46: =C46+D46-E46 -> 0 | G46: ='MES 1'!I44 -> 0 | H46: 0 | I46: =G46+H46 -> 0 | J46: =(I46/F46) -> #DIV/0! | L46: 0 | M46: 0 | N46: =(F46-I46) -> 0
A47: 2109 | B47: Aportes salud, pensión y ARL | C47: =+PRESUPUESTO!K44 -> 0 | D47: 0 | E47: 0 | F47: =C47+D47-E47 -> 0 | G47: ='MES 1'!I45 -> 0 | H47: 0 | I47: =G47+H47 -> 0 | J47: =(I47/F47) -> #DIV/0! | L47: 0 | M47: 0 | N47: =(F47-I47) -> 0
A48: 2110 | B48: Honorarios | C48: =+PRESUPUESTO!K45 -> 69000000 | D48: 0 | E48: 0 | F48: =C48+D48-E48 -> 69000000 | G48: ='MES 1'!I46 -> 10300000 | H48: 29618759 | I48: =G48+H48 -> 39918759 | J48: =(I48/F48) -> 0.57853274 | L48: 0 | M48: 0 | N48: =(F48-I48) -> 29081241
...

Sheet MES 3
A1: DEFINICIÓN DE LOS RUBROS CONTENIDOS EN EL PRESUPUESTO-HOJA DE SEGUIMIENTO
B2: Regional | C2: =PRESUPUESTO!C2 -> CUNDINAMARCA | E2: Informe correspondiente al período: | G2: Modalidades: | I2: Cupos contratados | J2: Cupos Ejecutados | L2: Cupos Inejecutados | M2: Valor total pagado por modalidad
B3: Centro Zonal | C3: =PRESUPUESTO!C3 -> CUNDINAMARCA | G3: =PRESUPUESTO!$B$15 -> (1) INTERVENCION APOYO PSICOLOGICO | I3: =PRESUPUESTO!J15 -> 40 | J3: 100 | L3: =I3-J3 -> -60 | M3: =(J3*PRESUPUESTO!B11)+(L3*(PRESUPUESTO!B11*PRESUPUESTO!B13)) -> 48259900
B4: Municipio | C4: =PRESUPUESTO!C4 -> CHIA | E4: Fecha de elaboración (dd/mm/aa): | G4: =PRESUPUESTO!$B$16 -> (2) | I4: =PRESUPUESTO!J16 -> 0 | J4: 0 | L4: =I4-J4 -> 0 | M4: =(J4*PRESUPUESTO!C11)+(L4*(PRESUPUESTO!C11*PRESUPUESTO!C13)) -> 0
B5: Entidad contratista | C5: =PRESUPUESTO!I2 -> FUNDACION SAN NICOLAS | G5: =PRESUPUESTO!$B$17 -> (3) | I5: =PRESUPUESTO!J17 -> 0 | J5: 5 | L5: =I5-J5 -> -5 | M5: =(J5*PRESUPUESTO!D11)+(L5*(PRESUPUESTO!D11*PRESUPUESTO!D13)) -> 0
B6: NIT | C6: =PRESUPUESTO!I3 -> 901.604.401-1 | E6: Fecha de presentación (dd/mm/aa): | G6: =PRESUPUESTO!$B$18 -> (4) | I6: =PRESUPUESTO!J18 -> 0 | J6: 4 | L6: =I6-J6 -> -4 | M6: =(J6*PRESUPUESTO!E11)+(L6*(PRESUPUESTO!E11*PRESUPUESTO!E13)) -> 0
B7: Contrato No. | C7: =PRESUPUESTO!I4 -> 25004852025 | G7: =PRESUPUESTO!B19 -> (5) | I7: =PRESUPUESTO!J19 -> 0 | J7: 3 | L7: =I7-J7 -> -3 | M7: =(J7*PRESUPUESTO!F11)+(L7*(PRESUPUESTO!F11*PRESUPUESTO!F13)) -> 0
B8: Valor del alistamiento | C8: =PRESUPUESTO!M7+PRESUPUESTO!M11 -> 19303960 | E8: Vigencia desembolso Alistamiento | G8: =PRESUPUESTO!B20 -> (6) | I8: =PRESUPUESTO!J20 -> 0 | J8: 5 | L8: =I8-J8 -> -5 | M8: =(J8*PRESUPUESTO!G11)+(L8*(PRESUPUESTO!G11*PRESUPUESTO!G13)) -> 0
B9: Fecha desembolso alistamiento | G9: VALOR EJECUCIÓN MES ACTUAL | I9: =SUM(I3:I8) -> 40 | J9: =SUM(J3:K8) -> 117 | L9: =SUM(L3:L8) -> -77 | M9: =SUM(M3:N8) -> 48259900
G10: ADICION | I10: 0 | J10: TOTAL DESEMBOLSO | M10: =+M9+I10 -> 48259900
A11: CODIGO | B11: EJECUCION DE INGRESOS | C11: 1 | D11: 2 | E11: 3 | F11: 4=(1+2)-3 | G11: 5 | H11: -6 | I11: 7=(5+6) | J11: 8=(7/4) | L11: 9 | N11: 10=(4-7)
A12: 1 | B12: OBJETO DEL INGRESO | C12: Presupuesto inicial del periodo a ejecutar | D12: Adición | E12: Disminución | F12: Presupuesto al final del periodo ejecutado | G12: Valor ingresos acumulados al mes 2 | H12: Ingresos - mes 3 | I12: Valor total ingresos al final de periodo ejecutado | J12: % Aportes recibidos | L12: Ejecucion de Gastos | N12: Total saldo por ingresar
L13: Ingresos Pagados | M13: Cuentas por Cobrar
A14: 1100 | B14: Aportes ICBF | C14: =+'MES 2'!F14 -> 115823760 | D14: 0 | E14: 0 | F14: =C14+D14-E14 -> 115823760 | G14: ='MES 2'!I14 -> 37483464 | H14: =M9 -> 48259900 | I14: =G14+H14 -> 85743364 | J14: =(I14/F14) -> 0.74029167 | L14: 0 | M14: 0 | N14: =F14-I14 -> 30080396
A15: 1200 | B15: Acciones complementarias para la gestión en el restablecimiento de derechos y/o administración de justicia (112) | C15: =+PRESUPUESTO!K25 -> 0 | D15: 0 | E15: 0 | F15: =C15+D15-E15 -> 0 | G15: ='MES 2'!I15 -> 0 | H15: 0 | I15: =G15+H15 -> 0 | J15: =(I15/F15) -> #DIV/0! | L15: 0 | M15: 0 | N15: =F15-I15 -> 0
A16: 1300 | B16: Orientación para la vida personal, social, profesional y vocacional (Subproyecto 111) | C16: =+PRESUPUESTO!K26 -> 0 | D16: 0 | E16: 0 | F16: =C16+D16-E16 -> 0 | G16: ='MES 2'!I16 -> 0 | H16: 0 | I16: =G16+H16 -> 0 | J16: =(I16/F16) -> #DIV/0! | L16: 0 | M16: 0 | N16: =F16-I16 -> 0
A17: 1400 | B17: Dotación de unidades aplicativas (Centro costos 114) | C17: =+PRESUPUESTO!K27 -> 0 | D17: 0 | E17: 0 | F17: =C17+D17-E17 -> 0 | G17: ='MES 2'!I17 -> 0 | H17: 0 | I17: =G17+H17 -> 0 | J17: =(I17/F17) -> #DIV/0! | L17: 0 | M17: 0 | N17: =F17-I17 -> 0
A18: 1500 | B18: Donaciones (Cuando aplique) | C18: =+PRESUPUESTO!K28 -> 0 | D18: 0 | E18: 0 | F18: =C18+D18-E18 -> 0 | G18: ='MES 2'!I18 -> 0 | H18: 0 | I18: =G18+H18 -> 0 | J18: =(I18/F18) -> #DIV/0! | L18: 0 | M18: 0 | N18: =F18-I18 -> 0
A19: 1600 | B19: Rendimientos Financieros (Cuando aplique) | C19: =+PRESUPUESTO!K29 -> 0 | D19: 0 | E19: 0 | F19: =C19+D19-E19 -> 0 | G19: ='MES 2'!I19 -> 0 | H19: 0 | I19: =G19+H19 -> 0 | J19: =(I19/F19) -> #DIV/0! | L19: 0 | M19: 0 | N19: =F19-I19 -> 0
A20: 1700 | B20: Aportes de la institución (Cuando aplique) | C20: =+PRESUPUESTO!K30 -> 0 | D20: 0 | E20: 0 | F20: =C20+D20-E20 -> 0 | G20: ='MES 2'!I20 -> 0 | H20: 0 | I20: =G20+H20 -> 0 | J20: =(I20/F20) -> #DIV/0! | L20: 0 | M20: 0 | N20: =F20-I20 -> 0
A21: 1800 | B21: Otros ingresos (Cuando aplique) | C21: =+PRESUPUESTO!K31 -> 0 | D21: 0 | E21: 0 | F21: =C21+D21-E21 -> 0 | G21: ='MES 2'!I21 -> 0 | H21: 0 | I21: =G21+H21 -> 0 | J21: =(I21/F21) -> #DIV/0! | L21: 0 | M21: 0 | N21: =F21-I21 -> 0
A22: TOTAL INGRESOS | C22: =SUM(C14:C21) -> 115823760 | D22: =SUM(D14:D21) -> 0 | E22: =SUM(E14:E21) -> 0 | F22: =SUM(F14:F21) -> 115823760 | G22: =SUM(G14:G21) -> 37483464 | H22: =SUM(H14:H21) -> 48259900 | I22: =SUM(I14:I21) -> 85743364 | J22: =(I22/F22) -> 0.74029167 | L22: =SUM(L14:L21) -> 0 | M22: =SUM(M14:M21) -> 0 | N22: =SUM(N14:N21) -> 30080396
B24: Nombres y apellidos del representante legal | E24: Nombres y Apellidos del Tesorero o Contador Publico | I24: Nombres y apellidos del Revisor FIscal (2)
B27: Firma | E27: Firma | I27: Firma
B29: (1) NOTA - Revisor Fiscal : Si está obligado legalmente a tener revisor fiscal.
A31: GASTOS
A33: CODIGO | B33: EJECUCION DE GASTOS | C33: 1 | D33: 2 | E33: 3 | F33: 4=(1+2)-3 | G33: 5 | H33: 6 | I33: 7=(5+6) | J33: 8=(7/4) | L33: 9 | N33: 10=(4-7)
A34: 2000 | B34: OBJETO DEL GASTO | C34: Presupuesto inicial del periodo a ejecutar | D34: Adición | E34: Disminución | F34: Presupuesto al final del periodo ejecutado | G34: Gastos acumulados al mes 2 | H34: Gastos - mes 3 | I34: Valor total ejecutado al final de periodo | J34: % aportes ejecutados | L34: Ejecucion de Gastos | N34: Total saldo por ejecutar
L35: Gastos Pagados | M35: Cuentas por Pagar
A36: 2100 | B36: 1. TALENTO HUMANO
A37: 2101 | B37: Salario | C37: =+PRESUPUESTO!K36 -> 0 | D37: 0 | E37: 0 | F37: =C37+D37-E37 -> 0 | G37: ='MES 2'!I39 -> 0 | H37: 0 | I37: =G37+H37 -> 0 | J37: =(I37/F37) -> #DIV/0! | L37: 0 | M37: 0 | N37: =(F37-I37) -> 0
A38: 2102 | B38: Auxilio de transporte | C38: =+PRESUPUESTO!K37 -> 0 | D38: 0 | E38: 0 | F38: =C38+D38-E38 -> 0 | G38: ='MES 2'!I40 -> 0 | H38: 0 | I38: =G38+H38 -> 0 | J38: =(I38/F38) -> #DIV/0! | L38: 0 | M38: 0 | N38: =(F38-I38) -> 0
A39: 2103 | B39: Horas extras y recargo nocturno | C39: =+PRESUPUESTO!K38 -> 0 | D39: 0 | E39: 0 | F39: =C39+D39-E39 -> 0 | G39: ='MES 2'!I41 -> 0 | H39: 0 | I39: =G39+H39 -> 0 | J39: =(I39/F39) -> #DIV/0! | L39: 0 | M39: 0 | N39: =(F39-I39) -> 0
A40: 2104 | B40: Cesantías | C40: =+PRESUPUESTO!K39 -> 0 | D40: 0 | E40: 0 | F40: =C40+D40-E40 -> 0 | G40: ='MES 2'!I42 -> 0 | H40: 0 | I40: =G40+H40 -> 0 | J40: =(I40/F40) -> #DIV/0! | L40: 0 | M40: 0 | N40: =(F40-I40) -> 0
A41: 2105 | B41: Vacaciones | C41: =+PRESUPUESTO!K40 -> 0 | D41: 0 | E41: 0 | F41: =C41+D41-E41 -> 0 | G41: ='MES 2'!I43 -> 0 | H41: 0 | I41: =G41+H41 -> 0 | J41: =(I41/F41) -> #DIV/0! | L41: 0 | M41: 0 | N41: =(F41-I41) -> 0
A42: 2106 | B42: Prima de servicios | C42: =+PRESUPUESTO!K41 -> 0 | D42: 0 | E42: 0 | F42: =C42+D42-E42 -> 0 | G42: ='MES 2'!I44 -> 0 | H42: 0 | I42: =G42+H42 -> 0 | J42: =(I42/F42) -> #DIV/0! | L42: 0 | M42: 0 | N42: =(F42-I42) -> 0
A43: 2107 | B43: Intereses/cesantías | C43: =+PRESUPUESTO!K42 -> 0 | D43: 0 | E43: 0 | F43: =C43+D43-E43 -> 0 | G43: ='MES 2'!I45 -> 0 | H43: 0 | I43: =G43+H43 -> 0 | J43: =(I43/F43) -> #DIV/0! | L43: 0 | M43: 0 | N43: =(F43-I43) -> 0
A44: 2108 | B44: Aportes parafiscales (SENA, Icbf y Caja de compensación) | C44: =+PRESUPUESTO!K43 -> 0 | D44: 0 | E44: 0 | F44: =C44+D44-E44 -> 0 | G44: ='MES 2'!I46 -> 0 | H44: 0 | I44: =G44+H44 -> 0 | J44: =(I44/F44) -> #DIV/0! | L44: 0 | M44: 0 | N44: =(F44-I44) -> 0
A45: 2109 | B45: Aportes salud, pensión y ARL | C45: =+PRESUPUESTO!K44 -> 0 | D45: 0 | E45: 0 | F45: =C45+D45-E45 -> 0 | G45: ='MES 2'!I47 -> 0 | H45: 0 | I45: =G45+H45 -> 0 | J45: =(I45/F45) -> #DIV/0! | L45: 0 | M45: 0 | N45: =(F45-I45) -> 0
A46: =+A45+1 -> 2110 | B46: Honorarios | C46: =+PRESUPUESTO!K45 -> 69000000 | D46: 0 | E46: 0 | F46: =C46+D46-E46 -> 69000000 | G46: ='MES 2'!I48 -> 39918759 | H46: 0 | I46: =G46+H46 -> 39918759 | J46: =(I46/F46) -> 0.57853274 | L46: 0 | M46: 0 | N46: =(F46-I46) -> 29081241
...

Sheet MES 4
A1: DEFINICIÓN DE LOS RUBROS CONTENIDOS EN EL PRESUPUESTO-HOJA DE SEGUIMIENTO
B2: Regional | C2: =PRESUPUESTO!C2 -> CUNDINAMARCA | E2: Informe correspondiente al período: | G2: Modalidades: | I2: Cupos contratados | J2: Cupos Ejecutados | L2: Cupos Inejecutados | M2: Valor total pagado por modalidad
B3: Centro Zonal | C3: =PRESUPUESTO!C3 -> CUNDINAMARCA | G3: =PRESUPUESTO!$B$15 -> (1) INTERVENCION APOYO PSICOLOGICO | I3: =PRESUPUESTO!J15 -> 40 | J3: 100 | L3: =I3-J3 -> -60 | M3: =(J3*PRESUPUESTO!B11)+(L3*(PRESUPUESTO!B11*PRESUPUESTO!B13)) -> 48259900
B4: Municipio | C4: =PRESUPUESTO!C4 -> CHIA | E4: Fecha de elaboración (dd/mm/aa): | G4: =PRESUPUESTO!$B$16 -> (2) | I4: =PRESUPUESTO!J16 -> 0 | J4: 0 | L4: =I4-J4 -> 0 | M4: =(J4*PRESUPUESTO!C11)+(L4*(PRESUPUESTO!C11*PRESUPUESTO!C13)) -> 0
B5: Entidad contratista | C5: =PRESUPUESTO!I2 -> FUNDACION SAN NICOLAS | G5: =PRESUPUESTO!$B$17 -> (3) | I5: =PRESUPUESTO!J17 -> 0 | J5: 0 | L5: =I5-J5 -> 0 | M5: =(J5*PRESUPUESTO!D11)+(L5*(PRESUPUESTO!D11*PRESUPUESTO!D13)) -> 0
B6: NIT | C6: =PRESUPUESTO!I3 -> 901.604.401-1 | E6: Fecha de presentación (dd/mm/aa): | G6: =PRESUPUESTO!$B$18 -> (4) | I6: =PRESUPUESTO!J18 -> 0 | J6: 0 | L6: =I6-J6 -> 0 | M6: =(J6*PRESUPUESTO!E11)+(L6*(PRESUPUESTO!E11*PRESUPUESTO!E13)) -> 0
B7: Contrato No. | C7: =PRESUPUESTO!I4 -> 25004852025 | G7: =PRESUPUESTO!B19 -> (5) | I7: =PRESUPUESTO!J19 -> 0 | J7: 0 | L7: =I7-J7 -> 0 | M7: =(J7*PRESUPUESTO!F11)+(L7*(PRESUPUESTO!F11*PRESUPUESTO!F13)) -> 0
B8: Valor del alistamiento | C8: =PRESUPUESTO!M7+PRESUPUESTO!M11 -> 19303960 | E8: Vigencia desembolso Alistamiento | G8: =PRESUPUESTO!B20 -> (6) | I8: =PRESUPUESTO!J20 -> 0 | J8: 0 | L8: =I8-J8 -> 0 | M8: =(J8*PRESUPUESTO!G11)+(L8*(PRESUPUESTO!G11*PRESUPUESTO!G13)) -> 0
B9: Fecha desembolso alistamiento | G9: VALOR EJECUCIÓN MES ACTUAL | I9: =SUM(I3:I8) -> 40 | J9: =SUM(J3:K8) -> 100 | L9: =SUM(L3:L8) -> -60 | M9: =SUM(M3:N8) -> 48259900
G10: ADICION | I10: 0 | J10: TOTAL DESEMBOLSO | M10: =+M9+I10 -> 48259900
A11: CODIGO | B11: EJECUCION DE INGRESOS | C11: 1 | D11: 2 | E11: 3 | F11: 4=(1+2)-3 | G11: 5 | H11: -6 | I11: 7=(5+6) | J11: 8=(7/4) | L11: 9 | N11: 10=(4-7)
A12: 1 | B12: OBJETO DEL INGRESO | C12: Presupuesto inicial del periodo a ejecutar | D12: Adición | E12: Disminución | F12: Presupuesto al final del periodo ejecutado | G12: Valor ingresos acumulados al mes 3 | H12: Ingresos - mes 4 | I12: Valor total ingresos al final de periodo ejecutado | J12: % Aportes recibidos | L12: Ejecucion de Gastos | N12: Total saldo por ingresar
L13: Ingresos Pagados | M13: Cuentas por Cobrar
A14: 1100 | B14: Aportes ICBF | C14: =+'MES 3'!F14 -> 115823760 | D14: 0 | E14: 0 | F14: =C14+D14-E14 -> 115823760 | G14: ='MES 3'!I14 -> 85743364 | H14: =M9 -> 48259900 | I14: =G14+H14 -> 1.3400326e+08 | J14: =(I14/F14) -> 1.1569583 | L14: 0 | M14: 0 | N14: =F14-I14 -> -18179504
A15: 1200 | B15: Acciones complementarias para la gestión en el restablecimiento de derechos y/o administración de justicia (112) | C15: =+PRESUPUESTO!K25 -> 0 | D15: 0 | E15: 0 | F15: =C15+D15-E15 -> 0 | G15: ='MES 3'!I15 -> 0 | H15: 0 | I15: =G15+H15 -> 0 | J15: =(I15/F15) -> #DIV/0! | L15: 0 | M15: 0 | N15: =F15-I15 -> 0
A16: 1300 | B16: Orientación para la vida personal, social, profesional y vocacional (Subproyecto 111) | C16: =+PRESUPUESTO!K26 -> 0 | D16: 0 | E16: 0 | F16: =C16+D16-E16 -> 0 | G16: ='MES 3'!I16 -> 0 | H16: 0 | I16: =G16+H16 -> 0 | J16: =(I16/F16) -> #DIV/0! | L16: 0 | M16: 0 | N16: =F16-I16 -> 0
A17: 1400 | B17: Dotación de unidades aplicativas (Centro costos 114) | C17: =+PRESUPUESTO!K27 -> 0 | D17: 0 | E17: 0 | F17: =C17+D17-E17 -> 0 | G17: ='MES 3'!I17 -> 0 | H17: 0 | I17: =G17+H17 -> 0 | J17: =(I17/F17) -> #DIV/0! | L17: 0 | M17: 0 | N17: =F17-I17 -> 0
A18: 1500 | B18: Donaciones (Cuando aplique) | C18: =+PRESUPUESTO!K28 -> 0 | D18: 0 | E18: 0 | F18: =C18+D18-E18 -> 0 | G18: ='MES 3'!I18 -> 0 | H18: 0 | I18: =G18+H18 -> 0 | J18: =(I18/F18) -> #DIV/0! | L18: 0 | M18: 0 | N18: =F18-I18 -> 0
A19: 1600 | B19: Rendimientos Financieros (Cuando aplique) | C19: =+PRESUPUESTO!K29 -> 0 | D19: 0 | E19: 0 | F19: =C19+D19-E19 -> 0 | G19: ='MES 3'!I19 -> 0 | H19: 0 | I19: =G19+H19 -> 0 | J19: =(I19/F19) -> #DIV/0! | L19: 0 | M19: 0 | N19: =F19-I19 -> 0
A20: 1700 | B20: Aportes de la institución (Cuando aplique) | C20: =+PRESUPUESTO!K30 -> 0 | D20: 0 | E20: 0 | F20: =C20+D20-E20 -> 0 | G20: ='MES 3'!I20 -> 0 | H20: 0 | I20: =G20+H20 -> 0 | J20: =(I20/F20) -> #DIV/0! | L20: 0 | M20: 0 | N20: =F20-I20 -> 0
A21: 1800 | B21: Otros ingresos (Cuando aplique) | C21: =+PRESUPUESTO!K31 -> 0 | D21: 0 | E21: 0 | F21: =C21+D21-E21 -> 0 | G21: ='MES 3'!I21 -> 0 | H21: 0 | I21: =G21+H21 -> 0 | J21: =(I21/F21) -> #DIV/0! | L21: 0 | M21: 0 | N21: =F21-I21 -> 0
A22: TOTAL INGRESOS | C22: =SUM(C14:C21) -> 115823760 | D22: =SUM(D14:D21) -> 0 | E22: =SUM(E14:E21) -> 0 | F22: =SUM(F14:F21) -> 115823760 | G22: =SUM(G14:G21) -> 85743364 | H22: =SUM(H14:H21) -> 48259900 | I22: =SUM(I14:I21) -> 1.3400326e+08 | J22: =(I22/F22) -> 1.1569583 | L22: =SUM(L14:L21) -> 0 | M22: =SUM(M14:M21) -> 0 | N22: =SUM(N14:N21) -> -18179504
B24: Nombres y apellidos del representante legal | E24: Nombres y Apellidos del Tesorero o Contador Publico | I24: Nombres y apellidos del Revisor FIscal (2)
B27: Firma | E27: Firma | I27: Firma
B29: (1) NOTA - Revisor Fiscal : Si está obligado legalmente a tener revisor fiscal.
A32: GASTOS
A34: CODIGO | B34: EJECUCION DE INGRESOS | C34: 1 | D34: 2 | E34: 3 | F34: 4=(1+2)-3 | G34: 5 | H34: -6 | I34: 7=(5+6) | J34: 8=(7/4) | L34: 9 | N34: 10=(4-7)
A35: 2000 | B35: OBJETO DEL GASTO | C35: Presupuesto inicial del periodo a ejecutar | D35: Adición | E35: Disminución | F35: Presupuesto al final del periodo ejecutado | G35: Gastos acumulados al mes 3 | H35: Gastos - mes 4 | I35: Valor total ejecutado al final de periodo | J35: % aportes ejecutados | L35: Ejecucion de Gastos | N35: Total saldo por ejecutar
L36: Gastos Pagados | M36: Cuentas por Pagar
A37: 2100 | B37: 1. TALENTO HUMANO
A38: 2101 | B38: Salario | C38: =+PRESUPUESTO!K36 -> 0 | D38: 0 | E38: 0 | F38: =C38+D38-E38 -> 0 | G38: ='MES 3'!I37 -> 0 | H38: 0 | I38: =G38+H38 -> 0 | J38: =(I38/F38) -> #DIV/0! | L38: 0 | M38: 0 | N38: =(F38-I38) -> 0
A39: 2102 | B39: Auxilio de transporte | C39: =+PRESUPUESTO!K37 -> 0 | D39: 0 | E39: 0 | F39: =C39+D39-E39 -> 0 | G39: ='MES 3'!I38 -> 0 | H39: 0 | I39: =G39+H39 -> 0 | J39: =(I39/F39) -> #DIV/0! | L39: 0 | M39: 0 | N39: =(F39-I39) -> 0
A40: 2103 | B40: Horas extras y recargo nocturno | C40: =+PRESUPUESTO!K38 -> 0 | D40: 0 | E40: 0 | F40: =C40+D40-E40 -> 0 | G40: ='MES 3'!I39 -> 0 | H40: 0 | I40: =G40+H40 -> 0 | J40: =(I40/F40) -> #DIV/0! | L40: 0 | M40: 0 | N40: =(F40-I40) -> 0
A41: 2104 | B41: Cesantías | C41: =+PRESUPUESTO!K39 -> 0 | D41: 0 | E41: 0 | F41: =C41+D41-E41 -> 0 | G41: ='MES 3'!I40 -> 0 | H41: 0 | I41: =G41+H41 -> 0 | J41: =(I41/F41) -> #DIV/0! | L41: 0 | M41: 0 | N41: =(F41-I41) -> 0
A42: 2105 | B42: Vacaciones | C42: =+PRESUPUESTO!K40 -> 0 | D42: 0 | E42: 0 | F42: =C42+D42-E42 -> 0 | G42: ='MES 3'!I41 -> 0 | H42: 0 | I42: =G42+H42 -> 0 | J42: =(I42/F42) -> #DIV/0! | L42: 0 | M42: 0 | N42: =(F42-I42) -> 0
A43: 2106 | B43: Prima de servicios | C43: =+PRESUPUESTO!K41 -> 0 | D43: 0 | E43: 0 | F43: =C43+D43-E43 -> 0 | G43: ='MES 3'!I42 -> 0 | H43: 0 | I43: =G43+H43 -> 0 | J43: =(I43/F43) -> #DIV/0! | L43: 0 | M43: 0 | N43: =(F43-I43) -> 0
A44: 2107 | B44: Intereses/cesantías | C44: =+PRESUPUESTO!K42 -> 0 | D44: 0 | E44: 0 | F44: =C44+D44-E44 -> 0 | G44: ='MES 3'!I43 -> 0 | H44: 0 | I44: =G44+H44 -> 0 | J44: =(I44/F44) -> #DIV/0! | L44: 0 | M44: 0 | N44: =(F44-I44) -> 0
A45: 2108 | B45: Aportes parafiscales (SENA, Icbf y Caja de compensación) | C45: =+PRESUPUESTO!K43 -> 0 | D45: 0 | E45: 0 | F45: =C45+D45-E45 -> 0 | G45: ='MES 3'!I44 -> 0 | H45: 0 | I45: =G45+H45 -> 0 | J45: =(I45/F45) -> #DIV/0! | L45: 0 | M45: 0 | N45: =(F45-I45) -> 0
A46: 2109 | B46: Aportes salud, pensión y ARL | C46: =+PRESUPUESTO!K44 -> 0 | D46: 0 | E46: 0 | F46: =C46+D46-E46 -> 0 | G46: ='MES 3'!I45 -> 0 | H46: 0 | I46: =G46+H46 -> 0 | J46: =(I46/F46) -> #DIV/0! | L46: 0 | M46: 0 | N46: =(F46-I46) -> 0
A47: =+A46+1 -> 2110 | B47: Honorarios | C47: =+PRESUPUESTO!K45 -> 69000000 | D47: 0 | E47: 0 | F47: =C47+D47-E47 -> 69000000 | G47: ='MES 3'!I46 -> 39918759 | H47: 0 | I47: =G47+H47 -> 39918759 | J47: =(I47/F47) -> 0.57853274 | L47: 0 | M47: 0 | N47: =(F47-I47) -> 29081241
...

Sheet MES 5
A1: DEFINICIÓN DE LOS RUBROS CONTENIDOS EN EL PRESUPUESTO-HOJA DE SEGUIMIENTO
B2: Regional | C2: =PRESUPUESTO!C2 -> CUNDINAMARCA | E2: Informe correspondiente al período: | G2: Modalidades: | I2: Cupos contratados | J2: Cupos Ejecutados | L2: Cupos Inejecutados | M2: Valor total pagado por modalidad
B3: Centro Zonal | C3: =PRESUPUESTO!C3 -> CUNDINAMARCA | G3: =PRESUPUESTO!$B$15 -> (1) INTERVENCION APOYO PSICOLOGICO | I3: =PRESUPUESTO!J15 -> 40 | J3: 100 | L3: =I3-J3 -> -60 | M3: =(J3*PRESUPUESTO!B11)+(L3*(PRESUPUESTO!B11*PRESUPUESTO!B13)) -> 48259900
B4: Municipio | C4: =PRESUPUESTO!C4 -> CHIA | E4: Fecha de elaboración (dd/mm/aa): | G4: =PRESUPUESTO!$B$16 -> (2) | I4: =PRESUPUESTO!J16 -> 0 | J4: 0 | L4: =I4-J4 -> 0 | M4: =(J4*PRESUPUESTO!C11)+(L4*(PRESUPUESTO!C11*PRESUPUESTO!C13)) -> 0
B5: Entidad contratista | C5: =PRESUPUESTO!I2 -> FUNDACION SAN NICOLAS | G5: =PRESUPUESTO!$B$17 -> (3) | I5: =PRESUPUESTO!J17 -> 0 | J5: 0 | L5: =I5-J5 -> 0 | M5: =(J5*PRESUPUESTO!D11)+(L5*(PRESUPUESTO!D11*PRESUPUESTO!D13)) -> 0
B6: NIT | C6: =PRESUPUESTO!I3 -> 901.604.401-1 | E6: Fecha de presentación (dd/mm/aa): | G6: =PRESUPUESTO!B18 -> (4) | I6: =PRESUPUESTO!J18 -> 0 | J6: 0 | L6: =I6-J6 -> 0 | M6: =(J6*PRESUPUESTO!E11)+(L6*(PRESUPUESTO!E11*PRESUPUESTO!E13)) -> 0
B7: Contrato No. | C7: =PRESUPUESTO!I4 -> 25004852025 | G7: =PRESUPUESTO!$B$19 -> (5) | I7: =PRESUPUESTO!J19 -> 0 | J7: 0 | L7: =I7-J7 -> 0 | M7: =(J7*PRESUPUESTO!F11)+(L7*(PRESUPUESTO!F11*PRESUPUESTO!F13)) -> 0
B8: Valor del alistamiento | C8: =PRESUPUESTO!M7+PRESUPUESTO!M11 -> 19303960 | E8: Vigencia desembolso Alistamiento | G8: =PRESUPUESTO!B20 -> (6) | I8: =PRESUPUESTO!J20 -> 0 | J8: 0 | L8: =I8-J8 -> 0 | M8: =(J8*PRESUPUESTO!G11)+(L8*(PRESUPUESTO!G11*PRESUPUESTO!G13)) -> 0
B9: Fecha desembolso alistamiento | G9: VALOR EJECUCIÓN MES ACTUAL | I9: =SUM(I3:I8) -> 40 | J9: =SUM(J3:K8) -> 100 | L9: =SUM(L3:L8) -> -60 | M9: =SUM(M3:N8) -> 48259900
G10: ADICION | I10: 0 | J10: TOTAL DESEMBOLSO | M10: =+M9+I10 -> 48259900
A11: CODIGO | B11: EJECUCION DE INGRESOS | C11: 1 | D11: 2 | E11: 3 | F11: 4=(1+2)-3 | G11: 5 | H11: -6 | I11: 7=(5+6) | J11: 8=(7/4) | L11: 9 | N11: 10=(4-7)
A12: 1 | B12: OBJETO DEL INGRESO | C12: Presupuesto inicial del periodo a ejecutar | D12: Adición | E12: Disminución | F12: Presupuesto al final del periodo ejecutado | G12: Valor ingresos acumulados al mes 4 | H12: Ingresos - mes 5 | I12: Valor total ingresos al final de periodo ejecutado | J12: % Aportes recibidos | L12: Ejecucion de Gastos | N12: Total saldo por ingresar
L13: Ingresos Pagados | M13: Cuentas por Cobrar
A14: 1100 | B14: Aportes ICBF | C14: =+'MES 4'!F14 -> 115823760 | D14: 0 | E14: 0 | F14: =C14+D14-E14 -> 115823760 | G14: ='MES 4'!I14 -> 1.3400326e+08 | H14: =M9 -> 48259900 | I14: =G14+H14 -> 1.8226316e+08 | J14: =(I14/F14) -> 1.573625 | L14: 0 | M14: 0 | N14: =F14-I14 -> -66439404
A15: 1200 | B15: Acciones complementarias para la gestión en el restablecimiento de derechos y/o administración de justicia (112) | C15: =+PRESUPUESTO!K25 -> 0 | D15: 0 | E15: 0 | F15: =C15+D15-E15 -> 0 | G15: ='MES 4'!I15 -> 0 | H15: 0 | I15: =G15+H15 -> 0 | J15: =(I15/F15) -> #DIV/0! | L15: 0 | M15: 0 | N15: =F15-I15 -> 0
A16: 1300 | B16: Orientación para la vida personal, social, profesional y vocacional (Subproyecto 111) | C16: =+PRESUPUESTO!K26 -> 0 | D16: 0 | E16: 0 | F16: =C16+D16-E16 -> 0 | G16: ='MES 4'!I16 -> 0 | H16: 0 | I16: =G16+H16 -> 0 | J16: =(I16/F16) -> #DIV/0! | L16: 0 | M16: 0 | N16: =F16-I16 -> 0
A17: 1400 | B17: Dotación de unidades aplicativas (Centro costos 114) | C17: =+PRESUPUESTO!K27 -> 0 | D17: 0 | E17: 0 | F17: =C17+D17-E17 -> 0 | G17: ='MES 4'!I17 -> 0 | H17: 0 | I17: =G17+H17 -> 0 | J17: =(I17/F17) -> #DIV/0! | L17: 0 | M17: 0 | N17: =F17-I17 -> 0
A18: 1500 | B18: Donaciones (Cuando aplique) | C18: =+PRESUPUESTO!K28 -> 0 | D18: 0 | E18: 0 | F18: =C18+D18-E18 -> 0 | G18: ='MES 4'!I18 -> 0 | H18: 0 | I18: =G18+H18 -> 0 | J18: =(I18/F18) -> #DIV/0! | L18: 0 | M18: 0 | N18: =F18-I18 -> 0
A19: 1600 | B19: Rendimientos Financieros (Cuando aplique) | C19: =+PRESUPUESTO!K29 -> 0 | D19: 0 | E19: 0 | F19: =C19+D19-E19 -> 0 | G19: ='MES 4'!I19 -> 0 | H19: 0 | I19: =G19+H19 -> 0 | J19: =(I19/F19) -> #DIV/0! | L19: 0 | M19: 0 | N19: =F19-I19 -> 0
A20: 1700 | B20: Aportes de la institución (Cuando aplique) | C20: =+PRESUPUESTO!K30 -> 0 | D20: 0 | E20: 0 | F20: =C20+D20-E20 -> 0 | G20: ='MES 4'!I20 -> 0 | H20: 0 | I20: =G20+H20 -> 0 | J20: =(I20/F20) -> #DIV/0! | L20: 0 | M20: 0 | N20: =F20-I20 -> 0
A21: 1800 | B21: Otros ingresos (Cuando aplique) | C21: =+PRESUPUESTO!K31 -> 0 | D21: 0 | E21: 0 | F21: =C21+D21-E21 -> 0 | G21: ='MES 4'!I21 -> 0 | H21: 0 | I21: =G21+H21 -> 0 | J21: =(I21/F21) -> #DIV/0! | L21: 0 | M21: 0 | N21: =F21-I21 -> 0
A22: TOTAL INGRESOS | C22: =SUM(C14:C21) -> 115823760 | D22: =SUM(D14:D21) -> 0 | E22: =SUM(E14:E21) -> 0 | F22: =SUM(F14:F21) -> 115823760 | G22: =SUM(G14:G21) -> 1.3400326e+08 | H22: =SUM(H14:H21) -> 48259900 | I22: =SUM(I14:I21) -> 1.8226316e+08 | J22: =(I22/F22) -> 1.573625 | L22: =SUM(L14:L21) -> 0 | M22: =SUM(M14:M21) -> 0 | N22: =SUM(N14:N21) -> -66439404
B24: Nombres y apellidos del representante legal | E24: Nombres y Apellidos del Tesorero o Contador Publico | I24: Nombres y apellidos del Revisor FIscal (2)
B27: Firma | E27: Firma | I27: Firma
B29: (1) NOTA - Revisor Fiscal : Si está obligado legalmente a tener revisor fiscal.
A32: GASTOS
A34: CODIGO | B34: EJECUCION DE INGRESOS | C34: 1 | D34: 2 | E34: 3 | F34: 4=(1+2)-3 | G34: 5 | H34: -6 | I34: 7=(5+6) | J34: 8=(7/4) | L34: 9 | N34: 10=(4-7)
A35: 2000 | B35: OBJETO DEL GASTO | C35: Presupuesto inicial del periodo a ejecutar | D35: Adición | E35: Disminución | F35: Presupuesto al final del periodo ejecutado | G35: Gastos acumulados al mes 4 | H35: Gastos - mes 5 | I35: Valor total ejecutado al final de periodo | J35: % Aportes recibidos | L35: Ejecucion de Gastos | N35: Total saldo por ejecutar
L36: Gastos Pagados | M36: Cuentas por Pagar
A37: 2100 | B37: 1. TALENTO HUMANO
A38: 2101 | B38: Salario | C38: =+PRESUPUESTO!K36 -> 0 | D38: 0 | E38: 0 | F38: =C38+D38-E38 -> 0 | G38: ='MES 4'!I38 -> 0 | H38: 0 | I38: =G38+H38 -> 0 | J38: =(I38/F38) -> #DIV/0! | L38: 0 | M38: 0 | N38: =(F38-I38) -> 0
A39: 2102 | B39: Auxilio de transporte | C39: =+PRESUPUESTO!K37 -> 0 | D39: 0 | E39: 0 | F39: =C39+D39-E39 -> 0 | G39: ='MES 4'!I39 -> 0 | H39: 0 | I39: =G39+H39 -> 0 | J39: =(I39/F39) -> #DIV/0! | L39: 0 | M39: 0 | N39: =(F39-I39) -> 0
A40: 2103 | B40: Horas extras y recargo nocturno | C40: =+PRESUPUESTO!K38 -> 0 | D40: 0 | E40: 0 | F40: =C40+D40-E40 -> 0 | G40: ='MES 4'!I40 -> 0 | H40: 0 | I40: =G40+H40 -> 0 | J40: =(I40/F40) -> #DIV/0! | L40: 0 | M40: 0 | N40: =(F40-I40) -> 0
A41: 2104 | B41: Cesantías | C41: =+PRESUPUESTO!K39 -> 0 | D41: 0 | E41: 0 | F41: =C41+D41-E41 -> 0 | G41: ='MES 4'!I41 -> 0 | H41: 0 | I41: =G41+H41 -> 0 | J41: =(I41/F41) -> #DIV/0! | L41: 0 | M41: 0 | N41: =(F41-I41) -> 0
A42: 2105 | B42: Vacaciones | C42: =+PRESUPUESTO!K40 -> 0 | D42: 0 | E42: 0 | F42: =C42+D42-E42 -> 0 | G42: ='MES 4'!I42 -> 0 | H42: 0 | I42: =G42+H42 -> 0 | J42: =(I42/F42) -> #DIV/0! | L42: 0 | M42: 0 | N42: =(F42-I42) -> 0
A43: 2106 | B43: Prima de servicios | C43: =+PRESUPUESTO!K41 -> 0 | D43: 0 | E43: 0 | F43: =C43+D43-E43 -> 0 | G43: ='MES 4'!I43 -> 0 | H43: 0 | I43: =G43+H43 -> 0 | J43: =(I43/F43) -> #DIV/0! | L43: 0 | M43: 0 | N43: =(F43-I43) -> 0
A44: 2107 | B44: Intereses/cesantías | C44: =+PRESUPUESTO!K42 -> 0 | D44: 0 | E44: 0 | F44: =C44+D44-E44 -> 0 | G44: ='MES 4'!I44 -> 0 | H44: 0 | I44: =G44+H44 -> 0 | J44: =(I44/F44) -> #DIV/0! | L44: 0 | M44: 0 | N44: =(F44-I44) -> 0
A45: 2108 | B45: Aportes parafiscales (SENA, Icbf y Caja de compensación) | C45: =+PRESUPUESTO!K43 -> 0 | D45: 0 | E45: 0 | F45: =C45+D45-E45 -> 0 | G45: ='MES 4'!I45 -> 0 | H45: 0 | I45: =G45+H45 -> 0 | J45: =(I45/F45) -> #DIV/0! | L45: 0 | M45: 0 | N45: =(F45-I45) -> 0
A46: 2109 | B46: Aportes salud, pensión y ARL | C46: =+PRESUPUESTO!K44 -> 0 | D46: 0 | E46: 0 | F46: =C46+D46-E46 -> 0 | G46: ='MES 4'!I46 -> 0 | H46: 0 | I46: =G46+H46 -> 0 | J46: =(I46/F46) -> #DIV/0! | L46: 0 | M46: 0 | N46: =(F46-I46) -> 0
