Workbook
Name AYUDA: [1]BASE!$D$14
Name AYUDR: [1]BASE!$D$15
Name OFICI: [1]BASE!$D$13
Name PRESTA: [1]BASE!$D$10

Sheet Resumen
A1: ANEXO Nro. 5
A2: DEPARTAMENTO DE ANTIOQUIA
A3: GOBERNACIÓN DE ANTIOQUIA
A4: PRESUPUESTO CONSOLIDADO
A5: Objeto: “Cofinanciación para la implementación de Unidades Productivas para la Seguridad Alimentaria en el Municipio de Hispania -Antioquia"
A6: Fecha elaboración | G6: 45785
A7: RUBRO | B7: CANT DE UNIDADES PRODUCTIVAS | C7: VALOR UNIDADES PRODUCTIVAS | D7: DEPARTAMENTO MANA | E7: MUNICIPIO | G7: VALOR PROYECTO TOTAL
E8: EFECTIVO | F8: ESPECIE
A9: Unidad Productiva | B9: 12 | C9: =+'Unidad Productiva 2024'!I86*B9 -> 79856911 | D9: 50000000 | E9: 29856911 | F9: 12000000 | G9: =SUM(D9:F9) -> 91856911
A10: Total | B10: =B9 -> 12 | C10: =SUM(C9:C9) -> 79856911 | D10: =SUM(D9:D9) -> 50000000 | E10: =SUM(E9:E9) -> 29856911 | F10: =SUM(F9) -> 12000000 | G10: =SUM(D10:F10) -> 91856911
A13: ORLANDO ARTURO MARIN ATEHORTÚA
A14: MUNICIPIO DE HISPANIA

Sheet Especificaciones técnicas 2024
A1: ESPECIFICACIONES TÉCNICAS DE LAS UNIDADES PRODUCTIVAS BAJO CONDICIONES PROTEGIDAS DE 40 M2
A2: MATERIALES | B2: UNIDAD | C2: ESPECIFICACIONES TÉCNICAS
A3: Guadua | B3: Unidad | C3: Guadua 6 metros de largo, 9 cm diametro como minimo, proveniente de plantación.
A4: Plastico para invernadero calibre 6 | B4: Metro | C4: AGROLENE (Polietileno para invernaderos) Transparente ancho 6,1 calibre 6 x 1 metros Producto plástico de alta tecnología y con aditivos estabilizadores que los hace muy resistentes a los esfuerzos físicos y a la degradación por químicos y por los rayos ultravioleta (UV) de la luz solar, componentes presentes en los diferentes cultivos.
A5: Plastico para invernadero calibre 5 | B5: Metro | C5: AGROLENE (Polietileno para invernaderos) Transparente ancho 1,5 calibre 5 x 1 metros Producto plástico de alta tecnología y con aditivos estabilizadores que los hace muy resistentes a los esfuerzos físicos y a la degradación por químicos y por los rayos ultravioleta (UV) de la luz solar, componentes presentes en los diferentes cultivos.
A6: Plástico trampas amarillo | B6: Metro | C6: Fabricado con polietileno de baja densidad, los colores tradicionalmente fabricados son: amarillo, estos tonos son utilizados porque atraen sobre todo a lepidópteros (polillas), a dípteros (moscas) y a trips. El ancho y largo del plástico son 0.4 x 1 metro.
A7: Plástico trampas azul | B7: Metro | C7: fabricado con polietileno de baja densidad, los colores tradicionalmente fabricados son: azul, estos tonos son utilizados porque atraen sobre todo a lepidópteros (polillas), a dípteros (moscas) y a trips. El ancho y largo del plástico son 0.4 x 1 metro.
A8: Tabla de madera común | B8: Unidad | C8: Tabla de madera común 3mts de largo 1" de grueso, sin presencia de nudos ni daños, al igual que fisuras.
A9: Varilla de hierro | B9: mts | C9: Varilla 1/2" (12mm) barras de acero de 6m de largo para uso como refuerzo de concreto en construcciones sismo resistentes
A10: Tuercas 3/8 | B10: Unidad | C10: Tipo: Tuerca -Medidas: 3/8pulg -Tipo de Cabeza: Hexagonal -Contenido: 6 -Material: Acero -Uso: Multiusos -Origen: Importado -73908
A11: Arandelas 3/8 | B11: Unidad | C11: Arandela Plana - Diametro: 3/8
A12: Tornillo de ensamble caja de 2" | B12: Caja | C12: Tornillo autoperforante 6x 2''. Ideal para trabajos en madera y drywall.
A13: Ganchos cosedora industrial 5019 | B13: Caja | C13: Grapa con acabado Galvanizado, puente interior de 10.3 mm y un laminado de 0.50x 1.5mm. Caja por 5.000 unidades
... A22: Oficial (incluye 65% prestaciones) | B22: Jornal | C22: Oficial de construcción (incluye 65% prestaciones)
A23: SUMINISTRO, TRANSPORTE HE INSTALACIÓN DE UNIDAD PARA GALLINAS, POLLOS Y COMPOSTERAS.
A24: MATERIALES | B24: UNIDAD | C24: CANT
A25: Tabla de madera común | B25: 1" | C25: Tabla de madera común 3mts de largo 1" de grueso, sin presencia de nudos ni daños, al igual que fisuras.
A26: Malla gallinera | B26: Unidad | C26: Malla plástica para galpón avícola con huecos de 1 pulgada y 1,80 m de alto x 50 m de largo
A27: Estacón inmunizado | B27: 9 cm Diámetro | C27: Estacon de madera inmunizado de 2.5 metros de largo con diametro de 9 cm
A28: Estacón inmunizado Media Madera | B28: 4.5 cm Diámetro | C28: Cuarto de estacon de madera inmunizado de 2.5 metros extraido de estacon de 10"
A29: Varilla Madera | B29: 2" x 2" | C29: Varilla de madera comun con dimensiones de 3 m de largo por 2" ancho por 2" alto, sin presencia de nudos ni daños, al igual que fisuras.
A30: Varilla Madera | B30: 2" x 3" | C30: Varilla de madera comun con dimensiones de 3 m de largo por 2" ancho por 3" alto, sin presencia de nudos ni daños, al igual que fisuras.
A31: Bisagra | B31: Unidad | C31: Bisagra de 2"• Espesor: 1.55 mm • Cabeza: Plana • Incluye: Tonillo de cabeza • Tipo de Empaque: Blíster.
A32: Clavos 3" | B32: Caja | C32: Puntilla Corriente Para Madera - Caja x 500g, Ideales para trabajar en madera por que tienen cabeza centrada, cuerpo recto y punta diamante.
A33: Zinc rizado | B33: Unidad | C33: Hoja zinc rizado 1.5 x 3 m, calibre 26
A34: Sombrillas de amarre | B34: Unidad | C34: Los amarres están compuestos por tres elementos: Cabeza, sello de caucho y alambre galvanizado. Cabeza o tapa (Polietileno de baja densidad). Diámetro: (25 - 20) mm, Espesor: 8 mm
A35: Guadua | B35: Unidad | C35: Guadua 6 metros de larga 9 cm diametro como minimo, proveniente de plantación.
... A37: Oficial (incluye 65% prestaciones) | B37: Jornal | C37: Oficial de construcción (incluye 65% prestaciones)
A38: SUBTOTAL
A39: INSUMOS REQUERIDOS PARA FUNCIONAMIENTO DE LA UNIDAD PRODUCTIVA DE SEGURDAD ALIMENTARIA
A40: MATERIALES | B40: UNIDAD | C40: CANT
A41: Gallinas 16 semanas | B41: Unidad | C41: Gallina de la raza genetica Lohman Brown, provenientes de granjas registradas y cumpliento la Resolución N°003651 de 2014. Estas aves se caracterizan por su alto rendimiento y de excelente conversión alimenticia; produce huevos de color marrón, alcanza un pico de producción de 90 a 94% a las 30 semanas de edad en explotaciones comerciales. El promedio de huevos obtenidos por gallina al año es de 320 a 330 unidades; mientras el peso promedio del huevo es de 64 a 65 gramos.
A42: Concentrado para gallinas | B42: kg | C42: Alimento Concentrado para gallina ponedora con HUMEDAD (Max.) 13% PROTEINA (Min.) 17% GRASA (Min.) 4% FIBRA (Max.) 6% CENIZAS (Max.) 15% CALCIO (Min.) 3,6%FÓSFORO (Min.) 0,45%. El producto debe cumplir con las especificaciones establecidas en su registro sanitario, salvo disposición contraria por parte del comprador, al momento de la entrega el producto debe tener por lo menos el 75% de su vida útil.
A43: Paca de cascariila de arroz | C43: Paca de cascara de arroz empacada a presión debidamente sujetada y con peso de 60 kg.
A44: Pendón informativo de 1*1m Full -color | B44: 1m x 1m | C44: Lonas de 500g impresas en tinta eco solvente. Adecuada para exterior, resistente a las inclemencias del tiempo especial anuncios - promociones, pancartas, con ojales en cada una de las esquinas de las cuales se contara con cuerdas de 1 metro de largo. La impresion se debera presentar color y debera estar autorizada por la supervisíon del convenio de aqcuerdo al manual de identidad del departamento de Antioquia.
A45: Concentrado para gallinas | B45: kg | C45: Alimento Concentrado para gallina ponedora con HUMEDAD (Max.) 13% PROTEINA (Min.) 17% GRASA (Min.) 4% FIBRA (Max.) 6% CENIZAS (Max.) 15% CALCIO (Min.) 3,6%FÓSFORO (Min.) 0,45%. El producto debe cumplir con las especificaciones establecidas en su registro sanitario, salvo disposición contraria por parte del comprador, al momento de la entrega el producto debe tener por lo menos el 75% de su vida útil.
A46: Fertilizante Organico Compostado | B46: Bulto x 50 kg | C46: Abono orgánico, es un producto para ser aplicado al suelo e impactar positivamente todas las características fisicoquímicas y biorgánicas de este. Material orgánico de origen animal. Gallinaza, presentación en Bulto de 50 kg
A47: Cal Enmienda | B47: Bulto x 50 kg | C47: Identificador del producto: enmienda al suelo Formulación: polvo espolvoreable Estado físico: sólido Presentación: 50 kg
A48: Plantula de aguacate | B48: Unidad | C48: Deberá ser material debidamente seleccionado, proveniente de fincas certificadas y que cumpla con los criterios de la Resolución 3168 de 2015 del ICA.
A49: Plantula de Naranja | B49: Unidad | C49: Deberá ser material debidamente seleccionado, proveniente de fincas certificadas y que cumpla con los criterios de la Resolución 3168 de 2015 del ICA.
...

Sheet Unidad Productiva 2024
B1: SUMINISTRO, TRANSPORTE, INSTALACIÓN DE INVERNADERO DE 40 M2
B2: MATERIALES | C2: MEDIDAS | D2: UNIDAD | E2: CANT | F2: CANT - UP | G2: TOTAL INSUMOS | H2: PRECIO U. | I2: TOTAL
B3: Guadua | C3: 6 m | D3: Unidad | E3: 17 | F3: 1 | G3: =+F3*E3 -> 17 | H3: 23500 | I3: =+H3*E3 -> 399500
B4: Plástico Transparente para invernadero calibre 6 | C4: 6,10 m de ancho | D4: Metro | E4: 18 | F4: =+$F$3 -> 1 | G4: =+F4*E4 -> 18 | H4: =+VLOOKUP(B4,' Insumos 2024'!$A$3:$L$57,12,0) -> 23500.12 | I4: =+H4*E4 -> 423002.16
B5: Plastico para invernadero calibre 7 | C5: 1,5 m de ancho | D5: Metro | E5: 50 | F5: =+$F$3 -> 1 | G5: =+F5*E5 -> 50 | H5: =+VLOOKUP(B5,' Insumos 2024'!$A$3:$L$57,12,0) -> 15499.75 | I5: =+H5*E5 -> 774987.5
B6: Tabla de madera común | C6: 3 m x 0,2 m x 1"grueso | D6: Unidad | E6: 16 | F6: =+$F$3 -> 1 | G6: =+F6*E6 -> 16 | H6: =+VLOOKUP(B6,' Insumos 2024'!$A$3:$L$57,12,0) -> 22000 | I6: =+H6*E6 -> 352000
B7: Plástico trampas amarillo | C7: 0,4 m x 1 m | D7: Unidad | E7: 6 | F7: =+$F$3 -> 1 | G7: =+F7*E7 -> 6 | H7: =+VLOOKUP(B7,' Insumos 2024'!$A$3:$L$57,12,0) -> 2200.31 | I7: =+H7*E7 -> 13201.86
B8: Plástico trampas azul | C8: 0,4 m x 1 m | D8: Unidad | E8: 6 | F8: =+$F$3 -> 1 | G8: =+F8*E8 -> 6 | H8: =+VLOOKUP(B8,' Insumos 2024'!$A$3:$L$57,12,0) -> 2200.31 | I8: =+H8*E8 -> 13201.86
B9: Tuercas de 3/8 | C9: 3"/8" | D9: Unidad | E9: 30 | F9: =+$F$3 -> 1 | G9: =+F9*E9 -> 30 | H9: =+VLOOKUP(B9,' Insumos 2024'!$A$3:$L$57,12,0) -> 220.15 | I9: =+H9*E9 -> 6604.5
B10: Arandelas de 3/8 | C10: 3"/8" | D10: Unidad | E10: 30 | F10: =+$F$3 -> 1 | G10: =+F10*E10 -> 30 | H10: =+VLOOKUP(B10,' Insumos 2024'!$A$3:$L$57,12,0) -> 220.15 | I10: =+H10*E10 -> 6604.5
B11: Varilla Roscada de 3/8 | C11: 3"/8" | D11: Unidad | E11: 5 | F11: =+$F$3 -> 1 | G11: =+F11*E11 -> 5 | H11: =+VLOOKUP(B11,' Insumos 2024'!$A$3:$L$57,12,0) -> 7600.53 | I11: =+H11*E11 -> 38002.65
B12: Varilla de hierro de 1/2 | C12: 1/2 x 6 | D12: Unidad | E12: 6 | F12: 1 | G12: =+F12*E12 -> 6 | H12: =+VLOOKUP(B12,' Insumos 2024'!$A$3:$L$57,12,0) -> 8300.25 | I12: =+H12*E12 -> 49801.5
B13: Guaya acerada de 1/8 | C13: (1/8) | D13: Metro | E13: 150 | F13: =+$F$3 -> 1 | G13: =+F13*E13 -> 150 | H13: =+VLOOKUP(B13,' Insumos 2024'!$A$3:$L$57,12,0) -> 2200.31 | I13: =+H13*E13 -> 330046.5
B14: Alambre liso cal 14 | C14: Cal 14 | D14: Kg | E14: 4 | F14: =+$F$3 -> 1 | G14: =+F14*E14 -> 4 | H14: =+VLOOKUP(B14,' Insumos 2024'!$A$3:$L$57,12,0) -> 11999.96 | I14: =+H14*E14 -> 47999.84
B15: Ganchos cosedora industrial 5019 | C15: Caja x 5,000 | D15: caja | E15: 1 | F15: =+$F$3 -> 1 | G15: =+F15*E15 -> 1 | H15: =+VLOOKUP(B15,' Insumos 2024'!$A$3:$L$57,12,0) -> 15000 | I15: =+H15*E15 -> 15000
B16: Anclaje completo (Varilla de 1/2" roscada en extremo, doble tuerca y arandela y base en fibra de vidrio) | C16: 1/2 | D16: Unidad | E16: 6 | F16: =+$F$3 -> 1 | G16: =+F16*E16 -> 6 | H16: =+VLOOKUP(B16,' Insumos 2024'!$A$3:$L$57,12,0) -> 35000 | I16: =+H16*E16 -> 210000
B17: Tensor Trabajo Pesado 1/2 X3-1/2-pulg | C17: 1/2 | D17: Unidad | E17: 6 | F17: 1 | G17: =+F17*E17 -> 6 | H17: =+VLOOKUP(B17,' Insumos 2024'!$A$3:$L$57,12,0) -> 16800.42 | I17: =+H17*E17 -> 100802.52
B18: Soga pisadora | C18: m | D18: m | E18: 30 | F18: =+$F$3 -> 1 | G18: =+F18*E18 -> 30 | H18: =+VLOOKUP(B18,' Insumos 2024'!$A$3:$L$57,12,0) -> 1099.56 | I18: =+H18*E18 -> 32986.8
B19: Tornillo de ensamble caja de 2" | C19: caja | D19: caja | E19: 3 | F19: =+$F$3 -> 1 | G19: =+F19*E19 -> 3 | H19: =+VLOOKUP(B19,' Insumos 2024'!$A$3:$L$57,12,0) -> 10800.44 | I19: =+H19*E19 -> 32401.32
B20: Transporte - un viaje | C20: Global | D20: Unidad | E20: 1 | F20: =+$F$3 -> 1 | G20: =+F20*E20 -> 1 | H20: 240000 | I20: =+H20*E20 -> 240000
B21: Oficial (incluye 65% prestaciones) | C21: Día | D21: Jornal | E21: 3 | F21: =+$F$3 -> 1 | G21: =+F21*E21 -> 3 | H21: =+VLOOKUP(B21,' Insumos 2024'!$A$3:$L$57,12,0) -> 220000 | I21: =+H21*E21 -> 660000
B22: SUBTOTAL | I22: =SUM(I3:I21) -> 3746143.5
B23: SUMINISTRO, TRANSPORTE E INSTALACIÓN DE UNIDAD PARA AVES DE POSTURA Y COMPOSTERAS.
B24: MATERIALES | C24: MEDIDAS | D24: UNIDAD | E24: CANT | F24: UNIDADES | G24: TOTAL INSUMOS | H24: PRECIO U. | I24: TOTAL
B25: Tabla de madera común | C25: 3 m x 0,2 m x 1"grueso | D25: Unidad | E25: 14 | F25: 1 | G25: =+F25*E25 -> 14 | H25: =+VLOOKUP(B6,' Insumos 2024'!$A$3:$L$57,12,0) -> 22000 | I25: =+H25*E25 -> 308000
B26: Malla gallinera | C26: Rollo x 50 mts | D26: Unidad | E26: 1 | F26: 1 | G26: =+F26*E26 -> 1 | H26: =+VLOOKUP(B26,' Insumos 2024'!$A$3:$L$57,12,0) -> 65899.82 | I26: =+H26*E26 -> 65899.82
B27: Estacón inmunizado | C27: 2.2 mts | D27: 9 cm Diámetro | E27: 8 | F27: 1 | G27: =+F27*E27 -> 8 | H27: =' Insumos 2024'!L17 -> 27099.87 | I27: =+H27*E27 -> 216798.96
B28: Estacón inmunizado Media Madera | C28: 2.2 mts | D28: 4.5 cm Diámetro | E28: 6 | F28: 1 | G28: =+F28*E28 -> 6 | H28: =' Insumos 2024'!L18 -> 14899.99 | I28: =+H28*E28 -> 89399.94
B29: Varilla Madera 3 m de 2*2" | C29: 3 mts | D29: 3" x 2" | E29: 4 | F29: 1 | G29: =+F29*E29 -> 4 | H29: =' Insumos 2024'!L21 -> 14900 | I29: =+H29*E29 -> 59600
B30: Varilla Madera 3 m de 2*3" | C30: 3 mt | D30: 2" x 2" | E30: 4 | F30: 1 | G30: =+F30*E30 -> 4 | H30: =+' Insumos 2024'!L22 -> 16900 | I30: =+H30*E30 -> 67600
B31: Bisagra de 2" | C31: Mediana | D31: Unidad | E31: 4 | F31: 1 | G31: =+F31*E31 -> 4 | H31: =+VLOOKUP(B31,' Insumos 2024'!$A$3:$L$57,12,0) -> 4399.43 | I31: =+H31*E31 -> 17597.72
B32: Clavos 2", 2 1/2 y 3" | C32: 2" | D32: Caja | E32: 3 | F32: 1 | G32: =+F32*E32 -> 3 | H32: =+VLOOKUP(B32,' Insumos 2024'!$A$3:$L$57,12,0) -> 6499.78 | I32: =+H32*E32 -> 19499.34
B33: Zinc rizado | C33: 3 mts | D33: Unidad | E33: 3 | F33: 1 | G33: =+F33*E33 -> 3 | H33: =+VLOOKUP(B33,' Insumos 2024'!$A$3:$L$57,12,0) -> 29100.26 | I33: =+H33*E33 -> 87300.78
B34: Sombrillas de amarre | C34: Unidad | D34: Unidad | E34: 18 | F34: 1 | G34: =+F34*E34 -> 18 | H34: =+VLOOKUP(B34,' Insumos 2024'!$A$3:$L$57,12,0) -> 599.76 | I34: =+H34*E34 -> 10795.68
B35: Transporte - un viaje | C35: Global | D35: Unidad | E35: 1 | F35: 1 | G35: =+F35*E35 -> 1 | H35: 240000 | I35: =+H35*E35 -> 240000
B36: Oficial (incluye 65% prestaciones) | C36: Día | D36: Jornal | E36: 1 | F36: 1 | G36: =+F36*E36 -> 1 | H36: =+VLOOKUP(B36,' Insumos 2024'!$A$3:$L$57,12,0) -> 220000 | I36: =+H36*E36 -> 220000
B37: SUBTOTAL | I37: =SUM(I25:I36) -> 1402492.2
B38: INSUMOS REQUERIDOS PARA FUNCIONAMIENTO DE LA UNIDAD PRODUCTIVA DE SEGURIDAD ALIMENTARIA
B39: MATERIALES | C39: MEDIDAS | D39: UNIDAD | E39: CANT | F39: UNIDADES | G39: TOTAL INSUMOS | H39: PRECIO U. | I39: TOTAL
B40: Pendón informativo de 1*1m Full -color | D40: Unidad | E40: 1 | F40: 1 | G40: =+F40*E40 -> 1 | H40: 130000 | I40: =+E40*H40 -> 130000
...

Sheet  Insumos 2024
A1: MATERIALES | B1: MEDIDAS | C1: UNIDAD | D1: IVA | E1: COOBRICEÑO | G1: MULTERRAGRO/MONTAÑAS RIEGO | I1: SAMANO /ACUEDUCTOS E IRRIGACIONES | K1: Promedio | M1: Promedio
E2: Valor Unitario | F2: Valor Unitario Incluido IVA | G2: Valor Unitario | H2: Valor Unitario Incluido IVA | I2: Valor Unitario | J2: Valor Unitario Incluido IVA | K2: Valor Antes de IVA | L2: Valor Despues de IVA | M2: Valor Despues de IVA+20%
A3: Guadua | B3: 6 mts | C3: Unidad | D3: 0 | E3: 25400 | F3: =+E3+(D3*E3) -> 25400 | G3: 23500 | H3: =+G3+(G3*D3) -> 23500 | I3: 28900 | J3: =+I3+(I3*D3) -> 28900 | K3: =+MIN(E3,G3,I3) -> 23500 | L3: =+MIN(F3,H3,J3) -> 23500 | M3: =(L3*20%)+L3 -> 28200
A4: Plástico Transparente para invernadero calibre 6 | B4: 5 mts de ancho | C4: Metro | D4: 0.19 | E4: 21345 | F4: =+E4+(D4*E4) -> 25400.55 | G4: 19748 | H4: =+G4+(G4*D4) -> 23500.12 | I4: 24454 | J4: =+I4+(I4*D4) -> 29100.26 | K4: =+MIN(E4,G4,I4) -> 19748 | L4: =+MIN(F4,H4,J4) -> 23500.12 | M4: =(L4*20%)+L4 -> 28200.144
A5: Plastico para invernadero calibre 7 | B5: 1,5 mts de ancho | C5: Metro | D5: 0.19 | E5: 13866 | F5: =+E5+(D5*E5) -> 16500.54 | G5: 13025 | H5: =+G5+(G5*D5) -> 15499.75 | I5: 14958 | J5: =+I5+(I5*D5) -> 17800.02 | K5: =+MIN(E5,G5,I5) -> 13025 | L5: =+MIN(F5,H5,J5) -> 15499.75 | M5: =(L5*20%)+L5 -> 18599.7
A6: Tabla de madera común | B6: 3 mts | C6: 1" | D6: 0 | E6: 23000 | F6: =+E6+(D6*E6) -> 23000 | G6: 22000 | H6: =+G6+(G6*D6) -> 22000 | I6: 28000 | J6: =+I6+(I6*D6) -> 28000 | K6: =+MIN(E6,G6,I6) -> 22000 | L6: =+MIN(F6,H6,J6) -> 22000 | M6: =(L6*20%)+L6 -> 26400
A7: Varilla de hierro de 1/2 | B7: (1/2) | C7: mts | D7: 0.19 | E7: 7395 | F7: =+E7+(D7*E7) -> 8800.05 | G7: 6975 | H7: =+G7+(G7*D7) -> 8300.25 | I7: 7311 | J7: =+I7+(I7*D7) -> 8700.09 | K7: =+MIN(E7,G7,I7) -> 6975 | L7: =+MIN(F7,H7,J7) -> 8300.25 | M7: =(L7*20%)+L7 -> 9960.3
A8: Tuercas de 3/8 | B8: 3"/8" | C8: Unidad | D8: 0.19 | E8: 218 | F8: =+E8+(D8*E8) -> 259.42 | G8: 185 | H8: =+G8+(G8*D8) -> 220.15 | I8: 235 | J8: =+I8+(I8*D8) -> 279.65 | K8: =+MIN(E8,G8,I8) -> 185 | L8: =+MIN(F8,H8,J8) -> 220.15 | M8: =(L8*20%)+L8 -> 264.18
A9: Arandelas de 3/8 | B9: 3"/8" | C9: Unidad | D9: 0.19 | E9: 218 | F9: =+E9+(D9*E9) -> 259.42 | G9: 185 | H9: =+G9+(G9*D9) -> 220.15 | I9: 235 | J9: =+I9+(I9*D9) -> 279.65 | K9: =+MIN(E9,G9,I9) -> 185 | L9: =+MIN(F9,H9,J9) -> 220.15 | M9: =(L9*20%)+L9 -> 264.18
A10: Varilla Roscada de 3/8 | B10: 3"/8" | C10: Unidad | D10: 0.19 | E10: 6387 | F10: =+E10+(D10*E10) -> 7600.53 | G10: 7227 | H10: =+G10+(G10*D10) -> 8600.13 | I10: 7059 | J10: =+I10+(I10*D10) -> 8400.21 | K10: =+MIN(E10,G10,I10) -> 6387 | L10: =+MIN(F10,H10,J10) -> 7600.53 | M10: =(L10*20%)+L10 -> 9120.636
A11: Guaya acerada de 1/8 | B11: (1/8) | C11: Metro | D11: 0.19 | E11: 2185 | F11: =+E11+(D11*E11) -> 2600.15 | G11: 1849 | H11: =+G11+(G11*D11) -> 2200.31 | I11: 2353 | J11: =+I11+(I11*D11) -> 2800.07 | K11: =+MIN(E11,G11,I11) -> 1849 | L11: =+MIN(F11,H11,J11) -> 2200.31 | M11: =(L11*20%)+L11 -> 2640.372
A12: Alambre liso cal 14 | B12: Cal 14 | C12: Kg | D12: 0.19 | E12: 10084 | F12: =+E12+(D12*E12) -> 11999.96 | G12: 11849 | H12: =+G12+(G12*D12) -> 14100.31 | I12: 13193 | J12: =+I12+(I12*D12) -> 15699.67 | K12: =+MIN(E12,G12,I12) -> 10084 | L12: =+MIN(F12,H12,J12) -> 11999.96 | M12: =(L12*20%)+L12 -> 14399.952
A13: Anclaje completo (Varilla de 1/2" roscada en extremo, doble tuerca y arandela y base en fibra de vidrio) | B13: (1/2) | C13: mts | D13: 0.19 | F13: =+E13+(D13*E13) -> 0 | H13: =+G13+(G13*D13) -> 0 | J13: =+I13+(I13*D13) -> 0 | K13: =+MIN(E13,G13,I13) -> 0 | L13: 35000 | M13: =(L13*20%)+L13 -> 42000
A14: Soga pisadora | B14: m | C14: mt | D14: 0.19 | E14: 924 | F14: =+E14+(D14*E14) -> 1099.56 | G14: 1008 | H14: =+G14+(G14*D14) -> 1199.52 | I14: 1261 | J14: =+I14+(I14*D14) -> 1500.59 | K14: =+MIN(E14,G14,I14) -> 924 | L14: =+MIN(F14,H14,J14) -> 1099.56 | M14: =(L14*20%)+L14 -> 1319.472
A15: Ganchos cosedora industrial 5019 | B15: 3 mts | C15: 1" | D15: 0.19 | F15: =+E15+(D15*E15) -> 0 | H15: =+G15+(G15*D15) -> 0 | J15: =+I15+(I15*D15) -> 0 | K15: =+MIN(E15,G15,I15) -> 0 | L15: 15000 | M15: =(L15*20%)+L15 -> 18000
A16: Malla gallinera | B16: Rollo x 50 mts | C16: Unidad | D16: 0.19 | E16: 55378 | F16: =+E16+(D16*E16) -> 65899.82 | G16: 63109 | H16: =+G16+(G16*D16) -> 75099.71 | I16: 63866 | J16: =+I16+(I16*D16) -> 76000.54 | K16: =+MIN(E16,G16,I16) -> 55378 | L16: =+MIN(F16,H16,J16) -> 65899.82 | M16: =(L16*20%)+L16 -> 79079.784
A17: Estacón inmunizado 2,2 x 9 cm | B17: 2.2 mts | C17: 9 cm Diámetro | D17: 0.19 | E17: 27815 | F17: =+E17+(D17*E17) -> 33099.85 | G17: 22773 | H17: =+G17+(G17*D17) -> 27099.87 | I17: 24538 | J17: =+I17+(I17*D17) -> 29200.22 | K17: =+MIN(E17,G17,I17) -> 22773 | L17: =+MIN(F17,H17,J17) -> 27099.87 | M17: =(L17*20%)+L17 -> 32519.844
A18: Estacón inmunizado Media Madera | B18: 2.2 mts | C18: 4.5 cm Diámetro | D18: 0.19 | E18: 14958 | F18: =+E18+(D18*E18) -> 17800.02 | G18: 12521 | H18: =+G18+(G18*D18) -> 14899.99 | I18: 13866 | J18: =+I18+(I18*D18) -> 16500.54 | K18: =+MIN(E18,G18,I18) -> 12521 | L18: =+MIN(F18,H18,J18) -> 14899.99 | M18: =(L18*20%)+L18 -> 17879.988
A19: Tensor Trabajo Pesado 1/2 X3-1/2-pulg | B19: 1/2 | C19: Unidad | D19: 0.19 | E19: 14118 | F19: =+E19+(D19*E19) -> 16800.42 | G19: 14874 | H19: =+G19+(G19*D19) -> 17700.06 | I19: 15378 | J19: =+I19+(I19*D19) -> 18299.82 | K19: =+MIN(E19,G19,I19) -> 14118 | L19: =+MIN(F19,H19,J19) -> 16800.42 | M19: =(L19*20%)+L19 -> 20160.504
A20: Tornillo de ensamble caja de 2" | B20: Caja | C20: Unidad | D20: 0.19 | E20: 11092 | F20: =+E20+(D20*E20) -> 13199.48 | G20: 9076 | H20: =+G20+(G20*D20) -> 10800.44 | I20: 9328 | J20: =+I20+(I20*D20) -> 11100.32 | K20: =+MIN(E20,G20,I20) -> 9076 | L20: =+MIN(F20,H20,J20) -> 10800.44 | M20: =(L20*20%)+L20 -> 12960.528
A21: Varilla Madera 3 m de 2*2" | B21: 3 mts | C21: 2" x 2" | D21: 0 | E21: 16800 | F21: =+E21+(D21*E21) -> 16800 | G21: 14900 | H21: =+G21+(G21*D21) -> 14900 | I21: 16100 | J21: =+I21+(I21*D21) -> 16100 | K21: =+MIN(E21,G21,I21) -> 14900 | L21: =+MIN(F21,H21,J21) -> 14900 | M21: =(L21*20%)+L21 -> 17880
A22: Varilla Madera 3 m de 2*3" | B22: 3 mts | C22: 2" x 3" | D22: 0 | E22: 20700 | F22: =+E22+(D22*E22) -> 20700 | G22: 16900 | H22: =+G22+(G22*D22) -> 16900 | I22: 19800 | J22: =+I22+(I22*D22) -> 19800 | K22: =+MIN(E22,G22,I22) -> 16900 | L22: =+MIN(F22,H22,J22) -> 16900 | M22: =(L22*20%)+L22 -> 20280
A23: Plástico trampas amarillo | B23: m | C23: m | D23: 0.19 | E23: 2185 | F23: =+E23+(D23*E23) -> 2600.15 | G23: 1849 | H23: =+G23+(G23*D23) -> 2200.31 | I23: 2353 | J23: =+I23+(I23*D23) -> 2800.07 | K23: =+MIN(E23,G23,I23) -> 1849 | L23: =+MIN(F23,H23,J23) -> 2200.31 | M23: =(L23*20%)+L23 -> 2640.372
A24: Plástico trampas azul | B24: m | C24: m | D24: 0.19 | E24: 2185 | F24: =+E24+(D24*E24) -> 2600.15 | G24: 1849 | H24: =+G24+(G24*D24) -> 2200.31 | I24: 2353 | J24: =+I24+(I24*D24) -> 2800.07 | K24: =+MIN(E24,G24,I24) -> 1849 | L24: =+MIN(F24,H24,J24) -> 2200.31 | M24: =(L24*20%)+L24 -> 2640.372
A25: Bisagra de 2" | B25: Mediana | C25: Unidad | D25: 0.19 | E25: 4622 | F25: =+E25+(D25*E25) -> 5500.18 | G25: 3697 | H25: =+G25+(G25*D25) -> 4399.43 | I25: 4034 | J25: =+I25+(I25*D25) -> 4800.46 | K25: =+MIN(E25,G25,I25) -> 3697 | L25: =+MIN(F25,H25,J25) -> 4399.43 | M25: =(L25*20%)+L25 -> 5279.316
A26: Clavos 2", 2 1/2 y 3" | B26: 3" | C26: Caja | D26: 0.19 | E26: 6807 | F26: =+E26+(D26*E26) -> 8100.33 | G26: 5462 | H26: =+G26+(G26*D26) -> 6499.78 | I26: 5966 | J26: =+I26+(I26*D26) -> 7099.54 | K26: =+MIN(E26,G26,I26) -> 5462 | L26: =+MIN(F26,H26,J26) -> 6499.78 | M26: =(L26*20%)+L26 -> 7799.736
A27: Zinc rizado | B27: 3 mts | C27: Unidad | D27: 0.19 | E27: 26891 | F27: =+E27+(D27*E27) -> 32000.29 | G27: 24454 | H27: =+G27+(G27*D27) -> 29100.26 | I27: 29832 | J27: =+I27+(I27*D27) -> 35500.08 | K27: =+MIN(E27,G27,I27) -> 24454 | L27: =+MIN(F27,H27,J27) -> 29100.26 | M27: =(L27*20%)+L27 -> 34920.312
A28: Sombrillas de amarre | B28: Unidad | C28: Unidad | D28: 0.19 | E28: 630 | F28: =+E28+(D28*E28) -> 749.7 | G28: 504 | H28: =+G28+(G28*D28) -> 599.76 | I28: 588 | J28: =+I28+(I28*D28) -> 699.72 | K28: =+MIN(E28,G28,I28) -> 504 | L28: =+MIN(F28,H28,J28) -> 599.76 | M28: =(L28*20%)+L28 -> 719.712
A29: Pendón informativo de 1*1m Full -color | C29: Unidad | D29: 0.19 | F29: =+E29+(D29*E29) -> 0 | H29: =+G29+(G29*D29) -> 0 | J29: =+I29+(I29*D29) -> 0 | K29: =+MIN(E29,G29,I29) -> 0 | L29: 130000 | M29: =(L29*20%)+L29 -> 156000
A30: Fertilizante Organico Compostado | C30: Bulto x 50 kg | D30: 0 | E30: 25200 | F30: =+E30+(D30*E30) -> 25200 | G30: 24478.21 | H30: =+G30+(G30*D30) -> 24478.21 | I30: 29500 | J30: =+I30+(I30*D30) -> 29500 | K30: =+MIN(E30,G30,I30) -> 24478.21 | L30: =+MIN(F30,H30,J30) -> 24478.21 | M30: =(L30*20%)+L30 -> 29373.852
A31: Cal Enmienda | C31: Bulto x 50 kg | D31: 0 | E31: 25200 | F31: =+E31+(D31*E31) -> 25200 | G31: 24500 | H31: =+G31+(G31*D31) -> 24500 | I31: 29500 | J31: =+I31+(I31*D31) -> 29500 | K31: =+MIN(E31,G31,I31) -> 24500 | L31: =+MIN(F31,H31,J31) -> 24500 | M31: =(L31*20%)+L31 -> 29400
A32: Plantula de aguacate | C32: Unidad | D32: 0 | E32: 23200 | F32: =+E32+(D32*E32) -> 23200 | G32: 22500 | H32: =+G32+(G32*D32) -> 22500 | I32: 27500 | J32: =+I32+(I32*D32) -> 27500 | K32: =+MIN(E32,G32,I32) -> 22500 | L32: =+MIN(F32,H32,J32) -> 22500 | M32: =(L32*20%)+L32 -> 27000
A33: Plantula de Naranja | C33: Unidad | D33: 0 | E33: 23200 | F33: =+E33+(D33*E33) -> 23200 | G33: 22500 | H33: =+G33+(G33*D33) -> 22500 | I33: 27500 | J33: =+I33+(I33*D33) -> 27500 | K33: =+MIN(E33,G33,I33) -> 22500 | L33: =+MIN(F33,H33,J33) -> 22500 | M33: =(L33*20%)+L33 -> 27000
A34: Cormos de Platano | C34: Unidad | D34: 0 | E34: 3900 | F34: =+E34+(D34*E34) -> 3900 | G34: 3700 | H34: =+G34+(G34*D34) -> 3700 | I34: 4400 | J34: =+I34+(I34*D34) -> 4400 | K34: =+MIN(E34,G34,I34) -> 3700 | L34: =+MIN(F34,H34,J34) -> 3700 | M34: =(L34*20%)+L34 -> 4440
A35: Paca de cascarilla de arroz | C35: Paca | D35: 0 | E35: 30100 | F35: =+E35+(D35*E35) -> 30100 | G35: 32700 | H35: =+G35+(G35*D35) -> 32700 | I35: 42000 | J35: =+I35+(I35*D35) -> 42000 | K35: =+MIN(E35,G35,I35) -> 30100 | L35: =+MIN(F35,H35,J35) -> 30100 | M35: =(L35*20%)+L35 -> 36120
A36: Semilla de Cilantro Magnum | C36: Sobre x 10 Gr | D36: 0 | E36: 3500 | F36: =+E36+(D36*E36) -> 3500 | G36: 4100 | H36: =+G36+(G36*D36) -> 4100 | I36: 3900 | J36: =+I36+(I36*D36) -> 3900 | K36: =+MIN(E36,G36,I36) -> 3500 | L36: =+MIN(F36,H36,J36) -> 3500 | M36: =(L36*20%)+L36 -> 4200
A37: Semilla de Tomate chonto | C37: Sobre x 10 Gr | D37: 0 | E37: 3500 | F37: =+E37+(D37*E37) -> 3500 | G37: 4100 | H37: =+G37+(G37*D37) -> 4100 | I37: 3900 | J37: =+I37+(I37*D37) -> 3900 | K37: =+MIN(E37,G37,I37) -> 3500 | L37: =+MIN(F37,H37,J37) -> 3500 | M37: =(L37*20%)+L37 -> 4200
A38: Semilla de repollo verde | C38: Sobre x 10 Gr | D38: 0 | E38: 3500 | F38: =+E38+(D38*E38) -> 3500 | G38: 4100 | H38: =+G38+(G38*D38) -> 4100 | I38: 3900 | J38: =+I38+(I38*D38) -> 3900 | K38: =+MIN(E38,G38,I38) -> 3500 | L38: =+MIN(F38,H38,J38) -> 3500 | M38: =(L38*20%)+L38 -> 4200
A39: Semilla de zanahoría | C39: Sobre x 10 Gr | D39: 0 | E39: 3500 | F39: =+E39+(D39*E39) -> 3500 | G39: 4100 | H39: =+G39+(G39*D39) -> 4100 | I39: 3900 | J39: =+I39+(I39*D39) -> 3900 | K39: =+MIN(E39,G39,I39) -> 3500 | L39: =+MIN(F39,H39,J39) -> 3500 | M39: =(L39*20%)+L39 -> 4200
A40: Semilla de Remolacha Crosby Egypthan | C40: Sobre x 10 Gr | D40: 0 | E40: 3500 | F40: =+E40+(D40*E40) -> 3500 | G40: 4100 | H40: =+G40+(G40*D40) -> 4100 | I40: 3900 | J40: =+I40+(I40*D40) -> 3900 | K40: =+MIN(E40,G40,I40) -> 3500 | L40: =+MIN(F40,H40,J40) -> 3500 | M40: =(L40*20%)+L40 -> 4200
...
