Workbook
Name CompanyAddress: #REF!
Name CompanyAddress: #REF!
Name CompanyAddress: #REF!
Name CompanyCity: #REF!
Name CompanyCity: #REF!
Name CompanyCity: #REF!
Name CompanyContactsHeader: 'Datos de ejemplo'!$W$1
Name CompanyCountry: #REF!
Name CompanyCountry: #REF!
Name CompanyCountry: #REF!
Name CompanyName: #REF!
Name CompanyName: #REF!
Name CompanyName: #REF!
Name CompanyState: #REF!
Name CompanyState: #REF!
Name CompanyState: #REF!
Name CompanyZip: #REF!
Name CompanyZip: #REF!
Name CompanyZip: #REF!
Name DataDisplayed: "Ejemplo"
Name Slicer_Contact_Type: #N/A
Name tablonx: 'LISTA DE INSUMOS'!#REF!

Sheet Aclaraciòn 
B90: sgat03/escritorio/trabajoencas/preciosunitarios
B91: sgat03/escritorio/trabajoencas/preciosunitarios/apus_risaralda_2021_1 INVIAS
B92: sgat03/escritorio/trabajoencas/preciosunitarios/ase Precios de Referencia _Alcaldia de Pereira_ JUNIO 21-2021 S.F.
B93: https://www.homecenter.com.co/homecenter-co/category/cat1680188
B94: https://pinturasalgreco.com
B95: info@ingepol.com
B96: www.canteracombia.co
B97: http://www.colombia.generadordeprecios.info/obra_nueva
B98: https://aconstructoras.com/product_info.php?products_id=5073
B99: https://www.easy.com.co/
B100: file:///C:/Users/57310/Desktop/CARDER-trabajo%20en%20casa/Precios%20unitarios/listadepreciosDurman%20Tuberias%20concreto.pdf
B101: https://www.concisa.com.co/portafolio-de-productos/alcantarillado/
... B145: https://www.almacencanaima.com/producto/309/sistema-septico-de-2000-litros-completo

Sheet LISTA DE INSUMOS
A2: LISTA DE INSUMOS | F2: 1.91 | G2: 7.71
A4: CÓDIGO | B4: DESCRIPCIÓN | C4: UNIDAD | D4: CANTIDAD | E4: VALOR UNITARIO 2025 | F4: VALOR UNITARIO 2025
A5: MOB002 | B5: Oficial (jornal + prestaciones) | C5: Día | D5: 1 | E5: ='ANÁLISIS MANO DE OBRA'!E32 -> 163723
A6: MOB003 | B6: Operario maquinaria equipo (jornal + prestaciones) | C6: Dia | D6: 1 | E6: ='ANÁLISIS MANO DE OBRA'!E57 -> 147351
A7: MOB004 | B7: Ayudante (jornal + prestaciones) | C7: Dia | D7: 1 | E7: ='ANÁLISIS MANO DE OBRA'!E30 -> 81861
A8: MOB005 | B8: Ayudante práctico (jornal + prestaciones) | C8: Dia | D8: 1 | E8: ='ANÁLISIS MANO DE OBRA'!E31 -> 114606
A9: MOB006 | B9: Cuadrilla A 1 Of + 4 Ay (jornal + prestaciones) | C9: Día | D9: 1 | E9: ='ANÁLISIS MANO DE OBRA'!E34 -> 491167
A10: MOB007 | B10: Cuadrilla B 1 Min + 2 Ay (jornal + prestaciones) | C10: Día | D10: 1 | E10: ='ANÁLISIS MANO DE OBRA'!E35 -> 412454
A11: MOB008 | B11: Oficial eléctrico (jornal + prestaciones) | C11: Día | D11: 1 | E11: ='ANÁLISIS MANO DE OBRA'!E49 -> 163723
A12: MOB009 | B12: Cuadrilla S (1Sold.+1Ay práctico) (jornal + prestaciones) | C12: Día | D12: 1 | E12: ='ANÁLISIS MANO DE OBRA'!E44 -> 261957
A13: MOB010 | B13: Comisión topografía (topógrafo + Cadenero 1 + 2 Cadeneros 2) Inc escolta | C13: Día | D13: 1 | E13: ='ANÁLISIS MANO DE OBRA'!E47 -> 623679
A14: MOB011 | B14: Acarreo Horizontal (% mano obra) | C14: % MO | E14: 5227
A15: MOB012 | B15: Profesional en salud ocupacional | C15: Día | D15: 1 | E15: ='ANÁLISIS MANO DE OBRA'!E69 -> 205231
A16: MOB013 | B16: Cuadrilla C 1 Of + 7 Ay (jornal + prestaciones) | C16: Día | D16: 1 | E16: ='ANÁLISIS MANO DE OBRA'!E36 -> 736750
A17: MOB014 | B17: Cuadrilla D 2 Of + 4 Ay (jornal + prestaciones) | C17: Día | D17: 1 | E17: ='ANÁLISIS MANO DE OBRA'!E37 -> 654890
A18: MOB015 | B18: Cuadrilla E 1 Of + 1 Ay (jornal + prestaciones) | C18: Día | D18: 1 | E18: ='ANÁLISIS MANO DE OBRA'!E38 -> 245584
A19: MOB016 | B19: Cuadrilla F 6 Of + 4 Ay (jornal + prestaciones) | C19: Día | D19: 1 | E19: ='ANÁLISIS MANO DE OBRA'!E39 -> 1309782
A20: MOB017 | B20: Cuadrilla G 1 Of + 2 Ay (jornal + prestaciones) | C20: Día | D20: 1 | E20: ='ANÁLISIS MANO DE OBRA'!E40 -> 327445
A21: MOB018 | B21: Cuadrilla H 4 Ay (jornal + prestaciones) | C21: Día | D21: 1 | E21: ='ANÁLISIS MANO DE OBRA'!E41 -> 327444
A22: MOB019 | B22: Ayudante eléctrico (jornal + prestaciones) | C22: Día | D22: 1 | E22: ='ANÁLISIS MANO DE OBRA'!E51 -> 130978
A23: MOB020 | B23: Cuadrilla J (1 Of eléctrico+1Ay eléctrico) (jornal + prestaciones) | C23: Día | D23: 1 | E23: ='ANÁLISIS MANO DE OBRA'!E42 -> 294701
A24: MOB021 | B24: Cuadrilla K (1Of eléctrico+2Ay eléctricos) (jornal + prestaciones) | C24: Día | D24: 1 | E24: ='ANÁLISIS MANO DE OBRA'!E43 -> 425679
A25: MOB022 | B25: Cuadrilla L 2 Of + 8 Ay (jornal + prestaciones) | C25: Día | D25: 1 | E25: ='ANÁLISIS MANO DE OBRA'!E45 -> 982334
A26: MOB023 | B26: Cuadrilla L 1 Ebanista + 2 Ay (jornal + prestaciones) | C26: Día | D26: 1 | E26: ='ANÁLISIS MANO DE OBRA'!E46 -> 383612
A27: MOB024 | B27: Cuadrilla Estructura Metalica de Soporte (jornal + prestaciones) | C27: Día | D27: 1 | E27: ='ANÁLISIS MANO DE OBRA'!E43 -> 425679
A28: MOB024 | B28: Mulero | C28: Día | D28: 1 | E28: ='ANÁLISIS MANO DE OBRA'!E30 -> 81861
A29: MOB025 | B29: asistencia tècnica manejo zonas verdes | C29: Día | D29: 1 | E29: ='ANÁLISIS MANO DE OBRA'!E67 -> 183242
A30: MAT001 | B30: Cemento gris saco por 50 kilos, incluye cargue, descargue y transporte | C30: Sc | D30: 1 | E30: =34500 -> 34500
A31: MAT002 | B31: Cemento blanco | C31: Kg | D31: 1 | E31: 2900
A32: MAT003 | B32: Arena | C32: M3 | D32: 1 | E32: =102688.7125*(1+9.59/100) -> 112536.56
A33: MAT004 | B33: Gravilla de río y/o triturado | C33: M3 | D33: 1 | E33: =102688.7125*(1+9.59/100) -> 112536.56
A34: MAT005 | B34: Piedra media zonga | C34: M3 | D34: 1 | E34: =110000*(1+9.59/100) -> 120549
A35: MAT006 | B35: Material de peña (recebo) en cantera | C35: M3 | D35: 1 | E35: =50740.305*(1+9.59/100) -> 55606.3
A36: MAT007 | B36: Tierra vegetal | C36: M3 | D36: 1 | E36: =45133*(1+9.59/100) -> 49461.255
A37: MAT008 | B37: Manija (asa) para puerta | C37: Un | D37: 1 | E37: 15900
A38: MAT009 | B38: Material seleccionado para filtro | C38: M3 | D38: 1 | E38: =102688.7125*(1+9.59/100) -> 112536.56
A39: MAT010 | B39: Material granular seleccionado Tipo BG A | C39: M3 | D39: 1 | E39: =99703.3*(1+9.59/100) -> 109264.85
A40: MAT011 | B40: Carburo | C40: Kg | D40: 1 | E40: =1377.8381925*(1+9.59/100) -> 1509.9729
A41: MAT012 | B41: Gravilla #2 | C41: Sc | D41: 1 | E41: =26603.1864*(1+9.59/100) -> 29154.432
A42: MAT013 | B42: Agua | C42: Lt | D42: 1 | E42: =88.355497806576*(1+9.59/100) -> 96.82879
...

Sheet ANÁLISIS MANO DE OBRA
A2: ANALISIS DE MANO DE OBRA CORPORACIÓN AUTÓNOMA REGIONAL DE RISARALDA - CARDER - | N2: ANALISIS DE MANO DE OBRA CORPORACIÓN AUTÓNOMA REGIONAL DE RISARALDA - CARDER -
A4: ANÁLISIS MANO DE OBRA | N4: ANÁLISIS MANO DE OBRA
A5: Salario Mínimo Mensual Legal Vigente año 2025 | B5: 1423500 | C5: 1 | N5: Salario Mínimo Mensual Legal Vigente año 2017 | O5: 781242
A6: Subsidio de Transporte (salario ≤ 2 SMMLV) | B6: 200000 | N6: Subsidio de Transporte (salario ≤ 2 SMMLV) | O6: 88211
A8: DESCRIPCIÓN | B8: SALARIO ≤ 2 SMMLV | C8: SALARIO > 2 SMMLV | N8: DESCRIPCIÓN | O8: SALARIO ≤ 2 SMMLV | Q8: SALARIO > 2 SMMLV
B9: PERSONAL TÉCNICO, OPERATIVO Riesgo Clase V | C9: PERSONAL PROFESIONAL Riesgo Clase V | O9: PERSONAL TÉCNICO, OPERATIVO Riesgo Clase V | Q9: PERSONAL TÉCNICO, OPERATIVO Riesgo Clase V
A10: PRESTACIONES SOCIALES | N10: PRESTACIONES SOCIALES | O10: SM | P10: AT | Q10: SM | R10: AT
A11: Cesantías | B11: =1/12 -> 0.083333333 | C11: =1/12 -> 0.083333333 | N11: Salario minimo (S.M) | O11: 1 | P11: 1 | Q11: 1
A12: Intereses cesantías | B12: 0.01 | C12: 0.01 | N12: Cesantías | O12: 0.0833 | P12: =+O12 -> 0.0833 | Q12: 0.0833
A13: Vacaciones | B13: 0.0417 | C13: 0.0417 | N13: Intereses cesantías | O13: 0.01 | P13: =+O13 -> 0.01 | Q13: 0.01
A14: Prima | B14: =1/12 -> 0.083333333 | C14: =1/12 -> 0.083333333 | N14: Vacaciones | O14: 0.0417 | Q14: 0.0417
A15: Dotación y elementos de seguridad | B15: 0.04 | C15: 0 | N15: Prima | O15: 0.0833 | P15: =+O15 -> 0.0833 | Q15: 0.0833
A16: SEGURIDAD SOCIAL | N16: Dotación y elementos de seguridad | O16: 0.04 | Q16: 0
A17: Aportes régimen general de pensiones (I.V.M) | B17: 0.12 | C17: 0.12 | N17: SEGURIDAD SOCIAL
A18: Aporte riesgos profesionales A.R.L. | B18: 0.0696 | C18: 0.0696 | N18: Aportes régimen general de pensiones (I.V.M) | O18: 0.12 | Q18: 0.12
A19: Aportes régimen contributivo de salud | B19: 0.085 | C19: 0.085 | N19: Aporte riesgos profesionales A.R.L. | O19: 0.0696 | Q19: 0.0696
A20: Certificado trabajo seguro en alturas | B20: 0 | C20: 0 | N20: Aportes régimen contributivo de salud | O20: 0.085 | Q20: 0.085
A21: OTROS APORTES | N21: Certificado trabajo seguro en alturas | O21: 0 | Q21: 0
A22: Aportes FIC (S.M/40) | B22: 0.00025 | C22: 0.00025 | N22: OTROS APORTES
A23: I.C.B.F. | B23: 0 | C23: 0 | N23: Aportes FIC (S.M/40) | O23: 0.00025 | Q23: 0.00025
A24: Comfamiliar | B24: 0.04 | C24: 0.04 | N24: I.C.B.F. | O24: 0 | Q24: 0
A25: Subsidio de transporte | B25: =B6/B5 -> 0.14049877 | N25: Comfamiliar | O25: 0.04 | Q25: 0.04
A26: Examenes medicos de ingreso y egreso | B26: 0.0115 | C26: 0.0115 | N26: Subsidio de transporte | O26: 0
B27: =SUM(B10:B26) -> 0.72521544 | C27: =SUM(C10:C26) -> 0.54471667 | N27: Examenes medicos de ingreso y egreso | O27: 0.0115 | Q27: 0.0115
O28: =SUM(O10:O27) -> 1.58465 | P28: =+SUM(P11:P27) -> 1.1766 | Q28: =SUM(Q10:Q27) -> 1.54465
A29: NOMBRE | B29: SALARIO MENSUAL | C29: PRESTACIONES Y APORTES | D29: SALARIO + PRESTACIONES | E29: SALARIO DIA
A30: Ayudante | B30: =B5 -> 1423500 | C30: =ROUND((B30*$B$27),0) -> 1032344 | D30: =B30+C30 -> 2455844 | E30: =ROUND((D30/30),0) -> 81861 | N30: VALOR SALARIO + PRESTACIONES | O30: 158,47%*S.M+117,66% A.T | Q30: 157,32%*S.M+0A.T
A31: Ayudante práctico | B31: =B30*1.4 -> 1992900 | C31: =ROUND((B31*$B$27),0) -> 1445282 | D31: =B31+C31 -> 3438182 | E31: =ROUND((D31/30),0) -> 114606 | N31: VALOR SALARIO + PRESTACIONES | O31: =+O28*O5+P28*O6 -> 1341784.2 | Q31: =Q28*O5 -> 1206745.5
A32: Oficial | B32: =B30*2 -> 2847000 | C32: =ROUND((B32*$B$27),0) -> 2064688 | D32: =B32+C32 -> 4911688 | E32: =ROUND((D32/30),0) -> 163723
A33: Minero | B33: =B30*2.5 -> 3558750 | C33: =ROUND((B33*$C$27),0) -> 1938510 | D33: =B33+C33 -> 5497260 | E33: =ROUND((D33/30),0) -> 183242 | O33: =+O31/O5 -> 1.7175014 | Q33: =+Q31/O5 -> 1.54465
A34: Cuadrilla A 1 Of + 4 Ay (jornal + prestaciones) | E34: =E32+(4*E30) -> 491167 | O34: 0.7175 | Q34: 0.5447
A35: Cuadrilla B 1 Min + 2 Ay (jornal + prestaciones) | E35: =E33+(2*E31) -> 412454
A36: Cuadrilla C 1 Of + 7 Ay (jornal + prestaciones) | E36: =E32+(7*E30) -> 736750
A37: Cuadrilla D 2 Of + 4 Ay (jornal + prestaciones) | E37: =(2*E32)+(4*E30) -> 654890
A38: Cuadrilla E 1 Of + 1 Ay (jornal + prestaciones) | E38: =E32+E30 -> 245584
A39: Cuadrilla F 6 Of + 4 Ay (jornal + prestaciones) | E39: =(6*E32)+(4*E30) -> 1309782
A40: Cuadrilla G 1 Of + 2 Ay (jornal + prestaciones) | E40: =E32+(2*E30) -> 327445
A41: Cuadrilla H 4 Ay (jornal + prestaciones) | E41: =4*E30 -> 327444
A42: Cuadrilla J (1 Of eléctrico+1Ay eléctrico) (jornal + prestaciones) | E42: =E49+E51 -> 294701
A43: Cuadrilla K (1Of eléctrico+2Ay eléctricos) (jornal + prestaciones) | E43: =E49+(2*E51) -> 425679
...

Sheet ANALISIS UNITARIOS
J1: 1 | K1: 2 | L1: 5 | M1: 6 | N1: 7 | O1: 8 | P1: 9 | Q1: 10 | R1: 12 | S1: 13 | T1: 14 | U1: 15 | V1: 16 | W1: 17 | X1: 18 | Y1: 19 | Z1: 20 | AA1: 21 | AB1: 22 | AC1: 23 | AD1: 24 | AE1: 25 | AF1: 26 | AG1: 27 | AH1: 28 | AI1: 29 | AJ1: 30 | AK1: 31 | AL1: 32 | AM1: 34 | AN1: 35
B3: ANALISIS DE PRECIOS UNITARIOS DE REFERENCIA 2025
B5: ITEM | C5: CÓDIGO | D5: DESCRIPCIÓN | E5: UNIDAD | F5: CANTIDAD | G5: VALOR UNITARIO | H5: RENDIMIENTO, USOS, DESPEDICIOS | I5: VALOR PARCIAL
B6: ITE001 | D6: Descapote y limpieza | E6: M2 | G6: =ROUND(SUM(I6:I9),0) -> 6549
B7: M . O | C7: =+'LISTA DE INSUMOS'!A7 -> MOB004 | D7: =+'LISTA DE INSUMOS'!B7 -> Ayudante (jornal + prestaciones) | E7: =+'LISTA DE INSUMOS'!C7 -> Dia | F7: 1 | G7: =+'LISTA DE INSUMOS'!E7 -> 81861 | H7: =1/15 -> 0.066666667 | I7: =ROUND((F7*G7*H7),0) -> 5457
C8: =+'LISTA DE INSUMOS'!A14 -> MOB011 | D8: =+'LISTA DE INSUMOS'!B14 -> Acarreo Horizontal (% mano obra) | E8: =+'LISTA DE INSUMOS'!C14 -> % MO | F8: 0.1 | G8: =I7 -> 5457 | H8: 0 | I8: =ROUND((F8*G8),0) -> 546
B9: EQUIPO | C9: =+'LISTA DE INSUMOS'!A758 -> EQU002 | D9: =+'LISTA DE INSUMOS'!B758 -> Herramienta menor (% mano obra) | E9: =+'LISTA DE INSUMOS'!C758 -> %MO | F9: 0.1 | G9: =I7 -> 5457 | H9: 0 | I9: =ROUND((F9*G9),0) -> 546
B10: ITE002 | D10: Roceria y limpieza | E10: M2 | G10: =ROUND(SUM(I10:I13),0) -> 1636
B11: M . O | C11: =+'LISTA DE INSUMOS'!A7 -> MOB004 | D11: =+'LISTA DE INSUMOS'!B7 -> Ayudante (jornal + prestaciones) | E11: =+'LISTA DE INSUMOS'!C7 -> Dia | F11: 1 | G11: =+'LISTA DE INSUMOS'!E7 -> 81861 | H11: =1/60 -> 0.016666667 | I11: =ROUND((F11*G11*H11),0) -> 1364
C12: =+'LISTA DE INSUMOS'!A14 -> MOB011 | D12: =+'LISTA DE INSUMOS'!B14 -> Acarreo Horizontal (% mano obra) | E12: =+'LISTA DE INSUMOS'!C14 -> % MO | F12: 0.1 | G12: =+I11 -> 1364 | H12: 0 | I12: =ROUND((F12*G12),0) -> 136
B13: EQUIPO | C13: =+'LISTA DE INSUMOS'!A758 -> EQU002 | D13: =+'LISTA DE INSUMOS'!B758 -> Herramienta menor (% mano obra) | E13: %MO | F13: 0.1 | G13: =+I11 -> 1364 | H13: 0 | I13: =ROUND((F13*G13),0) -> 136
B14: ITE003 | D14: Nivelación terreno con material del sitio | E14: M2 | G14: =ROUND(SUM(I14:I17),0) -> 5894
B15: M . O | C15: =+'LISTA DE INSUMOS'!A9 -> MOB006 | D15: =+'LISTA DE INSUMOS'!B9 -> Cuadrilla A 1 Of + 4 Ay (jornal + prestaciones) | E15: =+'LISTA DE INSUMOS'!C9 -> Día | F15: 1 | G15: ='LISTA DE INSUMOS'!E9 -> 491167 | H15: 0.01 | I15: =ROUND((F15*G15*H15),0) -> 4912
C16: =+'LISTA DE INSUMOS'!A14 -> MOB011 | D16: =+'LISTA DE INSUMOS'!B14 -> Acarreo Horizontal (% mano obra) | E16: =+'LISTA DE INSUMOS'!C14 -> % MO | F16: 0.1 | G16: =I15 -> 4912 | H16: 0 | I16: =ROUND((F16*G16),0) -> 491
B17: EQUIPO | C17: =+'LISTA DE INSUMOS'!A758 -> EQU002 | D17: =+'LISTA DE INSUMOS'!B758 -> Herramienta menor (% mano obra) | E17: =+'LISTA DE INSUMOS'!C758 -> %MO | F17: 0.1 | G17: =I15 -> 4912 | H17: 0 | I17: =ROUND((F17*G17),0) -> 491
B18: ITE004 | D18: Limpieza y nivelación | E18: M2 | G18: =ROUND(SUM(I18:I21),0) -> 7368
B19: M . O | C19: =+'LISTA DE INSUMOS'!A9 -> MOB006 | D19: =+'LISTA DE INSUMOS'!B9 -> Cuadrilla A 1 Of + 4 Ay (jornal + prestaciones) | E19: =+'LISTA DE INSUMOS'!C9 -> Día | F19: 1 | G19: ='LISTA DE INSUMOS'!E9 -> 491167 | H19: =1/80 -> 0.0125 | I19: =ROUND((F19*G19*H19),0) -> 6140
C20: =+'LISTA DE INSUMOS'!A14 -> MOB011 | D20: =+'LISTA DE INSUMOS'!B14 -> Acarreo Horizontal (% mano obra) | E20: =+'LISTA DE INSUMOS'!C14 -> % MO | F20: 0.1 | G20: =I19 -> 6140 | H20: 0 | I20: =ROUND((F20*G20),0) -> 614
B21: EQUIPO | C21: =+'LISTA DE INSUMOS'!A758 -> EQU002 | D21: =+'LISTA DE INSUMOS'!B758 -> Herramienta menor (% mano obra) | E21: =+'LISTA DE INSUMOS'!C758 -> %MO | F21: 0.1 | G21: =I19 -> 6140 | H21: 0 | I21: =ROUND((F21*G21),0) -> 614
B22: ITE005 | D22: Localización y replanteo | E22: M2 | G22: =ROUND(SUM(I22:I29),0) -> 4557 | J22: 4125
B23: MATERIALES | C23: =+'LISTA DE INSUMOS'!A52 -> MAT021 | D23: =+'LISTA DE INSUMOS'!B52 -> Puntilla (promedio) | E23: =+'LISTA DE INSUMOS'!C52 -> Lb | F23: 0.02 | G23: =+'LISTA DE INSUMOS'!E52 -> 6690.6972 | H23: 0 | I23: =ROUND((F23*G23),0) -> 134
C24: =+'LISTA DE INSUMOS'!A51 -> MAT020 | D24: =+'LISTA DE INSUMOS'!B51 -> Guadua basa longitud promedio = 5 m | E24: =+'LISTA DE INSUMOS'!C51 -> Un | F24: 0.02 | G24: ='LISTA DE INSUMOS'!E51 -> 8662.35 | H24: =1/3 -> 0.33333333 | I24: =ROUND((F24*G24*H24),0) -> 58
C25: =+'LISTA DE INSUMOS'!A49 -> MAT018 | D25: =+'LISTA DE INSUMOS'!B49 -> Cuartón de sajo 2" x 4" x 2,9 m | E25: =+'LISTA DE INSUMOS'!C49 -> M | F25: 0.1 | G25: ='LISTA DE INSUMOS'!E49 -> 11944.811 | H25: =1/3 -> 0.33333333 | I25: =ROUND((F25*G25*H25),0) -> 398
C26: =+'LISTA DE INSUMOS'!A153 -> MAT112 | D26: =+'LISTA DE INSUMOS'!B153 -> Pintura esmalte para exteriores | E26: =+'LISTA DE INSUMOS'!C153 -> Gl | F26: 0.002 | G26: ='LISTA DE INSUMOS'!E153 -> 99769.89 | H26: 1.03 | I26: =ROUND((F26*G26*H26),0) -> 206
C27: =+'LISTA DE INSUMOS'!A50 -> MAT019 | D27: =+'LISTA DE INSUMOS'!B50 -> Listón sajo de 5 x 3 cm x 2,5 m (varilla) | E27: =+'LISTA DE INSUMOS'!C50 -> M | F27: 0.1 | G27: ='LISTA DE INSUMOS'!E50 -> 7285.5459 | H27: =1/3 -> 0.33333333 | I27: =ROUND((F27*G27*H27),0) -> 243
B28: EQUIPO | C28: =+'LISTA DE INSUMOS'!A768 -> EQU011 | D28: =+'LISTA DE INSUMOS'!B768 -> Equipo completo de topografía | E28: =+'LISTA DE INSUMOS'!C768 -> Día | F28: 1 | G28: =+'LISTA DE INSUMOS'!E768 -> 157665.15 | H28: =1/3000 -> 0.00033333333 | I28: =ROUND((F28*G28*H28),0) -> 53
B29: M . O | C29: =+'LISTA DE INSUMOS'!A13 -> MOB010 | D29: =+'LISTA DE INSUMOS'!B13 -> Comisión topografía (topógrafo + Cadenero 1 + 2 Cadeneros 2) Inc escolta | E29: =+'LISTA DE INSUMOS'!C13 -> Día | F29: 1 | G29: =+'LISTA DE INSUMOS'!E13 -> 623679 | H29: =1/180 -> 0.0055555556 | I29: =ROUND((F29*G29*H29),0) -> 3465
B30: ITE006 | D30: Demolición muro en soga, incluye revoque y/o enchape | E30: M2 | G30: =ROUND(SUM(I30:I33),0) -> 9824
B31: M . O | C31: =+'LISTA DE INSUMOS'!A21 -> MOB018 | D31: =+'LISTA DE INSUMOS'!B21 -> Cuadrilla H 4 Ay (jornal + prestaciones) | E31: =+'LISTA DE INSUMOS'!C21 -> Día | F31: 1 | G31: ='LISTA DE INSUMOS'!E21 -> 327444 | H31: 0.025 | I31: =ROUND((F31*G31*H31),0) -> 8186
C32: =+'LISTA DE INSUMOS'!A14 -> MOB011 | D32: =+'LISTA DE INSUMOS'!B14 -> Acarreo Horizontal (% mano obra) | E32: =+'LISTA DE INSUMOS'!C14 -> % MO | F32: 0.1 | G32: =I31 -> 8186 | H32: 0 | I32: =ROUND((F32*G32),0) -> 819
B33: EQUIPO | C33: =+'LISTA DE INSUMOS'!A758 -> EQU002 | D33: =+'LISTA DE INSUMOS'!B758 -> Herramienta menor (% mano obra) | E33: =+'LISTA DE INSUMOS'!C758 -> %MO | F33: 0.1 | G33: =I31 -> 8186 | H33: 0 | I33: =ROUND((F33*G33),0) -> 819
B34: ITE007 | D34: Demolición muro en pandereta, incluye revoque y/o enchape | E34: M2 | G34: =ROUND(SUM(I34:I37),0) -> 8644
B35: M . O | C35: =+'LISTA DE INSUMOS'!A21 -> MOB018 | D35: =+'LISTA DE INSUMOS'!B21 -> Cuadrilla H 4 Ay (jornal + prestaciones) | E35: =+'LISTA DE INSUMOS'!C21 -> Día | F35: 1 | G35: ='LISTA DE INSUMOS'!E21 -> 327444 | H35: =0.022 -> 0.022 | I35: =ROUND((F35*G35*H35),0) -> 7204
C36: =+'LISTA DE INSUMOS'!A14 -> MOB011 | D36: =+'LISTA DE INSUMOS'!B14 -> Acarreo Horizontal (% mano obra) | E36: =+'LISTA DE INSUMOS'!C14 -> % MO | F36: 0.1 | G36: =I35 -> 7204 | H36: 0 | I36: =ROUND((F36*G36),0) -> 720
B37: EQUIPO | C37: =+'LISTA DE INSUMOS'!A758 -> EQU002 | D37: =+'LISTA DE INSUMOS'!B758 -> Herramienta menor (% mano obra) | E37: =+'LISTA DE INSUMOS'!C758 -> %MO | F37: 0.1 | G37: =I35 -> 7204 | H37: 0 | I37: =ROUND((F37*G37),0) -> 720
B38: ITE008 | D38: Demolición manual de concreto | E38: M3 | G38: =ROUND(SUM(I38:I41),0) -> 286514
B39: M . O | C39: =+'LISTA DE INSUMOS'!A21 -> MOB018 | D39: =+'LISTA DE INSUMOS'!B21 -> Cuadrilla H 4 Ay (jornal + prestaciones) | E39: =+'LISTA DE INSUMOS'!C21 -> Día | F39: 1 | G39: ='LISTA DE INSUMOS'!E21 -> 327444 | H39: 0.7 | I39: =ROUND((F39*G39*H39),0) -> 229211
C40: =+'LISTA DE INSUMOS'!A14 -> MOB011 | D40: =+'LISTA DE INSUMOS'!B14 -> Acarreo Horizontal (% mano obra) | E40: =+'LISTA DE INSUMOS'!C14 -> % MO | F40: 0.1 | G40: =I39 -> 229211 | H40: 0 | I40: =ROUND((F40*G40),0) -> 22921
B41: EQUIPO | C41: =+'LISTA DE INSUMOS'!A758 -> EQU002 | D41: =+'LISTA DE INSUMOS'!B758 -> Herramienta menor (% mano obra) | E41: =+'LISTA DE INSUMOS'!C758 -> %MO | F41: 0.15 | G41: =I39 -> 229211 | H41: 0 | I41: =ROUND((F41*G41),0) -> 34382
B42: ITE009 | D42: Demolición manual de concreto ciclópeo | E42: M3 | G42: =ROUND(SUM(I42:I45),0) -> 204652
...

Sheet PRESUPUESTO 
B3: Obras de reforestación, mantenimiento y aislamiento en zonas de restauración y preservación por ser fajas paralelas a cuerpos de agua, en el marco del Acuerdo CARDER 035 de 2021
B4: PRESUPUESTO OFICIAL | D4: CONDICIONES GENERALES
B5: ITEM | C5: DESCRIPCION | D5: Und | E5: Cant | F5: Vr. Unitario | G5: Vr. Parcial
C6: Reforestación faja de protección | G6: =G7+G8 -> 61641687
B7: Basados en ITEM 413 | C7: Establecimiento plantación + 1 mantenimiento | D7: ='ANALISIS UNITARIOS'!E4341 -> Ha | E7: =1.3+2 -> 3.3 | F7: =D82+D83 -> 10865960 | G7: =E7*F7 -> 35857667
B8: ='ANALISIS UNITARIOS'!B4964 -> ITE463 | C8: ='ANALISIS UNITARIOS'!D4964 -> Cerramiento en poste de guadua 3 hilos de alambre de púas con estacon | D8: ='ANALISIS UNITARIOS'!E4964 -> M | E8: =800+591 -> 1391 | F8: ='ANALISIS UNITARIOS'!G4964 -> 18536.319 | G8: =E8*F8 -> 25784019
C9: Restauración | G9: =G10 -> 32597879
B10: Basados en ITEM 413 | C10: Establecimiento plantación + 1 mantenimiento | D10: Ha | E10: 3 | F10: =F7 -> 10865960 | G10: =E10*F10 -> 32597879
F11: COSTO DIRECTO | H11: =SUM(G6+G9) -> 94239566
F12: AU | G12: =H12/H11 -> 0.57124723 | H12: =AU!I48 -> 53834091
F13: COSTO TOTAL OBRA | H13: =SUM(H11:H12) -> 1.4807366e+08
C19: RESOLUCIÓN ADMINISTRATIVA N. 0123 DEL 25 DE FEBRERO DE 2022 "POR MEDIO DE LA CUAL SE ADOPTA LA BASE DE PRECIOS UNITARIOS PARA LA EJECUCIÓN DE CONTRATOS DE OBRA Y SE DICTAN OTRAS DISPOSICIONES".
K21: SE DEBE PEGAR EL ENCABEZADO PARA SABER CADA VALOR A QUE HACE REFERENCIA
C47: La Corporación suscribió y ejecutó el Convenio Interadministrativo N. 938-2022 con la Corporación Masbosques cuyo objeto fue "“Aunar esfuerzos técnicos, administrativos y financieros entre la CORPORACION AUTONOMA REGIONAL DE RISARALDA CARDER y la CORPORACIÓN PARA EL MANEJO SOSTENIBLE DE LOS BOSQUES “MASBOSQUES” para ejecutar obras de reforestación y primer mantenimiento, aislamiento, fortalecimiento de viveros, y adelantar un procedimiento para desembolsar los recursos de incentivos económicos para la preservación y recuperación de ecosistemas, en el marco del proyecto denominado “RECUPERACIÓN DE ÁREAS DE IMPORTANCIA AMBIENTAL EN CUENCAS ABASTECEDORAS DE ACUEDUCTOS DEL DEPARTAMENTO DE RISARALDA” aprobado por el FONAM”, donde estableció basado en la Resolución administrativa 0123 de 2022 los valores unitarios para establecer la plantación de material vegetal y ejecutar el primer mantenimiento, basados en el ITEM 413 de los mismos. Tomando esta información como referencia para el año 2025 y basados en la Resolución administrastiva N. 0054 del 5 de febrero de 2025 se determina el valor unitario para para establecer la plantación de material vegetal y ejecutar el primer mantenimiento
C76: Valor total | D76: 9724625
C77: Establecer la plantación de material vegetal (ITEM 413) | D77: 5586333 | E77: =D77/D76 -> 0.57445228
C78: Ejecutar el primer mantenimiento | D78: 2174767 | E78: =D78/D76 -> 0.22363505
C80: En tal sentido para el año 2025 sería
C81: Valor total | D81: ='ANALISIS UNITARIOS'!G4341 -> 13615001
C82: Establecer la plantación de material vegetal (ITEM 413) | D82: =D81*E82 -> 7821168.4 | E82: =E77 -> 0.57445228
C83: Ejecutar el primer mantenimiento | D83: =D81*E83 -> 3044791.4 | E83: =E78 -> 0.22363505

Sheet AU
E5: REFORESTACIÓN, RESTAURACIÓN Y DEMARCACIÓN DE FAJAS
E10: Duración: 6 meses
B12: DESGLOCE DEL A.U
B13: COSTOS DIRECTOS | D13: ='PRESUPUESTO '!H11 -> 94239566 | F13: DURACION DE LA OBRA | H13: 30 DIAS CALENDARIO= 1 MESES
B14: ITEM | C14: } | E14: UND | F14: VALOR UNIT | G14: CANTIDAD | H14: DEDICACION | I14: VR / TOTAL
C15: ADMINISTRACION
B16: 1 | C16: PERSONAL ADMINISTRATIVO (CON VINCULACIÓN) MAYOR 2 SMMLV
B17: 1.01 | I17: =+F17*G17*H17 -> 0
B18: 1.02 | I18: =+F18*G18*H18 -> 0
C19: Subtotal | I19: =SUM(I17:I18) -> 0
C20: PRESTACIONES | H20: 0.6041 | I20: =+I19*H20 -> 0
C21: SUBTOTAL PERSONAL ADMINISTRATIVO | H21: =+I21/$D$13 -> 0 | I21: =+I20+I19 -> 0
B22: 2 | C22: PERSONAL TÉCNICO (SIN VINCULACIÓN)
B23: 2.01 | C23: Coordinador Forestal | E23: MES | F23: 5000000 | G23: 7 | H23: 0.4 | I23: =+F23*G23*H23 -> 14000000
B24: 2.02 | C24: Técnologo Forestal o Agroforestal dedicación | E24: MES | F24: 2800000 | G24: 4 | H24: 0.8 | I24: =+F24*G24*H24 -> 8960000
C25: Subtotal | I25: =SUM(I23:I24) -> 22960000
C26: SUBTOTAL PERSONAL ADMINISTRATIVO | H26: =+I26/$D$13 -> 0.2436344 | I26: =SUM(I25) -> 22960000
B28: 3 | C28: PERSONAL ADMINISTRATIVO (SIN VINCULACIÓN) ASESORES
B29: 3.01 | C29: Asesor en seguridad industrial y salud ocupacional | D29: Asesor en seguridad industrial y salud ocupacional | E29: MES | F29: 3400000 | G29: 7 | H29: 0.2 | I29: =+F29*G29*H29 -> 4760000
B30: 3.02 | C30: Trabajador Social dedicación | E30: MES | F30: 3400000 | G30: 4 | H30: 0.8 | I30: =+F30*G30*H30 -> 10880000
C31: SUBTOTAL PERSONAL ADMINISTRATIVO | H31: =+I31/$D$13 -> 0.16596002 | I31: =SUM(I29:I30) -> 15640000
B33: 4 | C33: GASTOS ADMINISTRATIVOS
B34: 4.02 | C34: Botiquin primeros auxilios | E34: Unidad | F34: 250000 | G34: 1 | H34: N/A | I34: =+F34*G34 -> 250000
C35: SUBTOTAL GASTOS ADMINISTRATIVOS | H35: =+I35/$D$13 -> 0.0026528136 | I35: =SUM(I34:I34) -> 250000
B37: 4 | C37: IMPUESTOS
B38: 4.012 | C38: Contribución prouniversidad | E38: % VLR CONT | F38: 0.01 | G38: =D13*0.01 -> 942395.66 | I38: =G38 -> 942395.66
B39: 4.02 | C39: Retención contrato de obra | E39: % VLR CONT | F39: 0.02 | G39: =D13*0.02 -> 1884791.3 | I39: =G39 -> 1884791.3
B40: 4.03 | C40: Retención industria y comercio | E40: % VLR CONT | F40: 0.007 | G40: =D13*0.007 -> 659676.96 | I40: =G40 -> 659676.96
B41: 4.04 | C41: Contribución especial obra publica | E41: % VLR CONT | F41: 0.05 | G41: =D13*0.05 -> 4711978.3 | I41: =G41 -> 4711978.3
B42: 4.05 | C42: Retención de iva | E42: % VLR CONT | F42: 0.015 | G42: =D13*0.015 -> 1413593.5 | I42: =G42 -> 1413593.5
B43: 4.06 | C43: Polizas | E43: % VLR CONT | F43: 0.007 | G43: =D13*0.007 -> 659676.96 | I43: =G43 -> 659676.96
C44: SUBTOTAL GASTOS IMPUESTOS Y POLIZAS | G44: =I44/D13 -> 0.109 | I44: =SUM(I38:I43) -> 10272113
B46: TOTAL GASTOS ADMINISTRACION | H46: =G44+H35+H31+H26+H21 -> 0.52124723 | I46: =I31+I35+I44+I26 -> 49122113
B47: UTILIDAD | H47: 0.05 | I47: =+D13*H47 -> 4711978.3
B48: TOTAL A.U. | H48: =+H46+H47 -> 0.57124723 | I48: =SUM(I46:I47) -> 53834091

Sheet PROYECCIÓN EN TIEMPO
C6: CRONOGRAMA | D6: MES 1 | E6: MES 2 | F6: MES 3 | G6: MES 4 | H6: MES 5 | I6: MES 6 | J6: MES 7
C7: REFORESTACIÓN
C8: Visitas de caracterización zonas a reforestar
C9: Reforestar 3,3 ha faja el Manzano con Resolución CARDER
C10: Mantenimiento de la reforestación
C11: RESTAURACIÓN
C12: Visitas de caracterización zonas a restaurar
C13: Restaurar 8 ha con 200 arboles/ha
C14: Mantenimiento de arboles sembrados

Sheet Datos de ejemplo
B1: NOTA: Esta hoja permanecerá oculta. | W1: =CompanyName & " CUSTOMER" -> #REF!
B2: =CompanyName -> #REF!
B3: DATOS DE EJEMPLO
B6: Id. cliente | C6: Compañía | D6: Contacto | E6: Tipo de contacto | F6: Teléfono | G6: Móvil | H6: Fax | I6: Correo electrónico | J6: Twitter | K6: Facebook | L6: LinkedIn | M6: Sitio web | N6: Dirección | O6: Ciudad | P6: Provincia | Q6: Código postal | R6: País | S6: Instrucciones | T6: Cargo de contacto | U6: Notas
B7: CU0001 | C7: Adventure Works | D7: Greg Akselrod | E7: Personal | F7: 1235550123 | G7: 1235550131 | H7: 1235550139 | I7: AdventureWorks@live.com | J7: @AdventureWrks | K7: AdventureWrks | L7: AdventureWorks | M7: adventure-works.com | N7: 1 Microsoft Way | O7: Redmond | P7: WA | Q7: 98052 | R7: Estados Unidos
B8: CU0002 | C8: A Datum Corporation | D8: Abolrous, Hazem | E8: Empresa | F8: 1235550124 | G8: 1235550132 | H8: 1235550140 | I8: hazem@example.com
B9: CU0003 | C9: Alpine Ski House | D9: Abu-Deyah, Ahmed | E9: Personal | F9: 1235550125 | G9: 1235550133 | H9: 1235550141 | I9: ahmed@example.com
B10: CU0004 | C10: Blue Yonder Airlines | D10: Ackerman, Pilar | E10: Empresa | F10: 1235550126 | G10: 1235550134 | H10: 1235550142 | I10: pilar@example.com
B11: CU0005 | C11: City Power & Light | D11: Adams, Terry | E11: Empresa | F11: 123-555-0127 | G11: 1235550135 | H11: 1235550143 | I11: terry@example.com
B12: CU0006 | C12: Coho Vineyard | D12: Agarwal, Nupur | E12: Empresa | F12: 123-555-0128 | G12: 1235550136 | H12: 1235550144 | I12: nupur@example.com
B13: CU0007 | C13: Coho Winery | D13: Alexander, Sean P | E13: Empresa | F13: 123-555-0129 | G13: 1235550137 | H13: 1235550145 | I13: sean@example.com
B14: CU0008 | C14: Coho Vineyard & Winery | D14: Barnett, Dave | E14: Empresa | F14: 123-555-0130 | G14: 1235550138 | H14: 1235550146 | I14: dave@example.com
B26: Datos de usuario
B28: Id. cliente | C28: Compañía | D28: Contacto | E28: Tipo de contacto | F28: Teléfono | G28: Móvil | H28: Fax | I28: Correo electrónico | J28: Twitter | K28: Facebook | L28: LinkedIn | M28: Sitio web | N28: Dirección | O28: Ciudad | P28: Provincia | Q28: Código postal | R28: País | S28: Instrucciones | T28: Cargo de contacto | U28: Notas
B29: Escribir Id. | C29: Escribir compañía
