Workbook

Sheet P. Adecuación
B2: ADECUACIÓN Y REMODELACIÓN DEL PUESTO DE SALUD DEL CORREGIMIENTO DE LA VICTORIA DE SAN ISIDRO DEL MUNICIPIO DE LA JAGUA DE IBIRICO, CESAR
B3: Nombre Entidad : MUNICIPIO DE LA JAGUA DE IBIRICO CESAR | F3: FECHA ELABORACION | G3: 45375
B4: Sede: | C4: PUESTO DE SALUD DEL CORREGIMIENTO DE LA VICTORIA DE SAN ISIDRO | K4: 0.014 | L4: 0.756 | M4: 0.01 | N4: 0.22 | O4: =SUM(K4:N4) -> 1
B5: ÍTEM | C5: ACTIVIDADES | D5: UNIDAD | E5: CANTIDAD | F5: VR UNITARIO | G5: VALOR TOTAL | H5: AIU | I5: 1.3 | J5: EQUIPO | K5: MATERIALES | L5: TRANSPORTE | M5: M. OBRA | N5: TOTAL
B6: 1. | C6: PRELIMINARES | H6: =+Tabla13[[#This Row],[ VALOR TOTAL]]*1.3 -> 0 | I6: =SUM(G7:G11)*I5 -> 37315715 | J6: =I6*0.3 -> 11194714 | M6: =I6*0.7 -> 26121000 | N6: =SUM(J6:M6) -> 37315715
B7: 1.1 | C7: DEMOLICIONES (PISOS) | D7: m2 | E7: =+'1.1'!AN45 -> 380.37 | F7: =+'1. PRELIMINARES'!I31 -> 25017 | G7: =Tabla13[[#This Row],[VR UNITARIO]]*Tabla13[[#This Row],[CANTIDAD]] -> 9515716.3 | H7: =+Tabla13[[#This Row],[ VALOR TOTAL]]*1.3 -> 12370431
B8: 1.2 | C8: DESMONTES (VENTANAS) | D8: und | E8: =+'1.2'!AN39 -> 23 | F8: =+'1. PRELIMINARES'!I114 -> 27756 | G8: =Tabla13[[#This Row],[VR UNITARIO]]*Tabla13[[#This Row],[CANTIDAD]] -> 638388 | H8: =+Tabla13[[#This Row],[ VALOR TOTAL]]*1.3 -> 829904.4
B9: 1.3 | C9: DESMONTE DE APARATOS SANITARIOS, LAVAMANOS Y LAVAPLATOS | D9: und | E9: =+'1.3'!AN36 -> 20 | F9: =+'1. PRELIMINARES'!G121 -> 34695 | G9: =Tabla13[[#This Row],[VR UNITARIO]]*Tabla13[[#This Row],[CANTIDAD]] -> 693900 | H9: =+Tabla13[[#This Row],[ VALOR TOTAL]]*1.3 -> 902070
B10: 1.4 | C10: DESMONTES (CIELO RASOS) | D10: m2 | E10: =+'1.4'!AN40 -> 488.57 | F10: =+'1. PRELIMINARES'!G159 -> 36406.25 | G10: =Tabla13[[#This Row],[VR UNITARIO]]*Tabla13[[#This Row],[CANTIDAD]] -> 17787002 | H10: =+Tabla13[[#This Row],[ VALOR TOTAL]]*1.3 -> 23123102
B11: 1.5 | C11: DESMONTES (PUERTAS) | D11: und | E11: =+'1.5'!AN34 -> 2 | F11: =+'1. PRELIMINARES'!G197 -> 34695 | G11: =Tabla13[[#This Row],[VR UNITARIO]]*Tabla13[[#This Row],[CANTIDAD]] -> 69390 | H11: =+Tabla13[[#This Row],[ VALOR TOTAL]]*1.3 -> 90207
B12: 2. | C12: OBRAS DE URBANISMO | H12: =+Tabla13[[#This Row],[ VALOR TOTAL]]*1.3 -> 0 | I12: =SUM(G13)*I5 -> 163006.43 | J12: =I12*$K$4 -> 2282.09 | K12: =I12*$L$4 -> 123232.86 | L12: =I12*$M$4 -> 1630.0643 | M12: =I12*$N$4 -> 35861.414 | N12: =SUM(J12:M12) -> 163006.43
B13: 2.1 | C13: RAMPA EN CONCRETO 3000 PSI; E=0,10mts | D13: m2 | E13: 2.1602502 | F13: =+'2. URBANISMO'!I38 -> 58044 | G13: =Tabla13[[#This Row],[VR UNITARIO]]*Tabla13[[#This Row],[CANTIDAD]] -> 125389.56 | H13: =+Tabla13[[#This Row],[ VALOR TOTAL]]*1.3 -> 163006.43
B14: 3. | C14: OBRAS EN CUBIERTA | H14: =+Tabla13[[#This Row],[ VALOR TOTAL]]*1.3 -> 0 | I14: =SUM(G15:G17)*I5 -> 59632378 | J14: =I14*$K$4 -> 834853.29 | K14: =I14*$L$4 -> 45082078 | L14: =I14*$M$4 -> 596323.78 | M14: =I14*$N$4 -> 13119123 | N14: =SUM(J14:M14) -> 59632378
B15: 3.1 | C15: CUBIERTA EN TEJA ARQUITECTONICA ACESCO O SIMILAR | D15: m2 | E15: =+'3.1'!AN45 -> 583.46 | F15: =+'3. CUBIERTA'!I37 -> 58212 | G15: =Tabla13[[#This Row],[VR UNITARIO]]*Tabla13[[#This Row],[CANTIDAD]] -> 33964374 | H15: =+Tabla13[[#This Row],[ VALOR TOTAL]]*1.3 -> 44153686
B16: 3.2 | C16: IMPERMEABILIZACION DE PLACA EN MANTO EDIL 3 MM STANDAR INCL. IMPRIMANTE Y PINTURA BITUMINOSA | D16: m2 | E16: =+'3.2'!AN46 -> 183.25 | F16: =+'3. CUBIERTA'!I82 -> 47736 | G16: =Tabla13[[#This Row],[VR UNITARIO]]*Tabla13[[#This Row],[CANTIDAD]] -> 8747622 | H16: =+Tabla13[[#This Row],[ VALOR TOTAL]]*1.3 -> 11371909
B17: 3.3 | C17: MEDIACAÑA EN MORTERO 1:4 | D17: ml | E17: =+'3.3'!AN45 -> 151.9 | F17: =+'3. CUBIERTA'!I127 -> 20797 | G17: =Tabla13[[#This Row],[VR UNITARIO]]*Tabla13[[#This Row],[CANTIDAD]] -> 3159064.3 | H17: =+Tabla13[[#This Row],[ VALOR TOTAL]]*1.3 -> 4106783.6
H18: =+Tabla13[[#This Row],[ VALOR TOTAL]]*1.3 -> 0
B19: 4. | C19: MAMPOSTERIA Y PINTURA | H19: =+Tabla13[[#This Row],[ VALOR TOTAL]]*1.3 -> 0 | I19: =SUM(G20:G24)*I5 -> 48795172 | J19: =I19*$K$4 -> 683132.4 | K19: =I19*$L$4 -> 36889150 | L19: =I19*$M$4 -> 487951.72 | M19: =I19*$N$4 -> 10734938 | N19: =SUM(J19:M19) -> 48795172
B20: 4.1 | C20: PAÑETE LISO MUROS 1:4 | D20: m2 | E20: =+'4.1'!AN53 -> 482.45 | F20: =+'4. MAMPOSTERIA'!I266 -> 28238 | G20: =Tabla13[[#This Row],[VR UNITARIO]]*Tabla13[[#This Row],[CANTIDAD]] -> 13623423 | H20: =+Tabla13[[#This Row],[ VALOR TOTAL]]*1.3 -> 17710450
B21: 4.2 | C21: PAÑETE IMPERMEABILIZADO 1:3 | D21: m2 | E21: =+'4.2'!AN45 -> 81.53 | F21: =+'4. MAMPOSTERIA'!I311 -> 33594 | G21: =Tabla13[[#This Row],[VR UNITARIO]]*Tabla13[[#This Row],[CANTIDAD]] -> 2738918.8 | H21: =+Tabla13[[#This Row],[ VALOR TOTAL]]*1.3 -> 3560594.5
B22: 4.3 | C22: FILOS Y DILATACIONES EN PAÑETES | D22: m2 | E22: =+'4.3'!AN45 -> 1335.88 | F22: =+'4. MAMPOSTERIA'!I356 -> 5855 | G22: =Tabla13[[#This Row],[VR UNITARIO]]*Tabla13[[#This Row],[CANTIDAD]] -> 7821577.4 | H22: =+Tabla13[[#This Row],[ VALOR TOTAL]]*1.3 -> 10168051
B23: 4.4 | C23: ESTUCO Y VINILO TRES MANOS EN MUROS (COLOR) | D23: m2 | E23: =+'4.4'!AN45 -> 239.36 | F23: =+'4. MAMPOSTERIA'!I401 -> 40195 | G23: =Tabla13[[#This Row],[VR UNITARIO]]*Tabla13[[#This Row],[CANTIDAD]] -> 9621075.2 | H23: =+Tabla13[[#This Row],[ VALOR TOTAL]]*1.3 -> 12507398
B24: 4.5 | C24: PINTURA FACHADA EN VINILO PARA EXTERIORES | D24: m2 | E24: =+'4.5'!AN45 -> 81.53 | F24: =+'4. MAMPOSTERIA'!I446 -> 45747 | G24: =Tabla13[[#This Row],[VR UNITARIO]]*Tabla13[[#This Row],[CANTIDAD]] -> 3729752.9 | H24: =+Tabla13[[#This Row],[ VALOR TOTAL]]*1.3 -> 4848678.8
B25: 5. | C25: PISOS Y CIELO RASO | H25: =+Tabla13[[#This Row],[ VALOR TOTAL]]*1.3 -> 0 | I25: =SUM(G26:G30)*I5 -> 1.5120341e+08 | J25: =I25*$K$4 -> 2116847.8 | K25: =I25*$L$4 -> 1.1430978e+08 | L25: =I25*$M$4 -> 1512034.1 | M25: =I25*$N$4 -> 33264751 | N25: =SUM(J25:M25) -> 1.5120341e+08
B26: 5.1 | C26: ALISTADO PISO 1:5 E=0.04 M | D26: m2 | E26: =+'5.1'!AN45 -> 380.37 | F26: =+'5. PISOS'!I37 -> 31511 | G26: =Tabla13[[#This Row],[VR UNITARIO]]*Tabla13[[#This Row],[CANTIDAD]] -> 11985839 | H26: =+Tabla13[[#This Row],[ VALOR TOTAL]]*1.3 -> 15581591
B27: 5.2 | C27: SUMINISTRO E INSTALACIÓN DE BALDOSIN 20 X 20 CM LINEA INSTITUCIONAL O SIMILAR BLANCO | D27: m2 | E27: =+'5.2'!AN45 -> 5.3 | F27: =+'5. PISOS'!I82 -> 73662 | G27: =Tabla13[[#This Row],[VR UNITARIO]]*Tabla13[[#This Row],[CANTIDAD]] -> 390408.6 | H27: =+Tabla13[[#This Row],[ VALOR TOTAL]]*1.3 -> 507531.18
B28: 5.3 | C28: GUARDAESCOBA MEDIA CAÑA EN GRANITO PULIDO | D28: ml | E28: =+'5.3'!AN45 -> 151.9 | F28: =+'5. PISOS'!I127 -> 39552 | G28: =Tabla13[[#This Row],[VR UNITARIO]]*Tabla13[[#This Row],[CANTIDAD]] -> 6007948.8 | H28: =+Tabla13[[#This Row],[ VALOR TOTAL]]*1.3 -> 7810333.4
B29: 5.4 | C29: PISO PORCELANATO 60 X 60 CM PRIMERA CALIDAD O SIMILAR | D29: m2 | E29: =+'5.4'!AN45 -> 380.37 | F29: =+'5. PISOS'!I173 -> 126752 | G29: =Tabla13[[#This Row],[VR UNITARIO]]*Tabla13[[#This Row],[CANTIDAD]] -> 48212658 | H29: =+Tabla13[[#This Row],[ VALOR TOTAL]]*1.3 -> 62676456
B30: 5.5 | C30: CIELO RASO EN PVC (INCLUYE ESTRUCTURA DE SOPORTE Y TODOS LOS ELEMENTOS NECESARIOS PARA SU CORRECTA INSTALACIÓN) | D30: m2 | E30: =+'5.5'!AN45 -> 488.57 | F30: =+'5. PISOS'!I218 -> 101753 | G30: =Tabla13[[#This Row],[VR UNITARIO]]*Tabla13[[#This Row],[CANTIDAD]] -> 49713463 | H30: =+Tabla13[[#This Row],[ VALOR TOTAL]]*1.3 -> 64627502
B31: 6. | C31: ENCHAPES Y ACCESORIOS BAÑOS | H31: =+Tabla13[[#This Row],[ VALOR TOTAL]]*1.3 -> 0 | I31: =SUM(G32:G38)*I5 -> 29679913 | J31: =I31*$K$4 -> 415518.79 | K31: =I31*$L$4 -> 22438015 | L31: =I31*$M$4 -> 296799.13 | M31: =I31*$N$4 -> 6529581 | N31: =SUM(J31:M31) -> 29679913
B32: 6.1 | C32: CERAMICA PARED (INCLUYE BOQUILLA COLOR, WING Y LINEALES) | D32: m2 | E32: =+'6.1'!AN45 -> 87.05 | F32: =+'6. BAÑOS'!I37 -> 65211 | G32: =Tabla13[[#This Row],[VR UNITARIO]]*Tabla13[[#This Row],[CANTIDAD]] -> 5676617.5 | H32: =+Tabla13[[#This Row],[ VALOR TOTAL]]*1.3 -> 7379602.8
B33: 6.2 | C33: CERAMICA PISO 33 X 33 CM LINEA INSTITUCIONAL O SIMILAR (INCLUYE BOQUILLA COLOR, LINEALES) | D33: m2 | E33: =+'6.2'!AN45 -> 108.81 | F33: =+'6. BAÑOS'!I82 -> 91468 | G33: =Tabla13[[#This Row],[VR UNITARIO]]*Tabla13[[#This Row],[CANTIDAD]] -> 9952633.1 | H33: =+Tabla13[[#This Row],[ VALOR TOTAL]]*1.3 -> 12938423
B34: 6.3 | C34: SUMINISTRO E INSTALACIÓN DE SANITARIO LINEA INSTITUCIONAL O SIMILAR (INCLUYE TODOS LOS ACCESORIOS NECESARIOS PARA SU CORRECTO FUNCIONAMIENTO) | D34: und | E34: =+'6.3'!AN45 -> 8 | F34: =+'6. BAÑOS'!I127 -> 389548 | G34: =Tabla13[[#This Row],[VR UNITARIO]]*Tabla13[[#This Row],[CANTIDAD]] -> 3116384 | H34: =+Tabla13[[#This Row],[ VALOR TOTAL]]*1.3 -> 4051299.2
B35: 6.4 | C35: SUMINISTRO E INSTALACIÓN DE LAVAMANOS LINEA INSTITUCIONAL O SIMILAR (INCLUYE GRIFO Y TODOS LOS ACCESORIOS NECESARIOS PARA SU CORRECTO FUNCIONAMIENTO) | D35: und | E35: =+'6.4'!AN45 -> 8 | F35: =+'6. BAÑOS'!I172 -> 282124 | G35: =Tabla13[[#This Row],[VR UNITARIO]]*Tabla13[[#This Row],[CANTIDAD]] -> 2256992 | H35: =+Tabla13[[#This Row],[ VALOR TOTAL]]*1.3 -> 2934089.6
B36: 6.5 | C36: SUMINISTRO E INSTALACIÓN DE PROTECTOR DE PAPEL HIGIENICO (INCLUYE TODOS LOS ACCESORIOS NECESARIOS PARA SU CORRECTO FUNCIONAMIENTO) | D36: und | E36: =+'6.5'!AN45 -> 8 | F36: =+'6. BAÑOS'!I217 -> 91751 | G36: =Tabla13[[#This Row],[VR UNITARIO]]*Tabla13[[#This Row],[CANTIDAD]] -> 734008 | H36: =+Tabla13[[#This Row],[ VALOR TOTAL]]*1.3 -> 954210.4
B37: 6.6 | C37: SUMINISTRO E INSTALACIÓN DE TOALLERO (INCLUYE TODOS LOS ACCESORIOS NECESARIOS PARA SU CORRECTO FUNCIONAMIENTO) | D37: und | E37: =+'6.6'!AN45 -> 8 | F37: =+'6. BAÑOS'!I262 -> 56651 | G37: =Tabla13[[#This Row],[VR UNITARIO]]*Tabla13[[#This Row],[CANTIDAD]] -> 453208 | H37: =+Tabla13[[#This Row],[ VALOR TOTAL]]*1.3 -> 589170.4
B38: 6.7 | C38: LAVAPLATOS A.INOX. 100 X 60CM (INCLUYE GRIFO Y TODOS LOS ACCESORIOS NECESARIOS PARA SU CORRECTO FUNCIONAMIENTO) | D38: und | E38: =+'6.7'!AN45 -> 2 | F38: =+'6. BAÑOS'!I307 -> 320430 | G38: =Tabla13[[#This Row],[VR UNITARIO]]*Tabla13[[#This Row],[CANTIDAD]] -> 640860 | H38: =+Tabla13[[#This Row],[ VALOR TOTAL]]*1.3 -> 833118
B39: 7. | C39: SUMINISTRO E INSTALACIÓN DE CARPINTERIA | H39: =+Tabla13[[#This Row],[ VALOR TOTAL]]*1.3 -> 0 | I39: =SUM(G40:G44)*I5 -> 25526453 | J39: =I39*$K$4 -> 357370.35 | K39: =I39*$L$4 -> 19297999 | L39: =I39*$M$4 -> 255264.53 | M39: =I39*$N$4 -> 5615819.8 | N39: =SUM(J39:M39) -> 25526453
B40: 7.1 | C40: MUEBLE SENCILLO EN MADERA | D40: ml | E40: =+'7.1'!AN45 -> 4.45 | F40: =+'7. CARPINTERIA'!I37 -> 761945 | G40: =Tabla13[[#This Row],[VR UNITARIO]]*Tabla13[[#This Row],[CANTIDAD]] -> 3390655.2 | H40: =+Tabla13[[#This Row],[ VALOR TOTAL]]*1.3 -> 4407851.8
B41: 7.2 | C41: PUERTAS LAMINA CON MARCO CAL. 18, INCL. ANTICORROSIVO Y ACABADO EN ESMALTE, INCLUYE CERRADURA E INSTALACION. | D41: und | E41: =+'7.2'!AN45 -> 2 | F41: =+'7. CARPINTERIA'!I82 -> 456016 | G41: =Tabla13[[#This Row],[VR UNITARIO]]*Tabla13[[#This Row],[CANTIDAD]] -> 912032 | H41: =+Tabla13[[#This Row],[ VALOR TOTAL]]*1.3 -> 1185641.6
...

Sheet P. Interventoria
A1: PRESUPUESTO OFICIAL DE INTERVENTORIA
A2: INTERVENTORÍA TÉCNICO, ADMINISTRATIVA, AMBIENTAL Y FINANCIERA PARA ADECUACIÓN Y REMODELACIÓN DEL PUESTO DE SALUD DEL CORREGIMIENTO DE LA VICTORIA DE SAN ISIDRO DEL MUNICIPIO DE LA JAGUA DE IBIRICO, CESAR
A3: CANT. | B3: DESCRIPCIÓN | C3: CATEG. | D3: F.M. | E3: H. M. | F3: VALOR SALARIO | G3: MESES | H3: VALOR TOTAL
A4: COSTOS DIRECTOS DE PERSONAL (*)
A5: 1 | B5: Ingeniero Residente de Interventoría | C5: H | D5: 1.91 | E5: 1 | F5: 3500000 | G5: 3 | H5: =G5*E5*F5*D5*A5 -> 20055000
A6: ( A ) SUB TOTAL COSTOS DIRECTOS DE PERSONAL | H6: =SUM(H5:H5) -> 20055000
A8: CANT. | B8: DESCRIPCIÓN | E8: UNIDAD | F8: COSTO MENSUAL | G8: CANTIDAD | H8: COSTO TOTAL
A9: OTROS COSTOS DIRECTOS
H10: =+G10*F10*A10 -> 0
B11: ( B ) SUB TOTAL OTROS COSTOS DIRECTOS | H11: =SUM(H10:H10) -> 0
B13: ( C ) = ( A+B ) TOTAL COSTOS DIRECTOS | H13: =H6+H11 -> 20055000
A15: CANT. | B15: DESCRIPCIÓN | E15: UNIDAD | F15: COSTO MENSUAL | G15: CANTIDAD | H15: COSTO TOTAL
A16: COSTOS INDIRECTOS
A17: 1 | B17: Impresiones, fotocopias, papeleria, ploteo, empastes, etc. | E17: MES | F17: 190228.66 | G17: 3 | H17: =F17*G17 -> 570685.97
B18: ( D ) TOTAL COSTOS INDIRECTOS | H18: =SUM(H17:H17) -> 570685.97
B20: TOTAL COSTOS DIRECTOS, COSTOS INDIRECTOS Y ADMINISTRACIÓN ( C ) + ( D ) | H20: =+H13+H18 -> 20625686
B21: IMPUESTO AL VALOR AGREGADO (IVA) | G21: 0.19 | H21: =+H20*G21 -> 3918880.3
B22: VALOR TOTAL DE LA INTERVENTORÍA | H22: =+H20+H21 -> 24544566 | I22: =+H22-'P. Adecuación'!G76 -> 0
B25: Realizó
B26: Nombre: MAHER SANTOS
B27: No. T.P A17732023-106117224
B28: Firma:

Sheet CRONOGRAMA
B2: CRONOGRAMA Y FLUJO DE FONDOS
B3: =+'P. Adecuación'!B2 -> ADECUACIÓN Y REMODELACIÓN DEL PUESTO DE SALUD DEL CORREGIMIENTO DE LA VICTORIA DE SAN ISIDRO DEL MUNICIPIO DE LA JAGUA DE IBIRICO, CESAR
G5: PERÍODO DE EJECUCIÓN DE ACTIVIDADES (Periodo de ejecución física)
B6: ITEM | C6: DESCRIPCION | D6: UND | E6: CANT | F6: VALOR (INC. AIU) | G6: MES 1 | K6: MES 2 | O6: MES 3
G7: 1 | H7: 2 | I7: 3 | J7: 4 | K7: 5 | L7: 6 | M7: 7 | N7: 8 | O7: 9 | P7: 10 | Q7: 11 | R7: 12
B8: 1 | C8: =+'P. Adecuación'!C6 -> PRELIMINARES
B9: 1.1 | C9: =+'P. Adecuación'!C7 -> DEMOLICIONES (PISOS) | D9: =+'P. Adecuación'!D7 -> m2 | E9: =+'P. Adecuación'!E7 -> 380.37 | F9: =+'P. Adecuación'!G7*1.3 -> 12370431 | G9: =+F9/2 -> 6185215.6 | H9: =+G9 -> 6185215.6
B10: 1.2 | C10: =+'P. Adecuación'!C8 -> DESMONTES (VENTANAS) | D10: =+'P. Adecuación'!D8 -> und | E10: =+'P. Adecuación'!E8 -> 23 | F10: =+'P. Adecuación'!G8*1.3 -> 829904.4 | G10: =+F10/2 -> 414952.2 | H10: =+G10 -> 414952.2
B11: 1.3 | C11: =+'P. Adecuación'!C9 -> DESMONTE DE APARATOS SANITARIOS, LAVAMANOS Y LAVAPLATOS | D11: =+'P. Adecuación'!D9 -> und | E11: =+'P. Adecuación'!E9 -> 20 | F11: =+'P. Adecuación'!G9*1.3 -> 902070 | G11: =+F11/2 -> 451035 | H11: =+G11 -> 451035
B12: 1.4 | C12: =+'P. Adecuación'!C10 -> DESMONTES (CIELO RASOS) | D12: =+'P. Adecuación'!D10 -> m2 | E12: =+'P. Adecuación'!E10 -> 488.57 | F12: =+'P. Adecuación'!G10*1.3 -> 23123102 | G12: =+F12/2 -> 11561551 | H12: =+G12 -> 11561551
B13: 1.5 | C13: =+'P. Adecuación'!C11 -> DESMONTES (PUERTAS) | D13: =+'P. Adecuación'!D11 -> und | E13: =+'P. Adecuación'!E11 -> 2 | F13: =+'P. Adecuación'!G11*1.3 -> 90207 | G13: =+F13/2 -> 45103.5 | H13: =+G13 -> 45103.5
B14: =+'P. Adecuación'!B12 -> 2. | C14: =+'P. Adecuación'!C12 -> OBRAS DE URBANISMO
B15: =+'P. Adecuación'!B13 -> 2.1 | C15: =+'P. Adecuación'!C13 -> RAMPA EN CONCRETO 3000 PSI; E=0,10mts | D15: =+'P. Adecuación'!D13 -> m2 | E15: =+'P. Adecuación'!E13 -> 2.1602502 | F15: =+'P. Adecuación'!G13*1.3 -> 163006.43 | H15: =+F15/2 -> 81503.214 | I15: =+H15 -> 81503.214
B16: =+'P. Adecuación'!B14 -> 3. | C16: =+'P. Adecuación'!C14 -> OBRAS EN CUBIERTA
B17: =+'P. Adecuación'!B15 -> 3.1 | C17: =+'P. Adecuación'!C15 -> CUBIERTA EN TEJA ARQUITECTONICA ACESCO O SIMILAR | D17: =+'P. Adecuación'!D15 -> m2 | E17: =+'P. Adecuación'!E15 -> 583.46 | F17: =+'P. Adecuación'!G15*1.3 -> 44153686 | J17: =+F17/4 -> 11038421 | K17: =+J17 -> 11038421 | L17: =+K17 -> 11038421 | M17: =+L17 -> 11038421
B18: =+'P. Adecuación'!B16 -> 3.2 | C18: =+'P. Adecuación'!C16 -> IMPERMEABILIZACION DE PLACA EN MANTO EDIL 3 MM STANDAR INCL. IMPRIMANTE Y PINTURA BITUMINOSA | D18: =+'P. Adecuación'!D16 -> m2 | E18: =+'P. Adecuación'!E16 -> 183.25 | F18: =+'P. Adecuación'!G16*1.3 -> 11371909 | I18: =+F18/4 -> 2842977.1 | J18: =+F18/4 -> 2842977.1 | K18: =+J18 -> 2842977.1 | L18: =+K18 -> 2842977.1
B19: =+'P. Adecuación'!B17 -> 3.3 | C19: =+'P. Adecuación'!C17 -> MEDIACAÑA EN MORTERO 1:4 | D19: =+'P. Adecuación'!D17 -> ml | E19: =+'P. Adecuación'!E17 -> 151.9 | F19: =+'P. Adecuación'!G17*1.3 -> 4106783.6 | I19: =+F19/4 -> 1026695.9 | J19: =+F19/4 -> 1026695.9 | K19: =+J19 -> 1026695.9 | L19: =+K19 -> 1026695.9
B20: =+'P. Adecuación'!B19 -> 4. | C20: =+'P. Adecuación'!C19 -> MAMPOSTERIA Y PINTURA
B21: =+'P. Adecuación'!B20 -> 4.1 | C21: =+'P. Adecuación'!C20 -> PAÑETE LISO MUROS 1:4 | D21: =+'P. Adecuación'!D20 -> m2 | E21: =+'P. Adecuación'!E20 -> 482.45 | F21: =+'P. Adecuación'!G20*1.3 -> 17710450 | M21: =+F21/4 -> 4427612.5 | N21: =+M21 -> 4427612.5 | O21: =+N21 -> 4427612.5 | P21: =+O21 -> 4427612.5
B22: =+'P. Adecuación'!B21 -> 4.2 | C22: =+'P. Adecuación'!C21 -> PAÑETE IMPERMEABILIZADO 1:3 | D22: =+'P. Adecuación'!D21 -> m2 | E22: =+'P. Adecuación'!E21 -> 81.53 | F22: =+'P. Adecuación'!G21*1.3 -> 3560594.5 | M22: =+F22/4 -> 890148.62 | N22: =+M22 -> 890148.62 | O22: =+N22 -> 890148.62 | P22: =+O22 -> 890148.62
B23: =+'P. Adecuación'!B22 -> 4.3 | C23: =+'P. Adecuación'!C22 -> FILOS Y DILATACIONES EN PAÑETES | D23: =+'P. Adecuación'!D22 -> m2 | E23: =+'P. Adecuación'!E22 -> 1335.88 | F23: =+'P. Adecuación'!G22*1.3 -> 10168051 | M23: =+F23/4 -> 2542012.7 | N23: =+M23 -> 2542012.7 | O23: =+N23 -> 2542012.7 | P23: =+O23 -> 2542012.7
B24: =+'P. Adecuación'!B23 -> 4.4 | C24: =+'P. Adecuación'!C23 -> ESTUCO Y VINILO TRES MANOS EN MUROS (COLOR) | D24: =+'P. Adecuación'!D23 -> m2 | E24: =+'P. Adecuación'!E23 -> 239.36 | F24: =+'P. Adecuación'!G23*1.3 -> 12507398 | M24: =+F24/4 -> 3126849.4 | N24: =+M24 -> 3126849.4 | O24: =+N24 -> 3126849.4 | P24: =+O24 -> 3126849.4
B25: =+'P. Adecuación'!B24 -> 4.5 | C25: =+'P. Adecuación'!C24 -> PINTURA FACHADA EN VINILO PARA EXTERIORES | D25: =+'P. Adecuación'!D24 -> m2 | E25: =+'P. Adecuación'!E24 -> 81.53 | F25: =+'P. Adecuación'!G24*1.3 -> 4848678.8 | M25: =+F25/4 -> 1212169.7 | N25: =+M25 -> 1212169.7 | O25: =+N25 -> 1212169.7 | P25: =+O25 -> 1212169.7
B26: =+'P. Adecuación'!B25 -> 5. | C26: =+'P. Adecuación'!C25 -> PISOS Y CIELO RASO
B27: =+'P. Adecuación'!B26 -> 5.1 | C27: =+'P. Adecuación'!C26 -> ALISTADO PISO 1:5 E=0.04 M | D27: =+'P. Adecuación'!D26 -> m2 | E27: =+'P. Adecuación'!E26 -> 380.37 | F27: =+'P. Adecuación'!G26*1.3 -> 15581591 | K27: =+F27/4 -> 3895397.7 | L27: =+K27 -> 3895397.7 | M27: =+L27 -> 3895397.7 | N27: =+M27 -> 3895397.7
B28: =+'P. Adecuación'!B27 -> 5.2 | C28: =+'P. Adecuación'!C27 -> SUMINISTRO E INSTALACIÓN DE BALDOSIN 20 X 20 CM LINEA INSTITUCIONAL O SIMILAR BLANCO | D28: =+'P. Adecuación'!D27 -> m2 | E28: =+'P. Adecuación'!E27 -> 5.3 | F28: =+'P. Adecuación'!G27*1.3 -> 507531.18 | K28: =+F28/4 -> 126882.79 | L28: =+K28 -> 126882.79 | M28: =+L28 -> 126882.79 | N28: =+M28 -> 126882.79
B29: =+'P. Adecuación'!B28 -> 5.3 | C29: =+'P. Adecuación'!C28 -> GUARDAESCOBA MEDIA CAÑA EN GRANITO PULIDO | D29: =+'P. Adecuación'!D28 -> ml | E29: =+'P. Adecuación'!E28 -> 151.9 | F29: =+'P. Adecuación'!G28*1.3 -> 7810333.4 | K29: =+F29/4 -> 1952583.4 | L29: =+K29 -> 1952583.4 | M29: =+L29 -> 1952583.4 | N29: =+M29 -> 1952583.4
B30: =+'P. Adecuación'!B29 -> 5.4 | C30: =+'P. Adecuación'!C29 -> PISO PORCELANATO 60 X 60 CM PRIMERA CALIDAD O SIMILAR | D30: =+'P. Adecuación'!D29 -> m2 | E30: =+'P. Adecuación'!E29 -> 380.37 | F30: =+'P. Adecuación'!G29*1.3 -> 62676456 | K30: =+F30/4 -> 15669114 | L30: =+K30 -> 15669114 | M30: =+L30 -> 15669114 | N30: =+M30 -> 15669114
B31: =+'P. Adecuación'!B30 -> 5.5 | C31: =+'P. Adecuación'!C30 -> CIELO RASO EN PVC (INCLUYE ESTRUCTURA DE SOPORTE Y TODOS LOS ELEMENTOS NECESARIOS PARA SU CORRECTA INSTALACIÓN) | D31: =+'P. Adecuación'!D30 -> m2 | E31: =+'P. Adecuación'!E30 -> 488.57 | F31: =+'P. Adecuación'!G30*1.3 -> 64627502 | K31: =+F31/4 -> 16156876 | L31: =+K31 -> 16156876 | M31: =+L31 -> 16156876 | N31: =+M31 -> 16156876
B32: =+'P. Adecuación'!B31 -> 6. | C32: =+'P. Adecuación'!C31 -> ENCHAPES Y ACCESORIOS BAÑOS
B33: =+'P. Adecuación'!B32 -> 6.1 | C33: =+'P. Adecuación'!C32 -> CERAMICA PARED (INCLUYE BOQUILLA COLOR, WING Y LINEALES) | D33: =+'P. Adecuación'!D32 -> m2 | E33: =+'P. Adecuación'!E32 -> 87.05 | F33: =+'P. Adecuación'!G32*1.3 -> 7379602.8 | K33: =+F33/4 -> 1844900.7 | L33: =+K33 -> 1844900.7 | M33: =+L33 -> 1844900.7 | N33: =+M33 -> 1844900.7
B34: =+'P. Adecuación'!B33 -> 6.2 | C34: =+'P. Adecuación'!C33 -> CERAMICA PISO 33 X 33 CM LINEA INSTITUCIONAL O SIMILAR (INCLUYE BOQUILLA COLOR, LINEALES) | D34: =+'P. Adecuación'!D33 -> m2 | E34: =+'P. Adecuación'!E33 -> 108.81 | F34: =+'P. Adecuación'!G33*1.3 -> 12938423 | K34: =+F34/4 -> 3234605.8 | L34: =+K34 -> 3234605.8 | M34: =+L34 -> 3234605.8 | N34: =+M34 -> 3234605.8
B35: =+'P. Adecuación'!B34 -> 6.3 | C35: =+'P. Adecuación'!C34 -> SUMINISTRO E INSTALACIÓN DE SANITARIO LINEA INSTITUCIONAL O SIMILAR (INCLUYE TODOS LOS ACCESORIOS NECESARIOS PARA SU CORRECTO FUNCIONAMIENTO) | D35: =+'P. Adecuación'!D34 -> und | E35: =+'P. Adecuación'!E34 -> 8 | F35: =+'P. Adecuación'!G34*1.3 -> 4051299.2 | P35: =+F35/3 -> 1350433.1 | Q35: =+P35 -> 1350433.1 | R35: =+Q35 -> 1350433.1
B36: =+'P. Adecuación'!B35 -> 6.4 | C36: =+'P. Adecuación'!C35 -> SUMINISTRO E INSTALACIÓN DE LAVAMANOS LINEA INSTITUCIONAL O SIMILAR (INCLUYE GRIFO Y TODOS LOS ACCESORIOS NECESARIOS PARA SU CORRECTO FUNCIONAMIENTO) | D36: =+'P. Adecuación'!D35 -> und | E36: =+'P. Adecuación'!E35 -> 8 | F36: =+'P. Adecuación'!G35*1.3 -> 2934089.6 | P36: =+F36/3 -> 978029.87 | Q36: =+P36 -> 978029.87 | R36: =+Q36 -> 978029.87
B37: =+'P. Adecuación'!B36 -> 6.5 | C37: =+'P. Adecuación'!C36 -> SUMINISTRO E INSTALACIÓN DE PROTECTOR DE PAPEL HIGIENICO (INCLUYE TODOS LOS ACCESORIOS NECESARIOS PARA SU CORRECTO FUNCIONAMIENTO) | D37: =+'P. Adecuación'!D36 -> und | E37: =+'P. Adecuación'!E36 -> 8 | F37: =+'P. Adecuación'!G36*1.3 -> 954210.4 | P37: =+F37/3 -> 318070.13 | Q37: =+P37 -> 318070.13 | R37: =+Q37 -> 318070.13
B38: =+'P. Adecuación'!B37 -> 6.6 | C38: =+'P. Adecuación'!C37 -> SUMINISTRO E INSTALACIÓN DE TOALLERO (INCLUYE TODOS LOS ACCESORIOS NECESARIOS PARA SU CORRECTO FUNCIONAMIENTO) | D38: =+'P. Adecuación'!D37 -> und | E38: =+'P. Adecuación'!E37 -> 8 | F38: =+'P. Adecuación'!G37*1.3 -> 589170.4 | P38: =+F38/3 -> 196390.13 | Q38: =+P38 -> 196390.13 | R38: =+Q38 -> 196390.13
B39: =+'P. Adecuación'!B38 -> 6.7 | C39: =+'P. Adecuación'!C38 -> LAVAPLATOS A.INOX. 100 X 60CM (INCLUYE GRIFO Y TODOS LOS ACCESORIOS NECESARIOS PARA SU CORRECTO FUNCIONAMIENTO) | D39: =+'P. Adecuación'!D38 -> und | E39: =+'P. Adecuación'!E38 -> 2 | F39: =+'P. Adecuación'!G38*1.3 -> 833118 | P39: =+F39/3 -> 277706 | Q39: =+P39 -> 277706 | R39: =+Q39 -> 277706
B40: =+'P. Adecuación'!B39 -> 7. | C40: =+'P. Adecuación'!C39 -> SUMINISTRO E INSTALACIÓN DE CARPINTERIA
B41: =+'P. Adecuación'!B40 -> 7.1 | C41: =+'P. Adecuación'!C40 -> MUEBLE SENCILLO EN MADERA | D41: =+'P. Adecuación'!D40 -> ml | E41: =+'P. Adecuación'!E40 -> 4.45 | F41: =+'P. Adecuación'!G40*1.3 -> 4407851.8 | O41: =+F41/3 -> 1469283.9 | P41: =+O41 -> 1469283.9 | Q41: =+P41 -> 1469283.9
B42: =+'P. Adecuación'!B41 -> 7.2 | C42: =+'P. Adecuación'!C41 -> PUERTAS LAMINA CON MARCO CAL. 18, INCL. ANTICORROSIVO Y ACABADO EN ESMALTE, INCLUYE CERRADURA E INSTALACION. | D42: =+'P. Adecuación'!D41 -> und | E42: =+'P. Adecuación'!E41 -> 2 | F42: =+'P. Adecuación'!G41*1.3 -> 1185641.6 | O42: =+F42/3 -> 395213.87 | P42: =+O42 -> 395213.87 | Q42: =+P42 -> 395213.87
...

Sheet 1.1
I1: SISTEMA INTEGRADO DE GESTIÓN | AL1: CÓDIGO: GPL-FO-024
AL2: VERSIÓN:01
I3: MEMORIAS DE CÁLCULO DE OBRA | AL3: PÁGINA: 1 DE 1
A4: FECHA | F4: DD | H4: 24 | J4: MM | L4: 3 | N4: AA | P4: 2024 | U4: CORTE N° | AG4: ELABORÓ
A5: OBJETO DEL CONTRATO | I5: ADECUACIÓN Y REMODELACIÓN DEL PUESTO DE SALUD DEL CORREGIMIENTO DE LA VICTORIA DE SAN ISIDRO DEL MUNICIPIO DE LA JAGUA DE IBIRICO, CESAR
A6: INTERVENTOR | AE6: NIT O C.C. | AJ6: CONTRATO DE INTERVENTORIA N°
A7: CONTRATISTA | AE7: NIT O C.C. | AJ7: CONTRATO DE OBRA N°
A9: 1.2 | H9: PRELIMINARES | U9: ITEM | AE9: =+'P. Adecuación'!C7 -> DEMOLICIONES (PISOS) | AJ9: UNID. | AK9: M2 | AL9: UBICACIÓN | AM9: GENERAL
AG10: Fecha | AI10: Localización | AJ10: Dimensiones | AM10: Área | AN10: Medida Total
AJ11: Ancho | AL11: Longitud
AI13: OBSERVACION HOMBRE | AJ13: 3.65 | AL13: 6.45 | AN13: =+AL13*AJ13 -> 23.5425 | AO13: 380.37
AI14: OBSERCACION MUJERES | AJ14: 3.43 | AL14: 6.45 | AN14: =+AL14*AJ14 -> 22.1235
AI15: SALA ESPERA Y TRIAGE | AJ15: 5.73 | AL15: 6.45 | AN15: =+AL15*AJ15 -> 36.9585
AI16: TOMA DE MUESTRAS PASILLO | AJ16: 8.08 | AL16: 4.22 | AN16: =+AL16*AJ16 -> 34.0976
AI17: FACTURACION ARCHIVO | AJ17: 1.84 | AL17: 6 | AN17: =+AL17*AJ17 -> 11.04
AI18: ODONTOLOGIA Y RX | AJ18: 3.7 | AL18: =+(1.1*0.72)+(2.25*2.3)+(3.7*3.65) -> 19.472 | AN18: =+AL18*AJ18 -> 72.0464 | AO18: =+AO13-AN28 -> 380.37
AI19: CONSULTORIO ESPECIALISTAS | AJ19: 3.18 | AL19: 3.15 | AN19: =+AL19*AJ19 -> 10.017
AI20: PUERPERIO | AJ20: 4.75 | AL20: 5.85 | AN20: =+AL20*AJ20 -> 27.7875
AI21: SALA DE PARTO Y BAÑOS | AJ21: =5.05+4.75 -> 9.8 | AL21: 3.6 | AN21: =+AL21*AJ21 -> 35.28
AI22: RESIDUOS HOSPITALARIOS, TRABAJO LIMPIO ALMACEN | AJ22: 8.86 | AL22: 1.2 | AN22: =+AL22*AJ22 -> 10.632
AI23: ESTACION Y DORMITORIO ENFERMERIA | AJ23: 7.23 | AL23: 6.1 | AN23: =+AL23*AJ23 -> 44.103
AI24: SALA DE ACOMPAÑANTES | AJ24: 13.52 | AL24: 2 | AN24: =+AL24*AJ24 -> 27.04
AI25: TRABAJO PARTO | AJ25: =6.83+1.13 -> 7.96 | AL25: 3.2288945 | AN25: =+AL25*AJ25 -> 25.702
AN26: =+AL26*AJ26 -> 0
AG43: Subtotal | AN43: =+AO18 -> 380.37
AG45: TOTAL | AN45: =ROUND(SUM(AN43:AN44),2) -> 380.37
AI52: MAHER SANTOS
AI53: ARQUITECTO No. T.P A17732023-106117224
AI54: MUNICIPIO DE LA JAGUA DE IBIRICO, CESAR

Sheet 1.2
I1: SISTEMA INTEGRADO DE GESTIÓN | AL1: CÓDIGO: GPL-FO-024
AL2: VERSIÓN:01
I3: MEMORIAS DE CÁLCULO DE OBRA | AL3: PÁGINA: 1 DE 1
A4: FECHA | F4: DD | H4: 24 | J4: MM | L4: 3 | N4: AA | P4: 2024 | U4: CORTE N° | AG4: ELABORÓ
A5: OBJETO DEL CONTRATO | I5: ADECUACIÓN Y REMODELACIÓN DEL PUESTO DE SALUD DEL CORREGIMIENTO DE LA VICTORIA DE SAN ISIDRO DEL MUNICIPIO DE LA JAGUA DE IBIRICO, CESAR
A6: INTERVENTOR | AE6: NIT O C.C. | AJ6: CONTRATO DE INTERVENTORIA N°
A7: CONTRATISTA | AE7: NIT O C.C. | AJ7: CONTRATO DE OBRA N°
A9: 1.3 | H9: PRELIMINARES | U9: ITEM | AE9: =+'P. Adecuación'!C8 -> DESMONTES (VENTANAS) | AJ9: UNID. | AK9: UND | AL9: UBICACIÓN | AM9: GENERAL
AG10: Fecha | AI10: Localización | AJ10: Dimensiones | AM10: Área | AN10: Medida Total
AJ11: Ancho | AK11: Alto | AL11: Longitud
AI13: VENTANAS | AN13: 23
AG37: Subtotal | AN37: =SUM(AN12:AN36) -> 23
AG39: TOTAL | AN39: =ROUND(SUM(AN37:AN38),2) -> 23
AI46: MAHER SANTOS
AI47: ARQUITECTO No. T.P A17732023-106117224
AI48: MUNICIPIO DE LA JAGUA DE IBIRICO, CESAR

Sheet 1.3
I1: SISTEMA INTEGRADO DE GESTIÓN | AL1: CÓDIGO: GPL-FO-024
AL2: VERSIÓN:01
I3: MEMORIAS DE CÁLCULO DE OBRA | AL3: PÁGINA: 1 DE 1
A4: FECHA | F4: DD | H4: 24 | J4: MM | L4: 3 | N4: AA | P4: 2024 | U4: CORTE N° | AG4: ELABORÓ
A5: OBJETO DEL CONTRATO | I5: ADECUACIÓN Y REMODELACIÓN DEL PUESTO DE SALUD DEL CORREGIMIENTO DE LA VICTORIA DE SAN ISIDRO DEL MUNICIPIO DE LA JAGUA DE IBIRICO, CESAR
A6: INTERVENTOR | AE6: NIT O C.C. | AJ6: CONTRATO DE INTERVENTORIA N°
A7: CONTRATISTA | AE7: NIT O C.C. | AJ7: CONTRATO DE OBRA N°
A9: 1.3 | H9: PRELIMINARES | U9: ITEM | AE9: =+'P. Adecuación'!C9 -> DESMONTE DE APARATOS SANITARIOS, LAVAMANOS Y LAVAPLATOS | AJ9: UNID. | AK9: und | AL9: UBICACIÓN | AM9: GENERAL
AG10: Fecha | AI10: Localización | AJ10: Dimensiones | AM10: Área | AN10: Medida Total
AJ11: Ancho | AK11: Alto | AL11: Longitud
AI13: Sanitarios | AM13: 8 | AN13: =+AM13 -> 8
AI14: Lavamanos | AM14: 12 | AN14: =+AM14 -> 12
AG34: Subtotal | AN34: =SUM(AN12:AN33) -> 20
AG36: TOTAL | AN36: =ROUND(SUM(AN34:AN35),2) -> 20
AI44: ARQUITECTO No. T.P A17732023-106117224
AI45: MUNICIPIO DE LA JAGUA DE IBIRICO, CESAR

Sheet 1.4
I1: SISTEMA INTEGRADO DE GESTIÓN | AL1: CÓDIGO: GPL-FO-024
AL2: VERSIÓN:01
I3: MEMORIAS DE CÁLCULO DE OBRA | AL3: PÁGINA: 1 DE 1
A4: FECHA | F4: DD | H4: 24 | J4: MM | L4: 3 | N4: AA | P4: 2024 | U4: CORTE N° | AG4: ELABORÓ
A5: OBJETO DEL CONTRATO | I5: ADECUACIÓN Y REMODELACIÓN DEL PUESTO DE SALUD DEL CORREGIMIENTO DE LA VICTORIA DE SAN ISIDRO DEL MUNICIPIO DE LA JAGUA DE IBIRICO, CESAR
A6: INTERVENTOR | AE6: NIT O C.C. | AJ6: CONTRATO DE INTERVENTORIA N°
A7: CONTRATISTA | AE7: NIT O C.C. | AJ7: CONTRATO DE OBRA N°
A9: 1.3 | H9: PRELIMINARES | U9: ITEM | AE9: =+'P. Adecuación'!C10 -> DESMONTES (CIELO RASOS) | AJ9: UNID. | AK9: M2 | AL9: UBICACIÓN | AM9: GENERAL
AG10: Fecha | AI10: Localización | AJ10: Dimensiones | AM10: Área | AN10: Medida Total
AJ11: Ancho | AK11: Alto | AL11: Longitud
AI16: CIELO RASO 1 | AJ16: 3.63 | AL16: 4.95 | AM16: =+AL16*AJ16 -> 17.9685 | AN16: =+AM16+AM17 -> 76.24
AJ17: 7.65 | AL17: 7.6171895 | AM17: =+AJ17*AL17 -> 58.2715
AI19: CIELO RASO 2 | AJ19: 2.1 | AL19: 6.1 | AM19: =+AL19*AJ19 -> 12.81 | AN19: =+AM20+AM19 -> 62.18
AJ20: 7.52 | AL20: 6.5651596 | AM20: =+AL20*AJ20 -> 49.37
AI22: CIELO RASO 3 | AJ22: 5.05 | AL22: 9.42 | AM22: =+AL22*AJ22 -> 47.571 | AN22: =+AM22+AM23 -> 87.42
AJ23: 6.149537 | AL23: 6.48 | AM23: =+AL23*AJ23 -> 39.849
AI25: CIELO RASO 4 | AJ25: 2.6 | AL25: 7.53 | AM25: =+AL25*AJ25 -> 19.578 | AN25: =+AM26+AM25 -> 67.92
AJ26: 5.78 | AL26: 8.3636678 | AM26: =+AL26*AJ26 -> 48.342
AI28: CIELO RASO 5 | AJ28: 4.3495192 | AL28: 20.8 | AN28: =+AJ28*AL28 -> 90.47
AI29: CIELO RASO 6 | AJ29: 10.458113 | AL29: 5.3 | AM29: =+AL29*AJ29 -> 55.428 | AN29: =+AM29+AM30+AM31 -> 69.71
AJ30: 3.23 | AL30: 3.4 | AM30: =+AL30*AJ30 -> 10.982
AJ31: 1.2 | AL31: 2.75 | AM31: =+AL31*AJ31 -> 3.3
AI32: CIELO RASO 7 | AJ32: 6.73 | AL32: 5.1456166 | AN32: =+AL32*AJ32 -> 34.63
AG38: Subtotal | AN38: =SUM(AN12:AN37) -> 488.57
AG40: TOTAL | AN40: =ROUND(SUM(AN38:AN39),2) -> 488.57
AI47: MAHER SANTOS
AI48: ARQUITECTO No. T.P A17732023-106117224
AI49: MUNICIPIO DE LA JAGUA DE IBIRICO, CESAR

Sheet 1.5
I1: SISTEMA INTEGRADO DE GESTIÓN | AL1: CÓDIGO: GPL-FO-024
AL2: VERSIÓN:01
I3: MEMORIAS DE CÁLCULO DE OBRA | AL3: PÁGINA: 1 DE 1
A4: FECHA | F4: DD | H4: 24 | J4: MM | L4: 3 | N4: AA | P4: 2024 | U4: CORTE N° | AG4: ELABORÓ
A5: OBJETO DEL CONTRATO | I5: ADECUACIÓN Y REMODELACIÓN DEL PUESTO DE SALUD DEL CORREGIMIENTO DE LA VICTORIA DE SAN ISIDRO DEL MUNICIPIO DE LA JAGUA DE IBIRICO, CESAR
A6: INTERVENTOR | AE6: NIT O C.C. | AJ6: CONTRATO DE INTERVENTORIA N°
A7: CONTRATISTA | AE7: NIT O C.C. | AJ7: CONTRATO DE OBRA N°
A9: 1.3 | H9: PRELIMINARES | U9: ITEM | AE9: =+'P. Adecuación'!C11 -> DESMONTES (PUERTAS) | AJ9: UNID. | AK9: UND | AL9: UBICACIÓN | AM9: GENERAL
AG10: Fecha | AI10: Localización | AJ10: Dimensiones | AM10: Área | AN10: Medida Total
AJ11: Ancho | AK11: Alto | AL11: Longitud
AI13: PUERTAS | AN13: 2
AL15: 0
AG32: Subtotal | AN32: =SUM(AN12:AN31) -> 2
AG34: TOTAL | AN34: =ROUND(SUM(AN32:AN33),2) -> 2
AK41: MAHER SANTOS
AI42: INGENIERO CIVIL No. T.P A17732023-106117224
AJ43: LA JAGUA DE IBIRICO CESAR

Sheet 2.1
I1: SISTEMA INTEGRADO DE GESTIÓN | AL1: CÓDIGO: GPL-FO-024
AL2: VERSIÓN:01
I3: MEMORIAS DE CÁLCULO DE OBRA | AL3: PÁGINA: 1 DE 1
A4: FECHA | F4: DD | H4: 24 | J4: MM | L4: 3 | N4: AA | P4: 2024 | U4: CORTE N° | AG4: ELABORÓ
A5: OBJETO DEL CONTRATO | I5: ADECUACIÓN Y REMODELACIÓN DEL PUESTO DE SALUD DEL CORREGIMIENTO DE LA VICTORIA DE SAN ISIDRO DEL MUNICIPIO DE LA JAGUA DE IBIRICO, CESAR
A6: INTERVENTOR | AE6: NIT O C.C. | AJ6: CONTRATO DE INTERVENTORIA N°
A7: CONTRATISTA | AE7: NIT O C.C. | AJ7: CONTRATO DE OBRA N°
A9: 2.1 | H9: OBRAS DE URBANISMO | U9: ITEM | AE9: =+'P. Adecuación'!C13 -> RAMPA EN CONCRETO 3000 PSI; E=0,10mts | AJ9: UNID. | AK9: M2 | AL9: UBICACIÓN | AM9: GENERAL
AG10: Fecha | AI10: Localización | AJ10: Dimensiones | AM10: Área | AN10: Medida Total
AJ11: Ancho | AK11: Alto | AL11: Longitud
AI13: Rampa acceso 1 | AJ13: 1.200139 | AL13: 1.8 | AN13: =+AJ13*AL13 -> 2.1602502
AO15: 2.1602502
AO16: =+AN13-AO15 -> 0
AG43: Subtotal | AN43: =SUM(AN12:AN42) -> 2.1602502
AG45: TOTAL | AN45: =ROUND(SUM(AN43:AN44),2) -> 2.16
AI52: MAHER SANTOS
AI53: ARQUITECTO No. T.P A17732023-106117224
AI54: MUNICIPIO DE LA JAGUA DE IBIRICO, CESAR

Sheet 3.1
I1: SISTEMA INTEGRADO DE GESTIÓN | AL1: CÓDIGO: GPL-FO-024
AL2: VERSIÓN:01
I3: MEMORIAS DE CÁLCULO DE OBRA | AL3: PÁGINA: 1 DE 1
A4: FECHA | F4: DD | H4: 24 | J4: MM | L4: 3 | N4: AA | P4: 2024 | U4: CORTE N° | AG4: ELABORÓ
A5: OBJETO DEL CONTRATO | I5: ADECUACIÓN Y REMODELACIÓN DEL PUESTO DE SALUD DEL CORREGIMIENTO DE LA VICTORIA DE SAN ISIDRO DEL MUNICIPIO DE LA JAGUA DE IBIRICO, CESAR
A6: INTERVENTOR | AE6: NIT O C.C. | AJ6: CONTRATO DE INTERVENTORIA N°
A7: CONTRATISTA | AE7: NIT O C.C. | AJ7: CONTRATO DE OBRA N°
A9: 3.1 | H9: OBRAS EN CUBIERTA | U9: ITEM | AE9: =+'P. Adecuación'!C15 -> CUBIERTA EN TEJA ARQUITECTONICA ACESCO O SIMILAR | AJ9: UNID. | AK9: M2 | AL9: UBICACIÓN | AM9: GENERAL
AG10: Fecha | AI10: Localización | AJ10: Dimensiones | AM10: Área | AN10: Medida Total
AJ11: Ancho | AK11: Alto | AL11: Longitud
AI13: CIELO RASO 1 | AJ13: 3.63 | AL13: 4.95 | AM13: =+AL13*AJ13 -> 17.9685 | AN13: =+AM13+AM14 -> 76.24
AJ14: 7.65 | AL14: 7.6171895 | AM14: =+AJ14*AL14 -> 58.2715
AI16: CIELO RASO 2 | AJ16: 2.1 | AL16: 6.1 | AM16: =+AL16*AJ16 -> 12.81 | AN16: =+AM17+AM16 -> 62.18
AJ17: 7.52 | AL17: 6.5651596 | AM17: =+AL17*AJ17 -> 49.37
AI19: CIELO RASO 3 | AJ19: 5.05 | AL19: 9.42 | AM19: =+AL19*AJ19 -> 47.571 | AN19: =+AM19+AM20 -> 87.42
AJ20: 6.149537 | AL20: 6.48 | AM20: =+AL20*AJ20 -> 39.849
AI22: CIELO RASO 4 | AJ22: 2.6 | AL22: 7.53 | AM22: =+AL22*AJ22 -> 19.578 | AN22: =+AM23+AM22 -> 67.92
AJ23: 5.78 | AL23: 8.3636678 | AM23: =+AL23*AJ23 -> 48.342
AI25: CIELO RASO 5 | AJ25: 4.3495192 | AL25: 20.8 | AN25: =+AJ25*AL25 -> 90.47
AI26: CIELO RASO 6 | AJ26: 10.458113 | AL26: 5.3 | AM26: =+AL26*AJ26 -> 55.428 | AN26: =+AM26+AM27+AM28 -> 69.71
AJ27: 3.23 | AL27: 3.4 | AM27: =+AL27*AJ27 -> 10.982
AJ28: 1.2 | AL28: 2.75 | AM28: =+AL28*AJ28 -> 3.3
AI29: CIELO RASO 7 | AJ29: 6.73 | AL29: 5.1456166 | AN29: =+AL29*AJ29 -> 34.63
AI39: Cubierta entrada | AJ39: 11.033511 | AL39: 8.6 | AN39: =+AL39*AJ39 -> 94.888191
AG43: Subtotal | AN43: =SUM(AN12:AN42) -> 583.45819
AG45: TOTAL | AN45: =ROUND(SUM(AN43:AN44),2) -> 583.46 | AO45: 583.46 | AP45: =+AN45-AO45 -> 0
AI52: MAHER SANTOS
AI53: ARQUITECTO No. T.P A17732023-106117224
AI54: MUNICIPIO DE LA JAGUA DE IBIRICO, CESAR

Sheet 3.2
I1: SISTEMA INTEGRADO DE GESTIÓN | AL1: CÓDIGO: GPL-FO-024
AL2: VERSIÓN:01
I3: MEMORIAS DE CÁLCULO DE OBRA | AL3: PÁGINA: 1 DE 1
A4: FECHA | F4: DD | H4: 24 | J4: MM | L4: 3 | N4: AA | P4: 2024 | U4: CORTE N° | AG4: ELABORÓ
A5: OBJETO DEL CONTRATO | I5: ADECUACIÓN Y REMODELACIÓN DEL PUESTO DE SALUD DEL CORREGIMIENTO DE LA VICTORIA DE SAN ISIDRO DEL MUNICIPIO DE LA JAGUA DE IBIRICO, CESAR
A6: INTERVENTOR | AE6: NIT O C.C. | AJ6: CONTRATO DE INTERVENTORIA N°
A7: CONTRATISTA | AE7: NIT O C.C. | AJ7: CONTRATO DE OBRA N°
A9: 3.2 | H9: OBRAS EN CUBIERTA | U9: ITEM | AE9: =+'P. Adecuación'!C16 -> IMPERMEABILIZACION DE PLACA EN MANTO EDIL 3 MM STANDAR INCL. IMPRIMANTE Y PINTURA BITUMINOSA | AJ9: UNID. | AK9: M2 | AL9: UBICACIÓN | AM9: GENERAL
AG10: Fecha | AI10: Localización | AJ10: Dimensiones | AM10: Área | AN10: Medida Total
AJ11: Ancho | AK11: Alto | AL11: Longitud
AI14: Placa en concreto | AJ14: 27.18 | AL14: 2.15 | AM14: =+AL14*AJ14 -> 58.437 | AN14: =+SUM(AM14:AM22) -> 183.25
AJ15: 2.85 | AL15: 0.65 | AM15: =+AL15*AJ15 -> 1.8525
AJ16: 3.18 | AL16: 0.5 | AM16: =+AL16*AJ16 -> 1.59
AJ17: 2.75 | AL17: 2 | AM17: =+AL17*AJ17 -> 5.5
AJ19: 2.6 | AL19: 8.1 | AM19: =+AL19*AJ19 -> 21.06
AJ20: 14.32205 | AL20: 2 | AM20: =+AL20*AJ20 -> 28.6441 | AO20: =+AN14-AM35 -> 183.25
AJ21: 3.18 | AL21: 6.48 | AM21: =+AL21*AJ21 -> 20.6064
AJ22: 2 | AL22: 22.78 | AM22: =+AL22*AJ22 -> 45.56
AG44: Subtotal | AN44: =SUM(AN12:AN43) -> 183.25
AG46: TOTAL | AN46: =ROUND(SUM(AN44:AN45),2) -> 183.25
AI53: MAHER SANTOS
AI54: ARQUITECTO No. T.P A17732023-106117224
AI55: MUNICIPIO DE LA JAGUA DE IBIRICO, CESAR

Sheet 3.3
I1: SISTEMA INTEGRADO DE GESTIÓN | AL1: CÓDIGO: GPL-FO-024
AL2: VERSIÓN:01
I3: MEMORIAS DE CÁLCULO DE OBRA | AL3: PÁGINA: 1 DE 1
A4: FECHA | F4: DD | H4: 24 | J4: MM | L4: 3 | N4: AA | P4: 2024 | U4: CORTE N° | AG4: ELABORÓ
A5: OBJETO DEL CONTRATO | I5: ADECUACIÓN Y REMODELACIÓN DEL PUESTO DE SALUD DEL CORREGIMIENTO DE LA VICTORIA DE SAN ISIDRO DEL MUNICIPIO DE LA JAGUA DE IBIRICO, CESAR
A6: INTERVENTOR | AE6: NIT O C.C. | AJ6: CONTRATO DE INTERVENTORIA N°
A7: CONTRATISTA | AE7: NIT O C.C. | AJ7: CONTRATO DE OBRA N°
A9: 3.3 | H9: OBRAS EN CUBIERTA | U9: ITEM | AE9: =+'P. Adecuación'!C17 -> MEDIACAÑA EN MORTERO 1:4 | AJ9: UNID. | AK9: ML | AL9: UBICACIÓN | AM9: GENERAL
AG10: Fecha | AI10: Localización | AJ10: Dimensiones | AM10: Área | AN10: Medida Total
AJ11: Ancho | AK11: Alto | AL11: Longitud
AI13: Placa en concreto | AK13: 0.5 | AL13: 2.15 | AN13: =+AL13 -> 2.15 | AO13: 151.9
AL14: 7.23 | AN14: =+AL14 -> 7.23
AL15: 2.85 | AN15: =+AL15 -> 2.85 | AO15: =+AO13-AL36 -> 151.9
AL16: 0.5 | AN16: =+AL16 -> 0.5
AL17: 11.6 | AN17: =+AL17 -> 11.6
AL18: 13.96 | AN18: =+AL18 -> 13.96
AL19: 2.6 | AN19: =+AL19 -> 2.6
AL20: 2 | AN20: =+AL20 -> 2
AL21: 2.75 | AN21: =+AL21 -> 2.75
AL22: 3.18 | AN22: =+AL22 -> 3.18
AL23: 0.5 | AN23: =+AL23 -> 0.5
AL24: 5.05 | AN24: =+AL24 -> 5.05
AL25: 22.78 | AN25: =+AL25 -> 22.78
AL26: 16.05 | AN26: =+AL26 -> 16.05
AL27: 2 | AN27: =+AL27 -> 2
... AL35: 9.78 | AN35: =+AL35 -> 9.78
AG43: Subtotal | AN43: =SUM(AN12:AN42) -> 151.9
AG45: TOTAL | AN45: =ROUND(SUM(AN43:AN44),2) -> 151.9
AI52: MAHER SANTOS
AI53: ARQUITECTO No. T.P A17732023-106117224
AI54: MUNICIPIO DE LA JAGUA DE IBIRICO, CESAR

Sheet 7.5
I1: SISTEMA INTEGRADO DE GESTIÓN | AL1: CÓDIGO: GPL-FO-024
AL2: VERSIÓN:01
I3: MEMORIAS DE CÁLCULO DE OBRA | AL3: PÁGINA: 1 DE 1
A4: FECHA | F4: DD | H4: 24 | J4: MM | L4: 3 | N4: AA | P4: 2024 | U4: CORTE N° | AG4: ELABORÓ
A5: OBJETO DEL CONTRATO | I5: ADECUACIÓN Y REMODELACIÓN DEL PUESTO DE SALUD DEL CORREGIMIENTO DE LA VICTORIA DE SAN ISIDRO DEL MUNICIPIO DE LA JAGUA DE IBIRICO, CESAR
A6: INTERVENTOR | AE6: NIT O C.C. | AJ6: CONTRATO DE INTERVENTORIA N°
A7: CONTRATISTA | AE7: NIT O C.C. | AJ7: CONTRATO DE OBRA N°
A9: 7.5 | H9: SUMINISTRO E INSTALACIÓN DE CARPINTERIA | U9: ITEM | AE9: =+'P. Adecuación'!C44 -> 0 | AJ9: UNID. | AK9: UND | AL9: UBICACIÓN | AM9: GENERAL
AG10: Fecha | AI10: Localización | AJ10: Dimensiones | AM10: Cantidad | AN10: Medida Total
AJ11: Ancho | AK11: Alto | AL11: Longitud
AI13: Puertas | AM13: 24 | AN13: =+AM13 -> 24
AG43: Subtotal | AN43: =SUM(AN12:AN42) -> 24
AG45: TOTAL | AN45: =ROUND(SUM(AN43:AN44),2) -> 24
AI52: MAHER SANTOS
AI53: ARQUITECTO No. T.P A17732023-106117224
AI54: MUNICIPIO DE LA JAGUA DE IBIRICO, CESAR

Sheet 4.1
I1: SISTEMA INTEGRADO DE GESTIÓN | AL1: CÓDIGO: GPL-FO-024
AL2: VERSIÓN:01
I3: MEMORIAS DE CÁLCULO DE OBRA | AL3: PÁGINA: 1 DE 1
A4: FECHA | F4: DD | H4: 24 | J4: MM | L4: 3 | N4: AA | P4: 2024 | U4: CORTE N° | AG4: ELABORÓ
A5: OBJETO DEL CONTRATO | I5: ADECUACIÓN Y REMODELACIÓN DEL PUESTO DE SALUD DEL CORREGIMIENTO DE LA VICTORIA DE SAN ISIDRO DEL MUNICIPIO DE LA JAGUA DE IBIRICO, CESAR
A6: INTERVENTOR | AE6: NIT O C.C. | AJ6: CONTRATO DE INTERVENTORIA N°
A7: CONTRATISTA | AE7: NIT O C.C. | AJ7: CONTRATO DE OBRA N°
A9: 4.1 | H9: MAMPOSTERIA Y PINTURA | U9: ITEM | AE9: =+'P. Adecuación'!C20 -> PAÑETE LISO MUROS 1:4 | AJ9: UNID. | AK9: M2 | AL9: UBICACIÓN | AM9: GENERAL
AG10: Fecha | AI10: Localización | AJ10: Dimensiones | AM10: Área | AN10: Medida Total
AJ11: Ancho | AK11: Alto | AL11: Longitud
AI13: Techo | AJ13: 27.18 | AL13: 2.15 | AM13: =+AL13*AJ13 -> 58.437 | AN13: =+AM13 -> 58.437 | AO13: 183.25
AJ14: 2.85 | AL14: 0.65 | AM14: =+AL14*AJ14 -> 1.8525 | AN14: =+AM14 -> 1.8525 | AO14: 299.2
AJ15: 3.18 | AL15: 0.5 | AM15: =+AL15*AJ15 -> 1.59 | AN15: =+AM15 -> 1.59 | AO15: =SUM(AO13:AO14) -> 482.45
AJ16: 2.75 | AL16: 2 | AM16: =+AL16*AJ16 -> 5.5 | AN16: =+AM16 -> 5.5
AO17: =+AO14-AM46 -> 299.2
AJ18: 2.6 | AL18: 8.1 | AM18: =+AL18*AJ18 -> 21.06 | AN18: =+AM18 -> 21.06
AJ19: 14.32205 | AL19: 2 | AM19: =+AL19*AJ19 -> 28.6441 | AN19: =+AM19 -> 28.6441
AJ20: 3.18 | AL20: 6.48 | AM20: =+AL20*AJ20 -> 20.6064 | AN20: =+AM20 -> 20.6064
AJ21: 2 | AL21: 22.78 | AM21: =+AL21*AJ21 -> 45.56 | AN21: =+AM21 -> 45.56
AI23: Pañete PAREDES INTERNAS | AK23: 1.97 | AL23: 2.15 | AM23: =+AL23*AK23 -> 4.2355 | AN23: =+AM23 -> 4.2355
AK24: 1.97 | AL24: 7.23 | AM24: =+AL24*AK24 -> 14.2431 | AN24: =+AM24 -> 14.2431
AK25: 1.97 | AL25: 2.85 | AM25: =+AL25*AK25 -> 5.6145 | AN25: =+AM25 -> 5.6145
AK26: 1.97 | AL26: 0.5 | AM26: =+AL26*AK26 -> 0.985 | AN26: =+AM26 -> 0.985
AK27: 1.97 | AL27: 11.6 | AM27: =+AL27*AK27 -> 22.852 | AN27: =+AM27 -> 22.852
AK28: 1.97 | AL28: 13.96 | AM28: =+AL28*AK28 -> 27.5012 | AN28: =+AM28 -> 27.5012
AK29: 1.97 | AL29: 2.6 | AM29: =+AL29*AK29 -> 5.122 | AN29: =+AM29 -> 5.122 | AP29: =+AO14/AM46 -> #DIV/0!
AK30: 1.97 | AL30: 2 | AM30: =+AL30*AK30 -> 3.94 | AN30: =+AM30 -> 3.94
AK31: 1.97 | AL31: 2.75 | AM31: =+AL31*AK31 -> 5.4175 | AN31: =+AM31 -> 5.4175
AK32: 1.97 | AL32: 3.18 | AM32: =+AL32*AK32 -> 6.2646 | AN32: =+AM32 -> 6.2646
AK33: 1.97 | AL33: 0.5 | AM33: =+AL33*AK33 -> 0.985 | AN33: =+AM33 -> 0.985
AK34: 1.97 | AL34: 5.05 | AM34: =+AL34*AK34 -> 9.9485 | AN34: =+AM34 -> 9.9485
AK35: 1.97 | AL35: 22.78 | AM35: =+AL35*AK35 -> 44.8766 | AN35: =+AM35 -> 44.8766
AK36: 1.97 | AL36: 16.05 | AM36: =+AL36*AK36 -> 31.6185 | AN36: =+AM36 -> 31.6185
AK37: 1.97 | AL37: 2 | AM37: =+AL37*AK37 -> 3.94 | AN37: =+AM37 -> 3.94
AK38: 1.97 | AL38: 3.18 | AM38: =+AL38*AK38 -> 6.2646 | AN38: =+AM38 -> 6.2646
AK39: 1.97 | AL39: 6.45 | AM39: =+AL39*AK39 -> 12.7065 | AN39: =+AM39 -> 12.7065
AK40: 1.97 | AL40: 6.48 | AM40: =+AL40*AK40 -> 12.7656 | AN40: =+AM40 -> 12.7656
AK41: 1.97 | AL41: 9.57 | AM41: =+AL41*AK41 -> 18.8529 | AN41: =+AM41 -> 18.8529
... AK45: 1.9656033 | AL45: 9.78 | AM45: =+AL45*AK45 -> 19.2236 | AN45: =+AM45 -> 19.2236
AG51: Subtotal | AN51: =SUM(AN12:AN50) -> 482.45
...

Sheet 4.2
I1: SISTEMA INTEGRADO DE GESTIÓN | AL1: CÓDIGO: GPL-FO-024
AL2: VERSIÓN:01
I3: MEMORIAS DE CÁLCULO DE OBRA | AL3: PÁGINA: 1 DE 1
A4: FECHA | F4: DD | H4: 24 | J4: MM | L4: 3 | N4: AA | P4: 2024 | U4: CORTE N° | AG4: ELABORÓ
A5: OBJETO DEL CONTRATO | I5: ADECUACIÓN Y REMODELACIÓN DEL PUESTO DE SALUD DEL CORREGIMIENTO DE LA VICTORIA DE SAN ISIDRO DEL MUNICIPIO DE LA JAGUA DE IBIRICO, CESAR
A6: INTERVENTOR | AE6: NIT O C.C. | AJ6: CONTRATO DE INTERVENTORIA N°
A7: CONTRATISTA | AE7: NIT O C.C. | AJ7: CONTRATO DE OBRA N°
A9: 4.2 | H9: MAMPOSTERIA Y PINTURA | U9: ITEM | AE9: =+'P. Adecuación'!C21 -> PAÑETE IMPERMEABILIZADO 1:3 | AJ9: UNID. | AK9: M2 | AL9: UBICACIÓN | AM9: GENERAL
AG10: Fecha | AI10: Localización | AJ10: Dimensiones | AM10: Área | AN10: Medida Total
AJ11: Ancho | AK11: Alto | AL11: Longitud
AI13: Pañete fachada | AN13: =11.78+11.71 -> 23.49
AN14: =+AK14*AL14 -> 0
AN15: =+AK15*AL15 -> 0
AI16: Pañete lateral derecho | AN16: =5.9+2.4+10.15 -> 18.45
AN18: =+AK18*AL18 -> 0
AI19: Pañete lateral izquierdo | AN19: 15.2
AN20: =+AK20*AL20 -> 0
AN21: =+AK21*AL21 -> 0
AI22: Pañete fachada trasera | AN22: 24.39
AN23: =+AK23*AL23 -> 0
AN24: =+AK24*AL24 -> 0
AG43: Subtotal | AN43: =SUM(AN12:AN42) -> 81.53
AG45: TOTAL | AN45: =ROUND(SUM(AN43:AN44),2) -> 81.53
AI52: MAHER SANTOS
AI53: ARQUITECTO No. T.P A17732023-106117224
AI54: MUNICIPIO DE LA JAGUA DE IBIRICO, CESAR

Sheet 4.3
I1: SISTEMA INTEGRADO DE GESTIÓN | AL1: CÓDIGO: GPL-FO-024
AL2: VERSIÓN:01
I3: MEMORIAS DE CÁLCULO DE OBRA | AL3: PÁGINA: 1 DE 1
A4: FECHA | F4: DD | H4: 24 | J4: MM | L4: 3 | N4: AA | P4: 2024 | U4: CORTE N° | AG4: ELABORÓ
A5: OBJETO DEL CONTRATO | I5: ADECUACIÓN Y REMODELACIÓN DEL PUESTO DE SALUD DEL CORREGIMIENTO DE LA VICTORIA DE SAN ISIDRO DEL MUNICIPIO DE LA JAGUA DE IBIRICO, CESAR
A6: INTERVENTOR | AE6: NIT O C.C. | AJ6: CONTRATO DE INTERVENTORIA N°
A7: CONTRATISTA | AE7: NIT O C.C. | AJ7: CONTRATO DE OBRA N°
A9: 4.3 | H9: MAMPOSTERIA Y PINTURA | U9: ITEM | AE9: =+'P. Adecuación'!C22 -> FILOS Y DILATACIONES EN PAÑETES | AJ9: UNID. | AK9: ML | AL9: UBICACIÓN | AM9: GENERAL
AG10: Fecha | AI10: Localización | AJ10: Dimensiones | AM10: No. | AN10: Medida Total
AJ11: Ancho | AK11: Alto | AL11: Longitud
AI13: Filos y dilataciones área 1 | AL13: 2.2 | AM13: 159.78 | AN13: =+AM13*AL13 -> 351.516
AI14: Filos y dilataciones área 2 | AL14: 2.2 | AM14: =374*0.8 -> 299.2 | AN14: =+AM14*AL14 -> 658.24
AI15: FACHADA | AL15: 4 | AM15: =+'4.2'!$AN$45 -> 81.53 | AN15: =+AM15*AL15 -> 326.12
AG43: Subtotal | AN43: =SUM(AN12:AN42) -> 1335.876
AG45: TOTAL | AN45: =ROUND(SUM(AN43:AN44),2) -> 1335.88
AI52: MAHER SANTOS
AI53: ARQUITECTO No. T.P A17732023-106117224
AI54: MUNICIPIO DE LA JAGUA DE IBIRICO, CESAR

Sheet 4.4
I1: SISTEMA INTEGRADO DE GESTIÓN | AL1: CÓDIGO: GPL-FO-024
AL2: VERSIÓN:01
I3: MEMORIAS DE CÁLCULO DE OBRA | AL3: PÁGINA: 1 DE 1
A4: FECHA | F4: DD | H4: 24 | J4: MM | L4: 3 | N4: AA | P4: 2024 | U4: CORTE N° | AG4: ELABORÓ
A5: OBJETO DEL CONTRATO | I5: ADECUACIÓN Y REMODELACIÓN DEL PUESTO DE SALUD DEL CORREGIMIENTO DE LA VICTORIA DE SAN ISIDRO DEL MUNICIPIO DE LA JAGUA DE IBIRICO, CESAR
A6: INTERVENTOR | AE6: NIT O C.C. | AJ6: CONTRATO DE INTERVENTORIA N°
A7: CONTRATISTA | AE7: NIT O C.C. | AJ7: CONTRATO DE OBRA N°
A9: 4.4 | H9: MAMPOSTERIA Y PINTURA | U9: ITEM | AE9: =+'P. Adecuación'!C23 -> ESTUCO Y VINILO TRES MANOS EN MUROS (COLOR) | AJ9: UNID. | AK9: M2 | AL9: UBICACIÓN | AM9: GENERAL
AG10: Fecha | AI10: Localización | AJ10: Dimensiones | AM10: Área | AN10: Medida Total
AJ11: Ancho | AK11: Alto | AL11: Longitud
AI13: Estuco y vinilo paredes área 1 | AK13: 1.576 | AL13: 2.15 | AM13: =+AL13*AK13 -> 3.3884 | AN13: =+AM13 -> 3.3884
AK14: 1.576 | AL14: 7.23 | AM14: =+AL14*AK14 -> 11.39448 | AN14: =+AM14 -> 11.39448 | AO14: 239.36
AK15: 1.576 | AL15: 2.85 | AM15: =+AL15*AK15 -> 4.4916 | AN15: =+AM15 -> 4.4916
AK16: 1.576 | AL16: 0.5 | AM16: =+AL16*AK16 -> 0.788 | AN16: =+AM16 -> 0.788
AK17: 1.576 | AL17: 11.6 | AM17: =+AL17*AK17 -> 18.2816 | AN17: =+AM17 -> 18.2816 | AO17: =+AO14-AN37 -> 239.36
AK18: 1.576 | AL18: 13.96 | AM18: =+AL18*AK18 -> 22.00096 | AN18: =+AM18 -> 22.00096
AK19: 1.576 | AL19: 2.6 | AM19: =+AL19*AK19 -> 4.0976 | AN19: =+AM19 -> 4.0976 | AO19: =+AO14/AL37 -> #DIV/0!
AK20: 1.576 | AL20: 2 | AM20: =+AL20*AK20 -> 3.152 | AN20: =+AM20 -> 3.152
AK21: 1.576 | AL21: 2.75 | AM21: =+AL21*AK21 -> 4.334 | AN21: =+AM21 -> 4.334
AK22: 1.576 | AL22: 3.18 | AM22: =+AL22*AK22 -> 5.01168 | AN22: =+AM22 -> 5.01168
AK23: 1.576 | AL23: 0.5 | AM23: =+AL23*AK23 -> 0.788 | AN23: =+AM23 -> 0.788
AK24: 1.576 | AL24: 5.05 | AM24: =+AL24*AK24 -> 7.9588 | AN24: =+AM24 -> 7.9588
AK25: 1.576 | AL25: 22.78 | AM25: =+AL25*AK25 -> 35.90128 | AN25: =+AM25 -> 35.90128
AK26: 1.576 | AL26: 16.05 | AM26: =+AL26*AK26 -> 25.2948 | AN26: =+AM26 -> 25.2948
AK27: 1.582335 | AL27: 2 | AM27: =+AL27*AK27 -> 3.16467 | AN27: =+AM27 -> 3.16467
AK28: 1.576 | AL28: 3.18 | AM28: =+AL28*AK28 -> 5.01168 | AN28: =+AM28 -> 5.01168
AK29: 1.576 | AL29: 6.45 | AM29: =+AL29*AK29 -> 10.1652 | AN29: =+AM29 -> 10.1652
AK30: 1.575 | AL30: 6.48 | AM30: =+AL30*AK30 -> 10.206 | AN30: =+AM30 -> 10.206
AK31: 1.575 | AL31: 9.57 | AM31: =+AL31*AK31 -> 15.07275 | AN31: =+AM31 -> 15.07275
... AK35: 1.575 | AL35: 9.78 | AM35: =+AL35*AK35 -> 15.4035 | AN35: =+AM35 -> 15.4035
AG43: Subtotal | AN43: =SUM(AN12:AN42) -> 239.36
AG45: TOTAL | AN45: =ROUND(SUM(AN43:AN44),2) -> 239.36
AI52: MAHER SANTOS
AI53: ARQUITECTO No. T.P A17732023-106117224
AI54: MUNICIPIO DE LA JAGUA DE IBIRICO, CESAR

Sheet 4.5
I1: SISTEMA INTEGRADO DE GESTIÓN | AL1: CÓDIGO: GPL-FO-024
AL2: VERSIÓN:01
I3: MEMORIAS DE CÁLCULO DE OBRA | AL3: PÁGINA: 1 DE 1
A4: FECHA | F4: DD | H4: 24 | J4: MM | L4: 3 | N4: AA | P4: 2024 | U4: CORTE N° | AG4: ELABORÓ
A5: OBJETO DEL CONTRATO | I5: ADECUACIÓN Y REMODELACIÓN DEL PUESTO DE SALUD DEL CORREGIMIENTO DE LA VICTORIA DE SAN ISIDRO DEL MUNICIPIO DE LA JAGUA DE IBIRICO, CESAR
A6: INTERVENTOR | AE6: NIT O C.C. | AJ6: CONTRATO DE INTERVENTORIA N°
A7: CONTRATISTA | AE7: NIT O C.C. | AJ7: CONTRATO DE OBRA N°
A9: 4.5 | H9: MAMPOSTERIA Y PINTURA | U9: ITEM | AE9: =+'P. Adecuación'!C24 -> PINTURA FACHADA EN VINILO PARA EXTERIORES | AJ9: UNID. | AK9: M2 | AL9: UBICACIÓN | AM9: GENERAL
AG10: Fecha | AI10: Localización | AJ10: Dimensiones | AM10: Área | AN10: Medida Total
AJ11: Ancho | AK11: Alto | AL11: Longitud
AI13: Pañete fachada | AN13: =11.78+11.71 -> 23.49
AN14: =+AK14*AL14 -> 0
AN15: =+AK15*AL15 -> 0
AI16: Pañete lateral derecho | AN16: =5.9+2.4+10.15 -> 18.45
AN18: =+AK18*AL18 -> 0
AI19: Pañete lateral izquierdo | AN19: 15.2
AN20: =+AK20*AL20 -> 0
AN21: =+AK21*AL21 -> 0
AI22: Pañete fachada trasera | AN22: 24.39
AG43: Subtotal | AN43: =SUM(AN12:AN42) -> 81.53
AG45: TOTAL | AN45: =ROUND(SUM(AN43:AN44),2) -> 81.53
AI52: MAHER SANTOS
AI53: ARQUITECTO No. T.P A17732023-106117224
AI54: MUNICIPIO DE LA JAGUA DE IBIRICO, CESAR

Sheet 5.1
I1: SISTEMA INTEGRADO DE GESTIÓN | AL1: CÓDIGO: GPL-FO-024
AL2: VERSIÓN:01
I3: MEMORIAS DE CÁLCULO DE OBRA | AL3: PÁGINA: 1 DE 1
A4: FECHA | F4: DD | H4: 24 | J4: MM | L4: 3 | N4: AA | P4: 2024 | U4: CORTE N° | AG4: ELABORÓ
A5: OBJETO DEL CONTRATO | I5: ADECUACIÓN Y REMODELACIÓN DEL PUESTO DE SALUD DEL CORREGIMIENTO DE LA VICTORIA DE SAN ISIDRO DEL MUNICIPIO DE LA JAGUA DE IBIRICO, CESAR
A6: INTERVENTOR | AE6: NIT O C.C. | AJ6: CONTRATO DE INTERVENTORIA N°
A7: CONTRATISTA | AE7: NIT O C.C. | AJ7: CONTRATO DE OBRA N°
A9: 5.1 | H9: PISOS Y CIELO RASO | U9: ITEM | AE9: =+'P. Adecuación'!C26 -> ALISTADO PISO 1:5 E=0.04 M | AJ9: UNID. | AK9: M2 | AL9: UBICACIÓN | AM9: GENERAL
AG10: Fecha | AI10: Localización | AJ10: Dimensiones | AM10: Área | AN10: Medida Total
AJ11: Ancho | AK11: Alto | AL11: Longitud
AI13: OBSERVACION HOMBRE | AJ13: 3.65 | AL13: 6.45 | AN13: =+AL13*AJ13 -> 23.5425
AI14: OBSERCACION MUJERES | AJ14: 3.43 | AL14: 6.45 | AN14: =+AL14*AJ14 -> 22.1235
AI15: SALA ESPERA Y TRIAGE | AJ15: 5.73 | AL15: 6.45 | AN15: =+AL15*AJ15 -> 36.9585
AI16: TOMA DE MUESTRAS PASILLO | AJ16: 8.08 | AL16: 4.22 | AN16: =+AL16*AJ16 -> 34.0976
AI17: FACTURACION ARCHIVO | AJ17: 1.84 | AL17: 6 | AN17: =+AL17*AJ17 -> 11.04
AI18: ODONTOLOGIA Y RX | AJ18: 3.7 | AL18: =+(1.1*0.72)+(2.25*2.3)+(3.7*3.65) -> 19.472 | AN18: =+AL18*AJ18 -> 72.0464
AI19: CONSULTORIO ESPECIALISTAS | AJ19: 3.18 | AL19: 3.15 | AN19: =+AL19*AJ19 -> 10.017
AI20: PUERPERIO | AJ20: 4.75 | AL20: 5.85 | AN20: =+AL20*AJ20 -> 27.7875
AI21: SALA DE PARTO Y BAÑOS | AJ21: =5.05+4.75 -> 9.8 | AL21: 3.6 | AN21: =+AL21*AJ21 -> 35.28
AI22: RESIDUOS HOSPITALARIOS, TRABAJO LIMPIO ALMACEN | AJ22: 8.86 | AL22: 1.2 | AN22: =+AL22*AJ22 -> 10.632
AI23: ESTACION Y DORMITORIO ENFERMERIA | AJ23: 7.23 | AL23: 6.1 | AN23: =+AL23*AJ23 -> 44.103
AI24: SALA DE ACOMPAÑANTES | AJ24: 13.52 | AL24: 2 | AN24: =+AL24*AJ24 -> 27.04
AI25: TRABAJO PARTO | AJ25: =6.83+1.13 -> 7.96 | AL25: 3.2288945 | AN25: =+AL25*AJ25 -> 25.702
AG43: Subtotal | AN43: =SUM(AN12:AN42) -> 380.37
AG45: TOTAL | AN45: =ROUND(SUM(AN43:AN44),2) -> 380.37
AI52: MAHER SANTOS
AI53: ARQUITECTO No. T.P A17732023-106117224
AI54: MUNICIPIO DE LA JAGUA DE IBIRICO, CESAR

Sheet 5.2
I1: SISTEMA INTEGRADO DE GESTIÓN | AL1: CÓDIGO: GPL-FO-024
AL2: VERSIÓN:01
I3: MEMORIAS DE CÁLCULO DE OBRA | AL3: PÁGINA: 1 DE 1
A4: FECHA | F4: DD | H4: 24 | J4: MM | L4: 3 | N4: AA | P4: 2024 | U4: CORTE N° | AG4: ELABORÓ
A5: OBJETO DEL CONTRATO | I5: ADECUACIÓN Y REMODELACIÓN DEL PUESTO DE SALUD DEL CORREGIMIENTO DE LA VICTORIA DE SAN ISIDRO DEL MUNICIPIO DE LA JAGUA DE IBIRICO, CESAR
A6: INTERVENTOR | AE6: NIT O C.C. | AJ6: CONTRATO DE INTERVENTORIA N°
A7: CONTRATISTA | AE7: NIT O C.C. | AJ7: CONTRATO DE OBRA N°
A9: 5.2 | H9: PISOS Y CIELO RASO | U9: ITEM | AE9: =+'P. Adecuación'!C27 -> SUMINISTRO E INSTALACIÓN DE BALDOSIN 20 X 20 CM LINEA INSTITUCIONAL O SIMILAR BLANCO | AJ9: UNID. | AK9: M2 | AL9: UBICACIÓN | AM9: GENERAL
AG10: Fecha | AI10: Localización | AJ10: Dimensiones | AM10: Cantidad | AN10: Medida Total
AJ11: Ancho | AK11: Alto | AL11: Longitud
AI13: Tranajo limpio | AJ13: 1.2 | AL13: 2.08 | AN13: =+PRODUCT(AJ13:AM13) -> 2.496
AI14: Trabajo sucio | AJ14: 1.7 | AL14: 1.65 | AN14: =+PRODUCT(AJ14:AM14) -> 2.805
AG43: Subtotal | AN43: =SUM(AN12:AN42) -> 5.301
AG45: TOTAL | AN45: =ROUND(SUM(AN43:AN44),2) -> 5.3
AI52: MAHER SANTOS
AI53: ARQUITECTO No. T.P A17732023-106117224
AI54: MUNICIPIO DE LA JAGUA DE IBIRICO, CESAR

Sheet 5.3
I1: SISTEMA INTEGRADO DE GESTIÓN | AL1: CÓDIGO: GPL-FO-024
AL2: VERSIÓN:01
I3: MEMORIAS DE CÁLCULO DE OBRA | AL3: PÁGINA: 1 DE 1
A4: FECHA | F4: DD | H4: 24 | J4: MM | L4: 3 | N4: AA | P4: 2024 | U4: CORTE N° | AG4: ELABORÓ
A5: OBJETO DEL CONTRATO | I5: ADECUACIÓN Y REMODELACIÓN DEL PUESTO DE SALUD DEL CORREGIMIENTO DE LA VICTORIA DE SAN ISIDRO DEL MUNICIPIO DE LA JAGUA DE IBIRICO, CESAR
A6: INTERVENTOR | AE6: NIT O C.C. | AJ6: CONTRATO DE INTERVENTORIA N°
A7: CONTRATISTA | AE7: NIT O C.C. | AJ7: CONTRATO DE OBRA N°
A9: 5.3 | H9: PISOS Y CIELO RASO | U9: ITEM | AE9: =+'P. Adecuación'!C28 -> GUARDAESCOBA MEDIA CAÑA EN GRANITO PULIDO | AJ9: UNID. | AK9: ML | AL9: UBICACIÓN | AM9: GENERAL
AG10: Fecha | AI10: Localización | AJ10: Dimensiones | AM10: Área | AN10: Medida Total
AJ11: Ancho | AK11: Alto | AL11: Longitud
AI13: Techo | AL13: 2.15 | AN13: =+AL13 -> 2.15
AL14: 7.23 | AN14: =+AL14 -> 7.23
AL15: 2.85 | AN15: =+AL15 -> 2.85
AL16: 0.5 | AN16: =+AL16 -> 0.5
AL17: 11.6 | AN17: =+AL17 -> 11.6
AL18: 13.96 | AN18: =+AL18 -> 13.96
AL19: 2.6 | AN19: =+AL19 -> 2.6
AL20: 2 | AN20: =+AL20 -> 2
AL21: 2.75 | AN21: =+AL21 -> 2.75
AL22: 3.18 | AN22: =+AL22 -> 3.18
AL23: 0.5 | AN23: =+AL23 -> 0.5
AL24: 5.05 | AN24: =+AL24 -> 5.05
AL25: 22.78 | AN25: =+AL25 -> 22.78
... AL35: 9.78 | AN35: =+AL35 -> 9.78
AG43: Subtotal | AN43: =SUM(AN12:AN42) -> 151.9
AG45: TOTAL | AN45: =ROUND(SUM(AN43:AN44),2) -> 151.9
AI52: MAHER SANTOS
AI53: ARQUITECTO No. T.P A17732023-106117224
AI54: MUNICIPIO DE LA JAGUA DE IBIRICO, CESAR

Sheet 5.4
I1: SISTEMA INTEGRADO DE GESTIÓN | AL1: CÓDIGO: GPL-FO-024
AL2: VERSIÓN:01
I3: MEMORIAS DE CÁLCULO DE OBRA | AL3: PÁGINA: 1 DE 1
A4: FECHA | F4: DD | H4: 24 | J4: MM | L4: 3 | N4: AA | P4: 2024 | U4: CORTE N° | AG4: ELABORÓ
A5: OBJETO DEL CONTRATO | I5: ADECUACIÓN Y REMODELACIÓN DEL PUESTO DE SALUD DEL CORREGIMIENTO DE LA VICTORIA DE SAN ISIDRO DEL MUNICIPIO DE LA JAGUA DE IBIRICO, CESAR
A6: INTERVENTOR | AE6: NIT O C.C. | AJ6: CONTRATO DE INTERVENTORIA N°
A7: CONTRATISTA | AE7: NIT O C.C. | AJ7: CONTRATO DE OBRA N°
A9: 5.4 | H9: PISOS Y CIELO RASO | U9: ITEM | AE9: =+'P. Adecuación'!C29 -> PISO PORCELANATO 60 X 60 CM PRIMERA CALIDAD O SIMILAR | AJ9: UNID. | AK9: M2 | AL9: UBICACIÓN | AM9: GENERAL
AG10: Fecha | AI10: Localización | AJ10: Dimensiones | AM10: Área | AN10: Medida Total
AJ11: Ancho | AK11: Alto | AL11: Longitud
AI13: OBSERVACION HOMBRE | AJ13: 3.65 | AL13: 6.45 | AN13: =+AL13*AJ13 -> 23.5425
AI14: OBSERCACION MUJERES | AJ14: 3.43 | AL14: 6.45 | AN14: =+AL14*AJ14 -> 22.1235
AI15: SALA ESPERA Y TRIAGE | AJ15: 5.73 | AL15: 6.45 | AN15: =+AL15*AJ15 -> 36.9585
AI16: TOMA DE MUESTRAS PASILLO | AJ16: 8.08 | AL16: 4.22 | AN16: =+AL16*AJ16 -> 34.0976
AI17: FACTURACION ARCHIVO | AJ17: 1.84 | AL17: 6 | AN17: =+AL17*AJ17 -> 11.04
AI18: ODONTOLOGIA Y RX | AJ18: 3.7 | AL18: =+(1.1*0.72)+(2.25*2.3)+(3.7*3.65) -> 19.472 | AN18: =+AL18*AJ18 -> 72.0464
AI19: CONSULTORIO ESPECIALISTAS | AJ19: 3.18 | AL19: 3.15 | AN19: =+AL19*AJ19 -> 10.017
AI20: PUERPERIO | AJ20: 4.75 | AL20: 5.85 | AN20: =+AL20*AJ20 -> 27.7875
AI21: SALA DE PARTO Y BAÑOS | AJ21: =5.05+4.75 -> 9.8 | AL21: 3.6 | AN21: =+AL21*AJ21 -> 35.28
AI22: RESIDUOS HOSPITALARIOS, TRABAJO LIMPIO ALMACEN | AJ22: 8.86 | AL22: 1.2 | AN22: =+AL22*AJ22 -> 10.632
AI23: ESTACION Y DORMITORIO ENFERMERIA | AJ23: 7.23 | AL23: 6.1 | AN23: =+AL23*AJ23 -> 44.103
AI24: SALA DE ACOMPAÑANTES | AJ24: 13.52 | AL24: 2 | AN24: =+AL24*AJ24 -> 27.04
AI25: TRABAJO PARTO | AJ25: =6.83+1.13 -> 7.96 | AL25: 3.2288945 | AN25: =+AL25*AJ25 -> 25.702
AG43: Subtotal | AN43: =SUM(AN12:AN42) -> 380.37
AG45: TOTAL | AN45: =ROUND(SUM(AN43:AN44),2) -> 380.37
AI52: MAHER SANTOS
AI53: ARQUITECTO No. T.P A17732023-106117224
AI54: MUNICIPIO DE LA JAGUA DE IBIRICO, CESAR

Sheet 5.5
I1: SISTEMA INTEGRADO DE GESTIÓN | AL1: CÓDIGO: GPL-FO-024
AL2: VERSIÓN:01
I3: MEMORIAS DE CÁLCULO DE OBRA | AL3: PÁGINA: 1 DE 1
A4: FECHA | F4: DD | H4: 24 | J4: MM | L4: 3 | N4: AA | P4: 2024 | U4: CORTE N° | AG4: ELABORÓ
A5: OBJETO DEL CONTRATO | I5: ADECUACIÓN Y REMODELACIÓN DEL PUESTO DE SALUD DEL CORREGIMIENTO DE LA VICTORIA DE SAN ISIDRO DEL MUNICIPIO DE LA JAGUA DE IBIRICO, CESAR
A6: INTERVENTOR | AE6: NIT O C.C. | AJ6: CONTRATO DE INTERVENTORIA N°
A7: CONTRATISTA | AE7: NIT O C.C. | AJ7: CONTRATO DE OBRA N°
A9: 5.5 | H9: PISOS Y CIELO RASO | U9: ITEM | AE9: =+'P. Adecuación'!C30 -> CIELO RASO EN PVC (INCLUYE ESTRUCTURA DE SOPORTE Y TODOS LOS ELEMENTOS NECESARIOS PARA SU CORRECTA INSTALACIÓN) | AJ9: UNID. | AK9: M2 | AL9: UBICACIÓN | AM9: GENERAL
AG10: Fecha | AI10: Localización | AJ10: Dimensiones | AM10: Área | AN10: Medida Total
AJ11: Ancho | AK11: Alto | AL11: Longitud
AI13: CIELO RASO 1 | AJ13: 3.63 | AL13: 4.95 | AM13: =+AL13*AJ13 -> 17.9685 | AN13: =+AM13+AM14 -> 76.24
AJ14: 7.65 | AL14: 7.6171895 | AM14: =+AJ14*AL14 -> 58.2715
AI16: CIELO RASO 2 | AJ16: 2.1 | AL16: 6.1 | AM16: =+AL16*AJ16 -> 12.81 | AN16: =+AM17+AM16 -> 62.18
AJ17: 7.52 | AL17: 6.5651596 | AM17: =+AL17*AJ17 -> 49.37
AI19: CIELO RASO 3 | AJ19: 5.05 | AL19: 9.42 | AM19: =+AL19*AJ19 -> 47.571 | AN19: =+AM19+AM20 -> 87.42
AJ20: 6.149537 | AL20: 6.48 | AM20: =+AL20*AJ20 -> 39.849
AI22: CIELO RASO 4 | AJ22: 2.6 | AL22: 7.53 | AM22: =+AL22*AJ22 -> 19.578 | AN22: =+AM23+AM22 -> 67.92
AJ23: 5.78 | AL23: 8.3636678 | AM23: =+AL23*AJ23 -> 48.342
AI25: CIELO RASO 5 | AJ25: 4.3495192 | AL25: 20.8 | AN25: =+AJ25*AL25 -> 90.47
AI26: CIELO RASO 6 | AJ26: 10.458113 | AL26: 5.3 | AM26: =+AL26*AJ26 -> 55.428 | AN26: =+AM26+AM27+AM28 -> 69.71
AJ27: 3.23 | AL27: 3.4 | AM27: =+AL27*AJ27 -> 10.982
AJ28: 1.2 | AL28: 2.75 | AM28: =+AL28*AJ28 -> 3.3
AI29: CIELO RASO 7 | AJ29: 6.73 | AL29: 5.1456166 | AN29: =+AL29*AJ29 -> 34.63
AG43: Subtotal | AN43: =SUM(AN12:AN42) -> 488.57
AG45: TOTAL | AN45: =ROUND(SUM(AN43:AN44),2) -> 488.57
AI52: MAHER SANTOS
AI53: ARQUITECTO No. T.P A17732023-106117224
AI54: MUNICIPIO DE LA JAGUA DE IBIRICO, CESAR

Sheet 6.1
I1: SISTEMA INTEGRADO DE GESTIÓN | AL1: CÓDIGO: GPL-FO-024
AL2: VERSIÓN:01
I3: MEMORIAS DE CÁLCULO DE OBRA | AL3: PÁGINA: 1 DE 1
A4: FECHA | F4: DD | H4: 24 | J4: MM | L4: 3 | N4: AA | P4: 2024 | U4: CORTE N° | AG4: ELABORÓ
A5: OBJETO DEL CONTRATO | I5: ADECUACIÓN Y REMODELACIÓN DEL PUESTO DE SALUD DEL CORREGIMIENTO DE LA VICTORIA DE SAN ISIDRO DEL MUNICIPIO DE LA JAGUA DE IBIRICO, CESAR
A6: INTERVENTOR | AE6: NIT O C.C. | AJ6: CONTRATO DE INTERVENTORIA N°
A7: CONTRATISTA | AE7: NIT O C.C. | AJ7: CONTRATO DE OBRA N°
A9: 6.1 | H9: ENCHAPES Y ACCESORIOS BAÑOS | U9: ITEM | AE9: =+'P. Adecuación'!C32 -> CERAMICA PARED (INCLUYE BOQUILLA COLOR, WING Y LINEALES) | AJ9: UNID. | AK9: M2 | AL9: UBICACIÓN | AM9: GENERAL
AG10: Fecha | AI10: Localización | AJ10: Dimensiones | AM10: Área | AN10: Medida Total
AJ11: Ancho | AK11: Alto | AL11: Longitud
AI13: BAÑO TRABAJO SUCIO | AJ13: 2.92 | AK13: 2.4 | AN13: =+AK13*AJ13 -> 7.008
AI14: BAÑO SALA DE PARTO | AJ14: 4.41 | AK14: 2.4 | AN14: =+AK14*AJ14 -> 10.584
AI15: BAÑOS PUERPERIO | AJ15: 11.73 | AK15: 2.4 | AN15: =+AK15*AJ15 -> 28.152
AI16: BAÑOS ARCHIVO | AJ16: 9.77 | AK16: 2.4 | AN16: =+AK16*AJ16 -> 23.448
AI17: BAÑOS OBSERVACION | AJ17: =3.72*2 -> 7.44 | AK17: 2.4 | AN17: =+AK17*AJ17 -> 17.856
AG43: Subtotal | AN43: =SUM(AN12:AN42) -> 87.048
AG45: TOTAL | AN45: =ROUND(SUM(AN43:AN44),2) -> 87.05
AI52: MAHER SANTOS
AI53: ARQUITECTO No. T.P A17732023-106117224
AI54: MUNICIPIO DE LA JAGUA DE IBIRICO, CESAR

Sheet 6.2
I1: SISTEMA INTEGRADO DE GESTIÓN | AL1: CÓDIGO: GPL-FO-024
AL2: VERSIÓN:01
I3: MEMORIAS DE CÁLCULO DE OBRA | AL3: PÁGINA: 1 DE 1
A4: FECHA | F4: DD | H4: 24 | J4: MM | L4: 3 | N4: AA | P4: 2024 | U4: CORTE N° | AG4: ELABORÓ
A5: OBJETO DEL CONTRATO | I5: ADECUACIÓN Y REMODELACIÓN DEL PUESTO DE SALUD DEL CORREGIMIENTO DE LA VICTORIA DE SAN ISIDRO DEL MUNICIPIO DE LA JAGUA DE IBIRICO, CESAR
A6: INTERVENTOR | AE6: NIT O C.C. | AJ6: CONTRATO DE INTERVENTORIA N°
A7: CONTRATISTA | AE7: NIT O C.C. | AJ7: CONTRATO DE OBRA N°
A9: 6.2 | H9: ENCHAPES Y ACCESORIOS BAÑOS | U9: ITEM | AE9: =+'P. Adecuación'!C33 -> CERAMICA PISO 33 X 33 CM LINEA INSTITUCIONAL O SIMILAR (INCLUYE BOQUILLA COLOR, LINEALES) | AJ9: UNID. | AK9: M2 | AL9: UBICACIÓN | AM9: GENERAL
AG10: Fecha | AI10: Localización | AJ10: Dimensiones | AM10: Área | AN10: Medida Total
AJ11: Ancho | AK11: Alto | AL11: Longitud
AI14: BAÑO TRABAJO SUCIO | AJ14: 2.92 | AK14: 3 | AN14: =+AK14*AJ14 -> 8.76
