Workbook

Sheet Resumen
B2: PROPUESTA ECONÓMICA
B3: N° | C3: PRODUCTO | D3: COSTOS DE PERSONAL | E3: COSTOS OPERATIVOS | F3: VALOR SIN IVA | G3: IVA | H3: VALOR CON IVA
B4: 1 | C4: PRODUCTO 1 - Aprestamiento, estrategia de participación e inicio de monitoreos. | D4: =Salarios!I19 -> 0 | E4: ='Costos operativos'!J22 -> 0 | F4: =+D4+E4 -> 0 | G4: =+F4*0.19 -> 0 | H4: =+F4+G4 -> 0 | J4: 4.7281756e+08 | K4: =J4-H4 -> 4.7281756e+08
B5: 2 | C5: PRODUCTO 2 - Monitoreo, seguimiento y capacitación. | D5: =Salarios!N19 -> 0 | E5: ='Costos operativos'!O22 -> 0 | F5: =+D5+E5 -> 0 | G5: =+F5*0.19 -> 0 | H5: =+F5+G5 -> 0 | J5: 1.2430663e+09 | K5: =J5-H5 -> 1.2430663e+09
B6: 3 | C6: PRODUCTO 3 - soluciones de protección del acuífero y diseños detallados para la prueba piloto de la recarga artificial de acuífero | D6: =Salarios!S19 -> 0 | E6: ='Costos operativos'!T22 -> 0 | F6: =+D6+E6 -> 0 | G6: =+F6*0.19 -> 0 | H6: =+F6+G6 -> 0 | J6: 5.9611946e+08 | K6: =J6-H6 -> 5.9611946e+08
B7: 4 | C7: PRODUCTO 4- Seguimiento y monitoreo al aprovechamiento sostenible del acuífero | D7: =Salarios!W19 -> 0 | E7: ='Costos operativos'!X22 -> 0 | F7: =+D7+E7 -> 0 | G7: =+F7*0.19 -> 0 | H7: =+F7+G7 -> 0 | J7: 3.4296894e+08 | K7: =J7-H7 -> 3.4296894e+08
B8: 5 | C8: PRODUCTO 5 - Cierre de actividades del proyecto | D8: =Salarios!AA19 -> 0 | E8: ='Costos operativos'!AB22 -> 0 | F8: =+D8+E8 -> 0 | G8: =+F8*0.19 -> 0 | H8: =+F8+G8 -> 0 | J8: 3.1668616e+08 | K8: =J8-H8 -> 3.1668616e+08
C9: TOTAL | D9: =SUM(D4:D8) -> 0 | E9: =SUM(E4:E8) -> 0 | F9: =SUM(F4:F8) -> 0 | G9: =SUM(G4:G8) -> 0 | H9: =SUM(H4:H8) -> 0 | J9: 2.9716584e+09 | K9: =J9-H9 -> 2.9716584e+09
C12: FIRMA DEL REP. LEGAL
C14: NOMBRE DEL OFERENTE:
C15: NOMBRE DEL REP. LEGAL:
C16: IDENTIFICACIÓN:

Sheet Salarios
B2: SALARIOS PERSONAL OPERATIVO | F2: PRODUCTO 1 | J2: PRODUCTO 2 | O2: PRODUCTO 3 | T2: PRODUCTO 4 | X2: PRODUCTO 5
B3: No. | C3: PERSONAL DEL PROYECTO | D3: SALARIO | E3: CANTIDAD | F3: MES 1 | G3: MES 2 | H3: SUMA | I3: VALOR | J3: MES 3 | K3: MES 4 | L3: MES 5 | M3: SUMA | N3: VALOR | O3: MES 6 | P3: MES 7 | Q3: MES 8 | R3: SUMA | S3: VALOR | T3: MES 9 | U3: MES 10 | V3: SUMA | W3: VALOR | X3: MES 11 | Y3: MES 12 | Z3: SUMA | AA3: VALOR
B4: 1 | C4: Director del Proyecto | E4: 1 | F4: 1 | G4: 1 | H4: =SUM(F4:G4) -> 2 | I4: =$D4*$E4*H4 -> 0 | J4: 1 | K4: 1 | L4: 1 | M4: =SUM(J4:L4) -> 3 | N4: =$D4*$E4*M4 -> 0 | O4: 1 | P4: 1 | Q4: 1 | R4: =SUM(O4:Q4) -> 3 | S4: =$D4*$E4*R4 -> 0 | T4: 1 | U4: 1 | V4: =SUM(T4:U4) -> 2 | W4: =$D4*$E4*V4 -> 0 | X4: 1 | Y4: 1 | Z4: =SUM(X4:Y4) -> 2 | AA4: =$D4*$E4*Z4 -> 0
B5: 2 | C5: Coordinador No. 1 (componente de Reglamentación) | E5: 1 | F5: 0.5 | G5: 0.5 | H5: =SUM(F5:G5) -> 1 | I5: =$D5*$E5*H5 -> 0 | J5: 0.5 | K5: 0.5 | L5: 0.25 | M5: =SUM(J5:L5) -> 1.25 | N5: =$D5*$E5*M5 -> 0 | O5: 0.25 | P5: 0.25 | Q5: 0.25 | R5: =SUM(O5:Q5) -> 0.75 | S5: =$D5*$E5*R5 -> 0 | T5: 0.25 | U5: 0.5 | V5: =SUM(T5:U5) -> 0.75 | W5: =$D5*$E5*V5 -> 0 | X5: 0.5 | Y5: 0.5 | Z5: =SUM(X5:Y5) -> 1 | AA5: =$D5*$E5*Z5 -> 0
B6: 3 | C6: Coordinador No.2 (componente de Monitoreo y Control) | E6: 1 | G6: 0.5 | H6: =SUM(F6:G6) -> 0.5 | I6: =$D6*$E6*H6 -> 0 | J6: 0.25 | K6: 0.25 | L6: 0.25 | M6: =SUM(J6:L6) -> 0.75 | N6: =$D6*$E6*M6 -> 0 | O6: 0.25 | P6: 0.25 | Q6: 0.25 | R6: =SUM(O6:Q6) -> 0.75 | S6: =$D6*$E6*R6 -> 0 | T6: 0.25 | U6: 0.25 | V6: =SUM(T6:U6) -> 0.5 | W6: =$D6*$E6*V6 -> 0 | X6: 0.25 | Y6: 0.25 | Z6: =SUM(X6:Y6) -> 0.5 | AA6: =$D6*$E6*Z6 -> 0
B7: 4 | C7: Profesional Experto en Agua Subterránea | E7: 1 | F7: 0.5 | G7: 0.5 | H7: =SUM(F7:G7) -> 1 | I7: =$D7*$E7*H7 -> 0 | J7: 0.5 | K7: 0.5 | L7: 0.5 | M7: =SUM(J7:L7) -> 1.5 | N7: =$D7*$E7*M7 -> 0 | O7: 0.5 | P7: 0.5 | Q7: 0.5 | R7: =SUM(O7:Q7) -> 1.5 | S7: =$D7*$E7*R7 -> 0 | T7: 0.5 | U7: 0.5 | V7: =SUM(T7:U7) -> 1 | W7: =$D7*$E7*V7 -> 0 | X7: 0.5 | Y7: 0.5 | Z7: =SUM(X7:Y7) -> 1 | AA7: =$D7*$E7*Z7 -> 0
B8: 5 | C8: Profesional Experto Geólogo | E8: 1 | G8: 0.5 | H8: =SUM(F8:G8) -> 0.5 | I8: =$D8*$E8*H8 -> 0 | J8: 0.5 | K8: 0.5 | L8: 0.2 | M8: =SUM(J8:L8) -> 1.2 | N8: =$D8*$E8*M8 -> 0 | O8: 0.2 | P8: 0.2 | Q8: 0.2 | R8: =SUM(O8:Q8) -> 0.6 | S8: =$D8*$E8*R8 -> 0 | T8: 0.2 | U8: 0.2 | V8: =SUM(T8:U8) -> 0.4 | W8: =$D8*$E8*V8 -> 0 | X8: 0.2 | Z8: =SUM(X8:Y8) -> 0.2 | AA8: =$D8*$E8*Z8 -> 0
B9: 6 | C9: Profesional Experto Ambiental | E9: 1 | G9: 0.5 | H9: =SUM(F9:G9) -> 0.5 | I9: =$D9*$E9*H9 -> 0 | J9: 0.5 | K9: 0.5 | L9: 0.5 | M9: =SUM(J9:L9) -> 1.5 | N9: =$D9*$E9*M9 -> 0 | O9: 0.5 | P9: 0.5 | Q9: 0.5 | R9: =SUM(O9:Q9) -> 1.5 | S9: =$D9*$E9*R9 -> 0 | T9: 0.5 | U9: 0.5 | V9: =SUM(T9:U9) -> 1 | W9: =$D9*$E9*V9 -> 0 | X9: 0.5 | Z9: =SUM(X9:Y9) -> 0.5 | AA9: =$D9*$E9*Z9 -> 0
B10: 7 | C10: Profesional Experto Meteorología | E10: 1 | G10: 0.5 | H10: =SUM(F10:G10) -> 0.5 | I10: =$D10*$E10*H10 -> 0 | J10: 0.5 | K10: 0.2 | L10: 0.2 | M10: =SUM(J10:L10) -> 0.9 | N10: =$D10*$E10*M10 -> 0 | O10: 0.2 | P10: 0.2 | Q10: 0.2 | R10: =SUM(O10:Q10) -> 0.6 | S10: =$D10*$E10*R10 -> 0 | T10: 0.2 | U10: 0.2 | V10: =SUM(T10:U10) -> 0.4 | W10: =$D10*$E10*V10 -> 0 | X10: 0.2 | Y10: 0.2 | Z10: =SUM(X10:Y10) -> 0.4 | AA10: =$D10*$E10*Z10 -> 0
B11: 8 | C11: Profesional Experto Social | E11: 1 | F11: 0.5 | G11: 0.5 | H11: =SUM(F11:G11) -> 1 | I11: =$D11*$E11*H11 -> 0 | J11: 0.5 | K11: 0.5 | L11: 0.5 | M11: =SUM(J11:L11) -> 1.5 | N11: =$D11*$E11*M11 -> 0 | O11: 0.5 | P11: 0.5 | Q11: 0.5 | R11: =SUM(O11:Q11) -> 1.5 | S11: =$D11*$E11*R11 -> 0 | T11: 0.5 | U11: 0.5 | V11: =SUM(T11:U11) -> 1 | W11: =$D11*$E11*V11 -> 0 | X11: 0.5 | Y11: 0.5 | Z11: =SUM(X11:Y11) -> 1 | AA11: =$D11*$E11*Z11 -> 0
B12: 9 | C12: Profesional transversal | E12: 1 | G12: 0.25 | H12: =SUM(F12:G12) -> 0.25 | I12: =$D12*$E12*H12 -> 0 | J12: 0.25 | K12: 0.25 | L12: 0.25 | M12: =SUM(J12:L12) -> 0.75 | N12: =$D12*$E12*M12 -> 0 | O12: 0.25 | P12: 0.25 | Q12: 0.25 | R12: =SUM(O12:Q12) -> 0.75 | S12: =$D12*$E12*R12 -> 0 | T12: 0.25 | U12: 0.25 | V12: =SUM(T12:U12) -> 0.5 | W12: =$D12*$E12*V12 -> 0 | X12: 0.25 | Z12: =SUM(X12:Y12) -> 0.25 | AA12: =$D12*$E12*Z12 -> 0
B13: 10 | C13: Profesional para las Obras Civiles | E13: 1 | G13: 0.25 | H13: =SUM(F13:G13) -> 0.25 | I13: =$D13*$E13*H13 -> 0 | J13: 0.25 | K13: 0.5 | L13: 0.5 | M13: =SUM(J13:L13) -> 1.25 | N13: =$D13*$E13*M13 -> 0 | O13: 0.5 | P13: 0.5 | R13: =SUM(O13:Q13) -> 1 | S13: =$D13*$E13*R13 -> 0 | V13: =SUM(T13:U13) -> 0 | W13: =$D13*$E13*V13 -> 0 | Z13: =SUM(X13:Y13) -> 0 | AA13: =$D13*$E13*Z13 -> 0
B14: 11 | C14: Técnicos para trabajos de Campo (recursos hídricos) | E14: 2 | G14: 0.5 | H14: =SUM(F14:G14) -> 0.5 | I14: =$D14*$E14*H14 -> 0 | J14: 0.5 | K14: 0.5 | L14: 0.5 | M14: =SUM(J14:L14) -> 1.5 | N14: =$D14*$E14*M14 -> 0 | O14: 0.5 | P14: 0.5 | Q14: 0.5 | R14: =SUM(O14:Q14) -> 1.5 | S14: =$D14*$E14*R14 -> 0 | T14: 0.5 | U14: 0.5 | V14: =SUM(T14:U14) -> 1 | W14: =$D14*$E14*V14 -> 0 | X14: 0.5 | Z14: =SUM(X14:Y14) -> 0.5 | AA14: =$D14*$E14*Z14 -> 0
B15: 12 | C15: Auxiliares Comunitarios (Trabajo Social) | E15: 6 | G15: 1 | H15: =SUM(F15:G15) -> 1 | I15: =$D15*$E15*H15 -> 0 | J15: 1 | K15: 0.5 | L15: 0.5 | M15: =SUM(J15:L15) -> 2 | N15: =$D15*$E15*M15 -> 0 | O15: 0.5 | P15: 0.5 | Q15: 0.5 | R15: =SUM(O15:Q15) -> 1.5 | S15: =$D15*$E15*R15 -> 0 | T15: 0.5 | U15: 0.5 | V15: =SUM(T15:U15) -> 1 | W15: =$D15*$E15*V15 -> 0 | X15: 0.5 | Z15: =SUM(X15:Y15) -> 0.5 | AA15: =$D15*$E15*Z15 -> 0
B16: 13 | C16: Ingeniero diseñador | E16: 1 | H16: =SUM(F16:G16) -> 0 | I16: =$D16*$E16*H16 -> 0 | M16: =SUM(J16:L16) -> 0 | N16: =$D16*$E16*M16 -> 0 | O16: 1 | P16: 1 | Q16: 1 | R16: =SUM(O16:Q16) -> 3 | S16: =$D16*$E16*R16 -> 0 | V16: =SUM(T16:U16) -> 0 | W16: =$D16*$E16*V16 -> 0 | Z16: =SUM(X16:Y16) -> 0 | AA16: =$D16*$E16*Z16 -> 0
B17: SUBTOTAL | I17: =SUM(I4:I16) -> 0 | N17: =SUM(N4:N16) -> 0 | S17: =SUM(S4:S16) -> 0 | W17: =SUM(W4:W16) -> 0 | AA17: =SUM(AA4:AA16) -> 0
B18: FACTOR MULTIPLICADOR (FM) | N18: =$I$18 -> 0 | S18: =$I$18 -> 0 | W18: =$I$18 -> 0 | AA18: =$I$18 -> 0
B19: TOTAL COSTOS DEL PERSONAL | I19: =I17*I18 -> 0 | N19: =N17*N18 -> 0 | S19: =S17*S18 -> 0 | W19: =W17*W18 -> 0 | AA19: =AA17*AA18 -> 0
C21: Nota: Diligenciar los Cuadros Amarillos

Sheet Costos operativos
B2: COSTOS OPERATIVOS | G2: PRODUCTO 1 | K2: PRODUCTO 2 | P2: PRODUCTO 3 | U2: PRODUCTO 4 | Y2: PRODUCTO 5
B3: No. | C3: DESCRIPCIÓN | D3: ESPECIFICACIONES | E3: VALOR UNITARIO MENSUAL | F3: Cantidad | G3: MES 1 | H3: MES 2 | I3: SUMA | J3: VALOR | K3: MES 3 | L3: MES 4 | M3: MES 5 | N3: SUMA | O3: VALOR | P3: MES 6 | Q3: MES 7 | R3: MES 8 | S3: SUMA | T3: VALOR | U3: MES 9 | V3: MES 10 | W3: SUMA | X3: VALOR | Y3: MES 11 | Z3: MES 12 | AA3: SUMA | AB3: VALOR
B4: 1 | C4: Transporte aéreo | D4: Tiquetes aéreos para el personal especializado, estimado en 2 tiquetes por mes por persona | F4: 120 | G4: 10 | H4: 10 | I4: =SUM(G4:H4) -> 20 | J4: =$E4*I4 -> 0 | K4: 10 | L4: 10 | M4: 10 | N4: =SUM(K4:M4) -> 30 | O4: =$E4*N4 -> 0 | P4: 10 | Q4: 10 | R4: 10 | S4: =SUM(P4:R4) -> 30 | T4: =$E4*S4 -> 0 | U4: 10 | V4: 10 | W4: =SUM(U4:V4) -> 20 | X4: =$E4*W4 -> 0 | Y4: 10 | Z4: 10 | AA4: =SUM(Y4:Z4) -> 20 | AB4: =$E4*AA4 -> 0
B5: 2 | C5: Transporte terrestre (recorrido ida y vuelta) | D5: Transporte terrestre a San Bernardo, Recorrido expreso | F5: 116 | G5: 6 | H5: 10 | I5: =SUM(G5:H5) -> 16 | J5: =$E5*I5 -> 0 | K5: 10 | L5: 10 | M5: 10 | N5: =SUM(K5:M5) -> 30 | O5: =$E5*N5 -> 0 | P5: 10 | Q5: 10 | R5: 10 | S5: =SUM(P5:R5) -> 30 | T5: =$E5*S5 -> 0 | U5: 10 | V5: 10 | W5: =SUM(U5:V5) -> 20 | X5: =$E5*W5 -> 0 | Y5: 10 | Z5: 10 | AA5: =SUM(Y5:Z5) -> 20 | AB5: =$E5*AA5 -> 0
B6: 3 | C6: Transportes internos en isla | D6: Transporte diario para trabajos de campo en la isla (cargue de equipos y personas) se estiman entre 2 y 10 personas, por 20 dias al mes | F6: 1040 | H6: 200 | I6: =SUM(G6:H6) -> 200 | J6: =$E6*I6 -> 0 | K6: 100 | L6: 100 | M6: 100 | N6: =SUM(K6:M6) -> 300 | O6: =$E6*N6 -> 0 | P6: 100 | Q6: 100 | R6: 100 | S6: =SUM(P6:R6) -> 300 | T6: =$E6*S6 -> 0 | U6: 100 | V6: 100 | W6: =SUM(U6:V6) -> 200 | X6: =$E6*W6 -> 0 | Y6: 40 | AA6: =SUM(Y6:Z6) -> 40 | AB6: =$E6*AA6 -> 0
B7: 4 | C7: Transporte acuatico | D7: Transporte por persona para entrar o salir de la isla, según el perosnal estimado | F7: 120 | G7: 10 | H7: 10 | I7: =SUM(G7:H7) -> 20 | J7: =$E7*I7 -> 0 | K7: 10 | L7: 10 | M7: 10 | N7: =SUM(K7:M7) -> 30 | O7: =$E7*N7 -> 0 | P7: 10 | Q7: 10 | R7: 10 | S7: =SUM(P7:R7) -> 30 | T7: =$E7*S7 -> 0 | U7: 10 | V7: 10 | W7: =SUM(U7:V7) -> 20 | X7: =$E7*W7 -> 0 | Y7: 10 | Z7: 10 | AA7: =SUM(Y7:Z7) -> 20 | AB7: =$E7*AA7 -> 0
B8: 5 | C8: Viaticos | D8: Manutención diaria en campo (alimentación y hospedaje en la isla 20 dias al mes) | F8: 665 | G8: 15 | H8: 100 | I8: =SUM(G8:H8) -> 115 | J8: =$E8*I8 -> 0 | K8: 100 | L8: 50 | M8: 50 | N8: =SUM(K8:M8) -> 200 | O8: =$E8*N8 -> 0 | P8: 50 | Q8: 50 | R8: 50 | S8: =SUM(P8:R8) -> 150 | T8: =$E8*S8 -> 0 | U8: 50 | V8: 50 | W8: =SUM(U8:V8) -> 100 | X8: =$E8*W8 -> 0 | Y8: 50 | Z8: 50 | AA8: =SUM(Y8:Z8) -> 100 | AB8: =$E8*AA8 -> 0
B9: 6 | C9: Estrategia de participación | D9: Espacios de retroalimentación con actores (reuniones/talleres) incluye alquile de sitio, refrigerios y demas ayudas audiovisuales. # de encuentros | F9: 5 | G9: 1 | I9: =SUM(G9:H9) -> 1 | J9: =$E9*I9 -> 0 | L9: 1 | N9: =SUM(K9:M9) -> 1 | O9: =$E9*N9 -> 0 | R9: 1 | S9: =SUM(P9:R9) -> 1 | T9: =$E9*S9 -> 0 | W9: =SUM(U9:V9) -> 0 | X9: =$E9*W9 -> 0 | Y9: 1 | Z9: 1 | AA9: =SUM(Y9:Z9) -> 2 | AB9: =$E9*AA9 -> 0
B10: 7 | C10: Capacitación | D10: Fomento de la participación comunitaria en la gestión del recurso hídrico subterráneo (2 horas). 6 talleres para adultos, 6 para niños, 3 para comunidad hotelera y 3 mesas de trabajo generales, 20 asistentes a cada taller. | F10: 18 | I10: =SUM(G10:H10) -> 0 | J10: =$E10*I10 -> 0 | K10: 4 | M10: 3 | N10: =SUM(K10:M10) -> 7 | O10: =$E10*N10 -> 0 | Q10: 4 | S10: =SUM(P10:R10) -> 4 | T10: =$E10*S10 -> 0 | U10: 3 | W10: =SUM(U10:V10) -> 3 | X10: =$E10*W10 -> 0 | Y10: 4 | AA10: =SUM(Y10:Z10) -> 4 | AB10: =$E10*AA10 -> 0
B11: 8 | C11: Estrategia de comunicación | D11: Diseño de piezas digitales comunitarias (logo y comunicados). Diseño mensual | F11: 13 | H11: 3 | I11: =SUM(G11:H11) -> 3 | J11: =$E11*I11 -> 0 | K11: 1 | L11: 1 | M11: 1 | N11: =SUM(K11:M11) -> 3 | O11: =$E11*N11 -> 0 | P11: 1 | Q11: 1 | R11: 1 | S11: =SUM(P11:R11) -> 3 | T11: =$E11*S11 -> 0 | U11: 1 | V11: 1 | W11: =SUM(U11:V11) -> 2 | X11: =$E11*W11 -> 0 | Y11: 1 | Z11: 1 | AA11: =SUM(Y11:Z11) -> 2 | AB11: =$E11*AA11 -> 0
B12: 9 | C12: Equipos | D12: Caudalimetros (incluye 30% de impupestos de importación e instalación) | F12: 30 | I12: =SUM(G12:H12) -> 0 | J12: =$E12*I12 -> 0 | K12: 30 | N12: =SUM(K12:M12) -> 30 | O12: =$E12*N12 -> 0 | S12: =SUM(P12:R12) -> 0 | T12: =$E12*S12 -> 0 | W12: =SUM(U12:V12) -> 0 | X12: =$E12*W12 -> 0 | AA12: =SUM(Y12:Z12) -> 0 | AB12: =$E12*AA12 -> 0
B13: 10 | D13: Medidor de nivel de agua en pozos (incluye 30% de impuestos de importación e instalación) sonda | F13: 1 | H13: 1 | I13: =SUM(G13:H13) -> 1 | J13: =$E13*I13 -> 0 | N13: =SUM(K13:M13) -> 0 | O13: =$E13*N13 -> 0 | S13: =SUM(P13:R13) -> 0 | T13: =$E13*S13 -> 0 | W13: =SUM(U13:V13) -> 0 | X13: =$E13*W13 -> 0 | AA13: =SUM(Y13:Z13) -> 0 | AB13: =$E13*AA13 -> 0
B14: 11 | D14: Estación meteorológica simnóptica | F14: 1 | I14: =SUM(G14:H14) -> 0 | J14: =$E14*I14 -> 0 | K14: 1 | N14: =SUM(K14:M14) -> 1 | O14: =$E14*N14 -> 0 | S14: =SUM(P14:R14) -> 0 | T14: =$E14*S14 -> 0 | W14: =SUM(U14:V14) -> 0 | X14: =$E14*W14 -> 0 | AA14: =SUM(Y14:Z14) -> 0 | AB14: =$E14*AA14 -> 0
B15: 12 | D15: Sondas multiparemétricas | F15: 3 | H15: 3 | I15: =SUM(G15:H15) -> 3 | J15: =$E15*I15 -> 0 | N15: =SUM(K15:M15) -> 0 | O15: =$E15*N15 -> 0 | S15: =SUM(P15:R15) -> 0 | T15: =$E15*S15 -> 0 | W15: =SUM(U15:V15) -> 0 | X15: =$E15*W15 -> 0 | AA15: =SUM(Y15:Z15) -> 0 | AB15: =$E15*AA15 -> 0
B16: 13 | C16: Acciones complementarias | D16: Topografía en hectareas | F16: 4 | I16: =SUM(G16:H16) -> 0 | J16: =$E16*I16 -> 0 | N16: =SUM(K16:M16) -> 0 | O16: =$E16*N16 -> 0 | Q16: 4 | S16: =SUM(P16:R16) -> 4 | T16: =$E16*S16 -> 0 | W16: =SUM(U16:V16) -> 0 | X16: =$E16*W16 -> 0 | AA16: =SUM(Y16:Z16) -> 0 | AB16: =$E16*AA16 -> 0
B17: 14 | D17: Instalación de la menos de 2 puntos de control geodésicos certificados | F17: 2 | I17: =SUM(G17:H17) -> 0 | J17: =$E17*I17 -> 0 | N17: =SUM(K17:M17) -> 0 | O17: =$E17*N17 -> 0 | Q17: 2 | S17: =SUM(P17:R17) -> 2 | T17: =$E17*S17 -> 0 | W17: =SUM(U17:V17) -> 0 | X17: =$E17*W17 -> 0 | AA17: =SUM(Y17:Z17) -> 0 | AB17: =$E17*AA17 -> 0
B18: 15 | D18: Adecuacion del terreno estación simnóptica | F18: 1 | H18: 1 | I18: =SUM(G18:H18) -> 1 | J18: =$E18*I18 -> 0 | N18: =SUM(K18:M18) -> 0 | O18: =$E18*N18 -> 0 | S18: =SUM(P18:R18) -> 0 | T18: =$E18*S18 -> 0 | W18: =SUM(U18:V18) -> 0 | X18: =$E18*W18 -> 0 | AA18: =SUM(Y18:Z18) -> 0 | AB18: =$E18*AA18 -> 0
B19: 16 | D19: Vigilancia 24 horas estación | F19: 12 | G19: 1 | H19: 1 | I19: =SUM(G19:H19) -> 2 | J19: =$E19*I19 -> 0 | K19: 1 | L19: 1 | M19: 1 | N19: =SUM(K19:M19) -> 3 | O19: =$E19*N19 -> 0 | P19: 1 | Q19: 1 | R19: 1 | S19: =SUM(P19:R19) -> 3 | T19: =$E19*S19 -> 0 | U19: 1 | V19: 1 | W19: =SUM(U19:V19) -> 2 | X19: =$E19*W19 -> 0 | Y19: 1 | Z19: 1 | AA19: =SUM(Y19:Z19) -> 2 | AB19: =$E19*AA19 -> 0
B20: 17 | D20: Construcción de 10 piezometros (estimado en metros construidos): 4 de 10 m, 3 de 15m, 3 de 60m.) | F20: 265 | H20: 40 | I20: =SUM(G20:H20) -> 40 | J20: =$E20*I20 -> 0 | K20: 45 | L20: 180 | N20: =SUM(K20:M20) -> 225 | O20: =$E20*N20 -> 0 | S20: =SUM(P20:R20) -> 0 | T20: =$E20*S20 -> 0 | W20: =SUM(U20:V20) -> 0 | X20: =$E20*W20 -> 0 | AA20: =SUM(Y20:Z20) -> 0 | AB20: =$E20*AA20 -> 0
B21: SUBTOTAL | J21: =SUM(J4:J20) -> 0 | O21: =SUM(O4:O20) -> 0 | T21: =SUM(T4:T20) -> 0 | X21: =SUM(X4:X20) -> 0 | AB21: =SUM(AB4:AB20) -> 0
B22: TOTAL COSTOS DEL PERSONAL | J22: =ROUND(J21,0) -> 0 | O22: =ROUND(O21,0) -> 0 | T22: =ROUND(T21,0) -> 0 | X22: =ROUND(X21,0) -> 0 | AB22: =ROUND(AB21,0) -> 0
C24: Nota: Diligenciar los Cuadros Amarillos
