Workbook
Name ______xlnm._FilterDatabase: "#REF!"
Name ____xlnm._FilterDatabase: "#REF!"
Name ___INDEX_SHEET___ASAP_Utilities: #REF!
Name ___xlnm._FilterDatabase: #N/A
Name __xlnm._FilterDatabase_1: #REF!
Name _1__123Graph_Aｸﾞﾗﾌ_7_1: #REF!
Name _112233_1: #REF!
Name _112277_1: #REF!
Name _12__123Graph_BCHART_5_1: "[.#REF!1]mex95ib!#ref!"
Name _1222_1: #REF!
Name _13__123Graph_Bｸﾞﾗﾌ_7_1: #REF!
Name _14__123Graph_Cｸﾞﾗﾌ_7_1: #REF!
Name _15__123Graph_Dｸﾞﾗﾌ_7_1: #REF!
Name _16__123Graph_Eｸﾞﾗﾌ_7_1: #REF!
Name _17__123Graph_Fｸﾞﾗﾌ_7_1: #REF!
Name _21_1: #REF!
Name _25_1: #REF!
Name _29_1: #REF!
Name _456_1: "{0;#n/a,FALSE,0;0,#n/a,FALSE,0;0,#n/a,FALSE,0;0,#n/a,FALSE,0;0,#n/a,FALSE,0;0,#n/a,FALSE,0}"
Name _AMAZONAS: #REF!
Name _amazonas_: #REF!
Name _ANTIOQUIA: #REF!
Name _ARAUCA: #REF!
Name _ATLANTICO: #REF!
Name _BOGOTADC: #REF!
Name _BOLIVAR: #REF!
Name _BOYACA: #REF!
Name _CALDAS: #REF!
Name _CAQUETA: #REF!
Name _CASANARE: #REF!
Name _CAUCA: #REF!
Name _CESAR: #REF!
Name _CHOCO: #REF!
Name _CORDOBA: #REF!
Name _CUNDINAMARCA: #REF!
Name _Fill_1: #REF!
Name _FilterDatabase_1: "'info experiencia'!#ref!"
Name _FilterDatabase_3: #REF!
Name _ftn1: "'formato cotización'!#ref!"
Name _ftn2: "'formato cotización'!#ref!"
Name _ftn3: "'formato cotización'!#ref!"
Name _ftnref1: "'formato cotización'!#ref!"
Name _ftnref2: "'formato cotización'!#ref!"
Name _ftnref3: "'formato cotización'!#ref!"
Name _GUAINIA: #REF!
Name _GUAVIARE: #REF!
Name _HUILA: #REF!
Name _LAGUAJIRA: #REF!
Name _MAGDALENA: #REF!
Name _META: #REF!
Name _NARIÑO: #REF!
Name _NORTEDESANTANDER: #REF!
Name _PUTUMAYO: #REF!
Name _QUINDIO: #REF!
Name _RISARALDA: #REF!
Name _SANANDRES: #REF!
Name _SANTANDER: #REF!
Name _SUCRE: #REF!
Name _TOLIMA: #REF!
Name _UDS3: #REF!

Sheet 02. ANÁLISIS FINAL
M1: =+I8/5 -> 14284383
W2: PERT SIN PROMEDIO PERO CON ARMONICA | AC2: PERT CON PROMEDIO
AF3: =5/30 -> 0.16666667 | AG3: =AF3+5 -> 5.1666667 | AH3: =AG3*30 -> 155 | AI3: DÍAS
A4: DOCUMENTO DE VALIDACIÓN DE PRECIOS DE REFERENCIA | L4: VALORES UNITARIOS | P4: VALORES TOTALES
A5: CONSOLIDADO DE COTIZACIONES | D5: 1. JFS CONSULTORES SAS 25/04/2025 | E5: 2. 3B PROYECTOS S A S 24/04/2025 | F5: 3. VCO S.A.S 25/04/2025 | G5: 4. INCOLTA INTERVENTORÍAS Y CONSULTORÍAS S.A.S. 25/04/2025 | H5: 5. OLI CONSULTING 24/04/2025 | I5: 6. No. SED-CM-A-DSA-063-2024 ALIANZA INTEGRAL DE PROYECTOS SAS + INDEXACIÓN 5,20% 2024 | K5: PROMEDIO | L5: MEDIANA | M5: MEDIA GEOMETRICA | N5: MEDIA ARMONICA | O5: PROMEDIO | P5: MEDIANA | Q5: MEDIA GEOMETRICA | R5: MEDIA ARMONICA | X5: ESTIMACIÓN DEL PRESUPUESTO MEDIANTE METODOLOGÍA PERT 2025 5 meses 5 dias | AC5: ESTIMACIÓN DEL PRESUPUESTO MEDIANTE METODOLOGÍA PERT | AF5: ESTIMACIÓN DEL PRESUPUESTO MEDIANTE METODOLOGÍA PERT 2026 (12 meses) | AK5: ESTIMACIÓN DEL PRESUPUESTO MEDIANTE METODOLOGÍA PERT 2027 (12 meses)
A6: N° | B6: Descripción Personal Requerido (Ver Anexo Técnico Numeral 13 y 14) | C6: Personal Requerido | D6: Valor total | E6: Valor total | F6: Valor total | G6: Valor total | H6: Valor total | I6: Valor total | K6: VALOR UNITARIO ANTES DE IVA | L6: VALOR UNITARIO ANTES DE IVA | M6: VALOR UNITARIO ANTES DE IVA | N6: VALOR UNITARIO ANTES DE IVA | O6: VALOR TOTAL | P6: VALOR TOTAL | Q6: VALOR TOTAL | R6: VALOR TOTAL | V6: MENOR | X6: Valor total | Y6: Valor total | AA6: MENOR | AC6: VALOR UNITARIO INCUIDO IVA | AD6: VALOR TOTAL INCUIDO IVA | AF6: vr. Mes | AG6: incremento 3% | AH6: Vr. Mes con incremento | AI6: VALOR TOTAL * 12 meses | AK6: vr. Mes | AL6: incremento 3% | AM6: Vr. Mes con incremento | AN6: VALOR TOTAL * 12 meses
A7: 1. COSTOS DIRECTOS DE RECURSO HUMANO MÍNIMO REQUERIDO
A8: 1.1. | B8: DIRECTOR DE INTERVENTORIA | C8: 1 | D8: 89958000 | E8: 96638535 | F8: 67721716 | G8: 86856000 | H8: 76177365 | I8: =67891554.5*5.2%+67891554.5 -> 71421915 | K8: =AVERAGE(#REF!,#REF!,#REF!,#REF!,#REF!,#REF!) -> #REF! | L8: =+MEDIAN(#REF!,#REF!,#REF!,#REF!,#REF!,#REF!) -> #REF! | M8: =GEOMEAN(#REF!,#REF!,#REF!,#REF!,#REF!,#REF!) -> #REF! | N8: =HARMEAN(#REF!,#REF!,#REF!,#REF!,#REF!,#REF!) -> #REF! | O8: =AVERAGE(D8,E8,F8,G8,H8,I8) -> 81462255 | P8: =MEDIAN(D8,E8,F8,G8,H8,I8) -> 81516682 | Q8: =GEOMEAN(D8,E8,F8,G8,H8,I8) -> 80797122 | R8: =HARMEAN(D8,E8,F8,G8,H8,I8) -> 80136421 | V8: =MIN(P8:R8) -> 80136421 | X8: =+((MIN(P8:R8)*3)+SMALL(P8:R8,2)+SMALL(P8:R8,3))/5 -> 80544614 | Y8: =ROUND((X8*C8),0) -> 80544614 | AA8: =MIN(O8:Q8) -> 80797122 | AC8: =+((MIN(O8:Q8)*3)+SMALL(O8:Q8,2)+SMALL(O8:Q8,3))/5 -> 81074061 | AD8: =ROUND((AC8*C8),0) -> 81074061 | AF8: =ROUND((+Y8/155)*30,0) -> 15589280 | AG8: =ROUND((+AF8*3%),0) -> 467678 | AH8: =ROUND((+AF8+AG8),0) -> 16056958 | AI8: =ROUNDUP((+AH8*12),0) -> 192683496 | AK8: =(+AI8/360)*30 -> 16056958 | AL8: =ROUND((+AK8*3%),0) -> 481709 | AM8: =ROUND((+AK8+AL8),0) -> 16538667 | AN8: =ROUND((+AM8*12),0) -> 198464004
A9: 1.2. | B9: COORDINADOR ADMINISTRATIVO Y FINANCIERO | C9: 1 | D9: 44462000 | E9: 75700179 | F9: 56434764 | G9: 70570500 | H9: 48112020 | I9: =59250053.5*5.2%+59250053.5 -> 62331056 | K9: =AVERAGE(#REF!,#REF!,#REF!,#REF!,#REF!,#REF!) -> #REF! | L9: =+MEDIAN(#REF!,#REF!,#REF!,#REF!,#REF!,#REF!) -> #REF! | M9: =GEOMEAN(#REF!,#REF!,#REF!,#REF!,#REF!,#REF!) -> #REF! | N9: =HARMEAN(#REF!,#REF!,#REF!,#REF!,#REF!,#REF!) -> #REF! | O9: =AVERAGE(D9,E9,F9,G9,H9,I9) -> 59601753 | P9: =MEDIAN(D9,E9,F9,G9,H9,I9) -> 59382910 | Q9: =GEOMEAN(D9,E9,F9,G9,H9,I9) -> 58528714 | R9: =HARMEAN(D9,E9,F9,G9,H9,I9) -> 57460741 | V9: =MIN(P9:R9) -> 57460741 | X9: =+((MIN(P9:R9)*3)+SMALL(P9:R9,2)+SMALL(P9:R9,3))/5 -> 58058770 | Y9: =ROUND((X9*C9),0) -> 58058770 | AA9: =MIN(O9:Q9) -> 58528714 | AC9: =+((MIN(O9:Q9)*3)+SMALL(O9:Q9,2)+SMALL(O9:Q9,3))/5 -> 58914161 | AD9: =ROUND((AC9*C9),0) -> 58914161 | AF9: =ROUND((+Y9/155)*30,0) -> 11237181 | AG9: =ROUND((+AF9*3%),0) -> 337115 | AH9: =ROUND((+AF9+AG9),0) -> 11574296 | AI9: =ROUNDUP((+AH9*12),0) -> 138891552 | AK9: =(+AI9/360)*30 -> 11574296 | AL9: =ROUND((+AK9*3%),0) -> 347229 | AM9: =ROUND((+AK9+AL9),0) -> 11921525 | AN9: =ROUND((+AM9*12),0) -> 143058300
A10: 1.3. | B10: COORDINADOR OPERATIVO | C10: 1 | D10: 54285000 | E10: 94218857 | F10: 52672446 | G10: 70570500 | H10: 48112020 | I10: =57981847*5.2%+57981847 -> 60996903 | K10: =AVERAGE(#REF!,#REF!,#REF!,#REF!,#REF!,#REF!) -> #REF! | L10: =+MEDIAN(#REF!,#REF!,#REF!,#REF!,#REF!,#REF!) -> #REF! | M10: =GEOMEAN(#REF!,#REF!,#REF!,#REF!,#REF!,#REF!) -> #REF! | N10: =HARMEAN(#REF!,#REF!,#REF!,#REF!,#REF!,#REF!) -> #REF! | O10: =AVERAGE(D10,E10,F10,G10,H10,I10) -> 63475954 | P10: =MEDIAN(D10,E10,F10,G10,H10,I10) -> 57640952 | Q10: =GEOMEAN(D10,E10,F10,G10,H10,I10) -> 61815534 | R10: =HARMEAN(D10,E10,F10,G10,H10,I10) -> 60380719 | V10: =MIN(P10:R10) -> 57640952 | X10: =+((MIN(P10:R10)*3)+SMALL(P10:R10,2)+SMALL(P10:R10,3))/5 -> 59023821 | Y10: =ROUND((X10*C10),0) -> 59023821 | AA10: =MIN(O10:Q10) -> 57640952 | AC10: =+((MIN(O10:Q10)*3)+SMALL(O10:Q10,2)+SMALL(O10:Q10,3))/5 -> 59642868 | AD10: =ROUND((AC10*C10),0) -> 59642868 | AF10: =ROUND((+Y10/155)*30,0) -> 11423965 | AG10: =ROUND((+AF10*3%),0) -> 342719 | AH10: =ROUND((+AF10+AG10),0) -> 11766684 | AI10: =ROUNDUP((+AH10*12),0) -> 141200208 | AK10: =(+AI10/360)*30 -> 11766684 | AL10: =ROUND((+AK10*3%),0) -> 353001 | AM10: =ROUND((+AK10+AL10),0) -> 12119685 | AN10: =ROUND((+AM10*12),0) -> 145436220
A11: 1.4. | B11: COORDINADOR TÉCNICO | C11: 1 | D11: 37224000 | E11: 79978427 | F11: 52672446 | G11: 70570500 | H11: 48112020 | I11: =57981847*5.2%+57981847 -> 60996903 | K11: =AVERAGE(#REF!,#REF!,#REF!,#REF!,#REF!,#REF!) -> #REF! | L11: =+MEDIAN(#REF!,#REF!,#REF!,#REF!,#REF!,#REF!) -> #REF! | M11: =GEOMEAN(#REF!,#REF!,#REF!,#REF!,#REF!,#REF!) -> #REF! | N11: =HARMEAN(#REF!,#REF!,#REF!,#REF!,#REF!,#REF!) -> #REF! | O11: =AVERAGE(D11,E11,F11,G11,H11,I11) -> 58259049 | P11: =MEDIAN(D11,E11,F11,G11,H11,I11) -> 56834675 | Q11: =GEOMEAN(D11,E11,F11,G11,H11,I11) -> 56484245 | R11: =HARMEAN(D11,E11,F11,G11,H11,I11) -> 54693451 | V11: =MIN(P11:R11) -> 54693451 | X11: =+((MIN(P11:R11)*3)+SMALL(P11:R11,2)+SMALL(P11:R11,3))/5 -> 55479855 | Y11: =ROUND((X11*C11),0) -> 55479855 | AA11: =MIN(O11:Q11) -> 56484245 | AC11: =+((MIN(O11:Q11)*3)+SMALL(O11:Q11,2)+SMALL(O11:Q11,3))/5 -> 56909292 | AD11: =ROUND((AC11*C11),0) -> 56909292 | AF11: =ROUND((+Y11/155)*30,0) -> 10738036 | AG11: =ROUND((+AF11*3%),0) -> 322141 | AH11: =ROUND((+AF11+AG11),0) -> 11060177 | AI11: =ROUNDUP((+AH11*12),0) -> 132722124 | AK11: =(+AI11/360)*30 -> 11060177 | AL11: =ROUND((+AK11*3%),0) -> 331805 | AM11: =ROUND((+AK11+AL11),0) -> 11391982 | AN11: =ROUND((+AM11*12),0) -> 136703784
A12: 1.5. | B12: ANALISTA DE SEGURIDAD | C12: 1 | D12: 44462000 | E12: 89309986 | F12: 33860858 | G12: 65142000 | H12: 40093350 | I12: =45456713.5*5.2%+45456713.5 -> 47820463 | K12: =AVERAGE(#REF!,#REF!,#REF!,#REF!,#REF!,#REF!) -> #REF! | L12: =+MEDIAN(#REF!,#REF!,#REF!,#REF!,#REF!,#REF!) -> #REF! | M12: =GEOMEAN(#REF!,#REF!,#REF!,#REF!,#REF!,#REF!) -> #REF! | N12: =HARMEAN(#REF!,#REF!,#REF!,#REF!,#REF!,#REF!) -> #REF! | O12: =AVERAGE(D12,E12,F12,G12,H12,I12) -> 53448109 | P12: =MEDIAN(D12,E12,F12,G12,H12,I12) -> 46141231 | Q12: =GEOMEAN(D12,E12,F12,G12,H12,I12) -> 50604487 | R12: =HARMEAN(D12,E12,F12,G12,H12,I12) -> 48221775 | V12: =MIN(P12:R12) -> 46141231 | X12: =+((MIN(P12:R12)*3)+SMALL(P12:R12,2)+SMALL(P12:R12,3))/5 -> 47449991 | Y12: =ROUND((X12*C12),0) -> 47449991 | AA12: =MIN(O12:Q12) -> 46141231 | AC12: =+((MIN(O12:Q12)*3)+SMALL(O12:Q12,2)+SMALL(O12:Q12,3))/5 -> 48495258 | AD12: =ROUND((AC12*C12),0) -> 48495258 | AF12: =ROUND((+Y12/155)*30,0) -> 9183869 | AG12: =ROUND((+AF12*3%),0) -> 275516 | AH12: =ROUND((+AF12+AG12),0) -> 9459385 | AI12: =ROUNDUP((+AH12*12),0) -> 113512620 | AK12: =(+AI12/360)*30 -> 9459385 | AL12: =ROUND((+AK12*3%),0) -> 283782 | AM12: =ROUND((+AK12+AL12),0) -> 9743167 | AN12: =ROUND((+AM12*12),0) -> 116918004
A13: 1.6. | B13: ABOGADO | C13: 0.5 | D13: 22231000 | E13: 39057431 | F13: 20692747 | G13: 37999500 | H13: 12028005 | I13: =38077677*5.2%+38077677 -> 40057716 | K13: =AVERAGE(#REF!,#REF!,#REF!,#REF!,#REF!,#REF!) -> #REF! | L13: =+MEDIAN(#REF!,#REF!,#REF!,#REF!,#REF!,#REF!) -> #REF! | M13: =GEOMEAN(#REF!,#REF!,#REF!,#REF!,#REF!,#REF!) -> #REF! | N13: =HARMEAN(#REF!,#REF!,#REF!,#REF!,#REF!,#REF!) -> #REF! | O13: =AVERAGE(D13,E13,F13,G13,H13,I13) -> 28677733 | P13: =MEDIAN(D13,E13,F13,G13,H13,I13) -> 30115250 | Q13: =GEOMEAN(D13,E13,F13,G13,H13,I13) -> 26273812 | R13: =HARMEAN(D13,E13,F13,G13,H13,I13) -> 23684420 | V13: =MIN(P13:R13) -> 23684420 | X13: =+((MIN(P13:R13)*3)+SMALL(P13:R13,2)+SMALL(P13:R13,3))/5 -> 25488465 | Y13: =ROUND((X13*C13),0) -> 12744232 | AA13: =MIN(O13:Q13) -> 26273812 | AC13: =+((MIN(O13:Q13)*3)+SMALL(O13:Q13,2)+SMALL(O13:Q13,3))/5 -> 27522884 | AD13: =ROUND((AC13*C13),0) -> 13761442 | AF13: =ROUND((+Y13/155)*30,0) -> 2466626 | AG13: =ROUND((+AF13*3%),0) -> 73999 | AH13: =ROUND((+AF13+AG13),0) -> 2540625 | AI13: =ROUNDUP((+AH13*12),0) -> 30487500 | AK13: =(+AI13/360)*30 -> 2540625 | AL13: =ROUND((+AK13*3%),0) -> 76219 | AM13: =ROUND((+AK13+AL13),0) -> 2616844 | AN13: =ROUND((+AM13*12),0) -> 31402128
A14: 1.7. | B14: SUPERVISORES OPERATIVOS (13) | C14: 1 | D14: 295724000 | E14: 663927214 | F14: 256004839 | G14: 635134500 | H14: 338788808 | I14: =291617612*5.2%+291617612 -> 3.0678173e+08 | K14: =AVERAGE(#REF!,#REF!,#REF!,#REF!,#REF!,#REF!) -> #REF! | L14: =+MEDIAN(#REF!,#REF!,#REF!,#REF!,#REF!,#REF!) -> #REF! | M14: =GEOMEAN(#REF!,#REF!,#REF!,#REF!,#REF!,#REF!) -> #REF! | N14: =HARMEAN(#REF!,#REF!,#REF!,#REF!,#REF!,#REF!) -> #REF! | O14: =AVERAGE(D14,E14,F14,G14,H14,I14) -> 4.1606018e+08 | P14: =MEDIAN(D14,E14,F14,G14,H14,I14) -> 3.2278527e+08 | Q14: =GEOMEAN(D14,E14,F14,G14,H14,I14) -> 3.8620087e+08 | R14: =HARMEAN(D14,E14,F14,G14,H14,I14) -> 3.6188824e+08 | V14: =MIN(P14:R14) -> 3.2278527e+08 | X14: =+((MIN(P14:R14)*3)+SMALL(P14:R14,2)+SMALL(P14:R14,3))/5 -> 3.4328898e+08 | Y14: =ROUND((X14*C14),0) -> 343288982 | AA14: =MIN(O14:Q14) -> 3.2278527e+08 | AC14: =+((MIN(O14:Q14)*3)+SMALL(O14:Q14,2)+SMALL(O14:Q14,3))/5 -> 3.5412337e+08 | AD14: =ROUND((AC14*C14),0) -> 354123370 | AF14: =ROUND((+Y14/155)*30,0) -> 66443029 | AG14: =ROUND((+AF14*3%),0) -> 1993291 | AH14: =ROUND((+AF14+AG14),0) -> 68436320 | AI14: =ROUNDUP((+AH14*12),0) -> 821235840 | AK14: =(+AI14/360)*30 -> 68436320 | AL14: =ROUND((+AK14*3%),0) -> 2053090 | AM14: =ROUND((+AK14+AL14),0) -> 70489410 | AN14: =ROUND((+AM14*12),0) -> 845872920
A15: 1.8. | B15: SUPERVISORES TÉCNICOS(13) | C15: 1 | D15: 282282000 | E15: 621205092 | F15: 264114693 | G15: 635134500 | H15: 342437302 | I15: =296377438.5*5.2%+296377438.5 -> 3.1178907e+08 | K15: =AVERAGE(#REF!,#REF!,#REF!,#REF!,#REF!,#REF!) -> #REF! | L15: =+MEDIAN(#REF!,#REF!,#REF!,#REF!,#REF!,#REF!) -> #REF! | M15: =GEOMEAN(#REF!,#REF!,#REF!,#REF!,#REF!,#REF!) -> #REF! | N15: =HARMEAN(#REF!,#REF!,#REF!,#REF!,#REF!,#REF!) -> #REF! | O15: =AVERAGE(D15,E15,F15,G15,H15,I15) -> 4.0949378e+08 | P15: =MEDIAN(D15,E15,F15,G15,H15,I15) -> 3.2711318e+08 | Q15: =GEOMEAN(D15,E15,F15,G15,H15,I15) -> 3.8268056e+08 | R15: =HARMEAN(D15,E15,F15,G15,H15,I15) -> 3.6056449e+08 | V15: =MIN(P15:R15) -> 3.2711318e+08 | X15: =+((MIN(P15:R15)*3)+SMALL(P15:R15,2)+SMALL(P15:R15,3))/5 -> 3.4491692e+08 | Y15: =ROUND((X15*C15),0) -> 344916920 | AA15: =MIN(O15:Q15) -> 3.2711318e+08 | AC15: =+((MIN(O15:Q15)*3)+SMALL(O15:Q15,2)+SMALL(O15:Q15,3))/5 -> 3.5470278e+08 | AD15: =ROUND((AC15*C15),0) -> 354702777 | AF15: =ROUND((+Y15/155)*30,0) -> 66758114 | AG15: =ROUND((+AF15*3%),0) -> 2002743 | AH15: =ROUND((+AF15+AG15),0) -> 68760857 | AI15: =ROUNDUP((+AH15*12),0) -> 825130284 | AK15: =(+AI15/360)*30 -> 68760857 | AL15: =ROUND((+AK15*3%),0) -> 2062826 | AM15: =ROUND((+AK15+AL15),0) -> 70823683 | AN15: =ROUND((+AM15*12),0) -> 849884196
A16: 1.9. | B16: ANALISTA DE DATOS | C16: 1 | D16: 10081500 | E16: 21099238 | F16: 26336223 | G16: 24428250 | H16: 14032673 | I16: =19294368.5*5.2%+19294368.5 -> 20297676 | K16: =AVERAGE(#REF!,#REF!,#REF!,#REF!,#REF!,#REF!) -> #REF! | L16: =+MEDIAN(#REF!,#REF!,#REF!,#REF!,#REF!,#REF!) -> #REF! | M16: =GEOMEAN(#REF!,#REF!,#REF!,#REF!,#REF!,#REF!) -> #REF! | N16: =HARMEAN(#REF!,#REF!,#REF!,#REF!,#REF!,#REF!) -> #REF! | O16: =AVERAGE(D16,E16,F16,G16,H16,I16) -> 19379260 | P16: =MEDIAN(D16,E16,F16,G16,H16,I16) -> 20698457 | Q16: =GEOMEAN(D16,E16,F16,G16,H16,I16) -> 18413545 | R16: =HARMEAN(D16,E16,F16,G16,H16,I16) -> 17339919 | V16: =MIN(P16:R16) -> 17339919 | X16: =+((MIN(P16:R16)*3)+SMALL(P16:R16,2)+SMALL(P16:R16,3))/5 -> 18226352 | Y16: =ROUND((X16*C16),0) -> 18226352 | AA16: =MIN(O16:Q16) -> 18413545 | AC16: =+((MIN(O16:Q16)*3)+SMALL(O16:Q16,2)+SMALL(O16:Q16,3))/5 -> 19063671 | AD16: =ROUND((AC16*C16),0) -> 19063671 | AF16: =ROUND((+Y16/155)*30,0) -> 3527681 | AG16: =ROUND((+AF16*3%),0) -> 105830 | AH16: =ROUND((+AF16+AG16),0) -> 3633511 | AI16: =ROUNDUP((+AH16*12),0) -> 43602132 | AK16: =(+AI16/360)*30 -> 3633511 | AL16: =ROUND((+AK16*3%),0) -> 109005 | AM16: =ROUND((+AK16+AL16),0) -> 3742516 | AN16: =ROUND((+AM16*12),0) -> 44910192
A17: 2. OTROS COSTOS DIRECTOS ASOCIADOS A LA OPERACIÓN | AK17: =(+AI17/360)*30 -> 0
A18: 2.1. | B18: Movilización para realización de las visitas a los Colegios Distritales, Sedes Administrativas de la Secretaría de Educación del Distrito -SED y Empresas ejecutoras del contrato de vigilancia ( ANEXO TÉCNICO Numeral 5) | C18: 1 | D18: 140000000 | E18: 104826920 | F18: 82056000 | G18: 125941200 | H18: 31020000 | I18: =108372917*5.2%+108372917 -> 1.1400831e+08 | K18: =AVERAGE(#REF!,#REF!,#REF!,#REF!,#REF!,#REF!) -> #REF! | L18: =+MEDIAN(#REF!,#REF!,#REF!,#REF!,#REF!,#REF!) -> #REF! | M18: =GEOMEAN(#REF!,#REF!,#REF!,#REF!,#REF!,#REF!) -> #REF! | N18: =HARMEAN(#REF!,#REF!,#REF!,#REF!,#REF!,#REF!) -> #REF! | O18: =AVERAGE(D18,E18,F18,G18,H18,I18) -> 99642071 | P18: =MEDIAN(D18,E18,F18,G18,H18,I18) -> 1.0941761e+08 | Q18: =GEOMEAN(D18,E18,F18,G18,H18,I18) -> 90138340 | R18: =HARMEAN(D18,E18,F18,G18,H18,I18) -> 77103023 | V18: =MIN(P18:R18) -> 77103023 | X18: =+((MIN(P18:R18)*3)+SMALL(P18:R18,2)+SMALL(P18:R18,3))/5 -> 86173004 | Y18: =ROUND((X18*C18),0) -> 86173004 | AA18: =MIN(O18:Q18) -> 90138340 | AC18: =+((MIN(O18:Q18)*3)+SMALL(O18:Q18,2)+SMALL(O18:Q18,3))/5 -> 95894941 | AD18: =ROUND((AC18*C18),0) -> 95894941 | AF18: =ROUND((+Y18/155)*30,0) -> 16678646 | AG18: =ROUND((+AF18*3%),0) -> 500359 | AH18: =ROUND((+AF18+AG18),0) -> 17179005 | AI18: =ROUNDUP((+AH18*12),0) -> 206148060 | AK18: =(+AI18/360)*30 -> 17179005 | AL18: =ROUND((+AK18*3%),0) -> 515370 | AM18: =ROUND((+AK18+AL18),0) -> 17694375 | AN18: =ROUND((+AM18*12),0) -> 212332500
A19: 2.2. | B19: Asignar al personal mínimo requerido equipos de comunicación idóneos durante la ejecución el contrato (ver ANEXO TÉCNICO Numerales 8,9,10 y 13.) | C19: 1 | D19: 50000000 | E19: 148969644 | F19: 112248400 | G19: 25850000 | H19: 186120000 | I19: =36109065*5.2%+36109065 -> 37986736 | K19: =AVERAGE(#REF!,#REF!,#REF!,#REF!,#REF!,#REF!) -> #REF! | L19: =+MEDIAN(#REF!,#REF!,#REF!,#REF!,#REF!,#REF!) -> #REF! | M19: =GEOMEAN(#REF!,#REF!,#REF!,#REF!,#REF!,#REF!) -> #REF! | N19: =HARMEAN(#REF!,#REF!,#REF!,#REF!,#REF!,#REF!) -> #REF! | O19: =AVERAGE(D19,E19,F19,G19,H19,I19) -> 93529130 | P19: =MEDIAN(D19,E19,F19,G19,H19,I19) -> 81124200 | Q19: =GEOMEAN(D19,E19,F19,G19,H19,I19) -> 73117655 | R19: =HARMEAN(D19,E19,F19,G19,H19,I19) -> 56601549 | V19: =MIN(P19:R19) -> 56601549 | X19: =+((MIN(P19:R19)*3)+SMALL(P19:R19,2)+SMALL(P19:R19,3))/5 -> 64809301 | Y19: =ROUND((X19*C19),0) -> 64809301 | AA19: =MIN(O19:Q19) -> 73117655 | AC19: =+((MIN(O19:Q19)*3)+SMALL(O19:Q19,2)+SMALL(O19:Q19,3))/5 -> 78801259 | AD19: =ROUND((AC19*C19),0) -> 78801259 | AF19: =ROUND((+Y19/155)*30,0) -> 12543736 | AG19: =ROUND((+AF19*3%),0) -> 376312 | AH19: =ROUND((+AF19+AG19),0) -> 12920048 | AI19: =ROUNDUP((+AH19*12),0) -> 155040576 | AK19: =(+AI19/360)*30 -> 12920048 | AL19: =ROUND((+AK19*3%),0) -> 387601 | AM19: =ROUND((+AK19+AL19),0) -> 13307649 | AN19: =ROUND((+AM19*12),0) -> 159691788
A20: 3. GASTOS ADMINISTRATIVOS | AK20: =(+AI20/360)*30 -> 0
A21: 3 | B21: Gastos Administrativos | C21: 1 | D21: 107070950 | E21: 2.0349315e+08 | F21: 500000000 | G21: 184819745 | H21: 51700000 | I21: =103281457*5.2%+103281457 -> 1.0865209e+08 | K21: =AVERAGE(#REF!,#REF!,#REF!,#REF!,#REF!,#REF!) -> #REF! | L21: =+MEDIAN(#REF!,#REF!,#REF!,#REF!,#REF!,#REF!) -> #REF! | M21: =GEOMEAN(#REF!,#REF!,#REF!,#REF!,#REF!,#REF!) -> #REF! | N21: =HARMEAN(#REF!,#REF!,#REF!,#REF!,#REF!,#REF!) -> #REF! | O21: =AVERAGE(D21,E21,F21,G21,H21,I21) -> 1.9262266e+08 | P21: =MEDIAN(D21,E21,F21,G21,H21,I21) -> 1.4673592e+08 | Q21: =GEOMEAN(D21,E21,F21,G21,H21,I21) -> 1.4982286e+08 | R21: =HARMEAN(D21,E21,F21,G21,H21,I21) -> 1.1949692e+08 | V21: =MIN(P21:R21) -> 1.1949692e+08 | X21: =+((MIN(P21:R21)*3)+SMALL(P21:R21,2)+SMALL(P21:R21,3))/5 -> 1.3100991e+08 | Y21: =ROUND((X21*C21),0) -> 131009910 | AA21: =MIN(O21:Q21) -> 1.4673592e+08 | AC21: =+((MIN(O21:Q21)*3)+SMALL(O21:Q21,2)+SMALL(O21:Q21,3))/5 -> 1.5653065e+08 | AD21: =ROUND((AC21*C21),0) -> 156530654 | AF21: =ROUND((+Y21/155)*30,0) -> 25356757 | AG21: =ROUND((+AF21*3%),0) -> 760703 | AH21: =ROUND((+AF21+AG21),0) -> 26117460 | AI21: =ROUNDUP((+AH21*12),0) -> 313409520 | AK21: =(+AI21/360)*30 -> 26117460 | AL21: =ROUND((+AK21*3%),0) -> 783524 | AM21: =ROUND((+AK21+AL21),0) -> 26900984 | AN21: =ROUND((+AM21*12),0) -> 322811808
Y22: =ROUND((SUM(Y8:Y21)),0) -> 1301725752 | AF22: =SUM(AF8:AF21) -> 251946920 | AG22: =SUM(AG7:AG21) -> 7558406 | AH22: =SUM(AH7:AH21) -> 259505326 | AI22: =SUM(AI8:AI21) -> 3114063912 | AK22: =SUM(AK8:AK21) -> 259505326 | AL22: =SUM(AL8:AL21) -> 7785161 | AM22: =SUM(AM8:AM21) -> 267290487 | AN22: =SUM(AN8:AN21) -> 3207485844
K23: =SUM(K8:K21) -> #REF! | AA23: =MIN(O22:Q22) -> 0
A24: RESUMEN 2025 | D24: 1. JFS CONSULTORES SAS 25/04/2025 | E24: 2. 3B PROYECTOS S A S 24/04/2025 | F24: 3. VCO S.A.S 25/04/2025 | G24: 4. INCOLTA INTERVENTORÍAS Y CONSULTORÍAS S.A.S. 25/04/2025 | H24: 5. OLI CONSULTING 24/04/2025 | I24: 6. No. SED-CM-A-DSA-063-2024 ALIANZA INTEGRAL DE PROYECTOS SAS + INDEXACIÓN 5,20% 2024 | X24: ESTIMACIÓN DEL PRESUPUESTO MEDIANTE METODOLOGÍA PERT 2025 | AC24: ESTIMACIÓN DEL PRESUPUESTO MEDIANTE METODOLOGÍA PERT | AH24: ESTIMACIÓN DEL PRESUPUESTO MEDIANTE METODOLOGÍA PERT 2026 | AM24: ESTIMACIÓN DEL PRESUPUESTO MEDIANTE METODOLOGÍA PERT 2027 | AO24: ESTIMACIÓN DEL PRESUPUESTO MEDIANTE METODOLOGÍA PERT 2027
A25: SUBTOTAL COSTO DIRECTOS (Sumatoria N°1 y 2) | D25: =+D8+D9+D10+D11+D12+D13+D14+D15+D16+D18+D19 -> 1070709500 | E25: =+E8+E9+E10+E11+E12+E13+E14+E15+E16+E18+E19 -> 2034931523 | F25: =+F8+F9+F10+F11+F12+F13+F14+F15+F16+F18+F19 -> 1024815132 | G25: =+G8+G9+G10+G11+G12+G13+G14+G15+G16+G18+G19 -> 1848197450 | H25: =+H8+H9+H10+H11+H12+H13+H14+H15+H16+H18+H19 -> 1185033563 | I25: =+I8+I9+I10+I11+I12+I13+I14+I15+I16+I18+I19 -> 1.1344885e+09 | X25: =+Y25/1.19 -> 9.8379483e+08 | Y25: =+Y8+Y9+Y10+Y11+Y12+Y13+Y14+Y15+Y16+Y18+Y19 -> 1170715842 | AC25: =+AD25/1.19 -> 1.0263724e+09 | AD25: =+AD8+AD9+AD10+AD11+AD12+AD13+AD14+AD15+AD16+AD18+AD19 -> 1221383100 | AH25: =+AI25/1.19 -> 2.3534911e+09 | AI25: =+AI8+AI9+AI10+AI11+AI12+AI13+AI14+AI15+AI16+AI18+AI19 -> 2800654392 | AM25: =+AN25/1.19 -> 2.4240958e+09 | AN25: =+AN8+AN9+AN10+AN11+AN12+AN13+AN14+AN15+AN16+AN18+AN19 -> 2884674036 | AO25: =+Y29+AI29+AN29 -> 9071697854
A26: GASTOS ADMINISTRATIVOS (N° 3) | D26: =+D21 -> 107070950 | E26: =+E21 -> 2.0349315e+08 | F26: =+F21 -> 500000000 | G26: =+G21 -> 184819745 | H26: =+H21 -> 51700000 | I26: =+I21 -> 1.0865209e+08 | X26: =+Y26/1.19 -> 1.1009236e+08 | Y26: =+Y21 -> 131009910 | AC26: =+AD26/1.19 -> 1.3153836e+08 | AD26: =+AD21 -> 156530654 | AH26: =+AI26/1.19 -> 2.6336934e+08 | AI26: =+AI21 -> 313409520 | AM26: =+AN26/1.19 -> 2.7127043e+08 | AN26: =+AN21 -> 322811808
A27: SUBTOTAL COTIZACIÓN | D27: =SUM(D25:D26) -> 1177780450 | E27: =SUM(E25:E26) -> 2.2384247e+09 | F27: =SUM(F25:F26) -> 1524815132 | G27: =SUM(G25:G26) -> 2033017195 | H27: =SUM(H25:H26) -> 1236733563 | I27: =SUM(I25:I26) -> 1.2431406e+09 | X27: =+Y27/1.19 -> 1.0938872e+09 | Y27: =SUM(Y25:Y26) -> 1301725752 | AC27: =+AD27/1.19 -> 1.1579107e+09 | AD27: =SUM(AD25:AD26) -> 1377913754 | AH27: =+AI27/1.19 -> 2.6168604e+09 | AI27: =SUM(AI25:AI26) -> 3114063912 | AM27: =+AN27/1.19 -> 2.6953663e+09 | AN27: =SUM(AN25:AN26) -> 3207485844
A28: IVA | D28: =+D27*19% -> 2.2377829e+08 | E28: =+E27*19% -> 4.2530069e+08 | F28: =+F27*19% -> 2.8971488e+08 | G28: =+G27*19% -> 3.8627327e+08 | H28: =+H27*19% -> 2.3497938e+08 | I28: =+I27*19% -> 2.3619671e+08 | X28: =+X27*19% -> 2.0783857e+08 | Y28: =ROUND((+Y27*19%),0) -> 247327893 | AC28: =+AC27*19% -> 2.2000304e+08 | AH28: =+AH27*19% -> 4.9720348e+08 | AI28: =ROUND((+AI27*19%),0) -> 591672143 | AM28: =+AM27*19% -> 5.1211959e+08 | AN28: =ROUND((+AN27*19%),0) -> 609422310
A29: TOTAL COTIZACIÓN | D29: =SUM(D27:D28) -> 1.4015587e+09 | E29: =SUM(E27:E28) -> 2.6637254e+09 | F29: =SUM(F27:F28) -> 1.81453e+09 | G29: =SUM(G27:G28) -> 2.4192905e+09 | H29: =SUM(H27:H28) -> 1.4717129e+09 | I29: =SUM(I27:I28) -> 1.4793373e+09 | X29: =+X27+X28 -> 1301725752 | Y29: =ROUND((+Y27+Y28),0) -> 1549053645 | AC29: =+AC27+AC28 -> 1.3779138e+09 | AD29: =+AD27+AD28 -> 1377913754 | AH29: =ROUND((+AH27+AH28),0) -> 3114063912 | AI29: =ROUND((+AI27+AI28),0) -> 3705736055 | AM29: =ROUND((+AM27+AM28),0) -> 3207485844 | AN29: =ROUND((+AN27+AN28),0) -> 3816908154
R30: vr. Mes 2025 | V30: =+Y29/155*30 -> 2.9981683e+08 | X30: vr. 5 meses 5 dias2025 | Y30: =ROUND((+V30/30*155),0) -> 1549053645 | AF30: 1386161735 | AG30: VF APROBADAS
R31: incremento 3% | V31: =ROUND((+V30*3%),0) -> 8994505 | AF31: =+AF30-Y30 -> -162891910 | AG31: DIFERENCIA
D32: =+D26/D29 -> 0.076394194 | E32: =+E26/E29 -> 0.076394194 | F32: =+F26/F29 -> 0.27555345 | G32: =+G26/G29 -> 0.076394194 | H32: =+H26/H29 -> 0.035129133 | I32: =+I26/I29 -> 0.073446465 | R32: vr. Mes 2026 | V32: =+AK22 -> 259505326 | X32: vr. 12 meses | Y32: =+AI29 -> 3705736055 | AF32: 3316056552 | AG32: VF APROBADAS
R33: incremento 3% | V33: =ROUND((+V32*3%),0) -> 7785160 | AF33: =+AF32-Y32 -> -389679503 | AG33: DIFERENCIA
R34: vr. Mes 2027 | V34: =+AM22 -> 267290487 | X34: vr. 12 meses | Y34: =+AN29 -> 3816908154 | AF34: 3415538196 | AG34: VF APROBADAS
AF35: =+AF34-Y34 -> -401369958 | AG35: DIFERENCIA
R36: VALOR TOTAL CONTRATO DESDE 25/07/2025 HASTA 31/12/2027 | Y36: =+Y30+Y32+Y34 -> 9071697854 | AF36: =+AF30+AF32+AF34 -> 8117756483 | AG36: VF APROBADAS
AF37: =+AF36-Y36 -> -953941371 | AG37: DIFERENCIA
V43: 2024
R44: 5 meses 14 dias | V44: vr. 14 dias | X44: vr. Mes | Y44: valor cto
R45: actual | V45: =(+Y45/164)*14 -> 1.1541073e+08 | X45: =+Y45/164*30 -> 2.4730871e+08 | Y45: 1.3519543e+09

Sheet 02. ANÁLISIS FINAL (2)
O2: PERT SIN PROMEDIO PERO CON ARMONICA
A4: DOCUMENTO DE VALIDACIÓN DE PRECIOS DE REFERENCIA | H4: VALORES TOTALES | P4: =5*30 -> 150 | Q4: =P4+5 -> 155
A5: CONSOLIDADO DE COTIZACIONES | D5: 1. JFS CONSULTORES SAS 25/04/2025 | E5: 2. VCO S.A.S 25/04/2025 | F5: 3. OLI CONSULTING 24/04/2025 | G5: 4. No. SED-CM-A-DSA-063-2024 ALIANZA INTEGRAL DE PROYECTOS SAS + INDEXACIÓN 5,20% 2024 | H5: MEDIANA | I5: MEDIA GEOMETRICA | J5: MEDIA ARMONICA | P5: ESTIMACIÓN DEL PRESUPUESTO MEDIANTE METODOLOGÍA PERT 2025 5 meses 5 dias | S5: ESTIMACIÓN DEL PRESUPUESTO MEDIANTE METODOLOGÍA PERT 2026 (12 meses) | W5: ESTIMACIÓN DEL PRESUPUESTO MEDIANTE METODOLOGÍA PERT 2027 (12 meses)
A6: N° | B6: Descripción Personal Requerido (Ver Anexo Técnico Numeral 13 y 14) | C6: Personal Requerido | D6: Valor total | E6: Valor total | F6: Valor total | G6: Valor total | H6: VALOR TOTAL | I6: VALOR TOTAL | J6: VALOR TOTAL | N6: MENOR | P6: VALOR TOTAL | Q6: vr. Mes | S6: incremento 3,23% | T6: Vr. Mes con incremento | U6: VALOR TOTAL * 12 meses | W6: incremento 3% | X6: Vr. Mes con incremento | Y6: VALOR TOTAL * 12 meses
A7: 1. COSTOS DIRECTOS DE RECURSO HUMANO MÍNIMO REQUERIDO
A8: 1.1. | B8: DIRECTOR DE INTERVENTORIA | C8: 1 | D8: 89958000 | E8: 67721716 | F8: 76177365 | G8: =67891554.5*5.2%+67891554.5 -> 71421915 | H8: =MEDIAN(D8,E8,F8,G8) -> 73799640 | I8: =GEOMEAN(D8,E8,F8,G8) -> 75876326 | J8: =HARMEAN(D8,E8,F8,G8) -> 75455789 | N8: =MIN(H8:J8) -> 73799640 | P8: =+((MIN(H8:J8)*3)+SMALL(H8:J8,2)+SMALL(H8:J8,3))/5 -> 74546207 | Q8: =ROUND((+P8/155)*30,0) -> 14428298 | S8: =ROUND((+Q8*3.23%),0) -> 466034 | T8: =ROUND((+Q8+S8),0) -> 14894332 | U8: =ROUNDUP((+T8*12),0) -> 178731984 | W8: =+T8*3% -> 446829.96 | X8: =ROUND((+T8+W8),0) -> 15341162 | Y8: =ROUND((+X8*12),0) -> 184093944
A9: 1.2. | B9: COORDINADOR ADMINISTRATIVO Y FINANCIERO | C9: 1 | D9: 44462000 | E9: 56434764 | F9: 48112020 | G9: =59250053.5*5.2%+59250053.5 -> 62331056 | H9: =MEDIAN(D9,E9,F9,G9) -> 52273392 | I9: =GEOMEAN(D9,E9,F9,G9) -> 52374929 | J9: =HARMEAN(D9,E9,F9,G9) -> 51921832 | N9: =MIN(H9:J9) -> 51921832 | P9: =+((MIN(H9:J9)*3)+SMALL(H9:J9,2)+SMALL(H9:J9,3))/5 -> 52082763 | Q9: =ROUND((+P9/155)*30,0) -> 10080535 | S9: =ROUND((+Q9*3.23%),0) -> 325601 | T9: =ROUND((+Q9+S9),0) -> 10406136 | U9: =ROUNDUP((+T9*12),0) -> 124873632 | W9: =+T9*3% -> 312184.08 | X9: =ROUND((+T9+W9),0) -> 10718320 | Y9: =ROUND((+X9*12),0) -> 128619840
A10: 1.3. | B10: COORDINADOR OPERATIVO | C10: 1 | D10: 54285000 | E10: 52672446 | F10: 48112020 | G10: =57981847*5.2%+57981847 -> 60996903 | H10: =MEDIAN(D10,E10,F10,G10) -> 53478723 | I10: =GEOMEAN(D10,E10,F10,G10) -> 53821547 | J10: =HARMEAN(D10,E10,F10,G10) -> 53629615 | N10: =MIN(H10:J10) -> 53478723 | P10: =+((MIN(H10:J10)*3)+SMALL(H10:J10,2)+SMALL(H10:J10,3))/5 -> 53577466 | Q10: =ROUND((+P10/155)*30,0) -> 10369832 | S10: =ROUND((+Q10*3.23%),0) -> 334946 | T10: =ROUND((+Q10+S10),0) -> 10704778 | U10: =ROUNDUP((+T10*12),0) -> 128457336 | W10: =+T10*3% -> 321143.34 | X10: =ROUND((+T10+W10),0) -> 11025921 | Y10: =ROUND((+X10*12),0) -> 132311052
A11: 1.4. | B11: COORDINADOR TÉCNICO | C11: 1 | D11: 37224000 | E11: 52672446 | F11: 48112020 | G11: =57981847*5.2%+57981847 -> 60996903 | H11: =MEDIAN(D11,E11,F11,G11) -> 50392233 | I11: =GEOMEAN(D11,E11,F11,G11) -> 48976977 | J11: =HARMEAN(D11,E11,F11,G11) -> 48176084 | N11: =MIN(H11:J11) -> 48176084 | P11: =+((MIN(H11:J11)*3)+SMALL(H11:J11,2)+SMALL(H11:J11,3))/5 -> 48779493 | Q11: =ROUND((+P11/155)*30,0) -> 9441192 | S11: =ROUND((+Q11*3.23%),0) -> 304951 | T11: =ROUND((+Q11+S11),0) -> 9746143 | U11: =ROUNDUP((+T11*12),0) -> 116953716 | W11: =+T11*3% -> 292384.29 | X11: =ROUND((+T11+W11),0) -> 10038527 | Y11: =ROUND((+X11*12),0) -> 120462324
A12: 1.5. | B12: ANALISTA DE SEGURIDAD | C12: 1 | D12: 44462000 | E12: 33860858 | F12: 40093350 | G12: =45456713.5*5.2%+45456713.5 -> 47820463 | H12: =MEDIAN(D12,E12,F12,G12) -> 42277675 | I12: =GEOMEAN(D12,E12,F12,G12) -> 41218603 | J12: =HARMEAN(D12,E12,F12,G12) -> 40867585 | N12: =MIN(H12:J12) -> 40867585 | P12: =+((MIN(H12:J12)*3)+SMALL(H12:J12,2)+SMALL(H12:J12,3))/5 -> 41219807 | Q12: =ROUND((+P12/155)*30,0) -> 7978027 | S12: =ROUND((+Q12*3.23%),0) -> 257690 | T12: =ROUND((+Q12+S12),0) -> 8235717 | U12: =ROUNDUP((+T12*12),0) -> 98828604 | W12: =+T12*3% -> 247071.51 | X12: =ROUND((+T12+W12),0) -> 8482789 | Y12: =ROUND((+X12*12),0) -> 101793468
A13: 1.6. | B13: ABOGADO | C13: 0.5 | D13: 22231000 | E13: 20692747 | F13: 12028005 | G13: =38077677*5.2%+38077677 -> 40057716 | H13: =MEDIAN(D13,E13,F13,G13) -> 21461874 | I13: =GEOMEAN(D13,E13,F13,G13) -> 21697727 | J13: =HARMEAN(D13,E13,F13,G13) -> 19859826 | N13: =MIN(H13:J13) -> 19859826 | P13: =+((MIN(H13:J13)*3)+SMALL(H13:J13,2)+SMALL(H13:J13,3))/5 -> 20547816 | Q13: =ROUND((+P13/155)*30,0) -> 3976997 | S13: =ROUND((+Q13*3.23%),0) -> 128457 | T13: =ROUND((+Q13+S13),0) -> 4105454 | U13: =ROUNDUP((+T13*12),0) -> 49265448 | W13: =+T13*3% -> 123163.62 | X13: =ROUND((+T13+W13),0) -> 4228618 | Y13: =ROUND((+X13*12),0) -> 50743416
A14: 1.7. | B14: SUPERVISORES OPERATIVOS (13) | C14: 1 | D14: 295724000 | E14: 256004839 | F14: 338788808 | G14: =291617612*5.2%+291617612 -> 3.0678173e+08 | H14: =MEDIAN(D14,E14,F14,G14) -> 3.0125286e+08 | I14: =GEOMEAN(D14,E14,F14,G14) -> 2.9783335e+08 | J14: =HARMEAN(D14,E14,F14,G14) -> 2.9631725e+08 | N14: =MIN(H14:J14) -> 2.9631725e+08 | P14: =+((MIN(H14:J14)*3)+SMALL(H14:J14,2)+SMALL(H14:J14,3))/5 -> 2.9760759e+08 | Q14: =ROUND((+P14/155)*30,0) -> 57601469 | S14: =ROUND((+Q14*3.23%),0) -> 1860527 | T14: =ROUND((+Q14+S14),0) -> 59461996 | U14: =ROUNDUP((+T14*12),0) -> 713543952 | W14: =+T14*3% -> 1783859.9 | X14: =ROUND((+T14+W14),0) -> 61245856 | Y14: =ROUND((+X14*12),0) -> 734950272
A15: 1.8. | B15: SUPERVISORES TÉCNICOS(13) | C15: 1 | D15: 282282000 | E15: 264114693 | F15: 342437302 | G15: =296377438.5*5.2%+296377438.5 -> 3.1178907e+08 | H15: =MEDIAN(D15,E15,F15,G15) -> 2.9703553e+08 | I15: =GEOMEAN(D15,E15,F15,G15) -> 2.9869601e+08 | J15: =HARMEAN(D15,E15,F15,G15) -> 2.9725787e+08 | N15: =MIN(H15:J15) -> 2.9703553e+08 | P15: =+((MIN(H15:J15)*3)+SMALL(H15:J15,2)+SMALL(H15:J15,3))/5 -> 2.974121e+08 | Q15: =ROUND((+P15/155)*30,0) -> 57563632 | S15: =ROUND((+Q15*3.23%),0) -> 1859305 | T15: =ROUND((+Q15+S15),0) -> 59422937 | U15: =ROUNDUP((+T15*12),0) -> 713075244 | W15: =+T15*3% -> 1782688.1 | X15: =ROUND((+T15+W15),0) -> 61205625 | Y15: =ROUND((+X15*12),0) -> 734467500
A16: 1.9. | B16: ANALISTA DE DATOS | C16: 1 | D16: 10081500 | E16: 26336223 | F16: 14032673 | G16: =19294368.5*5.2%+19294368.5 -> 20297676 | H16: =MEDIAN(D16,E16,F16,G16) -> 17165174 | I16: =GEOMEAN(D16,E16,F16,G16) -> 16583124 | J16: =HARMEAN(D16,E16,F16,G16) -> 15522461 | N16: =MIN(H16:J16) -> 15522461 | P16: =+((MIN(H16:J16)*3)+SMALL(H16:J16,2)+SMALL(H16:J16,3))/5 -> 16063136 | Q16: =ROUND((+P16/155)*30,0) -> 3108994 | S16: =ROUND((+Q16*3.23%),0) -> 100421 | T16: =ROUND((+Q16+S16),0) -> 3209415 | U16: =ROUNDUP((+T16*12),0) -> 38512980 | W16: =+T16*3% -> 96282.45 | X16: =ROUND((+T16+W16),0) -> 3305697 | Y16: =ROUND((+X16*12),0) -> 39668364
A17: 2. OTROS COSTOS DIRECTOS ASOCIADOS A LA OPERACIÓN | S17: =ROUND((+Q17*3.23%),0) -> 0
A18: 2.1. | B18: Movilización para realización de las visitas a los Colegios Distritales, Sedes Administrativas de la Secretaría de Educación del Distrito -SED y Empresas ejecutoras del contrato de vigilancia ( ANEXO TÉCNICO Numeral 5) | C18: 1 | D18: 140000000 | E18: 82056000 | F18: 31020000 | G18: =108372917*5.2%+108372917 -> 1.1400831e+08 | H18: =MEDIAN(D18,E18,F18,G18) -> 98032154 | I18: =GEOMEAN(D18,E18,F18,G18) -> 79836993 | J18: =HARMEAN(D18,E18,F18,G18) -> 66292981 | N18: =MIN(H18:J18) -> 66292981 | P18: =+((MIN(H18:J18)*3)+SMALL(H18:J18,2)+SMALL(H18:J18,3))/5 -> 75349618 | Q18: =ROUND((+P18/155)*30,0) -> 14583797 | S18: =ROUND((+Q18*3.23%),0) -> 471057 | T18: =ROUND((+Q18+S18),0) -> 15054854 | U18: =ROUNDUP((+T18*12),0) -> 180658248 | W18: =+T18*3% -> 451645.62 | X18: =ROUND((+T18+W18),0) -> 15506500 | Y18: =ROUND((+X18*12),0) -> 186078000
A19: 2.2. | B19: Asignar al personal mínimo requerido equipos de comunicación idóneos durante la ejecución el contrato (ver ANEXO TÉCNICO Numerales 8,9,10 y 13.) | C19: 1 | D19: 50000000 | E19: 112248400 | F19: 186120000 | G19: =36109065*5.2%+36109065 -> 37986736 | H19: =MEDIAN(D19,E19,F19,G19) -> 81124200 | I19: =GEOMEAN(D19,E19,F19,G19) -> 79367700 | J19: =HARMEAN(D19,E19,F19,G19) -> 65999338 | N19: =MIN(H19:J19) -> 65999338 | P19: =+((MIN(H19:J19)*3)+SMALL(H19:J19,2)+SMALL(H19:J19,3))/5 -> 71697983 | Q19: =ROUND((+P19/155)*30,0) -> 13877029 | S19: =ROUND((+Q19*3.23%),0) -> 448228 | T19: =ROUND((+Q19+S19),0) -> 14325257 | U19: =ROUNDUP((+T19*12),0) -> 171903084 | W19: =+T19*3% -> 429757.71 | X19: =ROUND((+T19+W19),0) -> 14755015 | Y19: =ROUND((+X19*12),0) -> 177060180
A20: 3. GASTOS ADMINISTRATIVOS | S20: =ROUND((+Q20*3.23%),0) -> 0
A21: 3 | B21: Gastos Administrativos | C21: 1 | D21: 107070950 | E21: 500000000 | F21: 51700000 | G21: =103281457*5.2%+103281457 -> 1.0865209e+08 | H21: =MEDIAN(D21,E21,F21,G21) -> 1.0786152e+08 | I21: =GEOMEAN(D21,E21,F21,G21) -> 1.316869e+08 | J21: =HARMEAN(D21,E21,F21,G21) -> 1.002867e+08 | N21: =MIN(H21:J21) -> 1.002867e+08 | P21: =+((MIN(H21:J21)*3)+SMALL(H21:J21,2)+SMALL(H21:J21,3))/5 -> 1.080817e+08 | Q21: =ROUND((+P21/155)*30,0) -> 20919039 | S21: =ROUND((+Q21*3.23%),0) -> 675685 | T21: =ROUND((+Q21+S21),0) -> 21594724 | U21: =ROUNDUP((+T21*12),0) -> 259136688 | W21: =+T21*3% -> 647841.72 | X21: =ROUND((+T21+W21),0) -> 22242566 | Y21: =ROUND((+X21*12),0) -> 266910792
P22: =ROUND((SUM(Q8:Q21)),0) -> 223928841 | Q22: =ROUND((+P22/155)*30,0) -> 43341066 | S22: =ROUND((+Q22*3.23%),0) -> 1399916 | T22: =SUM(T7:T21) -> 231161743 | U22: =SUM(U8:U21) -> 2773940916 | W22: =SUM(W8:W21) -> 6934852.3 | X22: =ROUND((+T22+W22),0) -> 238096595 | Y22: =SUM(Y8:Y21) -> 2857159152
A24: RESUMEN 2025 | D24: 1. JFS CONSULTORES SAS 25/04/2025 | E24: 3. VCO S.A.S 25/04/2025 | F24: 5. OLI CONSULTING 24/04/2025 | G24: 6. No. SED-CM-A-DSA-063-2024 ALIANZA INTEGRAL DE PROYECTOS SAS + INDEXACIÓN 5,20% 2024 | O24: ESTIMACIÓN DEL PRESUPUESTO MEDIANTE METODOLOGÍA PERT 2025 | P24: ESTIMACIÓN DEL PRESUPUESTO MEDIANTE METODOLOGÍA PERT 2025 | U24: ESTIMACIÓN DEL PRESUPUESTO MEDIANTE METODOLOGÍA PERT 2026 | Y24: ESTIMACIÓN DEL PRESUPUESTO MEDIANTE METODOLOGÍA PERT 2027 | AA24: ESTIMACIÓN DEL PRESUPUESTO MEDIANTE METODOLOGÍA PERT 2027
A25: SUBTOTAL COSTO DIRECTOS (Sumatoria N°1 y 2) | D25: =+D8+D9+D10+D11+D12+D13+D14+D15+D16+D18+D19 -> 1070709500 | E25: =+E8+E9+E10+E11+E12+E13+E14+E15+E16+E18+E19 -> 1024815132 | F25: =+F8+F9+F10+F11+F12+F13+F14+F15+F16+F18+F19 -> 1185033563 | G25: =+G8+G9+G10+G11+G12+G13+G14+G15+G16+G18+G19 -> 1.1344885e+09 | O25: =+P25/1.19 -> 8.8141511e+08 | P25: =ROUND((+P8+P9+P10+P11+P12+P13+P14+P15+P16+P18+P19),0) -> 1048883976 | U25: =+U8+U9+U10+U11+U12+U13+U14+U15+U16+U18+U19 -> 2514804228 | Y25: =+Y8+Y9+Y10+Y11+Y12+Y13+Y14+Y15+Y16+Y18+Y19 -> 2590248360 | AA25: =+P29+U29+Y29 -> 8077798238
A26: GASTOS ADMINISTRATIVOS (N° 3) | D26: =+D21 -> 107070950 | E26: =+E21 -> 500000000 | F26: =+F21 -> 51700000 | G26: =+G21 -> 1.0865209e+08 | O26: =+P26/1.19 -> 90824960 | P26: =ROUND((+P21),0) -> 108081702 | U26: =+U21 -> 259136688 | Y26: =+Y21 -> 266910792
A27: SUBTOTAL COTIZACIÓN | D27: =SUM(D25:D26) -> 1177780450 | E27: =SUM(E25:E26) -> 1524815132 | F27: =SUM(F25:F26) -> 1236733563 | G27: =SUM(G25:G26) -> 1.2431406e+09 | O27: =+P27/1.19 -> 9.7224007e+08 | P27: =SUM(P25:P26) -> 1156965678 | U27: =SUM(U25:U26) -> 2773940916 | Y27: =SUM(Y25:Y26) -> 2857159152
A28: IVA | D28: =+D27*19% -> 2.2377829e+08 | E28: =+E27*19% -> 2.8971488e+08 | F28: =+F27*19% -> 2.3497938e+08 | G28: =+G27*19% -> 2.3619671e+08 | O28: =+O27*19% -> 1.8472561e+08 | P28: =ROUND((+P27*19%),0) -> 219823479 | Q28: =+P26/P29 -> 0.078502726 | U28: =ROUND((+U27*19%),0) -> 527048774 | W28: =+U26/U29 -> 0.078502726 | Y28: =ROUND((+Y27*19%),0) -> 542860239 | Z28: =+Y26/Y29 -> 0.078502726
A29: TOTAL COTIZACIÓN | D29: =SUM(D27:D28) -> 1.4015587e+09 | E29: =SUM(E27:E28) -> 1.81453e+09 | F29: =SUM(F27:F28) -> 1.4717129e+09 | G29: =SUM(G27:G28) -> 1.4793373e+09 | O29: =+O27+O28 -> 1156965678 | P29: =ROUND((+P27+P28),0) -> 1376789157 | U29: =ROUND((+U27+U28),0) -> 3300989690 | Y29: =ROUND((+Y27+Y28),0) -> 3400019391
J30: vr. Mes 2025 | N30: =+P29/155*30 -> 2.6647532e+08 | P30: vr. 5 meses 5 dias2025 | Q30: =ROUND((+N30/30*155),0) -> 1376789157 | S30: 1386161735 | T30: VF APROBADAS
J31: incremento 3% | N31: =ROUND((+N30*3%),0) -> 7994260 | S31: =+S30-Q30 -> 9372578 | T31: DIFERENCIA
J32: vr. Mes 2026 | N32: =+U29/12 -> 2.7508247e+08 | P32: vr. 12 meses | Q32: =+N32*12 -> 3300989690 | S32: 3316056552 | T32: VF APROBADAS
J33: incremento 3% | N33: =ROUND((+N32*3%),0) -> 8252474 | S33: =+S32-Q32 -> 15066862 | T33: DIFERENCIA
J34: vr. Mes 2027 | N34: =+Y29/12 -> 2.8333495e+08 | P34: vr. 12 meses | Q34: =+N34*12 -> 3400019391 | S34: 3415538196 | T34: VF APROBADAS
S35: =+S34-Q34 -> 15518805 | T35: DIFERENCIA
J36: VALOR TOTAL CONTRATO DESDE 25/07/2025 HASTA 31/12/2027 | Q36: =+Q30+Q32+Q34 -> 8077798238 | S36: =+S30+S32+S34 -> 8117756483 | T36: VF APROBADAS
S37: =+S36-Q36 -> 39958245 | T37: DIFERENCIA
N43: 2024
J44: 5 meses 14 dias | N44: vr. 14 dias | P44: vr. Mes | Q44: valor cto
J45: actual | N45: =(+Q45/164)*14 -> 1.1541073e+08 | P45: =+Q45/164*30 -> 2.4730871e+08 | Q45: 1.3519543e+09

Sheet ESTUDIO_MERCADO_FINAL
U2: PERT SIN PROMEDIO PERO CON ARMONICA
A4: DOCUMENTO DE VALIDACIÓN DE PRECIOS DE REFERENCIA | F4: =F13*$E13 -> 44433333 | G4: =F4*50% -> 22216667 | H4: =H13*$E13 -> 41358810 | I4: =H4*50% -> 20679405 | J4: =J13*$E13 -> 24040500 | K4: =J4*50% -> 12020250 | L4: =L13*$E13 -> 37629976 | M4: =L4*50% -> 18814988 | N4: MEDIDAS DE TENDENCIA CENTRAL | V4: =5*30 -> 150 | W4: =V4+5 -> 155 | Y4: =W4/30 -> 5.1666667
A5: CONSOLIDADO DE COTIZACIONES | F5: 1. JFS CONSULTORES SAS 25/04/2025 | H5: 2. VCO S.A.S 25/04/2025 | J5: 3. OLI CONSULTING 24/04/2025 | L5: 4. No. SED-CM-A-DSA-063-2024 ALIANZA INTEGRAL DE PROYECTOS SAS | N5: MEDIANA | P5: MEDIA GEOMETRICA | R5: MEDIA ARMONICA | V5: ESTIMACIÓN DEL PRESUPUESTO MEDIANTE METODOLOGÍA PERT 2025 5 meses 5 dias | Y5: ESTIMACIÓN DEL PRESUPUESTO MEDIANTE METODOLOGÍA PERT 2026 (12 meses) | AC5: ESTIMACIÓN DEL PRESUPUESTO MEDIANTE METODOLOGÍA PERT 2027 (12 meses)
A6: N° | B6: Descripción Personal Requerido (Ver Anexo Técnico Numeral 13 y 14) | C6: Personal Requerido | D6: % de dedicación | E6: Plazo | F6: Valor mensual unitario | G6: Valor total | H6: Valor mensual unitario | I6: Valor total | J6: Valor mensual unitario | K6: Valor total | L6: Valor mensual unitario | M6: Valor total | N6: VALOR UNITARIO MES | O6: VALOR TOTAL | P6: VALOR UNITARIO MES | Q6: VALOR TOTAL | R6: VALOR UNITARIO MES | S6: VALOR TOTAL | V6: VALOR UNITARIO MES 2025 | W6: VALOR TOTAL | Y6: incremento 3,23% | Z6: VALOR UNITARIO MES 2026 | AA6: VALOR TOTAL | AC6: incremento 3% | AD6: VALOR UNITARIO MES 2027 | AE6: VALOR TOTAL | AG6: HOMOLOGACIÓN PERFILES TABLA DE HONORARIOS SED | AI6: VALOR UNITARIO MES ESTUDIO DE MERCADO | AJ6: % VARIACIÓN TABLA DE HONORARIOS VS ESTUDIO DE MERCADO | AQ6: =5/30 -> 0.16666667
A7: 1. COSTOS DIRECTOS DE RECURSO HUMANO MÍNIMO REQUERIDO
A8: 1.1. | B8: DIRECTOR DE INTERVENTORIA | C8: 1 | D8: 1 | E8: =5+(5/30) -> 5.1666667 | F8: 17400000 | G8: =ROUND(F8*$D8*$E8*$C8,0) -> 89900000 | H8: 13098978 | I8: =ROUND(H8*$D8*$E8*$C8,0) -> 67678053 | J8: 14734500 | K8: =ROUND(J8*$D8*$E8*$C8,0) -> 76128250 | L8: 12985803 | M8: =ROUND(L8*$D8*$E8*$C8,0) -> 67093314 | N8: =ROUND(MEDIAN(F8,H8,J8,L8),0) -> 13916739 | P8: =ROUND(GEOMEAN(F8,H8,J8,L8),0) -> 14450994 | R8: =ROUND(HARMEAN(F8,H8,J8,L8),0) -> 14352958 | V8: =ROUND((((MIN(N8:R8)*3)+SMALL(N8:R8,2)+SMALL(N8:R8,3))/5),0) -> 14110834 | W8: =ROUND(V8*$E8*$C8*$D8,0) -> 72905976 | Y8: =ROUND((+V8*3.23%),0) -> 455780 | Z8: =ROUND((+V8+Y8),0) -> 14566614 | AA8: =ROUND(Z8*12*$C8*$D8,0) -> 174799368 | AC8: =ROUND(Z8*3%,0) -> 436998 | AD8: =ROUND((+Z8+AC8),0) -> 15003612 | AE8: =ROUND(AD8*12*$C8*$D8,0) -> 180043344 | AG8: Director de la Interventoría | AH8: =HOMO_TH!Y6 -> 14747485 | AI8: =V8 -> 14110834 | AJ8: =(AI8-AH8)/AH8 -> -0.043170141
A9: 1.2. | B9: COORDINADOR ADMINISTRATIVO Y FINANCIERO | C9: 1 | D9: 1 | E9: =5+(5/30) -> 5.1666667 | F9: 8600000 | G9: =ROUND(F9*$D9*$E9*$C9,0) -> 44433333 | H9: 10915815 | I9: =ROUND(H9*$D9*$E9*$C9,0) -> 56398378 | J9: 9306000 | K9: =ROUND(J9*$D9*$E9*$C9,0) -> 48081000 | L9: 11332919 | M9: =ROUND(L9*$D9*$E9*$C9,0) -> 58553417 | N9: =ROUND(MEDIAN(F9,H9,J9,L9),0) -> 10110908 | P9: =ROUND(GEOMEAN(F9,H9,J9,L9),0) -> 9975045 | R9: =ROUND(HARMEAN(F9,H9,J9,L9),0) -> 9911163 | V9: =ROUND((((MIN(N9:R9)*3)+SMALL(N9:R9,2)+SMALL(N9:R9,3))/5),0) -> 9963888 | W9: =ROUND(V9*$E9*$C9*$D9,0) -> 51480088 | Y9: =ROUND((+V9*3.23%),0) -> 321834 | Z9: =ROUND((+V9+Y9),0) -> 10285722 | AA9: =ROUND(Z9*12*$C9*$D9,0) -> 123428664 | AC9: =ROUND(Z9*3%,0) -> 308572 | AD9: =ROUND((+Z9+AC9),0) -> 10594294 | AE9: =ROUND(AD9*12*$C9*$D9,0) -> 127131528 | AG9: Coordinador Administrativo y Financiero | AH9: =HOMO_TH!Y7 -> 12418845 | AI9: =V9 -> 9963888 | AJ9: =(AI9-AH9)/AH9 -> -0.19767998
A10: 1.3. | B10: COORDINADOR OPERATIVO | C10: 1 | D10: 1 | E10: =5+(5/30) -> 5.1666667 | F10: 10500000 | G10: =ROUND(F10*$D10*$E10*$C10,0) -> 54250000 | H10: 10188094 | I10: =ROUND(H10*$D10*$E10*$C10,0) -> 52638486 | J10: 9306000 | K10: =ROUND(J10*$D10*$E10*$C10,0) -> 48081000 | L10: 11090346 | M10: =ROUND(L10*$D10*$E10*$C10,0) -> 57300121 | N10: =ROUND(MEDIAN(F10,H10,J10,L10),0) -> 10344047 | P10: =ROUND(GEOMEAN(F10,H10,J10,L10),0) -> 10250560 | R10: =ROUND(HARMEAN(F10,H10,J10,L10),0) -> 10229709 | V10: =ROUND((((MIN(N10:R10)*3)+SMALL(N10:R10,2)+SMALL(N10:R10,3))/5),0) -> 10256747 | W10: =ROUND(V10*$E10*$C10*$D10,0) -> 52993193 | Y10: =ROUND((+V10*3.23%),0) -> 331293 | Z10: =ROUND((+V10+Y10),0) -> 10588040 | AA10: =ROUND(Z10*12*$C10*$D10,0) -> 127056480 | AC10: =ROUND(Z10*3%,0) -> 317641 | AD10: =ROUND((+Z10+AC10),0) -> 10905681 | AE10: =ROUND(AD10*12*$C10*$D10,0) -> 130868172 | AG10: Coordinador Operativo | AH10: =HOMO_TH!Y8 -> 11383514 | AI10: =V10 -> 10256747 | AJ10: =(AI10-AH10)/AH10 -> -0.098982353
A11: 1.4. | B11: COORDINADOR TÉCNICO | C11: 1 | D11: 1 | E11: =5+(5/30) -> 5.1666667 | F11: 7200000 | G11: =ROUND(F11*$D11*$E11*$C11,0) -> 37200000 | H11: 10188094 | I11: =ROUND(H11*$D11*$E11*$C11,0) -> 52638486 | J11: 9306000 | K11: =ROUND(J11*$D11*$E11*$C11,0) -> 48081000 | L11: 11090346 | M11: =ROUND(L11*$D11*$E11*$C11,0) -> 57300121 | N11: =ROUND(MEDIAN(F11,H11,J11,L11),0) -> 9747047 | P11: =ROUND(GEOMEAN(F11,H11,J11,L11),0) -> 9327890 | R11: =ROUND(HARMEAN(F11,H11,J11,L11),0) -> 9202410 | V11: =ROUND((((MIN(N11:R11)*3)+SMALL(N11:R11,2)+SMALL(N11:R11,3))/5),0) -> 9336433 | W11: =ROUND(V11*$E11*$C11*$D11,0) -> 48238237 | Y11: =ROUND((+V11*3.23%),0) -> 301567 | Z11: =ROUND((+V11+Y11),0) -> 9638000 | AA11: =ROUND(Z11*12*$C11*$D11,0) -> 115656000 | AC11: =ROUND(Z11*3%,0) -> 289140 | AD11: =ROUND((+Z11+AC11),0) -> 9927140 | AE11: =ROUND(AD11*12*$C11*$D11,0) -> 119125680 | AG11: Coordinador Técnico | AH11: =HOMO_TH!Y9 -> 8796895 | AI11: =V11 -> 9336433 | AJ11: =(AI11-AH11)/AH11 -> 0.061332777
A12: 1.5. | B12: ANALISTA DE SEGURIDAD | C12: 1 | D12: 1 | E12: =5+(5/30) -> 5.1666667 | F12: 8600000 | G12: =ROUND(F12*$D12*$E12*$C12,0) -> 44433333 | H12: 6549489 | I12: =ROUND(H12*$D12*$E12*$C12,0) -> 33839027 | J12: 7755000 | K12: =ROUND(J12*$D12*$E12*$C12,0) -> 40067500 | L12: 8694629.6 | M12: =ROUND(L12*$D12*$E12*$C12,0) -> 44922253 | N12: =ROUND(MEDIAN(F12,H12,J12,L12),0) -> 8177500 | P12: =ROUND(GEOMEAN(F12,H12,J12,L12),0) -> 7850272 | R12: =ROUND(HARMEAN(F12,H12,J12,L12),0) -> 7798406 | V12: =ROUND((((MIN(N12:R12)*3)+SMALL(N12:R12,2)+SMALL(N12:R12,3))/5),0) -> 7884598 | W12: =ROUND(V12*$E12*$C12*$D12,0) -> 40737090 | Y12: =ROUND((+V12*3.23%),0) -> 254673 | Z12: =ROUND((+V12+Y12),0) -> 8139271 | AA12: =ROUND(Z12*12*$C12*$D12,0) -> 97671252 | AC12: =ROUND(Z12*3%,0) -> 244178 | AD12: =ROUND((+Z12+AC12),0) -> 8383449 | AE12: =ROUND(AD12*12*$C12*$D12,0) -> 100601388 | AG12: Analistad e seguridad | AH12: =HOMO_TH!Y10 -> 14747485 | AI12: =V12 -> 7884598 | AJ12: =(AI12-AH12)/AH12 -> -0.46535982
A13: 1.6. | B13: ABOGADO | C13: 1 | D13: 0.5 | E13: =5+(5/30) -> 5.1666667 | F13: 8600000 | G13: =ROUND(F13*$E13*$C13,0) -> 44433333 | H13: 8004931 | I13: =ROUND(H13*$E13*$C13,0) -> 41358810 | J13: 4653000 | K13: =ROUND(J13*$E13*$C13,0) -> 24040500 | L13: 7283221.1 | M13: =ROUND(L13*$E13*$C13,0) -> 37629976 | N13: =ROUND(MEDIAN(F13,H13,J13,L13),0) -> 7644076 | P13: =ROUND(GEOMEAN(F13,H13,J13,L13),0) -> 6949893 | R13: =ROUND(HARMEAN(F13,H13,J13,L13),0) -> 6740599 | V13: =ROUND((((MIN(N13:R13)*3)+SMALL(N13:R13,2)+SMALL(N13:R13,3))/5),0) -> 6963153 | W13: =ROUND(V13*$E13*$C13*$D13,0) -> 17988145 | Y13: =ROUND((+V13*3.23%),0) -> 224910 | Z13: =ROUND((+V13+Y13),0) -> 7188063 | AA13: =ROUND(Z13*12*$C13*$D13,0) -> 43128378 | AC13: =ROUND(Z13*3%,0) -> 215642 | AD13: =ROUND((+Z13+AC13),0) -> 7403705 | AE13: =ROUND(AD13*12*$C13*$D13,0) -> 44422230 | AG13: Abogado | AH13: =HOMO_TH!Y11 -> 12418845 | AI13: =V13 -> 6963153 | AJ13: =(AI13-AH13)/AH13 -> -0.43930752
A14: 1.7. | B14: SUPERVISORES OPERATIVOS | C14: 13 | D14: 1 | E14: =5+(5/30) -> 5.1666667 | F14: 4400000 | G14: =ROUND(F14*$D14*$E14*$C14,0) -> 295533333 | H14: 3809029 | I14: =ROUND(H14*$D14*$E14*$C14,0) -> 255839781 | J14: 5040750 | K14: =ROUND(J14*$D14*$E14*$C14,0) -> 338570375 | L14: 4290653.5 | M14: =ROUND(L14*$D14*$E14*$C14,0) -> 288188896 | N14: =ROUND(MEDIAN(F14,H14,J14,L14),0) -> 4345327 | P14: =ROUND(GEOMEAN(F14,H14,J14,L14),0) -> 4363363 | R14: =ROUND(HARMEAN(F14,H14,J14,L14),0) -> 4341904 | V14: =ROUND((((MIN(N14:R14)*3)+SMALL(N14:R14,2)+SMALL(N14:R14,3))/5),0) -> 4346880 | W14: =ROUND(V14*$E14*$C14*$D14,0) -> 291965440 | Y14: =ROUND((+V14*3.23%),0) -> 140404 | Z14: =ROUND((+V14+Y14),0) -> 4487284 | AA14: =ROUND(Z14*12*$C14*$D14,0) -> 700016304 | AC14: =ROUND(Z14*3%,0) -> 134619 | AD14: =ROUND((+Z14+AC14),0) -> 4621903 | AE14: =ROUND(AD14*12*$C14*$D14,0) -> 721016868 | AG14: Supervisor operativo | AH14: =HOMO_TH!Y12 -> 7230231 | AI14: =V14 -> 4346880 | AJ14: =(AI14-AH14)/AH14 -> -0.39879099
A15: 1.8. | B15: SUPERVISORES TÉCNICOS | C15: 13 | D15: 1 | E15: =5+(5/30) -> 5.1666667 | F15: 4200000 | G15: =ROUND(F15*$D15*$E15*$C15,0) -> 282100000 | H15: 3929693.4 | I15: =ROUND(H15*$D15*$E15*$C15,0) -> 263944407 | J15: 5095035 | K15: =ROUND(J15*$D15*$E15*$C15,0) -> 342216518 | L15: 4360686.2 | M15: =ROUND(L15*$D15*$E15*$C15,0) -> 292892758 | N15: =ROUND(MEDIAN(F15,H15,J15,L15),0) -> 4280343 | P15: =ROUND(GEOMEAN(F15,H15,J15,L15),0) -> 4376002 | R15: =ROUND(HARMEAN(F15,H15,J15,L15),0) -> 4356543 | V15: =ROUND((((MIN(N15:R15)*3)+SMALL(N15:R15,2)+SMALL(N15:R15,3))/5),0) -> 4314715 | W15: =ROUND(V15*$E15*$C15*$D15,0) -> 289805024 | Y15: =ROUND((+V15*3.23%),0) -> 139365 | Z15: =ROUND((+V15+Y15),0) -> 4454080 | AA15: =ROUND(Z15*12*$C15*$D15,0) -> 694836480 | AC15: =ROUND(Z15*3%,0) -> 133622 | AD15: =ROUND((+Z15+AC15),0) -> 4587702 | AE15: =ROUND(AD15*12*$C15*$D15,0) -> 715681512 | AG15: Supervisor operativo | AH15: =HOMO_TH!Y13 -> 7230231 | AI15: =V15 -> 4314715 | AJ15: =(AI15-AH15)/AH15 -> -0.40323968
A16: 1.9. | B16: ANALISTA DE DATOS | C16: 1 | D16: 1 | E16: =5+(5/30) -> 5.1666667 | F16: 3900000 | G16: =ROUND(F16*$D16*$E16*$C16,0) -> 20150000 | H16: 10188094 | I16: =ROUND(H16*$E16*$C16,0) -> 52638486 | J16: 5428500 | K16: =ROUND(J16*$D16*$E16*$C16,0) -> 28047250 | L16: 3690486.5 | M16: =ROUND(L16*$D16*$E16*$C16,0) -> 19067514 | N16: =ROUND(MEDIAN(F16,H16,J16,L16),0) -> 4664250 | P16: =ROUND(GEOMEAN(F16,H16,J16,L16),0) -> 5311660 | R16: =ROUND(HARMEAN(F16,H16,J16,L16),0) -> 4939833 | V16: =ROUND((((MIN(N16:R16)*3)+SMALL(N16:R16,2)+SMALL(N16:R16,3))/5),0) -> 4848849 | W16: =ROUND(V16*$E16*$C16*$D16,0) -> 25052387 | Y16: =ROUND((+V16*3.23%),0) -> 156618 | Z16: =ROUND((+V16+Y16),0) -> 5005467 | AA16: =ROUND(Z16*12*$C16*$D16,0) -> 60065604 | AC16: =ROUND(Z16*3%,0) -> 150164 | AD16: =ROUND((+Z16+AC16),0) -> 5155631 | AE16: =ROUND(AD16*12*$C16*$D16,0) -> 61867572 | AG16: Analista de datos | AH16: =HOMO_TH!Y14 -> 7230231 | AI16: =V16 -> 4848849 | AJ16: =(AI16-AH16)/AH16 -> -0.32936458
A17: 2. OTROS COSTOS DIRECTOS ASOCIADOS A LA OPERACIÓN
A18: 2.1. | B18: Movilización para realización de las visitas a los Colegios Distritales, Sedes Administrativas de la Secretaría de Educación del Distrito -SED y Empresas ejecutoras del contrato de vigilancia ( ANEXO TÉCNICO Numeral 5) | C18: 1 | D18: N/A | F18: 140000000 | H18: 82056000 | J18: 31020000 | L18: =((108372917*5.2%+108372917)/5.5)*5.17 -> 1.0716781e+08 | O18: =ROUND(MEDIAN(F18,H18,J18,L18),0) -> 94611905 | Q18: =ROUND(GEOMEAN(F18,H18,J18,L18),0) -> 78611509 | S18: =ROUND(HARMEAN(F18,H18,J18,L18),0) -> 65683513 | V18: =ROUND(W18/$E$8,0) -> 14333185 | W18: =ROUND((((MIN(O18:S18)*3)+SMALL(O18:S18,2)+SMALL(O18:S18,3))/5),0) -> 74054791 | Y18: =ROUND((+V18*3.23%),0) -> 462962 | Z18: =ROUND((+V18+Y18),0) -> 14796147 | AA18: =ROUNDUP((+Z18*12),0) -> 177553764 | AC18: =ROUND(Z18*3%,0) -> 443884 | AD18: =ROUND((+Z18+AC18),0) -> 15240031 | AE18: =ROUND((+AD18*12),0) -> 182880372
A19: 2.2. | B19: Asignar al personal mínimo requerido equipos de comunicación idóneos durante la ejecución el contrato (ver ANEXO TÉCNICO Numerales 8,9,10 y 13.) | C19: 1 | D19: N/A | F19: 50000000 | H19: 112248400 | J19: 186120000 | L19: =((36109065*5.2%+36109065)/5.5)*5.17 -> 35707532 | O19: =ROUND(MEDIAN(F19,H19,J19,L19),0) -> 81124200 | Q19: =ROUND(GEOMEAN(F19,H19,J19,L19),0) -> 78149420 | S19: =ROUND(HARMEAN(F19,H19,J19,L19),0) -> 64218872 | V19: =ROUND(W19/$E$8,0) -> 13623106 | W19: =ROUND((((MIN(O19:S19)*3)+SMALL(O19:S19,2)+SMALL(O19:S19,3))/5),0) -> 70386047 | Y19: =ROUND((+V19*3.23%),0) -> 440026 | Z19: =ROUND((+V19+Y19),0) -> 14063132 | AA19: =ROUNDUP((+Z19*12),0) -> 168757584 | AC19: =ROUND(Z19*3%,0) -> 421894 | AD19: =ROUND((+Z19+AC19),0) -> 14485026 | AE19: =ROUND((+AD19*12),0) -> 173820312
A20: 3. GASTOS ADMINISTRATIVOS
A21: 3 | B21: Gastos Administrativos | C21: 1 | D21: N/A | F21: 107070950 | H21: 500000000 | J21: 51700000 | L21: =((103281457*5.2%+103281457)/5.5)*5.17 -> 1.0213297e+08 | O21: =ROUND(MEDIAN(F21,H21,J21,L21),0) -> 104601959 | Q21: =ROUND(GEOMEAN(F21,H21,J21,L21),0) -> 129665530 | S21: =ROUND(HARMEAN(F21,H21,J21,L21),0) -> 98831029 | V21: =ROUND(W21/$E$8,0) -> 20545571 | W21: =ROUND((((MIN(O21:S21)*3)+SMALL(O21:S21,2)+SMALL(O21:S21,3))/5),0) -> 106152115 | Y21: =ROUND((+V21*3.23%),0) -> 663622 | Z21: =ROUND((+V21+Y21),0) -> 21209193 | AA21: =ROUNDUP((+Z21*12),0) -> 254510316 | AC21: =ROUND(Z21*3%,0) -> 636276 | AD21: =ROUND((+Z21+AC21),0) -> 21845469 | AE21: =ROUND((+AD21*12),0) -> 262145628
W22: =ROUND((SUM(W8:W21)),0) -> 1141758533 | AA22: =SUM(AA8:AA21) -> 2737480194 | AE22: =SUM(AE8:AE21) -> 2819604606
A24: RESUMEN 2025 | F24: 1. JFS CONSULTORES SAS 25/04/2025 | H24: 2. VCO S.A.S 25/04/20255 | J24: =J5 -> 3. OLI CONSULTING 24/04/2025 | L24: =L5 -> 4. No. SED-CM-A-DSA-063-2024 ALIANZA INTEGRAL DE PROYECTOS SAS | W24: ESTIMACIÓN DEL PRESUPUESTO MEDIANTE METODOLOGÍA PERT 2025 | AA24: ESTIMACIÓN DEL PRESUPUESTO MEDIANTE METODOLOGÍA PERT 2026 | AE24: ESTIMACIÓN DEL PRESUPUESTO MEDIANTE METODOLOGÍA PERT 2027 | AG24: ESTIMACIÓN DEL PRESUPUESTO MEDIANTE METODOLOGÍA PERT 2027
A25: SUBTOTAL COSTO DIRECTOS (Sumatoria N°1 y 2) | F25: =SUM(G8:G16)+F18+F19 -> 1102433332 | H25: =SUM(I8:I16)+H18+H19 -> 1071278314 | J25: =SUM(K8:K16)+J18+J19 -> 1210453393 | L25: =SUM(M8:M16)+L18+L19 -> 1.0658237e+09 | O25: =MEDIAN(F25,H25,J25,L25) -> 1086855823 | Q25: =GEOMEAN(F25,H25,J25,L25) -> 1.1110204e+09 | S25: =HARMEAN(F25,H25,J25,L25) -> 1.1095926e+09 | W25: =ROUND((+W8+W9+W10+W11+W12+W13+W14+W15+W16+W18+W19),0) -> 1035606418 | AA25: =+AA8+AA9+AA10+AA11+AA12+AA13+AA14+AA15+AA16+AA18+AA19 -> 2482969878 | AE25: =+AE8+AE9+AE10+AE11+AE12+AE13+AE14+AE15+AE16+AE18+AE19 -> 2557458978 | AG25: =SUM(W25:AE25) -> 6076035274
A26: GASTOS ADMINISTRATIVOS (N° 3) | F26: =F21 -> 107070950 | H26: =H21 -> 500000000 | J26: =J21 -> 51700000 | L26: =L21 -> 1.0213297e+08 | O26: =MEDIAN(F26,H26,J26,L26) -> 1.0460196e+08 | Q26: =GEOMEAN(F26,H26,J26,L26) -> 1.2966553e+08 | S26: =HARMEAN(F26,H26,J26,L26) -> 98831029 | W26: =ROUND((+W21),0) -> 106152115 | AA26: =+AA21 -> 254510316 | AE26: =+AE21 -> 262145628 | AG26: =SUM(W26:AE26) -> 622808059
A27: SUBTOTAL COTIZACIÓN | F27: =F25+F26 -> 1209504282 | H27: =H25+H26 -> 1571278314 | J27: =J25+J26 -> 1262153393 | L27: =L25+L26 -> 1.1679567e+09 | O27: =MEDIAN(F27,H27,J27,L27) -> 1.2358288e+09 | Q27: =GEOMEAN(F27,H27,J27,L27) -> 1.2937485e+09 | S27: =HARMEAN(F27,H27,J27,L27) -> 1.28547e+09 | W27: =SUM(W25:W26) -> 1141758533 | AA27: =SUM(AA25:AA26) -> 2737480194 | AE27: =SUM(AE25:AE26) -> 2819604606 | AG27: =SUM(W27:AE27) -> 6698843333
A28: IVA | F28: =F27*19% -> 2.2980581e+08 | H28: =H27*19% -> 2.9854288e+08 | J28: =J27*19% -> 2.3980914e+08 | L28: =L27*19% -> 2.2191177e+08 | O28: =MEDIAN(F28,H28,J28,L28) -> 2.3480748e+08 | Q28: =GEOMEAN(F28,H28,J28,L28) -> 2.4581221e+08 | S28: =HARMEAN(F28,H28,J28,L28) -> 2.442393e+08 | W28: =ROUND((+W27*19%),0) -> 216934121 | AA28: =ROUND((+AA27*19%),0) -> 520121237 | AE28: =ROUND((+AE27*19%),0) -> 535724875 | AG28: =ROUND(SUM(W28:AE28),0) -> 1272780233
A29: TOTAL COTIZACIÓN | F29: =SUM(F27:G28) -> 1.4393101e+09 | H29: =SUM(H27:I28) -> 1.8698212e+09 | J29: =SUM(J27:K28) -> 1.5019625e+09 | L29: =SUM(L27:M28) -> 1.3898684e+09 | V29: VALOR TOTAL | W29: =ROUND((+W27+W28),0) -> 1358692654 | AA29: =ROUND((+AA27+AA28),0) -> 3257601431 | AE29: =ROUND((+AE27+AE28),0) -> 3355329481 | AG29: =ROUND((+AG27+AG28),0) -> 7971623566
V30: VALOR MES | W30: =ROUND((+W29/155)*30,0) -> 262972772 | Z30: =(AA30-W30)/W30 -> 0.032299975 | AA30: =ROUND(AA29/12,0) -> 271466786 | AD30: =(AE30-AA30)/AA30 -> 0.030000002 | AE30: =ROUND(AE29/12,0) -> 279610790 | AG30: =ROUND(AG29/12,0) -> 664301964
AG34: CDP | AH34: VALOR CDP
V35: vr. Mes 2025 | W35: =W29/155*30 -> 2.6297277e+08 | Y35: vr. 5 meses 5 dias2025 | AA35: =ROUND((+W35/30*155),0) -> 1358692654 | AE35: 1386161735 | AF35: VF APROBADAS | AG35: 1518 | AH35: 1386161735 | AI35: =(AH35-AA35)/AH35 -> 0.019816649 | AJ35: =AH35-AA35 -> 27469081
AE36: =+AE35-AA35 -> 27469081 | AF36: DIFERENCIA
V37: vr. Mes 2026 | W37: =AA29/12 -> 2.7146679e+08 | Y37: 2026 - vr. 12 meses | AA37: =+W37*12 -> 3257601431 | AE37: 3316056552 | AF37: VF APROBADAS | AG37: 10 | AH37: 3219472381 | AI37: =(AH37-AA37)/AH37 -> -0.01184326 | AJ37: =AH37-AA37 -> -38129050
AE38: =+AE37-AA37 -> 58455121 | AF38: DIFERENCIA
V39: vr. Mes 2027 | W39: =AE29/12 -> 2.7961079e+08 | Y39: 2027 - vr. 12 meses | AA39: =+W39*12 -> 3355329481 | AE39: 3415538196 | AF39: VF APROBADAS | AG39: 6 | AH39: 3219472381 | AI39: =(AH39-AA39)/AH39 -> -0.04219856 | AJ39: =AH39-AA39 -> -135857100
AE40: =+AE39-AA39 -> 60208715 | AF40: DIFERENCIA
V41: VALOR TOTAL CONTRATO DESDE 25/07/2025 HASTA 31/12/2027 | AA41: =+AA35+AA37+AA39 -> 7971623566 | AC41: =redondera(AA41*60%;0) | AE41: =+AE35+AE37+AE39 -> 8117756483 | AF41: VF APROBADAS | AH41: =SUM(AH35:AH40) -> 7825106497
AE42: =+AE41-AA41 -> 146132917 | AF42: DIFERENCIA
Y44: 2024
V45: 5 meses 14 dias | Y45: vr. 14 dias | Z45: vr. Mes | AA45: valor cto
V46: Actual | Y46: =(+AA46/164)*14 -> 1.1541073e+08 | Z46: =+AA46/164*30 -> 2.4730871e+08 | AA46: 1.3519543e+09
AA48: =ROUND(AA41/1423500,0) -> 5600

Sheet 02. ANÁLISIS FINAL OAPRE
U2: PERT SIN PROMEDIO PERO CON ARMONICA
A4: DOCUMENTO DE VALIDACIÓN DE PRECIOS DE REFERENCIA | N4: VALORES TOTALES | V4: =5*30 -> 150 | W4: =V4+5 -> 155 | Y4: =W4/30 -> 5.1666667
A5: CONSOLIDADO DE COTIZACIONES | F5: 1. JFS CONSULTORES SAS 25/04/2025 | H5: 2. VCO S.A.S 25/04/2025 | J5: 3. OLI CONSULTING 24/04/2025 | L5: 4. No. SED-CM-A-DSA-063-2024 ALIANZA INTEGRAL DE PROYECTOS SAS | N5: MEDIANA | O5: MEDIA GEOMETRICA | P5: MEDIA ARMONICA | V5: ESTIMACIÓN DEL PRESUPUESTO MEDIANTE METODOLOGÍA PERT 2025 5 meses 5 dias | Y5: ESTIMACIÓN DEL PRESUPUESTO MEDIANTE METODOLOGÍA PERT 2026 (12 meses) | AC5: ESTIMACIÓN DEL PRESUPUESTO MEDIANTE METODOLOGÍA PERT 2027 (12 meses)
A6: N° | B6: Descripción Personal Requerido (Ver Anexo Técnico Numeral 13 y 14) | C6: Personal Requerido | D6: % de dedicación | E6: Plazo | F6: Valor mensual unitario | G6: Valor total | H6: Valor mensual unitario | I6: Valor total | J6: Valor mensual unitario | K6: Valor total | L6: Valor mensual unitario | M6: Valor total | N6: VALOR TOTAL | O6: VALOR TOTAL | P6: VALOR TOTAL | T6: MENOR | V6: VALOR TOTAL | W6: vr. Mes | Y6: incremento 3,23% | Z6: Vr. Mes con incremento | AA6: VALOR TOTAL * 12 meses | AC6: incremento 3% | AD6: Vr. Mes con incremento | AE6: VALOR TOTAL * 12 meses | AG6: HOMOLOGACIÓN PERFILES TABLA DE HONORARIOS SED | AI6: VALOR ESTUDIO DE SECTOR | AJ6: % VARIACIÓN | AQ6: =5/30 -> 0.16666667
A7: 1. COSTOS DIRECTOS DE RECURSO HUMANO MÍNIMO REQUERIDO
A8: 1.1. | B8: DIRECTOR DE INTERVENTORIA | C8: 1 | D8: 1 | E8: 5.17 | F8: 17400000 | G8: =ROUND(F8*$D8*$E8*$C8,0) -> 89958000 | H8: 13098978 | I8: =ROUND(H8*$D8*$E8*$C8,0) -> 67721716 | J8: 14734500 | K8: =ROUND(J8*$D8*$E8*$C8,0) -> 76177365 | L8: 12985803 | M8: =ROUND(L8*$D8*$E8*$C8,0) -> 67136600 | N8: =MEDIAN(G8,I8,K8,M8) -> 71949540 | O8: =GEOMEAN(G8,I8,K8,M8) -> 74711638 | P8: =HARMEAN(G8,I8,K8,M8) -> 74204791 | T8: =MIN(N8:P8) -> 71949540 | V8: =+((MIN(N8:P8)*3)+SMALL(N8:P8,2)+SMALL(N8:P8,3))/5 -> 72953010 | W8: =ROUND((+V8/155)*30,0) -> 14119937 | Y8: =ROUND((+W8*3.23%),0) -> 456074 | Z8: =ROUND((+W8+Y8),0) -> 14576011 | AA8: =ROUNDUP((+Z8*12),0) -> 174912132 | AC8: =+Z8*3% -> 437280.33 | AD8: =ROUND((+Z8+AC8),0) -> 15013291 | AE8: =ROUND((+AD8*12),0) -> 180159492 | AG8: Director de la Interventoría | AH8: 14747485 | AI8: =W8/C8 -> 14119937 | AJ8: =(AI8-AH8)/AH8 -> -0.042552883 | AL8: =V8/5.17/C8 -> 14110834
A9: 1.2. | B9: COORDINADOR ADMINISTRATIVO Y FINANCIERO | C9: 1 | D9: 1 | E9: 5.17 | F9: 8600000 | G9: =ROUND(F9*$D9*$E9*$C9,0) -> 44462000 | H9: 10915815 | I9: =ROUND(H9*$D9*$E9*$C9,0) -> 56434764 | J9: 9306000 | K9: =ROUND(J9*$D9*$E9*$C9,0) -> 48112020 | L9: 11332919 | M9: =ROUND(L9*$D9*$E9*$C9,0) -> 58591193 | N9: =MEDIAN(G9,I9,K9,M9) -> 52273392 | O9: =GEOMEAN(G9,I9,K9,M9) -> 51570983 | P9: =HARMEAN(G9,I9,K9,M9) -> 51240711 | T9: =MIN(N9:P9) -> 51240711 | V9: =+((MIN(N9:P9)*3)+SMALL(N9:P9,2)+SMALL(N9:P9,3))/5 -> 51513302 | W9: =ROUND((+V9/155)*30,0) -> 9970316 | Y9: =ROUND((+W9*3.23%),0) -> 322041 | Z9: =ROUND((+W9+Y9),0) -> 10292357 | AA9: =ROUNDUP((+Z9*12),0) -> 123508284 | AC9: =+Z9*3% -> 308770.71 | AD9: =ROUND((+Z9+AC9),0) -> 10601128 | AE9: =ROUND((+AD9*12),0) -> 127213536 | AG9: Coordinador Administrativo y Financiero | AH9: 12418845 | AI9: =W9/C9 -> 9970316 | AJ9: =(AI9-AH9)/AH9 -> -0.19716238 | AL9: =V9/5.17/C9 -> 9963888.2
