Workbook

Sheet Hoja1
A1: ANEXO TECNICO ECONOMICO | I1: APOYO TECNOLOGICO | O1: INFORMACION PARA DILIGENCIAR PROVEEDOR (OBLIGATORIO DILIGENCIAR TODOS LOS CAMPOS) NO ADICIONAR CAMPOS O DAÑAR EL FORMATO ESTABLECIDO.
A2: ITEM | B2: CODIGO INTERNO | C2: EVALUADOR TECNICO | D2: TIPO DE APOYO | E2: DESCRIPCION | F2: UNIDAD DE MEDIDA | G2: CANTIDAD ESTIMADA | H2: PRECIO TECHO | I2: APOYO TECNOLOGICO | J2: CUAL | K2: CUANTOS | L2: COMPATIBILIDAD | M2: OBSERVACION | N2: REQUIERE MUESTRA? | O2: REGISTRO INVIMA | P2: FECHA DE REGISTRO INVIMA | Q2: MARCA | R2: CLASIFICACION DEL RIESGO | S2: VIDA UTIL | T2: PRESENTACION | U2: VALOR UNITARIO | V2: IVA | W2: VALOR UNITARIO + IVA | X2: VALOR UNITARIO + IVA X CONSUMO
A3: 1 | B3: D002654 | C3: ESTERILIZACION - INSTRUMENTACION | D3: INSUMOS | E3: AGUJA DE VERESS 120MM PN 120 | F3: UNIDAD | G3: 20 | H3: 76190.658 | I3: NO | N3: NO | V3: 0 | W3: 0 | X3: 0
A4: 2 | B4: D000048 | C4: ENFERMERIA | D4: INSUMOS | E4: AGUJA ESPINAL N 18 | F4: UNIDAD | G4: 20 | H4: 5387.3394 | I4: NO | N4: NO | V4: 0 | W4: 0 | X4: 0
A5: 3 | B5: D000032 | C5: ESTERILIZACION - INSTRUMENTACION | D5: INSUMOS | E5: AGUJA VERRES DE 100 MM A 120 MM/2MM | F5: UNIDAD | G5: 10 | H5: 155689.31 | I5: NO | N5: NO | V5: 0 | W5: 0 | X5: 0
A6: 4 | B6: D00158 | C6: ENFERMERIA | D6: INSUMOS | E6: ALCOHOL ANTISEPTICO 700 EN BOTELLA O FRASCO PLÁSTICO | F6: UNIDAD | G6: 300 | H6: 5337.8329 | I6: NO | N6: NO | V6: 0 | W6: 0 | X6: 0
A7: 5 | B7: D000095 | C7: ENFERMERIA | D7: INSUMOS | E7: ALGODÓN EN TORUNDA BOLSA X 500 GRS | F7: UNIDAD | G7: 60 | H7: 17452.314 | I7: NO | N7: NO | V7: 0 | W7: 0 | X7: 0
A8: 6 | B8: D000097 | C8: ENFERMERIA | D8: INSUMOS | E8: ALGODON TIPO HOSPITALARIO 450 – 500 G | F8: ROLLO | G8: 30 | H8: 14566.617 | I8: NO | N8: NO | V8: 0 | W8: 0 | X8: 0
A9: 7 | B9: D000196 | C9: ENFERMERIA | D9: INSUMOS | E9: BAJALENGUAS DE MADERA EMPAQUE INDIVIDUAL | F9: UNIDAD | G9: 6000 | H9: 101.98749 | I9: NO | N9: SI | V9: 0 | W9: 0 | X9: 0
A10: 8 | B10: NUEVO | C10: CIRUGIA | D10: INSUMOS | E10: CANULA OROFARÍNGEA No.00 MAYO | F10: UNIDAD | G10: 1 | H10: 2524.4905 | I10: NO | N10: NO | V10: 0 | W10: 0 | X10: 0
A11: 9 | B11: D002378 | C11: RADIOLOGIA | D11: INSUMOS | E11: CATETER INTRAVENOSO N.14 LARGO (RADIOLOGIA) 2 PULGADAS | F11: UNIDAD | G11: 108 | H11: 907.45176 | I11: NO | N11: SI | V11: 0 | W11: 0 | X11: 0
A12: 10 | B12: D000357 | C12: ENFERMERIA | D12: INSUMOS | E12: CATETER MONOLUMEN N° 22 G X 10 CM PEDIATRICO | F12: UNIDAD | G12: 2 | H12: 93265.875 | I12: NO | N12: NO | V12: 0 | W12: 0 | X12: 0
A13: 11 | B13: D001852 | C13: ENFERMERIA | D13: INSUMOS | E13: CATETER N° 24G X 9 CM MONOLUMEN PEDIATRICO | F13: UNIDAD | G13: 2 | H13: 90745.176 | I13: NO | N13: NO | V13: 0 | W13: 0 | X13: 0
A14: 12 | B14: D002471 | C14: NEFROLOGIA | D14: INSUMOS | E14: CATETER NEONATAL PERITONEAL 15 FR X 18 CM | F14: UNIDAD | G14: 1 | H14: 871864.52 | I14: NO | N14: NO | V14: 0 | W14: 0 | X14: 0
... A19: 17 | B19: NUEVO | C19: CIRUGIA | D19: INSUMOS | E19: CONECTOR DE VENTILACIÓN MECÁNICA PARA BRONCOSCOPIO | F19: UNIDAD | G19: 1 | H19: 151241.96 | I19: NO | N19: NO | V19: 0 | W19: 0 | X19: 0
A20: 18 | B20: D000607 | C20: ESTERILIZACION - INSTRUMENTACION | D20: INSUMOS | E20: CUCHILLA PARA DERMATOMO COMPATIBLE CON DERMATOMO NOUVAG MODELO TCM 3000 BL | F20: UNIDAD | G20: 4 | H20: 779904.37 | I20: NO | L20: COMPATIBLE CON DERMATOMO NOUVAG MODELO TCM 3000 BL | N20: NO | V20: 0 | W20: 0 | X20: 0
A21: 19 | B21: D001802 | C21: CLINICA DE HERIDAS | D21: INSUMOS | E21: DISPOSITIVO DE INCONTINENCIA FECAL | F21: unidad | G21: 1 | H21: 868813.47 | I21: NO | N21: NO | V21: 0 | W21: 0 | X21: 0
A22: 20 | B22: D000520 | C22: ESTERILIZACION - INSTRUMENTACION | D22: INSUMOS | E22: DRENES PERFORADOS DE SILICONA CON RESERVORIO DE 400 CC DREN PLANO SIN TROCAR DE 10MMM X 20 CM | F22: UNIDAD | G22: 10 | H22: 44488.327 | I22: NO | N22: NO | V22: 0 | W22: 0 | X22: 0
A23: 21 | B23: D002800 | C23: CIRUGIA | D23: INSUMOS | E23: ELECTRODO DE CORTE MONO 24 FR 12/30° | F23: UNIDAD | G23: 1 | H23: 2016559.5 | I23: NO | N23: NO | V23: 0 | W23: 0 | X23: 0
A24: 22 | B24: D000257 | C24: APH | D24: INSUMOS | E24: ELECTRODOS MULTIFUNCIONAL EURO DEFI PEDIATRICO REF:FIAB/SCHILLER/EASY | F24: UNIDAD | G24: 3 | H24: 281663.95 | I24: NO | L24: COMPATIBLE CON DESFIBRILADOR EURODEFI | N24: NO | V24: 0 | W24: 0 | X24: 0
A25: 23 | B25: D001691 | C25: CLINICA DE HERIDAS | D25: INSUMOS | E25: ESPARADRAPO DE TELA VARIOS TAMAÑOS TUBO X 5 ROLLOS | F25: TUBO X 5 ROLLOS | G25: 800 | H25: 15199.817 | I25: NO | N25: SI | V25: 0 | W25: 0 | X25: 0
A26: 24 | B26: D000169 | C26: TERAPIA RESPIRATORIA | D26: INSUMOS | E26: FILTRO ANTIBACTERIANO PLASTICO PARA VACUTRONES RV2/RV3 | F26: UNIDAD | G26: 120 | H26: 16797.94 | I26: NO | N26: NO | V26: 0 | W26: 0 | X26: 0
A27: 25 | B27: D000623 | C27: TERAPIA RESPIRATORIA | D27: INSUMOS | E27: FILTRO BACTERIANO VIRICO ADULTO PARA VENTILADOR MECANICO | F27: UNIDAD | G27: 500 | H27: 2639.6763 | I27: NO | N27: NO | V27: 0 | W27: 0 | X27: 0
A28: 26 | B28: D002999 | C28: BIOMEDICA | D28: INSUMOS | E28: FILTRO HIDROFOBICO PARA SUCCIONADORES CAMI SP0046(ASPIRET,ASKIR15, ASKIR 30, ASK) EN EMPAQUE INDIVIDUAL | F28: UNIDAD | G28: 10 | H28: 30116.307 | I28: NO | N28: SI | V28: 0 | W28: 0 | X28: 0
A29: 27 | B29: D000250 | C29: CIRUGIA | D29: INSUMOS | E29: FLEBOEXTRACTOR DESECHABLE ESTERIL CON GUAYA EN NYLON RADIOPACO | F29: UNIDAD | G29: 10 | H29: 103709.64 | I29: NO | N29: NO | V29: 0 | W29: 0 | X29: 0
A30: 28 | B30: D003001 | C30: UNIDAD RENAL | D30: INSUMOS | E30: GASA ADHESIVA ELÁSTICA DE POLIÉSTER NO TEJIDO EN ROLLO 15CMX 10 MTS (FIXOMULL) | F30: UNIDAD | G30: 100 | H30: 57976.085 | I30: NO | N30: NO | V30: 0 | W30: 0 | X30: 0
A31: 29 | B31: D002484 | C31: CLINICA DE HERIDAS | D31: INSUMOS | E31: GEL HIDRATANTE CON ALGINATO DE CALCIO Y ACIDO BORICO PARA HERIDAS DERMICAS TUBO 85 GR | F31: UNIDAD | G31: 23 | H31: 72797.797 | I31: NO | N31: NO | V31: 0 | W31: 0 | X31: 0
A32: 30 | B32: D000484 | C32: CLINICA DE HERIDAS | D32: INSUMOS | E32: GEL Y PASTA CONDUCTORA Ten20 | F32: UNIDAD | G32: 3 | H32: 83813.253 | I32: NO | N32: NO | V32: 0 | W32: 0 | X32: 0
A33: 31 | B33: NUEVO | C33: ENFERMERIA | D33: INSUMOS | E33: GUANTE NITRILO TALLA M | F33: CAJA | G33: 209 | H33: 12500 | I33: NO | N33: NO | V33: 0 | X33: 0
A34: 32 | B34: D1524 | C34: ENFERMERIA | D34: INSUMOS | E34: GUANTE SIN LATEX ESTERIL TALLA 7 PAR | F34: PAR | G34: 114 | H34: 1763.7837 | I34: NO | N34: NO | V34: 0 | W34: 0 | X34: 0
A35: 33 | B35: D000657 | C35: CLINICA DE HERIDAS | D35: INSUMOS | E35: HIDROCOLOIDES EN GEL DESDE 20 HASTA 50 GR | F35: TUBO | G35: 27 | H35: 55253.729 | I35: NO | N35: NO | V35: 0 | W35: 0 | X35: 0
A36: 34 | B36: D003050 | C36: GINECOLOGIA | D36: INSUMOS | E36: JUEGO DE 5 DILATADORES (AMEU) | F36: UNIDAD | G36: 1 | H36: 290214.42 | I36: NO | N36: NO | V36: 0 | W36: 0 | X36: 0
A37: 35 | B37: D002764 | C37: CLINICA DE HERIDAS | D37: INSUMOS | E37: KIT DE BARRERA Y BOLSA CUTANEA PARA COLOSTOMIA ADULTO 57-60 (60 mm) CON SITEMA DE CIERRE INVISE CLOSE TANTO LAS BOLSAS COMO LAS BARRERAS DEBEN TENER SU EMPAQUE INDIVIDUAL | F37: KIT | G37: 60 | H37: 38516.286 | I37: NO | N37: NO | V37: 0 | W37: 0 | X37: 0
A38: 36 | B38: D002765 | C38: CLINICA DE HERIDAS | D38: INSUMOS | E38: KIT DE BARRERA Y BOLSA CUTANEA PARA COLOSTOMIA ADULTO 70-80 (80mm) CON SITEMA DE CIERRE INVISE CLOSE TANTO LAS BOLSAS COMO LAS BARRERAS DEBEN TENER SU EMPAQUE INDIVIDUAL | F38: KIT | G38: 60 | H38: 38516.286 | I38: NO | N38: NO | V38: 0 | W38: 0 | X38: 0
A39: 37 | B39: D002852 | C39: CLINICA DE HERIDAS | D39: INSUMOS | E39: KIT DE BARRERA Y BOLSA CUTANEA PARA COLOSTOMIA PEDIATRICA (40 mm) CON SITEMA DE CIERRE INVISE CLOSE TANTO LAS BOLSAS COMO LAS BARRERAS DEBEN TENER SU EMPAQUE INDIVIDUAL | F39: KIT | G39: 10 | H39: 30752.532 | I39: NO | N39: NO | V39: 0 | W39: 0 | X39: 0
A40: 38 | B40: D000714 | C40: ESTERILIZACION - INSTRUMENTACION | D40: INSUMOS | E40: LIGA CLIP DE TITANIO TAMAÑO MEDIANO LARGO CON RANURAS TRANSVERSALES Y LATERALES CARRIL POR 6 CLIPS | F40: UNIDAD | G40: 40 | H40: 16878.603 | I40: NO | N40: NO | V40: 0 | W40: 0 | X40: 0
A41: 39 | B41: D002628 | C41: ESTERILIZACION - INSTRUMENTACION | D41: INSUMOS | E41: LIGACLIP PARA LIGADURA EN POLIMERO NO ABSORBIBLE TAMAÑO M (CIERRE DE VASOS DE 2-7CM) CARTUCHO POR 6 UNIDADES (HEM-O-LOCK)verde | F41: UNIDAD | G41: 20 | H41: 83687.218 | I41: NO | N41: NO | V41: 0 | W41: 0 | X41: 0
A42: 40 | B42: D003087 | C42: CLINICA DE HERIDAS | D42: INSUMOS | E42: MALLA DE CONTACTO GELIFICANTE 10X20CM | F42: UNIDAD | G42: 20 | H42: 16636.616 | I42: NO | N42: NO | V42: 0 | W42: 0 | X42: 0
A43: 41 | B43: D003088 | C43: CLINICA DE HERIDAS | D43: INSUMOS | E43: MALLA DE CONTACTO GELIFICANTE 10X30CM | F43: UNIDAD | G43: 20 | H43: 23190.434 | I43: NO | N43: NO | V43: 0 | W43: 0 | X43: 0
A44: 42 | B44: NUEVO | C44: ENFERMERIA | D44: INSUMOS | E44: MANTA DE CALENTAMIENTO ADULTO COMPATIBLES PARA EQUIPO EQUATOR | F44: UNIDAD | G44: 10 | H44: 60496.784 | I44: NO | L44: COMPATIBLE CON EQUIPO EQUATOR | N44: NO | V44: 0 | W44: 0 | X44: 0
A45: 43 | B45: D002402 | C45: ANESTESIA | D45: INSUMOS | E45: MASCARA 0 PARA ANESTESIA | F45: UNIDAD | G45: 18 | H45: 3174.8107 | I45: NO | N45: NO | V45: 0 | W45: 0 | X45: 0
A46: 44 | B46: D000865 | C46: ANESTESIA | D46: INSUMOS | E46: MASCARA 1 PARA ANESTESIA | F46: UNIDAD | G46: 10 | H46: 3120.8173 | I46: NO | N46: NO | V46: 0 | W46: 0 | X46: 0
A47: 45 | B47: D000855 | C47: ANESTESIA | D47: INSUMOS | E47: MASCARA 2 PARA ANESTESIA | F47: UNIDAD | G47: 16 | H47: 3120.8173 | I47: NO | N47: NO | V47: 0 | W47: 0 | X47: 0
A48: 46 | B48: D000867 | C48: ANESTESIA | D48: INSUMOS | E48: MASCARA 3 PARA ANESTESIA | F48: UNIDAD | G48: 48 | H48: 3174.8107 | I48: NO | N48: NO | V48: 0 | W48: 0 | X48: 0
A49: 47 | B49: D000852 | C49: ANESTESIA | D49: INSUMOS | E49: MASCARA 4 PARA ANESTESIA | F49: UNIDAD | G49: 59 | H49: 3174.8107 | I49: NO | N49: NO | V49: 0 | W49: 0 | X49: 0
A50: 48 | B50: D000864 | C50: ANESTESIA | D50: INSUMOS | E50: MASCARA 5 PARA ANESTESIA | F50: UNIDAD | G50: 251 | H50: 3174.8107 | I50: NO | N50: NO | V50: 0 | W50: 0 | X50: 0
A51: 49 | B51: D000897 | C51: TERAPIA RESPIRATORIA | D51: INSUMOS | E51: MASCARA PARA TRAQUEOSTOMIA PEDIATRICA (Extension Oxigeno) | F51: UNIDAD | G51: 3 | H51: 4799.4115 | I51: NO | N51: NO | V51: 0 | W51: 0 | X51: 0
A52: 50 | B52: D0020110 | C52: ESTERILIZACION - INSTRUMENTACION | D52: INSUMOS | E52: MECHAS GINECOLOGICAS DE GASA 100% EN ALGODON ESTERIL | F52: UNIDAD | G52: 145 | H52: 1660.6367 | I52: NO | N52: NO | V52: 0 | W52: 0 | X52: 0
A53: 51 | B53: nuevo | C53: CIRUGIA | D53: INSUMOS | E53: PARCHE DE CAROTIDA EN DACRON 10 X 75 MM ESPESOR 0,36 MM | F53: UNIDAD | G53: 1 | H53: 1008279.7 | I53: NO | N53: NO | V53: 0 | W53: 0 | X53: 0
A54: 52 | B54: D002304 | C54: CIRUGIA | D54: INSUMOS | E54: Parche en Dacrón 8 x 4 cm espesor 0.58 mm | F54: UNIDAD | G54: 1 | H54: 201655.95 | I54: NO | N54: NO | V54: 0 | W54: 0 | X54: 0
A55: 53 | B55: D000207 | C55: APH | D55: INSUMOS | E55: PARCHE PARA DESFIBRILIDAR ADULTO MEDIANA D500 | F55: UNIDAD | G55: 3 | H55: 504139.87 | I55: NO | L55: COMPATIBLE CON DESFIBRILADOR MEDIANA | N55: NO | V55: 0 | W55: 0 | X55: 0
A56: 54 | B56: NUEVO | C56: APH | D56: INSUMOS | E56: PARCHE PARA DESFIBRILIDAR PEDIATRICO MEDIANA D500 | F56: UNIDAD | G56: 1 | H56: 504139.87 | I56: NO | L56: COMPATIBLE CON DESFIBRILADOR MEDIANA | N56: NO | V56: 0 | W56: 0 | X56: 0
A57: 55 | B57: D002075 | C57: CLINICA DE HERIDAS | D57: INSUMOS | E57: PASTA PROTECTORA DE PIEL PARA ESTOMAS | F57: UNIDAD | G57: 12 | H57: 49103.223 | I57: NO | N57: NO | V57: 0 | W57: 0 | X57: 0
A58: 56 | B58: NUEVO | C58: CIRUGIA | D58: INSUMOS | E58: PINZA TRIPODE DE AGARRE, DESECHABLE, ANCHO DE APERTURA 10.0MM, CANAL DE 1,2 MM, LONGITUD 115 CM | F58: UNIDAD | G58: 1 | H58: 504139.87 | I58: NO | N58: NO | V58: 0 | W58: 0 | X58: 0
A59: 57 | B59: NUEVO | C59: GINECOLOGIA | D59: INSUMOS | E59: PINZA BIPOLAR TIPO KELLY DE 5MM DE DIÁMETRO, LONGITUD 36 CM CON CABLE BIPOLAR COMPATIBLE CON COAGULADORES O APARATO DE ENERGÍA REUTILIZABLE, ESTERILIZABLE | F59: UNIDAD | G59: 1 | H59: 4537258.8 | I59: NO | N59: NO | V59: 0 | W59: 0 | X59: 0
A60: 58 | B60: nuevo | C60: CIRUGIA VASCULAR | D60: INSUMOS | E60: PROTESIS VASCULAR "RAPIDAX" EN PFTE PARA HEMODIALISIS CALIBRE 6 MM LONGITUD 35 CM, 25 CM SEGMENTADO DE CANULCION RECTA | F60: UNIDAD | G60: 1 | H60: 4033118.9 | I60: NO | N60: NO | V60: 0 | W60: 0 | X60: 0
A61: 59 | B61: D002421 | C61: CIRUGIA VASCULAR | D61: INSUMOS | E61: PROTESIS VASCULAR EN PTFE CALIBRE 6 MM LONGITUD 40 RECTA SELLADA CON GELATINA "SEALPTFE" ANILLADA | F61: UNIDAD | G61: 1 | H61: 2300894.3 | I61: NO | N61: NO | V61: 0 | W61: 0 | X61: 0
A62: 60 | B62: D003036 | C62: CLINICA DE HERIDAS | D62: INSUMOS | E62: REMOVEDOR DE ADHESIVO EN SPRAY X 50 ML | F62: SPRAY | G62: 31 | H62: 46074.351 | I62: NO | N62: NO | V62: 0 | W62: 0 | X62: 0
A63: 61 | B63: D003028 | C63: CIRUGIA | D63: INSUMOS | E63: SENSOR BIS(4 ELECTRODOS) | F63: UNIDAD | G63: 6 | H63: 85549.51 | I63: NO | N63: NO | V63: 0 | W63: 0 | X63: 0
A64: 62 | B64: D001791 | C64: CIRUGIA | D64: INSUMOS | E64: SET DE CRAWFORT ADULTO | F64: UNIDAD | G64: 1 | H64: 311961.75 | I64: NO | N64: NO | V64: 0 | W64: 0 | X64: 0
A65: 63 | B65: D001792 | C65: CIRUGIA | D65: INSUMOS | E65: SET DE CRAWFORT PEDIATRICO | F65: UNIDAD | G65: 1 | H65: 311961.75 | I65: NO | N65: NO | V65: 0 | W65: 0 | X65: 0
A66: 64 | B66: D002942 | C66: CIRUGIA | D66: INSUMOS | E66: SET DESECHABLE PARA USO CON EL CALENTADOR DE SANGRE Y FLUIDOS HOTLINE | F66: UNIDAD | G66: 8 | H66: 70579.581 | I66: NO | L66: COMPATIBLE CON CALENTADOR DE FLUIDOS HOTLINE | N66: NO | V66: 0 | W66: 0 | X66: 0
A67: 65 | B67: D002954 | C67: CIRUGIA | D67: INSUMOS | E67: SISTEMA DE DRENAJE TORAXICO NEONATAL | F67: UNIDAD | G67: 3 | H67: 121485.1 | I67: NO | N67: NO | V67: 0 | W67: 0 | X67: 0
A68: 66 | B68: D002330 | C68: ESTERILIZACION - INSTRUMENTACION | D68: INSUMOS | E68: SISTEMA DE IRRIGACION SUCCIOIN 5 MM X 33 CM | F68: UNIDAD | G68: 4 | H68: 277465.98 | I68: NO | N68: NO | V68: 0 | W68: 0 | X68: 0
A69: 67 | B69: D001695 | C69: CLINICA DE HERIDAS | D69: INSUMOS | E69: SISTEMA DE OSTOMIA DE UNA PIEZA PARA MANEJO DE DESCARGA DE ESTOMA DE ILIOSTOMIA Y COLOSTOMIA PEDIATRICA 32 | F69: UNIDAD | G69: 11 | H69: 15416.597 | I69: NO | N69: NO | V69: 0 | W69: 0 | X69: 0
A70: 68 | B70: D002737 | C70: CLINICA DE HERIDAS | D70: INSUMOS | E70: SISTEMA DE OSTOMIA DE UNA SOLA PIEZA NEONATAL HASTA 23 MM | F70: UNIDAD | G70: 13 | H70: 39121.254 | I70: NO | N70: NO | V70: 0 | W70: 0 | X70: 0
A71: 69 | B71: D002572 | C71: CLINICA DE HERIDAS | D71: INSUMOS | E71: SOLUCION TOPICA PARA PREVENCION DE ULCERAS POR PRESION DE 30 A 50 ML | F71: FRASCO | G71: 23 | H71: 77612.332 | I71: NO | N71: NO | V71: 0 | W71: 0 | X71: 0
A72: 70 | B72: D001280 | C72: ENFERMERIA | D72: INSUMOS | E72: SONDA FOLEY 2 VIAS No. 10 | F72: UNIDAD | G72: 10 | H72: 1804.8207 | I72: NO | N72: NO | V72: 0 | W72: 0 | X72: 0
A73: 71 | B73: D001251 | C73: SOPORTE NUTRICIONAL | D73: INSUMOS | E73: SONDA NASOGASTRICA N.18 | F73: UNIDAD | G73: 90 | H73: 577.74429 | I73: NO | N73: NO | V73: 0 | W73: 0 | X73: 0
A74: 72 | B74: D001274 | C74: ENFERMERIA | D74: INSUMOS | E74: SONDA URETRAL NELATON N. 18 | F74: UNIDAD | G74: 13 | H74: 353.90619 | I74: NO | N74: NO | V74: 0 | W74: 0 | X74: 0
A75: 73 | B75: D001279 | C75: ENFERMERIA | D75: INSUMOS | E75: SONDA URETRAL NELATON N. 8 | F75: UNIDAD | G75: 1191 | H75: 359.95586 | I75: NO | N75: NO | V75: 0 | W75: 0 | X75: 0
A76: 74 | B76: D001271 | C76: ENFERMERIA | D76: INSUMOS | E76: SONDA URETRAL NELATON N.12 | F76: UNIDAD | G76: 186 | H76: 353.90619 | I76: NO | N76: NO | V76: 0 | W76: 0 | X76: 0
A77: 75 | B77: D001272 | C77: ENFERMERIA | D77: INSUMOS | E77: SONDA URETRAL NELATON N.14 | F77: UNIDAD | G77: 275 | H77: 359.95586 | I77: NO | N77: NO | V77: 0 | W77: 0 | X77: 0
A78: 76 | B78: D001273 | C78: ENFERMERIA | D78: INSUMOS | E78: SONDA URETRAL NELATON N.16 | F78: UNIDAD | G78: 119 | H78: 359.95586 | I78: NO | N78: NO | V78: 0 | W78: 0 | X78: 0
... A104: 102 | B104: D002985 | C104: CLINICA DE HERIDAS | D104: INSUMOS | E104: BOLSA DE UNA SOLA PIEZA DE 100 MM | F104: UNIDAD | G104: 5 | H104: 62513.343 | I104: NO | N104: NO | V104: 0 | W104: 0 | X104: 0
A105: 103 | B105: D000341 | C105: ESTERILIZACION - INSTRUMENTACION | D105: INSUMOS | E105: CASSETTE DE PEROXIDO DE HIDROGENO PARA SISTEMA 100S CAJA X 5 UND REF 10113 | F105: UNIDAD | G105: 4 | H105: 990634.84 | I105: NO | L105: COMPATIBLE CON STERRAD VELOCITY | N105: NO | V105: 0 | W105: 0 | X105: 0
A106: 104 | B106: D002939 | C106: RADIOLOGIA | D106: INSUMOS | E106: CATÉTER CENTESIS 4FX10CM | F106: UNIDAD | G106: 3 | H106: 129296.75 | I106: NO | N106: NO | V106: 0 | W106: 0 | X106: 0
A107: 105 | B107: D002940 | C107: RADIOLOGIA | D107: INSUMOS | E107: CATÉTER CENTESIS 5FX10CM | F107: UNIDAD | G107: 2 | H107: 118977.01 | I107: NO | N107: NO | V107: 0 | W107: 0 | X107: 0
A108: 106 | B108: NUEVO | C108: RADIOLOGIA | D108: INSUMOS | E108: CATÉTER CENTESIS 5FX15CM | F108: UNIDAD | G108: 2 | H108: 118977.01 | I108: NO | N108: NO | V108: 0 | W108: 0 | X108: 0
A109: 107 | B109: NUEVO | C109: RADIOLOGIA | D109: INSUMOS | E109: CATETER DE NEFROSTOMIA 8 FR | F109: UNIDAD | G109: 2 | H109: 327690.91 | I109: NO | N109: NO | V109: 0 | W109: 0 | X109: 0
A110: 108 | B110: D003105 | C110: UCI NEONATAL | D110: INSUMOS | E110: CATETER INTRAVENOS DE SEGURIDAD DE 26 G DE 0,6 MM DE DIAMETRO Y TASA DE FLUJO DE 17 ML/MIN | F110: UNIDAD | G110: 83 | H110: 2672.5487 | I110: NO | N110: SI | V110: 0 | W110: 0 | X110: 0
A111: 109 | B111: D002975 | C111: ESTERILIZACION - INSTRUMENTACION | D111: INSUMOS | E111: CINTA TERMOSENCIBLE DE MARCACION DE COLOR NARANJA IDENTIFICACION DE DISPOSITIVOS REUTILIZABLES | F111: UNIDAD | G111: 2 | H111: 203974.99 | I111: NO | N111: NO | V111: 0 | W111: 0 | X111: 0
A112: 110 | B112: D002974 | C112: ESTERILIZACION - INSTRUMENTACION | D112: INSUMOS | E112: CINTA TERMOSENCIBLE DE MARCACION DE COLOR ROJO IDENTIFICACION DE DISPOSITIVOS REUTILIZABLES | F112: UNIDAD | G112: 2 | H112: 203974.99 | I112: NO | N112: NO | V112: 0 | W112: 0 | X112: 0
A113: 111 | B113: D002976 | C113: ESTERILIZACION - INSTRUMENTACION | D113: INSUMOS | E113: CINTA TERMOSENCIBLE DE MARCACION DE COLOR VERDE IDENTIFICACION DE DISPOSITIVOS REUTILIZABLES | F113: UNIDAD | G113: 2 | H113: 203974.99 | I113: NO | N113: NO | V113: 0 | W113: 0 | X113: 0
A114: 112 | B114: D003014 | C114: RADIOLOGIA | D114: INSUMOS | E114: CONECTOR SPD 250 (Sistema de transferencia sencillo, con un filtro antirreflujo y doble válvula) | F114: UNIDAD | G114: 40 | H114: 26628.335 | I114: NO | L114: COMPATIBLE CON INYECTOR BAYER | N114: NO | V114: 0 | W114: 0 | X114: 0
A115: 113 | B115: D000751 | C115: UCI ADULTO | D115: INSUMOS | E115: KIT DE INTRODUCCION PERCUTANEA CON VALVULA HEMOSTATICA #7.0 FR. 10 CMS LONGITUD | F115: UNIDAD | G115: 10 | H115: 139034.72 | I115: NO | L115: COMPATIBILIDAD PARA LOS ITEMS 544 Y 545 | N115: NO | V115: 0 | W115: 0 | X115: 0
A116: 114 | B116: D000532 | C116: ENFERMERIA | D116: INSUMOS | E116: ELECTRODO PARA MARCAPASO TRANSVENOSO 6.0 FR | F116: UNIDAD | G116: 10 | H116: 255598.91 | I116: NO | L116: COMPATIBLE CON INTRODUCTOR PERCUTANEO | N116: NO | V116: 0 | W116: 0 | X116: 0
A117: 115 | B117: D002631 | C117: SOPORTE NUTRICIONAL | D117: INSUMOS | E117: EQUIPO PARA BOMBA PERISTALTICA ESPECIFICA PARA ADMINISTRACION NUTRICION ENTERAL CON LAVADO AUTOMATICO KANGAROO CON BOLSA Y PUNZON 1000 CM3 | F117: UNIDAD | G117: 500 | H117: 45664.989 | I117: SI | J117: EQUIPO BOMBA DE NUTRICION | K117: 50 APROXIMADAMENTE PARA LOS ITEM 115 Y 116 | L117: SE EVALUARA POR COMPATIBILIDAD ENTRE INSUMOS Y APOYO TECNOLOGICO | M117: PARA LOS ITEMS 115 Y 116 LOS CUALES CUENTAN CON APOYO TECNOLOGICO EQUIPO DE BOMBA DE NUTRICION SE EVALUARA POR INTEGRALIDAD DE APOYO TECNOLOGICO | N117: NO | V117: 0 | W117: 0 | X117: 0
A118: 116 | B118: D1527 | C118: SOPORTE NUTRICIONAL | D118: INSUMOS | E118: EQUIPO PARA BOMBA PERISTALTICA ESPECIFICA PARA ADMINISTRACION NUTRICION ENTERAL CON LAVADO AUTOMATICO KANGAROO CON DOBLE BOLSA 1000 CM3 | F118: UNIDAD | G118: 5 | H118: 49145.571 | I118: SI | J118: EQUIPO BOMBA DE NUTRICION | K118: 50 APROXIMADAMENTE PARA LOS ITEM 115 Y 116 | L118: SE EVALUARA POR COMPATIBILIDAD ENTRE INSUMOS Y APOYO TECNOLOGICO | M118: PARA LOS ITEMS 115 Y 116 LOS CUALES CUENTAN CON APOYO TECNOLOGICO EQUIPO DE BOMBA DE NUTRICION SE EVALUARA POR INTEGRALIDAD DE APOYO TECNOLOGICO | N118: NO | V118: 0 | W118: 0 | X118: 0
A119: 117 | B119: D002043 | C119: ANESTESIA | D119: INSUMOS | E119: ESTILETE LUMINOSO | F119: UNIDAD | G119: 2 | H119: 311961.75 | I119: NO | N119: NO | V119: 0 | W119: 0 | X119: 0
A120: 118 | B120: D001772 | C120: SOPORTE NUTRICIONAL | D120: INSUMOS | E120: FILTRO NUTRICION PARENTERAL 1.2 MICRA ADULTO (NO DEBE TENER Y) | F120: UNIDAD | G120: 237 | H120: 23240.848 | I120: NO | N120: NO | V120: 0 | W120: 0 | X120: 0
A121: 119 | B121: D000626 | C121: SOPORTE NUTRICIONAL | D121: INSUMOS | E121: FILTRO PARA LÍNEA IV DE 0,2 MICRAS PARA ADULTO (NO DEBE TENER Y) | F121: UNIDAD | G121: 33 | H121: 24904.509 | I121: NO | N121: NO | V121: 0 | W121: 0 | X121: 0
A122: 120 | B122: D002582 | C122: ESTERILIZACION - INSTRUMENTACION | D122: INSUMOS | E122: GANCHOS DE RANEY | F122: UNIDAD | G122: 4 | H122: 7446.287 | I122: NO | N122: NO | V122: 0 | W122: 0 | X122: 0
A123: 121 | B123: D000655 | C123: CONSULTA EXTERNA | D123: INSUMOS | E123: GEL ABRASIVO | F123: UNIDAD | G123: 1 | H123: 251239.11 | I123: NO | N123: NO | V123: 0 | W123: 0 | X123: 0
A124: 122 | B124: D001951 | C124: RADIOLOGIA | D124: INSUMOS | E124: GUIA HIDROFILICA 0,038 PULGADAS X 120 CM | F124: UNIDAD | G124: 1 | H124: 390796.88 | I124: NO | N124: NO | V124: 0 | W124: 0 | X124: 0
A125: 123 | B125: D002351 | C125: IASS | D125: INSUMOS | E125: HISOPO PARA DETENCION ATP (CLEAN-TRACE SURFACE 3 M BIOTRACE) | F125: UNIDAD | G125: 70 | H125: 26372.565 | I125: SI | J125: LUMINOMETROS | K125: 6 APROXIMADAMENTE | N125: NO | V125: 0 | W125: 0 | X125: 0
A126: 124 | B126: D001299 | C126: ESTERILIZACION - INSTRUMENTACION | D126: INSUMOS | E126: INDICADOR BIOLOGICO PARA ESTERILIZACION CON PEROXIDO DE HIDROGENO CAJA | F126: CAJA | G126: 1 | H126: 861134.41 | I126: NO | L126: COMPATIBLE CON STERRAD VELOCITY | N126: NO | V126: 0 | W126: 0 | X126: 0
A127: 125 | B127: D001639 | C127: ESTERILIZACION - INSTRUMENTACION | D127: INSUMOS | E127: INDICADOR CONTROL BIOLOGICO DE VAPOR AMPOLLA LECTURA RAPIDA PARA AUTOCLAVE GRAVITACIONAL 1292 | F127: UNIDAD | G127: 240 | H127: 20757.455 | I127: NO | L127: COMPATIBLE CON INCUBADORA 3 M | N127: NO | V127: 0 | W127: 0 | X127: 0
A128: 126 | B128: D001641 | C128: ESTERILIZACION - INSTRUMENTACION | D128: INSUMOS | E128: INDICADOR QUIMICO A VAPOR CLASE 5 | F128: UNIDAD CAJA X500 | G128: 12 | H128: 779904.37 | I128: NO | N128: NO | V128: 0 | W128: 0 | X128: 0
A129: 127 | B129: D002729 | C129: ENFERMERIA | D129: INSUMOS | E129: INFUSOR DE LIQUIDOS DE 1000 ML TIPO BOLSILLO Y MANOMETRO REUTILIZABLE | F129: UNIDAD | G129: 10 | H129: 311961.75 | I129: NO | N129: NO | V129: 0 | W129: 0 | X129: 0
...

Sheet Hoja2
A2: DESCRIPCION | B2: UNIDAD DE MEDIDA | C2: CANTIDAD ESTIMADA
A3: AGUJA DE VERESS 120MM PN 120 | B3: UNIDAD | C3: 20 | D3: =VLOOKUP(A3,Hoja1!E2:H306,3,0) -> 20 | E3: =+C3-D3 -> 0
A4: AGUJA ESPINAL N 18 | B4: UNIDAD | C4: 20 | D4: =VLOOKUP(A4,Hoja1!E3:H307,3,0) -> 20 | E4: =+C4-D4 -> 0
A5: AGUJA VERRES DE 100 MM A 120 MM/2MM | B5: UNIDAD | C5: 10 | D5: =VLOOKUP(A5,Hoja1!E4:H307,3,0) -> 10 | E5: =+C5-D5 -> 0
A6: ALCOHOL ANTISEPTICO 700 EN BOTELLA O FRASCO PLÁSTICO | B6: UNIDAD | C6: 300 | D6: =VLOOKUP(A6,Hoja1!E5:H307,3,0) -> 300 | E6: =+C6-D6 -> 0
A7: ALGODÓN EN TORUNDA BOLSA X 500 GRS | B7: UNIDAD | C7: 60 | D7: =VLOOKUP(A7,Hoja1!E6:H308,3,0) -> 60 | E7: =+C7-D7 -> 0
A8: ALGODON TIPO HOSPITALARIO 450 – 500 G | B8: ROLLO | C8: 30 | D8: =VLOOKUP(A8,Hoja1!E7:H309,3,0) -> 30 | E8: =+C8-D8 -> 0
A9: BAJALENGUAS DE MADERA EMPAQUE INDIVIDUAL | B9: UNIDAD | C9: 6000 | D9: =VLOOKUP(A9,Hoja1!E8:H310,3,0) -> 6000 | E9: =+C9-D9 -> 0
A10: CANULA OROFARÍNGEA No.00 MAYO | B10: UNIDAD | C10: 1 | D10: =VLOOKUP(A10,Hoja1!E9:H311,3,0) -> 1 | E10: =+C10-D10 -> 0
A11: CATETER INTRAVENOSO N.14 LARGO (RADIOLOGIA) 2 PULGADAS | B11: UNIDAD | C11: 108 | D11: =VLOOKUP(A11,Hoja1!E10:H312,3,0) -> 108 | E11: =+C11-D11 -> 0
A12: CATETER MONOLUMEN N° 22 G X 10 CM PEDIATRICO | B12: UNIDAD | C12: 2 | D12: =VLOOKUP(A12,Hoja1!E11:H313,3,0) -> 2 | E12: =+C12-D12 -> 0
A13: CATETER N° 24G X 9 CM MONOLUMEN PEDIATRICO | B13: UNIDAD | C13: 2 | D13: =VLOOKUP(A13,Hoja1!E12:H314,3,0) -> 2 | E13: =+C13-D13 -> 0
A14: CATETER NEONATAL PERITONEAL 15 FR X 18 CM | B14: UNIDAD | C14: 1 | D14: =VLOOKUP(A14,Hoja1!E13:H315,3,0) -> 1 | E14: =+C14-D14 -> 0
A15: CATETER PERITONEAL COLA CERDO ADULTO 15FR, 57,5 CM | B15: UNIDAD | C15: 1 | D15: =VLOOKUP(A15,Hoja1!E14:H316,3,0) -> 1 | E15: =+C15-D15 -> 0
A16: CATETER PERITONEAL PEDIATRICO COLA DE CERDO 15FRX40.25CMS | B16: UNIDAD | C16: 1 | D16: =VLOOKUP(A16,Hoja1!E15:H317,3,0) -> 1 | E16: =+C16-D16 -> 0
A17: CATETER PERITONEAL RECTO PEDIATRICO DE 15 FR X 31 CM | B17: UNIDAD | C17: 1 | D17: =VLOOKUP(A17,Hoja1!E16:H318,3,0) -> 1 | E17: =+C17-D17 -> 0
... A308: SET PERFUSOR RADIOPACO 50 ML JERINGA X 50CC Y EXTENSION ANESTESIA POR 150 CM PARA EQUIPO | B308: UNIDAD | C308: 70 | D308: =VLOOKUP(A308,Hoja1!E307:H609,3,0) -> #N/A | E308: =+C308-D308 -> #N/A
A309: KIT PERFUSOR CON JERINGA NUTICARE ENFIT 20 ML | B309: KIT | C309: 50 | D309: =VLOOKUP(A309,Hoja1!E307:H610,3,0) -> #N/A | E309: =+C309-D309 -> #N/A
A310: KIT PERFUSOR CON JERINGA NUTICARE ENFIT 50 ML | B310: KIT | C310: 100 | D310: =VLOOKUP(A310,Hoja1!E307:H611,3,0) -> #N/A | E310: =+C310-D310 -> #N/A
A311: KIT PERFUSOR CON JERINGA NUTICARE ENFIT 10 ML | B311: KIT | C311: 20 | D311: =VLOOKUP(A311,Hoja1!E307:H612,3,0) -> #N/A | E311: =+C311-D311 -> #N/A
