Workbook

Sheet Hoja1
A1: ANEXO TECNICO ECONOMICO | I1: APOYO TECNOLOGICO | O1: INFORMACION PARA DILIGENCIAR PROVEEDOR (OBLIGATORIO DILIGENCIAR TODOS LOS CAMPOS) NO ADICIONAR CAMPOS O DAÑAR EL FORMATO ESTABLECIDO.
A2: ITEM | B2: CODIGO INTERNO | C2: EVALUADOR TECNICO | D2: TIPO DE APOYO | E2: DESCRIPCION | F2: UNIDAD DE MEDIDA | G2: CANTIDAD ESTIMADA | H2: PRECIO TECHO | I2: APOYO TECNOLOGICO | J2: CUAL | K2: CUANTOS | L2: COMPATIBILIDAD | M2: OBSERVACION | N2: REQUIERE MUESTRA? | O2: REGISTRO INVIMA | P2: FECHA DE REGISTRO INVIMA | Q2: MARCA | R2: CLASIFICACION DEL RIESGO | S2: VIDA UTIL | T2: PRESENTACION | U2: VALOR UNITARIO | V2: IVA | W2: VALOR UNITARIO + IVA | X2: VALOR UNITARIO + IVA X CONSUMO
A3: 1 | B3: D002654 | C3: ESTERILIZACION - INSTRUMENTACION | D3: INSUMOS | E3: AGUJA DE VERESS 120MM PN 120 | F3: UNIDAD | G3: 20 | H3: 76190.658 | I3: NO | N3: NO | V3: 0 | W3: 0 | X3: 0
A4: 2 | B4: D000048 | C4: ENFERMERIA | D4: INSUMOS | E4: AGUJA ESPINAL N 18 | F4: UNIDAD | G4: 20 | H4: 5387.3394 | I4: NO | N4: NO | V4: 0 | W4: 0 | X4: 0
A5: 3 | B5: D000032 | C5: ESTERILIZACION - INSTRUMENTACION | D5: INSUMOS | E5: AGUJA VERRES DE 100 MM A 120 MM/2MM | F5: UNIDAD | G5: 10 | H5: 155689.31 | I5: NO | N5: NO | V5: 0 | W5: 0 | X5: 0
A6: 4 | B6: D00158 | C6: ENFERMERIA | D6: INSUMOS | E6: ALCOHOL ANTISEPTICO 700 EN BOTELLA O FRASCO PLÁSTICO | F6: UNIDAD | G6: 300 | H6: 5337.8329 | I6: NO | N6: NO | V6: 0 | W6: 0 | X6: 0
A7: 5 | B7: D000095 | C7: ENFERMERIA | D7: INSUMOS | E7: ALGODÓN EN TORUNDA BOLSA X 500 GRS | F7: UNIDAD | G7: 60 | H7: 17452.314 | I7: NO | N7: NO | V7: 0 | W7: 0 | X7: 0
A8: 6 | B8: D000097 | C8: ENFERMERIA | D8: INSUMOS | E8: ALGODON TIPO HOSPITALARIO 450 – 500 G | F8: ROLLO | G8: 30 | H8: 14566.617 | I8: NO | N8: NO | V8: 0 | W8: 0 | X8: 0
A9: 7 | B9: D000196 | C9: ENFERMERIA | D9: INSUMOS | E9: BAJALENGUAS DE MADERA EMPAQUE INDIVIDUAL | F9: UNIDAD | G9: 6000 | H9: 101.98749 | I9: NO | N9: SI | V9: 0 | W9: 0 | X9: 0
A10: 8 | B10: NUEVO | C10: CIRUGIA | D10: INSUMOS | E10: CANULA OROFARÍNGEA No.00 MAYO | F10: UNIDAD | G10: 1 | H10: 2524.4905 | I10: NO | N10: NO | V10: 0 | W10: 0 | X10: 0
A11: 9 | B11: D002378 | C11: RADIOLOGIA | D11: INSUMOS | E11: CATETER INTRAVENOSO N.14 LARGO (RADIOLOGIA) 2 PULGADAS | F11: UNIDAD | G11: 108 | H11: 907.45176 | I11: NO | N11: SI | V11: 0 | W11: 0 | X11: 0
A12: 10 | B12: D000357 | C12: ENFERMERIA | D12: INSUMOS | E12: CATETER MONOLUMEN N° 22 G X 10 CM PEDIATRICO | F12: UNIDAD | G12: 2 | H12: 93265.875 | I12: NO | N12: NO | V12: 0 | W12: 0 | X12: 0
A13: 11 | B13: D001852 | C13: ENFERMERIA | D13: INSUMOS | E13: CATETER N° 24G X 9 CM MONOLUMEN PEDIATRICO | F13: UNIDAD | G13: 2 | H13: 90745.176 | I13: NO | N13: NO | V13: 0 | W13: 0 | X13: 0
A14: 12 | B14: D002471 | C14: NEFROLOGIA | D14: INSUMOS | E14: CATETER NEONATAL PERITONEAL 15 FR X 18 CM | F14: UNIDAD | G14: 1 | H14: 871864.52 | I14: NO | N14: NO | V14: 0 | W14: 0 | X14: 0
... A19: 17 | B19: NUEVO | C19: CIRUGIA | D19: INSUMOS | E19: CONECTOR DE VENTILACIÓN MECÁNICA PARA BRONCOSCOPIO | F19: UNIDAD | G19: 1 | H19: 151241.96 | I19: NO | N19: NO | V19: 0 | W19: 0 | X19: 0
A20: 18 | B20: D000607 | C20: ESTERILIZACION - INSTRUMENTACION | D20: INSUMOS | E20: CUCHILLA PARA DERMATOMO COMPATIBLE CON DERMATOMO NOUVAG MODELO TCM 3000 BL | F20: UNIDAD | G20: 4 | H20: 779904.37 | I20: NO | L20: COMPATIBLE CON DERMATOMO NOUVAG MODELO TCM 3000 BL | N20: NO | V20: 0 | W20: 0 | X20: 0
A21: 19 | B21: D001802 | C21: CLINICA DE HERIDAS | D21: INSUMOS | E21: DISPOSITIVO DE INCONTINENCIA FECAL | F21: unidad | G21: 1 | H21: 868813.47 | I21: NO | N21: NO | V21: 0 | W21: 0 | X21: 0
A22: 20 | B22: D000520 | C22: ESTERILIZACION - INSTRUMENTACION | D22: INSUMOS | E22: DRENES PERFORADOS DE SILICONA CON RESERVORIO DE 400 CC DREN PLANO SIN TROCAR DE 10MMM X 20 CM | F22: UNIDAD | G22: 10 | H22: 44488.327 | I22: NO | N22: NO | V22: 0 | W22: 0 | X22: 0
A23: 21 | B23: D002800 | C23: CIRUGIA | D23: INSUMOS | E23: ELECTRODO DE CORTE MONO 24 FR 12/30° | F23: UNIDAD | G23: 1 | H23: 2016559.5 | I23: NO | N23: NO | V23: 0 | W23: 0 | X23: 0
A24: 22 | B24: D000257 | C24: APH | D24: INSUMOS | E24: ELECTRODOS MULTIFUNCIONAL EURO DEFI PEDIATRICO REF:FIAB/SCHILLER/EASY | F24: UNIDAD | G24: 3 | H24: 281663.95 | I24: NO | L24: COMPATIBLE CON DESFIBRILADOR EURODEFI | N24: NO | V24: 0 | W24: 0 | X24: 0
A25: 23 | B25: D001691 | C25: CLINICA DE HERIDAS | D25: INSUMOS | E25: ESPARADRAPO DE TELA VARIOS TAMAÑOS TUBO X 5 ROLLOS | F25: TUBO X 5 ROLLOS | G25: 800 | H25: 15199.817 | I25: NO | N25: SI | V25: 0 | W25: 0 | X25: 0
A26: 24 | B26: D000169 | C26: TERAPIA RESPIRATORIA | D26: INSUMOS | E26: FILTRO ANTIBACTERIANO PLASTICO PARA VACUTRONES RV2/RV3 | F26: UNIDAD | G26: 120 | H26: 16797.94 | I26: NO | N26: NO | V26: 0 | W26: 0 | X26: 0
A27: 25 | B27: D000623 | C27: TERAPIA RESPIRATORIA | D27: INSUMOS | E27: FILTRO BACTERIANO VIRICO ADULTO PARA VENTILADOR MECANICO | F27: UNIDAD | G27: 500 | H27: 2639.6763 | I27: NO | N27: NO | V27: 0 | W27: 0 | X27: 0
A28: 26 | B28: D002999 | C28: BIOMEDICA | D28: INSUMOS | E28: FILTRO HIDROFOBICO PARA SUCCIONADORES CAMI SP0046(ASPIRET,ASKIR15, ASKIR 30, ASK) EN EMPAQUE INDIVIDUAL | F28: UNIDAD | G28: 10 | H28: 30116.307 | I28: NO | N28: SI | V28: 0 | W28: 0 | X28: 0
A29: 27 | B29: D000250 | C29: CIRUGIA | D29: INSUMOS | E29: FLEBOEXTRACTOR DESECHABLE ESTERIL CON GUAYA EN NYLON RADIOPACO | F29: UNIDAD | G29: 10 | H29: 103709.64 | I29: NO | N29: NO | V29: 0 | W29: 0 | X29: 0
A30: 28 | B30: D003001 | C30: UNIDAD RENAL | D30: INSUMOS | E30: GASA ADHESIVA ELÁSTICA DE POLIÉSTER NO TEJIDO EN ROLLO 15CMX 10 MTS (FIXOMULL) | F30: UNIDAD | G30: 100 | H30: 57976.085 | I30: NO | N30: NO | V30: 0 | W30: 0 | X30: 0
A31: 29 | B31: D002484 | C31: CLINICA DE HERIDAS | D31: INSUMOS | E31: GEL HIDRATANTE CON ALGINATO DE CALCIO Y ACIDO BORICO PARA HERIDAS DERMICAS TUBO 85 GR | F31: UNIDAD | G31: 23 | H31: 72797.797 | I31: NO | N31: NO | V31: 0 | W31: 0 | X31: 0
A32: 30 | B32: D000484 | C32: CLINICA DE HERIDAS | D32: INSUMOS | E32: GEL Y PASTA CONDUCTORA Ten20 | F32: UNIDAD | G32: 3 | H32: 83813.253 | I32: NO | N32: NO | V32: 0 | W32: 0 | X32: 0
A33: 31 | B33: NUEVO | C33: ENFERMERIA | D33: INSUMOS | E33: GUANTE NITRILO TALLA M | F33: CAJA | G33: 209 | H33: 12500 | I33: NO | N33: NO | V33: 0 | X33: 0
A34: 32 | B34: D1524 | C34: ENFERMERIA | D34: INSUMOS | E34: GUANTE SIN LATEX ESTERIL TALLA 7 PAR | F34: PAR | G34: 114 | H34: 1763.7837 | I34: NO | N34: NO | V34: 0 | W34: 0 | X34: 0
A35: 33 | B35: D000657 | C35: CLINICA DE HERIDAS | D35: INSUMOS | E35: HIDROCOLOIDES EN GEL DESDE 20 HASTA 50 GR | F35: TUBO | G35: 27 | H35: 55253.729 | I35: NO | N35: NO | V35: 0 | W35: 0 | X35: 0
A36: 34 | B36: D003050 | C36: GINECOLOGIA | D36: INSUMOS | E36: JUEGO DE 5 DILATADORES (AMEU) | F36: UNIDAD | G36: 1 | H36: 290214.42 | I36: NO | N36: NO | V36: 0 | W36: 0 | X36: 0
A37: 35 | B37: D002764 | C37: CLINICA DE HERIDAS | D37: INSUMOS | E37: KIT DE BARRERA Y BOLSA CUTANEA PARA COLOSTOMIA ADULTO 57-60 (60 mm) CON SITEMA DE CIERRE INVISE CLOSE TANTO LAS BOLSAS COMO LAS BARRERAS DEBEN TENER SU EMPAQUE INDIVIDUAL | F37: KIT | G37: 60 | H37: 38516.286 | I37: NO | N37: NO | V37: 0 | W37: 0 | X37: 0
A38: 36 | B38: D002765 | C38: CLINICA DE HERIDAS | D38: INSUMOS | E38: KIT DE BARRERA Y BOLSA CUTANEA PARA COLOSTOMIA ADULTO 70-80 (80mm) CON SITEMA DE CIERRE INVISE CLOSE TANTO LAS BOLSAS COMO LAS BARRERAS DEBEN TENER SU EMPAQUE INDIVIDUAL | F38: KIT | G38: 60 | H38: 38516.286 | I38: NO | N38: NO | V38: 0 | W38: 0 | X38: 0
A39: 37 | B39: D002852 | C39: CLINICA DE HERIDAS | D39: INSUMOS | E39: KIT DE BARRERA Y BOLSA CUTANEA PARA COLOSTOMIA PEDIATRICA (40 mm) CON SITEMA DE CIERRE INVISE CLOSE TANTO LAS BOLSAS COMO LAS BARRERAS DEBEN TENER SU EMPAQUE INDIVIDUAL | F39: KIT | G39: 10 | H39: 30752.532 | I39: NO | N39: NO | V39: 0 | W39: 0 | X39: 0
A40: 38 | B40: D000714 | C40: ESTERILIZACION - INSTRUMENTACION | D40: INSUMOS | E40: LIGA CLIP DE TITANIO TAMAÑO MEDIANO LARGO CON RANURAS TRANSVERSALES Y LATERALES CARRIL POR 6 CLIPS | F40: UNIDAD | G40: 40 | H40: 16878.603 | I40: NO | N40: NO | V40: 0 | W40: 0 | X40: 0
A41: 39 | B41: D002628 | C41: ESTERILIZACION - INSTRUMENTACION | D41: INSUMOS | E41: LIGACLIP PARA LIGADURA EN POLIMERO NO ABSORBIBLE TAMAÑO M (CIERRE DE VASOS DE 2-7CM) CARTUCHO POR 6 UNIDADES (HEM-O-LOCK)verde | F41: UNIDAD | G41: 20 | H41: 83687.218 | I41: NO | N41: NO | V41: 0 | W41: 0 | X41: 0
A42: 40 | B42: D003087 | C42: CLINICA DE HERIDAS | D42: INSUMOS | E42: MALLA DE CONTACTO GELIFICANTE 10X20CM | F42: UNIDAD | G42: 20 | H42: 16636.616 | I42: NO | N42: NO | V42: 0 | W42: 0 | X42: 0
A43: 41 | B43: D003088 | C43: CLINICA DE HERIDAS | D43: INSUMOS | E43: MALLA DE CONTACTO GELIFICANTE 10X30CM | F43: UNIDAD | G43: 20 | H43: 23190.434 | I43: NO | N43: NO | V43: 0 | W43: 0 | X43: 0
A44: 42 | B44: NUEVO | C44: ENFERMERIA | D44: INSUMOS | E44: MANTA DE CALENTAMIENTO ADULTO COMPATIBLES PARA EQUIPO EQUATOR | F44: UNIDAD | G44: 10 | H44: 60496.784 | I44: NO | L44: COMPATIBLE CON EQUIPO EQUATOR | N44: NO | V44: 0 | W44: 0 | X44: 0
...

Sheet Hoja2
A2: DESCRIPCION | B2: UNIDAD DE MEDIDA | C2: CANTIDAD ESTIMADA
A3: AGUJA DE VERESS 120MM PN 120 | B3: UNIDAD | C3: 20 | D3: =VLOOKUP(A3,Hoja1!E2:H306,3,0) -> 20 | E3: =+C3-D3 -> 0
A4: AGUJA ESPINAL N 18 | B4: UNIDAD | C4: 20 | D4: =VLOOKUP(A4,Hoja1!E3:H307,3,0) -> 20 | E4: =+C4-D4 -> 0
A5: AGUJA VERRES DE 100 MM A 120 MM/2MM | B5: UNIDAD | C5: 10 | D5: =VLOOKUP(A5,Hoja1!E4:H307,3,0) -> 10 | E5: =+C5-D5 -> 0
A6: ALCOHOL ANTISEPTICO 700 EN BOTELLA O FRASCO PLÁSTICO | B6: UNIDAD | C6: 300 | D6: =VLOOKUP(A6,Hoja1!E5:H307,3,0) -> 300 | E6: =+C6-D6 -> 0
A7: ALGODÓN EN TORUNDA BOLSA X 500 GRS | B7: UNIDAD | C7: 60 | D7: =VLOOKUP(A7,Hoja1!E6:H308,3,0) -> 60 | E7: =+C7-D7 -> 0
A8: ALGODON TIPO HOSPITALARIO 450 – 500 G | B8: ROLLO | C8: 30 | D8: =VLOOKUP(A8,Hoja1!E7:H309,3,0) -> 30 | E8: =+C8-D8 -> 0
A9: BAJALENGUAS DE MADERA EMPAQUE INDIVIDUAL | B9: UNIDAD | C9: 6000 | D9: =VLOOKUP(A9,Hoja1!E8:H310,3,0) -> 6000 | E9: =+C9-D9 -> 0
A10: CANULA OROFARÍNGEA No.00 MAYO | B10: UNIDAD | C10: 1 | D10: =VLOOKUP(A10,Hoja1!E9:H311,3,0) -> 1 | E10: =+C10-D10 -> 0
A11: CATETER INTRAVENOSO N.14 LARGO (RADIOLOGIA) 2 PULGADAS | B11: UNIDAD | C11: 108 | D11: =VLOOKUP(A11,Hoja1!E10:H312,3,0) -> 108 | E11: =+C11-D11 -> 0
A12: CATETER MONOLUMEN N° 22 G X 10 CM PEDIATRICO | B12: UNIDAD | C12: 2 | D12: =VLOOKUP(A12,Hoja1!E11:H313,3,0) -> 2 | E12: =+C12-D12 -> 0
A13: CATETER N° 24G X 9 CM MONOLUMEN PEDIATRICO | B13: UNIDAD | C13: 2 | D13: =VLOOKUP(A13,Hoja1!E12:H314,3,0) -> 2 | E13: =+C13-D13 -> 0
A14: CATETER NEONATAL PERITONEAL 15 FR X 18 CM | B14: UNIDAD | C14: 1 | D14: =VLOOKUP(A14,Hoja1!E13:H315,3,0) -> 1 | E14: =+C14-D14 -> 0
A15: CATETER PERITONEAL COLA CERDO ADULTO 15FR, 57,5 CM | B15: UNIDAD | C15: 1 | D15: =VLOOKUP(A15,Hoja1!E14:H316,3,0) -> 1 | E15: =+C15-D15 -> 0
A16: CATETER PERITONEAL PEDIATRICO COLA DE CERDO 15FRX40.25CMS | B16: UNIDAD | C16: 1 | D16: =VLOOKUP(A16,Hoja1!E15:H317,3,0) -> 1 | E16: =+C16-D16 -> 0
A17: CATETER PERITONEAL RECTO PEDIATRICO DE 15 FR X 31 CM | B17: UNIDAD | C17: 1 | D17: =VLOOKUP(A17,Hoja1!E16:H318,3,0) -> 1 | E17: =+C17-D17 -> 0
... A308: SET PERFUSOR RADIOPACO 50 ML JERINGA X 50CC Y EXTENSION ANESTESIA POR 150 CM PARA EQUIPO | B308: UNIDAD | C308: 70 | D308: =VLOOKUP(A308,Hoja1!E307:H609,3,0) -> #N/A | E308: =+C308-D308 -> #N/A
A309: KIT PERFUSOR CON JERINGA NUTICARE ENFIT 20 ML | B309: KIT | C309: 50 | D309: =VLOOKUP(A309,Hoja1!E307:H610,3,0) -> #N/A | E309: =+C309-D309 -> #N/A
A310: KIT PERFUSOR CON JERINGA NUTICARE ENFIT 50 ML | B310: KIT | C310: 100 | D310: =VLOOKUP(A310,Hoja1!E307:H611,3,0) -> #N/A | E310: =+C310-D310 -> #N/A
A311: KIT PERFUSOR CON JERINGA NUTICARE ENFIT 10 ML | B311: KIT | C311: 20 | D311: =VLOOKUP(A311,Hoja1!E307:H612,3,0) -> #N/A | E311: =+C311-D311 -> #N/A
