Workbook
Name Acero: #REF!
Name Acero: #REF!
Name Acero: #REF!
Name Acero: #REF!
Name Acero: #REF!
Name Agregados: #REF!
Name Agregados: #REF!
Name Agregados: #REF!
Name Agregados: #REF!
Name Agregados: #REF!
Name Apar.Sanitarios: #REF!
Name Apar.Sanitarios: #REF!
Name Apar.Sanitarios: #REF!
Name Apar.Sanitarios: #REF!
Name Apar.Sanitarios: #REF!
Name Carp.Aluminio: #REF!
Name Carp.Aluminio: #REF!
Name Carp.Aluminio: #REF!
Name Carp.Aluminio: #REF!
Name Carp.Aluminio: #REF!
Name Carp.Metalica: #REF!
Name Carp.Metalica: #REF!
Name Carp.Metalica: #REF!
Name Carp.Metalica: #REF!
Name Carp.Metalica: #REF!
Name Cerrajeria: #REF!
Name Cerrajeria: #REF!
Name Cerrajeria: #REF!
Name Cerrajeria: #REF!
Name Cerrajeria: #REF!
Name Ciudades: #REF!
Name Ciudades: #REF!
Name Ciudades: #REF!
Name Ciudades: #REF!
Name Ciudades: #REF!
Name Combustible: #REF!
Name Combustible: #REF!
Name Combustible: #REF!
Name Combustible: #REF!
Name Combustible: #REF!
Name Concretos: #REF!
Name Concretos: #REF!
Name Concretos: #REF!
Name Concretos: #REF!
Name Concretos: #REF!
Name Cuadrillas: #REF!
Name Cuadrillas: #REF!
Name Cuadrillas: #REF!
Name Cuadrillas: #REF!
Name Cuadrillas: #REF!
Name Cubierta: #REF!
Name Cubierta: #REF!
Name Cubierta: #REF!
Name Cubierta: #REF!
Name Cubierta: #REF!
Name Drywall: #REF!
Name Drywall: #REF!
Name Drywall: #REF!
Name Drywall: #REF!
Name Drywall: #REF!

Sheet PRESUPUESTO
C2: Código | D2: CCE-EICP-FM-14
C3: FORMULARIO 1
C4: PRESUPUESTO OFICIAL
C5: [Las Entidades Estatales deben usar el presente formulario para determinar el Presupuesto Oficial del Proceso de Contratación y solo pueden modificar o ajustar aquello que en este se permite expresamente] [El presente formulario aplica para los procesos de contratación que tengan como forma de pago precios unitarios. Tratándose de otras modalidades de precio, la Entidad debe ajustarlo cuando corresponde a: precio global, llave en mano, administración delegada, reembolso de gastos o cualquier otra forma de precio.]
C9: Adicionalmente, cuando el proceso de contratación es estructurado por precios unitarios, la Entidad debe aplicar las notas 1, 2 y 3 del presente formulario y las casillas de "Descripción", "Porcentaje" de la Administración, Imprevisto, Utilidad y total A.I.U. resaltadas en color amarillo. Tratándose de otras modalidades de precio, la Entidad puede o no configurar los mismos aspectos.
C13: CEDECO GALAN
D14: ITEM DE PAGO | E14: DESCRIPCION | F14: UND. | G14: CANTIDAD | H14: VALOR UNITARIO | I14: VALOR TOTAL
C15: 08B | E15: INSTALACIONES ELECTRICAS - REDES INTERNAS
D16: 08B.283 | E16: SUMINISTRO E INSTALACION SALIDA INTERRUPTOR SENCILLO | F16: UN | G16: 8 | H16: =[1]APU!$I$1157 -> 153659 | I16: =+ROUND((G16*H16),0) -> 1229272
C17: 009 | E17: REVOQUES Y RESANES
D18: 009.005 | E18: SUMINISTRO,TRANSPORTE E INSTALACION REVOQUE LISO MUROS 1:3 IMPERMEABILIZADO (INCLUYE FILOS Y DILATACIONES) PARA ALTURAS MENORES A 3 METROS | F18: M2 | G18: 120 | H18: 37836 | I18: =ROUND(H18*G18,0) -> 4540320
D19: 009.025 | E19: REPARACION MUROS (INCLUYE RESANE Y PINTURA) | F19: M2 | G19: 40 | H19: 4940 | I19: =ROUND(H19*G19,0) -> 197600
C20: 011 | E20: CIELO RASO
C21: 012 | E21: PISOS Y ACABADOS
D22: 012.001 | E22: SUMINISTRO, TRANSPORTE E INSTALACION ALISTADO PISOS Mortero 1:3 e= 0.03 mts | F22: M2 | G22: 200 | H22: 29797 | I22: =+ROUND((G22*H22),0) -> 5959400
D23: 012.007 | E23: SUMINISTRO, TRANSPORTE E INSTALACION CERAMICA PISO ANTIQUE TIPO ALFA O SIMILAR. COLOR BEIGE O BLANCO SEGÚN DISEÑO (INCLUYE BOQUILLA.). INCLUYE MORTERO DE PEGA Y/O NIVELACIÓN. | F23: M2 | G23: 200 | H23: 72763 | I23: =+ROUND((G23*H23),0) -> 14552600
D24: 012.031 | E24: SUMINISTRO, TRANSPORTE E INSTALACION GUARDAESCOBA CERAMICA TIPO ANTIQUE H = 10 CM. TIPO ALFA O SIMILAR. COLOR BEIGE O BLANCO SEGÚN DISEÑO (INCLUYE BOQUILLA.). INCLUYE MORTERO DE PEGA Y/O NIVELACIÓN | F24: ML | G24: =19.8+18.7+19.8+18.7+50 -> 127 | H24: 16058 | I24: =+ROUND((G24*H24),0) -> 2039366
C25: 019 | E25: PINTURA
D26: 019.001 | E26: SUMINISTRO, TRANSPORTE E INSTALACION ESTUCO Y VINILO 3 MANOS SOBRE MURO INTERIOR (INCLUYE ESTUCO, 1 MANO EN PINTURA TIPO 2 Y DOS MANOS EN PINTURA TIPO 1, FILOS Y DILATACIONES). COLOR SEGÚN DISEÑO POR M2 | F26: M2 | G26: 400 | H26: 31081 | I26: =+ROUND((G26*H26),0) -> 12432400
D27: 019.007 | E27: SUMINISTRO, TRANSPORTE E INSTALACION ESTUCO Y VINILO 3 MANOS BAJO PLACA INTERIOR (INCLUYE ESTUCO, 1 MANO EN PINTURA TIPO 2 Y DOS MANOS EN PINTURA TIPO 1, FILOS Y DILATACIONES). COLOR SEGÚN DISEÑO. | F27: M2 | G27: 70 | H27: 28074 | I27: =+ROUND((G27*H27),0) -> 1965180
C28: 028 | E28: CUBIERTA
D29: 028.007 | E29: DESMONTE CUBIERTA | F29: M2 | G29: 470 | H29: 17649 | I29: =+ROUND((G29*H29),0) -> 8295030 | K29: 150
C30: 029 | E30: DEMOLICIONES
D31: 029.003 | E31: DEMOLICION ENCHAPE DE PISOS (INCLUYE RETIRO) | F31: M2 | G31: 200 | H31: 12822 | I31: =+ROUND((G31*H31),0) -> 2564400
D32: 029.078 | E32: DEMOLICION DE MESONES ANCHO >0.60 M (INCLUYE RETIRO) | F32: ML | G32: 2 | H32: 48797 | I32: =+ROUND((G32*H32),0) -> 97594
C33: 032 | E33: ADICIONALES ALCALDIA DE MANIZALES
D34: 010.026 | E34: RECORRIDO DE CUBIERTA (Inc. Ganchos, amarras y sikaflex) | F34: M2 | G34: 220 | H34: 18149
D35: 032.026 | E35: LIMPIEZA Y NIVELACION DE CANALES INCLUYE SOLDADURAS Y APLIACACION DE WASH PREMIER | F35: ML | G35: 30 | H35: 15217 | I35: =ROUND(H35*G35,0) -> 456510
F36: M2 | G36: 480 | H36: 86547 | I36: =+ROUND((G36*H36),0) -> 41542560
D37: 032.043 | E37: SUMINISTRO, TRANSPORTE E INSTALACION CAMBIO DE ACCESORIOS EN APARATO SANITARIO INCLUYE SUMINISTRO E INSTALACIÓN DE FLUITMASTER | F37: UND. | G37: 5 | H37: 79751 | I37: =ROUND(H37*G37,0) -> 398755
D38: 032.048 | E38: REPARACIÓN DE PUNTO SANITARIO OBSTRUIDO INCLUYE SONDEO DE TUBERÍA, RETIRO REVISIÓN Y REINSTALACIÓN DE APARATO SANITARIO. | F38: UND | G38: 5 | H38: 98787 | I38: 32059
D39: 032.059 | E39: SUMINISTRO, TRANSPORTE E INSTALACION PINTURA ESMALTE PARA PUERTAS, REJAS, VENTANAS, PASAMANOS Y ZÓCALOS. Incluye filos y dilataciones | F39: M2 | G39: 30 | H39: 28412 | I39: =ROUND(H39*G39,0) -> 852360
D40: 032.165 | E40: SUMINISTRO, TRANSPORTE E INSTALACION DE LAMINAS DIFUSORAS DE LUZ DE 0.61 X 2.45 M CON ESTRUCTURA EN ALUMINIO NATURAL SUSPENDIDA A LA ESTRUCTURA INCLUYE ADECUACIÓN DE LÁMPARAS A LA MODULACIÓN DEL CIELO RASO | F40: M2 | G40: 6 | H40: 113473 | I40: =ROUND(H40*G40,0) -> 680838
E41: INSTALACIONES ELECTRICAS
E42: SUMINISTRO, TRANSPORTE E INSTALACION LUMINARIA PANEL LED 40W | F42: UN | G42: 13 | H42: 202131 | I42: =+ROUND((G42*H42),0) -> 2627703
E43: SUMINISTRO, TRANSPORTE E INSTALACIÓN SALIDA DE IILUMINACIÓN EN TUBERÍA PVC SCH40 1/2", CABLE 12 AWG HFFR LS | F43: UN | G43: 12 | H43: 170893 | I43: =+ROUND((G43*H43),0) -> 2050716
E44: SUMINISTRO E INSTALACION SALIDA PUNTO TOMACORRIENTE DOBLE TIPO NORMAL. INCLUYE 12 METROS DE ALAMBRE Y 4 METROS DE TUBO | F44: UN | G44: 20 | H44: 127939 | I44: =+ROUND((G44*H44),0) -> 2558780
E45: SUMINISTRO E INSTALACION DEL SISTEMA DE PUESTA A TIERRA | F45: UN | G45: 1 | H45: 2208261 | I45: =+ROUND((G45*H45),0) -> 2208261
E46: FALTA REVISIÓN ELÉCTRICA | F46: GL | G46: 1 | H46: 4000000 | I46: =+ROUND((G46*H46),0) -> 4000000
I47: =SUM(I15:I46) -> 111281704
...

Sheet PRESUPUEST (2)
B2: Código | C2: CCE-EICP-FM-14
B3: FORMULARIO 1
B4: PRESUPUESTO OFICIAL
B5: [Las Entidades Estatales deben usar el presente formulario para determinar el Presupuesto Oficial del Proceso de Contratación y solo pueden modificar o ajustar aquello que en este se permite expresamente] [El presente formulario aplica para los procesos de contratación que tengan como forma de pago precios unitarios. Tratándose de otras modalidades de precio, la Entidad debe ajustarlo cuando corresponde a: precio global, llave en mano, administración delegada, reembolso de gastos o cualquier otra forma de precio.]
B9: Adicionalmente, cuando el proceso de contratación es estructurado por precios unitarios, la Entidad debe aplicar las notas 1, 2 y 3 del presente formulario y las casillas de "Descripción", "Porcentaje" de la Administración, Imprevisto, Utilidad y total A.I.U. resaltadas en color amarillo. Tratándose de otras modalidades de precio, la Entidad puede o no configurar los mismos aspectos.
C14: ITEM DE PAGO | D14: DESCRIPCION | E14: UND. | F14: CANTIDAD | G14: VALOR UNITARIO | H14: VALOR UNITARIO CON AU | J14: DESCRIPCION | K14: UND. | L14: VALOR UNITARIO | M14: VR. UNIT CON AU
B15: 002 MOVIMIENTO DE TIERRAS
B16: 1 | C16: 002.83 | D16: EXCAVACION MANUAL | E16: M3 | F16: 1 | G16: =APU!I2 -> 27162 | H16: =M16 -> 37603 | J16: =VLOOKUP($C16,[6]Actividades!$A:$E,2,FALSE) -> EXCAVACION MANUAL | K16: =VLOOKUP($C16,[6]Actividades!$A:$E,4,FALSE) -> M3 | L16: =VLOOKUP($C16,[6]Actividades!$A:$E,5,FALSE) -> 27162 | M16: =ROUND(L16*(1+'Analisis AIU'!$J$53),0) -> 37603
B17: SUBTOTAL SIN AU
B18: 003 DESAGUES E INSTALACIONES SANITARIAS
B19: 2 | C19: 003.010 | D19: SUMINISTRO, TRANSPORTE E INSTALACION BAJANTE AGUAS LLUVIAS PVC 3" (INCLUYE CODO, UNION Y ACCESORIOS DE FIJACION) | E19: ML | F19: 1 | G19: =APU!I7 -> 29571 | H19: =M19 -> 40938 | J19: =VLOOKUP($C19,[6]Actividades!$A:$E,2,FALSE) -> SUMINISTRO, TRANSPORTE E INSTALACION BAJANTE AGUAS LLUVIAS PVC 3" (INCLUYE CODO, UNION Y ACCESORIOS DE FIJACION) | K19: =VLOOKUP($C19,[6]Actividades!$A:$E,4,FALSE) -> ML | L19: =VLOOKUP($C19,[6]Actividades!$A:$E,5,FALSE) -> 29571 | M19: =ROUND(L19*(1+'Analisis AIU'!$J$53),0) -> 40938
B20: 3 | C20: 003.011 | D20: SUMINISTRO, TRANSPORTE E INSTALACION BAJANTE AGUAS LLUVIAS PVC 4" (INCLUYE CODO, UNION Y ACCESORIOS DE FIJACION) | E20: ML | F20: 1 | G20: =APU!I19 -> 38890 | H20: =M20 -> 53839 | J20: =VLOOKUP($C20,[6]Actividades!$A:$E,2,FALSE) -> SUMINISTRO, TRANSPORTE E INSTALACION BAJANTE AGUAS LLUVIAS PVC 4" (INCLUYE CODO, UNION Y ACCESORIOS DE FIJACION) | K20: =VLOOKUP($C20,[6]Actividades!$A:$E,4,FALSE) -> ML | L20: =VLOOKUP($C20,[6]Actividades!$A:$E,5,FALSE) -> 38890 | M20: =ROUND(L20*(1+'Analisis AIU'!$J$53),0) -> 53839
B21: 4 | C21: 003.013 | D21: SUMINISTRO, TRANSPORTE E INSTALACION PUNTO DESAGUE PVC 2" Aparatos sanitarios y desagues (INCLUYE CODO, YEE Y ACCESORIOS) | E21: UND | F21: 1 | G21: =APU!I31 -> 83038 | H21: =M21 -> 114958 | J21: =VLOOKUP($C21,[6]Actividades!$A:$E,2,FALSE) -> SUMINISTRO, TRANSPORTE E INSTALACION PUNTO DESAGUE PVC 2" APARATOS SANITARIOS Y DESAGUES (INCLUYE CODO, YEE Y ACCESORIOS) | K21: =VLOOKUP($C21,[6]Actividades!$A:$E,4,FALSE) -> UND | L21: =VLOOKUP($C21,[6]Actividades!$A:$E,5,FALSE) -> 83038 | M21: =ROUND(L21*(1+'Analisis AIU'!$J$53),0) -> 114958
B22: 5 | C22: 003.014 | D22: SUMINISTRO, TRANSPORTE E INSTALACION PUNTO DESAGUE PVC 3" Aparatos sanitarios y desagues (INCLUYE CODO, YEE Y ACCESORIOS) | E22: UND. | F22: 1 | G22: =APU!I41 -> 104811 | H22: =M22 -> 145100 | J22: =VLOOKUP($C22,[6]Actividades!$A:$E,2,FALSE) -> SUMINISTRO, TRANSPORTE E INSTALACION PUNTO DESAGUE PVC 3" APARATOS SANITARIOS Y DESAGUES (INCLUYE CODO, YEE Y ACCESORIOS) | K22: =VLOOKUP($C22,[6]Actividades!$A:$E,4,FALSE) -> UND | L22: =VLOOKUP($C22,[6]Actividades!$A:$E,5,FALSE) -> 104811 | M22: =ROUND(L22*(1+'Analisis AIU'!$J$53),0) -> 145100
B23: 6 | C23: 003.015 | D23: SUMINISTRO, TRANSPORTE E INSTALACION PUNTO DESAGUE PVC 4" Aparatos sanitarios (INCLUYE CODO, YEE Y ACCESORIOS) | E23: UN | F23: 1 | G23: =APU!I51 -> 139123 | H23: =M23 -> 192602 | J23: =VLOOKUP($C23,[6]Actividades!$A:$E,2,FALSE) -> SUMINISTRO, TRANSPORTE E INSTALACION PUNTO DESAGUE PVC 4" APARATOS SANITARIOS (INCLUYE CODO, YEE Y ACCESORIOS) | K23: =VLOOKUP($C23,[6]Actividades!$A:$E,4,FALSE) -> UND | L23: =VLOOKUP($C23,[6]Actividades!$A:$E,5,FALSE) -> 139123 | M23: =ROUND(L23*(1+'Analisis AIU'!$J$53),0) -> 192602
B24: 7 | C24: 003.027 | D24: SUMINISTRO, TRANSPORTE E INSTALACION TUBERIA PVC-S 2" (RED SANITARIA, INCLUYE ACCESORIOS) | E24: ML | F24: 1 | G24: =APU!I62 -> 21285 | H24: =M24 -> 29467 | J24: =VLOOKUP($C24,[6]Actividades!$A:$E,2,FALSE) -> SUMINISTRO, TRANSPORTE E INSTALACION TUBERIA PVC-S 2" (RED SANITARIA, INCLUYE ACCESORIOS) | K24: =VLOOKUP($C24,[6]Actividades!$A:$E,4,FALSE) -> ML | L24: =VLOOKUP($C24,[6]Actividades!$A:$E,5,FALSE) -> 21285 | M24: =ROUND(L24*(1+'Analisis AIU'!$J$53),0) -> 29467
B25: 8 | C25: 003.029 | D25: SUMINISTRO, TRANSPORTE E INSTALACION TUBERIA PVC-S 4" (RED SANITARIA, INCLUYE ACCESORIOS) | E25: ML | F25: 1 | G25: =APU!I72 -> 33532 | H25: =M25 -> 46422 | J25: =VLOOKUP($C25,[6]Actividades!$A:$E,2,FALSE) -> SUMINISTRO, TRANSPORTE E INSTALACION TUBERIA PVC-S 4" (RED SANITARIA, INCLUYE ACCESORIOS) | K25: =VLOOKUP($C25,[6]Actividades!$A:$E,4,FALSE) -> ML | L25: =VLOOKUP($C25,[6]Actividades!$A:$E,5,FALSE) -> 33532 | M25: =ROUND(L25*(1+'Analisis AIU'!$J$53),0) -> 46422
B26: 9 | C26: 003.033 | D26: SUMINISTRO, TRANSPORTE E INSTALACION TUBERIA PVC-S 4" (RED SANITARIA DESCOLGADA, INCLUYE ACCESORIOS) | E26: ML | F26: 1 | G26: =APU!I82 -> 40049 | H26: =M26 -> 55444 | J26: =VLOOKUP($C26,[6]Actividades!$A:$E,2,FALSE) -> SUMINISTRO, TRANSPORTE E INSTALACION TUBERIA PVC-S 4" (RED SANITARIA DESCOLGADA, INCLUYE ACCESORIOS) | K26: =VLOOKUP($C26,[6]Actividades!$A:$E,4,FALSE) -> ML | L26: =VLOOKUP($C26,[6]Actividades!$A:$E,5,FALSE) -> 40049 | M26: =ROUND(L26*(1+'Analisis AIU'!$J$53),0) -> 55444
B27: 10 | C27: 003.067 | D27: SUMINISTRO, TRANSPORTE E INSTALACION REJILLA Aluminio 3" x 2" con Sosco Anticucarachas - Ref. TA-3"x2" | E27: UND | F27: 1 | G27: =APU!I94 -> 21496 | H27: =M27 -> 29759 | J27: =VLOOKUP($C27,[6]Actividades!$A:$E,2,FALSE) -> SUMINISTRO, TRANSPORTE E INSTALACION REJILLA ALUMINIO 3" X 2" CON SOSCO ANTICUCARACHAS - REF. TA-3"X2" | K27: =VLOOKUP($C27,[6]Actividades!$A:$E,4,FALSE) -> UND | L27: =VLOOKUP($C27,[6]Actividades!$A:$E,5,FALSE) -> 21496 | M27: =ROUND(L27*(1+'Analisis AIU'!$J$53),0) -> 29759
B28: 11 | C28: 003.103 | D28: SUMINISTRO, TRANSPORTE E INSTALACIÓN SIFÓN PVC-S 2" | E28: UND | F28: 1 | G28: =APU!I102 -> 93846 | H28: =M28 -> 129920 | J28: =VLOOKUP($C28,[6]Actividades!$A:$E,2,FALSE) -> SUMINISTRO, TRANSPORTE E INSTALACIÓN SIFÓN PVC-S 2" | K28: =VLOOKUP($C28,[6]Actividades!$A:$E,4,FALSE) -> UND | L28: =VLOOKUP($C28,[6]Actividades!$A:$E,5,FALSE) -> 93846 | M28: =ROUND(L28*(1+'Analisis AIU'!$J$53),0) -> 129920
B29: 12 | C29: 003.107 | D29: SUMINISTRO, TRANSPORTE E INSTALACION ORINAL INSTITUCIONAL MEDIANO DE ENTRADA SUPERIOR EN PORCELANA COLOR BLANCO LINEA POLO (CORONA) REF: 088621001 O SIMILAR. INCLUYE GRIFERÍA PUSH Y VÁLVULA ANTIVANDÁLICA. | E29: UND. | F29: 1 | G29: =APU!I112 -> 882320 | H29: =M29 -> 1221484 | J29: =VLOOKUP($C29,[6]Actividades!$A:$E,2,FALSE) -> SUMINISTRO, TRANSPORTE E INSTALACION ORINAL INSTITUCIONAL MEDIANO DE ENTRADA SUPERIOR EN PORCELANA COLOR BLANCO LINEA POLO (CORONA) REF: 088621001 O SIMILAR. INCLUYE GRIFERÍA PUSH Y VÁLVULA ANTIVANDÁLICA. | K29: =VLOOKUP($C29,[6]Actividades!$A:$E,4,FALSE) -> UND | L29: =VLOOKUP($C29,[6]Actividades!$A:$E,5,FALSE) -> 882320 | M29: =ROUND(L29*(1+'Analisis AIU'!$J$53),0) -> 1221484
B30: SUBTOTAL SIN AU | H30: =M30 -> 0
B31: 005 ESTRUCTURAS EN CONCRETO, METALICAS Y DE MADERA
B32: 13 | C32: 005.001 | D32: SUMINISTRO, TRANSPORTE E INSTALACION MALLA ELECTROSOLDADA CUALQUIER REFERENCIA (Incluye alambre negro, colocación y traslapo). | E32: KG | F32: 1 | G32: =APU!I122 -> 8506 | H32: =M32 -> 11776 | J32: =VLOOKUP($C32,[6]Actividades!$A:$E,2,FALSE) -> SUMINISTRO, TRANSPORTE E INSTALACION MALLA ELECTROSOLDADA CUALQUIER REFERENCIA (INCLUYE ALAMBRE NEGRO, COLOCACIÓN Y TRASLAPO). | K32: =VLOOKUP($C32,[6]Actividades!$A:$E,4,FALSE) -> KG | L32: =VLOOKUP($C32,[6]Actividades!$A:$E,5,FALSE) -> 8506 | M32: =ROUND(L32*(1+'Analisis AIU'!$J$53),0) -> 11776
B33: 14 | C33: 005.010 | D33: SUMINISTRO, TRANSPORTE E INSTALACION PLACA CONTRAPISO CONCRETO 3000 PSI E=0.07 m ( Sin refuerzo) | E33: M2 | F33: 1 | G33: =APU!I129 -> 80331 | H33: =M33 -> 111210 | J33: =VLOOKUP($C33,[6]Actividades!$A:$E,2,FALSE) -> SUMINISTRO, TRANSPORTE E INSTALACION PLACA CONTRAPISO CONCRETO 3000 PSI E=0.07 M ( SIN REFUERZO) | K33: =VLOOKUP($C33,[6]Actividades!$A:$E,4,FALSE) -> M2 | L33: =VLOOKUP($C33,[6]Actividades!$A:$E,5,FALSE) -> 80331 | M33: =ROUND(L33*(1+'Analisis AIU'!$J$53),0) -> 111210
B34: 15 | C34: 005.038 | D34: SUMINISTRO, TRANSPORTE E INSTALACION COLUMNETA CONFINAMIENTO CONCRETO 3000 PSI 0.20 X 0.12 M. | E34: ML | F34: 1 | G34: =APU!I140 -> 89184 | H34: =M34 -> 123466 | J34: =VLOOKUP($C34,[6]Actividades!$A:$E,2,FALSE) -> SUMINISTRO, TRANSPORTE E INSTALACION COLUMNETA CONFINAMIENTO CONCRETO 3000 PSI 0.20 X 0.12 M. | K34: =VLOOKUP($C34,[6]Actividades!$A:$E,4,FALSE) -> ML | L34: =VLOOKUP($C34,[6]Actividades!$A:$E,5,FALSE) -> 89184 | M34: =ROUND(L34*(1+'Analisis AIU'!$J$53),0) -> 123466
B35: 16 | C35: 005.044 | D35: SUMINISTRO, TRANSPORTE E INSTALACION ALFAJIAS EN CONCRETO 3000 PSI a=0.25 m | E35: ML | F35: 1 | G35: =APU!I153 -> 47276 | H35: =M35 -> 65449 | J35: =VLOOKUP($C35,[6]Actividades!$A:$E,2,FALSE) -> SUMINISTRO, TRANSPORTE E INSTALACION ALFAJIAS EN CONCRETO 3000 PSI A=0.25 M | K35: =VLOOKUP($C35,[6]Actividades!$A:$E,4,FALSE) -> ML | L35: =VLOOKUP($C35,[6]Actividades!$A:$E,5,FALSE) -> 47276 | M35: =ROUND(L35*(1+'Analisis AIU'!$J$53),0) -> 65449
B36: 17 | C36: 005.049 | D36: SUMINISTRO, TRANSPORTE E INSTALACION MESON EN CONCRETO 3000 PSI E=0,07 M ANCHO=0,60M( INCLUYE REFUERZO, ACERO NO. 3 EN AMBAS DIRECCIONES @ 0,15M, MURO EN LADRILLO Y REVOQUE) | E36: M2 | F36: 1 | G36: =APU!I164 -> 217609 | H36: =M36 -> 301258 | J36: =VLOOKUP($C36,[6]Actividades!$A:$E,2,FALSE) -> SUMINISTRO, TRANSPORTE E INSTALACION MESON EN CONCRETO 3000 PSI E=0,07 M ANCHO=0,60M( INCLUYE REFUERZO, ACERO NO. 3 EN AMBAS DIRECCIONES @ 0,15M, MURO EN LADRILLO Y REVOQUE) | K36: =VLOOKUP($C36,[6]Actividades!$A:$E,4,FALSE) -> ML | L36: =VLOOKUP($C36,[6]Actividades!$A:$E,5,FALSE) -> 217609 | M36: =ROUND(L36*(1+'Analisis AIU'!$J$53),0) -> 301258
B37: 18 | C37: 005.113 | D37: SUMINISTRO, TRANSPORTE E INSTALACION ESTRUCTURA METALICA PARA CUBIERTA (INCLUYE SOLDADURA, ANTICORROSIVO Y ESMALTE). | E37: KG | F37: 1 | G37: =APU!I179 -> 21595 | H37: =M37 -> 29896 | J37: =VLOOKUP($C37,[6]Actividades!$A:$E,2,FALSE) -> SUMINISTRO, TRANSPORTE E INSTALACION ESTRUCTURA METALICA PARA CUBIERTA (INCLUYE SOLDADURA, ANTICORROSIVO Y ESMALTE). | K37: =VLOOKUP($C37,[6]Actividades!$A:$E,4,FALSE) -> KG | L37: =VLOOKUP($C37,[6]Actividades!$A:$E,5,FALSE) -> 21595 | M37: =ROUND(L37*(1+'Analisis AIU'!$J$53),0) -> 29896
B38: SUBTOTAL SIN AU | H38: =M38 -> 0
B39: 006 MAMPOSTERIA
B40: 19 | C40: 006.001 | D40: SUMINISTRO, TRANSPORTE E INSTALACION MURO EN BLOQUE Nº4 Arcilla 33*23*9 cm. | E40: M2 | F40: 1 | G40: =APU!I191 -> 66405 | H40: =M40 -> 91931 | J40: =VLOOKUP($C40,[6]Actividades!$A:$E,2,FALSE) -> SUMINISTRO, TRANSPORTE E INSTALACION MURO EN BLOQUE Nº4 ARCILLA 33*23*9 CM. | K40: =VLOOKUP($C40,[6]Actividades!$A:$E,4,FALSE) -> M2 | L40: =VLOOKUP($C40,[6]Actividades!$A:$E,5,FALSE) -> 66405 | M40: =ROUND(L40*(1+'Analisis AIU'!$J$53),0) -> 91931
B41: 20 | C41: 006.010 | D41: SUMINISTRO, TRANSPORTE E INSTALACION MURO EN BLOQUE Concreto estructural liso 12*20*40 cm. (Incluye grouting y refuerzo) | E41: 0.5 | F41: 1 | G41: =APU!I199 -> 119834 | H41: =M41 -> 165898 | J41: =VLOOKUP($C41,[6]Actividades!$A:$E,2,FALSE) -> SUMINISTRO, TRANSPORTE E INSTALACION MURO EN BLOQUE CONCRETO ESTRUCTURAL LISO 12*20*40 CM. (INCLUYE GROUTING Y REFUERZO) | K41: =VLOOKUP($C41,[6]Actividades!$A:$E,4,FALSE) -> M2 | L41: =VLOOKUP($C41,[6]Actividades!$A:$E,5,FALSE) -> 119834 | M41: =ROUND(L41*(1+'Analisis AIU'!$J$53),0) -> 165898
B42: 21 | C42: 006.019 | D42: SUMINISTRO, TRANSPORTE E INSTALACIÓN A TODO COSTO DE MURO EN SUPERBOARD 8 MM PINTADO Y TERMINADO (DOS CARAS). INCLUYE PERFILERÍA Y TODO LO NECESARIO PARA SU CORRECTA INSTALACIÓN | E42: M2 | F42: 1 | G42: =APU!I210 -> 133757 | H42: =M42 -> 185173 | J42: =VLOOKUP($C42,[6]Actividades!$A:$E,2,FALSE) -> SUMINISTRO, TRANSPORTE E INSTALACIÓN A TODO COSTO DE MURO EN SUPERBOARD 8 MM PINTADO Y TERMINADO (DOS CARAS). INCLUYE PERFILERÍA Y TODO LO NECESARIO PARA SU CORRECTA INSTALACIÓN | K42: =VLOOKUP($C42,[6]Actividades!$A:$E,4,FALSE) -> M2 | L42: =VLOOKUP($C42,[6]Actividades!$A:$E,5,FALSE) -> 133757 | M42: =ROUND(L42*(1+'Analisis AIU'!$J$53),0) -> 185173
B43: 22 | C43: 006.033 | D43: SUMINISTRO, TRANSPORTE E INSTALACION ANCLAJE EPOXICO 1/2" L=15 cm (Incluye perforación y adhesivo epóxico) | E43: UND | F43: 1 | G43: =APU!I226 -> 18042 | H43: =M43 -> 24977 | J43: =VLOOKUP($C43,[6]Actividades!$A:$E,2,FALSE) -> SUMINISTRO, TRANSPORTE E INSTALACION ANCLAJE EPOXICO 1/2" L=15 CM (INCLUYE PERFORACIÓN Y ADHESIVO EPÓXICO) | K43: =VLOOKUP($C43,[6]Actividades!$A:$E,4,FALSE) -> UND | L43: =VLOOKUP($C43,[6]Actividades!$A:$E,5,FALSE) -> 18042 | M43: =ROUND(L43*(1+'Analisis AIU'!$J$53),0) -> 24977
B44: SUBTOTAL SIN AU | H44: =M44 -> 0
B45: 007 INSTALACIONES HIDRAULICAS
B46: 23 | C46: 007.017 | D46: SUMINISTRO, TRANSPORTE E INSTALACION PUNTO AGUA FRIA 1/2" PVC -P ( Incluye accesorios de instalación ) | E46: UND. | F46: 1 | G46: =APU!I236 -> 60969 | H46: =M46 -> 84405 | J46: =VLOOKUP($C46,[6]Actividades!$A:$E,2,FALSE) -> SUMINISTRO, TRANSPORTE E INSTALACION PUNTO AGUA FRIA 1/2" PVC -P ( INCLUYE ACCESORIOS DE INSTALACIÓN ) | K46: =VLOOKUP($C46,[6]Actividades!$A:$E,4,FALSE) -> UND | L46: =VLOOKUP($C46,[6]Actividades!$A:$E,5,FALSE) -> 60969 | M46: =ROUND(L46*(1+'Analisis AIU'!$J$53),0) -> 84405
B47: 24 | C47: 007.021 | D47: SUMINISTRO, TRANSPORTE E INSTALACION PUNTO AGUA CALIENTE 1/2" CPVC-P ( Incluye accesorios de instalación ) | E47: UND. | F47: 1 | G47: =APU!I247 -> 115913 | H47: =M47 -> 160470 | J47: =VLOOKUP($C47,[6]Actividades!$A:$E,2,FALSE) -> SUMINISTRO, TRANSPORTE E INSTALACION PUNTO AGUA CALIENTE 1/2" CPVC-P ( INCLUYE ACCESORIOS DE INSTALACIÓN ) | K47: =VLOOKUP($C47,[6]Actividades!$A:$E,4,FALSE) -> UND | L47: =VLOOKUP($C47,[6]Actividades!$A:$E,5,FALSE) -> 115913 | M47: =ROUND(L47*(1+'Analisis AIU'!$J$53),0) -> 160470
B48: 25 | C48: 007.076 | D48: SUMINISTRO, TRANSPORTE E INSTALACION MEDIDORES AGUA 1" (INCLUYE CAJA DE 60*60*14) | E48: UND | F48: 1 | G48: =APU!I258 -> 1185755 | H48: =M48 -> 1641559 | J48: =VLOOKUP($C48,[6]Actividades!$A:$E,2,FALSE) -> SUMINISTRO, TRANSPORTE E INSTALACION MEDIDORES AGUA 1" (INCLUYE CAJA DE 60*60*14) | K48: =VLOOKUP($C48,[6]Actividades!$A:$E,4,FALSE) -> UND | L48: =VLOOKUP($C48,[6]Actividades!$A:$E,5,FALSE) -> 1185755 | M48: =ROUND(L48*(1+'Analisis AIU'!$J$53),0) -> 1641559
...

Sheet APU
A2: 002.83 | B2: - | C2: =VLOOKUP($A2,[7]Actividades!A:E,2,FALSE) -> EXCAVACION MANUAL | D2: =VLOOKUP($A2,[7]Actividades!A:E,3,FALSE) -> Actividad | E2: =VLOOKUP($A2,[7]Actividades!A:E,4,FALSE) -> M3 | I2: 27162 | K2: =I2*1.3844 -> 37603.073
A3: 002.83 | B3: C44 | C3: =VLOOKUP($B3,[7]Insumos!A:E,2,FALSE) -> CUADRILLA AA (2 AYUDANTES) | D3: =VLOOKUP($B3,[7]Insumos!A:E,3,FALSE) -> Cuadrilla | E3: =VLOOKUP($B3,[7]Insumos!A:E,4,FALSE) -> HR | F3: 1 | G3: 23678 | H3: 23678 | J3: =HYPERLINK("#"&"Insumos"&"!A"&MATCH($B3,[7]Insumos!$A:$A,0),"Ins "&$B3) -> Ins C44
A4: 002.83 | B4: H2 | C4: =VLOOKUP($B4,[7]Insumos!A:E,2,FALSE) -> EQUIPO BASICO (HERRAMIENTA MENOR) | D4: =VLOOKUP($B4,[7]Insumos!A:E,3,FALSE) -> Herramienta | E4: =VLOOKUP($B4,[7]Insumos!A:E,4,FALSE) -> UND | F4: 1 | G4: 3484 | H4: 3484 | J4: =HYPERLINK("#"&"Insumos"&"!A"&MATCH($B4,[7]Insumos!$A:$A,0),"Ins "&$B4) -> Ins H2
A7: 003.010 | B7: - | C7: =VLOOKUP($A7,[7]Actividades!A:E,2,FALSE) -> SUMINISTRO, TRANSPORTE E INSTALACION BAJANTE AGUAS LLUVIAS PVC 3" (INCLUYE CODO, UNION Y ACCESORIOS DE FIJACION) | D7: =VLOOKUP($A7,[7]Actividades!A:E,3,FALSE) -> Actividad | E7: =VLOOKUP($A7,[7]Actividades!A:E,4,FALSE) -> ML | I7: 29571 | K7: =I7*1.3844 -> 40938.092
A8: 003.010 | B8: C9 | C8: =VLOOKUP($B8,[7]Insumos!A:E,2,FALSE) -> CUADRILLA BB TIPO 2 (1 OFICIAL + 2 AYUDANTE) (Instalaciones) | D8: =VLOOKUP($B8,[7]Insumos!A:E,3,FALSE) -> Cuadrilla | E8: =VLOOKUP($B8,[7]Insumos!A:E,4,FALSE) -> HR | F8: 0.2 | G8: =+VLOOKUP(B8,[7]Insumos!$A$4:$F$5224,5,FALSE) -> 46886 | H8: =+ROUND(F8*G8,0) -> 9377 | J8: =HYPERLINK("#"&"Insumos"&"!A"&MATCH($B8,[7]Insumos!$A:$A,0),"Ins "&$B8) -> Ins C9
A9: 003.010 | B9: E12 | C9: =VLOOKUP($B9,[7]Insumos!A:E,2,FALSE) -> EQUIPO DE TRANSPORTE | D9: =VLOOKUP($B9,[7]Insumos!A:E,3,FALSE) -> Equipos | E9: =VLOOKUP($B9,[7]Insumos!A:E,4,FALSE) -> DIA | F9: 0.003 | G9: =+VLOOKUP(B9,[7]Insumos!$A$4:$F$5224,5,FALSE) -> 180217 | H9: =+ROUND(F9*G9,0) -> 541 | J9: =HYPERLINK("#"&"Insumos"&"!A"&MATCH($B9,[7]Insumos!$A:$A,0),"Ins "&$B9) -> Ins E12
A10: 003.010 | B10: H2 | C10: =VLOOKUP($B10,[7]Insumos!A:E,2,FALSE) -> EQUIPO BASICO (HERRAMIENTA MENOR) | D10: =VLOOKUP($B10,[7]Insumos!A:E,3,FALSE) -> Herramienta | E10: =VLOOKUP($B10,[7]Insumos!A:E,4,FALSE) -> UND | F10: 0.1 | G10: =+VLOOKUP(B10,[7]Insumos!$A$4:$F$5224,5,FALSE) -> 3484 | H10: =+ROUND(F10*G10,0) -> 348 | J10: =HYPERLINK("#"&"Insumos"&"!A"&MATCH($B10,[7]Insumos!$A:$A,0),"Ins "&$B10) -> Ins H2
A11: 003.010 | B11: I1565 | C11: =VLOOKUP($B11,[7]Insumos!A:E,2,FALSE) -> ACARREO INTERNO | D11: =VLOOKUP($B11,[7]Insumos!A:E,3,FALSE) -> Insumos | E11: =VLOOKUP($B11,[7]Insumos!A:E,4,FALSE) -> UND | F11: 0.4 | G11: =+VLOOKUP(B11,[7]Insumos!$A$4:$F$5224,5,FALSE) -> 1824 | H11: =+ROUND(F11*G11,0) -> 730 | J11: =HYPERLINK("#"&"Insumos"&"!A"&MATCH($B11,[7]Insumos!$A:$A,0),"Ins "&$B11) -> Ins I1565
A12: 003.010 | B12: I521 | C12: =VLOOKUP($B12,[7]Insumos!A:E,2,FALSE) -> ABRAZADERA EN ACERO | D12: =VLOOKUP($B12,[7]Insumos!A:E,3,FALSE) -> Insumos | E12: =VLOOKUP($B12,[7]Insumos!A:E,4,FALSE) -> UND | F12: =1/2 -> 0.5 | G12: =+VLOOKUP(B12,[7]Insumos!$A$4:$F$5224,5,FALSE) -> 2849 | H12: =+ROUND(F12*G12,0) -> 1425 | J12: =HYPERLINK("#"&"Insumos"&"!A"&MATCH($B12,[7]Insumos!$A:$A,0),"Ins "&$B12) -> Ins I521
A13: 003.010 | B13: I575 | C13: =VLOOKUP($B13,[7]Insumos!A:E,2,FALSE) -> CODO 90° 1/4 CXC SANITARIO 3'' | D13: =VLOOKUP($B13,[7]Insumos!A:E,3,FALSE) -> Insumos | E13: =VLOOKUP($B13,[7]Insumos!A:E,4,FALSE) -> UND | F13: 0.06 | G13: =+VLOOKUP(B13,[7]Insumos!$A$4:$F$5224,5,FALSE) -> 11297 | H13: =+ROUND(F13*G13,0) -> 678 | J13: =HYPERLINK("#"&"Insumos"&"!A"&MATCH($B13,[7]Insumos!$A:$A,0),"Ins "&$B13) -> Ins I575
A14: 003.010 | B14: I614 | C14: =VLOOKUP($B14,[7]Insumos!A:E,2,FALSE) -> LIMPIADOR REM PVC 760 GRMS. (1/4) | D14: =VLOOKUP($B14,[7]Insumos!A:E,3,FALSE) -> Insumos | E14: =VLOOKUP($B14,[7]Insumos!A:E,4,FALSE) -> UND | F14: 0.015 | G14: =+VLOOKUP(B14,[7]Insumos!$A$4:$F$5224,5,FALSE) -> 62393 | H14: =+ROUND(F14*G14,0) -> 936 | J14: =HYPERLINK("#"&"Insumos"&"!A"&MATCH($B14,[7]Insumos!$A:$A,0),"Ins "&$B14) -> Ins I614
A15: 003.010 | B15: I647 | C15: =VLOOKUP($B15,[7]Insumos!A:E,2,FALSE) -> SOLDADURA PVC LIQUIDA 1/4 | D15: =VLOOKUP($B15,[7]Insumos!A:E,3,FALSE) -> Insumos | E15: =VLOOKUP($B15,[7]Insumos!A:E,4,FALSE) -> UND | F15: 0.015 | G15: =+VLOOKUP(B15,[7]Insumos!$A$4:$F$5224,5,FALSE) -> 129335 | H15: =+ROUND(F15*G15,0) -> 1940 | J15: =HYPERLINK("#"&"Insumos"&"!A"&MATCH($B15,[7]Insumos!$A:$A,0),"Ins "&$B15) -> Ins I647
A16: 003.010 | B16: I750 | C16: =VLOOKUP($B16,[7]Insumos!A:E,2,FALSE) -> TUBO PVC A.LL-VENTILACION 3'' | D16: =VLOOKUP($B16,[7]Insumos!A:E,3,FALSE) -> Insumos | E16: =VLOOKUP($B16,[7]Insumos!A:E,4,FALSE) -> M | F16: 1.03 | G16: =+VLOOKUP(B16,[7]Insumos!$A$4:$F$5224,5,FALSE) -> 12317 | H16: =+ROUND(F16*G16,0) -> 12687 | J16: =HYPERLINK("#"&"Insumos"&"!A"&MATCH($B16,[7]Insumos!$A:$A,0),"Ins "&$B16) -> Ins I750
A17: 003.010 | B17: I794 | C17: =VLOOKUP($B17,[7]Insumos!A:E,2,FALSE) -> UNION SANITARIA 3" PVC | D17: =VLOOKUP($B17,[7]Insumos!A:E,3,FALSE) -> Insumos | E17: =VLOOKUP($B17,[7]Insumos!A:E,4,FALSE) -> UND | F17: 0.16 | G17: =+VLOOKUP(B17,[7]Insumos!$A$4:$F$5224,5,FALSE) -> 5679 | H17: =+ROUND(F17*G17,0) -> 909 | J17: =HYPERLINK("#"&"Insumos"&"!A"&MATCH($B17,[7]Insumos!$A:$A,0),"Ins "&$B17) -> Ins I794
A19: 003.011 | B19: - | C19: =VLOOKUP($A19,[7]Actividades!A:E,2,FALSE) -> SUMINISTRO, TRANSPORTE E INSTALACION BAJANTE AGUAS LLUVIAS PVC 4" (INCLUYE CODO, UNION Y ACCESORIOS DE FIJACION) | D19: =VLOOKUP($A19,[7]Actividades!A:E,3,FALSE) -> Actividad | E19: =VLOOKUP($A19,[7]Actividades!A:E,4,FALSE) -> ML | I19: 38890 | K19: =I19*1.3844 -> 53839.316
A20: 003.011 | B20: C9 | C20: =VLOOKUP($B20,[7]Insumos!A:E,2,FALSE) -> CUADRILLA BB TIPO 2 (1 OFICIAL + 2 AYUDANTE) (Instalaciones) | D20: =VLOOKUP($B20,[7]Insumos!A:E,3,FALSE) -> Cuadrilla | E20: =VLOOKUP($B20,[7]Insumos!A:E,4,FALSE) -> HR | F20: 0.25 | G20: =+VLOOKUP(B20,[7]Insumos!$A$4:$F$5224,5,FALSE) -> 46886 | H20: =+ROUND(F20*G20,0) -> 11722 | J20: =HYPERLINK("#"&"Insumos"&"!A"&MATCH($B20,[7]Insumos!$A:$A,0),"Ins "&$B20) -> Ins C9
A21: 003.011 | B21: E12 | C21: =VLOOKUP($B21,[7]Insumos!A:E,2,FALSE) -> EQUIPO DE TRANSPORTE | D21: =VLOOKUP($B21,[7]Insumos!A:E,3,FALSE) -> Equipos | E21: =VLOOKUP($B21,[7]Insumos!A:E,4,FALSE) -> DIA | F21: 0.005 | G21: =+VLOOKUP(B21,[7]Insumos!$A$4:$F$5224,5,FALSE) -> 180217 | H21: =+ROUND(F21*G21,0) -> 901 | J21: =HYPERLINK("#"&"Insumos"&"!A"&MATCH($B21,[7]Insumos!$A:$A,0),"Ins "&$B21) -> Ins E12
A22: 003.011 | B22: H2 | C22: =VLOOKUP($B22,[7]Insumos!A:E,2,FALSE) -> EQUIPO BASICO (HERRAMIENTA MENOR) | D22: =VLOOKUP($B22,[7]Insumos!A:E,3,FALSE) -> Herramienta | E22: =VLOOKUP($B22,[7]Insumos!A:E,4,FALSE) -> UND | F22: 0.1 | G22: =+VLOOKUP(B22,[7]Insumos!$A$4:$F$5224,5,FALSE) -> 3484 | H22: =+ROUND(F22*G22,0) -> 348 | J22: =HYPERLINK("#"&"Insumos"&"!A"&MATCH($B22,[7]Insumos!$A:$A,0),"Ins "&$B22) -> Ins H2
A23: 003.011 | B23: I1565 | C23: =VLOOKUP($B23,[7]Insumos!A:E,2,FALSE) -> ACARREO INTERNO | D23: =VLOOKUP($B23,[7]Insumos!A:E,3,FALSE) -> Insumos | E23: =VLOOKUP($B23,[7]Insumos!A:E,4,FALSE) -> UND | F23: 0.4 | G23: =+VLOOKUP(B23,[7]Insumos!$A$4:$F$5224,5,FALSE) -> 1824 | H23: =+ROUND(F23*G23,0) -> 730 | J23: =HYPERLINK("#"&"Insumos"&"!A"&MATCH($B23,[7]Insumos!$A:$A,0),"Ins "&$B23) -> Ins I1565
A24: 003.011 | B24: I521 | C24: =VLOOKUP($B24,[7]Insumos!A:E,2,FALSE) -> ABRAZADERA EN ACERO | D24: =VLOOKUP($B24,[7]Insumos!A:E,3,FALSE) -> Insumos | E24: =VLOOKUP($B24,[7]Insumos!A:E,4,FALSE) -> UND | F24: 0.5 | G24: =+VLOOKUP(B24,[7]Insumos!$A$4:$F$5224,5,FALSE) -> 2849 | H24: =+ROUND(F24*G24,0) -> 1425 | J24: =HYPERLINK("#"&"Insumos"&"!A"&MATCH($B24,[7]Insumos!$A:$A,0),"Ins "&$B24) -> Ins I521
A25: 003.011 | B25: I576 | C25: =VLOOKUP($B25,[7]Insumos!A:E,2,FALSE) -> CODO 90° 1/4 CXC SANITARIO 4'' | D25: =VLOOKUP($B25,[7]Insumos!A:E,3,FALSE) -> Insumos | E25: =VLOOKUP($B25,[7]Insumos!A:E,4,FALSE) -> UND | F25: 0.06 | G25: =+VLOOKUP(B25,[7]Insumos!$A$4:$F$5224,5,FALSE) -> 19645 | H25: =+ROUND(F25*G25,0) -> 1179 | J25: =HYPERLINK("#"&"Insumos"&"!A"&MATCH($B25,[7]Insumos!$A:$A,0),"Ins "&$B25) -> Ins I576
A26: 003.011 | B26: I614 | C26: =VLOOKUP($B26,[7]Insumos!A:E,2,FALSE) -> LIMPIADOR REM PVC 760 GRMS. (1/4) | D26: =VLOOKUP($B26,[7]Insumos!A:E,3,FALSE) -> Insumos | E26: =VLOOKUP($B26,[7]Insumos!A:E,4,FALSE) -> UND | F26: 0.017 | G26: =+VLOOKUP(B26,[7]Insumos!$A$4:$F$5224,5,FALSE) -> 62393 | H26: =+ROUND(F26*G26,0) -> 1061 | J26: =HYPERLINK("#"&"Insumos"&"!A"&MATCH($B26,[7]Insumos!$A:$A,0),"Ins "&$B26) -> Ins I614
A27: 003.011 | B27: I647 | C27: =VLOOKUP($B27,[7]Insumos!A:E,2,FALSE) -> SOLDADURA PVC LIQUIDA 1/4 | D27: =VLOOKUP($B27,[7]Insumos!A:E,3,FALSE) -> Insumos | E27: =VLOOKUP($B27,[7]Insumos!A:E,4,FALSE) -> UND | F27: 0.017 | G27: =+VLOOKUP(B27,[7]Insumos!$A$4:$F$5224,5,FALSE) -> 129335 | H27: =+ROUND(F27*G27,0) -> 2199 | J27: =HYPERLINK("#"&"Insumos"&"!A"&MATCH($B27,[7]Insumos!$A:$A,0),"Ins "&$B27) -> Ins I647
A28: 003.011 | B28: I751 | C28: =VLOOKUP($B28,[7]Insumos!A:E,2,FALSE) -> TUBO PVC A.LL-VENTILACION 4'' | D28: =VLOOKUP($B28,[7]Insumos!A:E,3,FALSE) -> Insumos | E28: =VLOOKUP($B28,[7]Insumos!A:E,4,FALSE) -> M | F28: 1.03 | G28: =+VLOOKUP(B28,[7]Insumos!$A$4:$F$5224,5,FALSE) -> 16984 | H28: =+ROUND(F28*G28,0) -> 17494 | J28: =HYPERLINK("#"&"Insumos"&"!A"&MATCH($B28,[7]Insumos!$A:$A,0),"Ins "&$B28) -> Ins I751
A29: 003.011 | B29: I795 | C29: =VLOOKUP($B29,[7]Insumos!A:E,2,FALSE) -> UNION SANITARIA 4" PVC | D29: =VLOOKUP($B29,[7]Insumos!A:E,3,FALSE) -> Insumos | E29: =VLOOKUP($B29,[7]Insumos!A:E,4,FALSE) -> UND | F29: 0.16 | G29: =+VLOOKUP(B29,[7]Insumos!$A$4:$F$5224,5,FALSE) -> 11446 | H29: =+ROUND(F29*G29,0) -> 1831 | J29: =HYPERLINK("#"&"Insumos"&"!A"&MATCH($B29,[7]Insumos!$A:$A,0),"Ins "&$B29) -> Ins I795
A31: 003.013 | B31: - | C31: =VLOOKUP($A31,[7]Actividades!A:E,2,FALSE) -> SUMINISTRO, TRANSPORTE E INSTALACION PUNTO DESAGUE PVC 2" APARATOS SANITARIOS Y DESAGUES (INCLUYE CODO, YEE Y ACCESORIOS) | D31: =VLOOKUP($A31,[7]Actividades!A:E,3,FALSE) -> Actividad | E31: =VLOOKUP($A31,[7]Actividades!A:E,4,FALSE) -> UND | I31: 83038 | K31: =I31*1.3844 -> 114957.81
A32: 003.013 | B32: C9 | C32: =VLOOKUP($B32,[7]Insumos!A:E,2,FALSE) -> CUADRILLA BB TIPO 2 (1 OFICIAL + 2 AYUDANTE) (Instalaciones) | D32: =VLOOKUP($B32,[7]Insumos!A:E,3,FALSE) -> Cuadrilla | E32: =VLOOKUP($B32,[7]Insumos!A:E,4,FALSE) -> HR | F32: 0.9 | G32: =+VLOOKUP(B32,[7]Insumos!$A$4:$F$5224,5,FALSE) -> 46886 | H32: =+ROUND(F32*G32,0) -> 42197 | J32: =HYPERLINK("#"&"Insumos"&"!A"&MATCH($B32,[7]Insumos!$A:$A,0),"Ins "&$B32) -> Ins C9
A33: 003.013 | B33: E12 | C33: =VLOOKUP($B33,[7]Insumos!A:E,2,FALSE) -> EQUIPO DE TRANSPORTE | D33: =VLOOKUP($B33,[7]Insumos!A:E,3,FALSE) -> Equipos | E33: =VLOOKUP($B33,[7]Insumos!A:E,4,FALSE) -> DIA | F33: 0.005 | G33: =+VLOOKUP(B33,[7]Insumos!$A$4:$F$5224,5,FALSE) -> 180217 | H33: =+ROUND(F33*G33,0) -> 901 | J33: =HYPERLINK("#"&"Insumos"&"!A"&MATCH($B33,[7]Insumos!$A:$A,0),"Ins "&$B33) -> Ins E12
A34: 003.013 | B34: H2 | C34: =VLOOKUP($B34,[7]Insumos!A:E,2,FALSE) -> EQUIPO BASICO (HERRAMIENTA MENOR) | D34: =VLOOKUP($B34,[7]Insumos!A:E,3,FALSE) -> Herramienta | E34: =VLOOKUP($B34,[7]Insumos!A:E,4,FALSE) -> UND | F34: 0.2 | G34: =+VLOOKUP(B34,[7]Insumos!$A$4:$F$5224,5,FALSE) -> 3484 | H34: =+ROUND(F34*G34,0) -> 697 | J34: =HYPERLINK("#"&"Insumos"&"!A"&MATCH($B34,[7]Insumos!$A:$A,0),"Ins "&$B34) -> Ins H2
A35: 003.013 | B35: I1565 | C35: =VLOOKUP($B35,[7]Insumos!A:E,2,FALSE) -> ACARREO INTERNO | D35: =VLOOKUP($B35,[7]Insumos!A:E,3,FALSE) -> Insumos | E35: =VLOOKUP($B35,[7]Insumos!A:E,4,FALSE) -> UND | F35: 1 | G35: =+VLOOKUP(B35,[7]Insumos!$A$4:$F$5224,5,FALSE) -> 1824 | H35: =+ROUND(F35*G35,0) -> 1824 | J35: =HYPERLINK("#"&"Insumos"&"!A"&MATCH($B35,[7]Insumos!$A:$A,0),"Ins "&$B35) -> Ins I1565
A36: 003.013 | B36: I574 | C36: =VLOOKUP($B36,[7]Insumos!A:E,2,FALSE) -> CODO 90° 1/4 CXC SANITARIO 2'' | D36: =VLOOKUP($B36,[7]Insumos!A:E,3,FALSE) -> Insumos | E36: =VLOOKUP($B36,[7]Insumos!A:E,4,FALSE) -> UND | F36: 1 | G36: =+VLOOKUP(B36,[7]Insumos!$A$4:$F$5224,5,FALSE) -> 4877 | H36: =+ROUND(F36*G36,0) -> 4877 | J36: =HYPERLINK("#"&"Insumos"&"!A"&MATCH($B36,[7]Insumos!$A:$A,0),"Ins "&$B36) -> Ins I574
A37: 003.013 | B37: I614 | C37: =VLOOKUP($B37,[7]Insumos!A:E,2,FALSE) -> LIMPIADOR REM PVC 760 GRMS. (1/4) | D37: =VLOOKUP($B37,[7]Insumos!A:E,3,FALSE) -> Insumos | E37: =VLOOKUP($B37,[7]Insumos!A:E,4,FALSE) -> UND | F37: 0.05 | G37: =+VLOOKUP(B37,[7]Insumos!$A$4:$F$5224,5,FALSE) -> 62393 | H37: =+ROUND(F37*G37,0) -> 3120 | J37: =HYPERLINK("#"&"Insumos"&"!A"&MATCH($B37,[7]Insumos!$A:$A,0),"Ins "&$B37) -> Ins I614
A38: 003.013 | B38: I647 | C38: =VLOOKUP($B38,[7]Insumos!A:E,2,FALSE) -> SOLDADURA PVC LIQUIDA 1/4 | D38: =VLOOKUP($B38,[7]Insumos!A:E,3,FALSE) -> Insumos | E38: =VLOOKUP($B38,[7]Insumos!A:E,4,FALSE) -> UND | F38: 0.05 | G38: =+VLOOKUP(B38,[7]Insumos!$A$4:$F$5224,5,FALSE) -> 129335 | H38: =+ROUND(F38*G38,0) -> 6467 | J38: =HYPERLINK("#"&"Insumos"&"!A"&MATCH($B38,[7]Insumos!$A:$A,0),"Ins "&$B38) -> Ins I647
A39: 003.013 | B39: I752 | C39: =VLOOKUP($B39,[7]Insumos!A:E,2,FALSE) -> TUBO PVC SANITARIO 2'' | D39: =VLOOKUP($B39,[7]Insumos!A:E,3,FALSE) -> Insumos | E39: =VLOOKUP($B39,[7]Insumos!A:E,4,FALSE) -> M | F39: 1.55 | G39: =+VLOOKUP(B39,[7]Insumos!$A$4:$F$5224,5,FALSE) -> 8484 | H39: =+ROUND(F39*G39,0) -> 13150 | J39: =HYPERLINK("#"&"Insumos"&"!A"&MATCH($B39,[7]Insumos!$A:$A,0),"Ins "&$B39) -> Ins I752
A40: 003.013 | B40: I825 | C40: =VLOOKUP($B40,[7]Insumos!A:E,2,FALSE) -> YEE SANITARIA 2'' | D40: =VLOOKUP($B40,[7]Insumos!A:E,3,FALSE) -> Insumos | E40: =VLOOKUP($B40,[7]Insumos!A:E,4,FALSE) -> UND | F40: 1 | G40: =+VLOOKUP(B40,[7]Insumos!$A$4:$F$5224,5,FALSE) -> 9805 | H40: =+ROUND(F40*G40,0) -> 9805 | J40: =HYPERLINK("#"&"Insumos"&"!A"&MATCH($B40,[7]Insumos!$A:$A,0),"Ins "&$B40) -> Ins I825
A41: 003.014 | B41: - | C41: =VLOOKUP($A41,[7]Actividades!A:E,2,FALSE) -> SUMINISTRO, TRANSPORTE E INSTALACION PUNTO DESAGUE PVC 3" APARATOS SANITARIOS Y DESAGUES (INCLUYE CODO, YEE Y ACCESORIOS) | D41: =VLOOKUP($A41,[7]Actividades!A:E,3,FALSE) -> Actividad | E41: =VLOOKUP($A41,[7]Actividades!A:E,4,FALSE) -> UND | I41: 104811 | K41: =I41*1.3844 -> 145100.35
A42: 003.014 | B42: C9 | C42: =VLOOKUP($B42,[7]Insumos!A:E,2,FALSE) -> CUADRILLA BB TIPO 2 (1 OFICIAL + 2 AYUDANTE) (Instalaciones) | D42: =VLOOKUP($B42,[7]Insumos!A:E,3,FALSE) -> Cuadrilla | E42: =VLOOKUP($B42,[7]Insumos!A:E,4,FALSE) -> HR | F42: 0.9 | G42: =+VLOOKUP(B42,[7]Insumos!$A$4:$F$5224,5,FALSE) -> 46886 | H42: =+ROUND(F42*G42,0) -> 42197 | J42: =HYPERLINK("#"&"Insumos"&"!A"&MATCH($B42,[7]Insumos!$A:$A,0),"Ins "&$B42) -> Ins C9
A43: 003.014 | B43: E12 | C43: =VLOOKUP($B43,[7]Insumos!A:E,2,FALSE) -> EQUIPO DE TRANSPORTE | D43: =VLOOKUP($B43,[7]Insumos!A:E,3,FALSE) -> Equipos | E43: =VLOOKUP($B43,[7]Insumos!A:E,4,FALSE) -> DIA | F43: 0.008 | G43: =+VLOOKUP(B43,[7]Insumos!$A$4:$F$5224,5,FALSE) -> 180217 | H43: =+ROUND(F43*G43,0) -> 1442 | J43: =HYPERLINK("#"&"Insumos"&"!A"&MATCH($B43,[7]Insumos!$A:$A,0),"Ins "&$B43) -> Ins E12
A44: 003.014 | B44: H2 | C44: =VLOOKUP($B44,[7]Insumos!A:E,2,FALSE) -> EQUIPO BASICO (HERRAMIENTA MENOR) | D44: =VLOOKUP($B44,[7]Insumos!A:E,3,FALSE) -> Herramienta | E44: =VLOOKUP($B44,[7]Insumos!A:E,4,FALSE) -> UND | F44: 0.2 | G44: =+VLOOKUP(B44,[7]Insumos!$A$4:$F$5224,5,FALSE) -> 3484 | H44: =+ROUND(F44*G44,0) -> 697 | J44: =HYPERLINK("#"&"Insumos"&"!A"&MATCH($B44,[7]Insumos!$A:$A,0),"Ins "&$B44) -> Ins H2
A45: 003.014 | B45: I1565 | C45: =VLOOKUP($B45,[7]Insumos!A:E,2,FALSE) -> ACARREO INTERNO | D45: =VLOOKUP($B45,[7]Insumos!A:E,3,FALSE) -> Insumos | E45: =VLOOKUP($B45,[7]Insumos!A:E,4,FALSE) -> UND | F45: 0.2 | G45: =+VLOOKUP(B45,[7]Insumos!$A$4:$F$5224,5,FALSE) -> 1824 | H45: =+ROUND(F45*G45,0) -> 365 | J45: =HYPERLINK("#"&"Insumos"&"!A"&MATCH($B45,[7]Insumos!$A:$A,0),"Ins "&$B45) -> Ins I1565
...

Sheet Analisis AIU
A1: ANALISIS DEL AIU
A3: Valor estimado de la Obra (Costo Directo). | D3: Valor | E3: 608203780
A4: Plazo estimado de ejecución. | D4: Meses | E4: 4
A5: Contratista Persona Natural (SI o NO) | E5: no
A7: CAPITULO | B7: TIPO DE GASTO | C7: UN | D7: CANTIDAD. | E7: DEDICACION | F7: VLOR UNITARIO (mes) | G7: FACTOR PRESTACIONAL O FACTOR AIU (PARA INDIRECTOS) | H7: VALOR TOTAL | I7: SUMA | J7: PORCENTAJE
A8: 1 | B8: GASTOS GENERALES. | J8: =+J9 -> 0.10725129
A9: 1.1 | B9: MANO DE OBRA Y GASTOS DE OFICINA | I9: =SUM(H10:H26) -> 65230640 | J9: =+I9/$E$3 -> 0.10725129
B10: Ingeniero Director | C10: Un | D10: 0 | E10: 0 | F10: 6750000 | G10: =+'Analisis Factor Prestacional'!$D$28 -> 0.6556 | H10: =+D10*E10*$E$4*F10*(1+G10) -> 0 | J10: =+H10/$E$3 -> 0
B11: Ingeniero Residente | C11: Un | D11: 1 | E11: 1 | F11: 4450000 | G11: =+'Analisis Factor Prestacional'!$D$28 -> 0.6556 | H11: =+D11*E11*$E$4*F11*(1+G11) -> 29469680 | J11: =+H11/$E$3 -> 0.048453628
B12: Maestro de Obra | C12: Un | D12: 1 | E12: 1 | F12: 3600000 | G12: =+'Analisis Factor Prestacional'!$D$28 -> 0.6556 | H12: =+D12*E12*$E$4*F12*(1+G12) -> 23840640 | J12: =+H12/$E$3 -> 0.039198441
B13: Residente de Salud Ocupacional | C13: Un | D13: 1 | E13: 0.5 | F13: 3600000 | G13: =+'Analisis Factor Prestacional'!$D$28 -> 0.6556 | H13: =+D13*E13*$E$4*F13*(1+G13) -> 11920320 | J13: =+H13/$E$3 -> 0.019599221
B14: Profesional ambiental | C14: Un | D14: 0 | E14: 0.5 | F14: 3600000 | G14: =+'Analisis Factor Prestacional'!$D$28 -> 0.6556 | H14: =+D14*E14*$E$4*F14*(1+G14) -> 0 | J14: =+H14/$E$3 -> 0
B15: Trabajador social | C15: Un | D15: 0 | E15: 0.5 | F15: 3600000 | G15: =+'Analisis Factor Prestacional'!$D$28 -> 0.6556 | H15: =+D15*E15*$E$4*F15*(1+G15) -> 0 | J15: =+H15/$E$3 -> 0
B16: Almacenista | C16: Un | D16: 0 | E16: 1 | F16: 1550000 | G16: =+'Analisis Factor Prestacional'!$C$28 -> 0.829 | H16: =+D16*E16*$E$4*F16*(1+G16) -> 0 | J16: =+H16/$E$3 -> 0
B17: Secretaria con prestaciones | C17: Un | D17: 0 | E17: 0.2 | F17: 2200000 | G17: =+'Analisis Factor Prestacional'!$E$28 -> 0.8087 | H17: =+D17*E17*$E$4*F17*(1+G17) -> 0 | J17: =+H17/$E$3 -> 0
B18: Contador | C18: Un | D18: 0 | E18: 0.15 | F18: 3600000 | H18: =+D18*E18*$E$4*F18*(1+G18) -> 0 | J18: =+H18/$E$3 -> 0
B19: Oficina y/o campamento (Incluye Equipo de Oficina, Escritorio, pc, impresora, sillas, papeleria, consumo servicios publicos etc) | C19: Mes | D19: 0 | E19: 1 | F19: 400000 | H19: =+D19*E19*$E$4*F19*(1+G19) -> 0 | J19: =+H19/$E$3 -> 0
B20: Seguridad industrial personal | C20: Mes | D20: 0 | E20: 0.5 | F20: 400000 | H20: =+D20*E20*$E$4*F20*(1+G20) -> 0 | J20: =+H20/$E$3 -> 0
B21: Plan de Salud ocupacional y seguridad industrial | C21: Mes | D21: 0 | E21: 1 | F21: 400000 | H21: =+D21*E21*$E$4*F21*(1+G21) -> 0 | J21: =+H21/$E$3 -> 0
B22: Sistema de gestion ambiental | C22: Mes | D22: 0 | E22: 1 | F22: 400000 | H22: =+D22*E22*$E$4*F22*(1+G22) -> 0 | J22: =+H22/$E$3 -> 0
B23: Sistema de gestion de calidad | C23: Mes | D23: 0 | E23: 0 | F23: 600000 | H23: =+D23*E23*$E$4*F23*(1+G23) -> 0 | J23: =+H23/$E$3 -> 0
B24: Costos financiero | C24: Mes | D24: 0 | E24: 1 | F24: 300000 | H24: =+D24*E24*$E$4*F24*(1+G24) -> 0 | J24: =+H24/$E$3 -> 0
B25: Plan de Manejo de tránsito | C25: GL | D25: 0 | F25: 0 | H25: =F25 -> 0 | J25: =+H25/$E$3 -> 0
B26: Ensayos de laboratorio | C26: GL | D26: 0 | F26: 0 | H26: =F26 -> 0 | J26: =+H26/$E$3 -> 0
A27: 2 | B27: GASTOS INDIRECTOS. | J27: =+J28+J30+J41+J37 -> 0.21712857
A28: 2.1 | B28: LEGALIZACION. | I28: =SUM(H29:H29) -> 0 | J28: =+I28/$E$3 -> 0
B29: AIU ITERACION | G29: 1.3844 | H29: =+F29*D29*G29 -> 0 | J29: =+H29/$E$3 -> 0
A30: 2.2 | B30: POLIZAS | I30: =SUM(H31:H35) -> 7395412.3 | J30: =+I30/$E$3 -> 0.012159432
B31: Anticipo | C31: % | D31: 0.0006 | F31: =+$E$3*E31 -> 0 | G31: =+$G$29 -> 1.3844 | H31: =+(((F31*G31*D31)/365)*($E$4*30+120))*1.19 -> 0 | J31: =+H31/$E$3 -> 0
B32: Cumplimiento | C32: % | D32: 0.0006 | F32: =+$E$3 -> 608203780 | G32: =+$G$29 -> 1.3844 | H32: =+(((F32*G32*D32)/365)*($E$4*30+120))*1.19 -> 395300.44 | J32: =+H32/$E$3 -> 0.00064994735
B33: Estabilidad | C33: % | D33: 0.0009 | F33: =+$E$3 -> 608203780 | G33: =+$G$29 -> 1.3844 | H33: =+(((F33*G33*D33)/365)*(1825))*1.19 -> 4508895.6 | J33: =+H33/$E$3 -> 0.007413462
B34: Prestaciones Sociales | C34: % | D34: 0.0005 | F34: =+$E$3 -> 608203780 | G34: =+$G$29 -> 1.3844 | H34: =+(((F34*G34*D34)/365)*($E$4*30+1095))*1.19 -> 1667673.7 | J34: =+H34/$E$3 -> 0.0027419654
B35: Responsabilidad Civil | C35: % | D35: 0.0025 | F35: =+$E$3 -> 608203780 | G35: =+$G$29 -> 1.3844 | H35: =+(((F35*G35*D35)/365)*($E$4*30+0))*1.19 -> 823542.58 | J35: =+H35/$E$3 -> 0.001354057
A37: 2.3 | B37: VALLAS Y SEÑALIZACION | I37: =SUM(H38:H40) -> 300000 | J37: =+I37/$E$3 -> 0.00049325573
B38: Vallas () | C38: GL | D38: 1 | F38: 200000 | H38: =+F38*D38 -> 200000 | J38: =+H38/$E$3 -> 0.00032883715
B39: Señalización de obra (señales verticales, demarcación, cintas, etc) | C39: GL | D39: 1 | F39: 100000 | H39: =+F39*D39 -> 100000 | J39: =+H39/$E$3 -> 0.00016441858
A41: 2.4 | B41: IMPUESTOS Y CONTRIBUCIONES | I41: =SUM(H42:H50) -> 1.24363e+08 | J41: =+I41/$E$3 -> 0.20447588
B42: Impuesto de Timbre | C42: % | D42: 0.005 | F42: =+$E$3 -> 608203780 | G42: =+$G$29 -> 1.3844 | H42: =+F42*D42*G42 -> 4209986.6 | J42: =+H42/$E$3 -> 0.006922
B43: Contribuación Especial | C43: % | D43: 0.05 | F43: =+$E$3 -> 608203780 | G43: =+$G$29 -> 1.3844 | H43: =+F43*D43*G43 -> 42099866 | J43: =+H43/$E$3 -> 0.06922
B44: Estampillas para el bienestar del adulto mayor | C44: % | D44: 0.02 | F44: =+$E$3 -> 608203780 | G44: =+$G$29 -> 1.3844 | H44: =+F44*D44*G44 -> 16839946 | J44: =+H44/$E$3 -> 0.027688
...

Sheet Analisis Factor Prestacional
A1: ANALISIS FACTOR PRESTACIONAL
A3: Datos Basicos año 2024 | B3: Días del año | C3: 360 | E3: IPC 2024
B4: Subsidio Transporte 2024 | C4: 200000 | E4: 0.052
B5: Salario mínimo 2024 | C5: 1423500
C8: Riesgo Alto | E8: Riesgo Bajo
A9: Datos Básicos | B9: Número días trabajados | C9: =C3 -> 360 | D9: =+C3 -> 360 | E9: =+C3 -> 360 | F9: =+C3 -> 360
B10: Salario Básico | C10: 1-2 SMMLV | D10: >2 SMMLV | E10: 1-2 SMMLV | F10: >2 SMMLV
A11: Prestaciones Sociales | B11: Subsidio de Transporte | C11: 0.1053 | D11: 0 | E11: 0.1053 | F11: 0
B12: Cesantías | C12: 0.0833 | D12: 0.0833 | E12: 0.0833 | F12: 0.0833
B13: Intereses cesantías | C13: 0.01 | D13: 0.01 | E13: 0.01 | F13: 0.01
B14: Prima | C14: 0.0833 | D14: 0.0833 | E14: 0.0833 | F14: 0.0833
B15: Vacaciones | C15: 0.0417 | D15: 0.0417 | E15: 0.0417 | F15: 0.0417
B16: Dotaciones | C16: 0.06 | D16: 0.0267 | E16: 0.06 | F16: 0.0267
B17: Servicio Medico Primer Mes | C17: 0.0016 | D17: 0.0016 | E17: 0.0016 | F17: 0.0016
A18: Examenes medicos | B18: Examenes de ingreso y egreso | C18: 0.0339 | D18: 0.0121 | E18: 0.0339 | F18: 0.0121
A19: Certificados para trabajos | B19: Certificado en trabajo de alturas | C19: 0.0203 | D19: 0.0073
A20: Salud. Pension y ARP | B20: Salud | C20: 0.085 | D20: 0.085 | E20: 0.085 | F20: 0.085
B21: Pensión | C21: 0.12 | D21: 0.12 | E21: 0.12 | F21: 0.12
B22: ARL | C22: 0.0696 | D22: 0.0696 | E22: 0.0696 | F22: 0.0696
A23: Parafiscales | B23: SENA | C23: 0.02 | D23: 0.02 | E23: 0.02 | F23: 0.02
B24: ICBF | C24: 0.03 | D24: 0.03 | E24: 0.03 | F24: 0.03
B25: FIC | C25: 0.025 | D25: 0.025 | E25: 0.025 | F25: 0.025
B26: Caja de compensacion | C26: 0.04 | D26: 0.04 | E26: 0.04 | F26: 0.04
A28: TOTAL | C28: =SUM(C11:C27) -> 0.829 | D28: =SUM(D11:D27) -> 0.6556 | E28: =SUM(E11:E27) -> 0.8087 | F28: =SUM(F11:F27) -> 0.6483
A31: ANALISIS INGRESO BASE DE COTIIZACION - IBC (Solo aplica para contratistas personas naturales)
A33: Descripcion | C33: Valor
A34: Costo directo del contrato | C34: =#REF! -> #REF!
A35: AIU en porcentaje | C35: ='Analisis AIU'!J53 -> 0.3844
A36: AIU en pesos | C36: =+C35*C34 -> #REF!
A37: Costo total del contrato antes de iva | C37: =C36+C34 -> #REF!
A38: Plazo (meses) | C38: 4
A39: Valor del salario minimo | C39: =+$C$5 -> 1423500
A40: Valor del IBC según el Decreto 510 de 2003 (smmlv<=IBC<=25 smmlv) | C40: =25*C39 -> 35587500
A41: IBC | C41: =ROUND(IF((C37*40%/C38)<C40,(C37*40%/C38),C40),) -> #REF!
A42: =+B20 -> Salud | B42: 0.125 | C42: =ROUND($C$41*B42,0) -> #REF!
A43: =+B21 -> Pensión | B43: 0.16 | C43: =ROUND($C$41*B43,0) -> #REF!
A44: =+B22 -> ARL | B44: 0.0696 | C44: =ROUND($C$41*B44,0) -> #REF!
A45: Valor total de aportes mensual | C45: =C42+C43+C44 -> #REF!
A46: Valor total de aporte durante el contrato | C46: =C45*C38 -> #REF!
A48: Nota: La ARL la debe pagar la entidad contratante al contratista de acuerdo a lo estipulado en la ley 723 de 2013 y el art 2 de la ley 1562 de 2012.
