Workbook

Sheet PRIORIZACION CANTIDADES
A3: PROCESO DE GESTIÓN CONTRACTUAL ANEXO 7 FORMATO ANEXO FICHA TÉCNICA
A4: 28 de mayo de 2025 Señores SERVICIO NACIONAL DE APRENDIZAJE SENA Manizales Ref.: Proceso MINIMA CUANTIA MC-CLD-CFC-006-2025 OBJETO DEL CONTRATO: 17_9112_86 CONTRATAR EL MANTENIMIENTO PREVENTIVO Y CORRECTIVO DEL SISTEMA HIDRICO DEL CENTRO PARA LA FORMACION CAFETERA. El valor total con todos los impuestos, costos directos e indirectos es $60.764.562 ( SESENTA MILLONES SETECIENTOS SESENTA Y CUATRO MIL QUINIENTOS SESENTA Y DOS PESOS MCTE) JESUS DAVID QUINTERO GARCIA, actuando en calidad de Representante legal de Q&Q INGNEIERIA S.A.S, certifico que se cumplirá con todas las especificaciones técnicas requeridas para la ejecución del contrato.
A7: ÍTEM | B7: ACTIVIDAD | C7: UNIDAD | D7: CANTIDAD | E7: VALOR UNITARIO | F7: VALOR PARCIAL
A10: 1. | B10: Obras de Mantenimiento y correcciones en el área de la porcícola del Centro para la Formación Cafetera
A11: 1.1 | B11: Mantenimiento correctivo de la motobomba incluye Instalación, montaje y empotramiento. | C11: UN | D11: =Cantidades!I9 -> 2 | E11: 405000 | F11: =+D11*E11 -> 810000
A12: 1.2 | B12: Reposición de la caja de inspección de 60 x 60, incluye tapa en lámina galvanizada para instalación de motobomba. | C12: UN | D12: =Cantidades!I18 -> 3 | E12: 625148 | F12: =+D12*E12 -> 1875444
A13: 1.3 | B13: Reemplazo e instalación de Tee, D=2", para instalación de dos motobombas. | C13: UN | D13: =Cantidades!I27 -> 1 | E13: 87463 | F13: =+D13*E13 -> 87463
A15: 2. | B15: Mantenimiento calibración y pruebas a los medidores de agua potable
A16: 2.1 | B16: Revisión, calibración y pruebas a los medidores de agua de ganadería, porcícola y tanques de abastecimiento. | C16: UN | D16: =Cantidades!I37 -> 3 | E16: 240000 | F16: =+D16*E16 -> 720000
A17: 2.2 | B17: Reemplazo de la caja de inspección en concreto de 3000 PSI, con tapa en concreto reforzado, para medidor de ganadería y porcícola, incluye excavación y lleno. | C17: UN | D17: =Cantidades!I47 -> 2 | E17: 658412 | F17: =+D17*E17 -> 1316824
A19: 3. | B19: Mantenimiento del tanque desarenador del sector de la bocatoma
A20: 3.1 | B20: Lavado del tanque desarenador del sistema de abastecimiento de agua cruda. | C20: M2 | D20: =Cantidades!I63 -> 23.89 | E20: 12000 | F20: =+D20*E20 -> 286680
A21: 3.2 | B21: Realizar resanes a la superficie del tanque desarenador | C21: M2 | D21: =Cantidades!I79 -> 7.17 | E21: 27500 | F21: =+D21*E21 -> 197175
A22: 3.3 | B22: Pintura de las superficies del tanque desarenador con pintura Epoxi de grado alimenticio. | C22: M2 | D22: =Cantidades!I95 -> 35.39 | E22: 49800 | F22: =+D22*E22 -> 1762422
A23: 3.4 | B23: Reposición del andén en concreto de 3000 PSI, e= 10 cm, de 1 metro de ancho, incluye, afirmado y compactación. | C23: M2 | D23: 6.5 | E23: 198500 | F23: =+D23*E23 -> 1290250
A24: 3.5 | B24: Excavación en material común zona tanque desarenador | C24: M3 | D24: 4.8 | E24: 40000 | F24: =+D24*E24 -> 192000
A25: 3.6 | B25: Llenos en material del sitio zona tanque desarenador | C25: M3 | D25: =Cantidades!I143 -> 9.3 | E25: 32000 | F25: =+D25*E25 -> 297600
A26: 3.7 | B26: Cambio de tapón roscado D=4" | C26: UN | D26: 4 | E26: 34215 | F26: =+D26*E26 -> 136860
A28: 4. | B28: Mantenimiento de la Bocatoma
A29: 4.1 | B29: Lavado de las superficies de la bocatoma | C29: M2 | D29: =Cantidades!I162 -> 21.81 | E29: 12000 | F29: =+D29*E29 -> 261720
A30: 4.2 | B30: Resanes de las superficies de la bocatoma | C30: M2 | D30: =Cantidades!I182 -> 15.27 | E30: 27500 | F30: =+D30*E30 -> 419925
A31: 4.3 | B31: Pintura de las superficies de la bocatoma con pintura epoxi de grado alimenticio. | C31: M2 | D31: =Cantidades!I202 -> 21.81 | E31: 49800 | F31: =+D31*E31 -> 1086138
A32: 4.4 | B32: Reemplazo e instalación de manguera de polietileno, D=4", para Bypass. En la bocatoma, incluye excavación, lleno y compactación. | C32: ML | D32: =Cantidades!I218 -> 20 | E32: 31478 | F32: =+D32*E32 -> 629560
A33: 4.5 | B33: Reemplazo e instalación de válvula de cierre rápido en D=4" | C33: UN | D33: =Cantidades!I234 -> 1 | E33: =780950*0.8 -> 624760 | F33: =+D33*E33 -> 624760
A34: 4.6 | B34: Reposición del andén en concreto de 3000 PSI, e= 10 cm, de 1 metro de ancho, incluye, afirmado y compactación. | C34: M2 | D34: =Cantidades!I250 -> 9 | E34: 198500 | F34: =+D34*E34 -> 1786500
A35: 4.7 | B35: Excavación en conglomerado zona bocatoma | C35: M3 | D35: =Cantidades!I266 -> 25.5 | E35: 40000 | F35: =+D35*E35 -> 1020000
A36: 4.8 | B36: Llenos en material del sitio zona bocatoma | C36: M3 | D36: =Cantidades!I282 -> 38.4 | E36: 32000 | F36: =+D36*E36 -> 1228800
A37: 4.9 | B37: Realce de muro en concreto 2,8 x 0,4 x 0,2 m, de 3000 PSI con vertedero de 1 metro de ancho | C37: GB | D37: 1 | E37: =559850*0.9 -> 503865 | F37: =+D37*E37 -> 503865
A38: 4.10 | B38: Desmonte de compuerta metálica existente con reemplazo por realce de muro en concreto de 1 m x 0,7 m x 0,1 m. | C38: UN | D38: 1 | E38: =458950*0.9 -> 413055 | F38: =+D38*E38 -> 413055
A39: 4.11 | B39: Suministro e instalación de tapón roscado D=4", incluye demolición, niple, adaptador y emboquillado en muro | C39: UN | D39: 1 | E39: 356200 | F39: =+D39*E39 -> 356200
A41: 5. | B41: Mantenimiento del tanque de Producción agopecuaria
A42: 5.1 | B42: Lavado del tanque de producción agropecuaria | C42: M2 | D42: =Cantidades!I298 -> 93.96 | E42: 12000 | F42: =+D42*E42 -> 1127520
A43: 5.2 | B43: Resanes a las superficies del tanque de producción agropecuaria | C43: M2 | D43: =Cantidades!I314 -> 28.19 | E43: 27500 | F43: =+D43*E43 -> 775225
A44: 5.3 | B44: Pintura de las superficies del tanque de producción Agropecuaria con pintura epoxi de grado alimenticio. | C44: M2 | D44: =Cantidades!I330 -> 112.96 | E44: 49800 | F44: =+D44*E44 -> 5625408
A45: 5.4 | B45: Reposición del andén en concreto de 3000 PSI, e= 10 cm, de 1 metro de ancho, incluye excavación, afirmado y compactación. | C45: M2 | D45: =Cantidades!I346 -> 12 | E45: 198500 | F45: =+D45*E45 -> 2382000
A46: 5.5 | B46: Excavación en material común zona tanque de producción agropecuaria | C46: M3 | D46: =Cantidades!I362 -> 37.3 | E46: 40000 | F46: =+D46*E46 -> 1492000
A47: 5.6 | B47: Llenos en material del sitio zona tanque de producción agropecuaria | C47: M3 | D47: =Cantidades!I378 -> 28.52 | E47: 32000 | F47: =+D47*E47 -> 912640
A48: 5.7 | B48: Pintura del cerramiento en malla perimetral, H=1,5. | C48: M2 | D48: =Cantidades!I394 -> 78.48 | E48: 28500 | F48: =+D48*E48 -> 2236680
A49: 5.8 | B49: Reemplazo e instalación de manguera de polietileno, D=4", para Bypass. En el tanque de producción agropecuaria, incluye excavación, lleno y compactación. | C49: ML | D49: =Cantidades!I410 -> 20 | E49: 31478 | F49: =+D49*E49 -> 629560
A50: 5.9 | B50: Cambio e instalación de Tee, D=2" para Bypass. | C50: UN | D50: =Cantidades!I426 -> 1 | E50: 87463 | F50: =+D50*E50 -> 87463
...

Sheet Cantidades
A3: ITEM | B3: =#REF! -> #REF! | C3: =#REF! -> #REF! | M3: UNIDAD | N3: =#REF! -> #REF!
A4: FECHA dd-mm-aaaa | B4: LOCALIZACIÓN | D4: DIMENSIONES | G4: CANTIDAD | H4: UNIDAD | I4: TOTAL | J4: ESQUEMA
D5: Largo | E5: Ancho | F5: Alto | I5: ACUMULADO
B6: Zona porcícola, se utiliazará para llenado de tanques de abastecimiento de agua para la ganadería | G6: 1 | H6: UNIDAD | I6: =G6 -> 1
B7: Entrega almacén, se utilizará para lavado de la zona de porcícola | G7: 1 | H7: UNIDAD | I7: 1
A9: TOTAL CANTIDAD | I9: =SUM(I6:I8) -> 2
A12: ITEM | B12: =#REF! -> #REF! | C12: =#REF! -> #REF! | M12: UNIDAD | N12: =#REF! -> #REF!
A13: FECHA dd-mm-aaaa | B13: LOCALIZACIÓN | D13: DIMENSIONES | G13: CANTIDAD | H13: UNIDAD | I13: TOTAL | J13: ESQUEMA
D14: Largo | E14: Ancho | F14: Alto | I14: ACUMULADO
B15: Caja de inspección para la instalación de la motobomba destinada al abastecimiento de los lotes de ganadería | G15: 1 | H15: UNIDAD | I15: =G15 -> 1
B16: Caja de inspección para la instalación de la motobomba destinada al lavado y conservación del area de la porcícola. | G16: 1 | H16: UNIDAD | I16: =G16 -> 1
B17: Caja de inspección motobomba biodigestor | G17: 1 | H17: UNIDAD | I17: 1
A18: TOTAL CANTIDAD | I18: =SUM(I15:I17) -> 3
A21: ITEM | B21: =#REF! -> #REF! | C21: =#REF! -> #REF! | M21: UNIDAD | N21: =#REF! -> #REF!
A22: FECHA dd-mm-aaaa | B22: LOCALIZACIÓN | D22: DIMENSIONES | G22: CANTIDAD | H22: UNIDAD | I22: TOTAL | J22: ESQUEMA
D23: Largo | E23: Ancho | F23: Alto | I23: ACUMULADO
B24: Necesaria como derivación para la instalación de las dos motobombas | G24: 1 | I24: =G24 -> 1
A27: TOTAL CANTIDAD | I27: =SUM(I24:I26) -> 1
A30: ITEM | B30: =#REF! -> #REF! | C30: =#REF! -> #REF! | M30: UNIDAD | N30: =#REF! -> #REF!
A31: FECHA dd-mm-aaaa | B31: LOCALIZACIÓN | D31: DIMENSIONES | G31: CANTIDAD | H31: UNIDAD | I31: TOTAL | J31: ESQUEMA
D32: Largo | E32: Ancho | F32: Alto | I32: ACUMULADO
B33: Medidor para reposición | G33: 1 | I33: =G33 -> 1
B34: Medidor de ganadería y porcícola | G34: 1 | I34: =G34 -> 1
B35: Medidor del tanque de producción agropecuaria | G35: 1 | I35: =G35 -> 1
A37: TOTAL CANTIDAD | I37: =SUM(I33:I36) -> 3
A40: ITEM | B40: =#REF! -> #REF! | C40: =#REF! -> #REF! | M40: UNIDAD | N40: =#REF! -> #REF!
A41: FECHA dd-mm-aaaa | B41: LOCALIZACIÓN | D41: DIMENSIONES | G41: CANTIDAD | H41: UNIDAD | I41: TOTAL | J41: ESQUEMA
D42: Largo | E42: Ancho | F42: Alto | I42: ACUMULADO
B43: Para la instalación del medidor de agua de ganadería | G43: 1 | H43: UN | I43: =G43 -> 1
B44: Para la instalación del medidor de agua de porcícola | G44: 1 | H44: UN | I44: =G44 -> 1
A47: TOTAL CANTIDAD | I47: =SUM(I43:I46) -> 2
A50: ITEM | B50: =#REF! -> #REF! | C50: =#REF! -> #REF! | M50: UNIDAD | N50: =#REF! -> #REF!
A51: FECHA dd-mm-aaaa | B51: LOCALIZACIÓN | D51: DIMENSIONES | G51: CANTIDAD | H51: UNIDAD | I51: TOTAL | J51: ESQUEMA
D52: Largo | E52: Ancho | F52: Alto | I52: ACUMULADO
B53: Caras internas | D53: 1.24 | E53: 1.3 | G53: 3 | H53: M2 | I53: =ROUND(PRODUCT(D53,E53,F53,G53),2) -> 4.84
B54: Caras internas | D54: 1.24 | F54: 1.25 | G54: 6 | H54: M2 | I54: =ROUND(PRODUCT(D54,E54,F54,G54),2) -> 9.3
B55: Caras internas | E55: 1.3 | F55: 1.25 | G55: 6 | H55: M2 | I55: =ROUND(PRODUCT(D55,E55,F55,G55),2) -> 9.75
A63: TOTAL CANTIDAD | I63: =SUM(I53:I62) -> 23.89
A66: ITEM | B66: =#REF! -> #REF! | C66: =#REF! -> #REF! | M66: UNIDAD | N66: =#REF! -> #REF!
A67: FECHA dd-mm-aaaa | B67: LOCALIZACIÓN | D67: DIMENSIONES | G67: CANTIDAD | H67: UNIDAD | I67: TOTAL | J67: ESQUEMA
...

Sheet Especificaciones
B2: Especificaciones Técnicas - Sistema Hídrico del Centro para la Formación Cafetera
B5: Ítem 1.1: Mantenimiento correctivo de la motobomba, incluye Instalación, montaje y empotramiento.
B6: A. Objetivo:
B7: Esta especificación técnica detalla los procedimientos y requisitos necesarios para la instalación, montaje y empotramiento de una motobomba en un sistema de bombeo específico.
B9: B. Equipo y materiales necesarios:
B10: - Motobomba. (suministrada por el SENA)
B11: - Tuberías y accesorios adecuados para el sistema de bombeo (suministrada por el contratista).
B12: - Herramientas de instalación (llaves, destornilladores, etc.).
B13: - Equipo de protección personal (guantes, gafas de seguridad, etc.).
B15: C. Procedimiento:
B17: a. Preparación del área:
B18: - Verificar que el área donde se instalará la motobomba esté limpia y nivelada.
... B1200: Esta especificación técnica garantiza una ejecución uniforme y controlada, conforme a los estándares de calidad institucional.
