Workbook
Name \0: #REF!
Name \00: #REF!
Name \a: #REF!
Name \AA: #REF!
Name \b: #REF!
Name \bb: #REF!
Name \c: #REF!
Name \E: #REF!
Name \EE: #REF!
Name \G: #REF!
Name \i: #REF!
Name \k: #REF!
Name \l: #REF!
Name \M: #REF!
Name \ñ: #REF!
Name \P: #REF!
Name \R: #REF!
Name \s: #REF!
Name \t: #REF!
Name \V: #REF!
Name \X: [0]!ERR
Name \Z: [0]!ERR
Name __________________________________________________________Po2: #REF!
Name __________________________________________________________TPE1132: #REF!
Name __________________________________________________________TPE1331: #REF!
Name __________________________________________________________TPE1702: #REF!
Name __________________________________________________________TPE1703: #REF!
Name __________________________________________________________TPE1704: #REF!
Name __________________________________________________________TPE1706: #REF!
Name __________________________________________________________TPE1708: #REF!
Name __________________________________________________________TPE1710: #REF!
Name __________________________________________________________TPE1735: #REF!
Name __________________________________________________________TPE1763: #REF!
Name __________________________________________________________TPE1790: #REF!
Name __________________________________________________________TUZ22: #REF!
Name __________________________________________________________TUZ36: #REF!
Name __________________________________________________________TZ323: #REF!
Name __________________________________________________________TZ324: #REF!
Name ________________________________________________________AIU1: #REF!
Name ________________________________________________________AIU2: #REF!
Name ________________________________________________________Cod1: #REF!
Name ________________________________________________________Po2: #REF!
Name ________________________________________________________TPE1132: #REF!
Name ________________________________________________________TPE1331: #REF!
Name ________________________________________________________TPE1702: #REF!
Name ________________________________________________________TPE1703: #REF!
Name ________________________________________________________TPE1704: #REF!
Name ________________________________________________________TPE1706: #REF!
Name ________________________________________________________TPE1708: #REF!
Name ________________________________________________________TPE1710: #REF!
Name ________________________________________________________TPE1735: #REF!
Name ________________________________________________________TPE1763: #REF!
Name ________________________________________________________TPE1790: #REF!
Name ________________________________________________________TUZ22: #REF!
Name ________________________________________________________TUZ36: #REF!
Name ________________________________________________________TZ323: #REF!
Name ________________________________________________________TZ324: #REF!
Name _______________________________________________________AIU1: #REF!
Name _______________________________________________________AIU2: #REF!
Name _______________________________________________________CAN28: #REF!

Sheet TIPO 1
A1: EMPRESA DE VIVIENDA DE ANTIOQUIA -VIVA-
A2: ANEXO PROPUESTA ECONOMICA TIPO 1: Solución con una capacidad instalada de 1KWP. (off-grid)
A3: "CARACTERIZACIÓN TÉCNICA, ECONÓMICA, SOCIAL Y CONSTRUCCION DE SISTEMAS SOLARES FOTOVOLTAICOS EN EL DEPARTAMENTO DE ANTIOQUIA".
A4: Ítem | B4: Descripción | C4: Unidad | D4: VALOR UNITARIO | E4: CANTIDAD | F4: VALOR TOTAL
A5: TIPO 1: Solución con una capacidad instalada de 1KWP. (off-grid)
A6: ITEM | B6: DESCRIPCIÓN | C6: UNIDAD | D6: VR UNITARIO PROMEDIO | E6: CANTIDAD | F6: VALOR TOTAL
A7: 1 | B7: Suministro, transporte, instalación y puesta a punto de mínimo 2 módulos solares fotovoltaicos monocristalinos tipo PERC o TECNOLOGIA SIMILAR o SUPERIOR con potencia nominal STC de -40°C +80 °C de rango entre 555Wp y 600Wp, eficiencia mínima de 21.4 %, rendimiento mínimo al año 25 de 85%. Incluye: certificado producto de conformidad con RETIE vigente al momento de la instalación, diodos de protección y todos los elementos necesarios para su correcto funcionamiento y puesta en marcha. | C7: Un | D7: 0 | E7: 579 | F7: =ROUND(E7*D7,0) -> 0
A8: 2 | B8: Suministro transporte, instalación y puesta a punto de poste en fibra de vidrio monolítico de mínimo 4 metros de altura resistencia mínima de 250 Kgf para fijación de panel solar. Incluye: preparación del suelo, vaciado de concreto con triturado para cimentación, fijación, aplomo y nivelación del poste según normas EPM ET-TD-ME04-09; viento convencional para soporte de poste según normas EPM NC-RA6-001; Estructura y herrajes en aluminio o acero galvanizado en caliente, que sea resistente a la oxidación y se usará para fijación de mínimo 2 módulos fotovoltaicos instalado en la parte superior del poste; todos los elementos para su correcto funcionamiento y puesta en marcha. | C8: Un | D8: 0 | E8: 579 | F8: =ROUND(E8*D8,0) -> 0
A9: 3 | B9: Suministro, transporte, instalación y puesta a punto de mínimo 1 inversor o microinversor para sistema aislado con capacidad mínima de 1.2 kW, eficiencia mínima de 90 %, salida monofásica de 120 VAC y frecuencia de 60Hz. El inversor debe contar con medio de desconexión ON/OFF y tener certificado de producto de conformidad con RETIE vigente al momento de la instalación. Incluye: Configuración según fabricante, monitor de batería y todos los elementos necesarios para su correcto funcionamiento y puesta en marcha. | C9: Un | D9: 0 | E9: 579 | F9: =ROUND(E9*D9,0) -> 0
A10: 4 | B10: Suministro, transporte, instalación y puesta a punto de mínimo de 1 controlador de carga MPPT para baterías de capacidad de 40A - 145/24-12 V. Incluye todos los elementos necesarios para su correcto funcionamiento y puesta en marcha. | C10: Un | D10: 0 | E10: 579 | F10: =ROUND(E10*D10,0) -> 0
A11: 5 | B11: Suministro transporte, instalación y puesta a punto de mínimo 1 batería de tecnología LiFePO4 con capacidad mínima de 150 Ah a 24 VDC, 4000 ciclos de vida útil, eficiencia mínima de 90 % y DOD de 80 %. El acumulador o batería debe tener certificado de producto de conformidad con RETIE y debe estar vigente al momento de la instalación. Incluye todos los elementos necesarios para su correcto funcionamiento y puesta en marcha. | C11: Un | D11: 0 | E11: 579 | F11: =ROUND(E11*D11,0) -> 0
A12: 6 | B12: Suministro, transporte, instalación y puesta a punto de puesta a tierra y apantallamiento para sistema fotovoltaico en poste. Incluye mínimo: caja de registro 30x30 cm, para inspección de conexión a tierra, 1 varilla con recubrimiento de cobre de 2.4 m x 5/8", 10 metros cable # 6 de CU desnudo, conector o soldadura para unión de varilla y cable, bajante con conductor en aluminio, punta captadora más sus soportes, conectores bimetálicos para, caja de registro y todos los elementos para su correcto funcionamiento y puesta en marcha. También se debe incluir la medición de resistividad del suelo con registro fotográfico. Los elementos deben contar con certificado según RETIE y debe estar vigente. | C12: Un | D12: 0 | E12: 579 | F12: =ROUND(E12*D12,0) -> 0
A13: 7 | B13: Suministro, transporte, instalación y puesta a punto de cable fotovoltaico 4 mm2 con certificado vigente RETIE vigente. Desde los paneles hasta el gabinete principal. Incluye coraza de 3/4”, uniones, curvas, fijadores y todos los elementos para su correcto funcionamiento y puesta en marcha. | C13: Ml | D13: 0 | E13: 579 | F13: =ROUND(E13*D13,0) -> 0
A14: 8 | B14: Suministro, transporte, instalación y puesta a punto de 1 gabinete de protecciones tipo intemperie para colocación en poste Incluye: protecciones eléctricas y cableado entre equipos según diseño aprobado, aisladores tipo carrete, accesorios de fijación, chapa de seguridad, émbolo para sellado y losa de cimentación con espesor mínimo de 10cm y un refuerzo con malla electrosoldada tipo D-131. Debe contar con espacio para instalar equipos de protección, medidor. Incluye todos los elementos para su correcto funcionamiento y puesta en marcha. | C14: Un | D14: 0 | E14: 579 | F14: =ROUND(E14*D14,0) -> 0
A15: 9 | B15: Suministro, transporte, instalación y puesta a punto de cable alimentador 2X8AWG. 600V 90°C material CU + 1x8AWG 600V 90°C material en CU. mínimo 10 metros de cable desde el tablero de protecciones hasta el tablero de distribución. Incluye: tubería EMT de 3/4" más curvas, uniones, accesorios; Terminales, fijadores, Empalmes Y todos los elementos para su correcto funcionamiento y puesta en marcha. | C15: Gl | D15: 0 | E15: 579 | F15: =ROUND(E15*D15,0) -> 0
A16: 10 | B16: Suministro, transporte, instalación y puesta a punto de tablero de distribución tipo multibreakers, monofásico 110 Vca 2 hilos, (1 fase. 1 neutro + tierra) 4 circuitos sin totalizado. Incluye mínimo 2 breakers monopolares para circuitos ramales y todos los elementos para su correcto funcionamiento y puesta en marcha. | C16: Un | D16: 0 | E16: 579 | F16: =ROUND(E16*D16,0) -> 0
A17: 11 | B17: Suministro, transporte, instalación y puesta a punto de redes internas: incluye: 4 salidas de iluminación, y 4 salidas de tomacorrientes, tubería EMT para aplique exterior y todos los elementos para su correcto funcionamiento, puesta en marcha y cumplimiento RETIE. | C17: GL | D17: 0 | E17: 579 | F17: =ROUND(E17*D17,0) -> 0
A18: 12 | B18: Autodeclaracion de cumplimiento RETIE de la instalación | C18: Un | D18: 0 | E18: 579 | F18: =ROUND(E18*D18,0) -> 0
... A24: 18 | B24: Suministro caja 20 cm x 20 cm para alojar monitor de batería. | C24: Un | D24: 0 | E24: 579 | F24: =ROUND(E24*D24,0) -> 0
A25: VALOR TOTAL COSTO DIRECTO | F25: =SUM(F7:F24) -> 0
A26: ADMINISTRACION | E26: 0 | F26: =ROUND($F$25*E26,0) -> 0
A27: UTILIDAD | E27: 0 | F27: =ROUND($F$25*E27,0) -> 0
A28: TOTAL ADMINISTRACION + UTILIDAD | E28: =E26+E27 -> 0 | F28: =ROUND($F$25*E28,0) -> 0
A29: REEMBOLSABLES POR MANTENIMIENTO PREVENTIVO Y CORRECTO | E29: 1343863577 | F29: =ROUND(E29,0) -> 1343863577
A30: REEMBOLSABLES POLIZAS IVA INCLUIDO | E30: 407407611 | F30: =ROUND(E30,0) -> 407407611
A31: VALOR TOTAL DE LA OFERTA | F31: =F25+F28+F29+F30 -> 1751271188

Sheet TIPO 2
A1: EMPRESA DE VIVIENDA DE ANTIOQUIA -VIVA-
A2: ANEXO PROPUESTA ECONOMICA TIPO 2: Solución con una capacidad instalada de 2KWP. (off-grid)
A3: "CARACTERIZACIÓN TÉCNICA, ECONÓMICA, SOCIAL Y CONSTRUCCION DE SISTEMAS SOLARES FOTOVOLTAICOS EN EL DEPARTAMENTO DE ANTIOQUIA".
A4: Ítem | B4: Descripción | C4: Unidad | D4: VALOR UNITARIO | E4: CANTIDAD | F4: VALOR TOTAL
A5: TIPO 2: Solución con una capacidad instalada de 2KWP. (off-grid)
A6: ITEM | B6: DESCRIPCIÓN | C6: UNIDAD | D6: VR UNITARIO PROMEDIO | E6: CANTIDAD | F6: VALOR TOTAL
A7: 1 | B7: Suministro, transporte, instalación y puesta a punto de mínimo 4 módulos solares fotovoltaicos monocristalinos tipo PERC o TECNOLOGIA SIMILAR o SUPERIOR con potencia nominal STC de -40°C +80 °C de rango entre 555Wp 600Wp, eficiencia mínima de 21.4 %, rendimiento mínimo al año 25 de 85%. Incluye: certificado producto de conformidad con RETIE vigente al momento de la instalación, diodos de protección y todos los elementos necesarios para su correcto funcionamiento y puesta en marcha. | C7: Un | D7: 0 | E7: 2 | F7: =ROUND(E7*D7,0) -> 0
A8: 2 | B8: Suministro transporte, instalación y puesta a punto de poste en fibra de vidrio monolítico de mínimo 4 metros de altura resistencia mínima de 250 Kgf para fijación de panel solar. Incluye: preparación del suelo, vaciado de concreto con triturado para cimentación, fijación, aplomo y nivelación del poste según normas EPM ET-TD-ME04-09; viento convencional para soporte de poste según normas EPM NC-RA6-001; Estructura y herrajes en aluminio o acero galvanizado en caliente, que sea resistente a la oxidación y se usará para fijación de mínimo 4 módulos fotovoltaicos instalado en la parte superior del poste; todos los elementos para su correcto funcionamiento y puesta en marcha. | C8: Un | D8: 0 | E8: 2 | F8: =ROUND(E8*D8,0) -> 0
A9: 3 | B9: Suministro, transporte, instalación y puesta a punto de mínimo 1 inversor o microinversor para sistema aislado con capacidad mínima de 2.5 kW, eficiencia mínima de 90 %, salida monofásica de 120 VAC y frecuencia de 60Hz. El inversor debe contar con medio de desconexión ON/OFF y tener certificado de producto de conformidad con RETIE vigente al momento de la instalación. Incluye: Configuración según fabricante, monitor de batería y todos los elementos necesarios para su correcto funcionamiento y puesta en marcha. | C9: Un | D9: 0 | E9: 2 | F9: =ROUND(E9*D9,0) -> 0
A10: 4 | B10: Suministro, transporte, instalación y puesta a punto de mínimo de 1 controlador de carga MPPT para baterías de capacidad de 60A - 145/24-12 V. Incluye todos los elementos necesarios para su correcto funcionamiento y puesta en marcha. | C10: Un | D10: 0 | E10: 2 | F10: =ROUND(E10*D10,0) -> 0
A11: 5 | B11: Suministro transporte, instalación y puesta a punto de mínimo 2 batería de tecnología LiFePO4 con capacidad mínima de 150 Ah a 24 VDC, 4000 ciclos de vida útil, eficiencia mínima de 90 % y DOD de 80 %. El acumulador o batería debe tener certificado de producto de conformidad con RETIE y debe estar vigente al momento de la instalación. Incluye todos los elementos necesarios para su correcto funcionamiento y puesta en marcha. | C11: Un | D11: 0 | E11: 2 | F11: =ROUND(E11*D11,0) -> 0
A12: 6 | B12: Suministro, transporte, instalación y puesta a punto de puesta a tierra y apantallamiento para sistema fotovoltaico en poste. Incluye mínimo: caja de registro 30x30 cm, para inspección de conexión a tierra, 1 varilla con recubrimiento de cobre de 2.4 m x 5/8", 10 metros cable # 6 de CU desnudo, conector o soldadura para unión de varilla y cable, bajante con conductor en aluminio, punta captadora más sus soportes, conectores bimetálicos para, caja de registro y todos los elementos para su correcto funcionamiento y puesta en marcha. También se debe incluir la medición de resistividad del suelo con registro fotográfico. Los elementos deben contar con certificado según RETIE y debe estar vigente. | C12: Un | D12: 0 | E12: 2 | F12: =ROUND(E12*D12,0) -> 0
A13: 7 | B13: Suministro, transporte, instalación y puesta a punto de cable fotovoltaico 6 mm2 con certificado vigente RETIE vigente. Desde los paneles hasta el gabinete principal. Incluye coraza de 3/4”, uniones, curvas, fijadores y todos los elementos para su correcto funcionamiento y puesta en marcha. | C13: Ml | D13: 0 | E13: 2 | F13: =ROUND(E13*D13,0) -> 0
A14: 8 | B14: Suministro, transporte, instalación y puesta a punto de 1 gabinete de protecciones tipo intemperie para colocación en poste Incluye: protecciones eléctricas y cableado entre equipos según diseño aprobado, aisladores tipo carrete, accesorios de fijación, chapa de seguridad, émbolo para sellado y losa de cimentación con espesor mínimo de 10cm y un refuerzo con malla electrosoldada tipo D-131. Debe contar con espacio para instalar equipos de protección, medidor. Incluye todos los elementos para su correcto funcionamiento y puesta en marcha. | C14: Un | D14: 0 | E14: 2 | F14: =ROUND(E14*D14,0) -> 0
A15: 9 | B15: Suministro, transporte, instalación y puesta a punto de cable alimentador 2X8AWG. 600V 90°C material CU + 1x8AWG 600V 90°C material en CU. mínimo 10 metros de cable desde el tablero de protecciones hasta el tablero de distribución. Incluye: tubería EMT de 3/4" más curvas, uniones, accesorios; Terminales, fijadores, Empalmes Y todos los elementos para su correcto funcionamiento y puesta en marcha. | C15: Gl | D15: 0 | E15: 2 | F15: =ROUND(E15*D15,0) -> 0
A16: 10 | B16: Suministro, transporte, instalación y puesta a punto de tablero de distribución tipo multibreakers, monofásico 110 Vac 2 hilos, (1 fase. 1 neutro + tierra) 4 circuitos sin totalizado. Incluye mínimo 2 breakers monopolares para circuitos ramales y todos los elementos para su correcto funcionamiento y puesta en marcha. | C16: Un | D16: 0 | E16: 2 | F16: =ROUND(E16*D16,0) -> 0
A17: 11 | B17: Suministro, transporte, instalación y puesta a punto de redes internas: incluye: 8 salidas de iluminación, y 6 salidas de tomacorrientes, tubería EMT para aplique exterior y todos los elementos para su correcto funcionamiento, puesta en marcha y cumplimiento RETIE. | C17: GL | D17: 0 | E17: 2 | F17: =ROUND(E17*D17,0) -> 0
A18: 12 | B18: Autodeclaracion de cumplimiento RETIE de la instalación. | C18: Un | D18: 0 | E18: 2 | F18: =ROUND(E18*D18,0) -> 0
... A24: 18 | B24: Suministro, transporte e instalación de viento convencional. | C24: Un | D24: 0 | E24: 2 | F24: =ROUND(E24*D24,0) -> 0
A25: VALOR TOTAL COSTO DIRECTO | F25: =SUM(F7:F24) -> 0
A26: ADMINISTRACION | E26: 0 | F26: =ROUND($F$25*E26,0) -> 0
A27: UTILIDAD | E27: 0 | F27: =ROUND($F$25*E27,0) -> 0
A28: TOTAL ADMINISTRACION + UTILIDAD | E28: =E26+E27 -> 0 | F28: =ROUND($F$25*E28,0) -> 0
A29: REEMBOLSABLES POR MANTENIMIENTO PREVENTIVO Y CORRECTO | E29: 6385853 | F29: =ROUND(E29,0) -> 6385853
A30: REEMBOLSABLES POLIZAS IVA INCLUIDO | E30: 1935944 | F30: =ROUND(E30,0) -> 1935944
A31: VALOR TOTAL DE LA OFERTA | F31: =F25+F28+F29+F30 -> 8321797

Sheet TIPO 3
A1: EMPRESA DE VIVIENDA DE ANTIOQUIA -VIVA-
A2: ANEXO PROPUESTA ECONOMICA TIPO 3: Solución con una capacidad instalada de 2KWP (on-grid)
A3: "CARACTERIZACIÓN TÉCNICA, ECONÓMICA, SOCIAL Y CONSTRUCCION DE SISTEMAS SOLARES FOTOVOLTAICOS EN EL DEPARTAMENTO DE ANTIOQUIA".
A4: Ítem | B4: Descripción | C4: Unidad | D4: VALOR UNITARIO | E4: CANTIDAD | F4: VALOR TOTAL
A5: TIPO 3: Solución con una capacidad instalada de 2KWP (on-grid)
A6: ITEM | B6: DESCRIPCIÓN | C6: UNIDAD | D6: VR UNITARIO PROMEDIO | E6: CANTIDAD | F6: VALOR TOTAL
A7: 1 | B7: Suministro, transporte, instalación y puesta a punto de mínimo 4 módulos solares fotovoltaicos monocristalinos tipo PERC o TECNOLOGIA SIMILAR o SUPERIOR con potencia nominal STC de -40°C +80 °C de rango entre mínimo 555Wp y 600Wp, eficiencia mínima de 21.4 %, rendimiento mínimo al año 25 de 85%. Incluye: certificado producto de conformidad con RETIE vigente al momento de la instalación, diodos de protección y todos los elementos necesarios para su correcto funcionamiento y puesta en marcha. | C7: Un | D7: 0 | E7: 1 | F7: =ROUND(E7*D7,0) -> 0
A8: 2 | B8: Suministro transporte, instalación y puesta a punto de poste en fibra de vidrio monolítico de mínimo 4 metros de altura resistencia mínima de 250 Kgf para fijación de panel solar. Incluye: preparación del suelo, vaciado de concreto con triturado para cimentación, fijación, aplomo y nivelación del poste según normas EPM ET-TD-ME04-09; viento convencional para soporte de poste según normas EPM NC-RA6-001; Estructura y herrajes en aluminio o acero galvanizado en caliente, que sea resistente a la oxidación y se usará para fijación de mínimo 4 módulos fotovoltaicos instalado en la parte superior del poste; todos los elementos para su correcto funcionamiento y puesta en marcha. | C8: Un | D8: 0 | E8: 1 | F8: =ROUND(E8*D8,0) -> 0
A9: 3 | B9: Suministro, transporte, instalación y puesta a punto de mínimo 1 inversor o microinversor para sistema conectado con capacidad mínima de 2.5 kW, eficiencia mínima de 90 %, salida monofásica de 120 VAC y frecuencia de 60Hz. El inversor debe contar con medio de desconexión ON/OFF y tener certificado de producto de conformidad con RETIE vigente al momento de la instalación. Incluye: Configuración según fabricante, monitor de batería y todos los elementos necesarios para su correcto funcionamiento y puesta en marcha. | C9: Un | D9: 0 | E9: 1 | F9: =ROUND(E9*D9,0) -> 0
A10: 4 | B10: Suministro, transporte, instalación y puesta a punto de puesta a tierra y apantallamiento para sistema fotovoltaico en poste. Incluye mínimo: caja de registro 30x30 cm, para inspección de conexión a tierra, 1 varilla con recubrimiento de cobre de 2.4 m x 5/8", 10 metros cable # 6 de CU desnudo, conector o soldadura para unión de varilla y cable, bajante con conductor en aluminio, punta captadora más sus soportes, conectores bimetálicos para, caja de registro y todos los elementos para su correcto funcionamiento y puesta en marcha. También se debe incluir la medición de resistividad del suelo con registro fotográfico. Los elementos deben contar con certificado según RETIE y debe estar vigente. | C10: Un | D10: 0 | E10: 1 | F10: =ROUND(E10*D10,0) -> 0
A11: 5 | B11: Suministro, transporte, instalación y puesta a punto de cable fotovoltaico 6 mm2 con certificado vigente RETIE vigente. Desde los paneles hasta el gabinete principal. Incluye coraza de 3/4”, uniones, curvas, fijadores y todos los elementos para su correcto funcionamiento y puesta en marcha. | C11: Un | D11: 0 | E11: 1 | F11: =ROUND(E11*D11,0) -> 0
A12: 6 | B12: Suministro, transporte, instalación y puesta a punto de 1 gabinete de protecciones tipo intemperie para colocación en poste. Incluye: protecciones eléctricas y cableado entre equipos según diseño aprobado, aisladores tipo carrete, accesorios de fijación, chapa de seguridad, émbolo para sellado y losa de cimentación con espesor mínimo de 10cm y un refuerzo con malla electrosoldada tipo D-131. Debe contar con espacio para instalar equipos de protección, medidor. Incluye todos los elementos para su correcto funcionamiento y puesta en marcha. | C12: Un | D12: 0 | E12: 1 | F12: =ROUND(E12*D12,0) -> 0
A13: 7 | B13: Suministro, transporte, instalación y puesta a punto de cable alimentador 2X8AWG. 600V 90°C material CU + 1x8AWG 600V 90°C material en CU. mínimo 10 metros de cable desde el tablero de protecciones hasta el tablero de distribución. Incluye: tubería EMT de 3/4" más curvas, uniones, accesorios; Terminales, fijadores, Empalmes Y todos los elementos para su correcto funcionamiento y puesta en marcha. | C13: Ml | D13: 0 | E13: 1 | F13: =ROUND(E13*D13,0) -> 0
A14: 8 | B14: Suministro, transporte, instalación y puesta a punto de tablero de distribución tipo multibreakers, monofásico 120 y/o 220 según instalación vca 2 hilos, (1 fase. 1 neutro + tierra) 4 circuitos sin totalizado. Incluye mínimo 2 breakers monopolares para circuitos ramales y todos los elementos para su correcto funcionamiento y puesta en marcha. | C14: Un | D14: 0 | E14: 1 | F14: =ROUND(E14*D14,0) -> 0
A15: 9 | B15: Suministro caja protecciones DC tipo riel para mínimo 4 circuitos. Incluye protecciones eléctricas y cableado entre componentes, según replanteo aprobado. Incluye todos los elementos para su correcto funcionamiento y puesta en marcha. | C15: Gl | D15: 0 | E15: 1 | F15: =ROUND(E15*D15,0) -> 0
A16: 10 | B16: Suministro caja protecciones AC tipo riel para mínimo 4 circuitos. Incluye protecciones eléctricas y cableado entre componentes, según replanteo aprobado. Incluye todos los elementos para su correcto funcionamiento y puesta en marcha. | C16: Un | D16: 0 | E16: 1 | F16: =ROUND(E16*D16,0) -> 0
A17: 11 | B17: Suministro de medidor bidireccional, debe cumplir con lo establecido en resolución CREG 038 de 2014 y las especificaciones técnicas del operado de red (OR). Incluye todos los elementos para su correcto funcionamiento y puesta en marcha. | C17: GL | D17: 0 | E17: 1 | F17: =ROUND(E17*D17,0) -> 0
A18: 12 | B18: Legalización de la solución fotovoltaica | C18: Un | D18: 0 | E18: 1 | F18: =ROUND(E18*D18,0) -> 0
... A22: 16 | B22: Suministro, transporte e instalación de estructura y herrajes para fijación para solución tipo 1 de 4 módulos fotovoltaicos poste. | C22: Gl | D22: 0 | E22: 1 | F22: =ROUND(E22*D22,0) -> 0
A23: VALOR TOTAL COSTO DIRECTO | F23: =SUM(F7:F22) -> 0
A24: ADMINISTRACION | E24: 0 | F24: =ROUND($F$23*E24,0) -> 0
A25: UTILIDAD | E25: 0 | F25: =ROUND($F$23*E25,0) -> 0
A26: TOTAL ADMINISTRACION + UTILIDAD | E26: =E24+E25 -> 0 | F26: =ROUND($F$23*E26,0) -> 0
A27: REEMBOLSABLES POR MANTENIMIENTO PREVENTIVO Y CORRECTO | E27: 2112389 | F27: =ROUND(E27,0) -> 2112389
A28: REEMBOLSABLES POLIZAS IVA INCLUIDO | E28: 640395 | F28: =ROUND(E28,0) -> 640395
A29: VALOR TOTAL DE LA OFERTA | F29: =F23+F26+F27+F28 -> 2752784

Sheet RESUMEN PROPUESTA
B1: RESUMEN COSTO ESTIMADO DE LA PROPUESTA
B2: COSTO DIRECTO | E2: ='TIPO 1'!F25+'TIPO 2'!F25+'TIPO 3'!F23 -> 0
B3: ADMINISTRACIÓN | C3: % | D3: =('TIPO 1'!E26+'TIPO 2'!E26+'TIPO 3'!E24)/3 -> 0 | E3: =ROUND(E2*D3,0) -> 0
B4: UTILIDAD | C4: % | D4: =('TIPO 1'!E27+'TIPO 2'!E27+'TIPO 3'!E25)/3 -> 0 | E4: =ROUND(E2*D4,0) -> 0
B5: TOTAL AU | C5: % | D5: =D3+D4 -> 0 | E5: =ROUND(E2*D5,0) -> 0
B6: COSTO TOTAL (Costo Directo + Total AU) | E6: =E2+E5 -> 0
B7: VALOR REEMBOLSABLE POR MANTENIMIENTO PREVENTIVO Y CORTRECTIVO | E7: ='TIPO 1'!F29+'TIPO 2'!F29+'TIPO 3'!F27 -> 1352361819
B8: VALOR REEMBOLSABLE POR POLIZAS | E8: ='TIPO 1'!F30+'TIPO 2'!F30+'TIPO 3'!F28 -> 409983950
B9: VALOR TOTAL DEL PROCESO | E9: =E6+E7+E8 -> 1762345769
