Workbook
Name _Hlk134541549: 'VALOR HISTORICO - PRESENTE'!#REF!

Sheet ESTUDIO DEL MERCADO
D1: ASUNTOS LEGALES - GESTIÓN CONTRACTUAL
A2: ESTUDIO DE MERCADO/ANALISIS DE COSTOS
A3: Con el fin de establecer el Presupuesto Oficial Estimado para el presente proceso de selección por la modalidad de Minima Cuantia que tiene por objeto: Prestar los servicios de mantenimiento, incluidos los repuestos originales, para las motocicletas que conforman el parque automotor a cargo de la Dirección Seccional de Administración Judicial Bogotá, la Dirección Seccional de Adminsitración Judicial de Bogotá - DSAJ de Bogotá adelantó durante el primer trimestre de la actual vigencia el análisis económico con base en el estudio de mercado efectuado, tal y como se describe a continuación:
A4: INVITACIONES A COTIZAR / SOPORTES DEL ANALISIS DE COSTOS
A5: Empresas a las cuales se realizó la invitación a Cotizar : Moto speed NL, Suzuki Motor, Motomundial, Motos Condor, UMG, Macroinversionees JD, Copcon, Tecnimotor y Carscanners
A6: ANEXOS: Hace parte integral del presente estudio de mercado, el formato de cotización, las comunicaciones mediante las cuales se remitió invitación a cotizar a los posibles interesados, las cotizaciones recibidas, así como los demás documentos que fueron tenidos en cuenta para efectuar el análisis económico.
A7: CALCULO DEL VALOR MAXIMO A PAGAR POR LA ENTIDAD
A8: En virtud de las invitaciones a cotizar, remitidas por la Dirección Seccional de Adminsitración Judicial de Bogotá - DSAJ de Bogotá, fueron remitidas dos ofertas por parte de los cotizantes: TECNIMOTOR REPUESTOS Y RECTIFICADORA S.A.S. Nit 800057113-1 y MOTO SPEED NL SAS No 900.604.596-5. Dado que se presentó una gran diferencia en los ítems cotizados, para la elaboración del presente estudio de mercado, se tuvo como base de análisis de: i.) las cotizaciones de TECNIMOTOR REPUESTOS Y RECTIFICADORA S.A.S y MOTO SPEED NL S.A.S ii.) los precios contratados (traídos a valor presente 5,2%) a través del contrato de prestación de servicios No. 002-2024 suscrito con la sociedad TECNIMOTOR REPUESTOS Y RECTIFICADORA con el objeto: “Prestar los servicios de mantenimiento preventivo y correctivo con el suministro de repuestos originales, para las motocicletas utilitarias y de esquema de seguridad que conforman el parque automotor, a cargo de la Dirección Seccional de Administración Judicial Bogotá”.
A9: ITEM | B9: DESCRIPCION | D9: UNI MEDID | E9: CANT | F9: MOTO SPEED NL SAS | G9: TECNIMOTOR REPUESTOS Y RECTIFICADORA S.A.S. | H9: VALOR HISTORIO CONTRATO 002-2024 (VALOR PRESENTE) | I9: VALOR UNITARIO PROMEDIO
F10: VR / UNITARIO CON IVA | G10: VR / UNITARIO CON IVA | H10: VR / UNITARIO CON IVA | I10: VR/UNITARIO CON IVA | J10: VALOR TOTAL
A11: 1 | B11: Batería 12V | D11: UNIDAD | E11: 1 | F11: 946050 | G11: 777314 | H11: =VLOOKUP(B11,'VALOR HISTORICO - PRESENTE'!$B$5:$F$125,5,0) -> 294616 | I11: =AVERAGE(F11:H11) -> 672660 | J11: =I11*E11 -> 672660
A12: 2 | B12: Unidad direccional | D12: UNIDAD | E12: 1 | F12: 238000 | G12: 413229 | H12: =VLOOKUP(B12,'VALOR HISTORICO - PRESENTE'!$B$5:$F$125,5,0) -> 127089.98 | I12: =AVERAGE(F12:H12) -> 259439.66 | J12: =I12*E12 -> 259439.66
A13: 3 | B13: Unidad farola | D13: UNIDAD | E13: 1 | F13: 297500 | G13: 798357 | H13: =VLOOKUP(B13,'VALOR HISTORICO - PRESENTE'!$B$5:$F$125,5,0) -> 251989.27 | I13: =AVERAGE(F13:H13) -> 449282.09 | J13: =I13*E13 -> 449282.09
A14: 4 | B14: Unidad stop | D14: UNIDAD | E14: 1 | F14: 255850 | G14: 600977 | H14: =VLOOKUP(B14,'VALOR HISTORICO - PRESENTE'!$B$5:$F$125,5,0) -> 187129.56 | I14: =AVERAGE(F14:H14) -> 347985.52 | J14: =I14*E14 -> 347985.52
A15: 5 | B15: Regulador | D15: UNIDAD | E15: 1 | F15: 654500 | G15: 1187779 | H15: =VLOOKUP(B15,'VALOR HISTORICO - PRESENTE'!$B$5:$F$125,5,0) -> 370752.14 | I15: =AVERAGE(F15:H15) -> 737677.05 | J15: =I15*E15 -> 737677.05
A16: 6 | B16: Bobina de alta | D16: UNIDAD | E16: 1 | F16: 178500 | G16: 135473 | H16: =VLOOKUP(B16,'VALOR HISTORICO - PRESENTE'!$B$5:$F$125,5,0) -> 42071.165 | I16: =AVERAGE(F16:H16) -> 118681.39 | J16: =I16*E16 -> 118681.39
A17: 7 | B17: Bobinas pulsadoras | D17: UNIDAD | E17: 1 | F17: 208250 | G17: 677612 | H17: =VLOOKUP(B17,'VALOR HISTORICO - PRESENTE'!$B$5:$F$125,5,0) -> 208602.86 | I17: =AVERAGE(F17:H17) -> 364821.62 | J17: =I17*E17 -> 364821.62
A18: 8 | B18: Cable bujía | D18: UNIDAD | E18: 1 | F18: 136850 | G18: 128004 | H18: =VLOOKUP(B18,'VALOR HISTORICO - PRESENTE'!$B$5:$F$125,5,0) -> 39880.484 | I18: =AVERAGE(F18:H18) -> 101578.16 | J18: =I18*E18 -> 101578.16
A19: 9 | B19: Arranque | D19: UNIDAD | E19: 1 | F19: 2320500 | G19: 3569833 | H19: =VLOOKUP(B19,'VALOR HISTORICO - PRESENTE'!$B$5:$F$125,5,0) -> 1111818.7 | I19: =AVERAGE(F19:H19) -> 2334050.6 | J19: =I19*E19 -> 2334050.6
A20: 10 | B20: Telescópicos | D20: JUEGO | E20: 1 | F20: 1999200 | G20: 6913569 | H20: =VLOOKUP(B20,'VALOR HISTORICO - PRESENTE'!$B$5:$F$125,5,0) -> 2179374.5 | I20: =AVERAGE(F20:H20) -> 3697381.2 | J20: =I20*E20 -> 3697381.2
A21: 11 | B21: Barra telescópicos | D21: JUEGO | E21: 1 | F21: 1785000 | G21: 1102213 | H21: =VLOOKUP(B21,'VALOR HISTORICO - PRESENTE'!$B$5:$F$125,5,0) -> 337445.8 | I21: =AVERAGE(F21:H21) -> 1074886.3 | J21: =I21*E21 -> 1074886.3
A22: 12 | B22: Botella telescópicos | D22: UNIDAD | E22: 1 | F22: 1880200 | G22: 1111118 | H22: =VLOOKUP(B22,'VALOR HISTORICO - PRESENTE'!$B$5:$F$125,5,0) -> 341828.21 | I22: =AVERAGE(F22:H22) -> 1111048.7 | J22: =I22*E22 -> 1111048.7
... A35: 25 | B35: Guaya freno delantero | D35: UNIDAD | E35: 1 | F35: 89250 | G35: 144478 | H35: =VLOOKUP(B35,'VALOR HISTORICO - PRESENTE'!$B$5:$F$125,5,0) -> 45577.095 | I35: =AVERAGE(F35:H35) -> 93101.698 | J35: =I35*E35 -> 93101.698
A36: 26 | B36: Carburador | D36: UNIDAD | E36: 1 | F36: 2439500 | G36: 2975000 | I36: =AVERAGE(F36:H36) -> 2707250 | J36: =I36*E36 -> 2707250
A37: 27 | B37: Mono shock | D37: UNIDAD | E37: 1 | F37: 2320500 | G37: 1190000 | I37: =AVERAGE(F37:H37) -> 1755250 | J37: =I37*E37 -> 1755250
A38: 28 | B38: Kit biela | D38: KIT | E38: 1 | F38: 892500 | G38: 713253 | H38: =VLOOKUP(B38,'VALOR HISTORICO - PRESENTE'!$B$5:$F$125,5,0) -> 225256.03 | I38: =AVERAGE(F38:H38) -> 610336.34 | J38: =I38*E38 -> 610336.34
A39: 29 | B39: Kit pistón | D39: KIT | E39: 1 | F39: 892500 | G39: 894879 | H39: =VLOOKUP(B39,'VALOR HISTORICO - PRESENTE'!$B$5:$F$125,5,0) -> 279597.95 | I39: =AVERAGE(F39:H39) -> 688992.32 | J39: =I39*E39 -> 688992.32
A40: 30 | B40: Cadenilla distribución | D40: UNIDAD | E40: 1 | F40: 535500 | G40: 649860 | H40: =VLOOKUP(B40,'VALOR HISTORICO - PRESENTE'!$B$5:$F$125,5,0) -> 198961.55 | I40: =AVERAGE(F40:H40) -> 461440.52 | J40: =I40*E40 -> 461440.52
A41: 31 | B41: Válvulas de admisión | D41: JUEGI | E41: 1 | F41: 380800 | G41: 330200 | H41: =VLOOKUP(B41,'VALOR HISTORICO - PRESENTE'!$B$5:$F$125,5,0) -> 101671.98 | I41: =AVERAGE(F41:H41) -> 270890.66 | J41: =I41*E41 -> 270890.66
A42: 32 | B42: Válvulas de escape | D42: JUEGO | E42: 1 | F42: 380800 | G42: 318543 | H42: =VLOOKUP(B42,'VALOR HISTORICO - PRESENTE'!$B$5:$F$125,5,0) -> 97289.569 | I42: =AVERAGE(F42:H42) -> 265544.19 | J42: =I42*E42 -> 265544.19
A43: 33 | B43: Rodamientos | D43: JUEGO | E43: 1 | F43: 214200 | G43: 263170 | H43: =VLOOKUP(B43,'VALOR HISTORICO - PRESENTE'!$B$5:$F$125,5,0) -> 81075.167 | I43: =AVERAGE(F43:H43) -> 186148.39 | J43: =I43*E43 -> 186148.39
A44: 34 | B44: Kit retenedores | D44: KIT | E44: 1 | F44: 243950 | G44: 240507 | H44: =VLOOKUP(B44,'VALOR HISTORICO - PRESENTE'!$B$5:$F$125,5,0) -> 75377.504 | I44: =AVERAGE(F44:H44) -> 186611.5 | J44: =I44*E44 -> 186611.5
A45: 35 | B45: Juego empaquetadura | D45: JUEGO | E45: 1 | F45: 589050 | G45: 467544 | H45: =VLOOKUP(B45,'VALOR HISTORICO - PRESENTE'!$B$5:$F$125,5,0) -> 145934.88 | I45: =AVERAGE(F45:H45) -> 400842.96 | J45: =I45*E45 -> 400842.96
A46: 36 | B46: Casquetes de biela | D46: JUEGO | E46: 1 | F46: 452200 | G46: 238265 | H46: =VLOOKUP(B46,'VALOR HISTORICO - PRESENTE'!$B$5:$F$125,5,0) -> 75377.504 | I46: =AVERAGE(F46:H46) -> 255280.83 | J46: =I46*E46 -> 255280.83
A47: 37 | B47: Casquetes de bancada | D47: JUEGO | E47: 1 | F47: 452200 | G47: 257847 | H47: =VLOOKUP(B47,'VALOR HISTORICO - PRESENTE'!$B$5:$F$125,5,0) -> 79759.917 | I47: =AVERAGE(F47:H47) -> 263268.97 | J47: =I47*E47 -> 263268.97
A48: 38 | B48: Rodamientos cigüeñal | D48: JUEGO | E48: 1 | F48: 172550 | G48: 313874 | H48: =VLOOKUP(B48,'VALOR HISTORICO - PRESENTE'!$B$5:$F$125,5,0) -> 98166.051 | I48: =AVERAGE(F48:H48) -> 194863.35 | J48: =I48*E48 -> 194863.35
A49: 39 | B49: Rodamientos caja | D49: JUEGO | E49: 1 | F49: 172550 | G49: 412930 | H49: =VLOOKUP(B49,'VALOR HISTORICO - PRESENTE'!$B$5:$F$125,5,0) -> 127966.46 | I49: =AVERAGE(F49:H49) -> 237815.49 | J49: =I49*E49 -> 237815.49
... A59: 49 | B59: Filtro de gasolina | D59: UNIDAD | E59: 1 | F59: 339150 | G59: 140468 | H59: =VLOOKUP(B59,'VALOR HISTORICO - PRESENTE'!$B$5:$F$125,5,0) -> 43386.415 | I59: =AVERAGE(F59:H59) -> 174334.8 | J59: =I59*E59 -> 174334.8
A60: 50 | B60: Kit de embrague | D60: KIT | E60: 1 | F60: 928200 | G60: 1785000 | I60: =AVERAGE(F60:H60) -> 1356600 | J60: =I60*E60 -> 1356600
A61: 51 | B61: Guaya | D61: UNIDAD | E61: 1 | F61: 255850 | G61: 484410 | H61: =VLOOKUP(B61,'VALOR HISTORICO - PRESENTE'!$B$5:$F$125,5,0) -> 149002.04 | I61: =AVERAGE(F61:H61) -> 296420.68 | J61: =I61*E61 -> 296420.68
...

Sheet VALOR HISTORICO - PRESENTE
A2: CALCULO DEL VALOR MAXIMO A PAGAR POR LA ENTIDAD
A3: El calculo de valor unitario para cada una de las actividades es determinado mediante la proyección de los valores unitarios adjudicados en el contrato 002-2024, teniendo en cuenta que corresponde al ultimo contrato celebrado por la entidad y cuyo listado de items ha sido modificado y actualizado respecto a lo contratado en la vigencia 2024 y se realiza la proyección de los mismos conforme a lo establecido en el numeral 4.2. Preparación de datos: uso de valores monetarios históricos de la "GUÍA DE ELABORACIÓN DE ESTUDIOS DE SECTOR - GEES" de Colombia Compra Eficiente.
A4: Que con base en lo anterior, Dirección Seccional de Adminsitración Judicial de Bogotá calculo con el valor unitario del suministro y servicios a contratar, a través de el analisis de precios histórico redondeado a la unidad mayor con cero decimales
A5: ITEM | B5: PRODUCTO (NOMBRE DEL ÍTEM) | C5: CANT | D5: VALOR HISTORIO CONTRATO 002-2024 (VALOR PRESENTE) | E5: Inflación Anual (5.22%) | F5: VALOR UNITARIO VALOR PRESENTE
D6: VR / UNITARIO SIN IVA | E6: VR / INFLACION SIN IVA | F6: VR/UNITARIO + INFLACION SIN IVA
A7: 1 | B7: Batería 12V | C7: 1 | D7: 280000 | E7: =D7*0.0522 -> 14616 | F7: =D7+E7 -> 294616
A8: 2 | B8: Unidad direccional | C8: 1 | D8: 120785 | E8: =D8*0.0522 -> 6304.977 | F8: =D8+E8 -> 127089.98
A9: 3 | B9: Unidad farola | C9: 1 | D9: 239488 | E9: =D9*0.0522 -> 12501.274 | F9: =D9+E9 -> 251989.27
A10: 4 | B10: Unidad stop | C10: 1 | D10: 177846 | E10: =D10*0.0522 -> 9283.5612 | F10: =D10+E10 -> 187129.56
A11: 5 | B11: Regulador | C11: 1 | D11: 352359 | E11: =D11*0.0522 -> 18393.14 | F11: =D11+E11 -> 370752.14
A12: 6 | B12: Bobina de alta | C12: 1 | D12: 39984 | E12: =D12*0.0522 -> 2087.1648 | F12: =D12+E12 -> 42071.165
A13: 7 | B13: Bobinas pulsadoras | C13: 1 | D13: 198254 | E13: =D13*0.0522 -> 10348.859 | F13: =D13+E13 -> 208602.86
A14: 8 | B14: Cable bujía | C14: 1 | D14: 37902 | E14: =D14*0.0522 -> 1978.4844 | F14: =D14+E14 -> 39880.484
A15: 9 | B15: Arranque | C15: 1 | D15: 1056661 | E15: =D15*0.0522 -> 55157.704 | F15: =D15+E15 -> 1111818.7
A16: 10 | B16: Telescópicos | C16: 1 | D16: 2071255 | E16: =D16*0.0522 -> 108119.51 | F16: =D16+E16 -> 2179374.5
A17: 11 | B17: Barra telescópicos | C17: 1 | D17: 320705 | E17: =D17*0.0522 -> 16740.801 | F17: =D17+E17 -> 337445.8
A18: 12 | B18: Botella telescópicos | C18: 1 | D18: 324870 | E18: =D18*0.0522 -> 16958.214 | F18: =D18+E18 -> 341828.21
... A125: 119 | B125: Cambio parrilla trasera | C125: 1 | D125: 39151 | E125: =D125*0.0522 -> 2043.6822 | F125: =D125+E125 -> 41194.682
A127: OBSERVACIONES
A128: 1. El valor unitario para cada actividad, corresponde al valor unitario adjudicado en el contrato 002- de 2024 con la empresa TECNIMOTOR REPUESTOS Y RECTIFICADORA S.A.S durante la vigencia 2024 proyectado a la vigencia 2025 teniendo en cuenta el % de inflación anual registrado para el año 2025, siguiendo los parametros establecidos en el numeral 4.2 Preparación de datos: uso de valores monetarios históricos de la "GUÍA DE ELABORACIÓN DE ESTUDIOS DE SECTOR - GEES" de Colombia Compra Eficiente.
A130: INDIRA ELISA PACHÓN SERNA
A131: COORDINADORA DEL GRUPO DE SERVICIOS ADMINISTRATIVOS
A132: PROFESIONA UNIVERSITARIO GRADO 11
