Workbook

Sheet INDEXACIÓN
B5: CONTRATO 2021-2973 | D5: FACTOR
D6: IPC 2021 | E6: 5.62
B7: GEL ANTIBACTERIAL | C7: 12666.67 | D7: IPC 2022 | E7: 13.12 | F7: =C7*(1+$E$6%)*(1+$E$7%)*(1+$E$8%)*(1+$E$9%) -> 17398.205
B8: ALCOHOL ANTISEPTICO 1000 ML | C8: 8750 | D8: IPC 2023 | E8: 9.28 | F8: =C8*(1+$E$6%)*(1+$E$7%)*(1+$E$8%)*(1+$E$9%) -> 12018.494
B9: ALCOHOL ANTISEPTICO FRASCO 350 ML | C9: 2133 | D9: IPC 2024 | E9: 5.2 | F9: =C9*(1+$E$6%)*(1+$E$7%)*(1+$E$8%)*(1+$E$9%) -> 2929.7654
B10: ALCOHOL ANTISEPTICO FRASCO 20 LITROS | C10: 122653 | F10: =C10*(1+$E$6%)*(1+$E$7%)*(1+$E$8%)*(1+$E$9%) -> 168469.06
B11: JABON ANTIBACTERIAL PARA MAN 1000 ML | C11: 7125.01 | F11: =C11*(1+$E$6%)*(1+$E$7%)*(1+$E$8%)*(1+$E$9%) -> 9786.5014
B12: LIMPIADOR DESINFECTANTE 3785 ML | C12: 37500 | F12: =C12*(1+$E$6%)*(1+$E$7%)*(1+$E$8%)*(1+$E$9%) -> 51507.83
B13: BOLSA PARA EMBALAJE DE CADA | C13: 22375 | F13: =C13*(1+$E$6%)*(1+$E$7%)*(1+$E$8%)*(1+$E$9%) -> 30733.005
B14: BOLSA PARA RIESGO BIOLOGICO 80 X 60 | C14: 466.67 | F14: =C14*(1+$E$6%)*(1+$E$7%)*(1+$E$8%)*(1+$E$9%) -> 640.99091
B15: BOLSA PARA RIESGO BIOLOGICO 60 X40 | C15: 160 | F15: =C15*(1+$E$6%)*(1+$E$7%)*(1+$E$8%)*(1+$E$9%) -> 219.76674
B16: BOLSA TRANSPARENTE CIERRE 60 X 40 | C16: 733.33 | F16: =C16*(1+$E$6%)*(1+$E$7%)*(1+$E$8%)*(1+$E$9%) -> 1007.2597
B17: BOLSA TRANSPARENTE CON CIER 35 X 23 | C17: 334 | F17: =C17*(1+$E$6%)*(1+$E$7%)*(1+$E$8%)*(1+$E$9%) -> 458.76307
B18: BOLSA TRASPARENTE 21 X 6 | C18: 66.66 | F18: =C18*(1+$E$6%)*(1+$E$7%)*(1+$E$8%)*(1+$E$9%) -> 91.560319
B19: BOLSA ALUMINIZADA | C19: 1250 | F19: =C19*(1+$E$6%)*(1+$E$7%)*(1+$E$8%)*(1+$E$9%) -> 1716.9277
B20: ROLLOS DE CINTA PARA EMBALAJ | C20: 13571.43 | F20: =C20*(1+$E$6%)*(1+$E$7%)*(1+$E$8%)*(1+$E$9%) -> 18640.931
B21: TUBO DE ENSAYO TAPA LILA | C21: 533.33 | F21: =C21*(1+$E$6%)*(1+$E$7%)*(1+$E$8%)*(1+$E$9%) -> 732.55123
... B24: AGUA ESTERIL | C24: 1375.38 | F24: =C24*(1+$E$6%)*(1+$E$7%)*(1+$E$8%)*(1+$E$9%) -> 1889.1424
B28: CONTRATO 2022-1988 | D28: FACTOR
D29: IPC 2022 | E29: 13.12
B30: BOLSA PLÁSTICA PARA EMBALAJE DE CADÁVERES- | C30: 18564 | D30: IPC 2023 | E30: 9.28 | F30: =C30*(1+$E$29%)*(1+$E$30%)*(1+$E$31%) -> 24141.674
B31: BOLSA PARA RIESGO BIOLÓGICO | C31: 495 | D31: IPC 2024 | E31: 5.2 | F31: =C31*(1+$E$29%)*(1+$E$30%)*(1+$E$31%) -> 643.72596
B32: BOLSA PARA RIESGO BIOLÓGICO- | C32: 224 | F32: =C32*(1+$E$29%)*(1+$E$30%)*(1+$E$31%) -> 291.30225
B33: BOLSA TRANSPARENTE CIERRE 60 X 40 | C33: 640 | F33: =C33*(1+$E$29%)*(1+$E$30%)*(1+$E$31%) -> 832.29215
B34: BOLSA TRANSPARENTE CON CIER 35 X 23 | C34: 336 | F34: =C34*(1+$E$29%)*(1+$E$30%)*(1+$E$31%) -> 436.95338
B35: BOLSA TRANSPARENTE CON CIER 14 X 20 | C35: 120 | F35: =C35*(1+$E$29%)*(1+$E$30%)*(1+$E$31%) -> 156.05478
B36: BOLSA TRANSPARENTE CON 21 X 6 | C36: 100 | F36: =C36*(1+$E$29%)*(1+$E$30%)*(1+$E$31%) -> 130.04565
B37: BOLSA ALUMINIZADA | C37: 1000 | F37: =C37*(1+$E$29%)*(1+$E$30%)*(1+$E$31%) -> 1300.4565
B38: TUBO DE ENSAYO TAPA LILA | C38: 486 | F38: =C38*(1+$E$29%)*(1+$E$30%)*(1+$E$31%) -> 632.02185
B39: HISOPO | C39: 1448 | F39: =C39*(1+$E$29%)*(1+$E$30%)*(1+$E$31%) -> 1883.061
B40: AGUA ESTERIL 10 ML | C40: 1250 | F40: =C40*(1+$E$29%)*(1+$E$30%)*(1+$E$31%) -> 1625.5706
B41: ALCOHOL EN GEL ANTIBACTERIAL | C41: 4641 | F41: =C41*(1+$E$29%)*(1+$E$30%)*(1+$E$31%) -> 6035.4185
B42: ENJUAGUE GERMICIDA PARA MANOS | C42: 12067 | F42: =C42*(1+$E$29%)*(1+$E$30%)*(1+$E$31%) -> 15692.608
B43: LIMPIADOR DESINFECTANTE- | C43: 57239 | F43: =C43*(1+$E$29%)*(1+$E$30%)*(1+$E$31%) -> 74436.828
... B46: ROLLO DE CINTA DE EVIDENCIA | C46: 11603 | F46: =C46*(1+$E$29%)*(1+$E$30%)*(1+$E$31%) -> 15089.197
B50: CONTRATO 2024-2677 | D50: FACTOR
D51: IPC 2024 | E51: 5.2
B52: BOLSA PARA RIESGO BIOLÓGICO | C52: 714 | F52: =C52*(1+$E$51%) -> 751.128
B53: BOLSA PARA RIESGO BIOLÓGICO | C53: 714 | F53: =C53*(1+$E$51%) -> 751.128
B54: BOLSA TRANSPARENTE CIERRE HERMÉTICO | C54: 1071 | F54: =C54*(1+$E$51%) -> 1126.692
...

Sheet PRESUPUESTO SIN DEPURAR
B2: DESCRIPCIÓN ITEM / CANTIDADES | F2: COTIZACION 1 COENT | G2: COTIZACION 2 SF INTERNATIONAL | H2: CONTRATO HISTÓRICO No. 2021-2973 INDEXADO 2025 (*) | I2: CONTRATO HISTÓRICO No. 2022-1988 INDEXADO 2025 (*) | J2: CONTRATO No. 2024-2677 INDEXADO 2025 (*) | K2: ESTADISTICOS | S2: DESVIACION ESTÁNDAR | T2: CONFIABILIDAD / PROMEDIO | W2: CONFIABILIDAD / MEDIA GEOMETRICA | Z2: MEDIA ARMÓNICA | AC2: MEDIANA | AF2: RANGO VALORES ACEPTADOS
B3: ITEM | C3: DESCRIPCIÓN | D3: UNIDAD DE MEDIDA | E3: CANTIDADES ESTIMADAS | F3: VALOR UNITARIO INCLUIDO IVA | G3: VALOR UNITARIO INCLUIDO IVA | H3: VALOR UNITARIO INCLUIDO IVA | I3: VALOR UNITARIO INCLUIDO IVA | J3: VALOR UNITARIO INCLUIDO IVA | K3: PROMEDIO (VALOR UNITARIO INCLUIDO IVA) | L3: PRESUPUESTO CON PROMEDIO | M3: MEDIA GEOMÉTRICA (VALOR UNITARIO INCLUIDO IVA) | N3: PRESUPUESTO CON MEDIA GEOMETRICA | O3: MEDIA ARMÓNICA (VALOR UNITARIO INCLUIDO IVA) | P3: PRESUPUESTO CON MEDIA ARMONICA | Q3: MEDIANA (VALOR UNITARIO INCLUIDO IVA) | R3: PRESUPUESTO CON MEDIANA | S3: DESVIACION ESTÁNDAR | T3: COEF DE VARIACIÓN | U3: MARGEN DE CONFIABILIDAD | V3: NIVEL DE CONFIABILIDAD | W3: COEF DE VARIACIÓN | X3: MARGEN DE CONFIABILIDAD | Y3: NIVEL DE CONFIABILIDAD | Z3: COEF DE VARIACIÓN | AA3: MARGEN DE CONFIABILIDAD | AB3: NIVEL DE CONFIABILIDAD | AC3: COEF DE VARIACIÓN | AD3: MARGEN DE CONFIABILIDAD | AE3: NIVEL DE CONFIABILIDAD | AF3: PISO | AG3: TECHO
B4: 1 | C4: BOLSA TRANSPARENTE CIERRE HERMÉTICO X 50 UNIDADES. - ●Material PEAD. ●Calibre mínimo 1.6 mil.●Transparente ●Cierre hermético ● ZIP LOCK. ●Alto: 60 cm. ●Ancho 40 cm. ●Presentación: entregarse en paquetes de 50 unidades | D4: Paquete X 50 | E4: 4 | F4: =45000*1.19 -> 53550 | G4: =38000*1.19 -> 45220 | H4: ='INDEXACIÓN'!F16*50 -> 50362.983 | I4: ='INDEXACIÓN'!F33*50 -> 41614.607 | J4: ='INDEXACIÓN'!F54*50 -> 56334.6 | K4: =ROUND((AVERAGE(F4,G4,H4,I4,J4)),0) -> 49416 | L4: =ROUND(K4*E4,0) -> 197664 | M4: =ROUND(GEOMEAN(F4,G4,H4,I4,J4),0) -> 49118 | N4: =+M4*E4 -> 196472 | O4: =ROUND(HARMEAN(F4,G4,H4,I4,J4),0) -> 48816 | P4: =+O4*E4 -> 195264 | Q4: =ROUND(MEDIAN(F4,G4,H4,I4,J4),0) -> 50363 | R4: =+Q4*E4 -> 201452 | S4: =ROUND(STDEVP(F4,G4,H4,I4,J4),0) -> 5373 | T4: =(S4/K4*100) -> 10.872997 | U4: =100-T4 -> 89.127003 | V4: =IF(U4>=75,"ALTO","BAJO") -> ALTO | W4: =(S4/M4*100) -> 10.938963 | X4: =100-W4 -> 89.061037 | Y4: =IF(X4>=75,"ALTO","BAJO") -> ALTO | Z4: =(S4/O4*100) -> 11.006637 | AA4: =100-Z4 -> 88.993363 | AB4: =IF(AA4>=75,"ALTO","BAJO") -> ALTO | AC4: =ROUND(S4/Q4*100,0) -> 11 | AD4: =100-AC4 -> 89 | AE4: =IF(AD4>=75,"ALTO","BAJO") -> ALTO | AF4: =K4-S4 -> 44043 | AG4: =K4+S4 -> 54789
B5: 2 | C5: BOLSA TRANSPARENTE CIERRE HERMÉTICO X -● Material PEAD. ●Calibre mínimo 1.6 mil. ●Transparente. ● Cierre hermético ●ZIP LOCK. ●Alto: 35 cm. a 36 cm. ● Ancho 23 cm. a 26 cm. ●Presentación: ●entregarse en paquetes de 50 unidades | D5: Paquete X 50 | E5: 4 | F5: =40000*1.19 -> 47600 | G5: =19000*1.19 -> 22610 | H5: ='INDEXACIÓN'!F17*50 -> 22938.154 | I5: ='INDEXACIÓN'!F34*50 -> 21847.669 | J5: ='INDEXACIÓN'!F55*50 -> 25037.6 | K5: =ROUND((AVERAGE(F5,G5,H5,I5,J5)),0) -> 28007 | L5: =ROUND(K5*E5,0) -> 112028 | M5: =ROUND(GEOMEAN(F5,G5,H5,I5,J5),0) -> 26674 | N5: =+M5*E5 -> 106696 | O5: =ROUND(HARMEAN(F5,G5,H5,I5,J5),0) -> 25701 | P5: =+O5*E5 -> 102804 | Q5: =ROUND(MEDIAN(F5,G5,H5,I5,J5),0) -> 22938 | R5: =+Q5*E5 -> 91752 | S5: =ROUND(STDEVP(F5,G5,H5,I5,J5),0) -> 9854 | T5: =(S5/K5*100) -> 35.184061 | U5: =100-T5 -> 64.815939 | V5: =IF(U5>=75,"ALTO","BAJO") -> BAJO | W5: =(S5/M5*100) -> 36.942341 | X5: =100-W5 -> 63.057659 | Y5: =IF(X5>=75,"ALTO","BAJO") -> BAJO | Z5: =(S5/O5*100) -> 38.340921 | AA5: =100-Z5 -> 61.659079 | AB5: =IF(AA5>=75,"ALTO","BAJO") -> BAJO | AC5: =(S5/Q5*100) -> 42.959282 | AD5: =100-AC5 -> 57.040718 | AE5: =IF(AD5>=75,"ALTO","BAJO") -> BAJO | AF5: =K5-S5 -> 18153 | AG5: =K5+S5 -> 37861
B6: 3 | C6: BOLSA TRANSPARENTE CIERRE HERMÉTICO- ●Material PEAD. ●Calibre mínimo 1.6 mil. ●Transparente. ●Cierre hermético ●ZIP LOCK. ●Alto: 14 cm. ● Ancho 18 cm a 20 cm. ●Presentación: entregarse en paquetes de 50 unidades. | D6: Paquete X 50 | E6: 4 | F6: =32000*1.19 -> 38080 | G6: =5000*1.19 -> 5950 | H6: No se contrató | I6: ='INDEXACIÓN'!F35*50 -> 7802.7389 | J6: ='INDEXACIÓN'!F56*50 -> 7511.28 | K6: =ROUND((AVERAGE(F6,G6,H6,I6,J6)),0) -> 14836 | L6: =ROUND(K6*E6,0) -> 59344 | M6: =ROUND(GEOMEAN(F6,G6,H6,I6,J6),0) -> 10735 | N6: =+M6*E6 -> 42940 | O6: =ROUND(HARMEAN(F6,G6,H6,I6,J6),0) -> 8779 | P6: =+O6*E6 -> 35116 | Q6: =ROUND(MEDIAN(F6,G6,H6,I6,J6),0) -> 7657 | R6: =+Q6*E6 -> 30628 | S6: =ROUND(STDEVP(F6,G6,H6,I6,J6),0) -> 13438 | T6: =(S6/K6*100) -> 90.576975 | U6: =100-T6 -> 9.4230251 | V6: =IF(U6>=75,"ALTO","BAJO") -> BAJO | W6: =(S6/M6*100) -> 125.17932 | X6: =100-W6 -> -25.17932 | Y6: =IF(X6>=75,"ALTO","BAJO") -> BAJO | Z6: =(S6/O6*100) -> 153.06983 | AA6: =100-Z6 -> -53.069826 | AB6: =IF(AA6>=75,"ALTO","BAJO") -> BAJO | AC6: =(S6/Q6*100) -> 175.49954 | AD6: =100-AC6 -> -75.499543 | AE6: =IF(AD6>=75,"ALTO","BAJO") -> BAJO | AF6: =K6-S6 -> 1398 | AG6: =K6+S6 -> 28274
B7: 4 | C7: BOLSA TRANSPARENTE- ●Material PEAD. ●Calibre mínimo 1.6 mil. ●Transparente. ●Alto: 21 cm. ● Ancho 6 cm. ● Presentación: entregarse en paquetes de 50 unidades. | D7: Paquete X 50 | E7: 42 | F7: =35000*1.19 -> 41650 | G7: =2000*1.19 -> 2380 | H7: ='INDEXACIÓN'!F18*50 -> 4578.0159 | I7: ='INDEXACIÓN'!F36*50 -> 6502.2824 | J7: ='INDEXACIÓN'!F57*50 -> 12518.8 | K7: =ROUND((AVERAGE(F7,G7,H7,I7,J7)),0) -> 13526 | L7: =ROUND(K7*E7,0) -> 568092 | M7: =ROUND(GEOMEAN(F7,G7,H7,I7,J7),0) -> 8194 | N7: =+M7*E7 -> 344148 | O7: =ROUND(HARMEAN(F7,G7,H7,I7,J7),0) -> 5579 | P7: =+O7*E7 -> 234318 | Q7: =ROUND(MEDIAN(F7,G7,H7,I7,J7),0) -> 6502 | R7: =+Q7*E7 -> 273084 | S7: =ROUND(STDEVP(F7,G7,H7,I7,J7),0) -> 14461 | T7: =(S7/K7*100) -> 106.91261 | U7: =100-T7 -> -6.9126127 | V7: =IF(U7>=75,"ALTO","BAJO") -> BAJO | W7: =(S7/M7*100) -> 176.48279 | X7: =100-W7 -> -76.482792 | Y7: =IF(X7>=75,"ALTO","BAJO") -> BAJO | Z7: =(S7/O7*100) -> 259.20416 | AA7: =100-Z7 -> -159.20416 | AB7: =IF(AA7>=75,"ALTO","BAJO") -> BAJO | AC7: =(S7/Q7*100) -> 222.40849 | AD7: =100-AC7 -> -122.40849 | AE7: =IF(AD7>=75,"ALTO","BAJO") -> BAJO | AF7: =K7-S7 -> -935 | AG7: =K7+S7 -> 27987
B8: 5 | C8: BOLSA ALUMINIZADA-●Lámina de biopolímero aluminizado termosellable. ● Que actúe como barrera contra el aire, la humedad y los rayos UV. ● Bordes laterales con mínimo 0,2 cm termosellados al alto de la bolsa. ● Borde inferior con mínimo 0,2 cm. termosellado al ancho de la bolsa. ● Borde superior abierto al ancho de la bolsa. ● Alto de espacio utilizable: 14 cm. ● Ancho de espacio utilizable: 12 cm. ● Presentación: entregarse en paquetes de 50 unidades. ●El oferente debe anexar ficha técnica del fabricante | D8: Paquete X 50 | E8: 20 | F8: =15000*1.19 -> 17850 | G8: =143000*1.19 -> 170170 | H8: ='INDEXACIÓN'!F19*50 -> 85846.383 | I8: ='INDEXACIÓN'!F37*50 -> 65022.824 | J8: ='INDEXACIÓN'!F58*50 -> 109250.2 | K8: =ROUND((AVERAGE(F8,G8,H8,I8,J8)),0) -> 89628 | L8: =ROUND(K8*E8,0) -> 1792560 | M8: =ROUND(GEOMEAN(F8,G8,H8,I8,J8),0) -> 71375 | N8: =+M8*E8 -> 1427500 | O8: =ROUND(HARMEAN(F8,G8,H8,I8,J8),0) -> 50979 | P8: =+O8*E8 -> 1019580 | Q8: =ROUND(MEDIAN(F8,G8,H8,I8,J8),0) -> 85846 | R8: =+Q8*E8 -> 1716920 | S8: =ROUND(STDEVP(F8,G8,H8,I8,J8),0) -> 50287 | T8: =(S8/K8*100) -> 56.106351 | U8: =100-T8 -> 43.893649 | V8: =IF(U8>=75,"ALTO","BAJO") -> BAJO | W8: =(S8/M8*100) -> 70.454641 | X8: =100-W8 -> 29.545359 | Y8: =IF(X8>=75,"ALTO","BAJO") -> BAJO | Z8: =(S8/O8*100) -> 98.642578 | AA8: =100-Z8 -> 1.3574217 | AB8: =IF(AA8>=75,"ALTO","BAJO") -> BAJO | AC8: =(S8/Q8*100) -> 58.578152 | AD8: =100-AC8 -> 41.421848 | AE8: =IF(AD8>=75,"ALTO","BAJO") -> BAJO | AF8: =K8-S8 -> 39341 | AG8: =K8+S8 -> 139915
B9: 6 | C9: TUBOS DE ENSAYO efecto aerosol, Tubo al vacío tapón interno de cerrado en goma inerte y cápsula exterior en polietileno inerte. Cuerpo del tubo fabricado en PET. Capacidad de 6 ml. Interior del tubo estéril. Aditivo EDTA K2 o EDTA K3. Empaque: Rack en polietileno por 25 tubos. Embalaje del rack: Caja de cartón corrugado. Rotulo. Información alfanumérica del rótulo a definir con la supervisión del contrato. El oferente debe anexar ficha técnica del fabricante. | D9: UNIDAD | E9: 100 | F9: =50000*1.19 -> 59500 | G9: =1400*1.19 -> 1666 | H9: ='INDEXACIÓN'!F21 -> 732.55123 | I9: ='INDEXACIÓN'!F38 -> 632.02185 | J9: No se contrató | K9: =ROUND((AVERAGE(F9,G9,H9,I9,J9)),0) -> 15633 | L9: =ROUND(K9*E9,0) -> 1563300 | M9: =ROUND(GEOMEAN(F9,G9,H9,I9,J9),0) -> 2603 | N9: =+M9*E9 -> 260300 | O9: =ROUND(HARMEAN(F9,G9,H9,I9,J9),0) -> 1122 | P9: =+O9*E9 -> 112200 | Q9: =ROUND(MEDIAN(F9,G9,H9,I9,J9),0) -> 1199 | R9: =+Q9*E9 -> 119900 | S9: =ROUND(STDEVP(F9,G9,H9,I9,J9),0) -> 25330 | T9: =(S9/K9*100) -> 162.02904 | U9: =100-T9 -> -62.029041 | V9: =IF(U9>=75,"ALTO","BAJO") -> BAJO | W9: =(S9/M9*100) -> 973.10795 | X9: =100-W9 -> -873.10795 | Y9: =IF(X9>=75,"ALTO","BAJO") -> BAJO | Z9: =(S9/O9*100) -> 2257.5758 | AA9: =100-Z9 -> -2157.5758 | AB9: =IF(AA9>=75,"ALTO","BAJO") -> BAJO | AC9: =(S9/Q9*100) -> 2112.5938 | AD9: =100-AC9 -> -2012.5938 | AE9: =IF(AD9>=75,"ALTO","BAJO") -> BAJO | AF9: =K9-S9 -> -9697 | AG9: =K9+S9 -> 40963
B10: 7 | C10: HISOPO- ● Hisopo de madera con punta de algodón. ● Estéril. Dimensión 150mm x 2.2mm. ● Empaque individual por cada hisopo. ● El oferente debe anexar ficha técnica del fabricante | D10: UNIDAD | E10: 100 | F10: =900*1.19 -> 1071 | G10: =3000*1.19 -> 3570 | H10: ='INDEXACIÓN'!F22 -> 3948.9336 | I10: ='INDEXACIÓN'!F39 -> 1883.061 | J10: ='INDEXACIÓN'!F60 -> 1502.256 | K10: =ROUND((AVERAGE(F10,G10,H10,I10,J10)),0) -> 2395 | L10: =ROUND(K10*E10,0) -> 239500 | M10: =ROUND(GEOMEAN(F10,G10,H10,I10,J10),0) -> 2119 | N10: =+M10*E10 -> 211900 | O10: =ROUND(HARMEAN(F10,G10,H10,I10,J10),0) -> 1877 | P10: =+O10*E10 -> 187700 | Q10: =ROUND(MEDIAN(F10,G10,H10,I10,J10),0) -> 1883 | R10: =+Q10*E10 -> 188300 | S10: =ROUND(STDEVP(F10,G10,H10,I10,J10),0) -> 1150 | T10: =(S10/K10*100) -> 48.016701 | U10: =100-T10 -> 51.983299 | V10: =IF(U10>=75,"ALTO","BAJO") -> BAJO | W10: =(S10/M10*100) -> 54.270882 | X10: =100-W10 -> 45.729118 | Y10: =IF(X10>=75,"ALTO","BAJO") -> BAJO | Z10: =(S10/O10*100) -> 61.267981 | AA10: =100-Z10 -> 38.732019 | AB10: =IF(AA10>=75,"ALTO","BAJO") -> BAJO | AC10: =(S10/Q10*100) -> 61.072756 | AD10: =100-AC10 -> 38.927244 | AE10: =IF(AD10>=75,"ALTO","BAJO") -> BAJO | AF10: =K10-S10 -> 1245 | AG10: =K10+S10 -> 3545
B11: 8 | C11: AGUA ESTÉRIL-●Agua estéril. ●En empaque plástico tipo ampolla. ●Cada unidad con capacidad mínima de 10 ml. ● El oferente debe anexar ficha técnica del fabricante. | D11: UNIDAD | E11: 100 | F11: =2000*1.19 -> 2380 | G11: =2200*1.19 -> 2618 | H11: ='INDEXACIÓN'!F23 -> 1888.6204 | I11: ='INDEXACIÓN'!F40 -> 1625.5706 | J11: ='INDEXACIÓN'!F61 -> 2503.76 | K11: =ROUND((AVERAGE(F11,G11,H11,I11,J11)),0) -> 2203 | L11: =ROUND(K11*E11,0) -> 220300 | M11: =ROUND(GEOMEAN(F11,G11,H11,I11,J11),0) -> 2168 | N11: =+M11*E11 -> 216800 | O11: =ROUND(HARMEAN(F11,G11,H11,I11,J11),0) -> 2131 | P11: =+O11*E11 -> 213100 | Q11: =ROUND(MEDIAN(F11,G11,H11,I11,J11),0) -> 2380 | R11: =+Q11*E11 -> 238000 | S11: =ROUND(STDEVP(F11,G11,H11,I11,J11),0) -> 381 | T11: =(S11/K11*100) -> 17.294598 | U11: =100-T11 -> 82.705402 | V11: =IF(U11>=75,"ALTO","BAJO") -> ALTO | W11: =(S11/M11*100) -> 17.573801 | X11: =100-W11 -> 82.426199 | Y11: =IF(X11>=75,"ALTO","BAJO") -> ALTO | Z11: =(S11/O11*100) -> 17.87893 | AA11: =100-Z11 -> 82.12107 | AB11: =IF(AA11>=75,"ALTO","BAJO") -> ALTO | AC11: =(S11/Q11*100) -> 16.008403 | AD11: =100-AC11 -> 83.991597 | AE11: =IF(AD11>=75,"ALTO","BAJO") -> ALTO | AF11: =K11-S11 -> 1822 | AG11: =K11+S11 -> 2584
B12: 9 | C12: ALCOHOL EN GEL ANTIBACTERIAL PARA MANOS- ●Que permita una acción inmediata. ●Que no requiera enjuague. ● Mínimo contenido en su presentación de 120 ml en botella plástica. ● Concentración de alcohol mínima del 70%. | D12: UNIDAD | E12: 300 | F12: =8000*1.19 -> 9520 | G12: 15470 | H12: ='INDEXACIÓN'!F7 -> 17398.205 | I12: ='INDEXACIÓN'!F41 -> 6035.4185 | J12: ='INDEXACIÓN'!F62 -> 3682 | K12: =ROUND((AVERAGE(F12,G12,H12,I12,J12)),0) -> 10421 | L12: =ROUND(K12*E12,0) -> 3126300 | M12: =ROUND(GEOMEAN(F12,G12,H12,I12,J12),0) -> 8935 | N12: =+M12*E12 -> 2680500 | O12: =ROUND(HARMEAN(F12,G12,H12,I12,J12),0) -> 7525 | P12: =+O12*E12 -> 2257500 | Q12: =ROUND(MEDIAN(F12,G12,H12,I12,J12),0) -> 9520 | R12: =+Q12*E12 -> 2856000 | S12: =ROUND(STDEVP(F12,G12,H12,I12,J12),0) -> 5285 | T12: =(S12/K12*100) -> 50.714903 | U12: =100-T12 -> 49.285097 | V12: =IF(U12>=75,"ALTO","BAJO") -> BAJO | W12: =(S12/M12*100) -> 59.149412 | X12: =100-W12 -> 40.850588 | Y12: =IF(X12>=75,"ALTO","BAJO") -> BAJO | Z12: =(S12/O12*100) -> 70.232558 | AA12: =100-Z12 -> 29.767442 | AB12: =IF(AA12>=75,"ALTO","BAJO") -> BAJO | AC12: =(S12/Q12*100) -> 55.514706 | AD12: =100-AC12 -> 44.485294 | AE12: =IF(AD12>=75,"ALTO","BAJO") -> BAJO | AF12: =K12-S12 -> 5136 | AG12: =K12+S12 -> 15706
B13: TOTAL | L13: =ROUND(SUM(L4:L12),0) -> 7879088 | N13: =SUM(N4:N12) -> 5487256 | P13: =SUM(P4:P12) -> 4357582 | R13: =SUM(R4:R12) -> 5716036 | T13: =AVERAGE(T4:T12) -> 64.189804 | U13: =100-T13 -> 35.810196 | W13: =AVERAGE(W4:W12) -> 169.34446 | X13: =100-W13 -> -69.344456 | Z13: =AVERAGE(Z4:Z12) -> 329.69104 | AA13: =100-Z13 -> -229.69104 | AC13: =AVERAGE(AC4:AC12) -> 306.18168 | AD13: =100-AC13 -> -206.18168
B14: *Para los ítems 1,2,3,4 y 5, se convierte el valor unitario histórico en paquetes de 50 unidades. | U14: =MAX(U4:U12) -> 89.127003 | X14: =MAX(X4:X12) -> 89.061037 | AA14: =MAX(AA4:AA12) -> 88.993363 | AD14: =MAX(AD4:AD12) -> 89
B15: Nota 1: Unicamente se depuran los ítems con nivel de confiabilidad Bajo. | U15: =MIN(U4:U12) -> -62.029041 | X15: =MIN(X4:X12) -> -873.10795 | AA15: =MIN(AA4:AA12) -> -2157.5758 | AD15: =MIN(AD4:AD12) -> -2012.5938
B16: Nota 2: En el contrato 2021-2973 no se adquirieron bolsas transparentes de cierre hermético.

Sheet PRIMERA DEPURACIÓN
B2: DESCRIPCIÓN ITEM / CANTIDADES | F2: COTIZACION 1 COENT | G2: COTIZACION 2 SF INTERNATIONAL | H2: CONTRATO HISTÓRICO No. 2021-2973 INDEXADO 2025 (*) | I2: CONTRATO HISTÓRICO No. 2022-1988 INDEXADO 2025 (*) | J2: CONTRATO No. 2024-2677 INDEXADO 2025 (*) | K2: ESTADISTICOS | M2: DESVIACION ESTÁNDAR | N2: CONFIABILIDAD / PROMEDIO | Q2: RANGO VALORES ACEPTADOS
B3: ITEM | C3: DESCRIPCIÓN | D3: UNIDAD DE MEDIDA | E3: CANTIDADES ESTIMADAS | F3: VALOR UNITARIO INCLUIDO IVA | G3: VALOR UNITARIO INCLUIDO IVA | H3: VALOR UNITARIO INCLUIDO IVA | I3: VALOR UNITARIO INCLUIDO IVA | J3: VALOR UNITARIO INCLUIDO IVA | K3: PROMEDIO (VALOR UNITARIO INCLUIDO IVA) | L3: PRESUPUESTO CON PROMEDIO | M3: DESVIACION ESTÁNDAR | N3: COEF DE VARIACIÓN | O3: MARGEN DE CONFIABILIDAD | P3: NIVEL DE CONFIABILIDAD | Q3: PISO | R3: TECHO
B4: 1 | C4: BOLSA TRANSPARENTE CIERRE HERMÉTICO X 50 UNIDADES. - ●Material PEAD. ●Calibre mínimo 1.6 mil.●Transparente ●Cierre hermético ● ZIP LOCK. ●Alto: 60 cm. ●Ancho 40 cm. ●Presentación: entregarse en paquetes de 50 unidades | D4: Paquete X 50 | E4: 4 | F4: =45000*1.19 -> 53550 | G4: =38000*1.19 -> 45220 | H4: ='INDEXACIÓN'!F16*50 -> 50362.983 | I4: ='INDEXACIÓN'!F33*50 -> 41614.607 | J4: ='INDEXACIÓN'!F54*50 -> 56334.6 | K4: =ROUND((AVERAGE(F4,G4,H4,I4,J4)),0) -> 49416 | L4: =ROUND(K4*E4,0) -> 197664 | M4: =ROUND(STDEVP(F4,G4,H4,I4,J4),0) -> 5373 | N4: =(M4/K4*100) -> 10.872997 | O4: =100-N4 -> 89.127003 | P4: =IF(O4>=75,"ALTO","BAJO") -> ALTO | Q4: =K4-M4 -> 44043 | R4: =K4+M4 -> 54789
B5: 2 | C5: BOLSA TRANSPARENTE CIERRE HERMÉTICO X -● Material PEAD. ●Calibre mínimo 1.6 mil. ●Transparente. ● Cierre hermético ●ZIP LOCK. ●Alto: 35 cm. a 36 cm. ● Ancho 23 cm. a 26 cm. ●Presentación: ●entregarse en paquetes de 50 unidades | D5: Paquete X 50 | E5: 4 | G5: =19000*1.19 -> 22610 | H5: ='INDEXACIÓN'!F17*50 -> 22938.154 | I5: ='INDEXACIÓN'!F34*50 -> 21847.669 | J5: ='INDEXACIÓN'!F55*50 -> 25037.6 | K5: =ROUND((AVERAGE(F5,G5,H5,I5,J5)),0) -> 23108 | L5: =ROUND(K5*E5,0) -> 92432 | M5: =ROUND(STDEVP(F5,G5,H5,I5,J5),0) -> 1182 | N5: =(M5/K5*100) -> 5.1151117 | O5: =100-N5 -> 94.884888 | P5: =IF(O5>=75,"ALTO","BAJO") -> ALTO | Q5: =K5-M5 -> 21926 | R5: =K5+M5 -> 24290
B6: 3 | C6: BOLSA TRANSPARENTE CIERRE HERMÉTICO- ●Material PEAD. ●Calibre mínimo 1.6 mil. ●Transparente. ●Cierre hermético ●ZIP LOCK. ●Alto: 14 cm. ● Ancho 18 cm a 20 cm. ●Presentación: entregarse en paquetes de 50 unidades. | D6: Paquete X 50 | E6: 4 | G6: =5000*1.19 -> 5950 | I6: ='INDEXACIÓN'!F35*50 -> 7802.7389 | J6: ='INDEXACIÓN'!F56*50 -> 7511.28 | K6: =ROUND((AVERAGE(F6,G6,H6,I6,J6)),0) -> 7088 | L6: =ROUND(K6*E6,0) -> 28352 | M6: =ROUND(STDEVP(F6,G6,H6,I6,J6),0) -> 813 | N6: =(M6/K6*100) -> 11.47009 | O6: =100-N6 -> 88.52991 | P6: =IF(O6>=75,"ALTO","BAJO") -> ALTO | Q6: =K6-M6 -> 6275 | R6: =K6+M6 -> 7901
B7: 4 | C7: BOLSA TRANSPARENTE- ●Material PEAD. ●Calibre mínimo 1.6 mil. ●Transparente. ●Alto: 21 cm. ● Ancho 6 cm. ● Presentación: entregarse en paquetes de 50 unidades. | D7: Paquete X 50 | E7: 42 | G7: =2000*1.19 -> 2380 | H7: ='INDEXACIÓN'!F18*50 -> 4578.0159 | I7: ='INDEXACIÓN'!F36*50 -> 6502.2824 | J7: ='INDEXACIÓN'!F57*50 -> 12518.8 | K7: =ROUND((AVERAGE(F7,G7,H7,I7,J7)),0) -> 6495 | L7: =ROUND(K7*E7,0) -> 272790 | M7: =ROUND(STDEVP(F7,G7,H7,I7,J7),0) -> 3771 | N7: =(M7/K7*100) -> 58.060046 | O7: =100-N7 -> 41.939954 | P7: =IF(O7>=75,"ALTO","BAJO") -> BAJO | Q7: =K7-M7 -> 2724 | R7: =K7+M7 -> 10266
B8: 5 | C8: BOLSA ALUMINIZADA-●Lámina de biopolímero aluminizado termosellable. ● Que actúe como barrera contra el aire, la humedad y los rayos UV. ● Bordes laterales con mínimo 0,2 cm termosellados al alto de la bolsa. ● Borde inferior con mínimo 0,2 cm. termosellado al ancho de la bolsa. ● Borde superior abierto al ancho de la bolsa. ● Alto de espacio utilizable: 14 cm. ● Ancho de espacio utilizable: 12 cm. ● Presentación: entregarse en paquetes de 50 unidades. ●El oferente debe anexar ficha técnica del fabricante | D8: Paquete X 50 | E8: 20 | H8: ='INDEXACIÓN'!F19*50 -> 85846.383 | I8: ='INDEXACIÓN'!F37*50 -> 65022.824 | J8: ='INDEXACIÓN'!F58*50 -> 109250.2 | K8: =ROUND((AVERAGE(F8,G8,H8,I8,J8)),0) -> 86706 | L8: =ROUND(K8*E8,0) -> 1734120 | M8: =ROUND(STDEVP(F8,G8,H8,I8,J8),0) -> 18066 | N8: =(M8/K8*100) -> 20.835928 | O8: =100-N8 -> 79.164072 | P8: =IF(O8>=75,"ALTO","BAJO") -> ALTO | Q8: =K8-M8 -> 68640 | R8: =K8+M8 -> 104772
B9: 6 | C9: TUBOS DE ENSAYO efecto aerosol, Tubo al vacío tapón interno de cerrado en goma inerte y cápsula exterior en polietileno inerte. Cuerpo del tubo fabricado en PET. Capacidad de 6 ml. Interior del tubo estéril. Aditivo EDTA K2 o EDTA K3. Empaque: Rack en polietileno por 25 tubos. Embalaje del rack: Caja de cartón corrugado. Rotulo. Información alfanumérica del rótulo a definir con la supervisión del contrato. El oferente debe anexar ficha técnica del fabricante. | D9: UNIDAD | E9: 100 | G9: =1400*1.19 -> 1666 | H9: ='INDEXACIÓN'!F21 -> 732.55123 | I9: ='INDEXACIÓN'!F38 -> 632.02185 | K9: =ROUND((AVERAGE(F9,G9,H9,I9,J9)),0) -> 1010 | L9: =ROUND(K9*E9,0) -> 101000 | M9: =ROUND(STDEVP(F9,G9,H9,I9,J9),0) -> 466 | N9: =(M9/K9*100) -> 46.138614 | O9: =100-N9 -> 53.861386 | P9: =IF(O9>=75,"ALTO","BAJO") -> BAJO | Q9: =K9-M9 -> 544 | R9: =K9+M9 -> 1476
B10: 7 | C10: HISOPO- ● Hisopo de madera con punta de algodón. ● Estéril. Dimensión 150mm x 2.2mm. ● Empaque individual por cada hisopo. ● El oferente debe anexar ficha técnica del fabricante | D10: UNIDAD | E10: 100 | I10: ='INDEXACIÓN'!F39 -> 1883.061 | J10: ='INDEXACIÓN'!F60 -> 1502.256 | K10: =ROUND((AVERAGE(F10,G10,H10,I10,J10)),0) -> 1693 | L10: =ROUND(K10*E10,0) -> 169300 | M10: =ROUND(STDEVP(F10,G10,H10,I10,J10),0) -> 190 | N10: =(M10/K10*100) -> 11.222682 | O10: =100-N10 -> 88.777318 | P10: =IF(O10>=75,"ALTO","BAJO") -> ALTO | Q10: =K10-M10 -> 1503 | R10: =K10+M10 -> 1883
B11: 8 | C11: AGUA ESTÉRIL-●Agua estéril. ●En empaque plástico tipo ampolla. ●Cada unidad con capacidad mínima de 10 ml. ● El oferente debe anexar ficha técnica del fabricante. | D11: UNIDAD | E11: 100 | F11: =2000*1.19 -> 2380 | G11: =2200*1.19 -> 2618 | H11: ='INDEXACIÓN'!F23 -> 1888.6204 | I11: ='INDEXACIÓN'!F40 -> 1625.5706 | J11: ='INDEXACIÓN'!F61 -> 2503.76 | K11: =ROUND((AVERAGE(F11,G11,H11,I11,J11)),0) -> 2203 | L11: =ROUND(K11*E11,0) -> 220300 | M11: =ROUND(STDEVP(F11,G11,H11,I11,J11),0) -> 381 | N11: =(M11/K11*100) -> 17.294598 | O11: =100-N11 -> 82.705402 | P11: =IF(O11>=75,"ALTO","BAJO") -> ALTO | Q11: =K11-M11 -> 1822 | R11: =K11+M11 -> 2584
B12: 9 | C12: ALCOHOL EN GEL ANTIBACTERIAL PARA MANOS- ●Que permita una acción inmediata. ●Que no requiera enjuague. ● Mínimo contenido en su presentación de 120 ml en botella plástica. ● Concentración de alcohol mínima del 70%. | D12: UNIDAD | E12: 300 | F12: =8000*1.19 -> 9520 | G12: 15470 | I12: ='INDEXACIÓN'!F41 -> 6035.4185 | K12: =ROUND((AVERAGE(F12,G12,H12,I12,J12)),0) -> 10342 | L12: =ROUND(K12*E12,0) -> 3102600 | M12: =ROUND(STDEVP(F12,G12,H12,I12,J12),0) -> 3895 | N12: =(M12/K12*100) -> 37.661961 | O12: =100-N12 -> 62.338039 | P12: =IF(O12>=75,"ALTO","BAJO") -> BAJO | Q12: =K12-M12 -> 6447 | R12: =K12+M12 -> 14237
B13: TOTAL | L13: =ROUND(SUM(L4:L12),0) -> 5918558 | N13: =AVERAGE(N4:N12) -> 24.296892 | O13: =100-N13 -> 75.703108
B14: *Para los ítems 1,2,3,4 y 5, se convierte el valor unitario histórico por la presentación en paquetes de 50 unidades. | O14: =MAX(O4:O12) -> 94.884888
B15: Nota 1: Unicamente se depuran los ítems con nivel de confiabilidad Bajo. | O15: =MIN(O4:O12) -> 41.939954

Sheet SEGUNDA DEPURACIÓN
B2: DESCRIPCIÓN ITEM / CANTIDADES | F2: COTIZACION 1 COENT | G2: COTIZACION 2 SF INTERNATIONAL | H2: CONTRATO HISTÓRICO No. 2021-2973 INDEXADO 2025 (*) | I2: CONTRATO HISTÓRICO No. 2022-1988 INDEXADO 2025 (*) | J2: CONTRATO No. 2024-2677 INDEXADO 2025 (*) | K2: ESTADISTICOS | M2: DESVIACION ESTÁNDAR | N2: CONFIABILIDAD / PROMEDIO
B3: ITEM | C3: DESCRIPCIÓN | D3: UNIDAD DE MEDIDA | E3: CANTIDADES ESTIMADAS | F3: VALOR UNITARIO INCLUIDO IVA | G3: VALOR UNITARIO INCLUIDO IVA | H3: VALOR UNITARIO INCLUIDO IVA | I3: VALOR UNITARIO INCLUIDO IVA | J3: VALOR UNITARIO INCLUIDO IVA | K3: PROMEDIO (VALOR UNITARIO INCLUIDO IVA) | L3: PRESUPUESTO CON PROMEDIO | M3: DESVIACION ESTÁNDAR | N3: COEF DE VARIACIÓN | O3: MARGEN DE CONFIABILIDAD | P3: NIVEL DE CONFIABILIDAD
B4: 1 | C4: BOLSA TRANSPARENTE CIERRE HERMÉTICO X 50 UNIDADES. - ●Material PEAD. ●Calibre mínimo 1.6 mil.●Transparente ●Cierre hermético ● ZIP LOCK. ●Alto: 60 cm. ●Ancho 40 cm. ●Presentación: entregarse en paquetes de 50 unidades | D4: Paquete X 50 | E4: 4 | F4: =45000*1.19 -> 53550 | G4: =38000*1.19 -> 45220 | H4: ='INDEXACIÓN'!F16*50 -> 50362.983 | I4: ='INDEXACIÓN'!F33*50 -> 41614.607 | J4: ='INDEXACIÓN'!F54*50 -> 56334.6 | K4: =ROUND((AVERAGE(F4,G4,H4,I4,J4)),0) -> 49416 | L4: =ROUND(K4*E4,0) -> 197664 | M4: =ROUND(STDEVP(F4,G4,H4,I4,J4),0) -> 5373 | N4: =(M4/K4*100) -> 10.872997 | O4: =100-N4 -> 89.127003 | P4: =IF(O4>=75,"ALTO","BAJO") -> ALTO
B5: 2 | C5: BOLSA TRANSPARENTE CIERRE HERMÉTICO X -● Material PEAD. ●Calibre mínimo 1.6 mil. ●Transparente. ● Cierre hermético ●ZIP LOCK. ●Alto: 35 cm. a 36 cm. ● Ancho 23 cm. a 26 cm. ●Presentación: ●entregarse en paquetes de 50 unidades | D5: Paquete X 50 | E5: 4 | G5: =19000*1.19 -> 22610 | H5: ='INDEXACIÓN'!F17*50 -> 22938.154 | I5: ='INDEXACIÓN'!F34*50 -> 21847.669 | J5: ='INDEXACIÓN'!F55*50 -> 25037.6 | K5: =ROUND((AVERAGE(F5,G5,H5,I5,J5)),0) -> 23108 | L5: =ROUND(K5*E5,0) -> 92432 | M5: =ROUND(STDEVP(F5,G5,H5,I5,J5),0) -> 1182 | N5: =(M5/K5*100) -> 5.1151117 | O5: =100-N5 -> 94.884888 | P5: =IF(O5>=75,"ALTO","BAJO") -> ALTO
B6: 3 | C6: BOLSA TRANSPARENTE CIERRE HERMÉTICO- ●Material PEAD. ●Calibre mínimo 1.6 mil. ●Transparente. ●Cierre hermético ●ZIP LOCK. ●Alto: 14 cm. ● Ancho 18 cm a 20 cm. ●Presentación: entregarse en paquetes de 50 unidades. | D6: Paquete X 50 | E6: 4 | G6: =5000*1.19 -> 5950 | I6: ='INDEXACIÓN'!F35*50 -> 7802.7389 | J6: ='INDEXACIÓN'!F56*50 -> 7511.28 | K6: =ROUND((AVERAGE(F6,G6,H6,I6,J6)),0) -> 7088 | L6: =ROUND(K6*E6,0) -> 28352 | M6: =ROUND(STDEVP(F6,G6,H6,I6,J6),0) -> 813 | N6: =(M6/K6*100) -> 11.47009 | O6: =100-N6 -> 88.52991 | P6: =IF(O6>=75,"ALTO","BAJO") -> ALTO
B7: 4 | C7: BOLSA TRANSPARENTE- ●Material PEAD. ●Calibre mínimo 1.6 mil. ●Transparente. ●Alto: 21 cm. ● Ancho 6 cm. ● Presentación: entregarse en paquetes de 50 unidades. | D7: Paquete X 50 | E7: 42 | H7: ='INDEXACIÓN'!F18*50 -> 4578.0159 | I7: ='INDEXACIÓN'!F36*50 -> 6502.2824 | K7: =ROUND((AVERAGE(F7,G7,H7,I7,J7)),0) -> 5540 | L7: =ROUND(K7*E7,0) -> 232680 | M7: =ROUND(STDEVP(F7,G7,H7,I7,J7),0) -> 962 | N7: =(M7/K7*100) -> 17.364621 | O7: =100-N7 -> 82.635379 | P7: =IF(O7>=75,"ALTO","BAJO") -> ALTO
B8: 5 | C8: BOLSA ALUMINIZADA-●Lámina de biopolímero aluminizado termosellable. ● Que actúe como barrera contra el aire, la humedad y los rayos UV. ● Bordes laterales con mínimo 0,2 cm termosellados al alto de la bolsa. ● Borde inferior con mínimo 0,2 cm. termosellado al ancho de la bolsa. ● Borde superior abierto al ancho de la bolsa. ● Alto de espacio utilizable: 14 cm. ● Ancho de espacio utilizable: 12 cm. ● Presentación: entregarse en paquetes de 50 unidades. ●El oferente debe anexar ficha técnica del fabricante | D8: Paquete X 50 | E8: 20 | H8: ='INDEXACIÓN'!F19*50 -> 85846.383 | I8: ='INDEXACIÓN'!F37*50 -> 65022.824 | J8: ='INDEXACIÓN'!F58*50 -> 109250.2 | K8: =ROUND((AVERAGE(F8,G8,H8,I8,J8)),0) -> 86706 | L8: =ROUND(K8*E8,0) -> 1734120 | M8: =ROUND(STDEVP(F8,G8,H8,I8,J8),0) -> 18066 | N8: =(M8/K8*100) -> 20.835928 | O8: =100-N8 -> 79.164072 | P8: =IF(O8>=75,"ALTO","BAJO") -> ALTO
B9: 6 | C9: TUBOS DE ENSAYO efecto aerosol, Tubo al vacío tapón interno de cerrado en goma inerte y cápsula exterior en polietileno inerte. Cuerpo del tubo fabricado en PET. Capacidad de 6 ml. Interior del tubo estéril. Aditivo EDTA K2 o EDTA K3. Empaque: Rack en polietileno por 25 tubos. Embalaje del rack: Caja de cartón corrugado. Rotulo. Información alfanumérica del rótulo a definir con la supervisión del contrato. El oferente debe anexar ficha técnica del fabricante. | D9: UNIDAD | E9: 100 | H9: ='INDEXACIÓN'!F21 -> 732.55123 | I9: ='INDEXACIÓN'!F38 -> 632.02185 | K9: =ROUND((AVERAGE(F9,G9,H9,I9,J9)),0) -> 682 | L9: =ROUND(K9*E9,0) -> 68200 | M9: =ROUND(STDEVP(F9,G9,H9,I9,J9),0) -> 50 | N9: =(M9/K9*100) -> 7.3313783 | O9: =100-N9 -> 92.668622 | P9: =IF(O9>=75,"ALTO","BAJO") -> ALTO
B10: 7 | C10: HISOPO- ● Hisopo de madera con punta de algodón. ● Estéril. Dimensión 150mm x 2.2mm. ● Empaque individual por cada hisopo. ● El oferente debe anexar ficha técnica del fabricante | D10: UNIDAD | E10: 100 | I10: ='INDEXACIÓN'!F39 -> 1883.061 | J10: ='INDEXACIÓN'!F60 -> 1502.256 | K10: =ROUND((AVERAGE(F10,G10,H10,I10,J10)),0) -> 1693 | L10: =ROUND(K10*E10,0) -> 169300 | M10: =ROUND(STDEVP(F10,G10,H10,I10,J10),0) -> 190 | N10: =(M10/K10*100) -> 11.222682 | O10: =100-N10 -> 88.777318 | P10: =IF(O10>=75,"ALTO","BAJO") -> ALTO
B11: 8 | C11: AGUA ESTÉRIL-●Agua estéril. ●En empaque plástico tipo ampolla. ●Cada unidad con capacidad mínima de 10 ml. ● El oferente debe anexar ficha técnica del fabricante. | D11: UNIDAD | E11: 100 | F11: =2000*1.19 -> 2380 | G11: =2200*1.19 -> 2618 | H11: ='INDEXACIÓN'!F23 -> 1888.6204 | I11: ='INDEXACIÓN'!F40 -> 1625.5706 | J11: ='INDEXACIÓN'!F61 -> 2503.76 | K11: =ROUND((AVERAGE(F11,G11,H11,I11,J11)),0) -> 2203 | L11: =ROUND(K11*E11,0) -> 220300 | M11: =ROUND(STDEVP(F11,G11,H11,I11,J11),0) -> 381 | N11: =(M11/K11*100) -> 17.294598 | O11: =100-N11 -> 82.705402 | P11: =IF(O11>=75,"ALTO","BAJO") -> ALTO
B12: 9 | C12: ALCOHOL EN GEL ANTIBACTERIAL PARA MANOS- ●Que permita una acción inmediata. ●Que no requiera enjuague. ● Mínimo contenido en su presentación de 120 ml en botella plástica. ● Concentración de alcohol mínima del 70%. | D12: UNIDAD | E12: 300 | F12: =8000*1.19 -> 9520 | K12: =ROUND((AVERAGE(F12,G12,H12,I12,J12)),0) -> 9520 | L12: =ROUND(K12*E12,0) -> 2856000 | M12: =ROUND(STDEVP(F12,G12,H12,I12,J12),0) -> 0 | N12: =(M12/K12*100) -> 0 | O12: =100-N12 -> 100 | P12: =IF(O12>=75,"ALTO","BAJO") -> ALTO
B13: TOTAL | L13: =ROUND(SUM(L4:L12),0) -> 5599048 | N13: =AVERAGE(N4:N12) -> 11.278601 | O13: =100-N13 -> 88.721399
B14: *Para los ítems 1,2,3,4 y 5, se convierte el valor unitario histórico por la presentación en paquetes de 50 unidades. | O14: =MAX(O4:O12) -> 100
B15: Nota 1: Unicamente se depuran los ítems con nivel de confiabilidad Bajo. | O15: =MIN(O4:O12) -> 79.164072

Sheet PRESUPUESTO OFICIAL
B2: ITEM | C2: DESCRIPCIÓN | D2: ='PRESUPUESTO SIN DEPURAR'!D3 -> UNIDAD DE MEDIDA | E2: CANTIDADES ESTIMADAS | F2: PRECIO TECHO UNITARIO DE REFERENCIA (VALOR UNITARIO INCLUIDO IVA) | G2: VALOR TOTAL (INCLUIDO IVA)
B3: 1 | C3: ='PRESUPUESTO SIN DEPURAR'!C4 -> BOLSA TRANSPARENTE CIERRE HERMÉTICO X 50 UNIDADES. - ●Material PEAD. ●Calibre mínimo 1.6 mil.●Transparente ●Cierre hermético ● ZIP LOCK. ●Alto: 60 cm. ●Ancho 40 cm. ●Presentación: entregarse en paquetes de 50 unidades | D3: ='PRESUPUESTO SIN DEPURAR'!D4 -> Paquete X 50 | E3: ='PRESUPUESTO SIN DEPURAR'!E4 -> 4 | F3: ='SEGUNDA DEPURACIÓN'!K4 -> 49416 | G3: =E3*F3 -> 197664
B4: 2 | C4: ='PRESUPUESTO SIN DEPURAR'!C5 -> BOLSA TRANSPARENTE CIERRE HERMÉTICO X -● Material PEAD. ●Calibre mínimo 1.6 mil. ●Transparente. ● Cierre hermético ●ZIP LOCK. ●Alto: 35 cm. a 36 cm. ● Ancho 23 cm. a 26 cm. ●Presentación: ●entregarse en paquetes de 50 unidades | D4: ='PRESUPUESTO SIN DEPURAR'!D5 -> Paquete X 50 | E4: ='PRESUPUESTO SIN DEPURAR'!E5 -> 4 | F4: ='SEGUNDA DEPURACIÓN'!K5 -> 23108 | G4: =E4*F4 -> 92432
B5: 3 | C5: ='PRESUPUESTO SIN DEPURAR'!C6 -> BOLSA TRANSPARENTE CIERRE HERMÉTICO- ●Material PEAD. ●Calibre mínimo 1.6 mil. ●Transparente. ●Cierre hermético ●ZIP LOCK. ●Alto: 14 cm. ● Ancho 18 cm a 20 cm. ●Presentación: entregarse en paquetes de 50 unidades. | D5: ='PRESUPUESTO SIN DEPURAR'!D6 -> Paquete X 50 | E5: ='PRESUPUESTO SIN DEPURAR'!E6 -> 4 | F5: ='SEGUNDA DEPURACIÓN'!K6 -> 7088 | G5: =E5*F5 -> 28352
B6: 4 | C6: ='PRESUPUESTO SIN DEPURAR'!C7 -> BOLSA TRANSPARENTE- ●Material PEAD. ●Calibre mínimo 1.6 mil. ●Transparente. ●Alto: 21 cm. ● Ancho 6 cm. ● Presentación: entregarse en paquetes de 50 unidades. | D6: ='PRESUPUESTO SIN DEPURAR'!D7 -> Paquete X 50 | E6: ='PRESUPUESTO SIN DEPURAR'!E7 -> 42 | F6: ='SEGUNDA DEPURACIÓN'!K7 -> 5540 | G6: =E6*F6 -> 232680
B7: 5 | C7: ='PRESUPUESTO SIN DEPURAR'!C8 -> BOLSA ALUMINIZADA-●Lámina de biopolímero aluminizado termosellable. ● Que actúe como barrera contra el aire, la humedad y los rayos UV. ● Bordes laterales con mínimo 0,2 cm termosellados al alto de la bolsa. ● Borde inferior con mínimo 0,2 cm. termosellado al ancho de la bolsa. ● Borde superior abierto al ancho de la bolsa. ● Alto de espacio utilizable: 14 cm. ● Ancho de espacio utilizable: 12 cm. ● Presentación: entregarse en paquetes de 50 unidades. ●El oferente debe anexar ficha técnica del fabricante | D7: ='PRESUPUESTO SIN DEPURAR'!D8 -> Paquete X 50 | E7: ='PRESUPUESTO SIN DEPURAR'!E8 -> 20 | F7: ='SEGUNDA DEPURACIÓN'!K8 -> 86706 | G7: =E7*F7 -> 1734120
B8: 6 | C8: ='PRESUPUESTO SIN DEPURAR'!C9 -> TUBOS DE ENSAYO efecto aerosol, Tubo al vacío tapón interno de cerrado en goma inerte y cápsula exterior en polietileno inerte. Cuerpo del tubo fabricado en PET. Capacidad de 6 ml. Interior del tubo estéril. Aditivo EDTA K2 o EDTA K3. Empaque: Rack en polietileno por 25 tubos. Embalaje del rack: Caja de cartón corrugado. Rotulo. Información alfanumérica del rótulo a definir con la supervisión del contrato. El oferente debe anexar ficha técnica del fabricante. | D8: ='PRESUPUESTO SIN DEPURAR'!D9 -> UNIDAD | E8: ='PRESUPUESTO SIN DEPURAR'!E9 -> 100 | F8: ='SEGUNDA DEPURACIÓN'!K9 -> 682 | G8: =E8*F8 -> 68200
B9: 7 | C9: ='PRESUPUESTO SIN DEPURAR'!C10 -> HISOPO- ● Hisopo de madera con punta de algodón. ● Estéril. Dimensión 150mm x 2.2mm. ● Empaque individual por cada hisopo. ● El oferente debe anexar ficha técnica del fabricante | D9: ='PRESUPUESTO SIN DEPURAR'!D10 -> UNIDAD | E9: ='PRESUPUESTO SIN DEPURAR'!E10 -> 100 | F9: ='SEGUNDA DEPURACIÓN'!K10 -> 1693 | G9: =E9*F9 -> 169300
B10: 8 | C10: ='PRESUPUESTO SIN DEPURAR'!C11 -> AGUA ESTÉRIL-●Agua estéril. ●En empaque plástico tipo ampolla. ●Cada unidad con capacidad mínima de 10 ml. ● El oferente debe anexar ficha técnica del fabricante. | D10: ='PRESUPUESTO SIN DEPURAR'!D11 -> UNIDAD | E10: ='PRESUPUESTO SIN DEPURAR'!E11 -> 100 | F10: ='SEGUNDA DEPURACIÓN'!K11 -> 2203 | G10: =E10*F10 -> 220300
B11: 9 | C11: ='PRESUPUESTO SIN DEPURAR'!C12 -> ALCOHOL EN GEL ANTIBACTERIAL PARA MANOS- ●Que permita una acción inmediata. ●Que no requiera enjuague. ● Mínimo contenido en su presentación de 120 ml en botella plástica. ● Concentración de alcohol mínima del 70%. | D11: ='PRESUPUESTO SIN DEPURAR'!D12 -> UNIDAD | E11: ='PRESUPUESTO SIN DEPURAR'!E12 -> 300 | F11: ='SEGUNDA DEPURACIÓN'!K12 -> 9520 | G11: =E11*F11 -> 2856000
B12: VALOR TOTAL INCLUIDO IVA | G12: =SUM(G3:G11) -> 5599048
