Workbook
Name Administración_del_Sistema_de_Gestión_de_Calidad: Hoja2!#REF!
Name Administración_del_Sistema_de_Gestión_de_Calidad: #REF!
Name Administración_del_Sistema_de_Gestión_de_Calidad: #REF!
Name Administración_del_Sistema_de_Gestión_de_Calidad: #REF!
Name Administrativa: Hoja2!#REF!
Name Administrativa: #REF!
Name Administrativa: #REF!
Name Administrativa: #REF!
Name AMAZONAS: #REF!
Name ANTIOQUIA: #REF!
Name Año: #REF!
Name ARAUCA: #REF!
Name Asuntos_Legales_y_Publicos: Hoja2!#REF!
Name Asuntos_Legales_y_Publicos: #REF!
Name Asuntos_Legales_y_Publicos: #REF!
Name Asuntos_Legales_y_Publicos: #REF!
Name Atención_al_Ciudadano: Hoja2!#REF!
Name Atención_al_Ciudadano: #REF!
Name Atención_al_Ciudadano: #REF!
Name Atención_al_Ciudadano: #REF!
Name ATLANTICO: #REF!
Name Bienes_y_Servicios: Hoja2!#REF!
Name Bienes_y_Servicios: #REF!
Name Bienes_y_Servicios: #REF!
Name Bienes_y_Servicios: #REF!
Name BOGOTA_D.C.: #REF!
Name BOLIVAR: #REF!
Name BOYACA: #REF!
Name CALDAS: #REF!
Name Calidad_Educativa: Hoja2!#REF!
Name Calidad_Educativa: #REF!
Name Calidad_Educativa: #REF!
Name Calidad_Educativa: #REF!
Name CAQUETA: #REF!
Name CASANARE: #REF!
Name CAUCA: #REF!
Name CESAR: #REF!
Name CHOCO: #REF!
Name Cobertura: Hoja2!#REF!
Name Cobertura: #REF!
Name Cobertura: #REF!
Name Cobertura: #REF!
Name Comunicaciones: Hoja2!#REF!
Name Comunicaciones: #REF!
Name Comunicaciones: #REF!
Name Comunicaciones: #REF!
Name Control_Interno_de_Gestión: Hoja2!#REF!
Name Control_Interno_de_Gestión: #REF!
Name Control_Interno_de_Gestión: #REF!
Name Control_Interno_de_Gestión: #REF!
Name Control_Interno_Disciplinario: Hoja2!#REF!
Name Control_Interno_Disciplinario: #REF!
Name Control_Interno_Disciplinario: #REF!
Name Control_Interno_Disciplinario: #REF!
Name CORDOBA: #REF!
Name CUNDINAMARCA: #REF!
Name DEPARTAMENTOS: #REF!
Name DEPEN: Hoja2!$D$3:$D$13
Name DEPEN: #REF!
Name DEPEN: #REF!

Sheet Hoja2
B2: MACROPROCESOS | D2: DEPENDENCIA
B3: Gestión Estrategica | D3: Despacho
B4: Programas y Proyectos | D4: Planeación
B5: Gestión de Cobertura | D5: Jurídica
B6: Gestión de Calidad Educativa | D6: Calidad Educativa
B7: Atención al Ciudadano | D7: Inspección y Vigilancia
B8: Inspección y Vigilancia EE | D8: Control Interno Disciplinario
B9: Gestión de Comunicaciones | D9: Cobertura
B10: Gestión del Talento Humano | D10: Talento Humano
B11: Bienes y Servicios | D11: Administrativa
B12: Gestión Financiera | D12: Financiera
B13: Control Interno de Gestión | D13: Comunicaciones
B14: Gestión de Tecnologías de la Información
B15: Asuntos Legales y Publicos
B16: Administración del Sistema de Gestión de Calidad

Sheet Lista de Verificación Juríd (2)
E3: Formato N01.01.F03 Versión 3.0
B6: REQUISITOS DEL SISTEMA DE GESTIÓN DE CALIDAD
B7: REQUISITOS DE GESTIÓN | C7: PREGUNTA/ASPECTO A EVALUAR
B8: Establecer e implementar un procedimiento documentado que defina los controles necesarios para: a. Aprobar los documentos en cuanto a su adecuación antes de su emisión; b. Revisar y actualizar los documentos cuando sea necesario y aprobarlos nuevamente; c. Asegurarse que se identifican los cambios y el estado de revisión actual de los documentos; d. Asegurarse que las versiones pertinentes de los documentos aplicables se encuentran disponibles en los puntos de uso; e. Asegurarse que los documentos permanecen legibles y fácilmente identificables; f. Asegurarse que se identifican los documentos de origen externo y se controla su distribución, y g. Prevenir el uso no intencionado de documentos obsoletos, y aplicarles una identificación adecuada en el caso de que se mantengan por cualquier razón. | C8: 1 | D8: ¿Se evidencia el manual de procesos y procedimientos actualizado?
C9: 2 | D9: ¿Se evidencia que las versiones pertinentes de los documentos aplicables se encuentran disponibles en los puntos de uso de acuerdo al procedimiento de control de documentos?
B10: a. Establecer e implementar un procedimiento documentado para definir los controles necesarios para la recibo, organización, la identificación, el almacenamiento, la protección, la recuperación, el tiempo de retención y disposición de los registros, acorde con las disposiciones legales vigentes sobre la materia. b. Los registros deben establecerse y mantenerse para proporcionar evidencia de la conformidad con los requisitos, así como la operación eficaz de los requisitos de gestión de la calidad. Los registros deben permanecer legibles, fácilmente identificables y recuperables. c. La entidad debe establecer y conservar registros que suministren evidencia que el servicio ha sido controlado de acuerdo con los procedimientos documentados aplicables. Estos registros deben mostrar claramente si el producto ha sido conforme | C10: 3 | D10: ¿Se evidencia la implementación del procedimiento Control de Registros?
C11: 4 | D11: ¿Se evidencia que la documentación de la SE se identifica y controla de acuerdo las disposiciones legales que les sean aplicables sobre el control de los documentos (por ejemplo la Ley 594 de 2000)?
C12: 5 | D12: ¿Se evidencia la implementación de las tablas de retención documental aprobadas por la SE, en los documentos de los procesos a Certificar o ya Certificados?
C13: 6 | D13: ¿Se observa que los registros que proporcionan evidencia de la conformidad con los requisitos se identifican, encuentran legibles y se pueden recuperar en caso de requerirlo?
B14: La dirección de la entidad debe proporcionar evidencia de su compromiso con el desarrollo e implementación de los requisitos de gestión de la calidad, mediante: a. La comunicación a los servidores públicos y/o particulares que ejerzan funciones pública de la entidad acerca de la importancia de satisfacer tanto los requisitos del cliente como los legales b. La determinación de la política de la calidad c. La seguridad que se establecen los objetivos de la calidad d. La realización de las revisiones por la dirección e. El aseguramiento de la disponibilidad de recursos f. Aumentar la satisfacción del cliente mediante el cumplimiento de sus requisitos | C14: 7 | D14: ¿Se evidencia conocimiento y apropiación de la politica y objetivos de calidad?
B15: La entidad debe asegurarse que el producto y/o servicio adquirido para la realización del proceso cumple los requisitos especificados en los pliegos de condiciones, términos de referencia o en las disposiciones aplicables y debe establecer e implementar la inspección u otras actividades necesarias para lograr esto. La entidad debe evaluar y seleccionar a los proveedores con base en una selección objetiva y en función de su capacidad para suministrar productos y/o servicios de acuerdo con los requisitos definidos previamente por la entidad. Deben establecerse los criterios para la selección, la evaluación y la re-evaluación de los proveedores. Deben mantenerse los registros de los resultados de las evaluaciones y de cualquier acción necesaria derivada de estas. | C15: 8 | D15: ¿Se evidencia el seguimiento y/o verificación que realiza el proceso a las contrataciones que lo afectan directa o indirectamemente?
B16: La entidad debe evaluar y seleccionar a los proveedores con base en una selección objetiva y en función de su capacidad para suministrar productos y/o servicios de acuerdo con los requisitos definidos previamente por la entidad. Deben establecerse los criterios para la selección, la evaluación y la re-evaluación de los proveedores. Deben mantenerse los registros de los resultados de las evaluaciones y de cualquier acción necesaria derivada de estas. | C16: 9 | D16: ¿Se evidencia que existe una correcta selección y evaluación de los proveedores para la satisfacción de los requisitos del proceso?
C17: 10 | D17: ¿Se evidencia la definición de criterios para la selección, evaluación y la re-evaluación de los proveedores de bienes y servicios que afectan directamente los requisitos del proceso? Nota: Terminos de referencia
B18: La entidad debe medir y hacer un seguimiento de las características del proceso para verificar que se cumplen los requisitos del presente Documento de Especificaciones Técnicas y debe demostrar su cumplimiento, para tal fin, la entidad debe aplicar procedimientos documentados. La entidad debe mantener evidencia de la conformidad con los criterios de aceptación. Los registros deben indicar la(s) persona(s) que autoriza(n) la realización del proceso. | C18: 11 | D18: ¿Se evidencia la periodicidad en la medición de los indicadores?
C19: 12 | D19: ¿Se realiza informe de análisis de los indicadores?
C20: 13 | D20: ¿Se evidencia la presentación del informe al comité Directivo o Secretario de Educación?
C21: 14 | D21: ¿Se evidencian las acciones derivadas producto de los informes presentados Comité Directivo o Secretario de Educación?
B22: La entidad debe asegurar que el producto que no sea conforme con los requisitos, se identifica. Los controles, las responsabilidades y autoridades relacionadas con el tratamiento del producto no conforme deben estar definidos en un procedimiento documentado. Cuando se detecta un producto no conforme después de la entrega, la entidad debe tomar las acciones apropiadas respecto a los efectos, o efectos potenciales, de la no conformidad | C22: 15 | D22: ¿Se evidencia implementación del procedimiento de producto no conforme?
B23: La entidad debe determinar acciones para eliminar las causas de no conformidades potenciales para prevenir su ocurrencia. Las acciones preventivas deben ser apropiadas a los efectos de los problemas potenciales. Debe establecerse un procedimiento documentado que defina los requisitos para: a. determinar las no conformidades potenciales y sus causas, b. evaluar la necesidad de actuar para prevenir la ocurrencia de no conformidades, c. determinar e implementar las acciones necesarias, d. registrar los resultados de las acciones tomadas , y e. revisar la eficacia de las acciones preventivas tomadas | C23: 16 | D23: ¿Se evidencia la implementación del procedimiento de acciones preventivas?
B24: La entidad debe tomar acciones para eliminar la causa de no conformidades con objeto de prevenir que vuelvan a ocurrir. Las acciones correctivas deben ser apropiadas a los efectos de las no conformidades encontradas. Se debe establecer un procedimiento documentado para definir los requisitos para: a. Revisar las no conformidades b. Determinar las causas de las no conformidades c. Evaluar la necesidad de adoptar acciones para asegurarse de que las no conformidades no vuelvan a ocurrir, d. Determinar e implementar las acciones necesarias, e. Registrar los resultados de las acciones tomadas, y f. Revisar las acciones correctivas tomadas. | C24: 17 | D24: ¿Se evidencia la implementación del procedimiento de acciones correctivas?
B25: La entidad debe aplicar y mantener actualizados procedimientos documentados para la recepción y tratamiento de las quejas de los clientes sobre el proceso. Debe existir evidencia con relación al tratamiento dado a la queja. Se debe mantener un registro numerado consecutivamente de las quejas de sus clientes, así como del tratamiento dado a las mismas. | C25: 18 | D25: ¿Se evidencia tratamiento adecuado a las quejas?
B26: La entidad debe llevar a cabo, a intervalos planificados, auditorías internas para determinar si se ha implementado y se mantiene de manera eficaz, eficiente y efectiva las presentes especificaciones técnicas. Se debe establecer un procedimiento documentado para definir las responsabilidades y los requisitos para planificar y realizar las auditorías, establecer los registros e informar de los resultados. Deben mantenerse registros de las auditorías y sus resultados Se debe planificar un programa de auditorías internas tomando en consideración el estado y la importancia de los procesos por auditar, así como los resultados de auditorías previas. Se deben definir los criterios de la auditoría interna, su alcance, su frecuencia y metodología. La selección de los auditores y la realización de las auditorías internas deben asegurar la objetividad e imparcialidad del proceso de auditoría. Los auditores no deben auditar su propio trabajo. El responsable del proceso que esté siendo auditado debe asegurarse de que se realizan las correcciones y se toman las acciones correctivas necesarias sin demora injustificada para eliminar las no conformidades detectadas y sus causas. Las actividades de seguimiento deben incluir la verificación de las acciones tomadas y el informe de los resultados de la verificación | C26: 19 | D26: ¿Se evidencia la elaboración de los planes de acción resultado de los hallazgos encontrados en las Auditorías Internas del SGC de la SE?
B27: REQUISITOS DEL MACROPROCESO M - ASUNTOS LEGALES Y PÚBLICOS
B28: REQUISITOS DE GESTIÓN | D28: PREGUNTA/ASPECTO A EVALUAR
B29: 1. Trámitar acciones judiciales y litigios Se debe optimizar la representación de la Secretaría de Educación en los procesos judiciales y extrajudiciales en los que se vea involucrado a favor o en contra, dentro de los términos legales estipulados por la normatividad nacional, en favor de los intereses del Estado. Este proceso inicia con la recepción de solicitudes, convocatorias y notificaciones de acciones judiciales, finaliza con la generación de reportes y la verificación del cumplimiento de los fallos, y cubre el trámite de respuestas a derechos de petición, el estudio y análisis de conciliaciones extrajudiciales, la contestación y presentación de acciones judiciales y el archivo de las respectivas copias. | C29: 1 | D29: ¿Se atienden dentro de los términos legales las acciones de carácter judicial o extrajudicial como por ejemplo derechos de petición y otras solicitudes, que la comunidad en general remite a la Secretaría de Educación?
C30: 2 | D30: ¿El funcionario designado de la dependencia solicita por medio de comunicación escrita o correo electrónico a la dependencia competente, información para dar respuesta a la solicitud? Debe remitir la solicitud dentro de los términos legales estipulados para dicha actividad a partir de la fecha de su recibo.
C31: 3 | D31: ¿El funcionario designado de la dependencia que proyecta la respuesta revisa las condiciones y estado del documento la respuesta a la petición instaurada, para garantizar que se encuentre proyectada bajo los lineamientos de las normativa nacional y acorde con la jurisprudencia de las Altas Cortes, realizando las siguientes revisiones? • La respuesta esté dirigida al peticionario indicando el número de radicado. • La dirección debe corresponder a la registrada en la petición. • La respuesta debe ser de fondo, clara y precisa, resolviendo la inquietud del ciudadano, así no sea una respuesta positiva sus intereses. • Si en la respuesta se citan normas deben trascribirse los apartes correspondientes o adjuntar el texto. • Si la respuesta es parcial, esta debe indicar cuando se dará respuesta definitiva. • La respuesta debe ir firmada por del encargado del área que la proyecta. • Cuando las peticiones han recibido respuesta y llegan al área se debe conservar una copia en archivo. • La respuesta, debe encontrarse dentro de los términos de tiempo indicados.
C32: 4 | D32: ¿Cuando no es posible resolver o contestar la petición en el plazo establecido, el funcionario designado de la dependencia de la SE informa al interesado los motivos de la demora y señala a la vez la fecha en que se resolverá o dará respuesta de fondo y tal como se hizo la solicitud o petición (oral o escrita)?
C33: 5 | D33: ¿El área de atención al ciudadano incluye dentro del informe de atención al ciudadano, el nivel de respuesta a los derechos de petición que fueron radicados a las áreas de la SE con el fin de tomar las acciones correctivas y mejoras pertinentes?
B34: 1.1 Conciliaciones extrajudiciales Se deben desarrollar mecanisdos de solución de conflictos previstos por la ley, proceso que inicia con la recepción y asignación de la solicitud o convocación a conciliación; finaliza con la verificación del cumplimiento de los acuerdos de conciliación o el cumplimiento de los acuerdos, sí es aprobada la conciliación; contempla el estudio y análisis de la conciliación, convocatoria a conciliación y la realización del proceso conciliatorio. | C34: 6 | D34: ¿Se utilizan mecanismos de solución de conflictos, previsto por la Ley, para llegar a acuerdos que eviten litigios entre terceros y la Secretaría de Educación?
C35: 7 | D35: ¿Una vez recibida la solicitud de conciliación, la oficina Jurídica verifica hechos, pruebas y pretensiones analizando el caso motivo de la conciliación, si requiere de recolección de soportes los solicita por medio de oficio o correo electrónico a las diferentes áreas de la SE?
C36: 8 | D36: ¿Se mantiene actualizado en el formato M02.02.F01 Control de seguimiento a solicitudes área jurídica?
B37: 1.1 Conciliaciones extrajudiciales Se deben desarrollar mecanisdos de solución de conflictos previstos por la ley, proceso que inicia con la recepción y asignación de la solicitud o convocación a conciliación; finaliza con la verificación del cumplimiento de los acuerdos de conciliación o el cumplimiento de los acuerdos, sí es aprobada la conciliación; contempla el estudio y análisis de la conciliación, convocatoria a conciliación y la realización del proceso conciliatorio. | C37: 9 | D37: ¿De acuerdo a la información obtenida la oficina Jurídica prepara el estudio jurídico, técnico y económico y pasa a despacho para su aprobación? El estudio, según el caso, debe contener como mínimo: • Aspectos generales (información de las partes como nombres, direcciones, datos del ente conciliador). • Descripción de los hechos. • Posición de la SE respecto a la conciliación desde el punto de vista técnico, económico y jurídico.
C38: 10 | D38: ¿De acuerdo a la fecha establecida en la citación, la oficina Jurídica asiste a la audiencia de conciliación, con el poder conferido para ello y el argumento previamente preparado de la SE?
B39: 1.1 Conciliaciones extrajudiciales Se deben desarrollar mecanisdos de solución de conflictos previstos por la ley, proceso que inicia con la recepción y asignación de la solicitud o convocación a conciliación; finaliza con la verificación del cumplimiento de los acuerdos de conciliación o el cumplimiento de los acuerdos, sí es aprobada la conciliación; contempla el estudio y análisis de la conciliación, convocatoria a conciliación y la realización del proceso conciliatorio. | C39: 11 | D39: ¿Quien está al frente del proceso conciliatorio se encarga de vigilar que se dé cumplimiento a los acuerdos que son responsabilidad de la SE dentro de los términos estipulados para el caso?
C40: 12 | D40: ¿Se informa a despacho los compromisos a cumplir, para que el despacho ordene el cumplimiento de dicho acuerdo a las áreas respectivas?
C41: 13 | D41: ¿Una vez que se ha dado cumplimiento a los acuerdos se informa al despacho y a las autoridades pertinentes el cumplimiento de los mismos por medio de oficio?
C42: 14 | D42: ¿Se verifica los acuerdos de conciliación y las acciones a ejecutar en cumplimiento del acuerdo dentro de los términos estipulados para el caso?
B43: 1.2 Tramitar acciones judiciales Se deben atender los asuntos de carácter judicial como administrativos, laborales, civiles, acciones de tutela; acciones populares; acciones de cumplimiento y acciones de grupo, entre otros; a favor o en contra de la SE, y responder por el cumplimiento oportuno del fallo conforme a los términos legales. Este subproceso inicia con la recepción de la notificación o la identificación de necesidades para tramitar una acción judicial; finaliza con el seguimiento al cumplimiento del fallo y el cierre del proceso; contempla el traslado de la acción judicial, el estudio, el análisis, la contestación de la acción judicial y la interposición de recurso de apelación cuando se amerite. | C43: 15 | D43: ¿Se elabora la contestación de la demanda o genera la acción judicial a interponer mediante documento. Actos administrativos o comunicaciones escritas cuando aplique ya que cuando se presenta una acción judicial se hace mediante demanda, acción de tutela u otro como aplique de acuerdo a lo establecido en el Código Contencioso Administrativo, argumentándola, interpone excepciones, aporta y solicita pruebas y elabora demanda de reconvención cuando procede?
C44: 16 | D44: ¿Se revisa la contestación de la acción judicial que se va a presentar o la acción judicial a interponer, teniendo en cuenta los lineamientos normativos legales?
...

Sheet Lista de Verificación
B2: LISTA DE VERIFICACIÓN AUDITORÍA INTERNA OFICINA DE CONTROL INTERNO
B3: SECRETARÍA | C3: DEPENDENCIA | D3: PROCESO | E3: RESPONSABLE | F3: CARGO
D4: ALMACÉN
B5: FECHA DE LA AUDITORÍA | C5: AUDITOR LÍDER | D5: EQUIPO AUDITOR | E5: OBJETIVO DE LA AUDITORIA
B7: REQUISITOS DE GESTIÓN DEL PROCESO
B8: PROCEDIMIENTO | C8: ACTIVIDAD | D8: DESCRIPCIÓN | E8: ESTADO | F8: EVIDENCIA
B9: INVENTARIO DE BIENES | C9: Planeación de inventarios | D9: Inicia con la planeación y programación de los inventarios a realizar de bienes en bodega y/o en servicio. En esta actividad se debe establecer si el inventario es general o de forma selectiva de igual manera se establecerá el cronograma de actividades, lo mismo que la cualificación y cuantificación de los recursos necesarios para la realización del inventario. | E9: CUMPLE
B10: INVENTARIO DE BIENES | C10: Verificación física | D10: En la fecha programada se lleva a cabo la verificación física de bienes con base en la relación previa de bienes asignados a los funcionarios responsables que reposa en el archivo del almacén municipal. Se establece que las características de los bienes sean acordes a cuando se asignaron. | E10: OBSERVACIÓN | F10: se debe hacer mediente acta
B11: INVENTARIO DE BIENES | C11: Acta de observaciones | D11: Si existe concordancia con el inventario se dejará constancia en el acta de Inventario. Si se evidencia sobrantes se relacionan los bienes en el acta con la descripción (estado, valor y cantidad), y dichos bienes se codificarán (etiqueta) para su identificación los cuales deben ser incorporados al sistema del programa de inventarios generando un comprobante de entrada y posteriormente una asignación. Si se evidencia faltante en la verificación, se dejará constancia en el acta dando la observación que amerite y se realizará la denuncia en el tiempo pertinente ante la Dirección de apoyo, control disciplinario y entes de control. En todos los casos el acta deberá ser firmada por el almacenista y el funcionario responsable de los bienes. | E11: NO CUMPLE
B12: INVENTARIO DE BIENES | C12: Archivar | D12: La copia original del acta la guardará en los archivos del almacén municipal y se entregará un acta al responsable de los bienes que se inventariaron. | E12: NO CUMPLE
B13: ENTRADA ALMACÉN | C13: Verificación de los documentos necesarios para realizar el ingreso de los bienes | D13: Inicia con la verificación de los documentos de soporte, establecidos en el formato para lista de chequeo de contratos, como son: •Contrato (minuta) •Copia de la factura •Nombramiento de Interventor •Acta de Inicio •ficha técnica de Sistemas para el caso de equipos de cómputo y sus accesorios, impresoras video beam y/o retroproyectores. Cuando se trata de bienes muebles se solicitará la copia de la escritura y copia del avalúo catastral. | E13: CUMPLE
B14: ENTRADA ALMACÉN | C14: Verificación integral de los bienes | D14: Se Verifica las condiciones de los bienes entregados en cuanto a cantidad, calidad, Características, especificaciones, precios y Condiciones físicas. | E14: CUMPLE
B15: ENTRADA ALMACÉN | C15: Devolución con observaciones | D15: Si no cumple alguna de las características establecidas, se diligencia en el formato la casilla de observaciones y se comunica al responsable y/o interventor con el fin de que tramite las soluciones pertinentes; entre tanto no se dé solución a las diferencias encontradas, el responsable del Almacén No recibirá los bienes. | E15: CUMPLE
B16: ENTRADA ALMACÉN | C16: Ingreso de información del bien al sistema | D16: Si cumple con las condiciones se adelanta el ingreso de la información del bien mueble, inmuebles o insumos al inventario: Para lo cual se crean los elementos en el sistema con la descripción de cada uno de ellos | E16: CUMPLE
B17: ENTRADA ALMACÉN | C17: Registro especificaciones | D17: Se ingresa cada elemento en la entrada de almacén digitando descripción del elemento, precio y cantidad de acuerdo a las especificaciones del contrato, En el caso de parque automotor se debe especificar (motocicletas, vehículos, maquinaria) las marcas, las series, las placas. | E17: CUMPLE
B18: ENTRADA ALMACÉN | C18: Recepción de bienes | D18: Se imprime la entrada de almacén, Si alguna especificación de la entrada de almacén quedo errada se debe anular toda de entrada de almacén y volver a iniciar el proceso de registro de los elementos a la entrada de almacén Si esta correcto se recepciona los bienes en la bodega o almacén | E18: CUMPLE
B19: ENTRADA ALMACÉN | C19: Entrega provisional | D19: Cuando los bienes adquiridos no se recepcionan en las bodegas del Almacén Municipal, sino que se reciban instalados en otra Entidad, por seguridad, se elabora una Acta provisional, entre el empleado de la personeria, el Interventor del contrato, el contratista y el funcionario de la Entidad a quien se van a asignar los bienes, mientras se formaliza el correspondiente comodato y la asignación de los bienes | E19: OBSERVACIÓN
B20: ENTRADA ALMACÉN | C20: Archivo de documentos | D20: Se entrega el original del documento de ENTRADA DE ALMACÉN al proveedor o contratista y la copia se archiva en la carpeta de los consecutivos de ENTRADAS DE ALMACÉN | E20: CUMPLE
B21: ENTRADA ALMACÉN | C21: Almacenamiento | D21: Se almacenan los bienes siguiendo las recomendaciones y técnicas de almacenaje | E21: CUMPLE
B22: SALIDA DE ALMACÉN | C22: Recepcionar el requerimiento | D22: De elementos de consumo y devolutivos: para estos últimos se debe detallar a quien se asigna el elemento. Consignar en control para los efectos: la fecha, la dependencia o Despacho origen del requerimiento y solicitante. Designar el empleado responsable del documento de salida correspondiente en el aplicativo de almacén | E22: CUMPLE
... B35: BAJA DEL INVENTARIIO DE BIENES | C35: Descarga de inventario | D35: Agotado el proceso de baja se procederá a efectuar los registros correspondientes (tanto de contabilidad como del software de almacén, con base en la copia del acto administrativo que ordenó la baja). | E35: OBSERVACIÓN

Sheet Informe de Auditoría
B2: INFORME DE AUDITORÍA INTERNA OFICINA DE CONTROL INTERNO
B3: DEPENDENCIA | D3: PROCESO | F3: RESPONSABLE | G3: CARGO
B4: ='Lista de Verificación'!C4 -> 0 | D4: ='Lista de Verificación'!D4 -> ALMACÉN | F4: ='Lista de Verificación'!E4 -> 0 | G4: ='Lista de Verificación'!F4 -> 0
B5: FECHA DE LA AUDITORÍA | D5: EQUIPO AUDITOR | F5: OBJETIVO DE LA AUDITORIA
B6: ='Lista de Verificación'!B6 -> 0 | D6: ='Lista de Verificación'!D6 -> 0 | F6: ='Lista de Verificación'!E6:F6 -> 0
B7: RESULTADOS DE LA AUDITORÍA INTERNA
B8: ESTADO | D8: # | E8: %
C9: CUMPLIMIENTOS | D9: =COUNTIF('Lista de Verificación'!E9:E35,"CUMPLE") -> 13 | E9: =D9/D12 -> 0.48148148
C10: OBSERVACIONES | D10: =COUNTIF('Lista de Verificación'!E9:E35,"OBSERVACIÓN") -> 11 | E10: =D10/D12 -> 0.40740741
C11: INCUMPLIMIENTOS | D11: =COUNTIF('Lista de Verificación'!E9:E35,"NO CUMPLE") -> 3 | E11: =D11/D12 -> 0.11111111
B12: TOTAL CRITERIOS | D12: =SUM(D9:D11) -> 27 | E12: =SUM(E9:E11) -> 1
B13: DESCRIPCIÓN DE RESULTADOS DE AUDITORÍA
B15: OPORTUNIDADES DE MEJORA | F15: FORTALEZAS
B17: CONCLUSIONES DE LA AUDITORÍA
B20: FIRMA DEL AUDITOR LÍDER | F20: FIRMA DEL LÍDER DEL PROCESO

Sheet Plan de Mejoramiento
B2: PLAN DE MEJORAMIENTO AUDITORÍA INTERNA
B3: SECRETARÍA | D3: DEPENDENCIA | E3: PROCESO | G3: RESPOSABLE | H3: AUDITOR LÍDER | J3: RESPONSABLE DEL SEGUIMIENTO | L3: FECHA DE ELABORACIÓN | N3: FECHA DE APROBACIÓN
B4: ='Lista de Verificación'!B4 -> 0 | D4: ='Lista de Verificación'!C4 -> 0 | E4: ='Lista de Verificación'!D4 -> ALMACÉN | G4: ='Lista de Verificación'!E4 -> 0 | H4: ='Lista de Verificación'!C6 -> 0
B5: ESTADO | C5: PROCEDIMIENTO | D5: ACTIVIDAD | E5: DESCRIPCIÓN | G5: ACCIÓN DE MEJORAMIENTO | H5: EVIDENCIA O UNIDAD DE MEDIDA | I5: FECHA DE INICIO | J5: FECHA DE CUMPLIMIENTO | K5: DÍAS QUE FALTAN PARA CUMPLIR | L5: SEGUIMIENTO
L6: ESTADO | M6: % DE VANCE | N6: OBSERVACIONES | O6: FECHA DE ACTUALIZACIÓN
A7: =TODAY() -> 45821 | B7: ='Lista de Verificación'!E9 -> CUMPLE | C7: ='Lista de Verificación'!B9 -> INVENTARIO DE BIENES | D7: ='Lista de Verificación'!C9 -> Planeación de inventarios | E7: ='Lista de Verificación'!D9 -> Inicia con la planeación y programación de los inventarios a realizar de bienes en bodega y/o en servicio. En esta actividad se debe establecer si el inventario es general o de forma selectiva de igual manera se establecerá el cronograma de actividades, lo mismo que la cualificación y cuantificación de los recursos necesarios para la realización del inventario. | K7: =J7-A7 -> -45821
A8: =TODAY() -> 45821 | B8: ='Lista de Verificación'!E10 -> OBSERVACIÓN | C8: ='Lista de Verificación'!B10 -> INVENTARIO DE BIENES | D8: ='Lista de Verificación'!C10 -> Verificación física | E8: ='Lista de Verificación'!D10 -> En la fecha programada se lleva a cabo la verificación física de bienes con base en la relación previa de bienes asignados a los funcionarios responsables que reposa en el archivo del almacén municipal. Se establece que las características de los bienes sean acordes a cuando se asignaron. | G8: Adelantar revisión de bienes para ser incorporados al inventario general de la administyración, respondiendo a los procedimientos legales establecidos para tal ejericio. | H8: Inventario debidamente actualizado Bienes rotulados | I8: 45929 | J8: 46022
A9: =TODAY() -> 45821 | B9: ='Lista de Verificación'!E11 -> NO CUMPLE | C9: ='Lista de Verificación'!B11 -> INVENTARIO DE BIENES | D9: ='Lista de Verificación'!C11 -> Acta de observaciones | E9: ='Lista de Verificación'!D11 -> Si existe concordancia con el inventario se dejará constancia en el acta de Inventario. Si se evidencia sobrantes se relacionan los bienes en el acta con la descripción (estado, valor y cantidad), y dichos bienes se codificarán (etiqueta) para su identificación los cuales deben ser incorporados al sistema del programa de inventarios generando un comprobante de entrada y posteriormente una asignación. Si se evidencia faltante en la verificación, se dejará constancia en el acta dando la observación que amerite y se realizará la denuncia en el tiempo pertinente ante la Dirección de apoyo, control disciplinario y entes de control. En todos los casos el acta deberá ser firmada por el almacenista y el funcionario responsable de los bienes.
A10: =TODAY() -> 45821 | B10: ='Lista de Verificación'!E12 -> NO CUMPLE | C10: ='Lista de Verificación'!B12 -> INVENTARIO DE BIENES | D10: ='Lista de Verificación'!C12 -> Archivar | E10: ='Lista de Verificación'!D12 -> La copia original del acta la guardará en los archivos del almacén municipal y se entregará un acta al responsable de los bienes que se inventariaron.
A11: =TODAY() -> 45821 | B11: ='Lista de Verificación'!E13 -> CUMPLE | C11: ='Lista de Verificación'!B13 -> ENTRADA ALMACÉN | D11: ='Lista de Verificación'!C13 -> Verificación de los documentos necesarios para realizar el ingreso de los bienes | E11: ='Lista de Verificación'!D13 -> Inicia con la verificación de los documentos de soporte, establecidos en el formato para lista de chequeo de contratos, como son: •Contrato (minuta) •Copia de la factura •Nombramiento de Interventor •Acta de Inicio •ficha técnica de Sistemas para el caso de equipos de cómputo y sus accesorios, impresoras video beam y/o retroproyectores. Cuando se trata de bienes muebles se solicitará la copia de la escritura y copia del avalúo catastral.
A12: =TODAY() -> 45821 | B12: ='Lista de Verificación'!E14 -> CUMPLE | C12: ='Lista de Verificación'!B14 -> ENTRADA ALMACÉN | D12: ='Lista de Verificación'!C14 -> Verificación integral de los bienes | E12: ='Lista de Verificación'!D14 -> Se Verifica las condiciones de los bienes entregados en cuanto a cantidad, calidad, Características, especificaciones, precios y Condiciones físicas.
A13: =TODAY() -> 45821 | B13: ='Lista de Verificación'!E15 -> CUMPLE | C13: ='Lista de Verificación'!B15 -> ENTRADA ALMACÉN | D13: ='Lista de Verificación'!C15 -> Devolución con observaciones | E13: ='Lista de Verificación'!D15 -> Si no cumple alguna de las características establecidas, se diligencia en el formato la casilla de observaciones y se comunica al responsable y/o interventor con el fin de que tramite las soluciones pertinentes; entre tanto no se dé solución a las diferencias encontradas, el responsable del Almacén No recibirá los bienes.
A14: =TODAY() -> 45821 | B14: ='Lista de Verificación'!E16 -> CUMPLE | C14: ='Lista de Verificación'!B16 -> ENTRADA ALMACÉN | D14: ='Lista de Verificación'!C16 -> Ingreso de información del bien al sistema | E14: ='Lista de Verificación'!D16 -> Si cumple con las condiciones se adelanta el ingreso de la información del bien mueble, inmuebles o insumos al inventario: Para lo cual se crean los elementos en el sistema con la descripción de cada uno de ellos
A15: =TODAY() -> 45821 | B15: ='Lista de Verificación'!E17 -> CUMPLE | C15: ='Lista de Verificación'!B17 -> ENTRADA ALMACÉN | D15: ='Lista de Verificación'!C17 -> Registro especificaciones | E15: ='Lista de Verificación'!D17 -> Se ingresa cada elemento en la entrada de almacén digitando descripción del elemento, precio y cantidad de acuerdo a las especificaciones del contrato, En el caso de parque automotor se debe especificar (motocicletas, vehículos, maquinaria) las marcas, las series, las placas.
A16: =TODAY() -> 45821 | B16: ='Lista de Verificación'!E18 -> CUMPLE | C16: ='Lista de Verificación'!B18 -> ENTRADA ALMACÉN | D16: ='Lista de Verificación'!C18 -> Recepción de bienes | E16: ='Lista de Verificación'!D18 -> Se imprime la entrada de almacén, Si alguna especificación de la entrada de almacén quedo errada se debe anular toda de entrada de almacén y volver a iniciar el proceso de registro de los elementos a la entrada de almacén Si esta correcto se recepciona los bienes en la bodega o almacén
A17: =TODAY() -> 45821 | B17: ='Lista de Verificación'!E19 -> OBSERVACIÓN | C17: ='Lista de Verificación'!B19 -> ENTRADA ALMACÉN | D17: ='Lista de Verificación'!C19 -> Entrega provisional | E17: ='Lista de Verificación'!D19 -> Cuando los bienes adquiridos no se recepcionan en las bodegas del Almacén Municipal, sino que se reciban instalados en otra Entidad, por seguridad, se elabora una Acta provisional, entre el empleado de la personeria, el Interventor del contrato, el contratista y el funcionario de la Entidad a quien se van a asignar los bienes, mientras se formaliza el correspondiente comodato y la asignación de los bienes
A18: =TODAY() -> 45821 | B18: ='Lista de Verificación'!E20 -> CUMPLE | C18: ='Lista de Verificación'!B20 -> ENTRADA ALMACÉN | D18: ='Lista de Verificación'!C20 -> Archivo de documentos | E18: ='Lista de Verificación'!D20 -> Se entrega el original del documento de ENTRADA DE ALMACÉN al proveedor o contratista y la copia se archiva en la carpeta de los consecutivos de ENTRADAS DE ALMACÉN
A19: =TODAY() -> 45821 | B19: ='Lista de Verificación'!E21 -> CUMPLE | C19: ='Lista de Verificación'!B21 -> ENTRADA ALMACÉN | D19: ='Lista de Verificación'!C21 -> Almacenamiento | E19: ='Lista de Verificación'!D21 -> Se almacenan los bienes siguiendo las recomendaciones y técnicas de almacenaje
A20: =TODAY() -> 45821 | B20: ='Lista de Verificación'!E22 -> CUMPLE | C20: ='Lista de Verificación'!B22 -> SALIDA DE ALMACÉN | D20: ='Lista de Verificación'!C22 -> Recepcionar el requerimiento | E20: ='Lista de Verificación'!D22 -> De elementos de consumo y devolutivos: para estos últimos se debe detallar a quien se asigna el elemento. Consignar en control para los efectos: la fecha, la dependencia o Despacho origen del requerimiento y solicitante. Designar el empleado responsable del documento de salida correspondiente en el aplicativo de almacén
... A23: =TODAY() -> 45821 | B23: ='Lista de Verificación'!E25 -> CUMPLE | C23: ='Lista de Verificación'!B25 -> SALIDA DE ALMACÉN | D23: ='Lista de Verificación'!C25 -> Entregar los elementos y bienes en las dependencia y despachos | E23: ='Lista de Verificación'!D25 -> Hacer la entrega física de los elementos y bienes al solicitante, hacer firmar el documento de salida del responsable de los elementos
A24: =TODAY() -> 45821 | B24: ='Lista de Verificación'!E26 -> NO CUMPLE | C24: ='Lista de Verificación'!B26 -> SALIDA DE ALMACÉN | D24: ='Lista de Verificación'!C26 -> Archivo documentación | E24: ='Lista de Verificación'!D26 -> Se hace el archivo respectivo de conformidad con las series de la tabla de retención correspondiente a los documentos de salida recibidos | G24: implementar las gestion documental en la entidad | I24: 45776 | J24: 46022
A25: =TODAY() -> 45821 | B25: ='Lista de Verificación'!E27 -> OBSERVACIÓN | C25: ='Lista de Verificación'!B27 -> BAJA DEL INVENTARIIO DE BIENES | D25: ='Lista de Verificación'!C27 -> Devoluciones de bienes a bodega acompañada de concepto | E25: ='Lista de Verificación'!D27 -> El funcionario responsable del bien que se va a dar de baja, puede realizar la devolución del elemento a la bodega del Almacén Municipal, diligenciando el formato (Formato acta devolución de elementos a Bodega). Si los bienes son equipos de cómputo, vehículo, Motocicletas o maquinaria pesada, el formato debe acompañarse de concepto técnico que determine con certeza el grado de utilidad que tiene el bien.
A26: =TODAY() -> 45821 | B26: ='Lista de Verificación'!E28 -> OBSERVACIÓN | C26: ='Lista de Verificación'!B28 -> BAJA DEL INVENTARIIO DE BIENES | D26: ='Lista de Verificación'!C28 -> Reasignación | E26: ='Lista de Verificación'!D28 -> Una vez se hayan recibidos los bienes, se verifica su estado, para determinar si se reasigna o por el contrario se da de baja. Seleccionados los bienes para reasignar se procederá a relacionar en el formato- acta reasignación de elementos devolutivos
A27: =TODAY() -> 45821 | B27: ='Lista de Verificación'!E29 -> OBSERVACIÓN | C27: ='Lista de Verificación'!B29 -> BAJA DEL INVENTARIIO DE BIENES | D27: ='Lista de Verificación'!C29 -> Selección de bajas | E27: ='Lista de Verificación'!D29 -> Seleccionados los bienes para dar de baja se procederá a relacionar en el formato de elementos devolutivos para dar de baja.
A28: =TODAY() -> 45821 | B28: ='Lista de Verificación'!E30 -> OBSERVACIÓN | C28: ='Lista de Verificación'!B30 -> BAJA DEL INVENTARIIO DE BIENES | D28: ='Lista de Verificación'!C30 -> Emisión de informe | E28: ='Lista de Verificación'!D30 -> El responsable del almacén, al momento de reunir una cantidad representativa de bienes o en el periodo que determine la entidad, emitirá un informe al superior inmediato de la necesidad de poner a consideración la realización de una baja de bienes. Este estudio y análisis deberá incluir detalles pormenorizados que permitan al ordenador del gasto, evaluar cualitativa y cuantitativamente la relación costo – beneficio para tomar la decisión correspondiente a la baja y Determinar el destino final del bien.
A29: =TODAY() -> 45821 | B29: ='Lista de Verificación'!E31 -> OBSERVACIÓN | C29: ='Lista de Verificación'!B31 -> BAJA DEL INVENTARIIO DE BIENES | D29: ='Lista de Verificación'!C31 -> Inspección | E29: ='Lista de Verificación'!D31 -> Constatar el estado de los bienes, inspección que de acuerdo al grado de dificultad deberá ser hecha por personal experto interno o externo quienes se basarán en las técnicas precisas, en este último caso, con previa contratación, si fuese necesario.
A30: =TODAY() -> 45821 | B30: ='Lista de Verificación'!E32 -> OBSERVACIÓN | C30: ='Lista de Verificación'!B32 -> BAJA DEL INVENTARIIO DE BIENES | D30: ='Lista de Verificación'!C32 -> Recomendaciones | E30: ='Lista de Verificación'!D32 -> El secretario de hacienda ordenará una visita de inspección para las recomendaciones sobre la baja de los bienes devolutivos, convocando a Control Interno.
A31: =TODAY() -> 45821 | B31: ='Lista de Verificación'!E33 -> OBSERVACIÓN | C31: ='Lista de Verificación'!B33 -> BAJA DEL INVENTARIIO DE BIENES | D31: ='Lista de Verificación'!C33 -> Proyecto de resolución | E31: ='Lista de Verificación'!D33 -> Con base a la visita realizada el almacenista Municipal elaborará el proyecto de Resolución de baja. Seguidamente el proyecto se envía a la oficina jurídica para revisión y visto bueno.
A32: =TODAY() -> 45821 | B32: ='Lista de Verificación'!E34 -> OBSERVACIÓN | C32: ='Lista de Verificación'!B34 -> BAJA DEL INVENTARIIO DE BIENES | D32: ='Lista de Verificación'!C34 -> Legalización resolución | E32: ='Lista de Verificación'!D34 -> El alcalde revisará el acto administrativo con sus soportes debidamente sustentados en la Constitución Política, la ley y demás normas que regulen la materia.
A33: =TODAY() -> 45821 | B33: ='Lista de Verificación'!E35 -> OBSERVACIÓN | C33: ='Lista de Verificación'!B35 -> BAJA DEL INVENTARIIO DE BIENES | D33: ='Lista de Verificación'!C35 -> Descarga de inventario | E33: ='Lista de Verificación'!D35 -> Agotado el proceso de baja se procederá a efectuar los registros correspondientes (tanto de contabilidad como del software de almacén, con base en la copia del acto administrativo que ordenó la baja).
