Workbook
Name \b: [1]insumos!#REF!
Name \b: #REF!
Name \b: #REF!
Name \b: #REF!
Name \b: #REF!
Name \b: #REF!
Name \b: #REF!
Name \c: #REF!
Name \c: #REF!
Name \c: #REF!
Name \c: #REF!
Name \c: #REF!
Name \c: #REF!
Name \c: #REF!
Name \c: #REF!
Name \c: #REF!
Name \c: #REF!
Name \e: #REF!
Name \e: #REF!
Name \e: #REF!
Name \e: #REF!
Name \e: #REF!
Name \e: #REF!
Name \i: [1]insumos!#REF!
Name \i: #REF!
Name \i: #REF!
Name \i: #REF!
Name \i: #REF!
Name \i: #REF!
Name \i: #REF!
Name \m: [1]insumos!#REF!
Name \m: #REF!
Name \m: #REF!
Name \m: #REF!
Name \m: #REF!
Name \m: #REF!
Name \m: #REF!
Name \r: [1]insumos!#REF!
Name \r: #REF!
Name \r: #REF!
Name \r: #REF!
Name \r: #REF!
Name \r: #REF!
Name \r: #REF!
Name \t: [1]insumos!#REF!
Name \t: #REF!
Name \t: #REF!
Name \t: #REF!
Name \t: #REF!
Name \t: #REF!
Name \t: #REF!
Name \v: #REF!
Name \v: #REF!
Name \v: #REF!
Name \v: #REF!
Name \v: #REF!
Name \x: [1]insumos!#REF!
Name \x: #REF!
Name \x: #REF!
Name \x: #REF!

Sheet CRONOG CON FLUJO
B2: LOCALIZACIÓN
B3: DESCRIPCIÓN GENERAL
B4: TIEMPO EN SEMANAS
B5: CRONOGRAMA DE OBRA CON FLUJO DE INVERSIÓN | C5: VALOR CAPITULO - INC AIU | D5: 1 | E5: 2 | F5: 3 | G5: 4 | H5: 5 | I5: 6 | J5: 7 | K5: 8 | L5: 9 | M5: 10 | N5: 11 | O5: 12 | P5: 13
P6: LIQUIDACIÓN DEL CONTRATO
B8: CAPITULO 1 - DESTRONQUE Y LIJADA | C8: ='PPTO '!G9 -> 6370608.4
D9: =+ROUND($C$8*0.8,2) -> 5096486.7 | E9: =+ROUND($C$8*0.2,2) -> 1274121.7
B10: CAPITULO 2 - LAVADA Y DESCONTAMINADA | C10: ='PPTO '!G11 -> 39472994
E11: =+ROUND($C$10/2,2) -> 19736497 | F11: =+ROUND($C$10/2,2) -> 19736497
B12: CAPITULO 3 - RECUBRIMIENTO SINTETICO | C12: ='PPTO '!G13 -> 1.80488e+08
G13: =+ROUND($C$12*0.33,2) -> 59561040 | H13: =+ROUND($C$12*0.33,2) -> 59561040 | I13: =+ROUND($C$12*0.34,2) -> 61365920
B14: CAPITULO 4 - REDUCTORES DE VELOCIDAD | C14: ='PPTO '!G15 -> 29687278
J15: =+ROUND($C$14*0.85,2) -> 25234186 | K15: =+ROUND($C$14*0.15,2) -> 4453091.6
B16: CAPITULO 5 - BARANDA DE PROTECCION | C16: ='PPTO '!G17 -> 2.0153075e+08
H17: =+ROUND($C$16/8,2) -> 25191344 | I17: =+ROUND($C$16/8,2) -> 25191344 | J17: =+ROUND($C$16/8,2) -> 25191344 | K17: =+ROUND($C$16/8,0) -> 25191344 | L17: =+ROUND($C$16/8,2) -> 25191344 | M17: =+ROUND($C$16/8,0) -> 25191344 | N17: =+ROUND($C$16/8,0) -> 25191344 | O17: =+ROUND($C$16/8,0) -> 25191344
B18: CAPITULO 6 – DESMONTE BARANDA EXISTENTE | C18: ='PPTO '!G19 -> 15018081
F19: =+ROUND($C$18/2,2) -> 7509040.5 | G19: =+ROUND($C$18/2,2) -> 7509040.5
B20: CAPITULO 7 – LAVADA Y DESCONTAMINACIONCARCAMO | C20: ='PPTO '!G21 -> 10765250
F21: =+ROUND($C$20/1,2) -> 10765250
B22: CAPITULO 8 – HOMOLOGACION FEDEPATIN | C22: ='PPTO '!G23 -> 42383611
O23: =+ROUND($C$22/1,2) -> 42383611
B24: CAPITULO 9 – VALLA INFORMATIVA GENERAL DEL PROYECTO | C24: ='PPTO '!G25 -> 797152.55
D25: =+ROUND($C$24/12,2) -> 66429.38 | E25: =+ROUND($C$24/12,2) -> 66429.38 | F25: =+ROUND($C$24/12,2) -> 66429.38 | G25: =+ROUND($C$24/12,2) -> 66429.38 | H25: =+ROUND($C$24/12,2) -> 66429.38 | I25: =+ROUND($C$24/12,2) -> 66429.38 | J25: =+ROUND($C$24/12,2) -> 66429.38 | K25: =+ROUND($C$24/12,2) -> 66429.38 | ... O25: =+ROUND($C$24/12,2) -> 66429.38
C26: =SUM(C8:C25) -> 5.2651373e+08 | D26: =ROUND(SUM(D8:D25),0) -> 5162916 | E26: =ROUND(SUM(E8:E25),0) -> 21077048 | F26: =ROUND(SUM(F8:F25),0) -> 38077217 | G26: =ROUND(SUM(G8:G25),0) -> 67136510 | H26: =ROUND(SUM(H8:H25),0) -> 84818814 | I26: =ROUND(SUM(I8:I25),0) -> 86623694 | J26: =ROUND(SUM(J8:J25),0) -> 50491959 | K26: =ROUND(SUM(K8:K25),0) -> 29710865 | ... O26: =ROUND(SUM(O8:O25),0) -> 67641384
D27: =+D26 -> 5162916 | E27: =+E26+D27 -> 26239964 | F27: =+F26+E27 -> 64317181 | G27: =+G26+F27 -> 131453691 | H27: =+H26+G27 -> 216272505 | I27: =+I26+H27 -> 302896199 | J27: =+J26+I27 -> 353388158 | K27: =+K26+J27 -> 383099023 | L27: =+L26+K27 -> 408356797 | ... N27: =+N26+M27 -> 458872343 | O27: =ROUND(+O26+N27,0) -> 526513727 | P27: =+O27 -> 526513727
C32: Proyectó: CRISTIAN ALBERTO ORTEGON VEGA
C33: ARQUITECTO CONTRATISTA
C34: TP: A253012011-16074410

Sheet PPTO 
B2: "MEJORAMIENTO Y ADECUACION DE LA PISTA DE PATINAJE DEL PARQUE VILLA DIANA, MUNICIPIO DE VILLAMARIA - CALDAS"
B4: LOCALIZACIÓN | D4: PARQUE VILLA DIANA, ZONA URBANA, VILLAMARIA CALDAS.
D5: En el territorio los espacios públicos para las prácticas deportivas actualmente requieren de intervención, para garantizar la calidad en la prestación de servicios a la comunidad, y en especial para la practica del deporte de manera segura, garantizando espacios de ocio y recreación a los Villamarianos.
B6: PRESUPUESTO DE OBRA PÚBLICA
B7: ÍTEM | C7: DESCRIPCIÓN | D7: UNIDAD | E7: CANTIDAD | F7: V/UNITARIO | G7: V/TOTAL | K7: 10 | L7: 11 | M7: 12 | N7: 13 | O7: 14 | P7: 15 | Q7: 16 | R7: 17 | S7: 18
K8: EQUIPOS | M8: MATERIALES | O8: TRANSPORTE /OTROS | Q8: M.O.N.C | S8: AIU | U8: TOTAL ITEMS
B9: 1 | C9: DESTRONQUE Y LIJADA | G9: =SUM(G10:G10) -> 6370608.4 | I9: =G9+(G9*($F$31+$F$32+$F$33)) -> 8409203.1 | L9: =SUM(L10:L10) -> 2471312 | N9: =SUM(N10:N10) -> 28570 | P9: =SUM(P10:P10) -> 395226.77 | R9: =SUM(R10:R10) -> 3476459 | S9: =SUM(S10:S10) -> 2038902 | U9: =ROUND(R9+N9+L9+P9,0) -> 6371568 | W9: =G9-U9 -> -959.616
B10: ='MEMORIA 1 - DESTRONQUE Y LIJAD'!C10 -> 1.1 | C10: ='MEMORIA 1 - DESTRONQUE Y LIJAD'!C9:J9 -> Destronque y lijada de pista de velocidad para generar perfil de anclaje. | D10: ='MEMORIA 1 - DESTRONQUE Y LIJAD'!L9 -> M2 | E10: 1298.64 | F10: =APUS!G4 -> 4905.6 | G10: =E10*F10 -> 6370608.4 | K10: =APUS!G26 -> 1903 | L10: =ROUND(K10*$E10,0) -> 2471312 | M10: =APUS!G13 -> 22 | N10: =ROUND(M10*$E10,0) -> 28570 | O10: =APUS!G29 -> 304.33898 | P10: =O10*$E10 -> 395226.77 | Q10: =APUS!G19 -> 2677 | R10: =ROUND(Q10*$E10,0) -> 3476459 | S10: =ROUND((R10+P10+N10+L10)*($F$33+$F$32+$F$31),0) -> 2038902 | U10: =ROUND(R10+N10+L10+P10,0) -> 6371568 | W10: =G10-U10 -> -959.616
B11: 2 | C11: LAVADA Y DESCONTAMINADA | G11: =SUM(G12:G12) -> 39472994 | I11: =G11+(G11*($F$31+$F$32+$F$33)) -> 52104352 | L11: =SUM(L12:L12) -> 12750048 | N11: =SUM(N12:N12) -> 19870491 | P11: =SUM(P12:P12) -> 404350 | R11: =SUM(R12:R12) -> 6447748 | S11: =SUM(S12:S12) -> 12631244 | U11: =ROUND(R11+N11+L11+P11,0) -> 39472637 | W11: =G11-U11 -> 356.9296
B12: ='MEMORIA 2 - LAVADA Y DESCONTAM'!C10 -> 2.1 | C12: ='MEMORIA 2 - LAVADA Y DESCONTAM'!C9 -> Lavada y descontaminada de pista. Incluye tratamiento de 825 ml de juntas de dilatación entre losas de concreto por medio de sello flexible, malla de refuerzo y polímero y empozamientos menores a 3 mm. | D12: ='MEMORIA 2 - LAVADA Y DESCONTAM'!L9 -> M2 | E12: ='MEMORIA 2 - LAVADA Y DESCONTAM'!K18 -> 1298.64 | F12: =APUS!G37 -> 30395.64 | G12: =E12*F12 -> 39472994 | K12: =APUS!G58 -> 9818 | L12: =ROUND(K12*$E12,0) -> 12750048 | M12: =APUS!G45 -> 15301 | N12: =ROUND(M12*$E12,0) -> 19870491 | O12: =APUS!G61 -> 311.3643 | P12: =ROUND(O12*$E12,0) -> 404350 | Q12: =APUS!G51 -> 4965 | R12: =ROUND(Q12*$E12,0) -> 6447748 | S12: =ROUND((R12+P12+N12+L12)*($F$33+$F$32+$F$31),0) -> 12631244 | U12: =ROUND(R12+N12+L12+P12,0) -> 39472637 | W12: =G12-U12 -> 356.9296
B13: 3 | C13: RECUBRIMIENTO SINTETICO | G13: =SUM(G14:G14) -> 1.80488e+08 | I13: =G13+(G13*($F$31+$F$32+$F$33)) -> 2.3824416e+08 | L13: =SUM(L14:L14) -> 5907513 | N13: =SUM(N14:N14) -> 1.4610742e+08 | P13: =SUM(P14:P14) -> 11861721 | R13: =SUM(R14:R14) -> 16610904 | S13: =SUM(S14:S14) -> 57756017 | U13: =ROUND(R13+N13+L13+P13,0) -> 180487553 | W13: =G13-U13 -> 447.0448
B14: ='MEMORIA 3 - RECUBRIMIENTO SINT'!C10 -> 3.1 | C14: ='MEMORIA 3 - RECUBRIMIENTO SINT'!C9:J9 -> Suministro, transporte y aplicación de recubrimiento sintético en cinco (5) capas para pista de velocidad: incluye una capa de autonivelante, una capa PACK LEVEL, tres capas de recubrimiento sintético LATEX AR, color azul. Demarcación de linea interna, meta y contra meta en color blanco. (Producto Avalado por FEDEPATIN COLOMBIA). | D14: ='MEMORIA 3 - RECUBRIMIENTO SINT'!L9 -> M2 | E14: ='MEMORIA 3 - RECUBRIMIENTO SINT'!K18 -> 1298.64 | F14: =APUS!G69 -> 138982.32 | G14: =E14*F14 -> 1.80488e+08 | K14: =APUS!G90 -> 4549 | L14: =ROUND(K14*$E14,0) -> 5907513 | M14: =APUS!G78 -> 112508.02 | N14: =M14*$E14 -> 1.4610742e+08 | O14: =APUS!G93 -> 9133.956 | P14: =ROUND(O14*$E14,0) -> 11861721 | Q14: =APUS!G84 -> 12791 | R14: =ROUND(Q14*$E14,0) -> 16610904 | S14: =ROUND((R14+P14+N14+L14)*($F$33+$F$32+$F$31),0) -> 57756017 | U14: =ROUND(R14+N14+L14+P14,0) -> 180487553 | W14: =G14-U14 -> 447.0448
B15: 4 | C15: REDUCTORES DE VELOCIDAD | G15: =SUM(G16:G16) -> 29687278 | I15: =G15+(G15*($F$31+$F$32+$F$33)) -> 39187206 | L15: =SUM(L16:L16) -> 299700 | N15: =SUM(N16:N16) -> 29271780 | P15: =SUM(P16:P16) -> 39523 | R15: =SUM(R16:R16) -> 75898 | S15: =SUM(S16:S16) -> 9499808 | U15: =ROUND(R15+N15+L15+P15,0) -> 29686901 | W15: =G15-U15 -> 376.6
B16: ='MEMORIA 4 - REDUCTORES DE VELO'!C10 -> 4.1 | C16: ='MEMORIA 4 - REDUCTORES DE VELO'!C9:J9 -> Suministro, transporte e instalación de reductores de velocidad. Garantia por instalación 6 meses. (Producto Avalado por FEDEPATIN COLOMBIA). | D16: ='MEMORIA 4 - REDUCTORES DE VELO'!L9 -> UND | E16: ='MEMORIA 4 - REDUCTORES DE VELO'!K18 -> 810 | F16: =APUS!G101 -> 36650.96 | G16: =E16*F16 -> 29687278 | K16: =APUS!G126 -> 370 | L16: =ROUND(K16*$E16,0) -> 299700 | M16: =APUS!G113 -> 36138 | N16: =ROUND(M16*$E16,0) -> 29271780 | O16: =+APUS!G129 -> 48.793773 | P16: =ROUND(O16*$E16,0) -> 39523 | Q16: =APUS!G119 -> 93.701227 | R16: =ROUND(Q16*$E16,0) -> 75898 | S16: =ROUND((R16+P16+N16+L16)*($F$33+$F$32+$F$31),0) -> 9499808 | U16: =ROUND(R16+N16+L16+P16,0) -> 29686901 | W16: =G16-U16 -> 376.6
B17: 5 | C17: BARANDA DE PROTECCION | G17: =SUM(G18:G18) -> 2.0153075e+08 | I17: =G17+(G17*($F$31+$F$32+$F$33)) -> 2.6602059e+08 | L17: =SUM(L18) -> 8840811 | N17: =SUM(N18) -> 176472570 | P17: =SUM(P18) -> 1495809 | R17: =SUM(R18) -> 14721729 | S17: =SUM(S18) -> 64489894 | U17: =ROUND(R17+N17+L17+P17,0) -> 201530919 | W17: =G17-U17 -> -165.99
B18: ='MEMORIA 5 - BARANDA DE PROTECC'!C10 -> 5.1 | C18: ='MEMORIA 5 - BARANDA DE PROTECC'!C9:J9 -> Suministro, transporte y colocación de pasamanos metálico de protección para pista de patinaje de VELOCIDAD, con policarbonato de 6 mm, fijado a estructura por medio de remaches POP de 5/32 x 5/8" 5-8. Bolillo interior en tubería negra pesada de 2" x 1.5 mm. Con parales principales verticales en tuberia negra redonda de 2", de altura 1.20 metros separados cada 2.90 a 3,00 mt anclados a piso con platina en acero tipo ASTM A36 de 10 x 15 cm de 1/8" y cuatro chazos concreto expansivo de 3/8" x 1-7/8". Parales intermedios rectangulares de 2" x 1" calibre 20, de altura 1.20 metros, anclados a piso con varilla de hierro de 3/8", separados cada 2.90 a 3,00 metros. Angulo de 1" x 1/8" para soporte de policarbonato. Bandeja inferior en lámina galvanizada de 22,5 cm calibre 22, con banda de protección en neopreno de 20 cm de alto y 6 mm de espesor, adherido a la lámina por medio de pegante sintético. Incluye: soldadura de acabado, pulida y masillada, una mano de anticorrosivo tipo 1 y dos manos de pintura esmalte tipo pintulux 3 en 1 y todo lo necesario para su correcta instalación y funcionamiento. (Producto Avalado por FEDEPATIN). Incluye aprovechamiento de bolillo superior e intermedio de la baranda actual. | D18: ='MEMORIA 5 - BARANDA DE PROTECC'!$L$9 -> ML | E18: ='MEMORIA 5 - BARANDA DE PROTECC'!K18 -> 237 | F18: =APUS!G137 -> 850340.73 | G18: =E18*F18 -> 2.0153075e+08 | K18: =APUS!G171 -> 37303 | L18: =ROUND(K18*$E18,0) -> 8840811 | M18: =APUS!G157 -> 744610 | N18: =M18*$E18 -> 176472570 | O18: =+APUS!G174 -> 6311.4324 | P18: =ROUND(O18*$E18,0) -> 1495809 | Q18: =APUS!G163 -> 62117 | R18: =ROUND(Q18*$E18,0) -> 14721729 | S18: =ROUND((R18+P18+N18+L18)*($F$33+$F$32+$F$31),0) -> 64489894 | U18: =ROUND(R18+N18+L18+P18,0) -> 201530919 | W18: =G18-U18 -> -165.99
B19: 6 | C19: DESMONTE BARANDA EXISTENTE | G19: =SUM(G20:G20) -> 15018081 | I19: =G19+(G19*($F$31+$F$32+$F$33)) -> 19823867 | L19: =SUM(L20:L20) -> 6570825 | N19: =SUM(N20:N20) -> 0 | P19: =SUM(P20:P20) -> 408588 | R19: =SUM(R20:R20) -> 8038329 | S19: =SUM(S20:S20) -> 4805677 | U19: =ROUND(R19+N19+L19+P19,0) -> 15017742 | W19: =G19-U19 -> 338.91
B20: ='MEMORIA 6 - DESMONTE BARANDA EX'!$C$10 -> 6.1 | C20: =+'MEMORIA 6 - DESMONTE BARANDA EX'!C9 -> Desmonte de baranda de protección existente con personal calificado para recuperación de la misma y su futura utilización por parte de la Administración en otros escenarios y acopio en situ del material resultante. No incluye botada ni transporte. | D20: ='MEMORIA 6 - DESMONTE BARANDA EX'!$L$9 -> ML | E20: =+'MEMORIA 6 - DESMONTE BARANDA EX'!K18 -> 237 | F20: =+APUS!G182 -> 63367.43 | G20: =E20*F20 -> 15018081 | K20: =+APUS!G201 -> 27725 | L20: =ROUND(K20*$E20,0) -> 6570825 | M20: =+APUS!G189 -> 0 | N20: =ROUND(M20*$E20,0) -> 0 | O20: =+APUS!G204 -> 1724 | P20: =ROUND(O20*$E20,0) -> 408588 | Q20: =+APUS!G195 -> 33917 | R20: =ROUND(Q20*$E20,0) -> 8038329 | S20: =ROUND((R20+P20+N20+L20)*($F$33+$F$32+$F$31),0) -> 4805677 | U20: =ROUND(R20+N20+L20+P20,0) -> 15017742 | W20: =G20-U20 -> 338.91
B21: 7 | C21: LAVADA Y DESCONTAMINACION CARCAMO | G21: =SUM(G22:G22) -> 10765250 | I21: =G21+(G21*($F$31+$F$32+$F$33)) -> 14210130 | L21: =SUM(L22:L22) -> 1615400 | N21: =SUM(N22:N22) -> 7660800 | P21: =SUM(P22:P22) -> 407200 | R21: =SUM(R22:R22) -> 1081732 | S21: =SUM(S22:S22) -> 3444842 | U21: =ROUND(R21+N21+L21+P21,0) -> 10765132 | W21: =G21-U21 -> 118
B22: ='MEMORIA 7 - LAV Y DESCON CARCAM'!C10 -> 7.1 | C22: =+'MEMORIA 7 - LAV Y DESCON CARCAM'!C9 -> Lavada y descontaminación de cárcamo. Incluye lavado apresión con hidrolavadarora de 4000 psi de paredes internas y tapas externas. Recuperación de tapas por medio de aplicación de pintura acrílica base agua para exteriores de alta resistencia | D22: ='MEMORIA 7 - LAV Y DESCON CARCAM'!L9 -> ML | E22: =+'MEMORIA 7 - LAV Y DESCON CARCAM'!K18 -> 200 | F22: =APUS!G212 -> 53826.25 | G22: =E22*F22 -> 10765250 | K22: =+APUS!G232 -> 8077 | L22: =ROUND(K22*$E22,0) -> 1615400 | M22: =+APUS!G220 -> 38304 | N22: =ROUND(M22*$E22,0) -> 7660800 | O22: =+APUS!G236 -> 2035.9999 | P22: =ROUND(O22*$E22,0) -> 407200 | Q22: =+APUS!G226 -> 5408.66 | R22: =ROUND(Q22*$E22,0) -> 1081732 | S22: =ROUND((R22+P22+N22+L22)*($F$33+$F$32+$F$31),0) -> 3444842 | U22: =ROUND(R22+N22+L22+P22,0) -> 10765132 | W22: =G22-U22 -> 118
B23: 8 | C23: HOMOLOGACION FEDEPATIN | G23: =SUM(G24:G24) -> 42383611 | I23: =G23+((G23*$F$31)+(G23*$F$33)+($G$33*$F$34)) -> 60524410 | L23: =SUM(L24:L24) -> 0 | N23: =SUM(N24:N24) -> 42383610 | P23: =SUM(P24:P24) -> 0 | R23: =SUM(R24:R24) -> 0 | S23: =SUM(S24:S24) -> 13562755 | U23: =ROUND(R23+N23+L23+P23,0) -> 42383610 | W23: =G23-U23 -> 0.56
B24: 8.1 | C24: =+'MEMORIA 8 - HOMOLOGACION FEDEPA'!C9 -> Aval de la pista de velocidad, tramitado y otorgado bajo responsabilidad del contratista, por la FEDEPATIN Colombia según normativa - Escenarios de patinaje - 2024 "Normativa oficial para el diseño de escenarios de patinaje - vigencia 2024". Incluye hasta tres desplazamientos del personal técnico de FEDEPATIN. | D24: UND | E24: =+'MEMORIA 8 - HOMOLOGACION FEDEPA'!K18 -> 1 | F24: =APUS!G245 -> 42383611 | G24: =E24*F24 -> 42383611 | K24: =+APUS!G266 -> 0 | L24: =ROUND(K24*$E24,0) -> 0 | M24: =+APUS!G255 -> 42383610 | N24: =ROUND(M24*$E24,0) -> 42383610 | O24: =+APUS!G270 -> 0 | P24: =ROUND(O24*$E24,0) -> 0 | Q24: =+APUS!G259 -> 0 | R24: =ROUND(Q24*$E24,0) -> 0 | S24: =ROUND((R24+P24+N24+L24)*($F$33+$F$32+$F$31),0) -> 13562755 | U24: =ROUND(R24+N24+L24+P24,0) -> 42383610 | W24: =G24-U24 -> 0.56
B25: 9 | C25: VALLA INFORMATIVA GENERAL DEL PROYECTO | G25: =SUM(G26:G26) -> 797152.55 | I25: =G25+((G25*$F$31)+(G25*$F$33)+($G$33*$F$34)) -> 6046150.2 | L25: =SUM(L26:L26) -> 0 | N25: =SUM(N26:N26) -> 797153 | P25: =SUM(P26:P26) -> 0 | R25: =SUM(R26:R26) -> 0 | S25: =SUM(S26:S26) -> 255054.36 | U25: =ROUND(R25+N25+L25+P25,0) -> 797153 | W25: =G25-U25 -> -0.45
B26: 9.1 | C26: Suministro, transporte e instalación valla informativa general del proyecto. | D26: ='MEMORIA 9 - VALLA INFORMATIVA'!L9 -> M2 | E26: 5 | F26: =APUS!G281 -> 159430.51 | G26: =E26*F26 -> 797152.55 | K26: =+APUS!G268 -> 0 | L26: =ROUND(K26*$E26,0) -> 0 | M26: =+APUS!G281 -> 159430.51 | N26: =ROUND(M26*$E26,0) -> 797153 | O26: =+APUS!G272 -> 0 | P26: =ROUND(O26*$E26,0) -> 0 | Q26: =+APUS!G261 -> 0 | R26: =ROUND(Q26*$E26,0) -> 0 | S26: =ROUND((R26+P26+N26+L26)*($F$33+$F$32+$F$31),0)-34.64 -> 255054.36 | U26: =ROUND(R26+N26+L26+P26,0) -> 797153 | W26: =G26-U26 -> -0.45
K27: =APUS!G299 -> 4967
D29: TOTAL COSTO DIRECTO | G29: =ROUND(G9+G11+G13+G15+G17+G19+G21+G25+G23,0)-0.03 -> 5.2651373e+08
D31: ADMINISTRACION: | F31: 0.26 | G31: =(G29*F31) -> 1.3689357e+08
D32: IMPREVISTOS: | F32: 0.01 | G32: =(G29*F32) -> 5265137.3
B33: Proyectó: CRISTIAN ALBERTO ORTEGON VEGA | D33: UTILIDAD: | F33: 0.05 | G33: =(G29*F33) -> 26325686
B34: ARQUITECTO CONTRATISTA | D34: IVA SOBRE U: | F34: 0.19 | G34: =(G33*F34) -> 5001880.4
B35: TP: A253012011-16074410
D37: COSTO TOTAL | G37: =(G29+G31+G33+G34+G35+G32) -> 7e+08
C39: EL VALOR TOTAL SERÁ COFINANCIADO ENTRE LA GOBERNACIÓN DE CALDAS Y EL MUNICIPIO DE VILLAMARIA ASÍ:
C41: GOBERNACIÓN DE CALDAS | D41: 450000000
C43: MUNICIPIO DE VILLAMARIA | D43: =+G37-D41 -> 2.5e+08

Sheet ANÁLISIS AIU 
C1: MUNICIPIO DE VILLAMARIA CALDAS
C3: =#REF! -> #REF!
C4: Presentado a. Secretaria de Deporte, Gobernación de Caldas.
C5: CALCULO DEL AIU
C6: VILLAMARIA
A7: ÍTEM | B7: Personal Administrativo
A8: 1 | B8: DESCRIPCIÓN | C8: Salario y/u honorario | D8: Factor prestacional | E8: Aux viviend | F8: Aux de movilidad | G8: % dedicación | H8: SUB TOTAL | I8: TOTAL
B9: Ingeniero director de obra | C9: 3000000 | D9: 0.398 | E9: 0 | G9: 0.15 | H9: =(C9+(C9*D9)) -> 4194000 | I9: =(H9*G9) -> 629100
A10: 1.01 | B10: Ingeniero residente de obra | C10: 2400000 | D10: 0.398 | E10: 0 | G10: 0.2 | H10: =(C10+(C10*D10)) -> 3355200 | I10: =(H10*G10) -> 671040
A11: 1.02 | B11: Técnico SST | C11: 1600000 | D11: 0.468 | E11: 0 | F11: 63000 | G11: 0.2 | H11: =(C11+(C11*D11)) -> 2348800 | I11: =((H11*G11)+F11) -> 532760
A12: 1.03 | B12: Maestro de obra | C12: 1725360 | D12: 0.518 | E12: 0 | F12: 126000 | G12: 0.75 | H12: =(C12+(C12*D12)) -> 2619096.5 | I12: =((H12*G12)+F12) -> 2090322.4
B13: SUB TOTAL | I13: =SUM(I9:I12) -> 3923222.4
A14: 2 | B14: Elementos operativos | F14: Cant | G14: Unidad | H14: Valor unitario | I14: Vr total
A15: 2.06 | B15: Elementos para trabajo en alturas | F15: 1 | G15: mes | H15: 86126.37 | I15: =+F15*H15 -> 86126.37
A16: 2.07 | B16: Servicios públicos de obra | F16: 1 | G16: mes | H16: 101093.82 | I16: =+F16*H16 -> 101093.82
A17: 2.09 | B17: Servicio de mensajeria | F17: 1 | G17: mes | H17: 5000 | I17: =+F17*H17 -> 5000
B18: SUB TOTAL | I18: =SUM(I15:I17) -> 192220.19
A19: 3 | B19: IMPUESTOS Y VALORES AGREGADOS | F19: Cant (%) | G19: Vr. Unitario | H19: Valor total | I19: Vr total
A20: 3 | B20: Gastos bancarios 4 x 1000 | D20: 1 | F20: 0.004 | G20: ='PPTO '!G29 -> 5.2651373e+08 | H20: =(G20*F20)*D20 -> 2106054.9 | I20: =H20/3 -> 702018.3
A21: 3.01 | B21: Industria y Comercio | D21: 1 | F21: 0.005 | G21: ='PPTO '!G29 -> 5.2651373e+08 | H21: =(G21*F21)*D21 -> 2632568.6 | I21: =H21/3 -> 877522.88
A22: 3.02 | B22: Adulto Mayor | D22: 1 | F22: 0.04 | G22: ='PPTO '!G29 -> 5.2651373e+08 | H22: =(G22*F22)*D22 -> 21060549 | I22: =H22/3 -> 7020183
A23: 3.03 | B23: Pro cultura | D23: 1 | F23: 0.015 | G23: ='PPTO '!G29 -> 5.2651373e+08 | H23: =(G23*F23)*D23 -> 7897705.9 | I23: =H23/3 -> 2632568.6
A24: 3.04 | B24: Universidad | D24: 1 | F24: 0 | G24: ='PPTO '!G29 -> 5.2651373e+08 | H24: =(G24*F24)*D24 -> 0 | I24: =H24/3 -> 0
A25: 3.05 | B25: Seguridad ciudadana | D25: 1 | F25: 0.05 | G25: ='PPTO '!G29 -> 5.2651373e+08 | H25: =(G25*F25)*D25 -> 26325686 | I25: =H25/3 -> 8775228.8
A26: 3.06 | B26: Polizas de seriedad y cumplimiento | D26: 1 | F26: 0.00645 | G26: ='PPTO '!G29 -> 5.2651373e+08 | H26: =(G26*F26)*D26 -> 3396013.5 | I26: =H26/3 -> 1132004.5
B27: SUB TOTAL | I27: =SUM(I20:I26) -> 21139526
F28: Valor mensual de la administración | I28: =(I13+I18+(I27)) -> 25254969
F29: Periodo de ejecución | I29: 3 meses
F30: Valor total de la administración | I30: =I28*3 -> 75764906
F31: % de administración | I31: 0.14135696
A33: INTERVENTORÍA
A34: 1 | B34: DESCRIPCIÓN | C34: Salario y/u honorario | D34: Factor prestacional | E34: Aux viviend | F34: Aux de movilidad | G34: % dedicación | H34: SUB TOTAL | I34: TOTAL
A35: 1.01 | B35: Ingeniero residente | C35: 3824730.6 | D35: 0.468 | E35: - | F35: - | G35: 1 | H35: =C35+(C35*D35)*G35 -> 5614704.5 | I35: =H35*3 -> 16844114
A36: 1.02 | B36: Profesional SST | C36: 2732000 | D36: 0.468 | E36: - | F36: =126000/2 -> 63000 | G36: 0.5 | H36: =C36+(C36*D36)*G36 -> 3371288 | I36: =H36*3 -> 10113864
B37: SUB TOTAL | I37: =SUM(I35:I36) -> 26957978
A38: 1.03 | B38: Secretaria | C38: 1720000 | D38: 0.468 | E38: - | F38: 126000 | G38: 1 | H38: =C38+(C38*D38)*G38 -> 2524960 | I38: =H38*3 -> 7574880
B39: SUB TOTAL | I39: =I38 -> 7574880
B40: DESCRIPCIÓN | D40: CANTIDAD | F40: NÚMERO DE MESES | H40: VALOR UNITARIO
A41: 1.04 | B41: Oficina/Campamento en la zona del proyecto (Incluye dotación de oficina y servicios públicos) | D41: 1 | F41: 3 | H41: 999780.2 | I41: =ROUND(D41*F41*H41,0) -> 2999341
A42: 1.05 | B42: Ensayos de laboratorio | D42: 1 | F42: 3 | H42: 500000 | I42: =D42*F42*H42 -> 1500000
...

Sheet APUS
A1: CAPITULO 1 - DESTRONQUE Y LIJADA | I1: 1 | J1: 2 | K1: 3 | L1: 4 | M1: 5
I2: ÍTEM | J2: EQUIPOS Y HERRAMIENTAS | K2: MATERIALES (INSUMOS) | L2: TRANSPORTE | M2: MANO DE OBRA NO CALIFICADA | N2: TOTAL
A3: ÍTEM | B3: DESCRIPCIÓN | F3: UNIDAD | G3: VALOR UNIT | I3: 1.1 | J3: =G26 -> 1903 | K3: =G13 -> 22 | M3: =G19 -> 2677 | N3: =SUM(J3:M3) -> 4602
A4: ='MEMORIA 1 - DESTRONQUE Y LIJAD'!C10 -> 1.1 | B4: ='MEMORIA 1 - DESTRONQUE Y LIJAD'!C9 -> Destronque y lijada de pista de velocidad para generar perfil de anclaje. | F4: ='MEMORIA 1 - DESTRONQUE Y LIJAD'!L9 -> M2 | G4: =G31 -> 4905.6
A6: MATERIALES
A7: DESCRIPCIÓN | C7: UNIDAD | D7: CANTIDAD | E7: DESPERDICIO | F7: VALOR UNIT. | G7: VALOR PARCIAL
A8: Disco destronque | C8: m2 | D8: 0.0008 | E8: N/A | F8: 12680 | G8: =ROUND(D8*F8,0) -> 10
A9: Disco lija concreto | C9: m2 | D9: 0.0008 | E9: N/A | F9: 15340 | G9: =ROUND(D9*F9,0) -> 12
F13: SUBTOTAL MATERIALES | G13: =SUM(G8:G12) -> 22
A14: MANO DE OBRA
A15: TRABAJADOR | B15: CANTIDAD | C15: UNIDAD | D15: CANTIDAD | E15: DESPERDICIO | F15: VALOR UNIT. | G15: VALOR PARCIAL
A16: Cuadrilla 1 (Oficial + Ayudante) | B16: 1 | C16: m2 | D16: 0.014 | E16: N/A | F16: 184390 | G16: =ROUND(D16*F16,0) -> 2581
A17: Viaticos | B17: 1 | C17: m2 | D17: 0.0002 | E17: N/A | F17: 480000 | G17: =ROUND(D17*F17,0) -> 96
F19: SUBTOTAL MANO DE OBRA | G19: =SUM(G16:G17) -> 2677
A20: EQUIPO
A21: DESCRIPCIÓN | D21: USO | E21: TARIFA HORA | F21: RENDIMIENTO | G21: VALOR UNIT.
A22: Herramienta Menor 5%MO | D22: MANUAL | E22: 36552.29 | F22: 0.05 | G22: =ROUND(E22*F22,0) -> 1828
A23: Brilladora destroncadora | D23: MANUAL | E23: 25000 | F23: 0.003 | G23: =ROUND(E23*F23,0) -> 75
F26: SUBTOTAL EQUIPO | G26: =SUM(G22:G25) -> 1903
A27: OTROS
A28: Transporte | C28: km | D28: 226.2 | E28: 1.3729 | F28: 0.98 | G28: =D28*E28*F28 -> 304.33898
F29: SUBTOTAL OTROS | G29: =+G28 -> 304.33898
E31: COSTO DIRECTO | F31: =+G29+G26+G19+G13-0.74 -> 4905.599 | G31: =ROUND(F31,2) -> 4905.6
A34: CAPITULO 2 - LAVADA Y DESCONTAMINADA
A36: ÍTEM | B36: DESCRIPCIÓN | F36: UNIDAD | G36: VALOR UNIT
A37: ='MEMORIA 2 - LAVADA Y DESCONTAM'!C10 -> 2.1 | B37: ='MEMORIA 2 - LAVADA Y DESCONTAM'!C9 -> Lavada y descontaminada de pista. Incluye tratamiento de 825 ml de juntas de dilatación entre losas de concreto por medio de sello flexible, malla de refuerzo y polímero y empozamientos menores a 3 mm. | F37: ='MEMORIA 2 - LAVADA Y DESCONTAM'!L9 -> M2 | G37: =+G63 -> 30395.64
A39: MATERIALES
A40: DESCRIPCIÓN | C40: UNIDAD | D40: CANTIDAD | E40: DESPERDICIO | F40: VALOR UNIT. | G40: VALOR PARCIAL
A41: Yumbolon juntas 1/4" | C41: rollo | D41: 0.04 | E41: 0 | F41: 18560 | G41: =ROUND(D41*F41,0) -> 742
A42: Cinta malla | C42: rollo | D42: 0.008 | F42: 62440 | G42: =ROUND(D42*F42,0) -> 500
A43: Mortero acrílico | C43: kl | D43: 0.011 | F43: 131040 | G43: =ROUND(D43*F43,0) -> 1441
A44: Resina acrílica | C44: kl | D44: 0.47635 | F44: 26489.4 | G44: =ROUND(D44*F44,0) -> 12618
F45: SUBTOTAL MATERIALES | G45: =SUM(G41:G44) -> 15301
A46: MANO DE OBRA
A47: TRABAJADOR | B47: CANTIDAD | C47: JORNAL | D47: PRESTACIONAL | E47: JORNAL TOTAL | F47: RENDIMIENTO | G47: VALOR PARCIAL
A48: Cuadrilla 2 (Oficial + 2 Ayudantes) | B48: 1 | C48: m2 | D48: 0.014 | E48: N/A | F48: 343988 | G48: =ROUND(D48*F48,0) -> 4816
A49: Viaticos | B49: 1 | C49: m2 | D49: 0.00031 | E49: N/A | F49: 480000 | G49: =ROUND(D49*F49,0) -> 149
F51: SUBTOTAL MANO DE OBRA | G51: =SUM(G48:G49) -> 4965
A52: EQUIPO
A53: DESCRIPCIÓN | D53: USO | E53: TARIFA HORA | F53: RENDIMIENTO | G53: VALOR UNIT.
...

Sheet CADENA DE VALOR
C2: CADENA DE VALOR
C4: CAPITULO | D4: EQUIPOS | E4: MATERIALES | F4: OTROS/TRANSPORTE | G4: MANO DE OBRA NO CALIFICADA | H4: OTROS GASTOS (AIU) | I4: TOTALES
A5: 1 | C5: ='PPTO '!C9 -> DESTRONQUE Y LIJADA | D5: =VLOOKUP($A5,'PPTO '!$B$9:'PPTO '!$S$14,11,FALSE()) -> 2471312 | E5: =VLOOKUP($A5,'PPTO '!$B$9:'PPTO '!$S$26,13,FALSE()) -> 28570 | F5: =VLOOKUP($A5,'PPTO '!$B$9:'PPTO '!$S$14,15,FALSE()) -> 395226.77 | G5: =VLOOKUP($A5,'PPTO '!$B$9:'PPTO '!$S$14,17,FALSE()) -> 3476459 | H5: =VLOOKUP($A5,'PPTO '!$B$9:'PPTO '!$S$14,18,FALSE()) -> 2038902 | I5: =SUM(D5:H5) -> 8410469.8
A6: 2 | C6: ='PPTO '!C11 -> LAVADA Y DESCONTAMINADA | D6: =VLOOKUP($A6,'PPTO '!$B$9:'PPTO '!$S$14,11,FALSE()) -> 12750048 | E6: =VLOOKUP($A6,'PPTO '!$B$9:'PPTO '!$S$26,13,FALSE()) -> 19870491 | F6: =VLOOKUP($A6,'PPTO '!$B$9:'PPTO '!$S$14,15,FALSE()) -> 404350 | G6: =VLOOKUP($A6,'PPTO '!$B$9:'PPTO '!$S$14,17,FALSE()) -> 6447748 | H6: =VLOOKUP($A6,'PPTO '!$B$9:'PPTO '!$S$14,18,FALSE()) -> 12631244 | I6: =SUM(D6:H6) -> 52103881
A7: 3 | C7: ='PPTO '!C13 -> RECUBRIMIENTO SINTETICO | D7: =VLOOKUP($A7,'PPTO '!$B$9:'PPTO '!$S$14,11,FALSE()) -> 5907513 | E7: =VLOOKUP($A7,'PPTO '!$B$9:'PPTO '!$S$26,13,FALSE()) -> 1.4610742e+08 | F7: =VLOOKUP($A7,'PPTO '!$B$9:'PPTO '!$S$14,15,FALSE()) -> 11861721 | G7: =VLOOKUP($A7,'PPTO '!$B$9:'PPTO '!$S$14,17,FALSE()) -> 16610904 | H7: =VLOOKUP($A7,'PPTO '!$B$9:'PPTO '!$S$14,18,FALSE()) -> 57756017 | I7: =SUM(D7:H7) -> 2.3824357e+08
A8: 4 | C8: ='PPTO '!C15 -> REDUCTORES DE VELOCIDAD | D8: =VLOOKUP($A8,'PPTO '!$B$9:'PPTO '!$S$18,11,FALSE()) -> 299700 | E8: =VLOOKUP($A8,'PPTO '!$B$9:'PPTO '!$S$26,13,FALSE()) -> 29271780 | F8: =VLOOKUP($A8,'PPTO '!$B$9:'PPTO '!$S$18,15,FALSE()) -> 39523 | G8: =VLOOKUP($A8,'PPTO '!$B$9:'PPTO '!$S$18,17,FALSE()) -> 75898 | H8: =VLOOKUP($A8,'PPTO '!$B$9:'PPTO '!$S$18,18,FALSE()) -> 9499808 | I8: =SUM(D8:H8) -> 39186709
A9: 5 | C9: ='PPTO '!C17 -> BARANDA DE PROTECCION | D9: =VLOOKUP($A9,'PPTO '!$B$9:'PPTO '!$S$26,11,FALSE()) -> 8840811 | E9: =VLOOKUP($A9,'PPTO '!$B$9:'PPTO '!$S$26,13,FALSE()) -> 176472570 | F9: =VLOOKUP($A9,'PPTO '!$B$9:'PPTO '!$S$26,15,FALSE()) -> 1495809 | G9: =VLOOKUP($A9,'PPTO '!$B$9:'PPTO '!$S$26,17,FALSE()) -> 14721729 | H9: =VLOOKUP($A9,'PPTO '!$B$9:'PPTO '!$S$26,18,FALSE()) -> 64489894 | I9: =SUM(D9:H9) -> 266020813
A10: 6 | C10: ='PPTO '!C19 -> DESMONTE BARANDA EXISTENTE | D10: =VLOOKUP($A10,'PPTO '!$B$9:'PPTO '!$S$26,11,FALSE()) -> 6570825 | E10: =VLOOKUP($A10,'PPTO '!$B$9:'PPTO '!$S$26,13,FALSE()) -> 0 | F10: =VLOOKUP($A10,'PPTO '!$B$9:'PPTO '!$S$26,15,FALSE()) -> 408588 | G10: =VLOOKUP($A10,'PPTO '!$B$9:'PPTO '!$S$26,17,FALSE()) -> 8038329 | H10: =VLOOKUP($A10,'PPTO '!$B$9:'PPTO '!$S$26,18,FALSE()) -> 4805677 | I10: =SUM(D10:H10) -> 19823419
A11: 7 | C11: ='PPTO '!C21 -> LAVADA Y DESCONTAMINACION CARCAMO | D11: =VLOOKUP($A11,'PPTO '!$B$9:'PPTO '!$S$26,11,FALSE()) -> 1615400 | E11: =VLOOKUP($A11,'PPTO '!$B$9:'PPTO '!$S$26,13,FALSE()) -> 7660800 | F11: =VLOOKUP($A11,'PPTO '!$B$9:'PPTO '!$S$26,15,FALSE()) -> 407200 | G11: =VLOOKUP($A11,'PPTO '!$B$9:'PPTO '!$S$26,17,FALSE()) -> 1081732 | H11: =VLOOKUP($A11,'PPTO '!$B$9:'PPTO '!$S$26,18,FALSE()) -> 3444842 | I11: =SUM(D11:H11) -> 14209974
A12: 8 | C12: ='PPTO '!C23 -> HOMOLOGACION FEDEPATIN | D12: =VLOOKUP($A12,'PPTO '!$B$9:'PPTO '!$S$26,11,FALSE()) -> 0 | E12: =VLOOKUP($A12,'PPTO '!$B$9:'PPTO '!$S$24,13,FALSE()) -> 42383610 | F12: =VLOOKUP($A12,'PPTO '!$B$9:'PPTO '!$S$26,15,FALSE()) -> 0 | G12: =VLOOKUP($A12,'PPTO '!$B$9:'PPTO '!$S$26,17,FALSE()) -> 0 | H12: =VLOOKUP($A12,'PPTO '!$B$9:'PPTO '!$S$26,18,FALSE()) -> 13562755 | I12: =SUM(D12:H12) -> 55946365
A13: 9 | C13: ='PPTO '!C25 -> VALLA INFORMATIVA GENERAL DEL PROYECTO | D13: =APUS!G299 -> 4967 | E13: =APUS!G289 -> 104884 | F13: =APUS!G303 -> 3220.5904 | G13: =APUS!G294 -> 46358 | H13: =(D13+E13+F13+G13)*('PPTO '!F33+'PPTO '!F31+'PPTO '!F32) -> 51017.469 | I13: =SUM(D13:H13) -> 210447.06
C15: COSTO TOTAL | D15: =SUM(D5:D13) -> 38460576 | E15: =SUM(E5:E13) -> 4.2190012e+08 | F15: =SUM(F5:F13) -> 15015638 | G15: =SUM(G5:G13) -> 50499157 | H15: =SUM(H5:H13) -> 1.6828016e+08 | I15: =SUM(D15:H15) -> 6.9415565e+08
H17: Valor total | I17: =SUM(I15:I15) -> 6.9415565e+08
C20: Proyectó: CRISTIAN ALBERTO ORTEGON VEGA
C21: ARQUITECTO CONTRATISTA
C22: TP: A253012011-16074410

Sheet MEMORIA  1 - DESTRONQUE Y LIJAD
B2: MEMORIAS - CANTIDADES DE OBRA
L5: MUNICIPIO DE VILLAMARIA DEPARTAMENTO DE CALDAS
B6: "MEJORAMIENTO Y ADECUACION DE LA PISTA DE PATINAJE DEL PARQUE VILLA DIANA, MUNICIPIO DE VILLAMARIA - CALDAS"
B7: DESTRONQUE Y LIJADA
B9: ÍTEM: | C9: Destronque y lijada de pista de velocidad para generar perfil de anclaje. | K9: UNIDAD: | L9: M2
B10: No. | C10: 1.1 | K10: COSTO ÍTEM: | L10: =APUS!G4 -> 4905.6
K11: VALOR TOTAL ÍTEM: | L11: =ROUND(L10*K15,0) -> 6370608
B13: FECHA | D13: ABSCISA | F13: DIMENSIONES | I13: CANTIDAD | J13: AREA | K13: TOTAL | L13: OBSERVACIONES
B14: Día | C14: Mes | D14: Inicial | E14: Final | F14: Largo | G14: Ancho | H14: Alto | J14: M2 | K14: ACUMULADO | L14: (ACTIVIDAD A LA QUE CORRESPONDA)
F15: 216.44 | G15: 6 | J15: =F15*G15 -> 1298.64 | K15: =+J15 -> 1298.64 | L15: Area pista de patinaje
K16: =+J16 -> 0
K17: =+J17 -> 0
K18: =ROUND(SUM(K15:K17),2) -> 1298.64
K25: Proyectó: CRISTIAN ALBERTO ORTEGON VEGA
K26: ARQUITECTO CONTRATISTA
K27: TP: A253012011-16074410

Sheet MEMORIA  2 - LAVADA Y DESCONTAM
B2: MEMORIAS - CANTIDADES DE OBRA
L5: MUNICIPIO DE VILLAMARIA DEPARTAMENTO DE CALDAS
B6: "MEJORAMIENTO Y ADECUACION DE LA PISTA DE PATINAJE DEL PARQUE VILLA DIANA, MUNICIPIO DE VILLAMARIA - CALDAS"
B7: LAVADA Y DESCONTAMINADA
B9: ÍTEM: | C9: Lavada y descontaminada de pista. Incluye tratamiento de 825 ml de juntas de dilatación entre losas de concreto por medio de sello flexible, malla de refuerzo y polímero y empozamientos menores a 3 mm. | K9: UNIDAD: | L9: M2
B10: No. | C10: 2.1 | K10: COSTO ÍTEM: | L10: =APUS!G37 -> 30395.64
K11: VALOR TOTAL ÍTEM: | L11: =L10*K15 -> 39472994
B13: FECHA | D13: ABSCISA | F13: DIMENSIONES | I13: CANTIDAD | J13: UNIDAD | K13: TOTAL | L13: OBSERVACIONES
B14: Día | C14: Mes | D14: Inicial | E14: Final | F14: Largo | G14: Ancho | H14: Alto | J14: UN | K14: ACUMULADO | L14: (ACTIVIDAD A LA QUE CORRESPONDA)
F15: 216.44 | G15: 6 | J15: =F15*G15 -> 1298.64 | K15: =+J15 -> 1298.64 | L15: Area pista de patinaje
K16: =+J16 -> 0
K17: =+J17 -> 0
K18: =ROUND(SUM(K15:K17),2) -> 1298.64
K25: Proyectó: CRISTIAN ALBERTO ORTEGON VEGA
K26: ARQUITECTO CONTRATISTA
K27: TP:A253012011-16074410

Sheet MEMORIA  3 - RECUBRIMIENTO SINT
B2: MEMORIAS - CANTIDADES DE OBRA
L5: MUNICIPIO DE VILLAMARIA DEPARTAMENTO DE CALDAS
B6: "MEJORAMIENTO Y ADECUACION DE LA PISTA DE PATINAJE DEL PARQUE VILLA DIANA, MUNICIPIO DE VILLAMARIA - CALDAS"
B7: APLICACIÓN DE RECUBRIMIENTO SINTETICO
B9: ÍTEM: | C9: Suministro, transporte y aplicación de recubrimiento sintético en cinco (5) capas para pista de velocidad: incluye una capa de autonivelante, una capa PACK LEVEL, tres capas de recubrimiento sintético LATEX AR, color azul. Demarcación de linea interna, meta y contra meta en color blanco. (Producto Avalado por FEDEPATIN COLOMBIA). | K9: UNIDAD: | L9: M2
B10: No. | C10: 3.1 | K10: COSTO ÍTEM: | L10: =APUS!G69 -> 138982.32
K11: VALOR TOTAL ÍTEM: | L11: =L10*K15 -> 1.80488e+08
B13: FECHA | D13: ABSCISA | F13: DIMENSIONES | I13: CANTIDAD | J13: UNIDAD | K13: TOTAL | L13: OBSERVACIONES
B14: Día | C14: Mes | D14: Inicial | E14: Final | F14: Largo | G14: Ancho | H14: Alto | J14: UN | K14: ACUMULADO | L14: (ACTIVIDAD A LA QUE CORRESPONDA)
F15: 216.44 | G15: 6 | J15: =F15*G15 -> 1298.64 | K15: =+J15 -> 1298.64 | L15: Area pista de patinaje
K16: =+J16 -> 0
K17: =+J17 -> 0
K18: =ROUND(SUM(K15:K17),2) -> 1298.64
K25: Proyectó: CRISTIAN ALBERTO ORTEGON VEGA
K26: ARQUITECTO CONTRATISTA
K27: TP: A253012011-16074410

Sheet MEMORIA  4 - REDUCTORES DE VELO
B2: MEMORIAS - CANTIDADES DE OBRA
L5: MUNICIPIO DE VILLAMARIA DEPARTAMENTO DE CALDAS
B6: "MEJORAMIENTO Y ADECUACION DE LA PISTA DE PATINAJE DEL PARQUE VILLA DIANA, MUNICIPIO DE VILLAMARIA - CALDAS"
B7: REDUCTORES DE VELOCIDAD
B9: ÍTEM: | C9: Suministro, transporte e instalación de reductores de velocidad. Garantia por instalación 6 meses. (Producto Avalado por FEDEPATIN COLOMBIA). | K9: UNIDAD: | L9: UND
B10: No. | C10: 4.1 | K10: COSTO ÍTEM: | L10: =APUS!G101 -> 36650.96
K11: VALOR TOTAL ÍTEM: | L11: =ROUND(L10*K15,0) -> 29687278
B13: FECHA | D13: ABSCISA | F13: DIMENSIONES | I13: CANTIDAD | J13: UNIDAD | K13: TOTAL | L13: OBSERVACIONES
B14: Día | C14: Mes | D14: Inicial | E14: Final | F14: Largo | G14: Ancho | H14: Alto | J14: UN | K14: ACUMULADO | L14: (ACTIVIDAD A LA QUE CORRESPONDA)
I15: 1 | J15: 810 | K15: =+J15 -> 810 | L15: Reductores
K16: =+J16 -> 0
K17: =+J17 -> 0
K18: =ROUND(SUM(K15:K17),0) -> 810
K25: Proyectó: CRISTIAN ALBERTO ORTEGON VEGA
K26: ARQUITECTO CONTRATISTA
K27: TP: A253012011-16074410

Sheet MEMORIA  5 - BARANDA DE PROTECC
B2: MEMORIAS - CANTIDADES DE OBRA
L5: MUNICIPIO DE VILLAMARIA DEPARTAMENTO DE CALDAS
B6: "MEJORAMIENTO Y ADECUACION DE LA PISTA DE PATINAJE DEL PARQUE VILLA DIANA, MUNICIPIO DE VILLAMARIA - CALDAS"
B7: BARANDA DE PROTECCION
B9: ÍTEM: | C9: Suministro, transporte y colocación de pasamanos metálico de protección para pista de patinaje de VELOCIDAD, con policarbonato de 6 mm, fijado a estructura por medio de remaches POP de 5/32 x 5/8" 5-8. Bolillo interior en tubería negra pesada de 2" x 1.5 mm. Con parales principales verticales en tuberia negra redonda de 2", de altura 1.20 metros separados cada 2.90 a 3,00 mt anclados a piso con platina en acero tipo ASTM A36 de 10 x 15 cm de 1/8" y cuatro chazos concreto expansivo de 3/8" x 1-7/8". Parales intermedios rectangulares de 2" x 1" calibre 20, de altura 1.20 metros, anclados a piso con varilla de hierro de 3/8", separados cada 2.90 a 3,00 metros. Angulo de 1" x 1/8" para soporte de policarbonato. Bandeja inferior en lámina galvanizada de 22,5 cm calibre 22, con banda de protección en neopreno de 20 cm de alto y 6 mm de espesor, adherido a la lámina por medio de pegante sintético. Incluye: soldadura de acabado, pulida y masillada, una mano de anticorrosivo tipo 1 y dos manos de pintura esmalte tipo pintulux 3 en 1 y todo lo necesario para su correcta instalación y funcionamiento. (Producto Avalado por FEDEPATIN). Incluye aprovechamiento de bolillo superior e intermedio de la baranda actual. | K9: UNIDAD: | L9: ML
B10: No. | C10: 5.1 | K10: COSTO ÍTEM: | L10: =APUS!G137 -> 850340.73
K11: VALOR TOTAL ÍTEM: | L11: =L10*K15 -> 2.0153075e+08
B13: FECHA | D13: ABSCISA | F13: DIMENSIONES | I13: CANTIDAD | J13: UNIDAD | K13: TOTAL | L13: OBSERVACIONES
B14: Día | C14: Mes | D14: Inicial | E14: Final | F14: Largo | G14: Ancho | H14: Alto | J14: UN | K14: ACUMULADO | L14: (ACTIVIDAD A LA QUE CORRESPONDA)
F15: 237 | I15: 1 | J15: 1 | K15: =F15*I15 -> 237 | L15: Baranda de protección
K16: =+J16 -> 0
K17: =+J17 -> 0
K18: =ROUND(SUM(K15:K17),2) -> 237
K25: Proyectó: CRISTIAN ALBERTO ORTEGON VEGA
K26: ARQUITECTO CONTRATISTA
K27: TP: A253012011-16074410

Sheet frente2
C1: Localizacion: Campo Rubiales (Meta) | I1: CONTRATO No.: | L1: ACTA DE OBRA No. | M1: =+#REF! -> #REF!
C2: Contratista: | I2: PLAZO TOTAL: | L2: FECHA
C3: Objeto: | I3: FECHA DE INICIO: | L3: PERIODO FACTURADO
C4: Obra: | I4: FECHA DE VENCIMIENTO: | L4: DESDE
I5: SAP | J5: =+K1 -> 0 | L5: HASTA
A7: ITEM | B7: DESCRIPCION | C7: CONDICIONES INICIALES | G7: ACTA Nº 1 | I7: PRE
C8: UNIDAD | D8: CANTIDAD | E8: VALOR UNITARIO | F8: VALOR TOTAL | G8: CANTIDAD | H8: VALOR TOTAL | I8: ACUMULADO RECIBIDO | K8: SALDO POR EJECUTAR | M8: MAYOR CANTIDAD EJECUTADA
D9: VALOR UNITARIO | E9: VALOR UNITARIO | G9: VALOR UNITARIO | H9: CANTIDAD | I9: CANTIDAD | J9: VALOR TOTAL | K9: CANTIDAD | L9: VALOR TOTAL | M9: CANTIDAD | N9: VALOR TOTAL
A10: 1 | B10: CAPITULO
B11: Unitario 1
B12: Unitario 2
B13: Unitario 3
B17: SUBTOTAL | F17: =ROUND(SUM(F10:F16),0) -> 0 | H17: =ROUND(SUM(H10:H16),0) -> 0 | J17: =ROUND(SUM(J10:J16),0) -> 0 | L17: =ROUND(SUM(L10:L16),0) -> 0 | N17: =ROUND(SUM(N10:N16),0) -> 0
B18: ADMINISTRACION | F18: =ROUND(F$17*$C18,0) -> 0 | H18: =ROUND(H$17*$C18,0) -> 0 | J18: =ROUND(J$17*$C18,0) -> 0 | L18: =ROUND(L$17*$C18,0) -> 0 | N18: =ROUND(N$17*$C18,0) -> 0
B19: IMPREVISTOS | F19: =ROUND(F$17*$C19,0) -> 0 | H19: =ROUND(H$17*$C19,0) -> 0 | J19: =ROUND(J$17*$C19,0) -> 0 | L19: =ROUND(L$17*$C19,0) -> 0 | N19: =ROUND(N$17*$C19,0) -> 0
B20: UTILIDAD | F20: =ROUND(F$17*$C20,0) -> 0 | H20: =ROUND(H$17*$C20,0) -> 0 | J20: =ROUND(J$17*$C20,0) -> 0 | L20: =ROUND(L$17*$C20,0) -> 0 | N20: =ROUND(N$17*$C20,0) -> 0
B21: IVA S/UTILIDAD | C21: 0.16 | F21: =ROUND(F20*$C21,0) -> 0 | H21: =ROUND(H20*$C21,0) -> 0 | J21: =ROUND(J20*$C21,0) -> 0 | L21: =ROUND(L20*$C21,0) -> 0 | N21: =ROUND(N20*$C21,0) -> 0
B22: TOTAL | F22: =SUM(F17:F21) -> 0 | H22: =SUM(H17:H21) -> 0 | J22: =SUM(J17:J21) -> 0 | L22: =SUM(L17:L21) -> 0 | N22: =SUM(N17:N21) -> 0
A25: Firma: | G25: Firma
A26: Nombre Administrador de Contrato
A27: Firma:
A28: Nombre Coordinador en campo | G28: Nombre Director de Obra Contratista

Sheet TK ALM 100k
C1: PACIFIC RUBIALES ENERGY META PETROLEUM CORP. Campo Rubiales Proyecto Cimentación Infraestructura 2008-2010
C2: TANK 100k (Cimentación anillo Tk 100k) | I2: CANTIDADES
A3: ITEM | B3: DESCRIPCIÓN | C3: UND. | D3: CANT. | E3: V. UNIT. | F3: V. TOTAL | I3: REAL | J3: REAL (+10%)
A4: 1 | B4: CIMENTACION ANILLO | J4: =ROUND(I4*1.1,0) -> 0
A5: 1.01 | B5: Localizacion y replanteo | C5: m3 | D5: 11550 | E5: =+VLOOKUP(B5,#REF!,3,FALSE()) -> #REF! | F5: =+D5*E5 -> #REF! | I5: 10500 | J5: =ROUND(I5*1.1,0) -> 11550
A6: 2.01 | B6: Excavacion Manual | C6: m3 | D6: 33 | E6: =+VLOOKUP(B6,#REF!,3,FALSE()) -> #REF! | F6: =+D6*E6 -> #REF! | I6: 30 | J6: =ROUND(I6*1.1,0) -> 33
A7: 2.02 | B7: Excavacion Mecanica | C7: m3 | D7: 1811 | E7: =+VLOOKUP(B7,#REF!,3,FALSE()) -> #REF! | F7: =+D7*E7 -> #REF! | I7: 1646 | J7: =ROUND(I7*1.1,0) -> 1811
A8: 2.04 | B8: Relleno material de excavacion | C8: m3 | D8: 66 | E8: =+VLOOKUP(B8,#REF!,3,FALSE()) -> #REF! | F8: =+D8*E8 -> #REF! | I8: 60 | J8: =ROUND(I8*1.1,0) -> 66
A9: 2.05 | B9: Concreto 1500psi | C9: m3 | D9: 5 | E9: =+VLOOKUP(B9,#REF!,3,FALSE()) -> #REF! | F9: =+D9*E9 -> #REF! | I9: 4.1 | J9: =ROUND(I9*1.1,0) -> 5
A10: 2.06 | B10: Anillo 4000psi | C10: m3 | D10: 88 | E10: =+VLOOKUP(B10,#REF!,3,FALSE()) -> #REF! | F10: =+D10*E10 -> #REF! | I10: 80 | J10: =ROUND(I10*1.1,0) -> 88
A11: 4.01 | B11: Acero de refuerzo | C11: kg | D11: 18198 | E11: =+VLOOKUP(B11,#REF!,3,FALSE()) -> #REF! | F11: =+D11*E11 -> #REF! | I11: 16544 | J11: =ROUND(I11*1.1,0) -> 18198
A12: 5.01 | B12: Relleno Estructural 6A | C12: m3 | D12: 913 | E12: =+VLOOKUP(B12,#REF!,3,FALSE()) -> #REF! | F12: =+D12*E12 -> #REF! | I12: 830 | J12: =ROUND(I12*1.1,0) -> 913
A13: 5.02 | B13: Relleno Estructural 6B | C13: m3 | D13: 793 | E13: =+VLOOKUP(B13,#REF!,3,FALSE()) -> #REF! | F13: =+D13*E13 -> #REF! | I13: 721 | J13: =ROUND(I13*1.1,0) -> 793
A14: 5.03 | B14: Relleno Estructural 6C | C14: m3 | D14: 661 | E14: =+VLOOKUP(B14,#REF!,3,FALSE()) -> #REF! | F14: =+D14*E14 -> #REF! | I14: 601 | J14: =ROUND(I14*1.1,0) -> 661
A15: 5.05 | B15: Bentonita | C15: kg | D15: 31508 | E15: =+VLOOKUP(B15,#REF!,3,FALSE()) -> #REF! | F15: =+D15*E15 -> #REF! | I15: 28644 | J15: =ROUND(I15*1.1,0) -> 31508
A16: 6.02 | B16: Geotextil NT1600 | C16: m2 | D16: 3476 | E16: =+VLOOKUP(B16,#REF!,3,FALSE()) -> #REF! | F16: =+D16*E16 -> #REF! | I16: 3160 | J16: =ROUND(I16*1.1,0) -> 3476
... A21: 10.1 | B21: Demolición concreto | C21: m3 | D21: 1 | E21: =+VLOOKUP(B21,#REF!,3,FALSE()) -> #REF! | F21: =+D21*E21 -> #REF! | I21: 1 | J21: =ROUND(I21*1.1,0) -> 1
A22: 2 | B22: ENDURECIMIENTO AREA TANQUE | J22: =ROUND(I22*1.1,0) -> 0
A23: 1.02 | B23: Adecuacion areas a mano | C23: m2 | D23: 7418 | E23: =+VLOOKUP(B23,#REF!,3,FALSE()) -> #REF! | F23: =+D23*E23 -> #REF! | I23: 6744 | J23: =ROUND(I23*1.1,0) -> 7418
A24: 2.11 | B24: Placa contrapiso 2500psi | C24: m3 | D24: 743 | E24: =+VLOOKUP(B24,#REF!,3,FALSE()) -> #REF! | F24: =+D24*E24 -> #REF! | I24: 675 | J24: =ROUND(I24*1.1,0) -> 743
A25: 2.23 | B25: Junta de dilatacion | C25: ml | D25: 5935 | E25: =+VLOOKUP(B25,#REF!,3,FALSE()) -> #REF! | F25: =+D25*E25 -> #REF! | I25: 5395 | J25: =ROUND(I25*1.1,0) -> 5935
A26: 4.04 | B26: Malla electrosoldada | C26: kg | D26: 41544 | E26: =+VLOOKUP(B26,#REF!,3,FALSE()) -> #REF! | F26: =+D26*E26 -> #REF! | I26: 37767 | J26: =ROUND(I26*1.1,0) -> 41544
A27: 3 | B27: DIQUES | J27: =ROUND(I27*1.1,0) -> 0
A28: 1.03 | B28: Perfilada manual dique | C28: m2 | D28: 2402 | E28: =+VLOOKUP(B28,#REF!,3,FALSE()) -> #REF! | F28: =+D28*E28 -> #REF! | I28: 2184 | J28: =ROUND(I28*1.1,0) -> 2402
A29: 2.13 | B29: Junta de dilatacion | C29: ml | D29: 2187 | E29: =+VLOOKUP(B29,#REF!,3,FALSE()) -> #REF! | F29: =+D29*E29 -> #REF! | I29: 1988 | J29: =ROUND(I29*1.1,0) -> 2187
A30: 3.02 | B30: Caja concreto 0,8 2500psi | C30: un | D30: 7 | E30: =+VLOOKUP(B30,#REF!,3,FALSE()) -> #REF! | F30: =+D30*E30 -> #REF! | I30: 6 | J30: =ROUND(I30*1.1,0) -> 7
A31: 4.02 | B31: Malla electrosoldada | C31: kg | D31: 13454 | E31: =+VLOOKUP(B31,#REF!,3,FALSE()) -> #REF! | F31: =+D31*E31 -> #REF! | I31: 12231 | J31: =ROUND(I31*1.1,0) -> 13454
A32: 10.08 | B32: Mortero en cemento 1:4 | C32: m3 | D32: 241 | E32: =+VLOOKUP(B32,#REF!,3,FALSE()) -> #REF! | F32: =+D32*E32 -> #REF! | I32: 219 | J32: =ROUND(I32*1.1,0) -> 241
A33: 4.01 | B33: Acero de refuerzo | C33: kg | D33: 1247 | E33: =+VLOOKUP(B33,#REF!,3,FALSE()) -> #REF! | F33: =+D33*E33 -> #REF! | I33: 1134 | J33: =ROUND(I33*1.1,0) -> 1247
A34: 2.07 | B34: Cimentacion 3000psi | C34: m3 | D34: 21 | E34: =+VLOOKUP(B34,#REF!,3,FALSE()) -> #REF! | F34: =+D34*E34 -> #REF! | I34: 19 | J34: =ROUND(I34*1.1,0) -> 21
B37: SUBTOTAL | F37: =ROUND(SUM(F4:F36),0) -> #REF! | J37: =F37/100 -> #REF!
B38: ADMINISTRACION | C38: 0.23 | F38: =ROUND($F$37*C38,0) -> #REF!
B39: IMPREVISTOS | C39: 0.02 | F39: =ROUND($F$37*C39,0) -> #REF!
B40: UTILIDAD | C40: 0.05 | F40: =ROUND($F$37*C40,0) -> #REF!
B41: IVA S/UTILIDAD | C41: 0.16 | F41: =ROUND(F40*C41,0) -> #REF!
B42: TOTAL | F42: =SUM(F37:F41) -> #REF!
B45: =+SUMIF(B4:B34,"=Malla electrosoldada",D4:D34) -> 54998

Sheet TANK DREN
C1: PACIFIC RUBIALES ENERGY META PETROLEUM CORP. Campo Rubiales Proyecto Cimentación Infraestructura 2008-2010
C2: TANQUE DRENAJE DE PTA | I2: CANTIDADES
A3: ITEM | B3: DESCRIPCIÓN | C3: UND. | D3: CANT. | E3: V. UNIT. | F3: V. TOTAL | I3: REAL | J3: REAL (+10%)
A4: 1 | B4: PISCINA
A5: 1.01 | B5: Localizacion y replanteo | C5: m2 | D5: 194 | E5: =+VLOOKUP(B5,#REF!,3,FALSE()) -> #REF! | F5: =+D5*E5 -> #REF! | I5: 176 | J5: =ROUND(I5*1.1,0) -> 194
A6: 2.01 | B6: Excavacion Manual | C6: m3 | D6: 22 | E6: =+VLOOKUP(B6,#REF!,3,FALSE()) -> #REF! | F6: =+D6*E6 -> #REF! | I6: 20 | J6: =ROUND(I6*1.1,0) -> 22
A7: 2.02 | B7: Excavacion Mecanica | C7: m3 | D7: 506 | E7: =+VLOOKUP(B7,#REF!,3,FALSE()) -> #REF! | F7: =+D7*E7 -> #REF! | I7: 460 | J7: =ROUND(I7*1.1,0) -> 506
A8: 1.02 | B8: Adecuacion areas a mano | C8: m2 | D8: 22 | E8: =+VLOOKUP(B8,#REF!,3,FALSE()) -> #REF! | F8: =+D8*E8 -> #REF! | I8: 20 | J8: =ROUND(I8*1.1,0) -> 22
A9: 2.05 | B9: Concreto 1500psi | C9: m3 | D9: 12 | E9: =+VLOOKUP(B9,#REF!,3,FALSE()) -> #REF! | F9: =+D9*E9 -> #REF! | I9: 11 | J9: =ROUND(I9*1.1,0) -> 12
A10: 2.07 | B10: Cimentacion 3000psi | C10: m3 | D10: 68 | E10: =+VLOOKUP(B10,#REF!,3,FALSE()) -> #REF! | F10: =+D10*E10 -> #REF! | I10: 62 | J10: =ROUND(I10*1.1,0) -> 68
A11: 2.09 | B11: Concreto muro 3000psi | C11: m3 | D11: 86 | E11: =+VLOOKUP(B11,#REF!,3,FALSE()) -> #REF! | F11: =+D11*E11 -> #REF! | I11: 78 | J11: =ROUND(I11*1.1,0) -> 86
A12: 2.28 | B12: Cinta PVC | C12: ml | D12: 149 | E12: =+VLOOKUP(B12,#REF!,3,FALSE()) -> #REF! | F12: =+D12*E12 -> #REF! | I12: 135 | J12: =ROUND(I12*1.1,0) -> 149
A13: 4.01 | B13: Acero de refuerzo | C13: kg | D13: 13882 | E13: =+VLOOKUP(B13,#REF!,3,FALSE()) -> #REF! | F13: =+D13*E13 -> #REF! | I13: 12620 | J13: =ROUND(I13*1.1,0) -> 13882
A14: 2 | B14: BOMBAS
A15: 1.01 | B15: Localizacion y replanteo | C15: m2 | D15: 55 | E15: =+VLOOKUP(B15,#REF!,3,FALSE()) -> #REF! | F15: =+D15*E15 -> #REF! | I15: 50 | J15: =ROUND(I15*1.1,0) -> 55
A16: 2.01 | B16: Excavacion Manual | C16: m3 | D16: 7 | E16: =+VLOOKUP(B16,#REF!,3,FALSE()) -> #REF! | F16: =+D16*E16 -> #REF! | I16: 6 | J16: =ROUND(I16*1.1,0) -> 7
A17: 2.25 | B17: Perno anclaje 3/4 pulg | C17: un | D17: 33 | E17: =+VLOOKUP(B17,#REF!,3,FALSE()) -> #REF! | F17: =+D17*E17 -> #REF! | I17: 30 | J17: =ROUND(I17*1.1,0) -> 33
A18: 2.05 | B18: Concreto 1500psi | C18: m3 | D18: 3 | E18: =+VLOOKUP(B18,#REF!,3,FALSE()) -> #REF! | F18: =+D18*E18 -> #REF! | I18: 3 | J18: =ROUND(I18*1.1,0) -> 3
A19: 2.13 | B19: Base 3000psi | C19: m3 | D19: 13 | E19: =+VLOOKUP(B19,#REF!,3,FALSE()) -> #REF! | F19: =+D19*E19 -> #REF! | I19: 12 | J19: =ROUND(I19*1.1,0) -> 13
A20: 2.11 | B20: Placa contrapiso 2500psi | C20: m3 | D20: 6 | E20: =+VLOOKUP(B20,#REF!,3,FALSE()) -> #REF! | F20: =+D20*E20 -> #REF! | I20: 5 | J20: =ROUND(I20*1.1,0) -> 6
A21: 4.04 | B21: Malla electrosoldada | C21: kg | D21: 400 | E21: =+VLOOKUP(B21,#REF!,3,FALSE()) -> #REF! | F21: =+D21*E21 -> #REF! | I21: 5 | J21: =ROUND(I21*1.1,0) -> 6
A22: 4.05 | B22: Estructura Metalica | C22: kg | D22: 2200 | E22: =+VLOOKUP(B22,#REF!,3,FALSE()) -> #REF! | F22: =+D22*E22 -> #REF! | I22: 2000 | J22: =ROUND(I22*1.1,0) -> 2200
A23: 3 | B23: CAJAS CONCRETO | J23: =ROUND(I23*1.1,0) -> 0
A24: 3.01 | B24: Trampa grasas 1,2x1,2 | C24: un | D24: 1 | E24: =+VLOOKUP(B24,#REF!,3,FALSE()) -> #REF! | F24: =+D24*E24 -> #REF! | I24: 1 | J24: =ROUND(I24*1.1,0) -> 1
B27: SUBTOTAL | F27: =ROUND(SUM(F4:F25),0) -> #REF!
B28: ADMINISTRACION | C28: 0.23 | F28: =ROUND($F$27*C28,0) -> #REF!
B29: IMPREVISTOS | C29: 0.02 | F29: =ROUND($F$27*C29,0) -> #REF!
B30: UTILIDAD | C30: 0.05 | F30: =ROUND($F$27*C30,0) -> #REF!
B31: IVA S/UTILIDAD | C31: 0.16 | F31: =ROUND(F30*C31,0) -> #REF!
B32: TOTAL | F32: =SUM(F27:F31) -> #REF!

Sheet Pad inyeccion
C1: PACIFIC RUBIALES ENERGY META PETROLEUM ltd Campo Rubiales Proyecto Cimentacion Infraestructura 2008-2010
C2: Pad Inyeccion
A3: ITEM | B3: DESCRIPCION | C3: UND | D3: CANT. | E3: V. UNIT | F3: V. TOTAL
A4: 2 | B4: TANQUE ACPM
A5: 2.01 | B5: Excavacion Manual | C5: m3 | D5: 16.8 | E5: =+VLOOKUP(B5,#REF!,3,FALSE()) -> #REF! | F5: =+D5*E5 -> #REF!
A6: 2.01 | B6: Excavacion Mecanica | C6: m3 | D6: 0 | E6: =+VLOOKUP(B6,#REF!,3,FALSE()) -> #REF! | F6: =+D6*E6 -> #REF!
A7: 2.02 | B7: Relleno material de excavacion | C7: m3 | D7: 3.6 | E7: =+VLOOKUP(B7,#REF!,3,FALSE()) -> #REF! | F7: =+D7*E7 -> #REF!
A8: 2.03 | B8: Concreto 1500psi | C8: m3 | D8: 4 | E8: =+VLOOKUP(B8,#REF!,3,FALSE()) -> #REF! | F8: =+D8*E8 -> #REF!
A9: 2.07 | B9: Concreto muro 3000psi | C9: m3 | D9: 17 | E9: =+VLOOKUP(B9,#REF!,3,FALSE()) -> #REF! | F9: =+D9*E9 -> #REF!
A10: 2.1 | B10: Base 3000psi | C10: m3 | D10: 15 | E10: =+VLOOKUP(B10,#REF!,3,FALSE()) -> #REF! | F10: =+D10*E10 -> #REF!
A11: 2.11 | B11: Carcamo 3000psi | C11: m3 | D11: 1 | E11: =+VLOOKUP(B11,#REF!,3,FALSE()) -> #REF! | F11: =+D11*E11 -> #REF!
A12: 2.13 | B12: Junta de dilatacion | C12: ml | D12: 60 | E12: =+VLOOKUP(B12,#REF!,3,FALSE()) -> #REF! | F12: =+D12*E12 -> #REF!
A13: 3.01 | B13: Trampa grasas 1,2x1,2 | C13: un | D13: 1.2 | E13: =+VLOOKUP(B13,#REF!,3,FALSE()) -> #REF! | F13: =+D13*E13 -> #REF!
A14: 4.01 | B14: Acero de refuerzo | C14: kg | D14: 2700 | E14: =+VLOOKUP(B14,#REF!,3,FALSE()) -> #REF! | F14: =+D14*E14 -> #REF!
A15: 4.02 | B15: Malla electrosoldada | C15: kg | D15: 125 | E15: =+VLOOKUP(B15,#REF!,3,FALSE()) -> #REF! | F15: =+D15*E15 -> #REF!
A16: 10.02 | B16: Valvula Bola 2 pulg | C16: un | D16: 2 | E16: =+VLOOKUP(B16,#REF!,3,FALSE()) -> #REF! | F16: =+D16*E16 -> #REF!
A17: 3 | B17: GENERADORES
A18: 2.01 | B18: Excavacion Manual | C18: m3 | D18: 60 | E18: =+VLOOKUP(B18,#REF!,3,FALSE()) -> #REF! | F18: =+D18*E18 -> #REF!
A19: 2.01 | B19: Excavacion Mecanica | C19: m3 | D19: 0 | E19: =+VLOOKUP(B19,#REF!,3,FALSE()) -> #REF! | F19: =+D19*E19 -> #REF!
A20: 2.02 | B20: Relleno material de excavacion | C20: m3 | D20: 20 | E20: =+VLOOKUP(B20,#REF!,3,FALSE()) -> #REF! | F20: =+D20*E20 -> #REF!
A21: 2.03 | B21: Concreto 1500psi | C21: m3 | D21: 10 | E21: =+VLOOKUP(B21,#REF!,3,FALSE()) -> #REF! | F21: =+D21*E21 -> #REF!
A22: 2.08 | B22: Bordillo 2500psi | C22: m3 | D22: 2 | E22: =+VLOOKUP(B22,#REF!,3,FALSE()) -> #REF! | F22: =+D22*E22 -> #REF!
A23: 2.09 | B23: Placa contrapiso 2500psi | C23: m3 | D23: 2 | E23: =+VLOOKUP(B23,#REF!,3,FALSE()) -> #REF! | F23: =+D23*E23 -> #REF!
A24: 2.1 | B24: Base 3000psi | C24: m3 | D24: 26 | E24: =+VLOOKUP(B24,#REF!,3,FALSE()) -> #REF! | F24: =+D24*E24 -> #REF!
A25: 2.11 | B25: Carcamo 3000psi | C25: m3 | D25: 10 | E25: =+VLOOKUP(B25,#REF!,3,FALSE()) -> #REF! | F25: =+D25*E25 -> #REF!
A26: 2.13 | B26: Junta de dilatacion | C26: ml | D26: 192 | E26: =+VLOOKUP(B26,#REF!,3,FALSE()) -> #REF! | F26: =+D26*E26 -> #REF!
A27: 4.01 | B27: Acero de refuerzo | C27: kg | D27: 300 | E27: =+VLOOKUP(B27,#REF!,3,FALSE()) -> #REF! | F27: =+D27*E27 -> #REF!
A28: 4.02 | B28: Malla electrosoldada | C28: kg | D28: 2500 | E28: =+VLOOKUP(B28,#REF!,3,FALSE()) -> #REF! | F28: =+D28*E28 -> #REF!
A29: 4 | B29: MURO CORTAFUEGO
A30: 2.01 | B30: Excavacion Manual | C30: m3 | D30: 16 | E30: =+VLOOKUP(B30,#REF!,3,FALSE()) -> #REF! | F30: =+D30*E30 -> #REF!
A31: 2.01 | B31: Excavacion Mecanica | C31: m3 | D31: 0 | E31: =+VLOOKUP(B31,#REF!,3,FALSE()) -> #REF! | F31: =+D31*E31 -> #REF!
A32: 2.02 | B32: Relleno material de excavacion | C32: m3 | D32: 4 | E32: =+VLOOKUP(B32,#REF!,3,FALSE()) -> #REF! | F32: =+D32*E32 -> #REF!
A33: 2.03 | B33: Concreto 1500psi | C33: m3 | D33: 4 | E33: =+VLOOKUP(B33,#REF!,3,FALSE()) -> #REF! | F33: =+D33*E33 -> #REF!
A34: 2.05 | B34: Cimentacion 3000psi | C34: m3 | D34: 16 | E34: =+VLOOKUP(B34,#REF!,3,FALSE()) -> #REF! | F34: =+D34*E34 -> #REF!
A35: 2.07 | B35: Concreto muro 3000psi | C35: m3 | D35: 30 | E35: =+VLOOKUP(B35,#REF!,3,FALSE()) -> #REF! | F35: =+D35*E35 -> #REF!
A36: 2.13 | B36: Junta de dilatacion | C36: ml | D36: 45 | E36: =+VLOOKUP(B36,#REF!,3,FALSE()) -> #REF! | F36: =+D36*E36 -> #REF!
A37: 4.01 | B37: Acero de refuerzo | C37: kg | D37: 4200 | E37: =+VLOOKUP(B37,#REF!,3,FALSE()) -> #REF! | F37: =+D37*E37 -> #REF!
A38: 5 | B38: CCM
A39: 2.01 | B39: Excavacion Manual | C39: m3 | D39: 12 | E39: =+VLOOKUP(B39,#REF!,3,FALSE()) -> #REF! | F39: =+D39*E39 -> #REF!
A40: 2.01 | B40: Excavacion Mecanica | C40: m3 | D40: 0 | E40: =+VLOOKUP(B40,#REF!,3,FALSE()) -> #REF! | F40: =+D40*E40 -> #REF!
...

Sheet Foso Bombas
C1: PACIFIC RUBIALES ENERGY META PETROLEUM CORP. Campo Rubiales Proyecto Cimentación Infraestructura 2008-2010
C2: FOSO DE BOMBAS
A3: ITEM | B3: DESCRIPCION | C3: UND | D3: CANT. | E3: V. UNIT | F3: V. TOTAL
B4: FOSO BOMBAS
B5: Localizacion y replanteo | D5: 105 | E5: =+VLOOKUP(B5,#REF!,3,FALSE()) -> #REF! | F5: =+D5*E5 -> #REF!
B6: Excavacion Manual | D6: 20 | E6: =+VLOOKUP(B6,#REF!,3,FALSE()) -> #REF! | F6: =+D6*E6 -> #REF!
B7: Adecuacion areas a mano | D7: 105 | E7: =+VLOOKUP(B7,#REF!,3,FALSE()) -> #REF! | F7: =+D7*E7 -> #REF!
B8: Concreto 1500psi | D8: 7 | E8: =+VLOOKUP(B8,#REF!,3,FALSE()) -> #REF! | F8: =+D8*E8 -> #REF!
B9: Cimentacion 3000psi | D9: 19 | E9: =+VLOOKUP(B9,#REF!,3,FALSE()) -> #REF! | F9: =+D9*E9 -> #REF!
B10: Concreto muro 3000psi | D10: 32 | E10: =+VLOOKUP(B10,#REF!,3,FALSE()) -> #REF! | F10: =+D10*E10 -> #REF!
B11: Carcamo 3000psi | D11: 1 | E11: =+VLOOKUP(B11,#REF!,3,FALSE()) -> #REF! | F11: =+D11*E11 -> #REF!
B12: Placa contrapiso 2500psi | D12: 4 | E12: =+VLOOKUP(B12,#REF!,3,FALSE()) -> #REF! | F12: =+D12*E12 -> #REF!
B13: Cinta PVC | D13: 162 | E13: =+VLOOKUP(B13,#REF!,3,FALSE()) -> #REF! | F13: =+D13*E13 -> #REF!
B14: Acero de refuerzo | D14: 5600 | E14: =+VLOOKUP(B14,#REF!,3,FALSE()) -> #REF! | F14: =+D14*E14 -> #REF!
B15: Malla electrosoldada | D15: 200 | E15: =+VLOOKUP(B15,#REF!,3,FALSE()) -> #REF! | F15: =+D15*E15 -> #REF!
B16: Estructura Metalica | D16: 4000 | E16: =+VLOOKUP(B16,#REF!,3,FALSE()) -> #REF! | F16: =+D16*E16 -> #REF!
B19: SUBTOTAL | F19: =ROUND(SUM(F5:F17),0) -> #REF!
B20: ADMINISTRACION | C20: 0.23 | F20: =ROUND($F$19*C20,0) -> #REF!
B21: IMPREVISTOS | C21: 0.02 | F21: =ROUND($F$19*C21,0) -> #REF!
B22: UTILIDAD | C22: 0.05 | F22: =ROUND($F$19*C22,0) -> #REF!
B23: IVA S/UTILIDAD | C23: 0.16 | F23: =ROUND(F22*C23,0) -> #REF!
B24: TOTAL | F24: =SUM(F19:F23) -> #REF!

Sheet Bmb transf
C1: PACIFIC RUBIALES ENERGY META PETROLEUM CORP. Campo Rubiales Proyecto Cimentación Infraestructura 2008-2010
C2: Bombas y Equipos Varios
A3: ITEM | B3: DESCRIPCION | C3: UND | D3: CANT. | E3: V. UNIT | F3: V. TOTAL
A4: 1.01 | B4: Localizacion y replanteo | C4: =+VLOOKUP($B4,#REF!,2,FALSE()) -> #REF! | D4: 18 | E4: =+VLOOKUP(B4,#REF!,3,FALSE()) -> #REF! | F4: =+D4*E4 -> #REF!
A5: 1.02 | B5: Adecuacion areas a mano | C5: =+VLOOKUP($B5,#REF!,2,FALSE()) -> #REF! | D5: 18 | E5: =+VLOOKUP(B5,#REF!,3,FALSE()) -> #REF! | F5: =+D5*E5 -> #REF!
A6: 2.01 | B6: Excavacion Manual | C6: =+VLOOKUP($B6,#REF!,2,FALSE()) -> #REF! | D6: 7 | E6: =+VLOOKUP(B6,#REF!,3,FALSE()) -> #REF! | F6: =+D6*E6 -> #REF!
A7: 2.03 | B7: Concreto 1500psi | C7: =+VLOOKUP($B7,#REF!,2,FALSE()) -> #REF! | D7: 2 | E7: =+VLOOKUP(B7,#REF!,3,FALSE()) -> #REF! | F7: =+D7*E7 -> #REF!
A8: 2.08 | B8: Bordillo 2500psi | C8: =+VLOOKUP($B8,#REF!,2,FALSE()) -> #REF! | D8: 2 | E8: =+VLOOKUP(B8,#REF!,3,FALSE()) -> #REF! | F8: =+D8*E8 -> #REF!
A9: 2.09 | B9: Placa contrapiso 2500psi | C9: =+VLOOKUP($B9,#REF!,2,FALSE()) -> #REF! | D9: 5 | E9: =+VLOOKUP(B9,#REF!,3,FALSE()) -> #REF! | F9: =+D9*E9 -> #REF!
A10: 2.1 | B10: Base 3000psi | C10: =+VLOOKUP($B10,#REF!,2,FALSE()) -> #REF! | D10: 7 | E10: =+VLOOKUP(B10,#REF!,3,FALSE()) -> #REF! | F10: =+D10*E10 -> #REF!
A11: 2.13 | B11: Junta de dilatacion | C11: =+VLOOKUP($B11,#REF!,2,FALSE()) -> #REF! | D11: 65 | E11: =+VLOOKUP(B11,#REF!,3,FALSE()) -> #REF! | F11: =+D11*E11 -> #REF!
A12: 2.14 | B12: Perno anclaje 3/4 pulg | C12: =+VLOOKUP($B12,#REF!,2,FALSE()) -> #REF! | D12: 24 | E12: =+VLOOKUP(B12,#REF!,3,FALSE()) -> #REF! | F12: =+D12*E12 -> #REF!
A13: 4.01 | B13: Acero de refuerzo | C13: =+VLOOKUP($B13,#REF!,2,FALSE()) -> #REF! | D13: 432 | E13: =+VLOOKUP(B13,#REF!,3,FALSE()) -> #REF! | F13: =+D13*E13 -> #REF!
A14: 4.02 | B14: Malla electrosoldada | C14: =+VLOOKUP($B14,#REF!,2,FALSE()) -> #REF! | D14: 67 | E14: =+VLOOKUP(B14,#REF!,3,FALSE()) -> #REF! | F14: =+D14*E14 -> #REF!
A15: 7.01 | B15: Estructura Metalica | C15: kg | D15: 936 | E15: =+VLOOKUP(B15,#REF!,3,FALSE()) -> #REF! | F15: =+D15*E15 -> #REF!
A16: 7.06 | B16: Teja tipo arquitectonica #6 | C16: m2 | D16: 25 | E16: =+VLOOKUP(B16,#REF!,3,FALSE()) -> #REF! | F16: =+D16*E16 -> #REF!
B19: SUBTOTAL | F19: =ROUND(SUM(F$4:F18),0) -> #REF!
B20: ADMINISTRACION | C20: 0.23 | F20: =ROUND($F$19*C20,0) -> #REF!
B21: IMPREVISTOS | C21: 0.02 | F21: =ROUND($F$19*C21,0) -> #REF!
B22: UTILIDAD | C22: 0.05 | F22: =ROUND($F$19*C22,0) -> #REF!
B23: IVA S/UTILIDAD | C23: 0.16 | F23: =ROUND(+F22*C23,0) -> #REF!
B24: TOTAL | F24: =SUM(F19:F23) -> #REF!

Sheet Hoja1
B7: 0 | C7: 18000 | D7: =+C7*B7 -> 0
B8: 455.53 | C8: 60000 | D8: =+C8*B8 -> 27331800
B9: 164.41 | C9: 13200 | D9: =+C9*B9 -> 2170212
B10: 84 | C10: 50000 | D10: =+C10*B10 -> 4200000
B11: 17 | C11: 100000 | D11: =+C11*B11 -> 1700000
B12: 52 | C12: 185000 | D12: =+C12*B12 -> 9620000
B13: 2 | C13: 700000 | D13: =+C13*B13 -> 1400000
B14: 21.4 | C14: 150000 | D14: =+C14*B14 -> 3210000
B15: 16.6 | C15: 800000 | D15: =+C15*B15 -> 13280000
B16: 48.2 | C16: 25000 | D16: =+C16*B16 -> 1205000
B17: 1 | C17: 1797690.1 | D17: =+C17*B17 -> 1797690.1
B18: 1 | C18: 2500000 | D18: =+C18*B18 -> 2500000
B19: 4 | C19: 420000 | D19: =+C19*B19 -> 1680000
D20: =+C20*B20 -> 0
B21: 455.53 | C21: 8000 | D21: =+C21*B21 -> 3644240
B22: 1 | C22: 1450000 | D22: =+C22*B22 -> 1450000
B23: 1.36 | C23: 320000 | D23: =+C23*B23 -> 435200
B24: 133.1432 | C24: 15000 | D24: =+C24*B24 -> 1997148
B25: 147.8 | C25: 18000 | D25: =+C25*B25 -> 2660400
D27: =SUM(D7:D26) -> 80281690
D28: =+D27*#REF! -> #REF!
D29: =+#REF!*D27 -> #REF!
D30: =+#REF!*D27 -> #REF!
D31: =+D30*#REF! -> #REF!
D32: =SUM(D27:D31) -> #REF!

Sheet Hoja2

Sheet MEMORIA 6 - DESMONTE BARANDA EX
B2: MEMORIAS - CANTIDADES DE OBRA
L5: MUNICIPIO DE VILLAMARIA DEPARTAMENTO DE CALDAS
B6: "MEJORAMIENTO Y ADECUACION DE LA PISTA DE PATINAJE DEL PARQUE VILLA DIANA, MUNICIPIO DE VILLAMARIA - CALDAS"
B7: BARANDA DE PROTECCION
B9: ÍTEM: | C9: Desmonte de baranda de protección existente con personal calificado para recuperación de la misma y su futura utilización por parte de la Administración en otros escenarios y acopio en situ del material resultante. No incluye botada ni transporte. | K9: UNIDAD: | L9: ML
B10: No. | C10: 6.1 | K10: COSTO ÍTEM: | L10: =APUS!G182 -> 63367.43
K11: VALOR TOTAL ÍTEM: | L11: =L10*K15 -> 15018081
B13: FECHA | D13: ABSCISA | F13: DIMENSIONES | I13: CANTIDAD | J13: UNIDAD | K13: TOTAL | L13: OBSERVACIONES
B14: Día | C14: Mes | D14: Inicial | E14: Final | F14: Largo | G14: Ancho | H14: Alto | J14: UN | K14: ACUMULADO | L14: (ACTIVIDAD A LA QUE CORRESPONDA)
F15: 237 | I15: 1 | J15: 1 | K15: =F15*I15 -> 237 | L15: Baranda de protección
K16: =+J16 -> 0
K17: =+J17 -> 0
K18: =ROUND(SUM(K15:K17),2) -> 237
K25: Proyectó: CRISTIAN ALBERTO ORTEGON VEGA
K26: ARQUITECTO CONTRATISTA
K27: TP: A253012011-16074410

Sheet MEMORIA 7 - LAV Y DESCON CARCAM
B2: MEMORIAS - CANTIDADES DE OBRA
L5: MUNICIPIO DE VILLAMARIA DEPARTAMENTO DE CALDAS
B6: "MEJORAMIENTO Y ADECUACION DE LA PISTA DE PATINAJE DEL PARQUE VILLA DIANA, MUNICIPIO DE VILLAMARIA - CALDAS"
B7: BARANDA DE PROTECCION
B9: ÍTEM: | C9: Lavada y descontaminación de cárcamo. Incluye lavado apresión con hidrolavadarora de 4000 psi de paredes internas y tapas externas. Recuperación de tapas por medio de aplicación de pintura acrílica base agua para exteriores de alta resistencia | K9: UNIDAD: | L9: ML
B10: No. | C10: 7.1 | K10: COSTO ÍTEM: | L10: =APUS!G212 -> 53826.25
K11: VALOR TOTAL ÍTEM: | L11: =L10*K15 -> 10765250
B13: FECHA | D13: ABSCISA | F13: DIMENSIONES | I13: CANTIDAD | J13: UNIDAD | K13: TOTAL | L13: OBSERVACIONES
B14: Día | C14: Mes | D14: Inicial | E14: Final | F14: Largo | G14: Ancho | H14: Alto | J14: UN | K14: ACUMULADO | L14: (ACTIVIDAD A LA QUE CORRESPONDA)
F15: 200 | I15: 1 | J15: 1 | K15: =F15*I15 -> 200 | L15: Cárcamo
K16: =+J16 -> 0
K17: =+J17 -> 0
K18: =ROUND(SUM(K15:K17),2) -> 200
K25: Proyectó: CRISTIAN ALBERTO ORTEGON VEGA
K26: ARQUITECTO CONTRATISTA
K27: TP: A253012011-16074410

Sheet MEMORIA 8 - HOMOLOGACION FEDEPA
B2: MEMORIAS - CANTIDADES DE OBRA
L5: MUNICIPIO DE VILLAMARIA DEPARTAMENTO DE CALDAS
B6: "MEJORAMIENTO Y ADECUACION DE LA PISTA DE PATINAJE DEL PARQUE VILLA DIANA, MUNICIPIO DE VILLAMARIA - CALDAS"
B7: HOMOLOGACION PISTA PATINAJE FEDEPATIN COLOMBIA
B9: ÍTEM: | C9: Aval de la pista de velocidad, tramitado y otorgado bajo responsabilidad del contratista, por la FEDEPATIN Colombia según normativa - Escenarios de patinaje - 2024 "Normativa oficial para el diseño de escenarios de patinaje - vigencia 2024". Incluye hasta tres desplazamientos del personal técnico de FEDEPATIN. | K9: UNIDAD: | L9: UND
B10: No. | C10: 8.1 | K10: COSTO ÍTEM: | L10: =APUS!G245 -> 42383611
