Workbook
Name Actividad: [1]ACTIVIDADES!$A$3:$B$27
Name Actividad: #REF!
Name Actividades: #REF!
Name CodActi: #REF!
Name Comprobantes: '[2]Tabla de Comprobantes'!$A$3:$A$65
Name Comprobantes: '[3]Tabla de Comprobantes'!$A$3:$A$65
Name Cuadrilla: '[1]Mano de Obra'!$A$2:$A$22
Name Cuadrilla: '[4]Mano de Obra'!$A$2:$A$25
Name Descripcion: [1]ACTIVIDADES!$B$3:$B$27
Name Descripcion: #REF!
Name detalle: [5]Materiales!$A$2:$A$219
Name detalle: [6]Materiales!$A$2:$A$219
Name Jornal: '[1]Mano de Obra'!$A$2:$B$22
Name Jornal: '[4]Mano de Obra'!$A$2:$B$25
Name LISTA_EQ: [7]Equipos!$A$2:$A$79
Name LISTA_EQ: [8]Equipos!$A$2:$A$79
Name LISTA_HE: [7]Herramienta!$A$2:$A$5
Name LISTA_HE: [8]Herramienta!$A$2:$A$5
Name LISTA_MA: [7]Materiales!$A$2:$A$1377
Name LISTA_MA: [8]Materiales!$A$2:$A$1377
Name LISTA_MO: '[7]Mano de Obra'!$A$2:$A$43
Name LISTA_MO: '[8]Mano de Obra'!$A$2:$A$43
Name LISTA_OT: [7]Otros!$A$2:$A$70
Name LISTA_OT: [8]Otros!$A$2:$A$70
Name mat: [9]Materiales!$A$2:$C$351
Name mat: [4]Materiales!$A$2:$C$355
Name Materiales: [9]Materiales!$A$2:$A$351
Name Materiales: [4]Materiales!$A$2:$A$355
Name PC: '[2]Tabla de Comprobantes'!$E$3:$E$14
Name PC: '[3]Tabla de Comprobantes'!$E$3:$E$14

Sheet Desglose
A1: CÓDIGO | B1: DESCRIPCIÓN | C1: UNIDAD | D1: CANTIDAD | E1: V. UNITARIO | F1: V. TOTAL
A2: 1 | B2: PRELIMINARES
A3: 1.01 | B3: Localizacion y replanteo | C3: ml | D3: 5550 | E3: =+'Análisis de precios unitarios'!F26 -> 1393.242 | F3: =D3*E3 -> 7732493.1
A4: 1.02 | B4: desmonte y descapote | C4: m | D4: 5550 | E4: =+'Análisis de precios unitarios'!F48 -> 2719.12 | F4: =D4*E4 -> 15091116
A5: 2 | B5: Movimiento de tierra | F5: =D5*E5 -> 0
A6: 2.01 | B6: Excavacion manual en material comun | C6: m3 | D6: 1332 | E6: =+'Análisis de precios unitarios'!F70 -> 38067.56 | F6: =D6*E6 -> 50705990
A7: 2.02 | B7: Excavacion en roca cualquier profundidad | C7: m3 | D7: 10 | E7: =+'Análisis de precios unitarios'!F98 -> 152119.5 | F7: =D7*E7 -> 1521195
A8: 3 | B8: Rellenos y cimientos | F8: =D8*E8 -> 0
A9: 3.01 | B9: relleno en material comun | C9: m3 | D9: 1250 | E9: =+'Análisis de precios unitarios'!F120 -> 29910.24 | F9: =D9*E9 -> 37387800
A10: 3.02 | B10: relleno en material seleccionado | C10: m3 | D10: 0 | E10: =+'Análisis de precios unitarios'!F146 -> 109691.12 | F10: =D10*E10 -> 0
A11: 4 | B11: Estructura concreto simple | F11: =D11*E11 -> 0
A12: 4.01 | B12: Bocatoma de fondo de 5.55 de largo teniendo en cuenta la X, x 1,5 x 2 con rejilla de 0,4 x 0,3 con barras verticales separada cada 1 cm incluye redes de rebose y lavado, granada, desvio de aguas y salida | C12: gl | D12: 1 | E12: =+'Análisis de precios unitarios'!F189 -> 10900222 | F12: =D12*E12 -> 10900222
A13: 4.02 | B13: STI Desarenador en fibra de vidrio estandar hasta 1 l/s. Incluye losa de soporte de concreto 0,15 m | C13: gl | D13: 1 | E13: =+'Análisis de precios unitarios'!F227 -> 13819941 | F13: =D13*E13 -> 13819941
A14: 4.03 | B14: Construccion de plataforma 4.5x4 m x 0,15 para instalacion del tanque, encerrada en malla eslabonada de h 2m con puerta de acceso de 1m | C14: gl | D14: 1 | E14: =+'Análisis de precios unitarios'!F261 -> 5014233.8 | F14: =D14*E14 -> 5014233.8
A15: 4.04 | B15: Construccion cajas de proteccion valvulas de 0,4 x 0,6xh 0,5 con tapa | C15: un | D15: 4 | E15: =+'Análisis de precios unitarios'!F295 -> 358774.46 | F15: =D15*E15 -> 1435097.8
A16: 5 | B16: Conduccion | F16: =D16*E16 -> 0
A17: 5.01 | B17: STI tuberia UM/6m Rde 26 (160PSI) de 2.1/2" | C17: m | D17: 300 | E17: =+'Análisis de precios unitarios'!F325 -> 37484.76 | F17: =D17*E17 -> 11245428
A18: 5.02 | B18: STI tuberia UM/6m Rde 26 (160PSI) de 2" | C18: m | D18: 4200 | E18: =+'Análisis de precios unitarios'!F355 -> 24884.76 | F18: =D18*E18 -> 104515992
A19: 5.03 | B19: STI tuberia UM/6m Rde 26 (200PSI) de 2" | C19: m | D19: 1050 | E19: =+'Análisis de precios unitarios'!F385 -> 26984.76 | F19: =D19*E19 -> 28333998
A20: 6 | B20: Distribucion | F20: =D20*E20 -> 0
A21: 6.01 | B21: STI tuberia PVC RDE 21 de 1,1/2" | C21: m | D21: 300 | E21: =+'Análisis de precios unitarios'!F414 -> 15695.364 | F21: =D21*E21 -> 4708609.2
A22: 6.02 | B22: STI tuberia PVC RDE 21 de 1" | C22: m | D22: 300 | E22: =+'Análisis de precios unitarios'!F443 -> 13656.88 | F22: =D22*E22 -> 4097064
A23: 6.03 | B23: STI tuberia PVC RDE 21 de 3/4" | C23: m | D23: 300 | E23: =+'Análisis de precios unitarios'!F472 -> 8616.88 | F23: =D23*E23 -> 2585064
A24: 7 | B24: Válvulas | F24: =D24*E24 -> 0
A25: 7.01 | B25: STI Vávula de Purga | C25: und | D25: 2 | E25: =+'Análisis de precios unitarios'!F499 -> 163328.12 | F25: =D25*E25 -> 326656.24
A26: 7.02 | B26: STI Vávula ventosa doble efecto 2" | C26: und | D26: 2 | E26: =+'Análisis de precios unitarios'!F526 -> 723328.12 | F26: =D26*E26 -> 1446656.2
A27: 7.03 | B27: STI Vávula de compuerta 2" | C27: und | D27: 2 | E27: =+'Análisis de precios unitarios'!F553 -> 163328.12 | F27: =D27*E27 -> 326656.24
A28: 7.04 | B28: STI Vávula de compuerta de bronce 2.1/2" | C28: und | D28: 2 | E28: =+'Análisis de precios unitarios'!F580 -> 288328.12 | F28: =D28*E28 -> 576656.24
A29: 8 | B29: Almacenamiento | F29: =D29*E29 -> 0
A30: 8.01 | B30: STI tanque de almacenamiento de 10m3 en fibra de vidrio con las instalaciones hidraulicas de entrada, salida y reboses de agua | C30: gl | D30: 1 | E30: =+'Análisis de precios unitarios'!F608 -> 16652934 | F30: =D30*E30 -> 16652934
A31: SUBTOTAL | B31: TOTAL | C31: TOTAL | D31: TOTAL | E31: TOTAL | F31: =SUM(F2:F30) -> 3.184238e+08
E32: ADMINISTRACIÓN | F32: =+'CALCULO AU (2)'!G55 -> 78541080
E33: VALOR TOTAL | F33: =+F31+F32 -> 3.9696488e+08
E34: APORTE MUNICIPIO | F34: 395000000
E35: APORTE OAC | F35: =+F33-F34 -> 1964883.2

Sheet Análisis de precios unitarios
A1: CÓDIGO | B1: 1.01 | E1: UNIDAD | F1: ml
A2: DESCRIPCIÓN | B2: Localizacion y replanteo
A4: CÓDIGO | B4: DESCRIPCIÓN | C4: UNIDAD | D4: CANTIDAD | E4: PRECIO | F4: TOTAL
A6: 1 - Mano de Obra
A7: MOB017 | B7: Cuadrilla G 1 Of + 2 Ay (jornal + prestaciones) | C7: Día | D7: 0.002 | E7: 300061 | F7: =D7*E7 -> 600.122
E8: TOTAL 1 | F8: =F7 -> 600.122
A10: 2 - Equipos
A11: 1 - % Mano de Obra | B11: Herramienta menor | C11: % | F11: 30.01
E12: TOTAL 2 | F12: =F11 -> 30.01
A14: 3 - Materiales
A15: MAT,116 | B15: Larguero 2" x 4" x 2,9 m | C15: M | D15: 0.0333 | E15: 8000 | F15: =D15*E15 -> 266.4
A16: MAT,176 | B16: Guadua basa longitud promedio = 5 m | C16: Un | D16: 0.0067 | E16: 8000 | F16: =D16*E16 -> 53.6
A17: MAT,222 | B17: Listón de 5 x 3 cm x 2,5 m (varilla) | C17: M | D17: 0.0333 | E17: 7000 | F17: =D17*E17 -> 233.1
A18: MAT,334 | B18: Puntilla de 3" | C18: Lb | D18: 0.02 | E18: 9000 | F18: =D18*E18 -> 180
E19: TOTAL 3 | F19: =F15+F16+F17+F18 -> 733.1
A21: 5 - Otros
A22: 2 - % Mano de Obra | B22: Acarreo interno | C22: % | F22: 30.01
E23: TOTAL 5 | F23: =F22 -> 30.01
E26: COSTO DIRECTO | F26: =F8+F12+F19+F23 -> 1393.242
A29: CÓDIGO | B29: 1.02 | E29: UNIDAD | F29: m
A30: DESCRIPCIÓN | B30: desmonte y descapote
A32: CÓDIGO | B32: DESCRIPCIÓN | C32: UNIDAD | D32: CANTIDAD | E32: PRECIO | F32: TOTAL
A34: 1 - Mano de Obra
A35: MO1524 | B35: Oficial de construcción (jornal + prestaciones) | C35: Día | D35: 0.005 | E35: 142464 | F35: =D35*E35 -> 712.32
A36: MOB003 | B36: Ayudante (jornal + prestaciones) | C36: Día | D36: 0.02 | E36: 87980 | F36: =D36*E36 -> 1759.6
E37: TOTAL 1 | F37: =F35+F36 -> 2471.92
A39: 2 - Equipos
A40: 1 - % Mano de Obra | B40: Herramienta menor | C40: % | F40: 123.6
E41: TOTAL 2 | F41: =F40 -> 123.6
A43: 5 - Otros
A44: 2 - % Mano de Obra | B44: Acarreo interno | C44: % | F44: 123.6
E45: TOTAL 5 | F45: =F44 -> 123.6
E48: COSTO DIRECTO | F48: =F37+F41+F45 -> 2719.12
A51: CÓDIGO | B51: 2.01 | E51: UNIDAD | F51: m3
A52: DESCRIPCIÓN | B52: Excavacion manual en material comun
A54: CÓDIGO | B54: DESCRIPCIÓN | C54: UNIDAD | D54: CANTIDAD | E54: PRECIO | F54: TOTAL
A56: 1 - Mano de Obra
A57: MO1524 | B57: Oficial de construcción (jornal + prestaciones) | C57: Día | D57: 0.07 | E57: 142464 | F57: =D57*E57 -> 9972.48
A58: MOB003 | B58: Ayudante (jornal + prestaciones) | C58: Día | D58: 0.28 | E58: 87980 | F58: =D58*E58 -> 24634.4
E59: TOTAL 1 | F59: =F57+F58 -> 34606.88
...

Sheet CALCULO AU (2)
A1: Municipio de Santa Fe de Antioquia
A2: SECRETARÍA DE INFRAESTRUCTURA
A5: COMPOSICION DEL PORCENTAJE DE ADMINISTRACION Y UTILIDAD
A6: COSTO DIRECTO DEL PROYECTO | C6: =+Desglose!F31 -> 3.184238e+08 | F6: A | G6: =+C6*H55 -> 78541080
A7: DURACION DEL PROYECTO (MESES) | D7: 4
A8: I.V.A (sobre utilidad) | C8: 0 | F8: TOTAL PROYECTO (A) | G8: =C6+G6 -> 3.9696488e+08
A9: DETALLE DE LOS COSTOS ADMINISTRATIVOS
A10: 1. PERSONAL POR ADMINISTRACION
A11: DESCRIPCION | C11: UNIDAD | D11: MESES | E11: CANT | F11: SAL. BASICO | G11: VR. TOTAL | H11: PORCENTAJE
A12: Ingeniero Director | C12: 1 | D12: 0 | E12: 0 | F12: 6000000 | G12: =+PRODUCT(C12,D12,E12,F12) -> 0 | H12: =+G12/$C$6 -> 0
A13: Ingeniero, constructor y/o arquitecto Residente | C13: 1 | D13: 4 | E13: 1 | F13: 5500000 | G13: =+PRODUCT(C13,D13,E13,F13) -> 22000000 | H13: =+G13/$C$6 -> 0.069090312
A14: Tecnólogo | C14: 1 | D14: 4 | E14: 1 | F14: 3800000 | G14: =+PRODUCT(C14,D14,E14,F14) -> 15200000 | H14: =+G14/$C$6 -> 0.047735125
A15: Encargados de obra | C15: 1 | D15: 0 | E15: 1 | F15: 3000000 | G15: =+PRODUCT(C15,D15,E15,F15) -> 0 | H15: =+G15/$C$6 -> 0
A16: Profesional en Seguridad Industrial | C16: 1 | D16: 0 | E16: 0 | F16: 1700000 | G16: =+PRODUCT(C16,D16,E16,F16) -> 0 | H16: =+G16/$C$6 -> 0
A17: Social | C17: 1 | D17: 0 | E17: 1 | F17: 5000000 | G17: =+PRODUCT(C17,D17,E17,F17) -> 0 | H17: =+G17/$C$6 -> 0
A18: Secretaria | C18: 1 | D18: 0 | E18: 0 | F18: 1000000 | G18: =+PRODUCT(C18,D18,E18,F18) -> 0 | H18: =+G18/$C$6 -> 0
A19: Celaduria | C19: 1 | D19: 0 | E19: 0 | F19: 1550000 | G19: =+PRODUCT(C19,D19,E19,F19) -> 0 | H19: =+G19/$C$6 -> 0
A20: Almacenista | C20: 1 | D20: 0 | E20: 0 | F20: 1300000 | G20: =+PRODUCT(C20,D20,E20,F20) -> 0 | H20: =+G20/$C$6 -> 0
A21: TOTAL PERSONAL ADMINISTRATIVO | G21: =SUM(G12:G20) -> 37200000 | H21: =SUM(H12:H20) -> 0.11682544
A22: 2. GASTOS GENERALES
A23: DESCRIPCION | C23: UNIDAD | D23: CANTIDAD | E23: MESES | F23: TARIFA | G23: VR. TOTAL | H23: PORCENTAJE
A24: Servicios publicos | C24: MES | D24: 0 | E24: 0 | F24: 0 | G24: =E24*F24 -> 0 | H24: =+G24/$C$6 -> 0
A25: Plan de gestión de implementación de obra | C25: MES | D25: 0 | E25: 0 | F25: 0 | G25: =E25*F25 -> 0 | H25: =+G25/$C$6 -> 0
A26: Oficina principal | C26: MES | D26: 0 | E26: 0 | F26: 0 | G26: =E26*F26 -> 0 | H26: =+G26/$C$6 -> 0
A27: Papeleria e informes | C27: MES | D27: 1 | E27: 4 | F27: 150000 | G27: =E27*F27 -> 600000 | H27: =+G27/$C$6 -> 0.0018842812
A28: Equipos de computo | C28: MES | D28: 0 | E28: 0 | F28: 200000 | G28: =E28*F28 -> 0 | H28: =+G28/$C$6 -> 0
A29: Equipos de comunicación | C29: MES | D29: 0 | E29: 0 | F29: 0 | G29: =E29*F29 -> 0 | H29: =+G29/$C$6 -> 0
A30: Transporte personal a obra | C30: MES | D30: 0 | E30: 0 | F30: 0 | G30: =E30*F30 -> 0 | H30: =+G30/$C$6 -> 0
A31: Plan Ambiental, Seguridad y Transito | C31: MES | D31: 0 | E31: 0 | F31: 0 | G31: =E31*F31 -> 0 | H31: =+G31/$C$6 -> 0
A32: Póliza | C32: MES | D32: 1 | E32: 1 | F32: =+$C$6*1.01% -> 3216080.4 | G32: =E32*F32 -> 3216080.4 | H32: =+G32/$C$6 -> 0.0101
A33: TOTAL GASTOS GENERALES | G33: =SUM(G24:G32) -> 3816080.4 | H33: =SUM(H24:H32) -> 0.011984281
A34: 3. GASTOS LEGALES, JURIDICOS Y TRIBUTARIOS
A35: DESCRIPCION | C35: UNIDAD | D35: CANTIDAD | E35: MESES | F35: TARIFA | G35: VR. TOTAL | H35: PORCENTAJE
A36: Impuesto de contribución especial 5% | C36: UNIDAD | D36: 1 | F36: 0.05 | G36: =$J$36*F36 -> 19750000 | H36: =+G36/$C$6 -> 0.062024258 | J36: 395000000
A37: Estampilla Pro Cultura | B37: Estampilla Pro Cultura | C37: UNIDAD | D37: 1 | F37: 0 | G37: =$J$36*F37 -> 0 | H37: =+G37/$C$6 -> 0
A38: Estampilla Adulto Mayor | B38: Estampilla Pro Cultura | C38: UNIDAD | D38: 1 | F38: 0 | G38: =$J$36*F38 -> 0 | H38: =+G38/$C$6 -> 0
A39: Estampilla Justicia familiar | B39: Estampilla Pro Cultura | C39: UNIDAD | D39: 1 | F39: 0.02 | G39: =$J$36*F39 -> 7900000 | H39: =+G39/$C$6 -> 0.024809703
A40: Estampilla Hospital | C40: UNIDAD | D40: 1 | F40: 0 | G40: =$J$36*F40 -> 0 | H40: =+G40/$C$6 -> 0
A41: Estampilla Pro deporte y recreacion | C41: UNIDAD | D41: 1 | F41: 0.025 | G41: =$J$36*F41 -> 9875000 | H41: =+G41/$C$6 -> 0.031012129
A42: TOTAL GASTOS GENERALES | G42: =SUM(G36:G41) -> 37525000 | H42: =SUM(H36:H41) -> 0.11784609
...
