Workbook
Name Cuadrilla: '[1]Mano de Obra'!$A$2:$A$22
Name Materiales: [1]Materiales!$A$2:$A$321

Sheet AU
A2: AU INTERVENCIÓN PUENTE SAN JUDAS
A4: CARGO /OFICIO | B4: CANTIDAD | C4: SUELDO O TARIFA MENSUAL | D4: DEDICACION MENSUAL | E4: DURACION TOTAL | F4: VALOR PARCIAL
A5: COSTOS DE PERSONAL
A6: ENCARGADO DE OBRA | B6: 1 | C6: 3000000 | D6: 1 | E6: 1 | F6: =+B6*C6*D6*E6 -> 3000000
A7: ING CIVIL DIRECTOR DE OBRA | F7: =+B7*C7*D7*E7 -> 0
A8: TRASPOTE A LOMO DE MULA | F8: 0
A9: OFICIAL ENTENDIDO | F9: =+B9*C9*D9*E9 -> 0
A10: SUB TORAL COSTO DE PERSONAL
A11: FACTOR PRESTACIONAL (FP= 1,47). (A)
A13: TOTAL COSTO DE PERSONAL CON FACTOR PRESTACIONAL | F13: =F6 -> 3000000
A15: GASTOS DE OFICINA
A17: TOTAL GASTOA DE OFICNA (B) | F17: 0
A18: TRANSPORTE
A19: VALOR BASICO = A+B = C | F19: =+F17+F13+F18 -> 3000000
A21: GASTOS DIRECTOS NO REEMBOLSABLES (sobre el valor total del proyecto)
A22: Estampilla pro-anciano | B22: 0.04 | F22: 0
A23: Estampilla pro-cultura | B23: 0.02 | F23: 0
A24: Estampilla Justicia familiar | B24: 0.02 | F24: =$F$37*B24 -> 619164.89
A25: Estampilla pro-Hospital | B25: 0.01 | F25: 0
A26: Estampilla pro-Deporte | B26: 0.025 | F26: =$F$37*B26 -> 773956.11
A27: Fondo de seguridad | B27: 0.05 | F27: =$F$37*B27 -> 1547912.2
A28: POLIZAS | B28: 0.007 | F28: =$F$37*B28 -> 216707.71
A30: TOTAL GASTOS DIRECTOS NO REEMBOLSABLES (D) | F30: =+SUM(F22:F28) -> 3157740.9
A31: SUBTOTAL DE COSTOS DE ADMNISTRACION | F31: =+F30+F19 -> 6157740.9
A33: VALOR TOTAL DEL PROYECTO | F33: =PPTO!F9 -> 23619527
A34: TOTAL PORCENTAJE ADMINITRACION (%) | E34: =F34/F33 -> 0.26070551 | F34: =F31 -> 6157740.9
A35: TOTAL UTILIDAD (%) | E35: 0.05 | F35: =+F33*E35 -> 1180976.4
A36: TOTAL A U (%) | E36: =E34+E35 -> 0.31070551 | F36: =+F34+F35 -> 7338717.3
A37: VALOR TOTAL DEL PROYECTO (AU INCLUIDO) | F37: =+F33+F36 -> 30958244

Sheet PPTO
A1: MANTENIMIENTO PUENTE SAN JUDAS
A2: Item | B2: Actividad | C2: Und | D2: Cant. | E2: vr. Unit. | F2: Vr Total
A3: 1 | B3: Remplazo hasta un 30% de cubierta en mal estado en teja de barro maquinada similares o iguales a las existentes, incluye todo lo necesario para su correcta ejecución | C3: m2 | D3: =35*2.7*0.3 -> 28.35 | E3: =APUS!E22 -> 153000 | F3: =D3*E3 -> 4337550
A4: 2 | B4: Aplicación de IMPRA para protección de elementos de guadua a la interperie, | C4: m2 | D4: =2*PI()*0.2*35*8 -> 351.85838 | E4: =APUS!E47 -> 27520 | F4: =D4*E4 -> 9683142.5
A5: 3 | B5: Remplazo y reposición de macanas en mal estado, incluye todo lo necesario para su corecta ejecución | C5: und | D5: =(35/0.2)*0.2 -> 35 | E5: =APUS!E70 -> 39850 | F5: =D5*E5 -> 1394750
A6: 4 | B6: Remplazo de tornillería en mal estado o inexistente hasta el 70% de la tornillería existente,esta debe ser en acero inoxidable y de acuerdo a diseño existente. | C6: ml | D6: =(35)*4*70% -> 98 | E6: =APUS!E97 -> 11188 | F6: =D6*E6 -> 1096424
A7: 5 | B7: Construcción de baranda en guadua H=90 cm sobre viga de cimentacición perimetral de 0,2mx0,2m, incluye todo lo necesario de su correcta ejecución | C7: ml | D7: 9 | E7: =APUS!E125 -> 157740 | F7: =D7*E7 -> 1419660
A8: 6 | B8: Descope de especies arboreas en alturas, incluye botada y disposición final del material, y todo lo necesario para su correcta ejecución. | C8: und | D8: 4 | E8: =APUS!E150 -> 1422000 | F8: =D8*E8 -> 5688000
A9: COSTO DIRECTO CONTRACTUAL | F9: =ROUNDUP(SUM(F3:F8),0) -> 23619527
A10: ADMINISTRACIÓN | E10: =AU!E36 -> 0.31070551 | F10: =ROUNDUP(F9*E10,0) -> 7338718
A11: TOTAL PROYECTO | F11: =F9+F10 -> 30958245

Sheet APUS
A1: ANALISIS DE PRECIOS UNITARIOS
A2: Item | B2: =PPTO!B3 -> Remplazo hasta un 30% de cubierta en mal estado en teja de barro maquinada similares o iguales a las existentes, incluye todo lo necesario para su correcta ejecución | E2: Unidad
A3: 1 | E3: =PPTO!C3 -> m2
A4: ítem | B4: Materiales | C4: Unidad | D4: Cantidad | E4: V/Unitario | F4: V/Total
A5: 1 | B5: Teja de barro maquinada | C5: un | D5: 15 | E5: 2800 | F5: =ROUND(E5*D5,0) -> 42000
E8: SUBTOTAL | F8: =SUM(F5:F7) -> 42000
A9: ítem | B9: Mano de Obra | C9: Jornal | D9: Jornal prestaciones | E9: Rendiemineto | F9: V/Unitario
A10: 1 | B10: 1 Oficial alturas | C10: 210000 | D10: =SUM(C10*60%)+C10 -> 336000 | E10: 6 | F10: =ROUND(D10/E10,0) -> 56000
A11: 2 | B11: 1 Ayudante alturas | C11: 120000 | D11: =SUM(C11*70%)+C11 -> 204000 | E11: 6 | F11: =ROUND(D11/E11,0) -> 34000
E13: SUBTOTAL | F13: =SUM(F10:F12) -> 90000
A14: ítem | B14: Herramienta | C14: Unidad | D14: Cantidad | E14: V/Unitario | F14: V/Total
A15: 1 | B15: Herramienta menor | C15: (%)mo | D15: 0.1 | E15: =+F13 -> 90000 | F15: =ROUND(E15*D15,0) -> 9000
E17: SUBTOTAL | F17: =SUM(F15:F15) -> 9000
A18: ítem | B18: Transporte | C18: Unidad | D18: Cantidad | E18: V/Unitario | F18: V/Total
B19: Transporte de material | D19: 0.1 | E19: 120000 | F19: =ROUND(E19*D19,0) -> 12000
F20: =ROUND(E20*D20,0) -> 0
E21: SUBTOTAL | F21: =SUM(F19:F20) -> 12000
A22: P R E C I O U N I T A R I O | E22: =+F21+F17+F13+F8 -> 153000
A25: ANALISIS DE PRECIOS UNITARIOS
A26: Item | B26: =PPTO!B4 -> Aplicación de IMPRA para protección de elementos de guadua a la interperie, | E26: Unidad
A27: 2 | E27: =PPTO!C4 -> m2
A28: ítem | B28: Materiales | C28: Unidad | D28: Cantidad | E28: V/Unitario | F28: V/Total
A29: 1 | B29: IMPRA | C29: gl | D29: 0.06 | E29: 251000 | F29: =ROUND(E29*D29,0) -> 15060
A30: 2 | B30: Disolvente | C30: gl | D30: 0.09 | E30: 33000 | F30: =ROUND(E30*D30,0) -> 2970
E32: SUBTOTAL | F32: =SUM(F29:F29) -> 15060
A33: ítem | B33: Mano de Obra | C33: Jornal | D33: Jornal prestaciones | E33: Rendiemineto | F33: V/Unitario
A34: 1 | B34: 1 Oficial alturas | C34: 210000 | D34: =SUM(C34*60%)+C34 -> 336000 | E34: 60 | F34: =ROUND(D34/E34,0) -> 5600
A35: 2 | B35: 1 Ayudante alturas | C35: 120000 | D35: =SUM(C35*70%)+C35 -> 204000 | E35: 60 | F35: =ROUND(D35/E35,0) -> 3400
E37: SUBTOTAL | F37: =SUM(F34:F36) -> 9000
A38: ítem | B38: Herramienta | C38: Unidad | D38: Cantidad | E38: V/Unitario | F38: V/Total
A39: 1 | B39: Herramienta menor | C39: (%)mo | D39: 0.1 | E39: =+F37 -> 9000 | F39: =ROUND(E39*D39,0) -> 900
A40: 2 | B40: pulidora de madera | C40: DIA | D40: 0.08 | E40: 32000 | F40: =ROUND(E40*D40,0) -> 2560
E42: SUBTOTAL | F42: =SUM(F39:F40) -> 3460
A43: ítem | B43: Transporte | C43: Unidad | D43: Cantidad | E43: V/Unitario | F43: V/Total
F44: =ROUND(E44*D44,0) -> 0
F45: =ROUND(E45*D45,0) -> 0
E46: SUBTOTAL | F46: =SUM(F44:F45) -> 0
A47: P R E C I O U N I T A R I O | E47: =+F46+F42+F37+F32 -> 27520
A50: ANALISIS DE PRECIOS UNITARIOS
A51: Item | B51: =PPTO!B5 -> Remplazo y reposición de macanas en mal estado, incluye todo lo necesario para su corecta ejecución | E51: Unidad
...
