Workbook
Name Comprobantes: #REF!
Name Días: OFFSET(#REF!,1,0,COUNTA(#REF!)-COUNTIF(#REF!,"")+1,1)
Name Etapa: OFFSET(#REF!,1,0,COUNTA(#REF!)-COUNTIF(#REF!,"")+1,1)
Name PC: #REF!

Sheet Proyecto
F3: CRONOGRAMA ACTIVIDADES DE PROYECTO
C5: CONTRATANTE | D5: CONSEJO SUPERIOR DE LA JUICATURA
C6: CONTRATISTA | D6: AUTENTIC SOLUCIONES S.A.S
C7: PROYECTO | D7: contrato 153 de 2024. objeto: “Implementar controles y mecanismos de gestión de identidad prioritarios, para mejorar las condiciones de ciberseguridad de la Rama Judicial”
C8: FECHA DE INICIO | D8: 45545
C9: FECHA DE FIN | D9: 45900
C10: DIAS DE TRABAJO | D10: =+D9-D8 -> 355
I12: Mes | J12: Nov | N12: Dic | S12: Ene | W12: Feb | AA12: Mar | AE12: Abr | AJ12: May | AN12: Jun | AR12: Jul | AW12: Ago
I13: Inicio Semana (lunes) | J13: 45600 | K13: =J13+7 -> 45607 | L13: =K13+7 -> 45614 | M13: =L13+7 -> 45621 | N13: =M13+7 -> 45628 | O13: =N13+7 -> 45635 | P13: =+O13+7 -> 45642 | Q13: =+P13+7 -> 45649 | R13: =+Q13+7 -> 45656 | S13: =+R13+7 -> 45663 | T13: =+S13+7 -> 45670 | U13: =+T13+7 -> 45677 | V13: =+U13+7 -> 45684 | W13: =+V13+7 -> 45691 | ... AY13: =+AX13+7 -> 45887 | AZ13: =+AY13+13 -> 45900
C14: Actividad | D14: Detalle | E14: Fecha limite ejecución | F14: Responsable | G14: Estado | H14: Días | I14: Observaciones/Avances | J14: 1 | K14: 2 | L14: 3 | M14: 4 | N14: 5 | O14: 6 | P14: 7 | Q14: 8 | R14: 9 | S14: 10 | T14: 11 | U14: 12 | V14: 13 | W14: 14 | X14: 15 | Y14: 16 | Z14: 17 | AA14: 18 | AB14: 19 | AC14: 20 | AD14: 21 | AE14: 22 | AF14: 23 | AG14: 24 | AH14: 25 | AI14: 26 | AJ14: 27 | AK14: 28 | AL14: 29 | AM14: 30 | AN14: =+AM14+1 -> 31 | AO14: =+AN14+1 -> 32 | AP14: =+AO14+1 -> 33 | AQ14: =+AP14+1 -> 34 | BJ14: Avance
B15: Entregable 0 | C15: A 0.1 | D15: Firma Contrato | E15: 45537 | F15: AUTENTIC | G15: Completado | H15: =COUNTA(J15:AQ15)*5 -> 0 | BJ15: =+_xlfn.XLOOKUP(D15,Reportes!$S$6:$S$42,Reportes!$Y$6:$Y$42,0) -> 0
C16: A 0.2 | D16: Expedición pólizas | E16: 45539 | F16: AUTENTIC | G16: Completado | H16: =COUNTA(J16:AQ16)*5 -> 0 | BJ16: =+_xlfn.XLOOKUP(D16,Reportes!$S$6:$S$42,Reportes!$Y$6:$Y$42,0) -> 0
C17: A 0.3 | D17: Firma Acta de Inicio | E17: 45546 | F17: AUTENTIC | G17: Completado | H17: =COUNTA(J17:AQ17)*5 -> 0 | BJ17: =+_xlfn.XLOOKUP(D17,Reportes!$S$6:$S$42,Reportes!$Y$6:$Y$42,0) -> 0
C18: A 0.4 | D18: Kick off | E18: 45181 | F18: AUTENTIC | G18: Completado | H18: =COUNTA(J18:AQ18)*5 -> 0 | BJ18: =+_xlfn.XLOOKUP(D18,Reportes!$S$6:$S$42,Reportes!$Y$6:$Y$42,0) -> 0
C19: A 0.5 | D19: Plan de trabajo y cronograma definitivo | E19: 45546 | F19: AUTENTIC | G19: Completado | H19: =COUNTA(J19:AQ19)*5 -> 0 | BJ19: =+_xlfn.XLOOKUP(D19,Reportes!$S$6:$S$42,Reportes!$Y$6:$Y$42,0) -> 0
C20: A 0.6 | D20: Reuniones de seguimiento | E20: 45672 | F20: AUTENTIC | G20: En progreso | H20: =COUNTA(J20:AQ20)*5 -> 0 | BJ20: =+_xlfn.XLOOKUP(D20,Reportes!$S$6:$S$42,Reportes!$Y$6:$Y$42,0) -> 0
C21: A 0.7 | D21: Informe Mensual de Seguimiento | E21: 45672 | F21: AUTENTIC | G21: En progreso | H21: =COUNTA(J21:AQ21)*5 -> 0 | BJ21: =+_xlfn.XLOOKUP(D21,Reportes!$S$6:$S$42,Reportes!$Y$6:$Y$42,0) -> 0
C22: A 0.8 | D22: Solicitud primer desembolso | E22: 45552 | F22: AUTENTIC | G22: Retrasado | H22: =COUNTA(J22:AQ22)*5 -> 25 | AJ22: R | AK22: R | AL22: R | AM22: R | AN22: R | BJ22: =+_xlfn.XLOOKUP(D22,Reportes!$S$6:$S$42,Reportes!$Y$6:$Y$42,0) -> 0
C23: A 0.9 | D23: Solicitud segundo desembolso | E23: 45613 | F23: AUTENTIC | G23: Retrasado | H23: =COUNTA(J23:AQ23)*5 -> 25 | AJ23: R | AK23: R | AL23: R | AM23: R | AN23: R | BJ23: =+_xlfn.XLOOKUP(D23,Reportes!$S$6:$S$42,Reportes!$Y$6:$Y$42,0) -> 0
C24: A 0.10 | D24: Solicitud tercer desembolso | E24: 45674 | F24: AUTENTIC | G24: No comenzado | H24: =COUNTA(J24:AQ24)*5 -> 0 | BJ24: =+_xlfn.XLOOKUP(D24,Reportes!$S$6:$S$42,Reportes!$Y$6:$Y$42,0) -> 0
C25: A 0.11 | D25: Informe Cierre Proyecto Final | E25: 45311 | F25: AUTENTIC | G25: No comenzado | H25: =COUNTA(J25:AQ25)*5 -> 0 | BJ25: =+_xlfn.XLOOKUP(D25,Reportes!$S$6:$S$42,Reportes!$Y$6:$Y$42,0) -> 0
C26: A 0.13 | D26: Liquidación del contrato | G26: No comenzado | H26: =COUNTA(J26:AQ26)*5 -> 0 | BJ26: =+_xlfn.XLOOKUP(D26,Reportes!$S$6:$S$42,Reportes!$Y$6:$Y$42,0) -> 0
B27: Resultado 1 | C27: A 1.1 | D27: Entregable 1 - Reunión inicial con supervisión | E27: 45604 | F27: CSJ | G27: Completado | H27: =COUNTA(J27:AQ27)*5 -> 10 | J27: C | N27: C | BJ27: =+_xlfn.XLOOKUP(D27,Reportes!$S$6:$S$42,Reportes!$Y$6:$Y$42,0) -> 1
C28: A 1.2 | D28: Entregable 1 - Levantamiento de información - Contexto organzación | E28: 45625 | F28: AUTENTIC | G28: Completado | H28: =COUNTA(J28:AQ28)*5 -> 15 | M28: C | O28: C | P28: C | BJ28: =+_xlfn.XLOOKUP(D28,Reportes!$S$6:$S$42,Reportes!$Y$6:$Y$42,0) -> 1
C29: A 1.3 | D29: Entregable 1 - Reunión inicial con directores de la UTDI | E29: 45634 | F29: AUTENTIC | G29: Completado | H29: =COUNTA(J29:AQ29)*5 -> 30 | I29: Confirmar si se realizaron todas las reunioens o hacen falta. Solicitar el listado para relacioanrlo en informe. | O29: C | X29: C | Y29: C | Z29: C | AA29: C | AB29: C | BJ29: =+_xlfn.XLOOKUP(D29,Reportes!$S$6:$S$42,Reportes!$Y$6:$Y$42,0) -> 1
C30: A 1.4 | D30: Entregable 1 - Reunión inicial con altas cortes y unidades del consejo superior | E30: 45713 | F30: AUTENTIC | G30: Completado | H30: =COUNTA(J30:AQ30)*5 -> 15 | X30: C | Z30: C | AA30: C | BJ30: =+_xlfn.XLOOKUP(D30,Reportes!$S$6:$S$42,Reportes!$Y$6:$Y$42,0) -> 1
C31: A 1.5 | D31: Entregable 1 - Recolección de información sobre roles y activos de información UTDI | E31: 45744 | F31: AUTENTIC | G31: En progreso | H31: =COUNTA(J31:AQ31)*5 -> 120 | I31: Se han recibido en principio 46 archivos, se generó un informe inicial y con base en este se han programado nuevas reuniones para avanzar en la interooperabilidad. | S31: C | T31: C | U31: C | V31: C | W31: C | X31: C | Y31: C | Z31: C | AA31: C | AB31: C | AC31: C | AD31: C | AE31: C | AF31: C | AH31: C | AI31: C | AJ31: C | AK31: C | AL31: C | AM31: C | AN31: C | AO31: P | AP31: P | AQ31: P | AR31: P | AS31: P | AT31: P | AU31: P | AV31: P | BJ31: =+_xlfn.XLOOKUP(D31,Reportes!$S$6:$S$42,Reportes!$Y$6:$Y$42,0) -> 0.875
C32: A 1.6 | D32: Entregable 1 - Recolección de información sobre roles y activos de información - Altas Cortes. | E32: 45744 | F32: ANCLA | G32: En progreso | H32: =COUNTA(J32:AQ32)*5 -> 120 | I32: Pendiente confirmación viabilidad Corte Constitucional. | S32: C | T32: C | U32: C | V32: C | W32: C | X32: C | Y32: C | Z32: C | AA32: C | AB32: C | AC32: C | AD32: C | AE32: C | AF32: C | AH32: C | AI32: C | AJ32: C | AK32: C | AL32: C | AM32: C | AN32: C | AO32: P | AP32: P | AQ32: P | AR32: P | AS32: P | AT32: P | AU32: P | AV32: P | BJ32: =+_xlfn.XLOOKUP(D32,Reportes!$S$6:$S$42,Reportes!$Y$6:$Y$42,0) -> 0.875
C33: A 1.7 | D33: Entregable 1 - Definición de estructura y requisitos de la matriz RBAC | E33: 45698 | F33: AUTENTIC | G33: Completado | H33: =COUNTA(J33:AQ33)*5 -> 55 | M33: C | N33: C | O33: C | P33: C | Q33: C | R33: C | S33: C | T33: C | U33: C | V33: C | W33: C | BJ33: =+_xlfn.XLOOKUP(D33,Reportes!$S$6:$S$42,Reportes!$Y$6:$Y$42,0) -> 1
C34: A 1.8 | D34: Entregable 1 - Asignación Infraestructura Matriz RBAC | E34: 45646 | F34: AUTENTIC | G34: Completado | H34: =COUNTA(J34:AQ34)*5 -> 10 | P34: C | Q34: C | BJ34: =+_xlfn.XLOOKUP(D34,Reportes!$S$6:$S$42,Reportes!$Y$6:$Y$42,0) -> 1
C35: A 1.9 | D35: Entregable 1 - Desarrollo e implementación de la matriz RBAC | E35: 45758 | F35: AUTENTIC | G35: Completado | H35: =COUNTA(J35:AQ35)*5 -> 100 | I35: Se hizo la validación de historias de usuario. Por parte del CSJ se realizaron observaciones para aplicarlas en la experiencia de usuario. | N35: C | O35: C | P35: C | Q35: C | R35: C | S35: C | T35: C | Y35: C | Z35: C | AA35: C | AB35: C | AC35: C | AD35: C | AE35: C | AF35: C | AH35: C | AI35: C | AJ35: C | AK35: C | AL35: C | BJ35: =+_xlfn.XLOOKUP(D35,Reportes!$S$6:$S$42,Reportes!$Y$6:$Y$42,0) -> 1
C36: A 1.10 | D36: Entregable 1 - Validación y ajuste de la matriz con los directores | E36: 45793 | F36: AUTENTIC | G36: En progreso | H36: =COUNTA(J36:AQ36)*5 -> 50 | AH36: R | AI36: R | AJ36: R | AK36: R | AL36: R | AM36: R | AN36: C | AO36: P | AP36: P | AQ36: P | AR36: P | AS36: P | AT36: P | AU36: P | AV36: P | AW36: P | AX36: P | BJ36: =+_xlfn.XLOOKUP(D36,Reportes!$S$6:$S$42,Reportes!$Y$6:$Y$42,0) -> 0.1
C37: A 1.11 | D37: Entregable 1 - Diseño de la estrategia de socialización | E37: 45723 | F37: AUTENTIC | G37: Completado | H37: =COUNTA(J37:AQ37)*5 -> 40 | I37: Se recibieron las plantillas de presentación de estrategia. Se adaptará la propuesta a dichas plantillas. | M37: C | N37: C | O37: C | Z37: C | AA37: C | AE37: V | AF37: V | AH37: V | BJ37: =+_xlfn.XLOOKUP(D37,Reportes!$S$6:$S$42,Reportes!$Y$6:$Y$42,0) -> 1
C38: A 1.12 | D38: Entregable 1 - Creación de materiales de capacitación | E38: 45751 | F38: AUTENTIC | G38: En progreso | H38: =COUNTA(J38:AQ38)*5 -> 95 | P38: C | Q38: C | R38: C | S38: C | AB38: C | AC38: R | AD38: R | AE38: R | AF38: R | AH38: R | AI38: R | AJ38: C | AK38: C | AL38: C | AM38: C | AN38: C | AO38: P | AP38: P | AQ38: P | AR38: P | BJ38: =+_xlfn.XLOOKUP(D38,Reportes!$S$6:$S$42,Reportes!$Y$6:$Y$42,0) -> 0.52631579
C39: A 1.13 | D39: Entregable 1 - Ejecución de la estrategia de socialización | E39: 45772 | F39: AUTENTIC | G39: No comenzado | H39: =COUNTA(J39:AQ39)*5 -> 70 | P39: C | Q39: C | R39: C | Z39: C | AH39: R | AI39: R | AJ39: R | AK39: R | AL39: R | AM39: R | AN39: C | AO39: P | AP39: P | AQ39: P | AR39: P | AS39: P | AT39: P | AU39: P | AV39: P | AW39: P | AX39: P | BJ39: =+_xlfn.XLOOKUP(D39,Reportes!$S$6:$S$42,Reportes!$Y$6:$Y$42,0) -> 0.35714286
C40: A 1.14 | D40: Entregable 1 - Entrega de la estrategia y resultados | E40: 45786 | F40: AUTENTIC | G40: No comenzado | H40: =COUNTA(J40:AQ40)*5 -> 10 | AO40: P | AP40: P | AW40: P | AX40: P | AY40: P | AZ40: P | BJ40: =+_xlfn.XLOOKUP(D40,Reportes!$S$6:$S$42,Reportes!$Y$6:$Y$42,0) -> 0
B41: Resultado 2 | C41: A 2.1 | D41: Entregable 2 - Reunión inicial con supervisión | E41: 45604 | F41: ANCLA | G41: Completado | H41: =COUNTA(J41:AQ41)*5 -> 5 | J41: C | BJ41: =+_xlfn.XLOOKUP(D41,Reportes!$S$6:$S$42,Reportes!$Y$6:$Y$42,0) -> 1
C42: A 2.2 | D42: Entregable 2 - Reunión inicial con directores de la UTDI | E42: 45744 | F42: AUTENTIC | G42: Completado | H42: =COUNTA(J42:AQ42)*5 -> 5 | I42: Confirmar si se realizaron todas las reuniones o hacen falta. Solicitar el listado para relacioanrlo en informe. | Z42: C | BJ42: =+_xlfn.XLOOKUP(D42,Reportes!$S$6:$S$42,Reportes!$Y$6:$Y$42,0) -> 1
C43: A 2.3 | D43: Entregable 2 - Levantamiento de información sobre interfaz de monitoreo | E43: 45730 | F43: AUTENTIC | G43: En progreso | H43: =COUNTA(J43:AQ43)*5 -> 70 | U43: C | V43: C | W43: C | X43: C | Y43: C | Z43: C | AA43: C | AB43: C | AC43: C | AD43: C | AN43: C | AO43: P | AP43: P | AQ43: P | AR43: P | AS43: P | AT43: P | AU43: P | AV43: P | AW43: P | AX43: P | BJ43: =+_xlfn.XLOOKUP(D43,Reportes!$S$6:$S$42,Reportes!$Y$6:$Y$42,0) -> 0.78571429
C44: A 2.4 | D44: Entregable 2 - Desarrollo - construcción de interfaz de monitoreo | E44: 45758 | F44: AUTENTIC | G44: Completado | H44: =COUNTA(J44:AQ44)*5 -> 70 | U44: C | V44: C | W44: C | X44: C | Y44: C | Z44: C | AA44: C | AB44: C | AC44: C | AD44: C | AE44: C | AF44: C | AH44: C | AI44: R | BJ44: =+_xlfn.XLOOKUP(D44,Reportes!$S$6:$S$42,Reportes!$Y$6:$Y$42,0) -> 0.92857143
...

Sheet Reportes
B3: Fecha de reporte | C3: =TODAY() -> 45828
B4: Días planeados | C4: =+Proyecto!D10 -> 355
B5: Días transcurridos | C5: =+C3-Proyecto!D8 -> 283 | M5: Estado | N5: Avance | O5: Cantidad | Q5: # | R5: Actividad | S5: Etapa | T5: Días | U5: Completados | V5: Planeados | W5: Retrasados | X5: Total | Y5: Avance
B6: Días faltantes | C6: =+C4-C5 -> 72 | M6: Completado | N6: =IF(COUNTA(Proyecto!$G$15:$G$63)=0,NA(),COUNTIF(Proyecto!$G$15:$G$63,Reportes!M6)/COUNTA(Proyecto!$G$15:$G$63)) -> 0.40816327 | O6: =+COUNTIF(Proyecto!$G$27:$G$63,Reportes!M6) -> 15 | Q6: 1 | R6: A 1.1 | S6: =+Proyecto!D27 -> Entregable 1 - Reunión inicial con supervisión | T6: =IF(Proyecto!H27="","",Proyecto!H27) -> 10 | U6: =+COUNTIF(Proyecto!J27:AQ27,"C") -> 2 | V6: =+COUNTIF(Proyecto!J27:AQ27,"P") -> 0 | W6: =+COUNTIF(Proyecto!J27:AQ27,"R") -> 0 | X6: =SUM(U6:W6) -> 2 | Y6: =+U6/X6 -> 1
M7: En progreso | N7: =IF(COUNTA(Proyecto!$G$15:$G$63)=0,NA(),COUNTIF(Proyecto!$G$15:$G$63,Reportes!M7)/COUNTA(Proyecto!$G$15:$G$63)) -> 0.3877551 | O7: =+COUNTIF(Proyecto!$G$27:$G$63,Reportes!M7) -> 17 | Q7: 2 | R7: A 1.2 | S7: =+Proyecto!D28 -> Entregable 1 - Levantamiento de información - Contexto organzación | T7: =IF(Proyecto!H28="","",Proyecto!H28) -> 15 | U7: =+COUNTIF(Proyecto!J28:AQ28,"C") -> 3 | V7: =+COUNTIF(Proyecto!J28:AQ28,"P") -> 0 | W7: =+COUNTIF(Proyecto!J28:AQ28,"R") -> 0 | X7: =SUM(U7:W7) -> 3 | Y7: =+U7/X7 -> 1
M8: Retrasado | N8: =IF(COUNTA(Proyecto!$G$15:$G$63)=0,NA(),COUNTIF(Proyecto!$G$15:$G$63,Reportes!M8)/COUNTA(Proyecto!$G$15:$G$63)) -> 0.040816327 | O8: =+COUNTIF(Proyecto!$G$27:$G$63,Reportes!M8) -> 0 | Q8: 3 | R8: A 1.3 | S8: =+Proyecto!D29 -> Entregable 1 - Reunión inicial con directores de la UTDI | T8: =IF(Proyecto!H29="","",Proyecto!H29) -> 30 | U8: =+COUNTIF(Proyecto!J29:AQ29,"C") -> 6 | V8: =+COUNTIF(Proyecto!J29:AQ29,"P") -> 0 | W8: =+COUNTIF(Proyecto!J29:AQ29,"R") -> 0 | X8: =SUM(U8:W8) -> 6 | Y8: =+U8/X8 -> 1
M9: No comenzado | N9: =IF(COUNTA(Proyecto!$G$15:$G$63)=0,NA(),COUNTIF(Proyecto!$G$15:$G$63,Reportes!M9)/COUNTA(Proyecto!$G$15:$G$63)) -> 0.16326531 | O9: =+COUNTIF(Proyecto!$G$27:$G$63,Reportes!M9) -> 5 | Q9: 4 | R9: A 1.4 | S9: =+Proyecto!D30 -> Entregable 1 - Reunión inicial con altas cortes y unidades del consejo superior | T9: =IF(Proyecto!H30="","",Proyecto!H30) -> 15 | U9: =+COUNTIF(Proyecto!J30:AQ30,"C") -> 3 | V9: =+COUNTIF(Proyecto!J30:AQ30,"P") -> 0 | W9: =+COUNTIF(Proyecto!J30:AQ30,"R") -> 0 | X9: =SUM(U9:W9) -> 3 | Y9: =+U9/X9 -> 1
M10: Total | O10: =SUM(O6:O9) -> 37 | Q10: 5 | R10: A 1.5 | S10: =+Proyecto!D31 -> Entregable 1 - Recolección de información sobre roles y activos de información UTDI | T10: =IF(Proyecto!H31="","",Proyecto!H31) -> 120 | U10: =+COUNTIF(Proyecto!J31:AQ31,"C") -> 21 | V10: =+COUNTIF(Proyecto!J31:AQ31,"P") -> 3 | W10: =+COUNTIF(Proyecto!J31:AQ31,"R") -> 0 | X10: =SUM(U10:W10) -> 24 | Y10: =+U10/X10 -> 0.875
Q11: 6 | R11: A 1.6 | S11: =+Proyecto!D32 -> Entregable 1 - Recolección de información sobre roles y activos de información - Altas Cortes. | T11: =IF(Proyecto!H32="","",Proyecto!H32) -> 120 | U11: =+COUNTIF(Proyecto!J32:AQ32,"C") -> 21 | V11: =+COUNTIF(Proyecto!J32:AQ32,"P") -> 3 | W11: =+COUNTIF(Proyecto!J32:AQ32,"R") -> 0 | X11: =SUM(U11:W11) -> 24 | Y11: =+U11/X11 -> 0.875
Q12: 7 | R12: A 1.7 | S12: =+Proyecto!D33 -> Entregable 1 - Definición de estructura y requisitos de la matriz RBAC | T12: =IF(Proyecto!H33="","",Proyecto!H33) -> 55 | U12: =+COUNTIF(Proyecto!J33:AQ33,"C") -> 11 | V12: =+COUNTIF(Proyecto!J33:AQ33,"P") -> 0 | W12: =+COUNTIF(Proyecto!J33:AQ33,"R") -> 0 | X12: =SUM(U12:W12) -> 11 | Y12: =+U12/X12 -> 1
Q13: 8 | R13: A 1.8 | S13: =+Proyecto!D34 -> Entregable 1 - Asignación Infraestructura Matriz RBAC | T13: =IF(Proyecto!H34="","",Proyecto!H34) -> 10 | U13: =+COUNTIF(Proyecto!J34:AQ34,"C") -> 2 | V13: =+COUNTIF(Proyecto!J34:AQ34,"P") -> 0 | W13: =+COUNTIF(Proyecto!J34:AQ34,"R") -> 0 | X13: =SUM(U13:W13) -> 2 | Y13: =+U13/X13 -> 1
Q14: 9 | R14: A 1.9 | S14: =+Proyecto!D35 -> Entregable 1 - Desarrollo e implementación de la matriz RBAC | T14: =IF(Proyecto!H35="","",Proyecto!H35) -> 100 | U14: =+COUNTIF(Proyecto!J35:AQ35,"C") -> 20 | V14: =+COUNTIF(Proyecto!J35:AQ35,"P") -> 0 | W14: =+COUNTIF(Proyecto!J35:AQ35,"R") -> 0 | X14: =SUM(U14:W14) -> 20 | Y14: =+U14/X14 -> 1
Q15: 10 | R15: A 1.10 | S15: =+Proyecto!D36 -> Entregable 1 - Validación y ajuste de la matriz con los directores | T15: =IF(Proyecto!H36="","",Proyecto!H36) -> 50 | U15: =+COUNTIF(Proyecto!J36:AQ36,"C") -> 1 | V15: =+COUNTIF(Proyecto!J36:AQ36,"P") -> 3 | W15: =+COUNTIF(Proyecto!J36:AQ36,"R") -> 6 | X15: =SUM(U15:W15) -> 10 | Y15: =+U15/X15 -> 0.1
Q16: 11 | R16: A 1.11 | S16: =+Proyecto!D37 -> Entregable 1 - Diseño de la estrategia de socialización | T16: =IF(Proyecto!H37="","",Proyecto!H37) -> 40 | U16: =+COUNTIF(Proyecto!J37:AQ37,"C") -> 5 | V16: =+COUNTIF(Proyecto!J37:AQ37,"P") -> 0 | W16: =+COUNTIF(Proyecto!J37:AQ37,"R") -> 0 | X16: =SUM(U16:W16) -> 5 | Y16: =+U16/X16 -> 1
Q17: 12 | R17: A 1.12 | S17: =+Proyecto!D38 -> Entregable 1 - Creación de materiales de capacitación | T17: =IF(Proyecto!H38="","",Proyecto!H38) -> 95 | U17: =+COUNTIF(Proyecto!J38:AQ38,"C") -> 10 | V17: =+COUNTIF(Proyecto!J38:AQ38,"P") -> 3 | W17: =+COUNTIF(Proyecto!J38:AQ38,"R") -> 6 | X17: =SUM(U17:W17) -> 19 | Y17: =+U17/X17 -> 0.52631579
Q18: 13 | R18: A 1.13 | S18: =+Proyecto!D39 -> Entregable 1 - Ejecución de la estrategia de socialización | T18: =IF(Proyecto!H39="","",Proyecto!H39) -> 70 | U18: =+COUNTIF(Proyecto!J39:AQ39,"C") -> 5 | V18: =+COUNTIF(Proyecto!J39:AQ39,"P") -> 3 | W18: =+COUNTIF(Proyecto!J39:AQ39,"R") -> 6 | X18: =SUM(U18:W18) -> 14 | Y18: =+U18/X18 -> 0.35714286
Q19: 14 | R19: A 1.14 | S19: =+Proyecto!D40 -> Entregable 1 - Entrega de la estrategia y resultados | T19: =IF(Proyecto!H40="","",Proyecto!H40) -> 10 | U19: =+COUNTIF(Proyecto!J40:AQ40,"C") -> 0 | V19: =+COUNTIF(Proyecto!J40:AQ40,"P") -> 2 | W19: =+COUNTIF(Proyecto!J40:AQ40,"R") -> 0 | X19: =SUM(U19:W19) -> 2 | Y19: =+U19/X19 -> 0
Q20: 15 | R20: A 2.1 | S20: =+Proyecto!D41 -> Entregable 2 - Reunión inicial con supervisión | T20: =IF(Proyecto!H41="","",Proyecto!H41) -> 5 | U20: =+COUNTIF(Proyecto!J41:AQ41,"C") -> 1 | V20: =+COUNTIF(Proyecto!J41:AQ41,"P") -> 0 | W20: =+COUNTIF(Proyecto!J41:AQ41,"R") -> 0 | X20: =SUM(U20:W20) -> 1 | Y20: =+U20/X20 -> 1
Q21: 16 | R21: A 2.2 | S21: =+Proyecto!D42 -> Entregable 2 - Reunión inicial con directores de la UTDI | T21: =IF(Proyecto!H42="","",Proyecto!H42) -> 5 | U21: =+COUNTIF(Proyecto!J42:AQ42,"C") -> 1 | V21: =+COUNTIF(Proyecto!J42:AQ42,"P") -> 0 | W21: =+COUNTIF(Proyecto!J42:AQ42,"R") -> 0 | X21: =SUM(U21:W21) -> 1 | Y21: =+U21/X21 -> 1
Q22: 17 | R22: A 2.3 | S22: =+Proyecto!D43 -> Entregable 2 - Levantamiento de información sobre interfaz de monitoreo | T22: =IF(Proyecto!H43="","",Proyecto!H43) -> 70 | U22: =+COUNTIF(Proyecto!J43:AQ43,"C") -> 11 | V22: =+COUNTIF(Proyecto!J43:AQ43,"P") -> 3 | W22: =+COUNTIF(Proyecto!J43:AQ43,"R") -> 0 | X22: =SUM(U22:W22) -> 14 | Y22: =+U22/X22 -> 0.78571429
Q23: 18 | R23: A 2.4 | S23: =+Proyecto!D44 -> Entregable 2 - Desarrollo - construcción de interfaz de monitoreo | T23: =IF(Proyecto!H44="","",Proyecto!H44) -> 70 | U23: =+COUNTIF(Proyecto!J44:AQ44,"C") -> 13 | V23: =+COUNTIF(Proyecto!J44:AQ44,"P") -> 0 | W23: =+COUNTIF(Proyecto!J44:AQ44,"R") -> 1 | X23: =SUM(U23:W23) -> 14 | Y23: =+U23/X23 -> 0.92857143
F24: Días de retraso vs días ganados | Q24: 19 | R24: A 2.5 | S24: =+Proyecto!D45 -> Entregable 2 - Monitoreo de usuarios y perfiles de acceso | T24: =IF(Proyecto!H45="","",Proyecto!H45) -> 50 | U24: =+COUNTIF(Proyecto!J45:AQ45,"C") -> 1 | V24: =+COUNTIF(Proyecto!J45:AQ45,"P") -> 3 | W24: =+COUNTIF(Proyecto!J45:AQ45,"R") -> 6 | X24: =SUM(U24:W24) -> 10 | Y24: =+U24/X24 -> 0.1
F25: Total días de retraso | G25: 0 | Q25: 20 | R25: A 2.6 | S25: =+Proyecto!D46 -> Entregable 2 - Validación con directores de unidad y división | T25: =IF(Proyecto!H46="","",Proyecto!H46) -> 25 | U25: =+COUNTIF(Proyecto!J46:AQ46,"C") -> 1 | V25: =+COUNTIF(Proyecto!J46:AQ46,"P") -> 3 | W25: =+COUNTIF(Proyecto!J46:AQ46,"R") -> 1 | X25: =SUM(U25:W25) -> 5 | Y25: =+U25/X25 -> 0.2
F26: Total días ganados | G26: 0 | Q26: 21 | R26: A 2.7 | S26: =+Proyecto!D47 -> Entregable 2 - Reporte parcial de hallazgos | T26: =IF(Proyecto!H47="","",Proyecto!H47) -> 20 | U26: =+COUNTIF(Proyecto!J47:AQ47,"C") -> 0 | V26: =+COUNTIF(Proyecto!J47:AQ47,"P") -> 2 | W26: =+COUNTIF(Proyecto!J47:AQ47,"R") -> 2 | X26: =SUM(U26:W26) -> 4 | Y26: =+U26/X26 -> 0
Q27: 22 | R27: A 2.8 | S27: =+Proyecto!D48 -> Entregable 2 - Entrega del reporte final de monitoreo | T27: =IF(Proyecto!H48="","",Proyecto!H48) -> 0 | U27: =+COUNTIF(Proyecto!J48:AQ48,"C") -> 0 | V27: =+COUNTIF(Proyecto!J48:AQ48,"P") -> 0 | W27: =+COUNTIF(Proyecto!J48:AQ48,"R") -> 0 | X27: =SUM(U27:W27) -> 0 | Y27: =+U27/X27 -> #DIV/0!
Q28: 23 | R28: A 3.1 | S28: =+Proyecto!D49 -> Entregable 3 - Reunión inicial con supervisión y asignación de prioridades | T28: =IF(Proyecto!H49="","",Proyecto!H49) -> 5 | U28: =+COUNTIF(Proyecto!J49:AQ49,"C") -> 1 | V28: =+COUNTIF(Proyecto!J49:AQ49,"P") -> 0 | W28: =+COUNTIF(Proyecto!J49:AQ49,"R") -> 0 | X28: =SUM(U28:W28) -> 1 | Y28: =+U28/X28 -> 1
Q29: 24 | R29: A 3.2 | S29: =+Proyecto!D50 -> Entregable 3 - Definición CSJ 6 aplicativos a integrar | T29: =IF(Proyecto!H50="","",Proyecto!H50) -> 35 | U29: =+COUNTIF(Proyecto!J50:AQ50,"C") -> 4 | V29: =+COUNTIF(Proyecto!J50:AQ50,"P") -> 2 | W29: =+COUNTIF(Proyecto!J50:AQ50,"R") -> 1 | X29: =SUM(U29:W29) -> 7 | Y29: =+U29/X29 -> 0.57142857
Q30: 25 | R30: A 3.3 | S30: =+Proyecto!D51 -> Entregable 3 - Análisis técnico de compatibilidad e integración | T30: =IF(Proyecto!H51="","",Proyecto!H51) -> 55 | U30: =+COUNTIF(Proyecto!J51:AQ51,"C") -> 8 | V30: =+COUNTIF(Proyecto!J51:AQ51,"P") -> 2 | W30: =+COUNTIF(Proyecto!J51:AQ51,"R") -> 1 | X30: =SUM(U30:W30) -> 11 | Y30: =+U30/X30 -> 0.72727273
Q31: 26 | R31: A 3.4 | S31: =+Proyecto!D52 -> Entregable 3 - Evaluación de requerimientos técnicos adicionales | T31: =IF(Proyecto!H52="","",Proyecto!H52) -> 60 | U31: =+COUNTIF(Proyecto!J52:AQ52,"C") -> 9 | V31: =+COUNTIF(Proyecto!J52:AQ52,"P") -> 2 | W31: =+COUNTIF(Proyecto!J52:AQ52,"R") -> 1 | X31: =SUM(U31:W31) -> 12 | Y31: =+U31/X31 -> 0.75
Q32: 27 | R32: A 3.5 | S32: =+Proyecto!D53 -> Entregable 3 - Sesiones Sincronización y requerimientos técnicos, integración y desarrollo 6 aplicativos | T32: =IF(Proyecto!H53="","",Proyecto!H53) -> 40 | U32: =+COUNTIF(Proyecto!J53:AQ53,"C") -> 5 | V32: =+COUNTIF(Proyecto!J53:AQ53,"P") -> 2 | W32: =+COUNTIF(Proyecto!J53:AQ53,"R") -> 1 | X32: =SUM(U32:W32) -> 8 | Y32: =+U32/X32 -> 0.625
Q33: 28 | R33: A 3.6 | S33: =+Proyecto!D54 -> Entregable 3 - Asignación Infraestructura Integración | T33: =IF(Proyecto!H54="","",Proyecto!H54) -> 15 | U33: =+COUNTIF(Proyecto!J54:AQ54,"C") -> 3 | V33: =+COUNTIF(Proyecto!J54:AQ54,"P") -> 0 | W33: =+COUNTIF(Proyecto!J54:AQ54,"R") -> 0 | X33: =SUM(U33:W33) -> 3 | Y33: =+U33/X33 -> 1
Q34: 29 | R34: A 3.7 | S34: =+Proyecto!D55 -> Entregable 3 - Desarrollo de componentes de integración 6 aplicativos | T34: =IF(Proyecto!H55="","",Proyecto!H55) -> 75 | U34: =+COUNTIF(Proyecto!J55:AQ55,"C") -> 13 | V34: =+COUNTIF(Proyecto!J55:AQ55,"P") -> 2 | W34: =+COUNTIF(Proyecto!J55:AQ55,"R") -> 0 | X34: =SUM(U34:W34) -> 15 | Y34: =+U34/X34 -> 0.86666667
Q35: 30 | R35: A 3.8 | S35: =+Proyecto!D56 -> Entregable 3 - Configuración del componente de gestión de identidad | T35: =IF(Proyecto!H56="","",Proyecto!H56) -> 40 | U35: =+COUNTIF(Proyecto!J56:AQ56,"C") -> 6 | V35: =+COUNTIF(Proyecto!J56:AQ56,"P") -> 2 | W35: =+COUNTIF(Proyecto!J56:AQ56,"R") -> 0 | X35: =SUM(U35:W35) -> 8 | Y35: =+U35/X35 -> 0.75
Q36: 31 | R36: A 3.9 | S36: =+Proyecto!D57 -> Entregable 3 - Definición IdP CSJ | T36: =IF(Proyecto!H57="","",Proyecto!H57) -> 5 | U36: =+COUNTIF(Proyecto!J57:AQ57,"C") -> 1 | V36: =+COUNTIF(Proyecto!J57:AQ57,"P") -> 0 | W36: =+COUNTIF(Proyecto!J57:AQ57,"R") -> 0 | X36: =SUM(U36:W36) -> 1 | Y36: =+U36/X36 -> 1
Q37: 32 | R37: A 3.10 | S37: =+Proyecto!D58 -> Entregable 3 - Configuración IdP CSJ Sincronización con gestión de usuario | T37: =IF(Proyecto!H58="","",Proyecto!H58) -> 70 | U37: =+COUNTIF(Proyecto!J58:AQ58,"C") -> 9 | V37: =+COUNTIF(Proyecto!J58:AQ58,"P") -> 3 | W37: =+COUNTIF(Proyecto!J58:AQ58,"R") -> 2 | X37: =SUM(U37:W37) -> 14 | Y37: =+U37/X37 -> 0.64285714
Q38: 33 | R38: A 3.11 | S38: =+Proyecto!D59 -> Entregable 3 - Integración Directorio Activo CSJ | T38: =IF(Proyecto!H59="","",Proyecto!H59) -> 70 | U38: =+COUNTIF(Proyecto!J59:AQ59,"C") -> 9 | V38: =+COUNTIF(Proyecto!J59:AQ59,"P") -> 3 | W38: =+COUNTIF(Proyecto!J59:AQ59,"R") -> 2 | X38: =SUM(U38:W38) -> 14 | Y38: =+U38/X38 -> 0.64285714
... Q42: 37 | R42: A 4 | S42: =+Proyecto!D63 -> Cierre - Informe de Cierre de proyecto | T42: =IF(Proyecto!H63="","",Proyecto!H63) -> 0 | U42: =+COUNTIF(Proyecto!J63:AQ63,"C") -> 0 | V42: =+COUNTIF(Proyecto!J63:AQ63,"P") -> 0 | W42: =+COUNTIF(Proyecto!J63:AQ63,"R") -> 0 | X42: =SUM(U42:W42) -> 0 | Y42: =+U42/X42 -> #DIV/0!
Q43: Total | U43: =SUM(U6:U42) -> 228 | V43: =SUM(V6:V42) -> 56 | W43: =SUM(W6:W42) -> 36 | X43: =SUM(X6:X42) -> 320 | Y43: =+U43/X43 -> 0.7125
U44: =+U43/$X$43 -> 0.7125 | V44: =+V43/$X$43 -> 0.175 | W44: =+W43/$X$43 -> 0.1125 | X44: =SUM(U44:W44) -> 1 | Y44: =+U44/X44 -> 0.7125
U45: =+U44+W44 -> 0.825
