Workbook

Sheet ESPECIFICACIONES TECNICAS- E.M
BH1: PRESUPUESTO ACTUAL
B2: LOTE 1 | BH2: 824963052 | BJ2: 5.2 | BK2: SASI-0019-SG-2024 | BL2: 142-SG-2024 | BM2: 143-SG-2024 | BN2: 140-SG-2024 | BO2: 144-SG-2024 | BP2: 146-SG2024 | BQ2: 141-SG-2024
BJ3: 9.28 | BK3: SASI-0019-SG-2023 | BL3: 144-SG-2023
B5: ITEM | C5: ESPECIFICACION TECNICA | D5: GRADO | E5: PUREZA | F5: PRESENTACION O UNIDAD DE MEDIDA | G5: VIGENCIA MINIMA | H5: CONDICION DE ALMACENAMIENTO | I5: NUMERO DE CAS | J5: CLASIFICACION CODIGOS UNSPSC | K5: IDENTIFICACION ADICIONAL REQUERIDA | L5: CALIDAD MINIMA | M5: PATRONES DE DESEMPEÑO | N5: DIRECCION GENERAL | P5: REGIONAL BOGOTÁ | V5: REGIONAL NOROCCIDENTE | AA5: REGIONAL NORORIENTE | AH5: REGIONAL NORTE | AM5: REGIONAL OCCIDENTE | AP5: REGIONAL ORIENTE | AW5: REGIONAL SUR | BD5: REGIONAL SUROCCIDENTE | BH5: CANTIDAD TOTAL | BI5: HISTORICOS 2024 | BK5: CONTRATO | BL5: ANNAR | BO5: AS ANALYTICAL | BR5: CIEDUTEC | BU5: SCIENTIFIC | BX5: NORQUIMICOS | CA5: PROFINAS | CD5: QUIMITRONICA
AA6: SECCIONAL SANTANDER | AE6: SECCIONAL NORTE DE SANTANDER | AH6: SECCIONAL ATLÁNTICO | AP6: SECCIONAL BOYACÁ | AS6: SECCIONAL META | AV6: TOTAL REGIONAL ORIENTE | AW6: SECCIONAL TOLIMA | BA6: SECCIONAL HUILA | BC6: TOTAL REGIONAL SUR | BI6: VALOR UNITARIO CONTRATO | BJ6: VALOR UNITARIO CONTRATO CON IPC | BL6: VALOR UNITARIO | BM6: VALOR UNITRIO CON IVA | BN6: VALOR TOTALPOR ITEM | BO6: VALOR UNITARIO | BP6: VALOR UNITRIO CON IVA | BQ6: VALOR TOTALPOR ITEM | BR6: VALOR UNITARIO | BS6: VALOR UNITRIO CON IVA | BT6: VALOR TOTALPOR ITEM | BU6: VALOR UNITARIO | BV6: VALOR UNITRIO CON IVA | BW6: VALOR TOTALPOR ITEM | BX6: VALOR UNITARIO | BY6: VALOR UNITRIO CON IVA | BZ6: VALOR TOTALPOR ITEM | CA6: VALOR UNITARIO | CB6: VALOR UNITRIO CON IVA | CC6: VALOR TOTALPOR ITEM | CD6: VALOR UNITARIO | CE6: VALOR UNITRIO CON IVA | CF6: VALOR TOTALPOR ITEM
N7: GRUPO APOYO-SNVJRNR | O7: TOTAL | P7: BIOLOGIA | Q7: ESTUPEFACIENTES | R7: E. TRAZA | S7: GENETICA | T7: TOXICOLOGIA | U7: TOTAL REGIONAL BOGOTÁ | V7: BALISTICA | W7: ESTUPEFACIENTES | X7: GENETICA | Y7: TOXICOLOGIA | Z7: TOTAL REGIONAL NOROCCIDENTE | AA7: BALISTICA | AB7: ESTUPEFACIENTES | AC7: TOXICOLOGIA | AD7: TOTAL SECCIONAL SANTANDER | AE7: BIOLOGIA | AF7: TOTAL SECCIONAL NTE SANTANDER | AG7: TOTAL REGIONAL NORORIENTE | AH7: BIOLOGIA | AI7: BALISTICA | AJ7: ESTUPEFACIENTES | AK7: TOXICOLOGIA | AL7: TOTAL REGIONAL NORTE | AM7: ESTUPEFACIENTES | AN7: TOXICOLOGIA | AO7: TOTAL REGIONAL OCCIDENTE | AP7: BALISTICA | AQ7: TOXICOLOGIA | AR7: TOTAL SECCIONAL BOYACÁ | AS7: BALISTICA | AT7: GENETICA | AU7: TOTAL SECCIONAL META | AW7: BIOLOGIA | AX7: ESTUPEFACIENTES | AY7: TOXICOLOGIA | AZ7: TOTAL SECCIONAL TOLIMA | BA7: BIOLOGIA | BB7: TOTAL SECCIONAL HUILA | BD7: ESTUPEFACIENTES | BE7: GENETICA | BF7: TOXICOLOGIA | BG7: TOTAL REGIONAL SUROCCIDENTE
B8: 1 | C8: Ácido rubeánico o ditiooxiamida | D8: Reactivo analítico o ACS o Análisis o Ph Eur o BP | E8: ≥98% | F8: Frasco por 10 gramos | G8: Un (1) año a partir de la entrega | H8: AMBIENTE | I8: 79-40-3 | J8: 12161500 12191500 12191600 12352100 12352300 | K8: REACTIVO | L8: PUREZA | M8: ANALISIS DE SUSTACIA | O8: =SUM(N8:N8) -> 0 | U8: =SUM(P8:T8) -> 0 | Z8: =SUM(V8:Y8) -> 0 | AA8: 1 | AD8: =SUM(AA8:AC8) -> 1 | AF8: =SUM(AE8:AE8) -> 0 | AG8: =AF8+AD8 -> 1 | AL8: =SUM(AH8:AK8) -> 0 | AO8: =SUM(AM8:AN8) -> 0 | AR8: =SUM(AP8:AQ8) -> 0 | AU8: =SUM(AS8:AT8) -> 0 | AV8: =AU8+AR8 -> 0 | AZ8: =SUM(AW8:AY8) -> 0 | BB8: =SUM(BA8:BA8) -> 0 | BC8: =BB8+AZ8 -> 0 | BG8: =SUM(BD8:BF8) -> 0 | BH8: =BG8+BC8+AV8+AO8+AL8+AG8+Z8+U8+O8 -> 1 | BI8: 177902.56 | BJ8: =BI8*(1+(BJ2/100)) -> 187153.49 | BK8: 140-SG-2024
B9: 2 | C9: Ditionito de sodio o Hidrosulfito de sodio | D9: Reactivo analítico o ACS o Análisis o Ph Eur o BP | E9: ≥85%. | F9: Frasco por 500 gramos | G9: Un (1) año a partir de la entrega | H9: AMBIENTE | I9: 7775-14-6 | K9: REACTIVO | L9: PUREZA | O9: =SUM(N9:N9) -> 0 | U9: =SUM(P9:T9) -> 0 | Z9: =SUM(V9:Y9) -> 0 | AD9: =SUM(AA9:AC9) -> 0 | AF9: =SUM(AE9:AE9) -> 0 | AG9: =AF9+AD9 -> 0 | AL9: =SUM(AH9:AK9) -> 0 | AN9: 1 | AO9: =SUM(AM9:AN9) -> 1 | AR9: =SUM(AP9:AQ9) -> 0 | AU9: =SUM(AS9:AT9) -> 0 | AV9: =AU9+AR9 -> 0 | AZ9: =SUM(AW9:AY9) -> 0 | BB9: =SUM(BA9:BA9) -> 0 | BC9: =BB9+AZ9 -> 0 | BG9: =SUM(BD9:BF9) -> 0 | BH9: =BG9+BC9+AV9+AO9+AL9+AG9+Z9+U9+O9 -> 1 | BI9: 87493.04 | BJ9: =BI9*(1+(BJ2/100)) -> 92042.678 | BK9: 140-SG-2024
B10: 3 | C10: Fenol equilibrado con Tris HCI para extracción de ADN (pH 8,0) | D10: NA | E10: NA | F10: Frasco por 400 mL | G10: Un (1) año a partir de la entrega | H10: AMBIENTE | I10: NA | K10: REACTIVO | L10: NA | N10: 7 | O10: =SUM(N10:N10) -> 7 | S10: 10 | U10: =SUM(P10:T10) -> 10 | Z10: =SUM(V10:Y10) -> 0 | AD10: =SUM(AA10:AC10) -> 0 | AF10: =SUM(AE10:AE10) -> 0 | AG10: =AF10+AD10 -> 0 | AL10: =SUM(AH10:AK10) -> 0 | AO10: =SUM(AM10:AN10) -> 0 | AR10: =SUM(AP10:AQ10) -> 0 | AT10: 1 | AU10: =SUM(AS10:AT10) -> 1 | AV10: =AU10+AR10 -> 1 | AZ10: =SUM(AW10:AY10) -> 0 | BB10: =SUM(BA10:BA10) -> 0 | BC10: =BB10+AZ10 -> 0 | BG10: =SUM(BD10:BF10) -> 0 | BH10: =BG10+BC10+AV10+AO10+AL10+AG10+Z10+U10+O10 -> 18 | BI10: 267190.4 | BJ10: =BI10*(1+(BJ2/100)) -> 281084.3 | BK10: 140-SG-2024
B11: 4 | C11: Líquido para eliminar DNA y DNAsas contaminantes, de material plástico y vidrio, sin afectar las muestras de ADN en análisis (Tipo DNA-AWAY) | D11: NA | E11: NA | F11: Frasco por 250 mL | G11: Un (1) año a partir de la entrega | H11: AMBIENTE | I11: NA | K11: REACTIVO | L11: NA | N11: 10 | O11: =SUM(N11:N11) -> 10 | S11: 12 | U11: =SUM(P11:T11) -> 12 | X11: 5 | Z11: =SUM(V11:Y11) -> 5 | AD11: =SUM(AA11:AC11) -> 0 | AF11: =SUM(AE11:AE11) -> 0 | AG11: =AF11+AD11 -> 0 | AL11: =SUM(AH11:AK11) -> 0 | AO11: =SUM(AM11:AN11) -> 0 | AR11: =SUM(AP11:AQ11) -> 0 | AT11: 4 | AU11: =SUM(AS11:AT11) -> 4 | AV11: =AU11+AR11 -> 4 | AZ11: =SUM(AW11:AY11) -> 0 | BB11: =SUM(BA11:BA11) -> 0 | BC11: =BB11+AZ11 -> 0 | BE11: 5 | BG11: =SUM(BD11:BF11) -> 5 | BH11: =BG11+BC11+AV11+AO11+AL11+AG11+Z11+U11+O11 -> 36 | BI11: 88390.41 | BJ11: =BI11*(1+(BJ2/100)) -> 92986.711 | BK11: 140-SG-2024
B12: 5 | C12: Sodium N Laurylsarcosinate, para biología molecular . | D12: NA | E12: ≥94,0% | F12: Frasco por 25 gramos | G12: 1 año a partir de la entrega, en caso de no tener vigencia, se debe incluir documento (certificado de análisis o del fabricante) que incluya o se indique fecha de re-análisis (recommended retest date) o describir la vida útil del reactivo (Shelf life); ésta no debe ser inferior a doce (12) meses. | H12: AMBIENTE | I12: 137-16-6 | K12: REACTIVO | L12: PUREZA | N12: 50 | O12: =SUM(N12:N12) -> 50 | U12: =SUM(P12:T12) -> 0 | X12: 10 | Z12: =SUM(V12:Y12) -> 10 | AD12: =SUM(AA12:AC12) -> 0 | AF12: =SUM(AE12:AE12) -> 0 | AG12: =AF12+AD12 -> 0 | AL12: =SUM(AH12:AK12) -> 0 | AO12: =SUM(AM12:AN12) -> 0 | AR12: =SUM(AP12:AQ12) -> 0 | AT12: 10 | AU12: =SUM(AS12:AT12) -> 10 | AV12: =AU12+AR12 -> 10 | AZ12: =SUM(AW12:AY12) -> 0 | BB12: =SUM(BA12:BA12) -> 0 | BC12: =BB12+AZ12 -> 0 | BE12: 10 | BG12: =SUM(BD12:BF12) -> 10 | BH12: =BG12+BC12+AV12+AO12+AL12+AG12+Z12+U12+O12 -> 80 | BI12: 202131.43 | BJ12: =BI12*(1+(BJ2/100)) -> 212642.26 | BK12: 140-SG-2024
B13: 6 | C13: Cloroformo estabilizado con etanol | D13: Reactivo analítico o ACS o Análisis o Ph Eur o BP | E13: >98% | F13: Frasco por 4 Litros | G13: Un (1) año a partir de la entrega | H13: AMBIENTE | I13: 67-66-3 | K13: REACTIVO | L13: PUREZA | O13: =SUM(N13:N13) -> 0 | U13: =SUM(P13:T13) -> 0 | Z13: =SUM(V13:Y13) -> 0 | AB13: 2 | AD13: =SUM(AA13:AC13) -> 2 | AF13: =SUM(AE13:AE13) -> 0 | AG13: =AF13+AD13 -> 2 | AL13: =SUM(AH13:AK13) -> 0 | AO13: =SUM(AM13:AN13) -> 0 | AR13: =SUM(AP13:AQ13) -> 0 | AU13: =SUM(AS13:AT13) -> 0 | AV13: =AU13+AR13 -> 0 | AZ13: =SUM(AW13:AY13) -> 0 | BB13: =SUM(BA13:BA13) -> 0 | BC13: =BB13+AZ13 -> 0 | BG13: =SUM(BD13:BF13) -> 0 | BH13: =BG13+BC13+AV13+AO13+AL13+AG13+Z13+U13+O13 -> 2 | BI13: 479400 | BJ13: =BI13*(1+(BJ2/100)) -> 504328.8 | BK13: 142-SG-2024
B14: 7 | C14: Detergente alcalino para lavado de material de vidrio de laboratorio, libre de cloro y sin olor. | D14: NA | E14: NA | F14: Recipiente por 5 L | G14: Un (1) año a partir de la entrega | H14: AMBIENTE | I14: NA | K14: DETERGENTE | L14: NA | O14: =SUM(N14:N14) -> 0 | U14: =SUM(P14:T14) -> 0 | W14: 6 | Y14: 6 | Z14: =SUM(V14:Y14) -> 12 | AD14: =SUM(AA14:AC14) -> 0 | AF14: =SUM(AE14:AE14) -> 0 | AG14: =AF14+AD14 -> 0 | AL14: =SUM(AH14:AK14) -> 0 | AO14: =SUM(AM14:AN14) -> 0 | AR14: =SUM(AP14:AQ14) -> 0 | AU14: =SUM(AS14:AT14) -> 0 | AV14: =AU14+AR14 -> 0 | AX14: 5 | AY14: 5 | AZ14: =SUM(AW14:AY14) -> 10 | BB14: =SUM(BA14:BA14) -> 0 | BC14: =BB14+AZ14 -> 10 | BG14: =SUM(BD14:BF14) -> 0 | BH14: =BG14+BC14+AV14+AO14+AL14+AG14+Z14+U14+O14 -> 22 | BI14: 159800 | BJ14: =BI14*(1+(BJ2/100)) -> 168109.6 | BK14: 142-SG-2024
B15: 8 | C15: Detergente líquido, neutro, concentrado, libre de cloro y sin olor para laboratorio. | D15: NA | E15: NA | F15: Recipiente por 5 L | G15: Un (1) año a partir de la entrega | H15: AMBIENTE | I15: NA | K15: DETERGENTE | L15: NA | O15: =SUM(N15:N15) -> 0 | U15: =SUM(P15:T15) -> 0 | Z15: =SUM(V15:Y15) -> 0 | AD15: =SUM(AA15:AC15) -> 0 | AE15: 1 | AF15: =SUM(AE15:AE15) -> 1 | AG15: =AF15+AD15 -> 1 | AL15: =SUM(AH15:AK15) -> 0 | AM15: 6 | AN15: 12 | AO15: =SUM(AM15:AN15) -> 18 | AR15: =SUM(AP15:AQ15) -> 0 | AT15: 1 | AU15: =SUM(AS15:AT15) -> 1 | AV15: =AU15+AR15 -> 1 | AW15: 2 | AZ15: =SUM(AW15:AY15) -> 2 | BA15: 1 | BB15: =SUM(BA15:BA15) -> 1 | BC15: =BB15+AZ15 -> 3 | BD15: 15 | BE15: 15 | BF15: 24 | BG15: =SUM(BD15:BF15) -> 54 | BH15: =BG15+BC15+AV15+AO15+AL15+AG15+Z15+U15+O15 -> 77 | BI15: 183770 | BJ15: =BI15*(1+(BJ2/100)) -> 193326.04 | BK15: 142-SG-2024
B16: 9 | C16: Metanol para análisis | D16: Reactivo analítico o ACS o Análisis o Ph Eur o BP | E16: ≥ 99% | F16: Frasco por 2,5 Litros | G16: Un (1) año a partir de la entrega | H16: AMBIENTE | I16: 67-56-1 | K16: REACTIVO | L16: PUREZA | O16: =SUM(N16:N16) -> 0 | Q16: 2 | U16: =SUM(P16:T16) -> 2 | V16: 1 | Y16: 1 | Z16: =SUM(V16:Y16) -> 2 | AA16: 1 | AD16: =SUM(AA16:AC16) -> 1 | AF16: =SUM(AE16:AE16) -> 0 | AG16: =AF16+AD16 -> 1 | AL16: =SUM(AH16:AK16) -> 0 | AO16: =SUM(AM16:AN16) -> 0 | AR16: =SUM(AP16:AQ16) -> 0 | AU16: =SUM(AS16:AT16) -> 0 | AV16: =AU16+AR16 -> 0 | AX16: 1 | AY16: 2 | AZ16: =SUM(AW16:AY16) -> 3 | BB16: =SUM(BA16:BA16) -> 0 | BC16: =BB16+AZ16 -> 3 | BG16: =SUM(BD16:BF16) -> 0 | BH16: =BG16+BC16+AV16+AO16+AL16+AG16+Z16+U16+O16 -> 8 | BI16: 159800 | BJ16: =BI16*(1+(BJ2/100)) -> 168109.6 | BK16: 142-SG-2024
B17: 10 | C17: Nitrito de sodio | D17: Reactivo analítico o ACS o Análisis o Ph Eur o BP | E17: ≥ 98% | F17: Frasco por 100 gramos | G17: Un (1) año a partir de la entrega | H17: AMBIENTE | I17: 7632-00-0 | K17: REACTIVO | L17: PUREZA | O17: =SUM(N17:N17) -> 0 | U17: =SUM(P17:T17) -> 0 | V17: 1 | Z17: =SUM(V17:Y17) -> 1 | AD17: =SUM(AA17:AC17) -> 0 | AF17: =SUM(AE17:AE17) -> 0 | AG17: =AF17+AD17 -> 0 | AL17: =SUM(AH17:AK17) -> 0 | AO17: =SUM(AM17:AN17) -> 0 | AR17: =SUM(AP17:AQ17) -> 0 | AU17: =SUM(AS17:AT17) -> 0 | AV17: =AU17+AR17 -> 0 | AZ17: =SUM(AW17:AY17) -> 0 | BB17: =SUM(BA17:BA17) -> 0 | BC17: =BB17+AZ17 -> 0 | BD17: 1 | BG17: =SUM(BD17:BF17) -> 1 | BH17: =BG17+BC17+AV17+AO17+AL17+AG17+Z17+U17+O17 -> 2 | BI17: 143820 | BJ17: =BI17*(1+(BJ2/100)) -> 151298.64 | BK17: 142-SG-2024
B18: 11 | C18: Permanganato de potasio | D18: Reactivo analítico o ACS o Análisis o Ph Eur o BP | E18: ≥ 98% | F18: Frasco por 250 gramos | G18: Un (1) año a partir de la entrega | H18: AMBIENTE | I18: 7722-64-7 | K18: REACTIVO | L18: PUREZA | O18: =SUM(N18:N18) -> 0 | U18: =SUM(P18:T18) -> 0 | Z18: =SUM(V18:Y18) -> 0 | AB18: 1 | AD18: =SUM(AA18:AC18) -> 1 | AF18: =SUM(AE18:AE18) -> 0 | AG18: =AF18+AD18 -> 1 | AL18: =SUM(AH18:AK18) -> 0 | AO18: =SUM(AM18:AN18) -> 0 | AR18: =SUM(AP18:AQ18) -> 0 | AU18: =SUM(AS18:AT18) -> 0 | AV18: =AU18+AR18 -> 0 | AZ18: =SUM(AW18:AY18) -> 0 | BB18: =SUM(BA18:BA18) -> 0 | BC18: =BB18+AZ18 -> 0 | BD18: 1 | BG18: =SUM(BD18:BF18) -> 1 | BH18: =BG18+BC18+AV18+AO18+AL18+AG18+Z18+U18+O18 -> 2 | BI18: 319600 | BJ18: =BI18*(1+(BJ2/100)) -> 336219.2 | BK18: 142-SG-2024
B19: 12 | C19: Acetaldehído | D19: Reactivo analítico o ACS o Análisis o Ph Eur o BP | E19: ≥99,5 % | F19: Frasco por 1 Litro | G19: Un (1) año a partir de la entrega | H19: AMBIENTE | I19: 75-07-0 | K19: REACTIVO | L19: PUREZA | O19: =SUM(N19:N19) -> 0 | U19: =SUM(P19:T19) -> 0 | Y19: 1 | Z19: =SUM(V19:Y19) -> 1 | AD19: =SUM(AA19:AC19) -> 0 | AF19: =SUM(AE19:AE19) -> 0 | AG19: =AF19+AD19 -> 0 | AL19: =SUM(AH19:AK19) -> 0 | AO19: =SUM(AM19:AN19) -> 0 | AQ19: 1 | AR19: =SUM(AP19:AQ19) -> 1 | AU19: =SUM(AS19:AT19) -> 0 | AV19: =AU19+AR19 -> 1 | AY19: 1 | AZ19: =SUM(AW19:AY19) -> 1 | BB19: =SUM(BA19:BA19) -> 0 | BC19: =BB19+AZ19 -> 1 | BF19: 1 | BG19: =SUM(BD19:BF19) -> 1 | BH19: =BG19+BC19+AV19+AO19+AL19+AG19+Z19+U19+O19 -> 4 | BI19: 1463988 | BJ19: =BI19*(1+(BJ2/100)) -> 1540115.4 | BK19: 143-SG-2024
B20: 13 | C20: Metanol para LC-MS | D20: LC-MS | E20: ≥99,9 % | F20: Frasco por 4 Litros | G20: Un (1) año a partir de la entrega | H20: AMBIENTE | I20: 67-56-1 | K20: REACTIVO | L20: PUREZA | O20: =SUM(N20:N20) -> 0 | Q20: 9 | U20: =SUM(P20:T20) -> 9 | Y20: 7 | Z20: =SUM(V20:Y20) -> 7 | AC20: 30 | AD20: =SUM(AA20:AC20) -> 30 | AF20: =SUM(AE20:AE20) -> 0 | AG20: =AF20+AD20 -> 30 | AL20: =SUM(AH20:AK20) -> 0 | AN20: 1 | AO20: =SUM(AM20:AN20) -> 1 | AR20: =SUM(AP20:AQ20) -> 0 | AU20: =SUM(AS20:AT20) -> 0 | AV20: =AU20+AR20 -> 0 | AZ20: =SUM(AW20:AY20) -> 0 | BB20: =SUM(BA20:BA20) -> 0 | BC20: =BB20+AZ20 -> 0 | BG20: =SUM(BD20:BF20) -> 0 | BH20: =BG20+BC20+AV20+AO20+AL20+AG20+Z20+U20+O20 -> 47 | BI20: 674699.5 | BJ20: =BI20*(1+(BJ2/100)) -> 709783.87 | BK20: 143-SG-2024
B21: 14 | C21: Hexano (n-hexano) | D21: LC-MS | E21: ≥99 % | F21: Frasco por 2,5 Litros | G21: Un (1) año a partir de la entrega | H21: AMBIENTE | I21: 110-54-3 | K21: REACTIVO | L21: PUREZA | O21: =SUM(N21:N21) -> 0 | U21: =SUM(P21:T21) -> 0 | Z21: =SUM(V21:Y21) -> 0 | AC21: 1 | AD21: =SUM(AA21:AC21) -> 1 | AF21: =SUM(AE21:AE21) -> 0 | AG21: =AF21+AD21 -> 1 | AL21: =SUM(AH21:AK21) -> 0 | AO21: =SUM(AM21:AN21) -> 0 | AR21: =SUM(AP21:AQ21) -> 0 | AU21: =SUM(AS21:AT21) -> 0 | AV21: =AU21+AR21 -> 0 | AZ21: =SUM(AW21:AY21) -> 0 | BB21: =SUM(BA21:BA21) -> 0 | BC21: =BB21+AZ21 -> 0 | BG21: =SUM(BD21:BF21) -> 0 | BH21: =BG21+BC21+AV21+AO21+AL21+AG21+Z21+U21+O21 -> 1 | BI21: 1196059.5 | BJ21: =BI21*(1+(BJ2/100)) -> 1258254.6 | BK21: 143-SG-2024
B22: 15 | C22: Sulfato de amonio | D22: Reactivo analítico o ACS o Análisis o Ph Eur o BP | E22: ≥99% | F22: Frasco por 1 Kg | G22: Un (1) año a partir de la entrega | H22: AMBIENTE | I22: 7783-20-2 | K22: REACTIVO | L22: PUREZA | O22: =SUM(N22:N22) -> 0 | U22: =SUM(P22:T22) -> 0 | Z22: =SUM(V22:Y22) -> 0 | AD22: =SUM(AA22:AC22) -> 0 | AF22: =SUM(AE22:AE22) -> 0 | AG22: =AF22+AD22 -> 0 | AJ22: 1 | AL22: =SUM(AH22:AK22) -> 1 | AO22: =SUM(AM22:AN22) -> 0 | AR22: =SUM(AP22:AQ22) -> 0 | AU22: =SUM(AS22:AT22) -> 0 | AV22: =AU22+AR22 -> 0 | AZ22: =SUM(AW22:AY22) -> 0 | BB22: =SUM(BA22:BA22) -> 0 | BC22: =BB22+AZ22 -> 0 | BD22: 1 | BG22: =SUM(BD22:BF22) -> 1 | BH22: =BG22+BC22+AV22+AO22+AL22+AG22+Z22+U22+O22 -> 2 | BI22: 308617 | BJ22: =BI22*(1+(BJ2/100)) -> 324665.08 | BK22: 143-SG-2024
B23: 16 | C23: Oxido de Calcio en polvo | D23: Reactivo analítico o ACS o Análisis o Ph Eur o BP | E23: ≥95% | F23: Frasco por 1 Kg | G23: Un (1) año a partir de la entrega | H23: AMBIENTE | I23: 1305-78-8 | K23: REACTIVO | L23: PUREZA | O23: =SUM(N23:N23) -> 0 | U23: =SUM(P23:T23) -> 0 | Z23: =SUM(V23:Y23) -> 0 | AD23: =SUM(AA23:AC23) -> 0 | AF23: =SUM(AE23:AE23) -> 0 | AG23: =AF23+AD23 -> 0 | AL23: =SUM(AH23:AK23) -> 0 | AO23: =SUM(AM23:AN23) -> 0 | AR23: =SUM(AP23:AQ23) -> 0 | AU23: =SUM(AS23:AT23) -> 0 | AV23: =AU23+AR23 -> 0 | AZ23: =SUM(AW23:AY23) -> 0 | BB23: =SUM(BA23:BA23) -> 0 | BC23: =BB23+AZ23 -> 0 | BD23: 1 | BG23: =SUM(BD23:BF23) -> 1 | BH23: =BG23+BC23+AV23+AO23+AL23+AG23+Z23+U23+O23 -> 1 | BI23: 610460.5 | BJ23: =BI23*(1+(BJ2/100)) -> 642204.45 | BK23: 143-SG-2024
B24: 17 | C24: Tiocianato de Potasio | D24: Reactivo analítico o ACS o Análisis o Ph Eur o BP | E24: ≥95% | F24: Frasco por 100 gramos | G24: Un (1) año a partir de la entrega | H24: AMBIENTE | I24: 333-20-0 | K24: REACTIVO | L24: PUREZA | O24: =SUM(N24:N24) -> 0 | U24: =SUM(P24:T24) -> 0 | Z24: =SUM(V24:Y24) -> 0 | AD24: =SUM(AA24:AC24) -> 0 | AF24: =SUM(AE24:AE24) -> 0 | AG24: =AF24+AD24 -> 0 | AL24: =SUM(AH24:AK24) -> 0 | AO24: =SUM(AM24:AN24) -> 0 | AR24: =SUM(AP24:AQ24) -> 0 | AU24: =SUM(AS24:AT24) -> 0 | AV24: =AU24+AR24 -> 0 | AZ24: =SUM(AW24:AY24) -> 0 | BB24: =SUM(BA24:BA24) -> 0 | BC24: =BB24+AZ24 -> 0 | BD24: 1 | BG24: =SUM(BD24:BF24) -> 1 | BH24: =BG24+BC24+AV24+AO24+AL24+AG24+Z24+U24+O24 -> 1 | BI24: 262266.5 | BJ24: =BI24*(1+(BJ2/100)) -> 275904.36 | BK24: 143-SG-2024
B25: 18 | C25: Fenolftaleína | D25: Reactivo analítico | E25: NA | F25: Frasco por 100 gramos | G25: Un (1) año a partir de la entrega | H25: AMBIENTE | I25: 77-09-8 | K25: REACTIVO | L25: NA | O25: =SUM(N25:N25) -> 0 | U25: =SUM(P25:T25) -> 0 | Z25: =SUM(V25:Y25) -> 0 | AD25: =SUM(AA25:AC25) -> 0 | AF25: =SUM(AE25:AE25) -> 0 | AG25: =AF25+AD25 -> 0 | AL25: =SUM(AH25:AK25) -> 0 | AO25: =SUM(AM25:AN25) -> 0 | AR25: =SUM(AP25:AQ25) -> 0 | AU25: =SUM(AS25:AT25) -> 0 | AV25: =AU25+AR25 -> 0 | AX25: 1 | AZ25: =SUM(AW25:AY25) -> 1 | BB25: =SUM(BA25:BA25) -> 0 | BC25: =BB25+AZ25 -> 1 | BD25: 1 | BG25: =SUM(BD25:BF25) -> 1 | BH25: =BG25+BC25+AV25+AO25+AL25+AG25+Z25+U25+O25 -> 2 | BL25: 184000 | BM25: =BL25*1.19 -> 218960 | BN25: =BM25*BH25 -> 437920 | BO25: 220000 | BP25: =BO25*1.19 -> 261800 | BQ25: =BP25*BH25 -> 523600 | BR25: 190900 | BS25: =BR25*1.19 -> 227171 | BT25: =BS25*BH25 -> 454342 | BU25: 180000 | BV25: =BU25*1.19 -> 214200 | BW25: =BV25*BH25 -> 428400 | BX25: 220000 | BY25: =BX25*1.19 -> 261800 | BZ25: =BY25*BH25 -> 523600 | CA25: 187600 | CB25: =CA25*1.19 -> 223244 | CC25: =CB25*BH25 -> 446488 | CD25: 263000 | CE25: =CD25*1.19 -> 312970 | CF25: =CE25*BH25 -> 625940
B26: 19 | C26: Vainillina | D26: Reactivo analítico o ACS o Análisis o Ph Eur o BP | E26: ≥98% | F26: Frasco por 100 gramos | G26: Un (1) año a partir de la entrega | H26: AMBIENTE | I26: 121-33-5 | K26: REACTIVO | L26: PUREZA | O26: =SUM(N26:N26) -> 0 | U26: =SUM(P26:T26) -> 0 | Z26: =SUM(V26:Y26) -> 0 | AD26: =SUM(AA26:AC26) -> 0 | AF26: =SUM(AE26:AE26) -> 0 | AG26: =AF26+AD26 -> 0 | AL26: =SUM(AH26:AK26) -> 0 | AO26: =SUM(AM26:AN26) -> 0 | AR26: =SUM(AP26:AQ26) -> 0 | AU26: =SUM(AS26:AT26) -> 0 | AV26: =AU26+AR26 -> 0 | AZ26: =SUM(AW26:AY26) -> 0 | BB26: =SUM(BA26:BA26) -> 0 | BC26: =BB26+AZ26 -> 0 | BD26: 1 | BG26: =SUM(BD26:BF26) -> 1 | BH26: =BG26+BC26+AV26+AO26+AL26+AG26+Z26+U26+O26 -> 1 | BL26: 276000 | BM26: =BL26*1.19 -> 328440 | BN26: =BM26*BH26 -> 328440 | BO26: 360000 | BP26: =BO26*1.19 -> 428400 | BQ26: =BP26*BH26 -> 428400 | BR26: 400000 | BS26: =BR26*1.19 -> 476000 | BT26: =BS26*BH26 -> 476000 | BU26: 454100 | BV26: =BU26*1.19 -> 540379 | BW26: =BV26*BH26 -> 540379 | BX26: 460000 | BY26: =BX26*1.19 -> 547400 | BZ26: =BY26*BH26 -> 547400 | CA26: 415000 | CB26: =CA26*1.19 -> 493850 | CC26: =CB26*BH26 -> 493850 | CD26: 379000 | CE26: =CD26*1.19 -> 451010 | CF26: =CE26*BH26 -> 451010
B27: 20 | C27: Fosfato de sodio monobasico Anhidro | D27: Reactivo analítico o ACS o Análisis o Ph Eur o BP | E27: ≥98% | F27: Frasco por 500 gramos | G27: Un (1) año a partir de la entrega | H27: AMBIENTE | I27: 7558-80-7 | K27: REACTIVO | L27: NA | O27: =SUM(N27:N27) -> 0 | U27: =SUM(P27:T27) -> 0 | Z27: =SUM(V27:Y27) -> 0 | AB27: 1 | AD27: =SUM(AA27:AC27) -> 1 | AF27: =SUM(AE27:AE27) -> 0 | AG27: =AF27+AD27 -> 1 | AL27: =SUM(AH27:AK27) -> 0 | AN27: 1 | AO27: =SUM(AM27:AN27) -> 1 | AR27: =SUM(AP27:AQ27) -> 0 | AU27: =SUM(AS27:AT27) -> 0 | AV27: =AU27+AR27 -> 0 | AX27: 5 | AZ27: =SUM(AW27:AY27) -> 5 | BB27: =SUM(BA27:BA27) -> 0 | BC27: =BB27+AZ27 -> 5 | BG27: =SUM(BD27:BF27) -> 0 | BH27: =BG27+BC27+AV27+AO27+AL27+AG27+Z27+U27+O27 -> 7 | BL27: 170000 | BM27: =BL27*1.19 -> 202300 | BN27: =BM27*BH27 -> 1416100 | BO27: 420000 | BP27: =BO27*1.19 -> 499800 | BQ27: =BP27*BH27 -> 3498600 | BR27: 480000 | BS27: =BR27*1.19 -> 571200 | BT27: =BS27*BH27 -> 3998400 | BU27: 441600 | BV27: =BU27*1.19 -> 525504 | BW27: =BV27*BH27 -> 3678528 | BX27: 390000 | BY27: =BX27*1.19 -> 464100 | BZ27: =BY27*BH27 -> 3248700 | CA27: 368000 | CB27: =CA27*1.19 -> 437920 | CC27: =CB27*BH27 -> 3065440 | CD27: 1021000 | CE27: =CD27*1.19 -> 1214990 | CF27: =CE27*BH27 -> 8504930
B28: 21 | C28: Alcohol isopropílico (2-Propanol)/Isopropanol | D28: LC MS | E28: ≥99% | F28: Frasco por 4 Litros | G28: Un (1) año a partir de la entrega | H28: AMBIENTE | I28: 67-63-0 | K28: REACTIVO | L28: PUREZA | O28: =SUM(N28:N28) -> 0 | U28: =SUM(P28:T28) -> 0 | Y28: 2 | Z28: =SUM(V28:Y28) -> 2 | AD28: =SUM(AA28:AC28) -> 0 | AF28: =SUM(AE28:AE28) -> 0 | AG28: =AF28+AD28 -> 0 | AL28: =SUM(AH28:AK28) -> 0 | AO28: =SUM(AM28:AN28) -> 0 | AR28: =SUM(AP28:AQ28) -> 0 | AU28: =SUM(AS28:AT28) -> 0 | AV28: =AU28+AR28 -> 0 | AZ28: =SUM(AW28:AY28) -> 0 | BB28: =SUM(BA28:BA28) -> 0 | BC28: =BB28+AZ28 -> 0 | BG28: =SUM(BD28:BF28) -> 0 | BH28: =BG28+BC28+AV28+AO28+AL28+AG28+Z28+U28+O28 -> 2 | BM28: =BL28*1.19 -> 0 | BN28: =BM28*BH28 -> 0 | BP28: =BO28*1.19 -> 0 | BQ28: =BP28*BH28 -> 0 | BS28: =BR28*1.19 -> 0 | BT28: =BS28*BH28 -> 0 | BU28: 3600000 | BV28: =BU28*1.19 -> 4284000 | BW28: =BV28*BH28 -> 8568000 | BX28: 830000 | BY28: =BX28*1.19 -> 987700 | BZ28: =BY28*BH28 -> 1975400 | CA28: 552300 | CB28: =CA28*1.19 -> 657237 | CC28: =CB28*BH28 -> 1314474 | CD28: 774000 | CE28: =CD28*1.19 -> 921060 | CF28: =CE28*BH28 -> 1842120
B29: 22 | C29: Ácido fórmico | D29: LC MS | E29: ≥98% | F29: Frasco por 50 ml | G29: Un (1) año a partir de la entrega | H29: AMBIENTE | I29: CAS 64-18-6 | K29: REACTIVO | L29: PUREZA | O29: =SUM(N29:N29) -> 0 | Q29: 4 | U29: =SUM(P29:T29) -> 4 | Z29: =SUM(V29:Y29) -> 0 | AD29: =SUM(AA29:AC29) -> 0 | AF29: =SUM(AE29:AE29) -> 0 | AG29: =AF29+AD29 -> 0 | AL29: =SUM(AH29:AK29) -> 0 | AO29: =SUM(AM29:AN29) -> 0 | AR29: =SUM(AP29:AQ29) -> 0 | AU29: =SUM(AS29:AT29) -> 0 | AV29: =AU29+AR29 -> 0 | AZ29: =SUM(AW29:AY29) -> 0 | BB29: =SUM(BA29:BA29) -> 0 | BC29: =BB29+AZ29 -> 0 | BG29: =SUM(BD29:BF29) -> 0 | BH29: =BG29+BC29+AV29+AO29+AL29+AG29+Z29+U29+O29 -> 4 | BL29: 154000 | BM29: =BL29*1.19 -> 183260 | BN29: =BM29*BH29 -> 733040 | BP29: =BO29*1.19 -> 0 | BQ29: =BP29*BH29 -> 0 | BS29: =BR29*1.19 -> 0 | BT29: =BS29*BH29 -> 0 | BU29: 6840000 | BV29: =BU29*1.19 -> 8139600 | BW29: =BV29*BH29 -> 32558400 | BX29: 1130000 | BY29: =BX29*1.19 -> 1344700 | BZ29: =BY29*BH29 -> 5378800 | CA29: 754600 | CB29: =CA29*1.19 -> 897974 | CC29: =CB29*BH29 -> 3591896 | CD29: 1057000 | CE29: =CD29*1.19 -> 1257830 | CF29: =CE29*BH29 -> 5031320
B30: 23 | C30: Ácido acético glacial | D30: LC MS | E30: ≥99% | F30: Frasco por 50 ml | G30: Un (1) año a partir de la entrega | H30: AMBIENTE | I30: CAS 64-19-7 | K30: REACTIVO | L30: PUREZA | O30: =SUM(N30:N30) -> 0 | Q30: 2 | U30: =SUM(P30:T30) -> 2 | Z30: =SUM(V30:Y30) -> 0 | AD30: =SUM(AA30:AC30) -> 0 | AF30: =SUM(AE30:AE30) -> 0 | AG30: =AF30+AD30 -> 0 | AL30: =SUM(AH30:AK30) -> 0 | AO30: =SUM(AM30:AN30) -> 0 | AR30: =SUM(AP30:AQ30) -> 0 | AU30: =SUM(AS30:AT30) -> 0 | AV30: =AU30+AR30 -> 0 | AZ30: =SUM(AW30:AY30) -> 0 | BB30: =SUM(BA30:BA30) -> 0 | BC30: =BB30+AZ30 -> 0 | BG30: =SUM(BD30:BF30) -> 0 | BH30: =BG30+BC30+AV30+AO30+AL30+AG30+Z30+U30+O30 -> 2 | BM30: =BL30*1.19 -> 0 | BN30: =BM30*BH30 -> 0 | BP30: =BO30*1.19 -> 0 | BQ30: =BP30*BH30 -> 0 | BS30: =BR30*1.19 -> 0 | BT30: =BS30*BH30 -> 0 | BU30: 2400000 | BV30: =BU30*1.19 -> 2856000 | BW30: =BV30*BH30 -> 5712000 | BX30: 459000 | BY30: =BX30*1.19 -> 546210 | BZ30: =BY30*BH30 -> 1092420 | CA30: 305500 | CB30: =CA30*1.19 -> 363545 | CC30: =CB30*BH30 -> 727090 | CD30: 428000 | CE30: =CD30*1.19 -> 509320 | CF30: =CE30*BH30 -> 1018640
B31: 24 | C31: Alcohol etílico | D31: Reactivo analítico o ACS o Análisis o Ph Eur o BP | E31: ≥95 % | F31: Frasco por 2,5 Litros | G31: Un (1) año a partir de la entrega | H31: AMBIENTE | I31: 64-17-5 | K31: REACTIVO | L31: PUREZA | O31: =SUM(N31:N31) -> 0 | U31: =SUM(P31:T31) -> 0 | W31: 10 | Z31: =SUM(V31:Y31) -> 10 | AD31: =SUM(AA31:AC31) -> 0 | AF31: =SUM(AE31:AE31) -> 0 | AG31: =AF31+AD31 -> 0 | AH31: 2 | AJ31: 5 | AL31: =SUM(AH31:AK31) -> 7 | AM31: 2 | AO31: =SUM(AM31:AN31) -> 2 | AR31: =SUM(AP31:AQ31) -> 0 | AU31: =SUM(AS31:AT31) -> 0 | AV31: =AU31+AR31 -> 0 | AX31: 25 | AY31: 2 | AZ31: =SUM(AW31:AY31) -> 27 | BB31: =SUM(BA31:BA31) -> 0 | BC31: =BB31+AZ31 -> 27 | BD31: 20 | BE31: 10 | BG31: =SUM(BD31:BF31) -> 30 | BH31: =BG31+BC31+AV31+AO31+AL31+AG31+Z31+U31+O31 -> 76 | BL31: 166000 | BM31: =BL31*1.19 -> 197540 | BN31: =BM31*BH31 -> 15013040 | BP31: =BO31*1.19 -> 0 | BQ31: =BP31*BH31 -> 0 | BR31: 365000 | BS31: =BR31*1.19 -> 434350 | BT31: =BS31*BH31 -> 33010600 | BU31: 132000 | BV31: =BU31*1.19 -> 157080 | BW31: =BV31*BH31 -> 11938080 | BX31: 342000 | BY31: =BX31*1.19 -> 406980 | BZ31: =BY31*BH31 -> 30930480 | CA31: 253400 | CB31: =CA31*1.19 -> 301546 | CC31: =CB31*BH31 -> 22917496 | CD31: 308000 | CE31: =CD31*1.19 -> 366520 | CF31: =CE31*BH31 -> 27855520
B32: 25 | C32: Extrelut® NT, referencia 1150921000 | D32: NA | E32: NA | F32: Frasco por 1 Kg | G32: Un (1) año a partir de la entrega | H32: AMBIENTE | I32: 68855-54-9 | K32: REACTIVO | L32: NA | O32: =SUM(N32:N32) -> 0 | U32: =SUM(P32:T32) -> 0 | Z32: =SUM(V32:Y32) -> 0 | AB32: 1 | AD32: =SUM(AA32:AC32) -> 1 | AF32: =SUM(AE32:AE32) -> 0 | AG32: =AF32+AD32 -> 1 | AL32: =SUM(AH32:AK32) -> 0 | AO32: =SUM(AM32:AN32) -> 0 | AR32: =SUM(AP32:AQ32) -> 0 | AU32: =SUM(AS32:AT32) -> 0 | AV32: =AU32+AR32 -> 0 | AZ32: =SUM(AW32:AY32) -> 0 | BB32: =SUM(BA32:BA32) -> 0 | BC32: =BB32+AZ32 -> 0 | BG32: =SUM(BD32:BF32) -> 0 | BH32: =BG32+BC32+AV32+AO32+AL32+AG32+Z32+U32+O32 -> 1 | BM32: =BL32*1.19 -> 0 | BN32: =BM32*BH32 -> 0 | BP32: =BO32*1.19 -> 0 | BQ32: =BP32*BH32 -> 0 | BR32: 5318200 | BS32: =BR32*1.19 -> 6328658 | BT32: =BS32*BH32 -> 6328658 | BU32: 5148400 | BV32: =BU32*1.19 -> 6126596 | BW32: =BV32*BH32 -> 6126596 | BX32: 5295000 | BY32: =BX32*1.19 -> 6301050 | BZ32: =BY32*BH32 -> 6301050 | CA32: 3530300 | CB32: =CA32*1.19 -> 4201057 | CC32: =CB32*BH32 -> 4201057 | CD32: 4943000 | CE32: =CD32*1.19 -> 5882170 | CF32: =CE32*BH32 -> 5882170
B33: CANTIDAD TOTAL POR SERVICIO | N33: =SUM(N8:N32) -> 67 | O33: =SUM(O8:O32) -> 67 | P33: =SUM(P8:P32) -> 0 | Q33: =SUM(Q8:Q32) -> 17 | R33: =SUM(R8:R32) -> 0 | S33: =SUM(S8:S32) -> 22 | T33: =SUM(T8:T32) -> 0 | U33: =SUM(U8:U32) -> 39 | ... BH33: =SUM(BH8:BH32) -> 400
B35: LOTE 2
B38: ITEM | C38: ESPECIFICACION TECNICA | D38: GRADO | E38: PUREZA | F38: PRESENTACION O UNIDAD DE MEDIDA | G38: VIGENCIA MINIMA | H38: CONDICION DE ALMACENAMIENTO | I38: NUMERO DE CAS | J38: CLASIFICACION CODIGOS UNSPSC | K38: IDENTIFICACION ADICIONAL REQUERIDA | L38: CALIDAD MINIMA | M38: PATRONES DE DESEMPEÑO | N38: DIRECCION GENERAL | P38: REGIONAL BOGOTÁ | V38: REGIONAL NOROCCIDENTE | AA38: REGIONAL NORORIENTE | AH38: REGIONAL NORTE | AM38: REGIONAL OCCIDENTE | AP38: REGIONAL ORIENTE | AW38: REGIONAL SUR | BD38: REGIONAL SUROCCIDENTE | BH38: CANTIDAD TOTAL | BI38: HISTORICOS 2024 | BK38: CONTRATO
AA39: SECCIONAL SANTANDER | AE39: SECCIONAL NORTE DE SANTANDER | AH39: SECCIONAL ATLÁNTICO | AP39: SECCIONAL BOYACÁ | AS39: SECCIONAL META | AV39: TOTAL REGIONAL ORIENTE | AW39: SECCIONAL TOLIMA | BA39: SECCIONAL HUILA | BC39: TOTAL REGIONAL SUR | BI39: VALOR UNITARIO CONTRATO | BJ39: VALOR UNITARIO CONTRATO CON IPC
N40: GRUPO APOYO-SNVJRNR | O40: TOTAL | P40: BIOLOGIA | Q40: ESTUPEFACIENTES | R40: E. TRAZA | S40: GENETICA | T40: TOXICOLOGIA | U40: TOTAL REGIONAL BOGOTÁ | V40: BALISTICA | W40: ESTUPEFACIENTES | X40: GENETICA | Y40: TOXICOLOGIA | Z40: TOTAL REGIONAL NOROCCIDENTE | AA40: BALISTICA | AB40: ESTUPEFACIENTES | AC40: TOXICOLOGIA | AD40: TOTAL SECCIONAL SANTANDER | AE40: BIOLOGIA | AF40: TOTAL SECCIONAL NTE SANTANDER | AG40: TOTAL REGIONAL NORORIENTE | AH40: BIOLOGIA | AI40: BALISTICA | AJ40: ESTUPEFACIENTES | AK40: TOXICOLOGIA | AL40: TOTAL REGIONAL NORTE | AM40: ESTUPEFACIENTES | AN40: TOXICOLOGIA | AO40: TOTAL REGIONAL OCCIDENTE | AP40: BALISTICA | AQ40: TOXICOLOGIA | AR40: TOTAL SECCIONAL BOYACÁ | AS40: BALISTICA | AT40: GENETICA | AU40: TOTAL SECCIONAL META | AW40: BIOLOGIA | AX40: ESTUPEFACIENTES | AY40: TOXICOLOGIA | AZ40: TOTAL SECCIONAL TOLIMA | BA40: BIOLOGIA | BB40: TOTAL SECCIONAL HUILA | BD40: ESTUPEFACIENTES | BE40: GENETICA | BF40: TOXICOLOGIA | BG40: TOTAL REGIONAL SUROCCIDENTE
B41: 26 | C41: Acetona | D41: Reactivo analítico o ACS o Análisis o Ph Eur o BP | E41: ≥99,5 % | F41: Frasco por 4 Litros | G41: Un (1) año a partir de la entrega | H41: AMBIENTE | I41: 67-64-1 | J41: 12161500 12191500 12191600 12352100 12352300 | K41: REACTIVO | L41: PUREZA | M41: ANALISIS DE SUSTACIA | O41: =SUM(N41:N41) -> 0 | U41: =SUM(P41:T41) -> 0 | Z41: =SUM(V41:Y41) -> 0 | AB41: 1 | AD41: =SUM(AA41:AC41) -> 1 | AF41: =SUM(AE41:AE41) -> 0 | AG41: =AF41+AD41 -> 1 | AL41: =SUM(AH41:AK41) -> 0 | AM41: 2 | AO41: =SUM(AM41:AN41) -> 2 | AR41: =SUM(AP41:AQ41) -> 0 | AS41: 1 | AU41: =SUM(AS41:AT41) -> 1 | AV41: =AU41+AR41 -> 1 | AX41: 1 | AZ41: =SUM(AW41:AY41) -> 1 | BC41: =BB41+AZ41 -> 1 | BD41: 2 | BF41: 2 | BG41: =SUM(BD41:BF41) -> 4 | BH41: =BG41+BC41+AV41+AO41+AL41+AG41+Z41+U41+O41 -> 9 | BI41: 170140 | BJ41: =BI41*(1+(BJ2/100)) -> 178987.28 | BK41: 141-SG-2024
B42: 27 | C42: Ácido acético glacial | D42: Reactivo analítico o ACS o Análisis o Ph Eur o BP | E42: ≥99%, | F42: Frasco por 2,5 Litros | G42: Un (1) año a partir de la entrega | H42: AMBIENTE | I42: 64-19-7 | K42: REACTIVO | L42: PUREZA | O42: =SUM(N42:N42) -> 0 | U42: =SUM(P42:T42) -> 0 | Z42: =SUM(V42:Y42) -> 0 | AD42: =SUM(AA42:AC42) -> 0 | AF42: =SUM(AE42:AE42) -> 0 | AG42: =AF42+AD42 -> 0 | AL42: =SUM(AH42:AK42) -> 0 | AN42: 1 | AO42: =SUM(AM42:AN42) -> 1 | AR42: =SUM(AP42:AQ42) -> 0 | AU42: =SUM(AS42:AT42) -> 0 | AV42: =AU42+AR42 -> 0 | AY42: 1 | AZ42: =SUM(AW42:AY42) -> 1 | BC42: =BB42+AZ42 -> 1 | BG42: =SUM(BD42:BF42) -> 0 | BH42: =BG42+BC42+AV42+AO42+AL42+AG42+Z42+U42+O42 -> 2 | BI42: 128780 | BJ42: =BI42*(1+(BJ2/100)) -> 135476.56 | BK42: 141-SG-2024
B43: 28 | C43: Ácido sulfúrico | D43: Reactivo analítico o ACS o Análisis o Ph Eur o BP | E43: ≥95%, | F43: Frasco por 2,5 Litros | G43: Un (1) año a partir de la entrega | H43: AMBIENTE | I43: 7664-93-9 | K43: REACTIVO | L43: PUREZA | O43: =SUM(N43:N43) -> 0 | U43: =SUM(P43:T43) -> 0 | Z43: =SUM(V43:Y43) -> 0 | AD43: =SUM(AA43:AC43) -> 0 | AF43: =SUM(AE43:AE43) -> 0 | AG43: =AF43+AD43 -> 0 | AL43: =SUM(AH43:AK43) -> 0 | AM43: 1 | AN43: 1 | AO43: =SUM(AM43:AN43) -> 2 | AR43: =SUM(AP43:AQ43) -> 0 | AU43: =SUM(AS43:AT43) -> 0 | AV43: =AU43+AR43 -> 0 | AX43: 1 | AZ43: =SUM(AW43:AY43) -> 1 | BC43: =BB43+AZ43 -> 1 | BG43: =SUM(BD43:BF43) -> 0 | BH43: =BG43+BC43+AV43+AO43+AL43+AG43+Z43+U43+O43 -> 3 | BI43: 132540 | BJ43: =BI43*(1+(BJ2/100)) -> 139432.08 | BK43: 141-SG-2024
B44: 29 | C44: Alcohol etílico absoluto | D44: Reactivo analítico o ACS o Análisis o Ph Eur o BP | E44: ≥99 % | F44: Frasco por 2,5 Litros | G44: Un (1) año a partir de la entrega | H44: AMBIENTE | I44: 64-17-5 | K44: REACTIVO | L44: PUREZA | O44: =SUM(N44:N44) -> 0 | U44: =SUM(P44:T44) -> 0 | Z44: =SUM(V44:Y44) -> 0 | AD44: =SUM(AA44:AC44) -> 0 | AF44: =SUM(AE44:AE44) -> 0 | AG44: =AF44+AD44 -> 0 | AL44: =SUM(AH44:AK44) -> 0 | AO44: =SUM(AM44:AN44) -> 0 | AR44: =SUM(AP44:AQ44) -> 0 | AU44: =SUM(AS44:AT44) -> 0 | AV44: =AU44+AR44 -> 0 | AZ44: =SUM(AW44:AY44) -> 0 | BC44: =BB44+AZ44 -> 0 | BF44: 4 | BG44: =SUM(BD44:BF44) -> 4 | BH44: =BG44+BC44+AV44+AO44+AL44+AG44+Z44+U44+O44 -> 4 | BI44: 121260 | BJ44: =BI44*(1+(BJ2/100)) -> 127565.52 | BK44: 141-SG-2024
...

Sheet ESTUDIO  FORMULADO 
B2: LOTE 1 | BK2: VALOR TOTAL PROCESO | BM2: =BV8+BL41+BV65+BL87+BL105+BL114+BL123+BL132 -> 1025334519
B5: ITEM | C5: ESPECIFICACION TECNICA | D5: GRADO | E5: PUREZA | F5: PRESENTACION O UNIDAD DE MEDIDA | G5: VIGENCIA MINIMA | H5: CONDICION DE ALMACENAMIENTO | I5: NUMERO DE CAS | J5: CLASIFICACION CODIGOS UNSPSC | K5: IDENTIFICACION ADICIONAL REQUERIDA | L5: CALIDAD MINIMA | M5: PATRONES DE DESEMPEÑO | N5: DIRECCION GENERAL | P5: REGIONAL BOGOTÁ | V5: REGIONAL NOROCCIDENTE | AA5: REGIONAL NORORIENTE | AH5: REGIONAL NORTE | AM5: REGIONAL OCCIDENTE | AP5: REGIONAL ORIENTE | AW5: REGIONAL SUR | BD5: REGIONAL SUROCCIDENTE | BH5: CANTIDAD TOTAL | BI5: HISTORICOS 2024 | BK5: ANNAR | BL5: AS ANALYTICAL | BM5: CIEDUTEC | BN5: SCIENTIFIC | BO5: NORQUIMICOS | BP5: PROFINAS | BQ5: QUIMITRONICA | BR5: VALOR PROMEDIO HOMOGENEO (-0.3) | BS5: VALOR PROMEDIO HETEROGENEO (+0.3) | BT5: VALOR PROMEDIO UNITARIO | BU5: VALOR PROMEDIO POR ITEM | BV5: VALOR TOTAL LOTE | BX5: VALOR PROMEDIO UNITARIO CON COEF.VARZ | BY5: SUBTOTALES | CA5: VARIANZA | CB5: DESVEST | CC5: PROMEDIO (MEDIA ARITMETICA) | CD5: COEFICIENTE DE VARIACIÓN
AA6: SECCIONAL SANTANDER | AE6: SECCIONAL NORTE DE SANTANDER | AH6: SECCIONAL ATLÁNTICO | AP6: SECCIONAL BOYACÁ | AS6: SECCIONAL META | AV6: TOTAL REGIONAL ORIENTE | AW6: SECCIONAL TOLIMA | BA6: SECCIONAL HUILA | BC6: TOTAL REGIONAL SUR | BI6: VALOR INITARIO CON IPC | BJ6: VALOR FINAL UNITARIO CON IPC | BK6: VALOR UNITRIO CON IVA | BL6: VALOR UNITRIO CON IVA | BM6: VALOR UNITRIO CON IVA | BN6: VALOR UNITRIO CON IVA | BO6: VALOR UNITRIO CON IVA | BP6: VALOR UNITRIO CON IVA | BQ6: VALOR UNITRIO CON IVA
N7: GRUPO APOYO-SNVJRNR | O7: TOTAL | P7: BIOLOGIA | Q7: ESTUPEFACIENTES | R7: E. TRAZA | S7: GENETICA | T7: TOXICOLOGIA | U7: TOTAL REGIONAL BOGOTÁ | V7: BALISTICA | W7: ESTUPEFACIENTES | X7: GENETICA | Y7: TOXICOLOGIA | Z7: TOTAL REGIONAL NOROCCIDENTE | AA7: BALISTICA | AB7: ESTUPEFACIENTES | AC7: TOXICOLOGIA | AD7: TOTAL SECCIONAL SANTANDER | AE7: BIOLOGIA | AF7: TOTAL SECCIONAL NTE SANTANDER | AG7: TOTAL REGIONAL NORORIENTE | AH7: BIOLOGIA | AI7: BALISTICA | AJ7: ESTUPEFACIENTES | AK7: TOXICOLOGIA | AL7: TOTAL REGIONAL NORTE | AM7: ESTUPEFACIENTES | AN7: TOXICOLOGIA | AO7: TOTAL REGIONAL OCCIDENTE | AP7: BALISTICA | AQ7: TOXICOLOGIA | AR7: TOTAL SECCIONAL BOYACÁ | AS7: BALISTICA | AT7: GENETICA | AU7: TOTAL SECCIONAL META | AW7: BIOLOGIA | AX7: ESTUPEFACIENTES | AY7: TOXICOLOGIA | AZ7: TOTAL SECCIONAL TOLIMA | BA7: BIOLOGIA | BB7: TOTAL SECCIONAL HUILA | BD7: ESTUPEFACIENTES | BE7: GENETICA | BF7: TOXICOLOGIA | BG7: TOTAL REGIONAL SUROCCIDENTE
B8: 1 | C8: ='ESPECIFICACIONES TECNICAS- E.M'!C8 -> Ácido rubeánico o ditiooxiamida | D8: ='ESPECIFICACIONES TECNICAS- E.M'!D8 -> Reactivo analítico o ACS o Análisis o Ph Eur o BP | E8: ='ESPECIFICACIONES TECNICAS- E.M'!E8 -> ≥98% | F8: ='ESPECIFICACIONES TECNICAS- E.M'!F8 -> Frasco por 10 gramos | G8: ='ESPECIFICACIONES TECNICAS- E.M'!G8 -> Un (1) año a partir de la entrega | H8: ='ESPECIFICACIONES TECNICAS- E.M'!H8 -> AMBIENTE | I8: ='ESPECIFICACIONES TECNICAS- E.M'!I8 -> 79-40-3 | J8: ='ESPECIFICACIONES TECNICAS- E.M'!J8:J32 -> 12161500 12191500 12191600 12352100 12352300 | K8: ='ESPECIFICACIONES TECNICAS- E.M'!K8 -> REACTIVO | L8: ='ESPECIFICACIONES TECNICAS- E.M'!L8 -> PUREZA | M8: ='ESPECIFICACIONES TECNICAS- E.M'!M8:M32 -> ANALISIS DE SUSTACIA | O8: =SUM(N8:N8) -> 0 | U8: =SUM(P8:T8) -> 0 | Z8: =SUM(V8:Y8) -> 0 | AA8: 1 | AD8: =SUM(AA8:AC8) -> 1 | AF8: =SUM(AE8:AE8) -> 0 | AG8: =AF8+AD8 -> 1 | AL8: =SUM(AH8:AK8) -> 0 | AO8: =SUM(AM8:AN8) -> 0 | AR8: =SUM(AP8:AQ8) -> 0 | AU8: =SUM(AS8:AT8) -> 0 | AV8: =AU8+AR8 -> 0 | AZ8: =SUM(AW8:AY8) -> 0 | BB8: =SUM(BA8:BA8) -> 0 | BC8: =BB8+AZ8 -> 0 | BG8: =SUM(BD8:BF8) -> 0 | BH8: =BG8+BC8+AV8+AO8+AL8+AG8+Z8+U8+O8 -> 1 | BI8: 187153.49 | BJ8: =ROUND(BI8,0) -> 187153 | BT8: =BJ8 -> 187153 | BU8: =BT8*BH8 -> 187153 | BV8: =SUBTOTAL(9,BU8:BU32) -> 125875132
B9: 2 | C9: ='ESPECIFICACIONES TECNICAS- E.M'!C9 -> Ditionito de sodio o Hidrosulfito de sodio | D9: ='ESPECIFICACIONES TECNICAS- E.M'!D9 -> Reactivo analítico o ACS o Análisis o Ph Eur o BP | E9: ='ESPECIFICACIONES TECNICAS- E.M'!E9 -> ≥85%. | F9: ='ESPECIFICACIONES TECNICAS- E.M'!F9 -> Frasco por 500 gramos | G9: ='ESPECIFICACIONES TECNICAS- E.M'!G9 -> Un (1) año a partir de la entrega | H9: ='ESPECIFICACIONES TECNICAS- E.M'!H9 -> AMBIENTE | I9: ='ESPECIFICACIONES TECNICAS- E.M'!I9 -> 7775-14-6 | K9: ='ESPECIFICACIONES TECNICAS- E.M'!K9 -> REACTIVO | L9: ='ESPECIFICACIONES TECNICAS- E.M'!L9 -> PUREZA | O9: =SUM(N9:N9) -> 0 | U9: =SUM(P9:T9) -> 0 | Z9: =SUM(V9:Y9) -> 0 | AD9: =SUM(AA9:AC9) -> 0 | AF9: =SUM(AE9:AE9) -> 0 | AG9: =AF9+AD9 -> 0 | AL9: =SUM(AH9:AK9) -> 0 | AN9: 1 | AO9: =SUM(AM9:AN9) -> 1 | AR9: =SUM(AP9:AQ9) -> 0 | AU9: =SUM(AS9:AT9) -> 0 | AV9: =AU9+AR9 -> 0 | AZ9: =SUM(AW9:AY9) -> 0 | BB9: =SUM(BA9:BA9) -> 0 | BC9: =BB9+AZ9 -> 0 | BG9: =SUM(BD9:BF9) -> 0 | BH9: =BG9+BC9+AV9+AO9+AL9+AG9+Z9+U9+O9 -> 1 | BI9: 92042.68 | BJ9: =ROUND(BI9,0) -> 92043 | BT9: =BJ9 -> 92043 | BU9: =BT9*BH9 -> 92043
B10: 3 | C10: ='ESPECIFICACIONES TECNICAS- E.M'!C10 -> Fenol equilibrado con Tris HCI para extracción de ADN (pH 8,0) | D10: ='ESPECIFICACIONES TECNICAS- E.M'!D10 -> NA | E10: ='ESPECIFICACIONES TECNICAS- E.M'!E10 -> NA | F10: ='ESPECIFICACIONES TECNICAS- E.M'!F10 -> Frasco por 400 mL | G10: ='ESPECIFICACIONES TECNICAS- E.M'!G10 -> Un (1) año a partir de la entrega | H10: ='ESPECIFICACIONES TECNICAS- E.M'!H10 -> AMBIENTE | I10: ='ESPECIFICACIONES TECNICAS- E.M'!I10 -> NA | K10: ='ESPECIFICACIONES TECNICAS- E.M'!K10 -> REACTIVO | L10: ='ESPECIFICACIONES TECNICAS- E.M'!L10 -> NA | N10: 7 | O10: =SUM(N10:N10) -> 7 | S10: 10 | U10: =SUM(P10:T10) -> 10 | Z10: =SUM(V10:Y10) -> 0 | AD10: =SUM(AA10:AC10) -> 0 | AF10: =SUM(AE10:AE10) -> 0 | AG10: =AF10+AD10 -> 0 | AL10: =SUM(AH10:AK10) -> 0 | AO10: =SUM(AM10:AN10) -> 0 | AR10: =SUM(AP10:AQ10) -> 0 | AT10: 1 | AU10: =SUM(AS10:AT10) -> 1 | AV10: =AU10+AR10 -> 1 | AZ10: =SUM(AW10:AY10) -> 0 | BB10: =SUM(BA10:BA10) -> 0 | BC10: =BB10+AZ10 -> 0 | BG10: =SUM(BD10:BF10) -> 0 | BH10: =BG10+BC10+AV10+AO10+AL10+AG10+Z10+U10+O10 -> 18 | BI10: 281084.3 | BJ10: =ROUND(BI10,0) -> 281084 | BT10: =BJ10 -> 281084 | BU10: =BT10*BH10 -> 5059512
B11: 4 | C11: ='ESPECIFICACIONES TECNICAS- E.M'!C11 -> Líquido para eliminar DNA y DNAsas contaminantes, de material plástico y vidrio, sin afectar las muestras de ADN en análisis (Tipo DNA-AWAY) | D11: ='ESPECIFICACIONES TECNICAS- E.M'!D11 -> NA | E11: ='ESPECIFICACIONES TECNICAS- E.M'!E11 -> NA | F11: ='ESPECIFICACIONES TECNICAS- E.M'!F11 -> Frasco por 250 mL | G11: ='ESPECIFICACIONES TECNICAS- E.M'!G11 -> Un (1) año a partir de la entrega | H11: ='ESPECIFICACIONES TECNICAS- E.M'!H11 -> AMBIENTE | I11: ='ESPECIFICACIONES TECNICAS- E.M'!I11 -> NA | K11: ='ESPECIFICACIONES TECNICAS- E.M'!K11 -> REACTIVO | L11: ='ESPECIFICACIONES TECNICAS- E.M'!L11 -> NA | N11: 10 | O11: =SUM(N11:N11) -> 10 | S11: 12 | U11: =SUM(P11:T11) -> 12 | X11: 5 | Z11: =SUM(V11:Y11) -> 5 | AD11: =SUM(AA11:AC11) -> 0 | AF11: =SUM(AE11:AE11) -> 0 | AG11: =AF11+AD11 -> 0 | AL11: =SUM(AH11:AK11) -> 0 | AO11: =SUM(AM11:AN11) -> 0 | AR11: =SUM(AP11:AQ11) -> 0 | AT11: 4 | AU11: =SUM(AS11:AT11) -> 4 | AV11: =AU11+AR11 -> 4 | AZ11: =SUM(AW11:AY11) -> 0 | BB11: =SUM(BA11:BA11) -> 0 | BC11: =BB11+AZ11 -> 0 | BE11: 5 | BG11: =SUM(BD11:BF11) -> 5 | BH11: =BG11+BC11+AV11+AO11+AL11+AG11+Z11+U11+O11 -> 36 | BI11: 92986.71 | BJ11: =ROUND(BI11,0) -> 92987 | BT11: =BJ11 -> 92987 | BU11: =BT11*BH11 -> 3347532
B12: 5 | C12: ='ESPECIFICACIONES TECNICAS- E.M'!C12 -> Sodium N Laurylsarcosinate, para biología molecular . | D12: ='ESPECIFICACIONES TECNICAS- E.M'!D12 -> NA | E12: ='ESPECIFICACIONES TECNICAS- E.M'!E12 -> ≥94,0% | F12: ='ESPECIFICACIONES TECNICAS- E.M'!F12 -> Frasco por 25 gramos | G12: ='ESPECIFICACIONES TECNICAS- E.M'!G12 -> 1 año a partir de la entrega, en caso de no tener vigencia, se debe incluir documento (certificado de análisis o del fabricante) que incluya o se indique fecha de re-análisis (recommended retest date) o describir la vida útil del reactivo (Shelf life); ésta no debe ser inferior a doce (12) meses. | H12: ='ESPECIFICACIONES TECNICAS- E.M'!H12 -> AMBIENTE | I12: ='ESPECIFICACIONES TECNICAS- E.M'!I12 -> 137-16-6 | K12: ='ESPECIFICACIONES TECNICAS- E.M'!K12 -> REACTIVO | L12: ='ESPECIFICACIONES TECNICAS- E.M'!L12 -> PUREZA | N12: 50 | O12: =SUM(N12:N12) -> 50 | U12: =SUM(P12:T12) -> 0 | X12: 10 | Z12: =SUM(V12:Y12) -> 10 | AD12: =SUM(AA12:AC12) -> 0 | AF12: =SUM(AE12:AE12) -> 0 | AG12: =AF12+AD12 -> 0 | AL12: =SUM(AH12:AK12) -> 0 | AO12: =SUM(AM12:AN12) -> 0 | AR12: =SUM(AP12:AQ12) -> 0 | AT12: 10 | AU12: =SUM(AS12:AT12) -> 10 | AV12: =AU12+AR12 -> 10 | AZ12: =SUM(AW12:AY12) -> 0 | BB12: =SUM(BA12:BA12) -> 0 | BC12: =BB12+AZ12 -> 0 | BE12: 10 | BG12: =SUM(BD12:BF12) -> 10 | BH12: =BG12+BC12+AV12+AO12+AL12+AG12+Z12+U12+O12 -> 80 | BI12: 212642.26 | BJ12: =ROUND(BI12,0) -> 212642 | BT12: =BJ12 -> 212642 | BU12: =BT12*BH12 -> 17011360
B13: 6 | C13: ='ESPECIFICACIONES TECNICAS- E.M'!C13 -> Cloroformo estabilizado con etanol | D13: ='ESPECIFICACIONES TECNICAS- E.M'!D13 -> Reactivo analítico o ACS o Análisis o Ph Eur o BP | E13: ='ESPECIFICACIONES TECNICAS- E.M'!E13 -> >98% | F13: ='ESPECIFICACIONES TECNICAS- E.M'!F13 -> Frasco por 4 Litros | G13: ='ESPECIFICACIONES TECNICAS- E.M'!G13 -> Un (1) año a partir de la entrega | H13: ='ESPECIFICACIONES TECNICAS- E.M'!H13 -> AMBIENTE | I13: ='ESPECIFICACIONES TECNICAS- E.M'!I13 -> 67-66-3 | K13: ='ESPECIFICACIONES TECNICAS- E.M'!K13 -> REACTIVO | L13: ='ESPECIFICACIONES TECNICAS- E.M'!L13 -> PUREZA | O13: =SUM(N13:N13) -> 0 | U13: =SUM(P13:T13) -> 0 | Z13: =SUM(V13:Y13) -> 0 | AB13: 2 | AD13: =SUM(AA13:AC13) -> 2 | AF13: =SUM(AE13:AE13) -> 0 | AG13: =AF13+AD13 -> 2 | AL13: =SUM(AH13:AK13) -> 0 | AO13: =SUM(AM13:AN13) -> 0 | AR13: =SUM(AP13:AQ13) -> 0 | AU13: =SUM(AS13:AT13) -> 0 | AV13: =AU13+AR13 -> 0 | AZ13: =SUM(AW13:AY13) -> 0 | BB13: =SUM(BA13:BA13) -> 0 | BC13: =BB13+AZ13 -> 0 | BG13: =SUM(BD13:BF13) -> 0 | BH13: =BG13+BC13+AV13+AO13+AL13+AG13+Z13+U13+O13 -> 2 | BI13: 504328.8 | BJ13: =ROUND(BI13,0) -> 504329 | BT13: =BJ13 -> 504329 | BU13: =BT13*BH13 -> 1008658
B14: 7 | C14: ='ESPECIFICACIONES TECNICAS- E.M'!C14 -> Detergente alcalino para lavado de material de vidrio de laboratorio, libre de cloro y sin olor. | D14: ='ESPECIFICACIONES TECNICAS- E.M'!D14 -> NA | E14: ='ESPECIFICACIONES TECNICAS- E.M'!E14 -> NA | F14: ='ESPECIFICACIONES TECNICAS- E.M'!F14 -> Recipiente por 5 L | G14: ='ESPECIFICACIONES TECNICAS- E.M'!G14 -> Un (1) año a partir de la entrega | H14: ='ESPECIFICACIONES TECNICAS- E.M'!H14 -> AMBIENTE | I14: ='ESPECIFICACIONES TECNICAS- E.M'!I14 -> NA | K14: ='ESPECIFICACIONES TECNICAS- E.M'!K14 -> DETERGENTE | L14: ='ESPECIFICACIONES TECNICAS- E.M'!L14 -> NA | O14: =SUM(N14:N14) -> 0 | U14: =SUM(P14:T14) -> 0 | W14: 6 | Y14: 6 | Z14: =SUM(V14:Y14) -> 12 | AD14: =SUM(AA14:AC14) -> 0 | AF14: =SUM(AE14:AE14) -> 0 | AG14: =AF14+AD14 -> 0 | AL14: =SUM(AH14:AK14) -> 0 | AO14: =SUM(AM14:AN14) -> 0 | AR14: =SUM(AP14:AQ14) -> 0 | AU14: =SUM(AS14:AT14) -> 0 | AV14: =AU14+AR14 -> 0 | AX14: 5 | AY14: 5 | AZ14: =SUM(AW14:AY14) -> 10 | BB14: =SUM(BA14:BA14) -> 0 | BC14: =BB14+AZ14 -> 10 | BG14: =SUM(BD14:BF14) -> 0 | BH14: =BG14+BC14+AV14+AO14+AL14+AG14+Z14+U14+O14 -> 22 | BI14: 168109.6 | BJ14: =ROUND(BI14,0) -> 168110 | BT14: =BJ14 -> 168110 | BU14: =BT14*BH14 -> 3698420
B15: 8 | C15: ='ESPECIFICACIONES TECNICAS- E.M'!C15 -> Detergente líquido, neutro, concentrado, libre de cloro y sin olor para laboratorio. | D15: ='ESPECIFICACIONES TECNICAS- E.M'!D15 -> NA | E15: ='ESPECIFICACIONES TECNICAS- E.M'!E15 -> NA | F15: ='ESPECIFICACIONES TECNICAS- E.M'!F15 -> Recipiente por 5 L | G15: ='ESPECIFICACIONES TECNICAS- E.M'!G15 -> Un (1) año a partir de la entrega | H15: ='ESPECIFICACIONES TECNICAS- E.M'!H15 -> AMBIENTE | I15: ='ESPECIFICACIONES TECNICAS- E.M'!I15 -> NA | K15: ='ESPECIFICACIONES TECNICAS- E.M'!K15 -> DETERGENTE | L15: ='ESPECIFICACIONES TECNICAS- E.M'!L15 -> NA | O15: =SUM(N15:N15) -> 0 | U15: =SUM(P15:T15) -> 0 | Z15: =SUM(V15:Y15) -> 0 | AD15: =SUM(AA15:AC15) -> 0 | AE15: 1 | AF15: =SUM(AE15:AE15) -> 1 | AG15: =AF15+AD15 -> 1 | AL15: =SUM(AH15:AK15) -> 0 | AM15: 6 | AN15: 12 | AO15: =SUM(AM15:AN15) -> 18 | AR15: =SUM(AP15:AQ15) -> 0 | AT15: 1 | AU15: =SUM(AS15:AT15) -> 1 | AV15: =AU15+AR15 -> 1 | AW15: 2 | AZ15: =SUM(AW15:AY15) -> 2 | BA15: 1 | BB15: =SUM(BA15:BA15) -> 1 | BC15: =BB15+AZ15 -> 3 | BD15: 15 | BE15: 15 | BF15: 24 | BG15: =SUM(BD15:BF15) -> 54 | BH15: =BG15+BC15+AV15+AO15+AL15+AG15+Z15+U15+O15 -> 77 | BI15: 193326.04 | BJ15: =ROUND(BI15,0) -> 193326 | BT15: =BJ15 -> 193326 | BU15: =BT15*BH15 -> 14886102
B16: 9 | C16: ='ESPECIFICACIONES TECNICAS- E.M'!C16 -> Metanol para análisis | D16: ='ESPECIFICACIONES TECNICAS- E.M'!D16 -> Reactivo analítico o ACS o Análisis o Ph Eur o BP | E16: ='ESPECIFICACIONES TECNICAS- E.M'!E16 -> ≥ 99% | F16: ='ESPECIFICACIONES TECNICAS- E.M'!F16 -> Frasco por 2,5 Litros | G16: ='ESPECIFICACIONES TECNICAS- E.M'!G16 -> Un (1) año a partir de la entrega | H16: ='ESPECIFICACIONES TECNICAS- E.M'!H16 -> AMBIENTE | I16: ='ESPECIFICACIONES TECNICAS- E.M'!I16 -> 67-56-1 | K16: ='ESPECIFICACIONES TECNICAS- E.M'!K16 -> REACTIVO | L16: ='ESPECIFICACIONES TECNICAS- E.M'!L16 -> PUREZA | O16: =SUM(N16:N16) -> 0 | Q16: 2 | U16: =SUM(P16:T16) -> 2 | V16: 1 | Y16: 1 | Z16: =SUM(V16:Y16) -> 2 | AA16: 1 | AD16: =SUM(AA16:AC16) -> 1 | AF16: =SUM(AE16:AE16) -> 0 | AG16: =AF16+AD16 -> 1 | AL16: =SUM(AH16:AK16) -> 0 | AO16: =SUM(AM16:AN16) -> 0 | AR16: =SUM(AP16:AQ16) -> 0 | AU16: =SUM(AS16:AT16) -> 0 | AV16: =AU16+AR16 -> 0 | AX16: 1 | AY16: 2 | AZ16: =SUM(AW16:AY16) -> 3 | BB16: =SUM(BA16:BA16) -> 0 | BC16: =BB16+AZ16 -> 3 | BG16: =SUM(BD16:BF16) -> 0 | BH16: =BG16+BC16+AV16+AO16+AL16+AG16+Z16+U16+O16 -> 8 | BI16: 168109.6 | BJ16: =ROUND(BI16,0) -> 168110 | BT16: =BJ16 -> 168110 | BU16: =BT16*BH16 -> 1344880
B17: 10 | C17: ='ESPECIFICACIONES TECNICAS- E.M'!C17 -> Nitrito de sodio | D17: ='ESPECIFICACIONES TECNICAS- E.M'!D17 -> Reactivo analítico o ACS o Análisis o Ph Eur o BP | E17: ='ESPECIFICACIONES TECNICAS- E.M'!E17 -> ≥ 98% | F17: ='ESPECIFICACIONES TECNICAS- E.M'!F17 -> Frasco por 100 gramos | G17: ='ESPECIFICACIONES TECNICAS- E.M'!G17 -> Un (1) año a partir de la entrega | H17: ='ESPECIFICACIONES TECNICAS- E.M'!H17 -> AMBIENTE | I17: ='ESPECIFICACIONES TECNICAS- E.M'!I17 -> 7632-00-0 | K17: ='ESPECIFICACIONES TECNICAS- E.M'!K17 -> REACTIVO | L17: ='ESPECIFICACIONES TECNICAS- E.M'!L17 -> PUREZA | O17: =SUM(N17:N17) -> 0 | U17: =SUM(P17:T17) -> 0 | V17: 1 | Z17: =SUM(V17:Y17) -> 1 | AD17: =SUM(AA17:AC17) -> 0 | AF17: =SUM(AE17:AE17) -> 0 | AG17: =AF17+AD17 -> 0 | AL17: =SUM(AH17:AK17) -> 0 | AO17: =SUM(AM17:AN17) -> 0 | AR17: =SUM(AP17:AQ17) -> 0 | AU17: =SUM(AS17:AT17) -> 0 | AV17: =AU17+AR17 -> 0 | AZ17: =SUM(AW17:AY17) -> 0 | BB17: =SUM(BA17:BA17) -> 0 | BC17: =BB17+AZ17 -> 0 | BD17: 1 | BG17: =SUM(BD17:BF17) -> 1 | BH17: =BG17+BC17+AV17+AO17+AL17+AG17+Z17+U17+O17 -> 2 | BI17: 151298.64 | BJ17: =ROUND(BI17,0) -> 151299 | BT17: =BJ17 -> 151299 | BU17: =BT17*BH17 -> 302598
B18: 11 | C18: ='ESPECIFICACIONES TECNICAS- E.M'!C18 -> Permanganato de potasio | D18: ='ESPECIFICACIONES TECNICAS- E.M'!D18 -> Reactivo analítico o ACS o Análisis o Ph Eur o BP | E18: ='ESPECIFICACIONES TECNICAS- E.M'!E18 -> ≥ 98% | F18: ='ESPECIFICACIONES TECNICAS- E.M'!F18 -> Frasco por 250 gramos | G18: ='ESPECIFICACIONES TECNICAS- E.M'!G18 -> Un (1) año a partir de la entrega | H18: ='ESPECIFICACIONES TECNICAS- E.M'!H18 -> AMBIENTE | I18: ='ESPECIFICACIONES TECNICAS- E.M'!I18 -> 7722-64-7 | K18: ='ESPECIFICACIONES TECNICAS- E.M'!K18 -> REACTIVO | L18: ='ESPECIFICACIONES TECNICAS- E.M'!L18 -> PUREZA | O18: =SUM(N18:N18) -> 0 | U18: =SUM(P18:T18) -> 0 | Z18: =SUM(V18:Y18) -> 0 | AB18: 1 | AD18: =SUM(AA18:AC18) -> 1 | AF18: =SUM(AE18:AE18) -> 0 | AG18: =AF18+AD18 -> 1 | AL18: =SUM(AH18:AK18) -> 0 | AO18: =SUM(AM18:AN18) -> 0 | AR18: =SUM(AP18:AQ18) -> 0 | AU18: =SUM(AS18:AT18) -> 0 | AV18: =AU18+AR18 -> 0 | AZ18: =SUM(AW18:AY18) -> 0 | BB18: =SUM(BA18:BA18) -> 0 | BC18: =BB18+AZ18 -> 0 | BD18: 1 | BG18: =SUM(BD18:BF18) -> 1 | BH18: =BG18+BC18+AV18+AO18+AL18+AG18+Z18+U18+O18 -> 2 | BI18: 336219.2 | BJ18: =ROUND(BI18,0) -> 336219 | BT18: =BJ18 -> 336219 | BU18: =BT18*BH18 -> 672438
B19: 12 | C19: ='ESPECIFICACIONES TECNICAS- E.M'!C19 -> Acetaldehído | D19: ='ESPECIFICACIONES TECNICAS- E.M'!D19 -> Reactivo analítico o ACS o Análisis o Ph Eur o BP | E19: ='ESPECIFICACIONES TECNICAS- E.M'!E19 -> ≥99,5 % | F19: ='ESPECIFICACIONES TECNICAS- E.M'!F19 -> Frasco por 1 Litro | G19: ='ESPECIFICACIONES TECNICAS- E.M'!G19 -> Un (1) año a partir de la entrega | H19: ='ESPECIFICACIONES TECNICAS- E.M'!H19 -> AMBIENTE | I19: ='ESPECIFICACIONES TECNICAS- E.M'!I19 -> 75-07-0 | K19: ='ESPECIFICACIONES TECNICAS- E.M'!K19 -> REACTIVO | L19: ='ESPECIFICACIONES TECNICAS- E.M'!L19 -> PUREZA | O19: =SUM(N19:N19) -> 0 | U19: =SUM(P19:T19) -> 0 | Y19: 1 | Z19: =SUM(V19:Y19) -> 1 | AD19: =SUM(AA19:AC19) -> 0 | AF19: =SUM(AE19:AE19) -> 0 | AG19: =AF19+AD19 -> 0 | AL19: =SUM(AH19:AK19) -> 0 | AO19: =SUM(AM19:AN19) -> 0 | AQ19: 1 | AR19: =SUM(AP19:AQ19) -> 1 | AU19: =SUM(AS19:AT19) -> 0 | AV19: =AU19+AR19 -> 1 | AY19: 1 | AZ19: =SUM(AW19:AY19) -> 1 | BB19: =SUM(BA19:BA19) -> 0 | BC19: =BB19+AZ19 -> 1 | BF19: 1 | BG19: =SUM(BD19:BF19) -> 1 | BH19: =BG19+BC19+AV19+AO19+AL19+AG19+Z19+U19+O19 -> 4 | BI19: 1540115.4 | BJ19: =ROUND(BI19,0) -> 1540115 | BT19: =BJ19 -> 1540115 | BU19: =BT19*BH19 -> 6160460
B20: 13 | C20: ='ESPECIFICACIONES TECNICAS- E.M'!C20 -> Metanol para LC-MS | D20: ='ESPECIFICACIONES TECNICAS- E.M'!D20 -> LC-MS | E20: ='ESPECIFICACIONES TECNICAS- E.M'!E20 -> ≥99,9 % | F20: ='ESPECIFICACIONES TECNICAS- E.M'!F20 -> Frasco por 4 Litros | G20: ='ESPECIFICACIONES TECNICAS- E.M'!G20 -> Un (1) año a partir de la entrega | H20: ='ESPECIFICACIONES TECNICAS- E.M'!H20 -> AMBIENTE | I20: ='ESPECIFICACIONES TECNICAS- E.M'!I20 -> 67-56-1 | K20: ='ESPECIFICACIONES TECNICAS- E.M'!K20 -> REACTIVO | L20: ='ESPECIFICACIONES TECNICAS- E.M'!L20 -> PUREZA | O20: =SUM(N20:N20) -> 0 | Q20: 9 | U20: =SUM(P20:T20) -> 9 | Y20: 7 | Z20: =SUM(V20:Y20) -> 7 | AC20: 30 | AD20: =SUM(AA20:AC20) -> 30 | AF20: =SUM(AE20:AE20) -> 0 | AG20: =AF20+AD20 -> 30 | AL20: =SUM(AH20:AK20) -> 0 | AN20: 1 | AO20: =SUM(AM20:AN20) -> 1 | AR20: =SUM(AP20:AQ20) -> 0 | AU20: =SUM(AS20:AT20) -> 0 | AV20: =AU20+AR20 -> 0 | AZ20: =SUM(AW20:AY20) -> 0 | BB20: =SUM(BA20:BA20) -> 0 | BC20: =BB20+AZ20 -> 0 | BG20: =SUM(BD20:BF20) -> 0 | BH20: =BG20+BC20+AV20+AO20+AL20+AG20+Z20+U20+O20 -> 47 | BI20: 709783.87 | BJ20: =ROUND(BI20,0) -> 709784 | BT20: =BJ20 -> 709784 | BU20: =BT20*BH20 -> 33359848
B21: 14 | C21: ='ESPECIFICACIONES TECNICAS- E.M'!C21 -> Hexano (n-hexano) | D21: ='ESPECIFICACIONES TECNICAS- E.M'!D21 -> LC-MS | E21: ='ESPECIFICACIONES TECNICAS- E.M'!E21 -> ≥99 % | F21: ='ESPECIFICACIONES TECNICAS- E.M'!F21 -> Frasco por 2,5 Litros | G21: ='ESPECIFICACIONES TECNICAS- E.M'!G21 -> Un (1) año a partir de la entrega | H21: ='ESPECIFICACIONES TECNICAS- E.M'!H21 -> AMBIENTE | I21: ='ESPECIFICACIONES TECNICAS- E.M'!I21 -> 110-54-3 | K21: ='ESPECIFICACIONES TECNICAS- E.M'!K21 -> REACTIVO | L21: ='ESPECIFICACIONES TECNICAS- E.M'!L21 -> PUREZA | O21: =SUM(N21:N21) -> 0 | U21: =SUM(P21:T21) -> 0 | Z21: =SUM(V21:Y21) -> 0 | AC21: 1 | AD21: =SUM(AA21:AC21) -> 1 | AF21: =SUM(AE21:AE21) -> 0 | AG21: =AF21+AD21 -> 1 | AL21: =SUM(AH21:AK21) -> 0 | AO21: =SUM(AM21:AN21) -> 0 | AR21: =SUM(AP21:AQ21) -> 0 | AU21: =SUM(AS21:AT21) -> 0 | AV21: =AU21+AR21 -> 0 | AZ21: =SUM(AW21:AY21) -> 0 | BB21: =SUM(BA21:BA21) -> 0 | BC21: =BB21+AZ21 -> 0 | BG21: =SUM(BD21:BF21) -> 0 | BH21: =BG21+BC21+AV21+AO21+AL21+AG21+Z21+U21+O21 -> 1 | BI21: 1258254.6 | BJ21: =ROUND(BI21,0) -> 1258255 | BT21: =BJ21 -> 1258255 | BU21: =BT21*BH21 -> 1258255
B22: 15 | C22: ='ESPECIFICACIONES TECNICAS- E.M'!C22 -> Sulfato de amonio | D22: ='ESPECIFICACIONES TECNICAS- E.M'!D22 -> Reactivo analítico o ACS o Análisis o Ph Eur o BP | E22: ='ESPECIFICACIONES TECNICAS- E.M'!E22 -> ≥99% | F22: ='ESPECIFICACIONES TECNICAS- E.M'!F22 -> Frasco por 1 Kg | G22: ='ESPECIFICACIONES TECNICAS- E.M'!G22 -> Un (1) año a partir de la entrega | H22: ='ESPECIFICACIONES TECNICAS- E.M'!H22 -> AMBIENTE | I22: ='ESPECIFICACIONES TECNICAS- E.M'!I22 -> 7783-20-2 | K22: ='ESPECIFICACIONES TECNICAS- E.M'!K22 -> REACTIVO | L22: ='ESPECIFICACIONES TECNICAS- E.M'!L22 -> PUREZA | O22: =SUM(N22:N22) -> 0 | U22: =SUM(P22:T22) -> 0 | Z22: =SUM(V22:Y22) -> 0 | AD22: =SUM(AA22:AC22) -> 0 | AF22: =SUM(AE22:AE22) -> 0 | AG22: =AF22+AD22 -> 0 | AJ22: 1 | AL22: =SUM(AH22:AK22) -> 1 | AO22: =SUM(AM22:AN22) -> 0 | AR22: =SUM(AP22:AQ22) -> 0 | AU22: =SUM(AS22:AT22) -> 0 | AV22: =AU22+AR22 -> 0 | AZ22: =SUM(AW22:AY22) -> 0 | BB22: =SUM(BA22:BA22) -> 0 | BC22: =BB22+AZ22 -> 0 | BD22: 1 | BG22: =SUM(BD22:BF22) -> 1 | BH22: =BG22+BC22+AV22+AO22+AL22+AG22+Z22+U22+O22 -> 2 | BI22: 324665.08 | BJ22: =ROUND(BI22,0) -> 324665 | BT22: =BJ22 -> 324665 | BU22: =BT22*BH22 -> 649330
B23: 16 | C23: ='ESPECIFICACIONES TECNICAS- E.M'!C23 -> Oxido de Calcio en polvo | D23: ='ESPECIFICACIONES TECNICAS- E.M'!D23 -> Reactivo analítico o ACS o Análisis o Ph Eur o BP | E23: ='ESPECIFICACIONES TECNICAS- E.M'!E23 -> ≥95% | F23: ='ESPECIFICACIONES TECNICAS- E.M'!F23 -> Frasco por 1 Kg | G23: ='ESPECIFICACIONES TECNICAS- E.M'!G23 -> Un (1) año a partir de la entrega | H23: ='ESPECIFICACIONES TECNICAS- E.M'!H23 -> AMBIENTE | I23: ='ESPECIFICACIONES TECNICAS- E.M'!I23 -> 1305-78-8 | K23: ='ESPECIFICACIONES TECNICAS- E.M'!K23 -> REACTIVO | L23: ='ESPECIFICACIONES TECNICAS- E.M'!L23 -> PUREZA | O23: =SUM(N23:N23) -> 0 | U23: =SUM(P23:T23) -> 0 | Z23: =SUM(V23:Y23) -> 0 | AD23: =SUM(AA23:AC23) -> 0 | AF23: =SUM(AE23:AE23) -> 0 | AG23: =AF23+AD23 -> 0 | AL23: =SUM(AH23:AK23) -> 0 | AO23: =SUM(AM23:AN23) -> 0 | AR23: =SUM(AP23:AQ23) -> 0 | AU23: =SUM(AS23:AT23) -> 0 | AV23: =AU23+AR23 -> 0 | AZ23: =SUM(AW23:AY23) -> 0 | BB23: =SUM(BA23:BA23) -> 0 | BC23: =BB23+AZ23 -> 0 | BD23: 1 | BG23: =SUM(BD23:BF23) -> 1 | BH23: =BG23+BC23+AV23+AO23+AL23+AG23+Z23+U23+O23 -> 1 | BI23: 642204.45 | BJ23: =ROUND(BI23,0) -> 642204 | BT23: =BJ23 -> 642204 | BU23: =BT23*BH23 -> 642204
B24: 17 | C24: ='ESPECIFICACIONES TECNICAS- E.M'!C24 -> Tiocianato de Potasio | D24: ='ESPECIFICACIONES TECNICAS- E.M'!D24 -> Reactivo analítico o ACS o Análisis o Ph Eur o BP | E24: ='ESPECIFICACIONES TECNICAS- E.M'!E24 -> ≥95% | F24: ='ESPECIFICACIONES TECNICAS- E.M'!F24 -> Frasco por 100 gramos | G24: ='ESPECIFICACIONES TECNICAS- E.M'!G24 -> Un (1) año a partir de la entrega | H24: ='ESPECIFICACIONES TECNICAS- E.M'!H24 -> AMBIENTE | I24: ='ESPECIFICACIONES TECNICAS- E.M'!I24 -> 333-20-0 | K24: ='ESPECIFICACIONES TECNICAS- E.M'!K24 -> REACTIVO | L24: ='ESPECIFICACIONES TECNICAS- E.M'!L24 -> PUREZA | O24: =SUM(N24:N24) -> 0 | U24: =SUM(P24:T24) -> 0 | Z24: =SUM(V24:Y24) -> 0 | AD24: =SUM(AA24:AC24) -> 0 | AF24: =SUM(AE24:AE24) -> 0 | AG24: =AF24+AD24 -> 0 | AL24: =SUM(AH24:AK24) -> 0 | AO24: =SUM(AM24:AN24) -> 0 | AR24: =SUM(AP24:AQ24) -> 0 | AU24: =SUM(AS24:AT24) -> 0 | AV24: =AU24+AR24 -> 0 | AZ24: =SUM(AW24:AY24) -> 0 | BB24: =SUM(BA24:BA24) -> 0 | BC24: =BB24+AZ24 -> 0 | BD24: 1 | BG24: =SUM(BD24:BF24) -> 1 | BH24: =BG24+BC24+AV24+AO24+AL24+AG24+Z24+U24+O24 -> 1 | BI24: 275904.36 | BJ24: =ROUND(BI24,0) -> 275904 | BT24: =BJ24 -> 275904 | BU24: =BT24*BH24 -> 275904
B25: 18 | C25: ='ESPECIFICACIONES TECNICAS- E.M'!C25 -> Fenolftaleína | D25: ='ESPECIFICACIONES TECNICAS- E.M'!D25 -> Reactivo analítico | E25: ='ESPECIFICACIONES TECNICAS- E.M'!E25 -> NA | F25: ='ESPECIFICACIONES TECNICAS- E.M'!F25 -> Frasco por 100 gramos | G25: ='ESPECIFICACIONES TECNICAS- E.M'!G25 -> Un (1) año a partir de la entrega | H25: ='ESPECIFICACIONES TECNICAS- E.M'!H25 -> AMBIENTE | I25: ='ESPECIFICACIONES TECNICAS- E.M'!I25 -> 77-09-8 | K25: ='ESPECIFICACIONES TECNICAS- E.M'!K25 -> REACTIVO | L25: ='ESPECIFICACIONES TECNICAS- E.M'!L25 -> NA | O25: =SUM(N25:N25) -> 0 | U25: =SUM(P25:T25) -> 0 | Z25: =SUM(V25:Y25) -> 0 | AD25: =SUM(AA25:AC25) -> 0 | AF25: =SUM(AE25:AE25) -> 0 | AG25: =AF25+AD25 -> 0 | AL25: =SUM(AH25:AK25) -> 0 | AO25: =SUM(AM25:AN25) -> 0 | AR25: =SUM(AP25:AQ25) -> 0 | AU25: =SUM(AS25:AT25) -> 0 | AV25: =AU25+AR25 -> 0 | AX25: 1 | AZ25: =SUM(AW25:AY25) -> 1 | BB25: =SUM(BA25:BA25) -> 0 | BC25: =BB25+AZ25 -> 1 | BD25: 1 | BG25: =SUM(BD25:BF25) -> 1 | BH25: =BG25+BC25+AV25+AO25+AL25+AG25+Z25+U25+O25 -> 2 | BK25: ='ESPECIFICACIONES TECNICAS- E.M'!BM25 -> 218960 | BL25: ='ESPECIFICACIONES TECNICAS- E.M'!BP25 -> 261800 | BM25: ='ESPECIFICACIONES TECNICAS- E.M'!BS25 -> 227171 | BN25: ='ESPECIFICACIONES TECNICAS- E.M'!BV25 -> 214200 | BO25: ='ESPECIFICACIONES TECNICAS- E.M'!BY25 -> 261800 | BP25: ='ESPECIFICACIONES TECNICAS- E.M'!CB25 -> 223244 | BQ25: ='ESPECIFICACIONES TECNICAS- E.M'!CE25 -> 312970 | BR25: =ROUND(GEOMEAN(BK25:BQ25),0) -> 243682 | BS25: =ROUND(HARMEAN(BK25:BQ25),0) -> 241783 | BT25: =BR25 -> 243682 | BU25: =BT25*BH25 -> 487364 | BX25: =+IF(CD25>0.3,BS25,BR25) -> 243682 | BY25: =BX25-BT25 -> 0 | CA25: =+VAR(BK25:BN25) -> 4.6320985e+08 | CB25: =+STDEV(BK25:BQ25) -> 35586.837 | CC25: =+AVERAGEIF(BJ25:BQ25,"<>") -> 245735 | CD25: =CB25/CC25 -> 0.14481794
B26: 19 | C26: ='ESPECIFICACIONES TECNICAS- E.M'!C26 -> Vainillina | D26: ='ESPECIFICACIONES TECNICAS- E.M'!D26 -> Reactivo analítico o ACS o Análisis o Ph Eur o BP | E26: ='ESPECIFICACIONES TECNICAS- E.M'!E26 -> ≥98% | F26: ='ESPECIFICACIONES TECNICAS- E.M'!F26 -> Frasco por 100 gramos | G26: ='ESPECIFICACIONES TECNICAS- E.M'!G26 -> Un (1) año a partir de la entrega | H26: ='ESPECIFICACIONES TECNICAS- E.M'!H26 -> AMBIENTE | I26: ='ESPECIFICACIONES TECNICAS- E.M'!I26 -> 121-33-5 | K26: ='ESPECIFICACIONES TECNICAS- E.M'!K26 -> REACTIVO | L26: ='ESPECIFICACIONES TECNICAS- E.M'!L26 -> PUREZA | O26: =SUM(N26:N26) -> 0 | U26: =SUM(P26:T26) -> 0 | Z26: =SUM(V26:Y26) -> 0 | AD26: =SUM(AA26:AC26) -> 0 | AF26: =SUM(AE26:AE26) -> 0 | AG26: =AF26+AD26 -> 0 | AL26: =SUM(AH26:AK26) -> 0 | AO26: =SUM(AM26:AN26) -> 0 | AR26: =SUM(AP26:AQ26) -> 0 | AU26: =SUM(AS26:AT26) -> 0 | AV26: =AU26+AR26 -> 0 | AZ26: =SUM(AW26:AY26) -> 0 | BB26: =SUM(BA26:BA26) -> 0 | BC26: =BB26+AZ26 -> 0 | BD26: 1 | BG26: =SUM(BD26:BF26) -> 1 | BH26: =BG26+BC26+AV26+AO26+AL26+AG26+Z26+U26+O26 -> 1 | BK26: ='ESPECIFICACIONES TECNICAS- E.M'!BM26 -> 328440 | BL26: ='ESPECIFICACIONES TECNICAS- E.M'!BP26 -> 428400 | BM26: ='ESPECIFICACIONES TECNICAS- E.M'!BS26 -> 476000 | BN26: ='ESPECIFICACIONES TECNICAS- E.M'!BV26 -> 540379 | BO26: ='ESPECIFICACIONES TECNICAS- E.M'!BY26 -> 547400 | BP26: ='ESPECIFICACIONES TECNICAS- E.M'!CB26 -> 493850 | BQ26: ='ESPECIFICACIONES TECNICAS- E.M'!CE26 -> 451010 | BR26: =ROUND(GEOMEAN(BK26:BQ26),0) -> 460817 | BS26: =ROUND(HARMEAN(BK26:BQ26),0) -> 454565 | BT26: =BR26 -> 460817 | BU26: =BT26*BH26 -> 460817 | BX26: =+IF(CD26>0.3,BS26,BR26) -> 460817 | BY26: =BX26-BT26 -> 0 | CA26: =+VAR(BK26:BN26) -> 7.9694839e+09 | CB26: =+STDEV(BK26:BQ26) -> 74825.689 | CC26: =+AVERAGEIF(BJ26:BQ26,"<>") -> 466497 | CD26: =CB26/CC26 -> 0.16039908
