Workbook

Sheet ESPECIFICACIONES TECNICAS- E.M
BH1: PRESUPUESTO ACTUAL
B2: LOTE 1 | BH2: 824963052 | BJ2: 5.2 | BK2: SASI-0019-SG-2024 | BL2: 142-SG-2024 | BM2: 143-SG-2024 | BN2: 140-SG-2024 | BO2: 144-SG-2024 | BP2: 146-SG2024 | BQ2: 141-SG-2024
BJ3: 9.28 | BK3: SASI-0019-SG-2023 | BL3: 144-SG-2023
B5: ITEM | C5: ESPECIFICACION TECNICA | D5: GRADO | E5: PUREZA | F5: PRESENTACION O UNIDAD DE MEDIDA | G5: VIGENCIA MINIMA | H5: CONDICION DE ALMACENAMIENTO | I5: NUMERO DE CAS | J5: CLASIFICACION CODIGOS UNSPSC | K5: IDENTIFICACION ADICIONAL REQUERIDA | L5: CALIDAD MINIMA | M5: PATRONES DE DESEMPEÑO | N5: DIRECCION GENERAL | P5: REGIONAL BOGOTÁ | V5: REGIONAL NOROCCIDENTE | AA5: REGIONAL NORORIENTE | AH5: REGIONAL NORTE | AM5: REGIONAL OCCIDENTE | AP5: REGIONAL ORIENTE | AW5: REGIONAL SUR | BD5: REGIONAL SUROCCIDENTE | BH5: CANTIDAD TOTAL | BI5: HISTORICOS 2024 | BK5: CONTRATO | BL5: ANNAR | BO5: AS ANALYTICAL | BR5: CIEDUTEC | BU5: SCIENTIFIC | BX5: NORQUIMICOS | CA5: PROFINAS | CD5: QUIMITRONICA
AA6: SECCIONAL SANTANDER | AE6: SECCIONAL NORTE DE SANTANDER | AH6: SECCIONAL ATLÁNTICO | AP6: SECCIONAL BOYACÁ | AS6: SECCIONAL META | AV6: TOTAL REGIONAL ORIENTE | AW6: SECCIONAL TOLIMA | BA6: SECCIONAL HUILA | BC6: TOTAL REGIONAL SUR | BI6: VALOR UNITARIO CONTRATO | BJ6: VALOR UNITARIO CONTRATO CON IPC | BL6: VALOR UNITARIO | BM6: VALOR UNITRIO CON IVA | BN6: VALOR TOTALPOR ITEM | BO6: VALOR UNITARIO | BP6: VALOR UNITRIO CON IVA | BQ6: VALOR TOTALPOR ITEM | BR6: VALOR UNITARIO | BS6: VALOR UNITRIO CON IVA | BT6: VALOR TOTALPOR ITEM | BU6: VALOR UNITARIO | BV6: VALOR UNITRIO CON IVA | BW6: VALOR TOTALPOR ITEM | BX6: VALOR UNITARIO | BY6: VALOR UNITRIO CON IVA | BZ6: VALOR TOTALPOR ITEM | CA6: VALOR UNITARIO | CB6: VALOR UNITRIO CON IVA | CC6: VALOR TOTALPOR ITEM | CD6: VALOR UNITARIO | CE6: VALOR UNITRIO CON IVA | CF6: VALOR TOTALPOR ITEM
N7: GRUPO APOYO-SNVJRNR | O7: TOTAL | P7: BIOLOGIA | Q7: ESTUPEFACIENTES | R7: E. TRAZA | S7: GENETICA | T7: TOXICOLOGIA | U7: TOTAL REGIONAL BOGOTÁ | V7: BALISTICA | W7: ESTUPEFACIENTES | X7: GENETICA | Y7: TOXICOLOGIA | Z7: TOTAL REGIONAL NOROCCIDENTE | AA7: BALISTICA | AB7: ESTUPEFACIENTES | AC7: TOXICOLOGIA | AD7: TOTAL SECCIONAL SANTANDER | AE7: BIOLOGIA | AF7: TOTAL SECCIONAL NTE SANTANDER | AG7: TOTAL REGIONAL NORORIENTE | AH7: BIOLOGIA | AI7: BALISTICA | AJ7: ESTUPEFACIENTES | AK7: TOXICOLOGIA | AL7: TOTAL REGIONAL NORTE | AM7: ESTUPEFACIENTES | AN7: TOXICOLOGIA | AO7: TOTAL REGIONAL OCCIDENTE | AP7: BALISTICA | AQ7: TOXICOLOGIA | AR7: TOTAL SECCIONAL BOYACÁ | AS7: BALISTICA | AT7: GENETICA | AU7: TOTAL SECCIONAL META | AW7: BIOLOGIA | AX7: ESTUPEFACIENTES | AY7: TOXICOLOGIA | AZ7: TOTAL SECCIONAL TOLIMA | BA7: BIOLOGIA | BB7: TOTAL SECCIONAL HUILA | BD7: ESTUPEFACIENTES | BE7: GENETICA | BF7: TOXICOLOGIA | BG7: TOTAL REGIONAL SUROCCIDENTE
B8: 1 | C8: Ácido rubeánico o ditiooxiamida | D8: Reactivo analítico o ACS o Análisis o Ph Eur o BP | E8: ≥98% | F8: Frasco por 10 gramos | G8: Un (1) año a partir de la entrega | H8: AMBIENTE | I8: 79-40-3 | J8: 12161500 12191500 12191600 12352100 12352300 | K8: REACTIVO | L8: PUREZA | M8: ANALISIS DE SUSTACIA | O8: =SUM(N8:N8) -> 0 | U8: =SUM(P8:T8) -> 0 | Z8: =SUM(V8:Y8) -> 0 | AA8: 1 | AD8: =SUM(AA8:AC8) -> 1 | AF8: =SUM(AE8:AE8) -> 0 | AG8: =AF8+AD8 -> 1 | AL8: =SUM(AH8:AK8) -> 0 | AO8: =SUM(AM8:AN8) -> 0 | AR8: =SUM(AP8:AQ8) -> 0 | AU8: =SUM(AS8:AT8) -> 0 | AV8: =AU8+AR8 -> 0 | AZ8: =SUM(AW8:AY8) -> 0 | BB8: =SUM(BA8:BA8) -> 0 | BC8: =BB8+AZ8 -> 0 | BG8: =SUM(BD8:BF8) -> 0 | BH8: =BG8+BC8+AV8+AO8+AL8+AG8+Z8+U8+O8 -> 1 | BI8: 177902.56 | BJ8: =BI8*(1+(BJ2/100)) -> 187153.49 | BK8: 140-SG-2024
B9: 2 | C9: Ditionito de sodio o Hidrosulfito de sodio | D9: Reactivo analítico o ACS o Análisis o Ph Eur o BP | E9: ≥85%. | F9: Frasco por 500 gramos | G9: Un (1) año a partir de la entrega | H9: AMBIENTE | I9: 7775-14-6 | K9: REACTIVO | L9: PUREZA | O9: =SUM(N9:N9) -> 0 | U9: =SUM(P9:T9) -> 0 | Z9: =SUM(V9:Y9) -> 0 | AD9: =SUM(AA9:AC9) -> 0 | AF9: =SUM(AE9:AE9) -> 0 | AG9: =AF9+AD9 -> 0 | AL9: =SUM(AH9:AK9) -> 0 | AN9: 1 | AO9: =SUM(AM9:AN9) -> 1 | AR9: =SUM(AP9:AQ9) -> 0 | AU9: =SUM(AS9:AT9) -> 0 | AV9: =AU9+AR9 -> 0 | AZ9: =SUM(AW9:AY9) -> 0 | BB9: =SUM(BA9:BA9) -> 0 | BC9: =BB9+AZ9 -> 0 | BG9: =SUM(BD9:BF9) -> 0 | BH9: =BG9+BC9+AV9+AO9+AL9+AG9+Z9+U9+O9 -> 1 | BI9: 87493.04 | BJ9: =BI9*(1+(BJ2/100)) -> 92042.678 | BK9: 140-SG-2024
B10: 3 | C10: Fenol equilibrado con Tris HCI para extracción de ADN (pH 8,0) | D10: NA | E10: NA | F10: Frasco por 400 mL | G10: Un (1) año a partir de la entrega | H10: AMBIENTE | I10: NA | K10: REACTIVO | L10: NA | N10: 7 | O10: =SUM(N10:N10) -> 7 | S10: 10 | U10: =SUM(P10:T10) -> 10 | Z10: =SUM(V10:Y10) -> 0 | AD10: =SUM(AA10:AC10) -> 0 | AF10: =SUM(AE10:AE10) -> 0 | AG10: =AF10+AD10 -> 0 | AL10: =SUM(AH10:AK10) -> 0 | AO10: =SUM(AM10:AN10) -> 0 | AR10: =SUM(AP10:AQ10) -> 0 | AT10: 1 | AU10: =SUM(AS10:AT10) -> 1 | AV10: =AU10+AR10 -> 1 | AZ10: =SUM(AW10:AY10) -> 0 | BB10: =SUM(BA10:BA10) -> 0 | BC10: =BB10+AZ10 -> 0 | BG10: =SUM(BD10:BF10) -> 0 | BH10: =BG10+BC10+AV10+AO10+AL10+AG10+Z10+U10+O10 -> 18 | BI10: 267190.4 | BJ10: =BI10*(1+(BJ2/100)) -> 281084.3 | BK10: 140-SG-2024
B11: 4 | C11: Líquido para eliminar DNA y DNAsas contaminantes, de material plástico y vidrio, sin afectar las muestras de ADN en análisis (Tipo DNA-AWAY) | D11: NA | E11: NA | F11: Frasco por 250 mL | G11: Un (1) año a partir de la entrega | H11: AMBIENTE | I11: NA | K11: REACTIVO | L11: NA | N11: 10 | O11: =SUM(N11:N11) -> 10 | S11: 12 | U11: =SUM(P11:T11) -> 12 | X11: 5 | Z11: =SUM(V11:Y11) -> 5 | AD11: =SUM(AA11:AC11) -> 0 | AF11: =SUM(AE11:AE11) -> 0 | AG11: =AF11+AD11 -> 0 | AL11: =SUM(AH11:AK11) -> 0 | AO11: =SUM(AM11:AN11) -> 0 | AR11: =SUM(AP11:AQ11) -> 0 | AT11: 4 | AU11: =SUM(AS11:AT11) -> 4 | AV11: =AU11+AR11 -> 4 | AZ11: =SUM(AW11:AY11) -> 0 | BB11: =SUM(BA11:BA11) -> 0 | BC11: =BB11+AZ11 -> 0 | BE11: 5 | BG11: =SUM(BD11:BF11) -> 5 | BH11: =BG11+BC11+AV11+AO11+AL11+AG11+Z11+U11+O11 -> 36 | BI11: 88390.41 | BJ11: =BI11*(1+(BJ2/100)) -> 92986.711 | BK11: 140-SG-2024
B12: 5 | C12: Sodium N Laurylsarcosinate, para biología molecular . | D12: NA | E12: ≥94,0% | F12: Frasco por 25 gramos | G12: 1 año a partir de la entrega, en caso de no tener vigencia, se debe incluir documento (certificado de análisis o del fabricante) que incluya o se indique fecha de re-análisis (recommended retest date) o describir la vida útil del reactivo (Shelf life); ésta no debe ser inferior a doce (12) meses. | H12: AMBIENTE | I12: 137-16-6 | K12: REACTIVO | L12: PUREZA | N12: 50 | O12: =SUM(N12:N12) -> 50 | U12: =SUM(P12:T12) -> 0 | X12: 10 | Z12: =SUM(V12:Y12) -> 10 | AD12: =SUM(AA12:AC12) -> 0 | AF12: =SUM(AE12:AE12) -> 0 | AG12: =AF12+AD12 -> 0 | AL12: =SUM(AH12:AK12) -> 0 | AO12: =SUM(AM12:AN12) -> 0 | AR12: =SUM(AP12:AQ12) -> 0 | AT12: 10 | AU12: =SUM(AS12:AT12) -> 10 | AV12: =AU12+AR12 -> 10 | AZ12: =SUM(AW12:AY12) -> 0 | BB12: =SUM(BA12:BA12) -> 0 | BC12: =BB12+AZ12 -> 0 | BE12: 10 | BG12: =SUM(BD12:BF12) -> 10 | BH12: =BG12+BC12+AV12+AO12+AL12+AG12+Z12+U12+O12 -> 80 | BI12: 202131.43 | BJ12: =BI12*(1+(BJ2/100)) -> 212642.26 | BK12: 140-SG-2024
B13: 6 | C13: Cloroformo estabilizado con etanol | D13: Reactivo analítico o ACS o Análisis o Ph Eur o BP | E13: >98% | F13: Frasco por 4 Litros | G13: Un (1) año a partir de la entrega | H13: AMBIENTE | I13: 67-66-3 | K13: REACTIVO | L13: PUREZA | O13: =SUM(N13:N13) -> 0 | U13: =SUM(P13:T13) -> 0 | Z13: =SUM(V13:Y13) -> 0 | AB13: 2 | AD13: =SUM(AA13:AC13) -> 2 | AF13: =SUM(AE13:AE13) -> 0 | AG13: =AF13+AD13 -> 2 | AL13: =SUM(AH13:AK13) -> 0 | AO13: =SUM(AM13:AN13) -> 0 | AR13: =SUM(AP13:AQ13) -> 0 | AU13: =SUM(AS13:AT13) -> 0 | AV13: =AU13+AR13 -> 0 | AZ13: =SUM(AW13:AY13) -> 0 | BB13: =SUM(BA13:BA13) -> 0 | BC13: =BB13+AZ13 -> 0 | BG13: =SUM(BD13:BF13) -> 0 | BH13: =BG13+BC13+AV13+AO13+AL13+AG13+Z13+U13+O13 -> 2 | BI13: 479400 | BJ13: =BI13*(1+(BJ2/100)) -> 504328.8 | BK13: 142-SG-2024
B14: 7 | C14: Detergente alcalino para lavado de material de vidrio de laboratorio, libre de cloro y sin olor. | D14: NA | E14: NA | F14: Recipiente por 5 L | G14: Un (1) año a partir de la entrega | H14: AMBIENTE | I14: NA | K14: DETERGENTE | L14: NA | O14: =SUM(N14:N14) -> 0 | U14: =SUM(P14:T14) -> 0 | W14: 6 | Y14: 6 | Z14: =SUM(V14:Y14) -> 12 | AD14: =SUM(AA14:AC14) -> 0 | AF14: =SUM(AE14:AE14) -> 0 | AG14: =AF14+AD14 -> 0 | AL14: =SUM(AH14:AK14) -> 0 | AO14: =SUM(AM14:AN14) -> 0 | AR14: =SUM(AP14:AQ14) -> 0 | AU14: =SUM(AS14:AT14) -> 0 | AV14: =AU14+AR14 -> 0 | AX14: 5 | AY14: 5 | AZ14: =SUM(AW14:AY14) -> 10 | BB14: =SUM(BA14:BA14) -> 0 | BC14: =BB14+AZ14 -> 10 | BG14: =SUM(BD14:BF14) -> 0 | BH14: =BG14+BC14+AV14+AO14+AL14+AG14+Z14+U14+O14 -> 22 | BI14: 159800 | BJ14: =BI14*(1+(BJ2/100)) -> 168109.6 | BK14: 142-SG-2024
B15: 8 | C15: Detergente líquido, neutro, concentrado, libre de cloro y sin olor para laboratorio. | D15: NA | E15: NA | F15: Recipiente por 5 L | G15: Un (1) año a partir de la entrega | H15: AMBIENTE | I15: NA | K15: DETERGENTE | L15: NA | O15: =SUM(N15:N15) -> 0 | U15: =SUM(P15:T15) -> 0 | Z15: =SUM(V15:Y15) -> 0 | AD15: =SUM(AA15:AC15) -> 0 | AE15: 1 | AF15: =SUM(AE15:AE15) -> 1 | AG15: =AF15+AD15 -> 1 | AL15: =SUM(AH15:AK15) -> 0 | AM15: 6 | AN15: 12 | AO15: =SUM(AM15:AN15) -> 18 | AR15: =SUM(AP15:AQ15) -> 0 | AT15: 1 | AU15: =SUM(AS15:AT15) -> 1 | AV15: =AU15+AR15 -> 1 | AW15: 2 | AZ15: =SUM(AW15:AY15) -> 2 | BA15: 1 | BB15: =SUM(BA15:BA15) -> 1 | BC15: =BB15+AZ15 -> 3 | BD15: 15 | BE15: 15 | BF15: 24 | BG15: =SUM(BD15:BF15) -> 54 | BH15: =BG15+BC15+AV15+AO15+AL15+AG15+Z15+U15+O15 -> 77 | BI15: 183770 | BJ15: =BI15*(1+(BJ2/100)) -> 193326.04 | BK15: 142-SG-2024
B16: 9 | C16: Metanol para análisis | D16: Reactivo analítico o ACS o Análisis o Ph Eur o BP | E16: ≥ 99% | F16: Frasco por 2,5 Litros | G16: Un (1) año a partir de la entrega | H16: AMBIENTE | I16: 67-56-1 | K16: REACTIVO | L16: PUREZA | O16: =SUM(N16:N16) -> 0 | Q16: 2 | U16: =SUM(P16:T16) -> 2 | V16: 1 | Y16: 1 | Z16: =SUM(V16:Y16) -> 2 | AA16: 1 | AD16: =SUM(AA16:AC16) -> 1 | AF16: =SUM(AE16:AE16) -> 0 | AG16: =AF16+AD16 -> 1 | AL16: =SUM(AH16:AK16) -> 0 | AO16: =SUM(AM16:AN16) -> 0 | AR16: =SUM(AP16:AQ16) -> 0 | AU16: =SUM(AS16:AT16) -> 0 | AV16: =AU16+AR16 -> 0 | AX16: 1 | AY16: 2 | AZ16: =SUM(AW16:AY16) -> 3 | BB16: =SUM(BA16:BA16) -> 0 | BC16: =BB16+AZ16 -> 3 | BG16: =SUM(BD16:BF16) -> 0 | BH16: =BG16+BC16+AV16+AO16+AL16+AG16+Z16+U16+O16 -> 8 | BI16: 159800 | BJ16: =BI16*(1+(BJ2/100)) -> 168109.6 | BK16: 142-SG-2024
B17: 10 | C17: Nitrito de sodio | D17: Reactivo analítico o ACS o Análisis o Ph Eur o BP | E17: ≥ 98% | F17: Frasco por 100 gramos | G17: Un (1) año a partir de la entrega | H17: AMBIENTE | I17: 7632-00-0 | K17: REACTIVO | L17: PUREZA | O17: =SUM(N17:N17) -> 0 | U17: =SUM(P17:T17) -> 0 | V17: 1 | Z17: =SUM(V17:Y17) -> 1 | AD17: =SUM(AA17:AC17) -> 0 | AF17: =SUM(AE17:AE17) -> 0 | AG17: =AF17+AD17 -> 0 | AL17: =SUM(AH17:AK17) -> 0 | AO17: =SUM(AM17:AN17) -> 0 | AR17: =SUM(AP17:AQ17) -> 0 | AU17: =SUM(AS17:AT17) -> 0 | AV17: =AU17+AR17 -> 0 | AZ17: =SUM(AW17:AY17) -> 0 | BB17: =SUM(BA17:BA17) -> 0 | BC17: =BB17+AZ17 -> 0 | BD17: 1 | BG17: =SUM(BD17:BF17) -> 1 | BH17: =BG17+BC17+AV17+AO17+AL17+AG17+Z17+U17+O17 -> 2 | BI17: 143820 | BJ17: =BI17*(1+(BJ2/100)) -> 151298.64 | BK17: 142-SG-2024
B18: 11 | C18: Permanganato de potasio | D18: Reactivo analítico o ACS o Análisis o Ph Eur o BP | E18: ≥ 98% | F18: Frasco por 250 gramos | G18: Un (1) año a partir de la entrega | H18: AMBIENTE | I18: 7722-64-7 | K18: REACTIVO | L18: PUREZA | O18: =SUM(N18:N18) -> 0 | U18: =SUM(P18:T18) -> 0 | Z18: =SUM(V18:Y18) -> 0 | AB18: 1 | AD18: =SUM(AA18:AC18) -> 1 | AF18: =SUM(AE18:AE18) -> 0 | AG18: =AF18+AD18 -> 1 | AL18: =SUM(AH18:AK18) -> 0 | AO18: =SUM(AM18:AN18) -> 0 | AR18: =SUM(AP18:AQ18) -> 0 | AU18: =SUM(AS18:AT18) -> 0 | AV18: =AU18+AR18 -> 0 | AZ18: =SUM(AW18:AY18) -> 0 | BB18: =SUM(BA18:BA18) -> 0 | BC18: =BB18+AZ18 -> 0 | BD18: 1 | BG18: =SUM(BD18:BF18) -> 1 | BH18: =BG18+BC18+AV18+AO18+AL18+AG18+Z18+U18+O18 -> 2 | BI18: 319600 | BJ18: =BI18*(1+(BJ2/100)) -> 336219.2 | BK18: 142-SG-2024
B19: 12 | C19: Acetaldehído | D19: Reactivo analítico o ACS o Análisis o Ph Eur o BP | E19: ≥99,5 % | F19: Frasco por 1 Litro | G19: Un (1) año a partir de la entrega | H19: AMBIENTE | I19: 75-07-0 | K19: REACTIVO | L19: PUREZA | O19: =SUM(N19:N19) -> 0 | U19: =SUM(P19:T19) -> 0 | Y19: 1 | Z19: =SUM(V19:Y19) -> 1 | AD19: =SUM(AA19:AC19) -> 0 | AF19: =SUM(AE19:AE19) -> 0 | AG19: =AF19+AD19 -> 0 | AL19: =SUM(AH19:AK19) -> 0 | AO19: =SUM(AM19:AN19) -> 0 | AQ19: 1 | AR19: =SUM(AP19:AQ19) -> 1 | AU19: =SUM(AS19:AT19) -> 0 | AV19: =AU19+AR19 -> 1 | AY19: 1 | AZ19: =SUM(AW19:AY19) -> 1 | BB19: =SUM(BA19:BA19) -> 0 | BC19: =BB19+AZ19 -> 1 | BF19: 1 | BG19: =SUM(BD19:BF19) -> 1 | BH19: =BG19+BC19+AV19+AO19+AL19+AG19+Z19+U19+O19 -> 4 | BI19: 1463988 | BJ19: =BI19*(1+(BJ2/100)) -> 1540115.4 | BK19: 143-SG-2024
B20: 13 | C20: Metanol para LC-MS | D20: LC-MS | E20: ≥99,9 % | F20: Frasco por 4 Litros | G20: Un (1) año a partir de la entrega | H20: AMBIENTE | I20: 67-56-1 | K20: REACTIVO | L20: PUREZA | O20: =SUM(N20:N20) -> 0 | Q20: 9 | U20: =SUM(P20:T20) -> 9 | Y20: 7 | Z20: =SUM(V20:Y20) -> 7 | AC20: 30 | AD20: =SUM(AA20:AC20) -> 30 | AF20: =SUM(AE20:AE20) -> 0 | AG20: =AF20+AD20 -> 30 | AL20: =SUM(AH20:AK20) -> 0 | AN20: 1 | AO20: =SUM(AM20:AN20) -> 1 | AR20: =SUM(AP20:AQ20) -> 0 | AU20: =SUM(AS20:AT20) -> 0 | AV20: =AU20+AR20 -> 0 | AZ20: =SUM(AW20:AY20) -> 0 | BB20: =SUM(BA20:BA20) -> 0 | BC20: =BB20+AZ20 -> 0 | BG20: =SUM(BD20:BF20) -> 0 | BH20: =BG20+BC20+AV20+AO20+AL20+AG20+Z20+U20+O20 -> 47 | BI20: 674699.5 | BJ20: =BI20*(1+(BJ2/100)) -> 709783.87 | BK20: 143-SG-2024
B21: 14 | C21: Hexano (n-hexano) | D21: LC-MS | E21: ≥99 % | F21: Frasco por 2,5 Litros | G21: Un (1) año a partir de la entrega | H21: AMBIENTE | I21: 110-54-3 | K21: REACTIVO | L21: PUREZA | O21: =SUM(N21:N21) -> 0 | U21: =SUM(P21:T21) -> 0 | Z21: =SUM(V21:Y21) -> 0 | AC21: 1 | AD21: =SUM(AA21:AC21) -> 1 | AF21: =SUM(AE21:AE21) -> 0 | AG21: =AF21+AD21 -> 1 | AL21: =SUM(AH21:AK21) -> 0 | AO21: =SUM(AM21:AN21) -> 0 | AR21: =SUM(AP21:AQ21) -> 0 | AU21: =SUM(AS21:AT21) -> 0 | AV21: =AU21+AR21 -> 0 | AZ21: =SUM(AW21:AY21) -> 0 | BB21: =SUM(BA21:BA21) -> 0 | BC21: =BB21+AZ21 -> 0 | BG21: =SUM(BD21:BF21) -> 0 | BH21: =BG21+BC21+AV21+AO21+AL21+AG21+Z21+U21+O21 -> 1 | BI21: 1196059.5 | BJ21: =BI21*(1+(BJ2/100)) -> 1258254.6 | BK21: 143-SG-2024
B22: 15 | C22: Sulfato de amonio | D22: Reactivo analítico o ACS o Análisis o Ph Eur o BP | E22: ≥99% | F22: Frasco por 1 Kg | G22: Un (1) año a partir de la entrega | H22: AMBIENTE | I22: 7783-20-2 | K22: REACTIVO | L22: PUREZA | O22: =SUM(N22:N22) -> 0 | U22: =SUM(P22:T22) -> 0 | Z22: =SUM(V22:Y22) -> 0 | AD22: =SUM(AA22:AC22) -> 0 | AF22: =SUM(AE22:AE22) -> 0 | AG22: =AF22+AD22 -> 0 | AJ22: 1 | AL22: =SUM(AH22:AK22) -> 1 | AO22: =SUM(AM22:AN22) -> 0 | AR22: =SUM(AP22:AQ22) -> 0 | AU22: =SUM(AS22:AT22) -> 0 | AV22: =AU22+AR22 -> 0 | AZ22: =SUM(AW22:AY22) -> 0 | BB22: =SUM(BA22:BA22) -> 0 | BC22: =BB22+AZ22 -> 0 | BD22: 1 | BG22: =SUM(BD22:BF22) -> 1 | BH22: =BG22+BC22+AV22+AO22+AL22+AG22+Z22+U22+O22 -> 2 | BI22: 308617 | BJ22: =BI22*(1+(BJ2/100)) -> 324665.08 | BK22: 143-SG-2024
B23: 16 | C23: Oxido de Calcio en polvo | D23: Reactivo analítico o ACS o Análisis o Ph Eur o BP | E23: ≥95% | F23: Frasco por 1 Kg | G23: Un (1) año a partir de la entrega | H23: AMBIENTE | I23: 1305-78-8 | K23: REACTIVO | L23: PUREZA | O23: =SUM(N23:N23) -> 0 | U23: =SUM(P23:T23) -> 0 | Z23: =SUM(V23:Y23) -> 0 | AD23: =SUM(AA23:AC23) -> 0 | AF23: =SUM(AE23:AE23) -> 0 | AG23: =AF23+AD23 -> 0 | AL23: =SUM(AH23:AK23) -> 0 | AO23: =SUM(AM23:AN23) -> 0 | AR23: =SUM(AP23:AQ23) -> 0 | AU23: =SUM(AS23:AT23) -> 0 | AV23: =AU23+AR23 -> 0 | AZ23: =SUM(AW23:AY23) -> 0 | BB23: =SUM(BA23:BA23) -> 0 | BC23: =BB23+AZ23 -> 0 | BD23: 1 | BG23: =SUM(BD23:BF23) -> 1 | BH23: =BG23+BC23+AV23+AO23+AL23+AG23+Z23+U23+O23 -> 1 | BI23: 610460.5 | BJ23: =BI23*(1+(BJ2/100)) -> 642204.45 | BK23: 143-SG-2024
B24: 17 | C24: Tiocianato de Potasio | D24: Reactivo analítico o ACS o Análisis o Ph Eur o BP | E24: ≥95% | F24: Frasco por 100 gramos | G24: Un (1) año a partir de la entrega | H24: AMBIENTE | I24: 333-20-0 | K24: REACTIVO | L24: PUREZA | O24: =SUM(N24:N24) -> 0 | U24: =SUM(P24:T24) -> 0 | Z24: =SUM(V24:Y24) -> 0 | AD24: =SUM(AA24:AC24) -> 0 | AF24: =SUM(AE24:AE24) -> 0 | AG24: =AF24+AD24 -> 0 | AL24: =SUM(AH24:AK24) -> 0 | AO24: =SUM(AM24:AN24) -> 0 | AR24: =SUM(AP24:AQ24) -> 0 | AU24: =SUM(AS24:AT24) -> 0 | AV24: =AU24+AR24 -> 0 | AZ24: =SUM(AW24:AY24) -> 0 | BB24: =SUM(BA24:BA24) -> 0 | BC24: =BB24+AZ24 -> 0 | BD24: 1 | BG24: =SUM(BD24:BF24) -> 1 | BH24: =BG24+BC24+AV24+AO24+AL24+AG24+Z24+U24+O24 -> 1 | BI24: 262266.5 | BJ24: =BI24*(1+(BJ2/100)) -> 275904.36 | BK24: 143-SG-2024
B25: 18 | C25: Fenolftaleína | D25: Reactivo analítico | E25: NA | F25: Frasco por 100 gramos | G25: Un (1) año a partir de la entrega | H25: AMBIENTE | I25: 77-09-8 | K25: REACTIVO | L25: NA | O25: =SUM(N25:N25) -> 0 | U25: =SUM(P25:T25) -> 0 | Z25: =SUM(V25:Y25) -> 0 | AD25: =SUM(AA25:AC25) -> 0 | AF25: =SUM(AE25:AE25) -> 0 | AG25: =AF25+AD25 -> 0 | AL25: =SUM(AH25:AK25) -> 0 | AO25: =SUM(AM25:AN25) -> 0 | AR25: =SUM(AP25:AQ25) -> 0 | AU25: =SUM(AS25:AT25) -> 0 | AV25: =AU25+AR25 -> 0 | AX25: 1 | AZ25: =SUM(AW25:AY25) -> 1 | BB25: =SUM(BA25:BA25) -> 0 | BC25: =BB25+AZ25 -> 1 | BD25: 1 | BG25: =SUM(BD25:BF25) -> 1 | BH25: =BG25+BC25+AV25+AO25+AL25+AG25+Z25+U25+O25 -> 2 | BL25: 184000 | BM25: =BL25*1.19 -> 218960 | BN25: =BM25*BH25 -> 437920 | BO25: 220000 | BP25: =BO25*1.19 -> 261800 | BQ25: =BP25*BH25 -> 523600 | BR25: 190900 | BS25: =BR25*1.19 -> 227171 | BT25: =BS25*BH25 -> 454342 | BU25: 180000 | BV25: =BU25*1.19 -> 214200 | BW25: =BV25*BH25 -> 428400 | BX25: 220000 | BY25: =BX25*1.19 -> 261800 | BZ25: =BY25*BH25 -> 523600 | CA25: 187600 | CB25: =CA25*1.19 -> 223244 | CC25: =CB25*BH25 -> 446488 | CD25: 263000 | CE25: =CD25*1.19 -> 312970 | CF25: =CE25*BH25 -> 625940
B26: 19 | C26: Vainillina | D26: Reactivo analítico o ACS o Análisis o Ph Eur o BP | E26: ≥98% | F26: Frasco por 100 gramos | G26: Un (1) año a partir de la entrega | H26: AMBIENTE | I26: 121-33-5 | K26: REACTIVO | L26: PUREZA | O26: =SUM(N26:N26) -> 0 | U26: =SUM(P26:T26) -> 0 | Z26: =SUM(V26:Y26) -> 0 | AD26: =SUM(AA26:AC26) -> 0 | AF26: =SUM(AE26:AE26) -> 0 | AG26: =AF26+AD26 -> 0 | AL26: =SUM(AH26:AK26) -> 0 | AO26: =SUM(AM26:AN26) -> 0 | AR26: =SUM(AP26:AQ26) -> 0 | AU26: =SUM(AS26:AT26) -> 0 | AV26: =AU26+AR26 -> 0 | AZ26: =SUM(AW26:AY26) -> 0 | BB26: =SUM(BA26:BA26) -> 0 | BC26: =BB26+AZ26 -> 0 | BD26: 1 | BG26: =SUM(BD26:BF26) -> 1 | BH26: =BG26+BC26+AV26+AO26+AL26+AG26+Z26+U26+O26 -> 1 | BL26: 276000 | BM26: =BL26*1.19 -> 328440 | BN26: =BM26*BH26 -> 328440 | BO26: 360000 | BP26: =BO26*1.19 -> 428400 | BQ26: =BP26*BH26 -> 428400 | BR26: 400000 | BS26: =BR26*1.19 -> 476000 | BT26: =BS26*BH26 -> 476000 | BU26: 454100 | BV26: =BU26*1.19 -> 540379 | BW26: =BV26*BH26 -> 540379 | BX26: 460000 | BY26: =BX26*1.19 -> 547400 | BZ26: =BY26*BH26 -> 547400 | CA26: 415000 | CB26: =CA26*1.19 -> 493850 | CC26: =CB26*BH26 -> 493850 | CD26: 379000 | CE26: =CD26*1.19 -> 451010 | CF26: =CE26*BH26 -> 451010
B27: 20 | C27: Fosfato de sodio monobasico Anhidro | D27: Reactivo analítico o ACS o Análisis o Ph Eur o BP | E27: ≥98% | F27: Frasco por 500 gramos | G27: Un (1) año a partir de la entrega | H27: AMBIENTE | I27: 7558-80-7 | K27: REACTIVO | L27: NA | O27: =SUM(N27:N27) -> 0 | U27: =SUM(P27:T27) -> 0 | Z27: =SUM(V27:Y27) -> 0 | AB27: 1 | AD27: =SUM(AA27:AC27) -> 1 | AF27: =SUM(AE27:AE27) -> 0 | AG27: =AF27+AD27 -> 1 | AL27: =SUM(AH27:AK27) -> 0 | AN27: 1 | AO27: =SUM(AM27:AN27) -> 1 | AR27: =SUM(AP27:AQ27) -> 0 | AU27: =SUM(AS27:AT27) -> 0 | AV27: =AU27+AR27 -> 0 | AX27: 5 | AZ27: =SUM(AW27:AY27) -> 5 | BB27: =SUM(BA27:BA27) -> 0 | BC27: =BB27+AZ27 -> 5 | BG27: =SUM(BD27:BF27) -> 0 | BH27: =BG27+BC27+AV27+AO27+AL27+AG27+Z27+U27+O27 -> 7 | BL27: 170000 | BM27: =BL27*1.19 -> 202300 | BN27: =BM27*BH27 -> 1416100 | BO27: 420000 | BP27: =BO27*1.19 -> 499800 | BQ27: =BP27*BH27 -> 3498600 | BR27: 480000 | BS27: =BR27*1.19 -> 571200 | BT27: =BS27*BH27 -> 3998400 | BU27: 441600 | BV27: =BU27*1.19 -> 525504 | BW27: =BV27*BH27 -> 3678528 | BX27: 390000 | BY27: =BX27*1.19 -> 464100 | BZ27: =BY27*BH27 -> 3248700 | CA27: 368000 | CB27: =CA27*1.19 -> 437920 | CC27: =CB27*BH27 -> 3065440 | CD27: 1021000 | CE27: =CD27*1.19 -> 1214990 | CF27: =CE27*BH27 -> 8504930
B28: 21 | C28: Alcohol isopropílico (2-Propanol)/Isopropanol | D28: LC MS | E28: ≥99% | F28: Frasco por 4 Litros | G28: Un (1) año a partir de la entrega | H28: AMBIENTE | I28: 67-63-0 | K28: REACTIVO | L28: PUREZA | O28: =SUM(N28:N28) -> 0 | U28: =SUM(P28:T28) -> 0 | Y28: 2 | Z28: =SUM(V28:Y28) -> 2 | AD28: =SUM(AA28:AC28) -> 0 | AF28: =SUM(AE28:AE28) -> 0 | AG28: =AF28+AD28 -> 0 | AL28: =SUM(AH28:AK28) -> 0 | AO28: =SUM(AM28:AN28) -> 0 | AR28: =SUM(AP28:AQ28) -> 0 | AU28: =SUM(AS28:AT28) -> 0 | AV28: =AU28+AR28 -> 0 | AZ28: =SUM(AW28:AY28) -> 0 | BB28: =SUM(BA28:BA28) -> 0 | BC28: =BB28+AZ28 -> 0 | BG28: =SUM(BD28:BF28) -> 0 | BH28: =BG28+BC28+AV28+AO28+AL28+AG28+Z28+U28+O28 -> 2 | BM28: =BL28*1.19 -> 0 | BN28: =BM28*BH28 -> 0 | BP28: =BO28*1.19 -> 0 | BQ28: =BP28*BH28 -> 0 | BS28: =BR28*1.19 -> 0 | BT28: =BS28*BH28 -> 0 | BU28: 3600000 | BV28: =BU28*1.19 -> 4284000 | BW28: =BV28*BH28 -> 8568000 | BX28: 830000 | BY28: =BX28*1.19 -> 987700 | BZ28: =BY28*BH28 -> 1975400 | CA28: 552300 | CB28: =CA28*1.19 -> 657237 | CC28: =CB28*BH28 -> 1314474 | CD28: 774000 | CE28: =CD28*1.19 -> 921060 | CF28: =CE28*BH28 -> 1842120
B29: 22 | C29: Ácido fórmico | D29: LC MS | E29: ≥98% | F29: Frasco por 50 ml | G29: Un (1) año a partir de la entrega | H29: AMBIENTE | I29: CAS 64-18-6 | K29: REACTIVO | L29: PUREZA | O29: =SUM(N29:N29) -> 0 | Q29: 4 | U29: =SUM(P29:T29) -> 4 | Z29: =SUM(V29:Y29) -> 0 | AD29: =SUM(AA29:AC29) -> 0 | AF29: =SUM(AE29:AE29) -> 0 | AG29: =AF29+AD29 -> 0 | AL29: =SUM(AH29:AK29) -> 0 | AO29: =SUM(AM29:AN29) -> 0 | AR29: =SUM(AP29:AQ29) -> 0 | AU29: =SUM(AS29:AT29) -> 0 | AV29: =AU29+AR29 -> 0 | AZ29: =SUM(AW29:AY29) -> 0 | BB29: =SUM(BA29:BA29) -> 0 | BC29: =BB29+AZ29 -> 0 | BG29: =SUM(BD29:BF29) -> 0 | BH29: =BG29+BC29+AV29+AO29+AL29+AG29+Z29+U29+O29 -> 4 | BL29: 154000 | BM29: =BL29*1.19 -> 183260 | BN29: =BM29*BH29 -> 733040 | BP29: =BO29*1.19 -> 0 | BQ29: =BP29*BH29 -> 0 | BS29: =BR29*1.19 -> 0 | BT29: =BS29*BH29 -> 0 | BU29: 6840000 | BV29: =BU29*1.19 -> 8139600 | BW29: =BV29*BH29 -> 32558400 | BX29: 1130000 | BY29: =BX29*1.19 -> 1344700 | BZ29: =BY29*BH29 -> 5378800 | CA29: 754600 | CB29: =CA29*1.19 -> 897974 | CC29: =CB29*BH29 -> 3591896 | CD29: 1057000 | CE29: =CD29*1.19 -> 1257830 | CF29: =CE29*BH29 -> 5031320
B30: 23 | C30: Ácido acético glacial | D30: LC MS | E30: ≥99% | F30: Frasco por 50 ml | G30: Un (1) año a partir de la entrega | H30: AMBIENTE | I30: CAS 64-19-7 | K30: REACTIVO | L30: PUREZA | O30: =SUM(N30:N30) -> 0 | Q30: 2 | U30: =SUM(P30:T30) -> 2 | Z30: =SUM(V30:Y30) -> 0 | AD30: =SUM(AA30:AC30) -> 0 | AF30: =SUM(AE30:AE30) -> 0 | AG30: =AF30+AD30 -> 0 | AL30: =SUM(AH30:AK30) -> 0 | AO30: =SUM(AM30:AN30) -> 0 | AR30: =SUM(AP30:AQ30) -> 0 | AU30: =SUM(AS30:AT30) -> 0 | AV30: =AU30+AR30 -> 0 | AZ30: =SUM(AW30:AY30) -> 0 | BB30: =SUM(BA30:BA30) -> 0 | BC30: =BB30+AZ30 -> 0 | BG30: =SUM(BD30:BF30) -> 0 | BH30: =BG30+BC30+AV30+AO30+AL30+AG30+Z30+U30+O30 -> 2 | BM30: =BL30*1.19 -> 0 | BN30: =BM30*BH30 -> 0 | BP30: =BO30*1.19 -> 0 | BQ30: =BP30*BH30 -> 0 | BS30: =BR30*1.19 -> 0 | BT30: =BS30*BH30 -> 0 | BU30: 2400000 | BV30: =BU30*1.19 -> 2856000 | BW30: =BV30*BH30 -> 5712000 | BX30: 459000 | BY30: =BX30*1.19 -> 546210 | BZ30: =BY30*BH30 -> 1092420 | CA30: 305500 | CB30: =CA30*1.19 -> 363545 | CC30: =CB30*BH30 -> 727090 | CD30: 428000 | CE30: =CD30*1.19 -> 509320 | CF30: =CE30*BH30 -> 1018640
B31: 24 | C31: Alcohol etílico | D31: Reactivo analítico o ACS o Análisis o Ph Eur o BP | E31: ≥95 % | F31: Frasco por 2,5 Litros | G31: Un (1) año a partir de la entrega | H31: AMBIENTE | I31: 64-17-5 | K31: REACTIVO | L31: PUREZA | O31: =SUM(N31:N31) -> 0 | U31: =SUM(P31:T31) -> 0 | W31: 10 | Z31: =SUM(V31:Y31) -> 10 | AD31: =SUM(AA31:AC31) -> 0 | AF31: =SUM(AE31:AE31) -> 0 | AG31: =AF31+AD31 -> 0 | AH31: 2 | AJ31: 5 | AL31: =SUM(AH31:AK31) -> 7 | AM31: 2 | AO31: =SUM(AM31:AN31) -> 2 | AR31: =SUM(AP31:AQ31) -> 0 | AU31: =SUM(AS31:AT31) -> 0 | AV31: =AU31+AR31 -> 0 | AX31: 25 | AY31: 2 | AZ31: =SUM(AW31:AY31) -> 27 | BB31: =SUM(BA31:BA31) -> 0 | BC31: =BB31+AZ31 -> 27 | BD31: 20 | BE31: 10 | BG31: =SUM(BD31:BF31) -> 30 | BH31: =BG31+BC31+AV31+AO31+AL31+AG31+Z31+U31+O31 -> 76 | BL31: 166000 | BM31: =BL31*1.19 -> 197540 | BN31: =BM31*BH31 -> 15013040 | BP31: =BO31*1.19 -> 0 | BQ31: =BP31*BH31 -> 0 | BR31: 365000 | BS31: =BR31*1.19 -> 434350 | BT31: =BS31*BH31 -> 33010600 | BU31: 132000 | BV31: =BU31*1.19 -> 157080 | BW31: =BV31*BH31 -> 11938080 | BX31: 342000 | BY31: =BX31*1.19 -> 406980 | BZ31: =BY31*BH31 -> 30930480 | CA31: 253400 | CB31: =CA31*1.19 -> 301546 | CC31: =CB31*BH31 -> 22917496 | CD31: 308000 | CE31: =CD31*1.19 -> 366520 | CF31: =CE31*BH31 -> 27855520
B32: 25 | C32: Extrelut® NT, referencia 1150921000 | D32: NA | E32: NA | F32: Frasco por 1 Kg | G32: Un (1) año a partir de la entrega | H32: AMBIENTE | I32: 68855-54-9 | K32: REACTIVO | L32: NA | O32: =SUM(N32:N32) -> 0 | U32: =SUM(P32:T32) -> 0 | Z32: =SUM(V32:Y32) -> 0 | AB32: 1 | AD32: =SUM(AA32:AC32) -> 1 | AF32: =SUM(AE32:AE32) -> 0 | AG32: =AF32+AD32 -> 1 | AL32: =SUM(AH32:AK32) -> 0 | AO32: =SUM(AM32:AN32) -> 0 | AR32: =SUM(AP32:AQ32) -> 0 | AU32: =SUM(AS32:AT32) -> 0 | AV32: =AU32+AR32 -> 0 | AZ32: =SUM(AW32:AY32) -> 0 | BB32: =SUM(BA32:BA32) -> 0 | BC32: =BB32+AZ32 -> 0 | BG32: =SUM(BD32:BF32) -> 0 | BH32: =BG32+BC32+AV32+AO32+AL32+AG32+Z32+U32+O32 -> 1 | BM32: =BL32*1.19 -> 0 | BN32: =BM32*BH32 -> 0 | BP32: =BO32*1.19 -> 0 | BQ32: =BP32*BH32 -> 0 | BR32: 5318200 | BS32: =BR32*1.19 -> 6328658 | BT32: =BS32*BH32 -> 6328658 | BU32: 5148400 | BV32: =BU32*1.19 -> 6126596 | BW32: =BV32*BH32 -> 6126596 | BX32: 5295000 | BY32: =BX32*1.19 -> 6301050 | BZ32: =BY32*BH32 -> 6301050 | CA32: 3530300 | CB32: =CA32*1.19 -> 4201057 | CC32: =CB32*BH32 -> 4201057 | CD32: 4943000 | CE32: =CD32*1.19 -> 5882170 | CF32: =CE32*BH32 -> 5882170
B33: CANTIDAD TOTAL POR SERVICIO | N33: =SUM(N8:N32) -> 67 | O33: =SUM(O8:O32) -> 67 | P33: =SUM(P8:P32) -> 0 | Q33: =SUM(Q8:Q32) -> 17 | R33: =SUM(R8:R32) -> 0 | S33: =SUM(S8:S32) -> 22 | T33: =SUM(T8:T32) -> 0 | U33: =SUM(U8:U32) -> 39 | ... BH33: =SUM(BH8:BH32) -> 400
B35: LOTE 2
B38: ITEM | C38: ESPECIFICACION TECNICA | D38: GRADO | E38: PUREZA | F38: PRESENTACION O UNIDAD DE MEDIDA | G38: VIGENCIA MINIMA | H38: CONDICION DE ALMACENAMIENTO | I38: NUMERO DE CAS | J38: CLASIFICACION CODIGOS UNSPSC | K38: IDENTIFICACION ADICIONAL REQUERIDA | L38: CALIDAD MINIMA | M38: PATRONES DE DESEMPEÑO | N38: DIRECCION GENERAL | P38: REGIONAL BOGOTÁ | V38: REGIONAL NOROCCIDENTE | AA38: REGIONAL NORORIENTE | AH38: REGIONAL NORTE | AM38: REGIONAL OCCIDENTE | AP38: REGIONAL ORIENTE | AW38: REGIONAL SUR | BD38: REGIONAL SUROCCIDENTE | BH38: CANTIDAD TOTAL | BI38: HISTORICOS 2024 | BK38: CONTRATO
AA39: SECCIONAL SANTANDER | AE39: SECCIONAL NORTE DE SANTANDER | AH39: SECCIONAL ATLÁNTICO | AP39: SECCIONAL BOYACÁ | AS39: SECCIONAL META | AV39: TOTAL REGIONAL ORIENTE | AW39: SECCIONAL TOLIMA | BA39: SECCIONAL HUILA | BC39: TOTAL REGIONAL SUR | BI39: VALOR UNITARIO CONTRATO | BJ39: VALOR UNITARIO CONTRATO CON IPC
N40: GRUPO APOYO-SNVJRNR | O40: TOTAL | P40: BIOLOGIA | Q40: ESTUPEFACIENTES | R40: E. TRAZA | S40: GENETICA | T40: TOXICOLOGIA | U40: TOTAL REGIONAL BOGOTÁ | V40: BALISTICA | W40: ESTUPEFACIENTES | X40: GENETICA | Y40: TOXICOLOGIA | Z40: TOTAL REGIONAL NOROCCIDENTE | AA40: BALISTICA | AB40: ESTUPEFACIENTES | AC40: TOXICOLOGIA | AD40: TOTAL SECCIONAL SANTANDER | AE40: BIOLOGIA | AF40: TOTAL SECCIONAL NTE SANTANDER | AG40: TOTAL REGIONAL NORORIENTE | AH40: BIOLOGIA | AI40: BALISTICA | AJ40: ESTUPEFACIENTES | AK40: TOXICOLOGIA | AL40: TOTAL REGIONAL NORTE | AM40: ESTUPEFACIENTES | AN40: TOXICOLOGIA | AO40: TOTAL REGIONAL OCCIDENTE | AP40: BALISTICA | AQ40: TOXICOLOGIA | AR40: TOTAL SECCIONAL BOYACÁ | AS40: BALISTICA | AT40: GENETICA | AU40: TOTAL SECCIONAL META | AW40: BIOLOGIA | AX40: ESTUPEFACIENTES | AY40: TOXICOLOGIA | AZ40: TOTAL SECCIONAL TOLIMA | BA40: BIOLOGIA | BB40: TOTAL SECCIONAL HUILA | BD40: ESTUPEFACIENTES | BE40: GENETICA | BF40: TOXICOLOGIA | BG40: TOTAL REGIONAL SUROCCIDENTE
B41: 26 | C41: Acetona | D41: Reactivo analítico o ACS o Análisis o Ph Eur o BP | E41: ≥99,5 % | F41: Frasco por 4 Litros | G41: Un (1) año a partir de la entrega | H41: AMBIENTE | I41: 67-64-1 | J41: 12161500 12191500 12191600 12352100 12352300 | K41: REACTIVO | L41: PUREZA | M41: ANALISIS DE SUSTACIA | O41: =SUM(N41:N41) -> 0 | U41: =SUM(P41:T41) -> 0 | Z41: =SUM(V41:Y41) -> 0 | AB41: 1 | AD41: =SUM(AA41:AC41) -> 1 | AF41: =SUM(AE41:AE41) -> 0 | AG41: =AF41+AD41 -> 1 | AL41: =SUM(AH41:AK41) -> 0 | AM41: 2 | AO41: =SUM(AM41:AN41) -> 2 | AR41: =SUM(AP41:AQ41) -> 0 | AS41: 1 | AU41: =SUM(AS41:AT41) -> 1 | AV41: =AU41+AR41 -> 1 | AX41: 1 | AZ41: =SUM(AW41:AY41) -> 1 | BC41: =BB41+AZ41 -> 1 | BD41: 2 | BF41: 2 | BG41: =SUM(BD41:BF41) -> 4 | BH41: =BG41+BC41+AV41+AO41+AL41+AG41+Z41+U41+O41 -> 9 | BI41: 170140 | BJ41: =BI41*(1+(BJ2/100)) -> 178987.28 | BK41: 141-SG-2024
B42: 27 | C42: Ácido acético glacial | D42: Reactivo analítico o ACS o Análisis o Ph Eur o BP | E42: ≥99%, | F42: Frasco por 2,5 Litros | G42: Un (1) año a partir de la entrega | H42: AMBIENTE | I42: 64-19-7 | K42: REACTIVO | L42: PUREZA | O42: =SUM(N42:N42) -> 0 | U42: =SUM(P42:T42) -> 0 | Z42: =SUM(V42:Y42) -> 0 | AD42: =SUM(AA42:AC42) -> 0 | AF42: =SUM(AE42:AE42) -> 0 | AG42: =AF42+AD42 -> 0 | AL42: =SUM(AH42:AK42) -> 0 | AN42: 1 | AO42: =SUM(AM42:AN42) -> 1 | AR42: =SUM(AP42:AQ42) -> 0 | AU42: =SUM(AS42:AT42) -> 0 | AV42: =AU42+AR42 -> 0 | AY42: 1 | AZ42: =SUM(AW42:AY42) -> 1 | BC42: =BB42+AZ42 -> 1 | BG42: =SUM(BD42:BF42) -> 0 | BH42: =BG42+BC42+AV42+AO42+AL42+AG42+Z42+U42+O42 -> 2 | BI42: 128780 | BJ42: =BI42*(1+(BJ2/100)) -> 135476.56 | BK42: 141-SG-2024
B43: 28 | C43: Ácido sulfúrico | D43: Reactivo analítico o ACS o Análisis o Ph Eur o BP | E43: ≥95%, | F43: Frasco por 2,5 Litros | G43: Un (1) año a partir de la entrega | H43: AMBIENTE | I43: 7664-93-9 | K43: REACTIVO | L43: PUREZA | O43: =SUM(N43:N43) -> 0 | U43: =SUM(P43:T43) -> 0 | Z43: =SUM(V43:Y43) -> 0 | AD43: =SUM(AA43:AC43) -> 0 | AF43: =SUM(AE43:AE43) -> 0 | AG43: =AF43+AD43 -> 0 | AL43: =SUM(AH43:AK43) -> 0 | AM43: 1 | AN43: 1 | AO43: =SUM(AM43:AN43) -> 2 | AR43: =SUM(AP43:AQ43) -> 0 | AU43: =SUM(AS43:AT43) -> 0 | AV43: =AU43+AR43 -> 0 | AX43: 1 | AZ43: =SUM(AW43:AY43) -> 1 | BC43: =BB43+AZ43 -> 1 | BG43: =SUM(BD43:BF43) -> 0 | BH43: =BG43+BC43+AV43+AO43+AL43+AG43+Z43+U43+O43 -> 3 | BI43: 132540 | BJ43: =BI43*(1+(BJ2/100)) -> 139432.08 | BK43: 141-SG-2024
B44: 29 | C44: Alcohol etílico absoluto | D44: Reactivo analítico o ACS o Análisis o Ph Eur o BP | E44: ≥99 % | F44: Frasco por 2,5 Litros | G44: Un (1) año a partir de la entrega | H44: AMBIENTE | I44: 64-17-5 | K44: REACTIVO | L44: PUREZA | O44: =SUM(N44:N44) -> 0 | U44: =SUM(P44:T44) -> 0 | Z44: =SUM(V44:Y44) -> 0 | AD44: =SUM(AA44:AC44) -> 0 | AF44: =SUM(AE44:AE44) -> 0 | AG44: =AF44+AD44 -> 0 | AL44: =SUM(AH44:AK44) -> 0 | AO44: =SUM(AM44:AN44) -> 0 | AR44: =SUM(AP44:AQ44) -> 0 | AU44: =SUM(AS44:AT44) -> 0 | AV44: =AU44+AR44 -> 0 | AZ44: =SUM(AW44:AY44) -> 0 | BC44: =BB44+AZ44 -> 0 | BF44: 4 | BG44: =SUM(BD44:BF44) -> 4 | BH44: =BG44+BC44+AV44+AO44+AL44+AG44+Z44+U44+O44 -> 4 | BI44: 121260 | BJ44: =BI44*(1+(BJ2/100)) -> 127565.52 | BK44: 141-SG-2024
B45: 30 | C45: Alcohol isopropílico (2-Propanol)/Isopropanol | D45: Reactivo analítico o ACS o Análisis o Ph Eur o BP | E45: ≥99 % | F45: Frasco por 1 Litro | G45: Un (1) año a partir de la entrega | H45: AMBIENTE | I45: 67-63-0 | K45: REACTIVO | L45: PUREZA | O45: =SUM(N45:N45) -> 0 | U45: =SUM(P45:T45) -> 0 | Z45: =SUM(V45:Y45) -> 0 | AC45: 2 | AD45: =SUM(AA45:AC45) -> 2 | AF45: =SUM(AE45:AE45) -> 0 | AG45: =AF45+AD45 -> 2 | AL45: =SUM(AH45:AK45) -> 0 | AO45: =SUM(AM45:AN45) -> 0 | AR45: =SUM(AP45:AQ45) -> 0 | AU45: =SUM(AS45:AT45) -> 0 | AV45: =AU45+AR45 -> 0 | AX45: 1 | AZ45: =SUM(AW45:AY45) -> 1 | BC45: =BB45+AZ45 -> 1 | BG45: =SUM(BD45:BF45) -> 0 | BH45: =BG45+BC45+AV45+AO45+AL45+AG45+Z45+U45+O45 -> 3 | BI45: 92120 | BJ45: =BI45*(1+(BJ2/100)) -> 96910.24 | BK45: 141-SG-2024
B46: 31 | C46: Carbonato de Sodio | D46: Reactivo analítico o ACS o Análisis o Ph Eur o BP | E46: ≥98%. | F46: Frasco por 1 Kg | G46: Un (1) año a partir de la entrega | H46: AMBIENTE | I46: 497-19-8 | K46: REACTIVO | L46: PUREZA | O46: =SUM(N46:N46) -> 0 | U46: =SUM(P46:T46) -> 0 | Z46: =SUM(V46:Y46) -> 0 | AD46: =SUM(AA46:AC46) -> 0 | AF46: =SUM(AE46:AE46) -> 0 | AG46: =AF46+AD46 -> 0 | AL46: =SUM(AH46:AK46) -> 0 | AO46: =SUM(AM46:AN46) -> 0 | AR46: =SUM(AP46:AQ46) -> 0 | AU46: =SUM(AS46:AT46) -> 0 | AV46: =AU46+AR46 -> 0 | AZ46: =SUM(AW46:AY46) -> 0 | BC46: =BB46+AZ46 -> 0 | BD46: 1 | BG46: =SUM(BD46:BF46) -> 1 | BH46: =BG46+BC46+AV46+AO46+AL46+AG46+Z46+U46+O46 -> 1 | BI46: 99640 | BJ46: =BI46*(1+(BJ2/100)) -> 104821.28 | BK46: 141-SG-2024
B47: 32 | C47: Diclorometano estabilizado con 2-Metil-2-Buteno o Amileno. | D47: Reactivo analítico o ACS o Análisis o Ph Eur o BP | E47: >98% | F47: Frasco por 4 Litros | G47: Un (1) año a partir de la entrega | H47: AMBIENTE | I47: 75-09-2 | K47: REACTIVO | L47: PUREZA | O47: =SUM(N47:N47) -> 0 | T47: 7 | U47: =SUM(P47:T47) -> 7 | Z47: =SUM(V47:Y47) -> 0 | AD47: =SUM(AA47:AC47) -> 0 | AF47: =SUM(AE47:AE47) -> 0 | AG47: =AF47+AD47 -> 0 | AL47: =SUM(AH47:AK47) -> 0 | AN47: 4 | AO47: =SUM(AM47:AN47) -> 4 | AR47: =SUM(AP47:AQ47) -> 0 | AU47: =SUM(AS47:AT47) -> 0 | AV47: =AU47+AR47 -> 0 | AY47: 6 | AZ47: =SUM(AW47:AY47) -> 6 | BC47: =BB47+AZ47 -> 6 | BF47: 7 | BG47: =SUM(BD47:BF47) -> 7 | BH47: =BG47+BC47+AV47+AO47+AL47+AG47+Z47+U47+O47 -> 24 | BI47: 325240 | BJ47: =BI47*(1+(BJ2/100)) -> 342152.48 | BK47: 141-SG-2024
B48: 33 | C48: Hidróxido de amonio solución ≥28 % p/p (amoniaco) | D48: Reactivo analítico o ACS o Análisis o Ph Eur o BP | E48: NA | F48: Frasco por 1 Litro | G48: Un (1) año a partir de la entrega | H48: AMBIENTE | I48: 1336-21-6 | K48: REACTIVO | L48: NA | O48: =SUM(N48:N48) -> 0 | U48: =SUM(P48:T48) -> 0 | W48: 1 | Y48: 1 | Z48: =SUM(V48:Y48) -> 2 | AD48: =SUM(AA48:AC48) -> 0 | AF48: =SUM(AE48:AE48) -> 0 | AG48: =AF48+AD48 -> 0 | AL48: =SUM(AH48:AK48) -> 0 | AM48: 2 | AN48: 1 | AO48: =SUM(AM48:AN48) -> 3 | AP48: 1 | AR48: =SUM(AP48:AQ48) -> 1 | AU48: =SUM(AS48:AT48) -> 0 | AV48: =AU48+AR48 -> 1 | AX48: 1 | AY48: 1 | AZ48: =SUM(AW48:AY48) -> 2 | BC48: =BB48+AZ48 -> 2 | BD48: 1 | BG48: =SUM(BD48:BF48) -> 1 | BH48: =BG48+BC48+AV48+AO48+AL48+AG48+Z48+U48+O48 -> 9 | BI48: 95880 | BJ48: =BI48*(1+(BJ2/100)) -> 100865.76 | BK48: 141-SG-2024
B49: 34 | C49: Metiletilcetona | D49: Reactivo analítico o ACS o Análisis o Ph Eur o BP | E49: ≥99%. | F49: Frasco por 1 Litro | G49: Un (1) año a partir de la entrega | H49: AMBIENTE | I49: 78-93-3 | K49: REACTIVO | L49: PUREZA | O49: =SUM(N49:N49) -> 0 | U49: =SUM(P49:T49) -> 0 | Z49: =SUM(V49:Y49) -> 0 | AD49: =SUM(AA49:AC49) -> 0 | AF49: =SUM(AE49:AE49) -> 0 | AG49: =AF49+AD49 -> 0 | AK49: 1 | AL49: =SUM(AH49:AK49) -> 1 | AO49: =SUM(AM49:AN49) -> 0 | AR49: =SUM(AP49:AQ49) -> 0 | AU49: =SUM(AS49:AT49) -> 0 | AV49: =AU49+AR49 -> 0 | AZ49: =SUM(AW49:AY49) -> 0 | BC49: =BB49+AZ49 -> 0 | BD49: 1 | BG49: =SUM(BD49:BF49) -> 1 | BH49: =BG49+BC49+AV49+AO49+AL49+AG49+Z49+U49+O49 -> 2 | BI49: 220900 | BJ49: =BI49*(1+(BJ2/100)) -> 232386.8 | BK49: 141-SG-2024
B50: 35 | C50: Tris Base, tris (Hydroxymethyl) aminomethane | D50: Biología Molecular | E50: NA | F50: Frasco por 500 gramos | G50: Un (1) año a partir de la entrega | H50: AMBIENTE | I50: 77-86-1 | K50: REACTIVO | L50: NA | O50: =SUM(N50:N50) -> 0 | S50: 1 | U50: =SUM(P50:T50) -> 1 | X50: 1 | Z50: =SUM(V50:Y50) -> 1 | AD50: =SUM(AA50:AC50) -> 0 | AF50: =SUM(AE50:AE50) -> 0 | AG50: =AF50+AD50 -> 0 | AL50: =SUM(AH50:AK50) -> 0 | AO50: =SUM(AM50:AN50) -> 0 | AR50: =SUM(AP50:AQ50) -> 0 | AU50: =SUM(AS50:AT50) -> 0 | AV50: =AU50+AR50 -> 0 | AZ50: =SUM(AW50:AY50) -> 0 | BC50: =BB50+AZ50 -> 0 | BG50: =SUM(BD50:BF50) -> 0 | BH50: =BG50+BC50+AV50+AO50+AL50+AG50+Z50+U50+O50 -> 2 | BI50: 429580 | BJ50: =BI50*(1+(BJ2/100)) -> 451918.16 | BK50: 141-SG-2024
B51: 36 | C51: Acetonitrilo | D51: Reactivo analítico o ACS o Análisis o Ph Eur o BP | E51: ≥99,5% | F51: Frasco por 4 Litros | G51: Un (1) año a partir de la entrega | H51: AMBIENTE | I51: 75-05-8 | K51: REACTIVO | L51: PUREZA | O51: =SUM(N51:N51) -> 0 | U51: =SUM(P51:T51) -> 0 | Y51: 1 | Z51: =SUM(V51:Y51) -> 1 | AD51: =SUM(AA51:AC51) -> 0 | AF51: =SUM(AE51:AE51) -> 0 | AG51: =AF51+AD51 -> 0 | AL51: =SUM(AH51:AK51) -> 0 | AO51: =SUM(AM51:AN51) -> 0 | AR51: =SUM(AP51:AQ51) -> 0 | AU51: =SUM(AS51:AT51) -> 0 | AV51: =AU51+AR51 -> 0 | AZ51: =SUM(AW51:AY51) -> 0 | BC51: =BB51+AZ51 -> 0 | BG51: =SUM(BD51:BF51) -> 0 | BH51: =BG51+BC51+AV51+AO51+AL51+AG51+Z51+U51+O51 -> 1 | BI51: 339150 | BJ51: =BI51*(1+(BJ2/100)) -> 356785.8 | BK51: 140-SG-2024
B52: 37 | C52: Alcohol etílico absoluto libre de DNasas y RNasas. | D52: Reactivo analítico o ACS o Análisis o Ph Eur o BP | E52: ≥99,9 % | F52: Frasco por 1 Litro | G52: Un (1) año a partir de la entrega | H52: AMBIENTE | I52: 64-17-5 | K52: REACTIVO | L52: PUREZA | O52: =SUM(N52:N52) -> 0 | U52: =SUM(P52:T52) -> 0 | X52: 2 | Z52: =SUM(V52:Y52) -> 2 | AD52: =SUM(AA52:AC52) -> 0 | AF52: =SUM(AE52:AE52) -> 0 | AG52: =AF52+AD52 -> 0 | AL52: =SUM(AH52:AK52) -> 0 | AO52: =SUM(AM52:AN52) -> 0 | AR52: =SUM(AP52:AQ52) -> 0 | AT52: 2 | AU52: =SUM(AS52:AT52) -> 2 | AV52: =AU52+AR52 -> 2 | AZ52: =SUM(AW52:AY52) -> 0 | BC52: =BB52+AZ52 -> 0 | BE52: 3 | BG52: =SUM(BD52:BF52) -> 3 | BH52: =BG52+BC52+AV52+AO52+AL52+AG52+Z52+U52+O52 -> 7 | BI52: 241300 | BJ52: =BI52*(1+(BJ2/100)) -> 253847.6 | BK52: 140-SG-2024
B53: 38 | C53: Difenilamina Grado reactivo | D53: Reactivo analítico o ACS o Análisis o Ph Eur o BP | E53: ≥99% | F53: Frasco por 100 gramos | G53: Un (1) año a partir de la entrega | H53: AMBIENTE | I53: 122-39-4 | K53: REACTIVO | L53: PUREZA | O53: =SUM(N53:N53) -> 0 | U53: =SUM(P53:T53) -> 0 | V53: 1 | Z53: =SUM(V53:Y53) -> 1 | AA53: 1 | AD53: =SUM(AA53:AC53) -> 1 | AF53: =SUM(AE53:AE53) -> 0 | AG53: =AF53+AD53 -> 1 | AL53: =SUM(AH53:AK53) -> 0 | AO53: =SUM(AM53:AN53) -> 0 | AR53: =SUM(AP53:AQ53) -> 0 | AU53: =SUM(AS53:AT53) -> 0 | AV53: =AU53+AR53 -> 0 | AZ53: =SUM(AW53:AY53) -> 0 | BC53: =BB53+AZ53 -> 0 | BG53: =SUM(BD53:BF53) -> 0 | BH53: =BG53+BC53+AV53+AO53+AL53+AG53+Z53+U53+O53 -> 2 | BI53: 257450 | BJ53: =BI53*(1+(BJ2/100)) -> 270837.4 | BK53: 140-SG-2024
B54: 39 | C54: Formaldehído estabilizado con metanol | D54: Reactivo analítico o ACS o Análisis o Ph Eur o BP | E54: ≥37% . | F54: Frasco por 1 Litro | G54: 9 meses a partir de la entrega | H54: AMBIENTE | I54: 50-00-0 | K54: REACTIVO | L54: PUREZA | O54: =SUM(N54:N54) -> 0 | U54: =SUM(P54:T54) -> 0 | Z54: =SUM(V54:Y54) -> 0 | AD54: =SUM(AA54:AC54) -> 0 | AF54: =SUM(AE54:AE54) -> 0 | AG54: =AF54+AD54 -> 0 | AL54: =SUM(AH54:AK54) -> 0 | AM54: 1 | AO54: =SUM(AM54:AN54) -> 1 | AR54: =SUM(AP54:AQ54) -> 0 | AU54: =SUM(AS54:AT54) -> 0 | AV54: =AU54+AR54 -> 0 | AZ54: =SUM(AW54:AY54) -> 0 | BC54: =BB54+AZ54 -> 0 | BD54: 1 | BG54: =SUM(BD54:BF54) -> 1 | BH54: =BG54+BC54+AV54+AO54+AL54+AG54+Z54+U54+O54 -> 2 | BI54: 172900 | BJ54: =BI54*(1+(BJ2/100)) -> 181890.8 | BK54: 140-SG-2024
B55: 40 | C55: Glicerina o Glicerol | D55: Grado ACS o USP, | E55: ≥87%. | F55: Frasco por 1 Litro | G55: Un (1) año a partir de la entrega | H55: AMBIENTE | I55: 56-81-5 | K55: REACTIVO | L55: PUREZA | O55: =SUM(N55:N55) -> 0 | U55: =SUM(P55:T55) -> 0 | Z55: =SUM(V55:Y55) -> 0 | AD55: =SUM(AA55:AC55) -> 0 | AF55: =SUM(AE55:AE55) -> 0 | AG55: =AF55+AD55 -> 0 | AL55: =SUM(AH55:AK55) -> 0 | AM55: 1 | AO55: =SUM(AM55:AN55) -> 1 | AR55: =SUM(AP55:AQ55) -> 0 | AU55: =SUM(AS55:AT55) -> 0 | AV55: =AU55+AR55 -> 0 | AZ55: =SUM(AW55:AY55) -> 0 | BC55: =BB55+AZ55 -> 0 | BG55: =SUM(BD55:BF55) -> 0 | BH55: =BG55+BC55+AV55+AO55+AL55+AG55+Z55+U55+O55 -> 1 | BI55: 278350 | BJ55: =BI55*(1+(BJ2/100)) -> 292824.2 | BK55: 140-SG-2024
B56: 41 | C56: Hexano (n-hexano) | D56: Reactivo analítico o ACS o Análisis o Ph Eur o BP | E56: >95% | F56: Frasco por 4 Litros | G56: Un (1) año a partir de la entrega | H56: AMBIENTE | I56: 110-54-3 | K56: REACTIVO | L56: PUREZA | O56: =SUM(N56:N56) -> 0 | U56: =SUM(P56:T56) -> 0 | Z56: =SUM(V56:Y56) -> 0 | AD56: =SUM(AA56:AC56) -> 0 | AF56: =SUM(AE56:AE56) -> 0 | AG56: =AF56+AD56 -> 0 | AL56: =SUM(AH56:AK56) -> 0 | AO56: =SUM(AM56:AN56) -> 0 | AR56: =SUM(AP56:AQ56) -> 0 | AU56: =SUM(AS56:AT56) -> 0 | AV56: =AU56+AR56 -> 0 | AZ56: =SUM(AW56:AY56) -> 0 | BC56: =BB56+AZ56 -> 0 | BD56: 2 | BF56: 6 | BG56: =SUM(BD56:BF56) -> 8 | BH56: =BG56+BC56+AV56+AO56+AL56+AG56+Z56+U56+O56 -> 8 | BI56: 359100 | BJ56: =BI56*(1+(BJ2/100)) -> 377773.2 | BK56: 140-SG-2024
B57: CANTIDAD TOTAL POR SERVICIO | N57: =SUM(N41:N56) -> 0 | O57: =SUM(O41:O56) -> 0 | P57: =SUM(P41:P56) -> 0 | Q57: =SUM(Q41:Q56) -> 0 | R57: =SUM(R41:R56) -> 0 | S57: =SUM(S41:S56) -> 1 | T57: =SUM(T41:T56) -> 7 | U57: =SUM(U41:U56) -> 8 | ... BH57: =SUM(BH41:BH56) -> 80
B59: LOTE 3
B62: ITEM | C62: ESPECIFICACION TECNICA | D62: GRADO | E62: PUREZA | F62: PRESENTACION O UNIDAD DE MEDIDA | G62: VIGENCIA MINIMA | H62: CONDICION DE ALMACENAMIENTO | I62: NUMERO DE CAS | J62: CLASIFICACION CODIGOS UNSPSC | K62: IDENTIFICACION ADICIONAL REQUERIDA | L62: CALIDAD MINIMA | M62: PATRONES DE DESEMPEÑO | N62: DIRECCION GENERAL | P62: REGIONAL BOGOTÁ | V62: REGIONAL NOROCCIDENTE | AA62: REGIONAL NORORIENTE | AH62: REGIONAL NORTE | AM62: REGIONAL OCCIDENTE | AP62: REGIONAL ORIENTE | AW62: REGIONAL SUR | BD62: REGIONAL SUROCCIDENTE | BH62: CANTIDAD ESTIMADA | BI62: HISTORICOS 2024 | BK62: CONTRATO | BL62: ANNAR | BO62: AS ANALYTICAL | BR62: CIEDUTEC | BU62: SCIENTIFIC | BX62: NORQUIMICOS | CA62: PROFINAS | CD62: QUIMITRONICA
AA63: SECCIONAL SANTANDER | AE63: SECCIONAL NORTE DE SANTANDER | AH63: SECCIONAL ATLÁNTICO | AP63: SECCIONAL BOYACÁ | AS63: SECCIONAL META | AV63: TOTAL REGIONAL ORIENTE | AW63: SECCIONAL TOLIMA | BA63: SECCIONAL HUILA | BC63: TOTAL REGIONAL SUR | BI63: VALOR UNITARIO CONTRATO | BJ63: VALOR UNITARIO CONTRATO CON IPC | BL63: VALOR UNITARIO | BM63: VALOR UNITRIO CON IVA | BN63: VALOR TOTALPOR ITEM | BO63: VALOR UNITARIO | BP63: VALOR UNITRIO CON IVA | BQ63: VALOR TOTALPOR ITEM | BR63: VALOR UNITARIO | BS63: VALOR UNITRIO CON IVA | BT63: VALOR TOTALPOR ITEM | BU63: VALOR UNITARIO | BV63: VALOR UNITRIO CON IVA | BW63: VALOR TOTALPOR ITEM | BX63: VALOR UNITARIO | BY63: VALOR UNITRIO CON IVA | BZ63: VALOR TOTALPOR ITEM | CA63: VALOR UNITARIO | CB63: VALOR UNITRIO CON IVA | CC63: VALOR TOTALPOR ITEM | CD63: VALOR UNITARIO | CE63: VALOR UNITRIO CON IVA | CF63: VALOR TOTALPOR ITEM
N64: GRUPO APOYO-SNVJRNR | O64: TOTAL | P64: BIOLOGIA | Q64: ESTUPEFACIENTES | R64: E. TRAZA | S64: GENETICA | T64: TOXICOLOGIA | U64: TOTAL REGIONAL BOGOTÁ | V64: BALISTICA | W64: ESTUPEFACIENTES | X64: GENETICA | Y64: TOXICOLOGIA | Z64: TOTAL REGIONAL NOROCCIDENTE | AA64: BALISTICA | AB64: ESTUPEFACIENTES | AC64: TOXICOLOGIA | AD64: TOTAL SECCIONAL SANTANDER | AE64: BIOLOGIA | AF64: TOTAL SECCIONAL NTE SANTANDER | AG64: TOTAL REGIONAL NORORIENTE | AH64: BIOLOGIA | AI64: BALISTICA | AJ64: ESTUPEFACIENTES | AK64: TOXICOLOGIA | AL64: TOTAL REGIONAL NORTE | AM64: ESTUPEFACIENTES | AN64: TOXICOLOGIA | AO64: TOTAL REGIONAL OCCIDENTE | AP64: BALISTICA | AQ64: TOXICOLOGIA | AR64: TOTAL SECCIONAL BOYACÁ | AS64: BALISTICA | AT64: GENETICA | AU64: TOTAL SECCIONAL META | AW64: BIOLOGIA | AX64: ESTUPEFACIENTES | AY64: TOXICOLOGIA | AZ64: TOTAL SECCIONAL TOLIMA | BA64: BIOLOGIA | BB64: TOTAL SECCIONAL HUILA | BD64: ESTUPEFACIENTES | BE64: GENETICA | BF64: TOXICOLOGIA | BG64: TOTAL REGIONAL SUROCCIDENTE
B65: 42 | C65: Ácido tricloroacético | D65: Reactivo analítico o ACS o Análisis o Ph Eur o BP | E65: ≥99%. | F65: Frasco por 100 gramos | G65: Un (1) año a partir de la entrega | H65: AMBIENTE | I65: 76-03-9 | J65: 12161500 12191500 12191600 12352100 12352300 | K65: REACTIVO | L65: PUREZA | M65: ANALISIS DE SUSTACIA | O65: =SUM(N65:N65) -> 0 | U65: =SUM(P65:T65) -> 0 | Z65: =SUM(V65:Y65) -> 0 | AD65: =SUM(AA65:AC65) -> 0 | AF65: =SUM(AE65:AE65) -> 0 | AG65: =AF65+AD65 -> 0 | AL65: =SUM(AH65:AK65) -> 0 | AO65: =SUM(AM65:AN65) -> 0 | AR65: =SUM(AP65:AQ65) -> 0 | AU65: =SUM(AS65:AT65) -> 0 | AV65: =AU65+AR65 -> 0 | AY65: 1 | AZ65: =SUM(AW65:AY65) -> 1 | BB65: =SUM(BA65:BA65) -> 0 | BC65: =BB65+AZ65 -> 1 | BG65: =SUM(BD65:BF65) -> 0 | BH65: =BG65+BC65+AV65+AO65+AL65+AG65+Z65+U65+O65 -> 1 | BI65: 275303.11 | BJ65: =BI65*(1+(BJ2/100)) -> 289618.87 | BK65: 143-SG-2024
B66: 43 | C66: Acetato de n-propilo | D66: Reactivo analítico o ACS o Análisis o Ph Eur o BP | E66: ≥ 98% | F66: Frasco por 1 Litro | G66: Un (1) año a partir de la entrega | H66: AMBIENTE | I66: 109-60-4 | K66: REACTIVO | L66: PUREZA | O66: =SUM(N66:N66) -> 0 | Q66: 1 | U66: =SUM(P66:T66) -> 1 | Z66: =SUM(V66:Y66) -> 0 | AD66: =SUM(AA66:AC66) -> 0 | AF66: =SUM(AE66:AE66) -> 0 | AG66: =AF66+AD66 -> 0 | AL66: =SUM(AH66:AK66) -> 0 | AO66: =SUM(AM66:AN66) -> 0 | AR66: =SUM(AP66:AQ66) -> 0 | AU66: =SUM(AS66:AT66) -> 0 | AV66: =AU66+AR66 -> 0 | AZ66: =SUM(AW66:AY66) -> 0 | BB66: =SUM(BA66:BA66) -> 0 | BC66: =BB66+AZ66 -> 0 | BG66: =SUM(BD66:BF66) -> 0 | BH66: =BG66+BC66+AV66+AO66+AL66+AG66+Z66+U66+O66 -> 1 | BI66: 236545.03 | BJ66: =BI66*(1+(BJ2/100)) -> 248845.37 | BK66: 144-SG-2024
B67: 44 | C67: Ácido rodizónico, sal disódica | D67: Reactivo analítico o ACS o Análisis o Ph Eur o BP | E67: ≥ 96% | F67: Frasco por 5 gramos | G67: Un (1) año a partir de la entrega | H67: AMBIENTE | I67: 523-21-7 | K67: REACTIVO | L67: PUREZA | O67: =SUM(N67:N67) -> 0 | U67: =SUM(P67:T67) -> 0 | Z67: =SUM(V67:Y67) -> 0 | AD67: =SUM(AA67:AC67) -> 0 | AF67: =SUM(AE67:AE67) -> 0 | AG67: =AF67+AD67 -> 0 | AI67: 1 | AL67: =SUM(AH67:AK67) -> 1 | AO67: =SUM(AM67:AN67) -> 0 | AR67: =SUM(AP67:AQ67) -> 0 | AU67: =SUM(AS67:AT67) -> 0 | AV67: =AU67+AR67 -> 0 | AZ67: =SUM(AW67:AY67) -> 0 | BB67: =SUM(BA67:BA67) -> 0 | BC67: =BB67+AZ67 -> 0 | BG67: =SUM(BD67:BF67) -> 0 | BH67: =BG67+BC67+AV67+AO67+AL67+AG67+Z67+U67+O67 -> 1 | BI67: 234697.03 | BJ67: =BI67*(1+(BJ2/100)) -> 246901.28 | BK67: 144-SG-2024
B68: 45 | C68: Beta-glucuronidasa proveniente de Helix Pomatia o Haliotis Rufenscens, solución acuosa, actividad ≥ 100,000 unidades/mL. | D68: NA | E68: NA | F68: Frasco por 25 mL | G68: Un (1) año a partir de la entrega | H68: AMBIENTE | I68: 9001-45-0 | K68: REACTIVO | L68: NA | O68: =SUM(N68:N68) -> 0 | T68: 15 | U68: =SUM(P68:T68) -> 15 | Z68: =SUM(V68:Y68) -> 0 | AD68: =SUM(AA68:AC68) -> 0 | AF68: =SUM(AE68:AE68) -> 0 | AG68: =AF68+AD68 -> 0 | AK68: 10 | AL68: =SUM(AH68:AK68) -> 10 | AN68: 2 | AO68: =SUM(AM68:AN68) -> 2 | AR68: =SUM(AP68:AQ68) -> 0 | AU68: =SUM(AS68:AT68) -> 0 | AV68: =AU68+AR68 -> 0 | AY68: 6 | AZ68: =SUM(AW68:AY68) -> 6 | BB68: =SUM(BA68:BA68) -> 0 | BC68: =BB68+AZ68 -> 6 | BF68: 15 | BG68: =SUM(BD68:BF68) -> 15 | BH68: =BG68+BC68+AV68+AO68+AL68+AG68+Z68+U68+O68 -> 48 | BI68: 2063609.1 | BJ68: =BI68*(1+(BJ2/100)) -> 2170916.8 | BK68: 144-SG-2024
B69: 46 | C69: BSTFA + TMCS (99:1). | D69: NA | E69: NA | F69: Paquete * 10 ampollas de 1 mL (no vial con tapa y septum) | G69: Un (1) año a partir de la entrega | H69: AMBIENTE | I69: NA | K69: REACTIVO | L69: NA | O69: =SUM(N69:N69) -> 0 | T69: 25 | U69: =SUM(P69:T69) -> 25 | Y69: 10 | Z69: =SUM(V69:Y69) -> 10 | AD69: =SUM(AA69:AC69) -> 0 | AF69: =SUM(AE69:AE69) -> 0 | AG69: =AF69+AD69 -> 0 | AK69: 1 | AL69: =SUM(AH69:AK69) -> 1 | AN69: 15 | AO69: =SUM(AM69:AN69) -> 15 | AR69: =SUM(AP69:AQ69) -> 0 | AU69: =SUM(AS69:AT69) -> 0 | AV69: =AU69+AR69 -> 0 | AY69: 30 | AZ69: =SUM(AW69:AY69) -> 30 | BB69: =SUM(BA69:BA69) -> 0 | BC69: =BB69+AZ69 -> 30 | BF69: 70 | BG69: =SUM(BD69:BF69) -> 70 | BH69: =BG69+BC69+AV69+AO69+AL69+AG69+Z69+U69+O69 -> 151 | BI69: 354817.56 | BJ69: =BI69*(1+(BJ2/100)) -> 373268.07 | BK69: 144-SG-2024
B70: 47 | C70: Alfa naftol (1-Naftol) | D70: Reactivo analítico o ACS o Análisis o Ph Eur o BP | E70: ≥99% | F70: Frasco por 50 gramos | G70: Un (1) año a partir de la entrega | H70: AMBIENTE | I70: 90-15-3 | K70: REACTIVO | L70: PUREZA | O70: =SUM(N70:N70) -> 0 | U70: =SUM(P70:T70) -> 0 | V70: 1 | Z70: =SUM(V70:Y70) -> 1 | AA70: 1 | AD70: =SUM(AA70:AC70) -> 1 | AF70: =SUM(AE70:AE70) -> 0 | AG70: =AF70+AD70 -> 1 | AL70: =SUM(AH70:AK70) -> 0 | AO70: =SUM(AM70:AN70) -> 0 | AR70: =SUM(AP70:AQ70) -> 0 | AS70: 1 | AU70: =SUM(AS70:AT70) -> 1 | AV70: =AU70+AR70 -> 1 | AZ70: =SUM(AW70:AY70) -> 0 | BB70: =SUM(BA70:BA70) -> 0 | BC70: =BB70+AZ70 -> 0 | BG70: =SUM(BD70:BF70) -> 0 | BH70: =BG70+BC70+AV70+AO70+AL70+AG70+Z70+U70+O70 -> 3 | BM70: =BL70*1.19 -> 0 | BN70: =BM70*BH70 -> 0 | BP70: =BO70*1.19 -> 0 | BQ70: =BP70*BH70 -> 0 | BS70: =BR70*1.19 -> 0 | BT70: =BS70*BH70 -> 0 | BV70: =BU70*1.19 -> 0 | BW70: =BV70*BH70 -> 0 | BY70: =BX70*1.19 -> 0 | BZ70: =ROUND(BY70*BH70,0) -> 0 | CA70: 386000 | CB70: =CA70*1.19 -> 459340 | CC70: =CB70*BH70 -> 1378020 | CD70: 540000 | CE70: =CD70*1.19 -> 642600 | CF70: =CE70*BH70 -> 1927800
B71: 48 | C71: Dicromato de potasio | D71: Reactivo analítico o ACS o Análisis o Ph Eur o BP | E71: ≥98% | F71: Frasco por 100 gramos | G71: Un (1) año a partir de la entrega | H71: AMBIENTE | I71: 7778-50-9 | K71: REACTIVO | L71: PUREZA | O71: =SUM(N71:N71) -> 0 | U71: =SUM(P71:T71) -> 0 | Z71: =SUM(V71:Y71) -> 0 | AD71: =SUM(AA71:AC71) -> 0 | AF71: =SUM(AE71:AE71) -> 0 | AG71: =AF71+AD71 -> 0 | AL71: =SUM(AH71:AK71) -> 0 | AO71: =SUM(AM71:AN71) -> 0 | AR71: =SUM(AP71:AQ71) -> 0 | AU71: =SUM(AS71:AT71) -> 0 | AV71: =AU71+AR71 -> 0 | AZ71: =SUM(AW71:AY71) -> 0 | BB71: =SUM(BA71:BA71) -> 0 | BC71: =BB71+AZ71 -> 0 | BD71: 1 | BG71: =SUM(BD71:BF71) -> 1 | BH71: =BG71+BC71+AV71+AO71+AL71+AG71+Z71+U71+O71 -> 1 | BM71: =BL71*1.19 -> 0 | BN71: =BM71*BH71 -> 0 | BO71: 3300000 | BP71: =BO71*1.19 -> 3927000 | BQ71: =BP71*BH71 -> 3927000 | BS71: =BR71*1.19 -> 0 | BT71: =BS71*BH71 -> 0 | BV71: =BU71*1.19 -> 0 | BW71: =BV71*BH71 -> 0 | BY71: =BX71*1.19 -> 0 | BZ71: =BY71*BH71 -> 0 | CB71: =CA71*1.19 -> 0 | CC71: =CB71*BH71 -> 0 | CD71: 668000 | CE71: =CD71*1.19 -> 794920 | CF71: =CE71*BH71 -> 794920
B72: 49 | C72: Nitrato de Bismuto (III) | D72: Reactivo analítico o ACS o Análisis o Ph Eur o BP | E72: ≥71% | F72: Frasco por 100 gramos | G72: Un (1) año a partir de la entrega | H72: AMBIENTE | I72: 1304-85-4 | K72: REACTIVO | L72: PUREZA | O72: =SUM(N72:N72) -> 0 | U72: =SUM(P72:T72) -> 0 | Z72: =SUM(V72:Y72) -> 0 | AD72: =SUM(AA72:AC72) -> 0 | AF72: =SUM(AE72:AE72) -> 0 | AG72: =AF72+AD72 -> 0 | AL72: =SUM(AH72:AK72) -> 0 | AO72: =SUM(AM72:AN72) -> 0 | AR72: =SUM(AP72:AQ72) -> 0 | AU72: =SUM(AS72:AT72) -> 0 | AV72: =AU72+AR72 -> 0 | AX72: 1 | AZ72: =SUM(AW72:AY72) -> 1 | BB72: =SUM(BA72:BA72) -> 0 | BC72: =BB72+AZ72 -> 1 | BD72: 1 | BG72: =SUM(BD72:BF72) -> 1 | BH72: =BG72+BC72+AV72+AO72+AL72+AG72+Z72+U72+O72 -> 2 | BM72: =BL72*1.19 -> 0 | BN72: =BM72*BH72 -> 0 | BO72: 1400000 | BP72: =BO72*1.19 -> 1666000 | BQ72: =BP72*BH72 -> 3332000 | BR72: 845000 | BS72: =BR72*1.19 -> 1005550 | BT72: =BS72*BH72 -> 2011100 | BV72: =BU72*1.19 -> 0 | BW72: =BV72*BH72 -> 0 | BX72: 770000 | BY72: =BX72*1.19 -> 916300 | BZ72: =BY72*BH72 -> 1832600 | CA72: 510300 | CB72: =CA72*1.19 -> 607257 | CC72: =CB72*BH72 -> 1214514 | CD72: 715000 | CE72: =CD72*1.19 -> 850850 | CF72: =CE72*BH72 -> 1701700
B73: 50 | C73: Hidróxido de potasio | D73: Reactivo analítico o ACS o Análisis o Ph Eur o BP | E73: ≥85% | F73: Frasco por 500 gramos | G73: Un (1) año a partir de la entrega | H73: AMBIENTE | I73: 1310-58-3 | K73: REACTIVO | L73: PUREZA | O73: =SUM(N73:N73) -> 0 | U73: =SUM(P73:T73) -> 0 | Z73: =SUM(V73:Y73) -> 0 | AD73: =SUM(AA73:AC73) -> 0 | AF73: =SUM(AE73:AE73) -> 0 | AG73: =AF73+AD73 -> 0 | AL73: =SUM(AH73:AK73) -> 0 | AN73: 2 | AO73: =SUM(AM73:AN73) -> 2 | AR73: =SUM(AP73:AQ73) -> 0 | AU73: =SUM(AS73:AT73) -> 0 | AV73: =AU73+AR73 -> 0 | AY73: 1 | AZ73: =SUM(AW73:AY73) -> 1 | BB73: =SUM(BA73:BA73) -> 0 | BC73: =BB73+AZ73 -> 1 | BF73: 2 | BG73: =SUM(BD73:BF73) -> 2 | BH73: =BG73+BC73+AV73+AO73+AL73+AG73+Z73+U73+O73 -> 5 | BM73: =BL73*1.19 -> 0 | BN73: =BM73*BH73 -> 0 | BO73: 1100000 | BP73: =BO73*1.19 -> 1309000 | BQ73: =BP73*BH73 -> 6545000 | BR73: 142000 | BS73: =BR73*1.19 -> 168980 | BT73: =BS73*BH73 -> 844900 | BV73: =BU73*1.19 -> 0 | BW73: =BV73*BH73 -> 0 | BY73: =BX73*1.19 -> 0 | BZ73: =BY73*BH73 -> 0 | CA73: 107100 | CB73: =CA73*1.19 -> 127449 | CC73: =CB73*BH73 -> 637245 | CD73: 150000 | CE73: =CD73*1.19 -> 178500 | CF73: =CE73*BH73 -> 892500
B74: 51 | C74: Ácido nítrico | D74: Reactivo analítico o ACS o Análisis o Ph Eur o BP | E74: ≥65% | F74: Frasco por 2,5 Litros | G74: Un (1) año a partir de la entrega | H74: AMBIENTE | I74: 7697-37-2 | K74: REACTIVO | L74: PUREZA | O74: =SUM(N74:N74) -> 0 | U74: =SUM(P74:T74) -> 0 | Z74: =SUM(V74:Y74) -> 0 | AA74: 1 | AD74: =SUM(AA74:AC74) -> 1 | AF74: =SUM(AE74:AE74) -> 0 | AG74: =AF74+AD74 -> 1 | AL74: =SUM(AH74:AK74) -> 0 | AO74: =SUM(AM74:AN74) -> 0 | AR74: =SUM(AP74:AQ74) -> 0 | AU74: =SUM(AS74:AT74) -> 0 | AV74: =AU74+AR74 -> 0 | AZ74: =SUM(AW74:AY74) -> 0 | BB74: =SUM(BA74:BA74) -> 0 | BC74: =BB74+AZ74 -> 0 | BG74: =SUM(BD74:BF74) -> 0 | BH74: =BG74+BC74+AV74+AO74+AL74+AG74+Z74+U74+O74 -> 1 | BM74: =BL74*1.19 -> 0 | BN74: =BM74*BH74 -> 0 | BP74: =BO74*1.19 -> 0 | BQ74: =BP74*BH74 -> 0 | BR74: 450000 | BS74: =BR74*1.19 -> 535500 | BT74: =BS74*BH74 -> 535500 | BV74: =BU74*1.19 -> 0 | BW74: =BV74*BH74 -> 0 | BX74: 505000 | BY74: =BX74*1.19 -> 600950 | BZ74: =BY74*BH74 -> 600950 | CA74: 579600 | CB74: =CA74*1.19 -> 689724 | CC74: =CB74*BH74 -> 689724 | CD74: 812000 | CE74: =CD74*1.19 -> 966280 | CF74: =CE74*BH74 -> 966280
B75: 52 | C75: Ácido nítrico | D75: Para análisis de trazas inorgánicas | E75: ≥65% | F75: Frasco por 1 Litro | G75: Un (1) año a partir de la entrega | H75: AMBIENTE | I75: 7697-37-2 | K75: REACTIVO | L75: PUREZA | O75: =SUM(N75:N75) -> 0 | R75: 4 | U75: =SUM(P75:T75) -> 4 | Z75: =SUM(V75:Y75) -> 0 | AD75: =SUM(AA75:AC75) -> 0 | AF75: =SUM(AE75:AE75) -> 0 | AG75: =AF75+AD75 -> 0 | AL75: =SUM(AH75:AK75) -> 0 | AO75: =SUM(AM75:AN75) -> 0 | AR75: =SUM(AP75:AQ75) -> 0 | AU75: =SUM(AS75:AT75) -> 0 | AV75: =AU75+AR75 -> 0 | AZ75: =SUM(AW75:AY75) -> 0 | BB75: =SUM(BA75:BA75) -> 0 | BC75: =BB75+AZ75 -> 0 | BG75: =SUM(BD75:BF75) -> 0 | BH75: =BG75+BC75+AV75+AO75+AL75+AG75+Z75+U75+O75 -> 4 | BM75: =BL75*1.19 -> 0 | BN75: =BM75*BH75 -> 0 | BP75: =BO75*1.19 -> 0 | BQ75: =BP75*BH75 -> 0 | BR75: 1063000 | BS75: =BR75*1.19 -> 1264970 | BT75: =BS75*BH75 -> 5059880 | BV75: =BU75*1.19 -> 0 | BW75: =BV75*BH75 -> 0 | BY75: =BX75*1.19 -> 0 | BZ75: =BY75*BH75 -> 0 | CA75: 836000 | CB75: =CA75*1.19 -> 994840 | CC75: =CB75*BH75 -> 3979360 | CD75: 4429000 | CE75: =CD75*1.19 -> 5270510 | CF75: =CE75*BH75 -> 21082040
B76: 53 | C76: Éter metil terbutílico | D76: Reactivo analítico o ACS o Análisis o Ph Eur o BP | E76: ≥99% | F76: Frasco por 1 Litro | G76: Un (1) año a partir de la entrega | H76: AMBIENTE | I76: 1634-04-4 | K76: REACTIVO | L76: PUREZA | O76: =SUM(N76:N76) -> 0 | T76: 1 | U76: =SUM(P76:T76) -> 1 | Z76: =SUM(V76:Y76) -> 0 | AD76: =SUM(AA76:AC76) -> 0 | AF76: =SUM(AE76:AE76) -> 0 | AG76: =AF76+AD76 -> 0 | AL76: =SUM(AH76:AK76) -> 0 | AO76: =SUM(AM76:AN76) -> 0 | AR76: =SUM(AP76:AQ76) -> 0 | AU76: =SUM(AS76:AT76) -> 0 | AV76: =AU76+AR76 -> 0 | AZ76: =SUM(AW76:AY76) -> 0 | BB76: =SUM(BA76:BA76) -> 0 | BC76: =BB76+AZ76 -> 0 | BG76: =SUM(BD76:BF76) -> 0 | BH76: =BG76+BC76+AV76+AO76+AL76+AG76+Z76+U76+O76 -> 1 | BL76: 282000 | BM76: =BL76*1.19 -> 335580 | BN76: =BM76*BH76 -> 335580 | BO76: 2300000 | BP76: =BO76*1.19 -> 2737000 | BQ76: =BP76*BH76 -> 2737000 | BR76: 678000 | BS76: =BR76*1.19 -> 806820 | BT76: =BS76*BH76 -> 806820 | BV76: =BU76*1.19 -> 0 | BW76: =BV76*BH76 -> 0 | BX76: 1295000 | BY76: =BX76*1.19 -> 1541050 | BZ76: =BY76*BH76 -> 1541050 | CA76: 445900 | CB76: =CA76*1.19 -> 530621 | CC76: =CB76*BH76 -> 530621 | CD76: 625000 | CE76: =CD76*1.19 -> 743750 | CF76: =CE76*BH76 -> 743750
B77: 54 | C77: Formiato de amonio | D77: LC MS | E77: ≥99% | F77: Frasco por 25 gramos | G77: Un (1) año a partir de la entrega | H77: AMBIENTE | I77: CAS 540-69-2 | K77: REACTIVO | L77: PUREZA | O77: =SUM(N77:N77) -> 0 | Q77: 8 | U77: =SUM(P77:T77) -> 8 | Z77: =SUM(V77:Y77) -> 0 | AD77: =SUM(AA77:AC77) -> 0 | AF77: =SUM(AE77:AE77) -> 0 | AG77: =AF77+AD77 -> 0 | AL77: =SUM(AH77:AK77) -> 0 | AO77: =SUM(AM77:AN77) -> 0 | AR77: =SUM(AP77:AQ77) -> 0 | AU77: =SUM(AS77:AT77) -> 0 | AV77: =AU77+AR77 -> 0 | AZ77: =SUM(AW77:AY77) -> 0 | BB77: =SUM(BA77:BA77) -> 0 | BC77: =BB77+AZ77 -> 0 | BG77: =SUM(BD77:BF77) -> 0 | BH77: =BG77+BC77+AV77+AO77+AL77+AG77+Z77+U77+O77 -> 8 | BM77: =BL77*1.19 -> 0 | BN77: =BM77*BH77 -> 0 | BP77: =BO77*1.19 -> 0 | BQ77: =BP77*BH77 -> 0 | BS77: =BR77*1.19 -> 0 | BT77: =BS77*BH77 -> 0 | BV77: =BU77*1.19 -> 0 | BW77: =BV77*BH77 -> 0 | BX77: 860000 | BY77: =BX77*1.19 -> 1023400 | BZ77: =BY77*BH77 -> 8187200 | CA77: 664300 | CB77: =CA77*1.19 -> 790517 | CC77: =CB77*BH77 -> 6324136 | CD77: 931000 | CE77: =CD77*1.19 -> 1107890 | CF77: =CE77*BH77 -> 8863120
B78: 55 | C78: Acetato de amonio | D78: LC MS | E78: ≥98% | F78: Frasco por 50 gramos | G78: Un (1) año a partir de la entrega | H78: AMBIENTE | I78: CAS 631-61-8 | K78: REACTIVO | L78: PUREZA | O78: =SUM(N78:N78) -> 0 | Q78: 2 | U78: =SUM(P78:T78) -> 2 | Z78: =SUM(V78:Y78) -> 0 | AD78: =SUM(AA78:AC78) -> 0 | AF78: =SUM(AE78:AE78) -> 0 | AG78: =AF78+AD78 -> 0 | AL78: =SUM(AH78:AK78) -> 0 | AO78: =SUM(AM78:AN78) -> 0 | AR78: =SUM(AP78:AQ78) -> 0 | AU78: =SUM(AS78:AT78) -> 0 | AV78: =AU78+AR78 -> 0 | AZ78: =SUM(AW78:AY78) -> 0 | BB78: =SUM(BA78:BA78) -> 0 | BC78: =BB78+AZ78 -> 0 | BG78: =SUM(BD78:BF78) -> 0 | BH78: =BG78+BC78+AV78+AO78+AL78+AG78+Z78+U78+O78 -> 2 | BL78: 835000 | BM78: =BL78*1.19 -> 993650 | BN78: =BM78*BH78 -> 1987300 | BP78: =BO78*1.19 -> 0 | BQ78: =BP78*BH78 -> 0 | BS78: =BR78*1.19 -> 0 | BT78: =BS78*BH78 -> 0 | BV78: =BU78*1.19 -> 0 | BW78: =BV78*BH78 -> 0 | BX78: 740000 | BY78: =BX78*1.19 -> 880600 | BZ78: =BY78*BH78 -> 1761200 | CA78: 490700 | CB78: =CA78*1.19 -> 583933 | CC78: =CB78*BH78 -> 1167866 | CD78: 687000 | CE78: =CD78*1.19 -> 817530 | CF78: =CE78*BH78 -> 1635060
B79: CANTIDAD TOTAL POR SERVICIO | N79: =SUM(N65:N78) -> 0 | O79: =SUM(O65:O78) -> 0 | P79: =SUM(P65:P78) -> 0 | Q79: =SUM(Q65:Q78) -> 11 | R79: =SUM(R65:R78) -> 4 | S79: =SUM(S65:S78) -> 0 | T79: =SUM(T65:T78) -> 41 | U79: =SUM(U65:U78) -> 56 | ... BH79: =SUM(BH65:BH78) -> 229
B81: LOTE 4
B84: ITEM | C84: ESPECIFICACION TECNICA | D84: GRADO | E84: PUREZA | F84: PRESENTACION O UNIDAD DE MEDIDA | G84: VIGENCIA MINIMA | H84: CONDICION DE ALMACENAMIENTO | I84: NUMERO DE CAS | J84: CLASIFICACION CODIGOS UNSPSC | K84: IDENTIFICACION ADICIONAL REQUERIDA | L84: CALIDAD MINIMA | M84: PATRONES DE DESEMPEÑO | N84: DIRECCION GENERAL | P84: REGIONAL BOGOTÁ | V84: REGIONAL NOROCCIDENTE | AA84: REGIONAL NORORIENTE | AH84: REGIONAL NORTE | AM84: REGIONAL OCCIDENTE | AP84: REGIONAL ORIENTE | AW84: REGIONAL SUR | BD84: REGIONAL SUROCCIDENTE | BH84: CANTIDAD TOTAL | BI84: HISTORICOS 2024 | BK84: CONTRATO
AA85: SECCIONAL SANTANDER | AE85: SECCIONAL NORTE DE SANTANDER | AH85: SECCIONAL ATLÁNTICO | AP85: SECCIONAL BOYACÁ | AS85: SECCIONAL META | AV85: TOTAL REGIONAL ORIENTE | AW85: SECCIONAL TOLIMA | BA85: SECCIONAL HUILA | BC85: TOTAL REGIONAL SUR | BI85: VALOR UNITARIO CONTRATO | BJ85: VALOR UNITARIO CONTRATO CON IPC
N86: GRUPO APOYO-SNVJRNR | O86: TOTAL | P86: BIOLOGIA | Q86: ESTUPEFACIENTES | R86: E. TRAZA | S86: GENETICA | T86: TOXICOLOGIA | U86: TOTAL REGIONAL BOGOTÁ | V86: BALISTICA | W86: ESTUPEFACIENTES | X86: GENETICA | Y86: TOXICOLOGIA | Z86: TOTAL REGIONAL NOROCCIDENTE | AA86: BALISTICA | AB86: ESTUPEFACIENTES | AC86: TOXICOLOGIA | AD86: TOTAL SECCIONAL SANTANDER | AE86: BIOLOGIA | AF86: TOTAL SECCIONAL NTE SANTANDER | AG86: TOTAL REGIONAL NORORIENTE | AH86: BIOLOGIA | AI86: BALISTICA | AJ86: ESTUPEFACIENTES | AK86: TOXICOLOGIA | AL86: TOTAL REGIONAL NORTE | AM86: ESTUPEFACIENTES | AN86: TOXICOLOGIA | AO86: TOTAL REGIONAL OCCIDENTE | AP86: BALISTICA | AQ86: TOXICOLOGIA | AR86: TOTAL SECCIONAL BOYACÁ | AS86: BALISTICA | AT86: GENETICA | AU86: TOTAL SECCIONAL META | AW86: BIOLOGIA | AX86: ESTUPEFACIENTES | AY86: TOXICOLOGIA | AZ86: TOTAL SECCIONAL TOLIMA | BA86: BIOLOGIA | BB86: TOTAL SECCIONAL HUILA | BD86: ESTUPEFACIENTES | BE86: GENETICA | BF86: TOXICOLOGIA | BG86: TOTAL REGIONAL SUROCCIDENTE
B87: 56 | C87: 1-propanol (n-propanol), | D87: Reactivo analítico o ACS o Análisis o Ph Eur o BP | E87: ≥99 %. | F87: Frasco por 1 Litro | G87: Un (1) año a partir de la entrega | H87: AMBIENTE | I87: 71-23-8 | J87: 12161500 12191500 12191600 12352100 12352300 | K87: REACTIVO | L87: PUREZA | M87: ANALISIS DE SUSTACIA | O87: =SUM(N87:N87) -> 0 | T87: 2 | U87: =SUM(P87:T87) -> 2 | Z87: =SUM(V87:Y87) -> 0 | AD87: =SUM(AA87:AC87) -> 0 | AF87: =SUM(AE87:AE87) -> 0 | AG87: =AF87+AD87 -> 0 | AL87: =SUM(AH87:AK87) -> 0 | AO87: =SUM(AM87:AN87) -> 0 | AR87: =SUM(AP87:AQ87) -> 0 | AU87: =SUM(AS87:AT87) -> 0 | AV87: =AU87+AR87 -> 0 | AZ87: =SUM(AW87:AY87) -> 0 | BB87: =SUM(BA87:BA87) -> 0 | BC87: =BB87+AZ87 -> 0 | BG87: =SUM(BD87:BF87) -> 0 | BH87: =BG87+BC87+AV87+AO87+AL87+AG87+Z87+U87+O87 -> 2 | BI87: 324220 | BJ87: =BI87*(1+(BJ2/100)) -> 341079.44 | BK87: 140-SG-2024
B88: 57 | C88: Acetato de Isopropilo | D88: Reactivo analítico o ACS o Análisis o Ph Eur o BP | E88: ≥96% | F88: Frasco por 1 Litro | G88: Un (1) año a partir de la entrega | H88: AMBIENTE | I88: 108-21-4 | K88: REACTIVO | L88: PUREZA | O88: =SUM(N88:N88) -> 0 | U88: =SUM(P88:T88) -> 0 | Z88: =SUM(V88:Y88) -> 0 | AD88: =SUM(AA88:AC88) -> 0 | AF88: =SUM(AE88:AE88) -> 0 | AG88: =AF88+AD88 -> 0 | AL88: =SUM(AH88:AK88) -> 0 | AO88: =SUM(AM88:AN88) -> 0 | AR88: =SUM(AP88:AQ88) -> 0 | AU88: =SUM(AS88:AT88) -> 0 | AV88: =AU88+AR88 -> 0 | AZ88: =SUM(AW88:AY88) -> 0 | BB88: =SUM(BA88:BA88) -> 0 | BC88: =BB88+AZ88 -> 0 | BD88: 1 | BG88: =SUM(BD88:BF88) -> 1 | BH88: =BG88+BC88+AV88+AO88+AL88+AG88+Z88+U88+O88 -> 1 | BI88: 257360 | BJ88: =BI88*(1+(BJ2/100)) -> 270742.72 | BK88: 140-SG-2024
B89: 58 | C89: Acetonitrilo | D89: LC-MS | E89: ≥99,9 % | F89: Frasco por 2,5 Litros | G89: Un (1) año a partir de la entrega | H89: AMBIENTE | I89: 75-05-8 | K89: REACTIVO | L89: PUREZA | O89: =SUM(N89:N89) -> 0 | Q89: 3 | U89: =SUM(P89:T89) -> 3 | Y89: 90 | Z89: =SUM(V89:Y89) -> 90 | AC89: 70 | AD89: =SUM(AA89:AC89) -> 70 | AF89: =SUM(AE89:AE89) -> 0 | AG89: =AF89+AD89 -> 70 | AL89: =SUM(AH89:AK89) -> 0 | AO89: =SUM(AM89:AN89) -> 0 | AR89: =SUM(AP89:AQ89) -> 0 | AU89: =SUM(AS89:AT89) -> 0 | AV89: =AU89+AR89 -> 0 | AZ89: =SUM(AW89:AY89) -> 0 | BB89: =SUM(BA89:BA89) -> 0 | BC89: =BB89+AZ89 -> 0 | BG89: =SUM(BD89:BF89) -> 0 | BH89: =BG89+BC89+AV89+AO89+AL89+AG89+Z89+U89+O89 -> 163 | BI89: 596200 | BJ89: =BI89*(1+(BJ2/100)) -> 627202.4 | BK89: 140-SG-2024
B90: 59 | C90: DTT (1,4-Dithiothreitol) para biología molecular. | D90: NA | E90: NA | F90: Frasco por 5 gramos | G90: Un (1) año a partir de la entrega | H90: REFRIGERACION / CONGELACION SEGÚN ESPECIFICACION DEL FABRICANTE | I90: 3483-12-3 | K90: REACTIVO | L90: NA | O90: =SUM(N90:N90) -> 0 | S90: 3 | U90: =SUM(P90:T90) -> 3 | X90: 3 | Z90: =SUM(V90:Y90) -> 3 | AD90: =SUM(AA90:AC90) -> 0 | AF90: =SUM(AE90:AE90) -> 0 | AG90: =AF90+AD90 -> 0 | AL90: =SUM(AH90:AK90) -> 0 | AO90: =SUM(AM90:AN90) -> 0 | AR90: =SUM(AP90:AQ90) -> 0 | AU90: =SUM(AS90:AT90) -> 0 | AV90: =AU90+AR90 -> 0 | AZ90: =SUM(AW90:AY90) -> 0 | BB90: =SUM(BA90:BA90) -> 0 | BC90: =BB90+AZ90 -> 0 | BE90: 1 | BG90: =SUM(BD90:BF90) -> 1 | BH90: =BG90+BC90+AV90+AO90+AL90+AG90+Z90+U90+O90 -> 7 | BI90: 417095 | BJ90: =BI90*(1+(BJ2/100)) -> 438783.94 | BK90: 140-SG-2024
B91: 60 | C91: Sílica gel granulado (1-3mm), con indicador de humedad, capacidad de absorción ≥20%. | D91: NA | E91: NA | F91: Frasco por 1 Kg | G91: Un (1) año a partir de la entrega | H91: AMBIENTE | I91: NA | K91: REACTIVO | L91: NA | O91: =SUM(N91:N91) -> 0 | U91: =SUM(P91:T91) -> 0 | Z91: =SUM(V91:Y91) -> 0 | AD91: =SUM(AA91:AC91) -> 0 | AF91: =SUM(AE91:AE91) -> 0 | AG91: =AF91+AD91 -> 0 | AL91: =SUM(AH91:AK91) -> 0 | AO91: =SUM(AM91:AN91) -> 0 | AR91: =SUM(AP91:AQ91) -> 0 | AU91: =SUM(AS91:AT91) -> 0 | AV91: =AU91+AR91 -> 0 | AY91: 2 | AZ91: =SUM(AW91:AY91) -> 2 | BB91: =SUM(BA91:BA91) -> 0 | BC91: =BB91+AZ91 -> 2 | BG91: =SUM(BD91:BF91) -> 0 | BH91: =BG91+BC91+AV91+AO91+AL91+AG91+Z91+U91+O91 -> 2 | BI91: 328230 | BJ91: =BI91*(1+(BJ2/100)) -> 345297.96 | BK91: 140-SG-2024
B92: 61 | C92: Sodio tetraborato decahidratado | D92: Reactivo analítico o ACS o Análisis o Ph Eur o BP | E92: ≥ 97% | F92: Frasco por 500 gramos | G92: Un (1) año a partir de la entrega | H92: AMBIENTE | I92: 1303-96-4 | K92: REACTIVO | L92: PUREZA | O92: =SUM(N92:N92) -> 0 | U92: =SUM(P92:T92) -> 0 | Z92: =SUM(V92:Y92) -> 0 | AD92: =SUM(AA92:AC92) -> 0 | AF92: =SUM(AE92:AE92) -> 0 | AG92: =AF92+AD92 -> 0 | AL92: =SUM(AH92:AK92) -> 0 | AN92: 2 | AO92: =SUM(AM92:AN92) -> 2 | AR92: =SUM(AP92:AQ92) -> 0 | AU92: =SUM(AS92:AT92) -> 0 | AV92: =AU92+AR92 -> 0 | AY92: 3 | AZ92: =SUM(AW92:AY92) -> 3 | BB92: =SUM(BA92:BA92) -> 0 | BC92: =BB92+AZ92 -> 3 | BF92: 2 | BG92: =SUM(BD92:BF92) -> 2 | BH92: =BG92+BC92+AV92+AO92+AL92+AG92+Z92+U92+O92 -> 7 | BI92: 281930 | BJ92: =BI92*(1+(BJ2/100)) -> 296590.36 | BK92: 140-SG-2024
B93: 62 | C93: Sulfato de Aluminio Octadecahidratado | D93: Reactivo analítico o ACS o Análisis o Ph Eur o BP | E93: ≥97% | F93: Frasco por 500 gramos | G93: Un (1) año a partir de la entrega | H93: AMBIENTE | I93: 7784-31-8 | K93: REACTIVO | L93: PUREZA | O93: =SUM(N93:N93) -> 0 | U93: =SUM(P93:T93) -> 0 | Z93: =SUM(V93:Y93) -> 0 | AD93: =SUM(AA93:AC93) -> 0 | AF93: =SUM(AE93:AE93) -> 0 | AG93: =AF93+AD93 -> 0 | AL93: =SUM(AH93:AK93) -> 0 | AO93: =SUM(AM93:AN93) -> 0 | AR93: =SUM(AP93:AQ93) -> 0 | AU93: =SUM(AS93:AT93) -> 0 | AV93: =AU93+AR93 -> 0 | AW93: 1 | AZ93: =SUM(AW93:AY93) -> 1 | BB93: =SUM(BA93:BA93) -> 0 | BC93: =BB93+AZ93 -> 1 | BG93: =SUM(BD93:BF93) -> 0 | BH93: =BG93+BC93+AV93+AO93+AL93+AG93+Z93+U93+O93 -> 1 | BI93: 156480 | BJ93: =BI93*(1+(BJ2/100)) -> 164616.96 | BK93: 140-SG-2024
B94: 63 | C94: Sulfato de sodio | D94: Reactivo analítico o ACS o Análisis o Ph Eur o BP | E94: ≥95% | F94: Frasco por 1 Kg | G94: Un (1) año a partir de la entrega | H94: AMBIENTE | I94: 7757-82-6 | K94: REACTIVO | L94: PUREZA | O94: =SUM(N94:N94) -> 0 | U94: =SUM(P94:T94) -> 0 | Z94: =SUM(V94:Y94) -> 0 | AB94: 3 | AC94: 1 | AD94: =SUM(AA94:AC94) -> 4 | AF94: =SUM(AE94:AE94) -> 0 | AG94: =AF94+AD94 -> 4 | AL94: =SUM(AH94:AK94) -> 0 | AO94: =SUM(AM94:AN94) -> 0 | AR94: =SUM(AP94:AQ94) -> 0 | AU94: =SUM(AS94:AT94) -> 0 | AV94: =AU94+AR94 -> 0 | AZ94: =SUM(AW94:AY94) -> 0 | BB94: =SUM(BA94:BA94) -> 0 | BC94: =BB94+AZ94 -> 0 | BG94: =SUM(BD94:BF94) -> 0 | BH94: =BG94+BC94+AV94+AO94+AL94+AG94+Z94+U94+O94 -> 4 | BI94: 131660 | BJ94: =BI94*(1+(BJ2/100)) -> 138506.32 | BK94: 140-SG-2024
B95: 64 | C95: Buffer PBS pH 7,4 ± 0,1 (1X ) en solución. | D95: NA | E95: NA | F95: Sobre para 1L o Frasco x 1L | G95: Un (1) año a partir de la entrega | H95: AMBIENTE | I95: NA | K95: REACTIVO | L95: NA | O95: =SUM(N95:N95) -> 0 | P95: 10 | S95: 3 | U95: =SUM(P95:T95) -> 13 | Z95: =SUM(V95:Y95) -> 0 | AD95: =SUM(AA95:AC95) -> 0 | AE95: 1 | AF95: =SUM(AE95:AE95) -> 1 | AG95: =AF95+AD95 -> 1 | AL95: =SUM(AH95:AK95) -> 0 | AO95: =SUM(AM95:AN95) -> 0 | AR95: =SUM(AP95:AQ95) -> 0 | AT95: 2 | AU95: =SUM(AS95:AT95) -> 2 | AV95: =AU95+AR95 -> 2 | AZ95: =SUM(AW95:AY95) -> 0 | BB95: =SUM(BA95:BA95) -> 0 | BC95: =BB95+AZ95 -> 0 | BE95: 2 | BG95: =SUM(BD95:BF95) -> 2 | BH95: =BG95+BC95+AV95+AO95+AL95+AG95+Z95+U95+O95 -> 18 | BI95: 186200 | BJ95: =BI95*(1+(BJ2/100)) -> 195882.4 | BK95: 143-SG-2024
B96: 65 | C96: Oxalato de amonio monohidrato | D96: Reactivo analítico o ACS o Análisis o Ph Eur o BP | E96: ≥99%. | F96: Frasco por 25 gramos | G96: Un (1) año a partir de la entrega | H96: AMBIENTE | I96: 6009-70-7 | K96: REACTIVO | L96: PUREZA | O96: =SUM(N96:N96) -> 0 | U96: =SUM(P96:T96) -> 0 | Z96: =SUM(V96:Y96) -> 0 | AD96: =SUM(AA96:AC96) -> 0 | AF96: =SUM(AE96:AE96) -> 0 | AG96: =AF96+AD96 -> 0 | AL96: =SUM(AH96:AK96) -> 0 | AO96: =SUM(AM96:AN96) -> 0 | AR96: =SUM(AP96:AQ96) -> 0 | AU96: =SUM(AS96:AT96) -> 0 | AV96: =AU96+AR96 -> 0 | AZ96: =SUM(AW96:AY96) -> 0 | BB96: =SUM(BA96:BA96) -> 0 | BC96: =BB96+AZ96 -> 0 | BD96: 1 | BG96: =SUM(BD96:BF96) -> 1 | BH96: =BG96+BC96+AV96+AO96+AL96+AG96+Z96+U96+O96 -> 1 | BI96: 212970.05 | BJ96: =BI96*(1+(BJ2/100)) -> 224044.49 | BK96: 143-SG-2024
B97: CANTIDAD TOTAL POR SERVICIO | N97: =SUM(N87:N96) -> 0 | O97: =SUM(O87:O96) -> 0 | P97: =SUM(P87:P96) -> 10 | Q97: =SUM(Q87:Q96) -> 3 | R97: =SUM(R87:R96) -> 0 | S97: =SUM(S87:S96) -> 6 | T97: =SUM(T87:T96) -> 2 | U97: =SUM(U87:U96) -> 21 | ... BH97: =SUM(BH87:BH96) -> 206
B99: LOTE 5
B102: ITEM | C102: ESPECIFICACION TECNICA | D102: GRADO | E102: PUREZA | F102: PRESENTACION O UNIDAD DE MEDIDA | G102: VIGENCIA MINIMA | H102: CONDICION DE ALMACENAMIENTO | I102: NUMERO DE CAS | J102: CLASIFICACION CODIGOS UNSPSC | K102: IDENTIFICACION ADICIONAL REQUERIDA | L102: CALIDAD MINIMA | M102: PATRONES DE DESEMPEÑO | N102: DIRECCION GENERAL | P102: REGIONAL BOGOTÁ | V102: REGIONAL NOROCCIDENTE | AA102: REGIONAL NORORIENTE | AH102: REGIONAL NORTE | AM102: REGIONAL OCCIDENTE | AP102: REGIONAL ORIENTE | AW102: REGIONAL SUR | BD102: REGIONAL SUROCCIDENTE | BH102: CANTIDAD ESTIMADA | BI102: HISTORICOS 2024 | BK102: CONTRATO
AA103: SECCIONAL SANTANDER | AE103: SECCIONAL NORTE DE SANTANDER | AH103: SECCIONAL ATLÁNTICO | AP103: SECCIONAL BOYACÁ | AS103: SECCIONAL META | AV103: TOTAL REGIONAL ORIENTE | AW103: SECCIONAL TOLIMA | BA103: SECCIONAL HUILA | BC103: TOTAL REGIONAL SUR | BI103: VALOR UNITARIO CONTRATO | BJ103: VALOR UNITARIO CONTRATO CON IPC
N104: GRUPO APOYO-SNVJRNR | O104: TOTAL | P104: BIOLOGIA | Q104: ESTUPEFACIENTES | R104: E. TRAZA | S104: GENETICA | T104: TOXICOLOGIA | U104: TOTAL REGIONAL BOGOTÁ | V104: BALISTICA | W104: ESTUPEFACIENTES | X104: GENETICA | Y104: TOXICOLOGIA | Z104: TOTAL REGIONAL NOROCCIDENTE | AA104: BALISTICA | AB104: ESTUPEFACIENTES | AC104: TOXICOLOGIA | AD104: TOTAL SECCIONAL SANTANDER | AE104: BIOLOGIA | AF104: TOTAL SECCIONAL NTE SANTANDER | AG104: TOTAL REGIONAL NORORIENTE | AH104: BIOLOGIA | AI104: BALISTICA | AJ104: ESTUPEFACIENTES | AK104: TOXICOLOGIA | AL104: TOTAL REGIONAL NORTE | AM104: ESTUPEFACIENTES | AN104: TOXICOLOGIA | AO104: TOTAL REGIONAL OCCIDENTE | AP104: BALISTICA | AQ104: TOXICOLOGIA | AR104: TOTAL SECCIONAL BOYACÁ | AS104: BALISTICA | AT104: GENETICA | AU104: TOTAL SECCIONAL META | AW104: BIOLOGIA | AX104: ESTUPEFACIENTES | AY104: TOXICOLOGIA | AZ104: TOTAL SECCIONAL TOLIMA | BA104: BIOLOGIA | BB104: TOTAL SECCIONAL HUILA | BD104: ESTUPEFACIENTES | BE104: GENETICA | BF104: TOXICOLOGIA | BG104: TOTAL REGIONAL SUROCCIDENTE
B105: 66 | C105: Proteinasa K, liofilizada, libre de DNasas y RNasas. | D105: NA | E105: NA | F105: Frasco por 100 mg | G105: 1 año a partir de la entrega, en caso de no tener vigencia, se debe incluir documento (certificado de análisis o del fabricante) que incluya o se indique fecha de re-análisis (recommended retest date) o describir la vida útil del reactivo (Shelf life); ésta no debe ser inferior a doce (12) meses. | H105: REFRIGERACION / CONGELACION SEGÚN ESPECIFICACION DEL FABRICANTE | I105: NA | J105: 12161500 12352200 | K105: REACTIVO | L105: NA | M105: ANALISIS DE SUSTACIA | N105: 500 | O105: =SUM(N105:N105) -> 500 | S105: 200 | U105: =SUM(P105:T105) -> 200 | X105: 500 | Z105: =SUM(V105:Y105) -> 500 | AD105: =SUM(AA105:AC105) -> 0 | AF105: =SUM(AE105:AE105) -> 0 | AG105: =AF105+AD105 -> 0 | AL105: =SUM(AH105:AK105) -> 0 | AO105: =SUM(AM105:AN105) -> 0 | AR105: =SUM(AP105:AQ105) -> 0 | AT105: 300 | AU105: =SUM(AS105:AT105) -> 300 | AV105: =AU105+AR105 -> 300 | AZ105: =SUM(AW105:AY105) -> 0 | BB105: =SUM(BA105:BA105) -> 0 | BC105: =BB105+AZ105 -> 0 | BE105: 200 | BG105: =SUM(BD105:BF105) -> 200 | BH105: =BG105+BC105+AV105+AO105+AL105+AG105+Z105+U105+O105 -> 1700 | BI105: 144475.72 | BJ105: =BI105*(1+(BJ2/100)) -> 151988.46 | BK105: 140-SG-2024
B106: CANTIDAD TOTAL POR SERVICIO | N106: =SUM(N105) -> 500 | O106: =SUM(O105) -> 500 | P106: =SUM(P105) -> 0 | Q106: =SUM(Q105) -> 0 | R106: =SUM(R105) -> 0 | S106: =SUM(S105) -> 200 | T106: =SUM(T105) -> 0 | U106: =SUM(U105) -> 200 | ... BH106: =SUM(BH105) -> 1700
B108: LOTE 6
B111: ITEM | C111: ESPECIFICACION TECNICA | D111: GRADO | E111: PUREZA | F111: PRESENTACION O UNIDAD DE MEDIDA | G111: VIGENCIA MINIMA | H111: CONDICION DE ALMACENAMIENTO | I111: NUMERO DE CAS | J111: CLASIFICACION CODIGOS UNSPSC | K111: IDENTIFICACION ADICIONAL REQUERIDA | L111: CALIDAD MINIMA | M111: PATRONES DE DESEMPEÑO | N111: DIRECCION GENERAL | P111: REGIONAL BOGOTÁ | V111: REGIONAL NOROCCIDENTE | AA111: REGIONAL NORORIENTE | AH111: REGIONAL NORTE | AM111: REGIONAL OCCIDENTE | AP111: REGIONAL ORIENTE | AW111: REGIONAL SUR | BD111: REGIONAL SUROCCIDENTE | BH111: CANTIDAD TOTAL | BI111: HISTORICOS 2024 | BK111: CONTRATO
AA112: SECCIONAL SANTANDER | AE112: SECCIONAL NORTE DE SANTANDER | AH112: SECCIONAL ATLÁNTICO | AP112: SECCIONAL BOYACÁ | AS112: SECCIONAL META | AV112: TOTAL REGIONAL ORIENTE | AW112: SECCIONAL TOLIMA | BA112: SECCIONAL HUILA | BC112: TOTAL REGIONAL SUR | BI112: VALOR UNITARIO CONTRATO | BJ112: VALOR UNITARIO CONTRATO CON IPC
N113: GRUPO APOYO-SNVJRNR | O113: TOTAL | P113: BIOLOGIA | Q113: ESTUPEFACIENTES | R113: E. TRAZA | S113: GENETICA | T113: TOXICOLOGIA | U113: TOTAL REGIONAL BOGOTÁ | V113: BALISTICA | W113: ESTUPEFACIENTES | X113: GENETICA | Y113: TOXICOLOGIA | Z113: TOTAL REGIONAL NOROCCIDENTE | AA113: BALISTICA | AB113: ESTUPEFACIENTES | AC113: TOXICOLOGIA | AD113: TOTAL SECCIONAL SANTANDER | AE113: BIOLOGIA | AF113: TOTAL SECCIONAL NTE SANTANDER | AG113: TOTAL REGIONAL NORORIENTE | AH113: BIOLOGIA | AI113: BALISTICA | AJ113: ESTUPEFACIENTES | AK113: TOXICOLOGIA | AL113: TOTAL REGIONAL NORTE | AM113: ESTUPEFACIENTES | AN113: TOXICOLOGIA | AO113: TOTAL REGIONAL OCCIDENTE | AP113: BALISTICA | AQ113: TOXICOLOGIA | AR113: TOTAL SECCIONAL BOYACÁ | AS113: BALISTICA | AT113: GENETICA | AU113: TOTAL SECCIONAL META | AW113: BIOLOGIA | AX113: ESTUPEFACIENTES | AY113: TOXICOLOGIA | AZ113: TOTAL SECCIONAL TOLIMA | BA113: BIOLOGIA | BB113: TOTAL SECCIONAL HUILA | BD113: ESTUPEFACIENTES | BE113: GENETICA | BF113: TOXICOLOGIA | BG113: TOTAL REGIONAL SUROCCIDENTE
B114: 67 | C114: Reactivo para cuantificación de ADN humano autosómico y fracción masculina en una sola reacción para usar en Real Time PCR System 7500. Que cuente con validación para uso en muestras forenses, que permita la evaluación de inhibidores y degradación de ADN. Que incluya kit de calibración para equipo RT-PCR. En caso de requerirse un software específico para el análisis de los resultados, se debe suministrar a cada laboratorio que lo requiera. | D114: NA | E114: NA | F114: 1 Reaccion | G114: 6 meses a partir de la entrega | H114: CONGELACION | I114: NA | J114: 41105500 41106300 | K114: REACTIVO | L114: NA | M114: ANALISIS DE SUSTACIA | O114: =SUM(N114:N114) -> 0 | S114: =20*400 -> 8000 | U114: =SUM(P114:T114) -> 8000 | X114: 6000 | Z114: =SUM(V114:Y114) -> 6000 | AD114: =SUM(AA114:AC114) -> 0 | AF114: =SUM(AE114:AE114) -> 0 | AG114: =AF114+AD114 -> 0 | AL114: =SUM(AH114:AK114) -> 0 | AO114: =SUM(AM114:AN114) -> 0 | AR114: =SUM(AP114:AQ114) -> 0 | AT114: =4*400 -> 1600 | AU114: =SUM(AS114:AT114) -> 1600 | AV114: =AU114+AR114 -> 1600 | AZ114: =SUM(AW114:AY114) -> 0 | BB114: =SUM(BA114:BA114) -> 0 | BC114: =BB114+AZ114 -> 0 | BE114: 800 | BG114: =SUM(BD114:BF114) -> 800 | BH114: =BG114+BC114+AV114+AO114+AL114+AG114+Z114+U114+O114 -> 16400 | BI114: 18115.88 | BJ114: =BI114*(1+(BJ2/100)) -> 19057.906 | BK114: 146-SG2024
B115: CANTIDAD TOTAL POR SERVICIO | N115: =SUM(N114) -> 0 | O115: =SUM(O114) -> 0 | P115: =SUM(P114) -> 0 | Q115: =SUM(Q114) -> 0 | R115: =SUM(R114) -> 0 | S115: =SUM(S114) -> 8000 | T115: =SUM(T114) -> 0 | U115: =SUM(U114) -> 8000 | ... BH115: =SUM(BH114) -> 16400
B117: LOTE 7
...

Sheet ESTUDIO  FORMULADO 
B2: LOTE 1 | BK2: VALOR TOTAL PROCESO | BM2: =BV8+BL41+BV65+BL87+BL105+BL114+BL123+BL132 -> 1025334519
B5: ITEM | C5: ESPECIFICACION TECNICA | D5: GRADO | E5: PUREZA | F5: PRESENTACION O UNIDAD DE MEDIDA | G5: VIGENCIA MINIMA | H5: CONDICION DE ALMACENAMIENTO | I5: NUMERO DE CAS | J5: CLASIFICACION CODIGOS UNSPSC | K5: IDENTIFICACION ADICIONAL REQUERIDA | L5: CALIDAD MINIMA | M5: PATRONES DE DESEMPEÑO | N5: DIRECCION GENERAL | P5: REGIONAL BOGOTÁ | V5: REGIONAL NOROCCIDENTE | AA5: REGIONAL NORORIENTE | AH5: REGIONAL NORTE | AM5: REGIONAL OCCIDENTE | AP5: REGIONAL ORIENTE | AW5: REGIONAL SUR | BD5: REGIONAL SUROCCIDENTE | BH5: CANTIDAD TOTAL | BI5: HISTORICOS 2024 | BK5: ANNAR | BL5: AS ANALYTICAL | BM5: CIEDUTEC | BN5: SCIENTIFIC | BO5: NORQUIMICOS | BP5: PROFINAS | BQ5: QUIMITRONICA | BR5: VALOR PROMEDIO HOMOGENEO (-0.3) | BS5: VALOR PROMEDIO HETEROGENEO (+0.3) | BT5: VALOR PROMEDIO UNITARIO | BU5: VALOR PROMEDIO POR ITEM | BV5: VALOR TOTAL LOTE | BX5: VALOR PROMEDIO UNITARIO CON COEF.VARZ | BY5: SUBTOTALES | CA5: VARIANZA | CB5: DESVEST | CC5: PROMEDIO (MEDIA ARITMETICA) | CD5: COEFICIENTE DE VARIACIÓN
AA6: SECCIONAL SANTANDER | AE6: SECCIONAL NORTE DE SANTANDER | AH6: SECCIONAL ATLÁNTICO | AP6: SECCIONAL BOYACÁ | AS6: SECCIONAL META | AV6: TOTAL REGIONAL ORIENTE | AW6: SECCIONAL TOLIMA | BA6: SECCIONAL HUILA | BC6: TOTAL REGIONAL SUR | BI6: VALOR INITARIO CON IPC | BJ6: VALOR FINAL UNITARIO CON IPC | BK6: VALOR UNITRIO CON IVA | BL6: VALOR UNITRIO CON IVA | BM6: VALOR UNITRIO CON IVA | BN6: VALOR UNITRIO CON IVA | BO6: VALOR UNITRIO CON IVA | BP6: VALOR UNITRIO CON IVA | BQ6: VALOR UNITRIO CON IVA
N7: GRUPO APOYO-SNVJRNR | O7: TOTAL | P7: BIOLOGIA | Q7: ESTUPEFACIENTES | R7: E. TRAZA | S7: GENETICA | T7: TOXICOLOGIA | U7: TOTAL REGIONAL BOGOTÁ | V7: BALISTICA | W7: ESTUPEFACIENTES | X7: GENETICA | Y7: TOXICOLOGIA | Z7: TOTAL REGIONAL NOROCCIDENTE | AA7: BALISTICA | AB7: ESTUPEFACIENTES | AC7: TOXICOLOGIA | AD7: TOTAL SECCIONAL SANTANDER | AE7: BIOLOGIA | AF7: TOTAL SECCIONAL NTE SANTANDER | AG7: TOTAL REGIONAL NORORIENTE | AH7: BIOLOGIA | AI7: BALISTICA | AJ7: ESTUPEFACIENTES | AK7: TOXICOLOGIA | AL7: TOTAL REGIONAL NORTE | AM7: ESTUPEFACIENTES | AN7: TOXICOLOGIA | AO7: TOTAL REGIONAL OCCIDENTE | AP7: BALISTICA | AQ7: TOXICOLOGIA | AR7: TOTAL SECCIONAL BOYACÁ | AS7: BALISTICA | AT7: GENETICA | AU7: TOTAL SECCIONAL META | AW7: BIOLOGIA | AX7: ESTUPEFACIENTES | AY7: TOXICOLOGIA | AZ7: TOTAL SECCIONAL TOLIMA | BA7: BIOLOGIA | BB7: TOTAL SECCIONAL HUILA | BD7: ESTUPEFACIENTES | BE7: GENETICA | BF7: TOXICOLOGIA | BG7: TOTAL REGIONAL SUROCCIDENTE
B8: 1 | C8: ='ESPECIFICACIONES TECNICAS- E.M'!C8 -> Ácido rubeánico o ditiooxiamida | D8: ='ESPECIFICACIONES TECNICAS- E.M'!D8 -> Reactivo analítico o ACS o Análisis o Ph Eur o BP | E8: ='ESPECIFICACIONES TECNICAS- E.M'!E8 -> ≥98% | F8: ='ESPECIFICACIONES TECNICAS- E.M'!F8 -> Frasco por 10 gramos | G8: ='ESPECIFICACIONES TECNICAS- E.M'!G8 -> Un (1) año a partir de la entrega | H8: ='ESPECIFICACIONES TECNICAS- E.M'!H8 -> AMBIENTE | I8: ='ESPECIFICACIONES TECNICAS- E.M'!I8 -> 79-40-3 | J8: ='ESPECIFICACIONES TECNICAS- E.M'!J8:J32 -> 12161500 12191500 12191600 12352100 12352300 | K8: ='ESPECIFICACIONES TECNICAS- E.M'!K8 -> REACTIVO | L8: ='ESPECIFICACIONES TECNICAS- E.M'!L8 -> PUREZA | M8: ='ESPECIFICACIONES TECNICAS- E.M'!M8:M32 -> ANALISIS DE SUSTACIA | O8: =SUM(N8:N8) -> 0 | U8: =SUM(P8:T8) -> 0 | Z8: =SUM(V8:Y8) -> 0 | AA8: 1 | AD8: =SUM(AA8:AC8) -> 1 | AF8: =SUM(AE8:AE8) -> 0 | AG8: =AF8+AD8 -> 1 | AL8: =SUM(AH8:AK8) -> 0 | AO8: =SUM(AM8:AN8) -> 0 | AR8: =SUM(AP8:AQ8) -> 0 | AU8: =SUM(AS8:AT8) -> 0 | AV8: =AU8+AR8 -> 0 | AZ8: =SUM(AW8:AY8) -> 0 | BB8: =SUM(BA8:BA8) -> 0 | BC8: =BB8+AZ8 -> 0 | BG8: =SUM(BD8:BF8) -> 0 | BH8: =BG8+BC8+AV8+AO8+AL8+AG8+Z8+U8+O8 -> 1 | BI8: 187153.49 | BJ8: =ROUND(BI8,0) -> 187153 | BT8: =BJ8 -> 187153 | BU8: =BT8*BH8 -> 187153 | BV8: =SUBTOTAL(9,BU8:BU32) -> 125875132
B9: 2 | C9: ='ESPECIFICACIONES TECNICAS- E.M'!C9 -> Ditionito de sodio o Hidrosulfito de sodio | D9: ='ESPECIFICACIONES TECNICAS- E.M'!D9 -> Reactivo analítico o ACS o Análisis o Ph Eur o BP | E9: ='ESPECIFICACIONES TECNICAS- E.M'!E9 -> ≥85%. | F9: ='ESPECIFICACIONES TECNICAS- E.M'!F9 -> Frasco por 500 gramos | G9: ='ESPECIFICACIONES TECNICAS- E.M'!G9 -> Un (1) año a partir de la entrega | H9: ='ESPECIFICACIONES TECNICAS- E.M'!H9 -> AMBIENTE | I9: ='ESPECIFICACIONES TECNICAS- E.M'!I9 -> 7775-14-6 | K9: ='ESPECIFICACIONES TECNICAS- E.M'!K9 -> REACTIVO | L9: ='ESPECIFICACIONES TECNICAS- E.M'!L9 -> PUREZA | O9: =SUM(N9:N9) -> 0 | U9: =SUM(P9:T9) -> 0 | Z9: =SUM(V9:Y9) -> 0 | AD9: =SUM(AA9:AC9) -> 0 | AF9: =SUM(AE9:AE9) -> 0 | AG9: =AF9+AD9 -> 0 | AL9: =SUM(AH9:AK9) -> 0 | AN9: 1 | AO9: =SUM(AM9:AN9) -> 1 | AR9: =SUM(AP9:AQ9) -> 0 | AU9: =SUM(AS9:AT9) -> 0 | AV9: =AU9+AR9 -> 0 | AZ9: =SUM(AW9:AY9) -> 0 | BB9: =SUM(BA9:BA9) -> 0 | BC9: =BB9+AZ9 -> 0 | BG9: =SUM(BD9:BF9) -> 0 | BH9: =BG9+BC9+AV9+AO9+AL9+AG9+Z9+U9+O9 -> 1 | BI9: 92042.68 | BJ9: =ROUND(BI9,0) -> 92043 | BT9: =BJ9 -> 92043 | BU9: =BT9*BH9 -> 92043
B10: 3 | C10: ='ESPECIFICACIONES TECNICAS- E.M'!C10 -> Fenol equilibrado con Tris HCI para extracción de ADN (pH 8,0) | D10: ='ESPECIFICACIONES TECNICAS- E.M'!D10 -> NA | E10: ='ESPECIFICACIONES TECNICAS- E.M'!E10 -> NA | F10: ='ESPECIFICACIONES TECNICAS- E.M'!F10 -> Frasco por 400 mL | G10: ='ESPECIFICACIONES TECNICAS- E.M'!G10 -> Un (1) año a partir de la entrega | H10: ='ESPECIFICACIONES TECNICAS- E.M'!H10 -> AMBIENTE | I10: ='ESPECIFICACIONES TECNICAS- E.M'!I10 -> NA | K10: ='ESPECIFICACIONES TECNICAS- E.M'!K10 -> REACTIVO | L10: ='ESPECIFICACIONES TECNICAS- E.M'!L10 -> NA | N10: 7 | O10: =SUM(N10:N10) -> 7 | S10: 10 | U10: =SUM(P10:T10) -> 10 | Z10: =SUM(V10:Y10) -> 0 | AD10: =SUM(AA10:AC10) -> 0 | AF10: =SUM(AE10:AE10) -> 0 | AG10: =AF10+AD10 -> 0 | AL10: =SUM(AH10:AK10) -> 0 | AO10: =SUM(AM10:AN10) -> 0 | AR10: =SUM(AP10:AQ10) -> 0 | AT10: 1 | AU10: =SUM(AS10:AT10) -> 1 | AV10: =AU10+AR10 -> 1 | AZ10: =SUM(AW10:AY10) -> 0 | BB10: =SUM(BA10:BA10) -> 0 | BC10: =BB10+AZ10 -> 0 | BG10: =SUM(BD10:BF10) -> 0 | BH10: =BG10+BC10+AV10+AO10+AL10+AG10+Z10+U10+O10 -> 18 | BI10: 281084.3 | BJ10: =ROUND(BI10,0) -> 281084 | BT10: =BJ10 -> 281084 | BU10: =BT10*BH10 -> 5059512
B11: 4 | C11: ='ESPECIFICACIONES TECNICAS- E.M'!C11 -> Líquido para eliminar DNA y DNAsas contaminantes, de material plástico y vidrio, sin afectar las muestras de ADN en análisis (Tipo DNA-AWAY) | D11: ='ESPECIFICACIONES TECNICAS- E.M'!D11 -> NA | E11: ='ESPECIFICACIONES TECNICAS- E.M'!E11 -> NA | F11: ='ESPECIFICACIONES TECNICAS- E.M'!F11 -> Frasco por 250 mL | G11: ='ESPECIFICACIONES TECNICAS- E.M'!G11 -> Un (1) año a partir de la entrega | H11: ='ESPECIFICACIONES TECNICAS- E.M'!H11 -> AMBIENTE | I11: ='ESPECIFICACIONES TECNICAS- E.M'!I11 -> NA | K11: ='ESPECIFICACIONES TECNICAS- E.M'!K11 -> REACTIVO | L11: ='ESPECIFICACIONES TECNICAS- E.M'!L11 -> NA | N11: 10 | O11: =SUM(N11:N11) -> 10 | S11: 12 | U11: =SUM(P11:T11) -> 12 | X11: 5 | Z11: =SUM(V11:Y11) -> 5 | AD11: =SUM(AA11:AC11) -> 0 | AF11: =SUM(AE11:AE11) -> 0 | AG11: =AF11+AD11 -> 0 | AL11: =SUM(AH11:AK11) -> 0 | AO11: =SUM(AM11:AN11) -> 0 | AR11: =SUM(AP11:AQ11) -> 0 | AT11: 4 | AU11: =SUM(AS11:AT11) -> 4 | AV11: =AU11+AR11 -> 4 | AZ11: =SUM(AW11:AY11) -> 0 | BB11: =SUM(BA11:BA11) -> 0 | BC11: =BB11+AZ11 -> 0 | BE11: 5 | BG11: =SUM(BD11:BF11) -> 5 | BH11: =BG11+BC11+AV11+AO11+AL11+AG11+Z11+U11+O11 -> 36 | BI11: 92986.71 | BJ11: =ROUND(BI11,0) -> 92987 | BT11: =BJ11 -> 92987 | BU11: =BT11*BH11 -> 3347532
B12: 5 | C12: ='ESPECIFICACIONES TECNICAS- E.M'!C12 -> Sodium N Laurylsarcosinate, para biología molecular . | D12: ='ESPECIFICACIONES TECNICAS- E.M'!D12 -> NA | E12: ='ESPECIFICACIONES TECNICAS- E.M'!E12 -> ≥94,0% | F12: ='ESPECIFICACIONES TECNICAS- E.M'!F12 -> Frasco por 25 gramos | G12: ='ESPECIFICACIONES TECNICAS- E.M'!G12 -> 1 año a partir de la entrega, en caso de no tener vigencia, se debe incluir documento (certificado de análisis o del fabricante) que incluya o se indique fecha de re-análisis (recommended retest date) o describir la vida útil del reactivo (Shelf life); ésta no debe ser inferior a doce (12) meses. | H12: ='ESPECIFICACIONES TECNICAS- E.M'!H12 -> AMBIENTE | I12: ='ESPECIFICACIONES TECNICAS- E.M'!I12 -> 137-16-6 | K12: ='ESPECIFICACIONES TECNICAS- E.M'!K12 -> REACTIVO | L12: ='ESPECIFICACIONES TECNICAS- E.M'!L12 -> PUREZA | N12: 50 | O12: =SUM(N12:N12) -> 50 | U12: =SUM(P12:T12) -> 0 | X12: 10 | Z12: =SUM(V12:Y12) -> 10 | AD12: =SUM(AA12:AC12) -> 0 | AF12: =SUM(AE12:AE12) -> 0 | AG12: =AF12+AD12 -> 0 | AL12: =SUM(AH12:AK12) -> 0 | AO12: =SUM(AM12:AN12) -> 0 | AR12: =SUM(AP12:AQ12) -> 0 | AT12: 10 | AU12: =SUM(AS12:AT12) -> 10 | AV12: =AU12+AR12 -> 10 | AZ12: =SUM(AW12:AY12) -> 0 | BB12: =SUM(BA12:BA12) -> 0 | BC12: =BB12+AZ12 -> 0 | BE12: 10 | BG12: =SUM(BD12:BF12) -> 10 | BH12: =BG12+BC12+AV12+AO12+AL12+AG12+Z12+U12+O12 -> 80 | BI12: 212642.26 | BJ12: =ROUND(BI12,0) -> 212642 | BT12: =BJ12 -> 212642 | BU12: =BT12*BH12 -> 17011360
B13: 6 | C13: ='ESPECIFICACIONES TECNICAS- E.M'!C13 -> Cloroformo estabilizado con etanol | D13: ='ESPECIFICACIONES TECNICAS- E.M'!D13 -> Reactivo analítico o ACS o Análisis o Ph Eur o BP | E13: ='ESPECIFICACIONES TECNICAS- E.M'!E13 -> >98% | F13: ='ESPECIFICACIONES TECNICAS- E.M'!F13 -> Frasco por 4 Litros | G13: ='ESPECIFICACIONES TECNICAS- E.M'!G13 -> Un (1) año a partir de la entrega | H13: ='ESPECIFICACIONES TECNICAS- E.M'!H13 -> AMBIENTE | I13: ='ESPECIFICACIONES TECNICAS- E.M'!I13 -> 67-66-3 | K13: ='ESPECIFICACIONES TECNICAS- E.M'!K13 -> REACTIVO | L13: ='ESPECIFICACIONES TECNICAS- E.M'!L13 -> PUREZA | O13: =SUM(N13:N13) -> 0 | U13: =SUM(P13:T13) -> 0 | Z13: =SUM(V13:Y13) -> 0 | AB13: 2 | AD13: =SUM(AA13:AC13) -> 2 | AF13: =SUM(AE13:AE13) -> 0 | AG13: =AF13+AD13 -> 2 | AL13: =SUM(AH13:AK13) -> 0 | AO13: =SUM(AM13:AN13) -> 0 | AR13: =SUM(AP13:AQ13) -> 0 | AU13: =SUM(AS13:AT13) -> 0 | AV13: =AU13+AR13 -> 0 | AZ13: =SUM(AW13:AY13) -> 0 | BB13: =SUM(BA13:BA13) -> 0 | BC13: =BB13+AZ13 -> 0 | BG13: =SUM(BD13:BF13) -> 0 | BH13: =BG13+BC13+AV13+AO13+AL13+AG13+Z13+U13+O13 -> 2 | BI13: 504328.8 | BJ13: =ROUND(BI13,0) -> 504329 | BT13: =BJ13 -> 504329 | BU13: =BT13*BH13 -> 1008658
B14: 7 | C14: ='ESPECIFICACIONES TECNICAS- E.M'!C14 -> Detergente alcalino para lavado de material de vidrio de laboratorio, libre de cloro y sin olor. | D14: ='ESPECIFICACIONES TECNICAS- E.M'!D14 -> NA | E14: ='ESPECIFICACIONES TECNICAS- E.M'!E14 -> NA | F14: ='ESPECIFICACIONES TECNICAS- E.M'!F14 -> Recipiente por 5 L | G14: ='ESPECIFICACIONES TECNICAS- E.M'!G14 -> Un (1) año a partir de la entrega | H14: ='ESPECIFICACIONES TECNICAS- E.M'!H14 -> AMBIENTE | I14: ='ESPECIFICACIONES TECNICAS- E.M'!I14 -> NA | K14: ='ESPECIFICACIONES TECNICAS- E.M'!K14 -> DETERGENTE | L14: ='ESPECIFICACIONES TECNICAS- E.M'!L14 -> NA | O14: =SUM(N14:N14) -> 0 | U14: =SUM(P14:T14) -> 0 | W14: 6 | Y14: 6 | Z14: =SUM(V14:Y14) -> 12 | AD14: =SUM(AA14:AC14) -> 0 | AF14: =SUM(AE14:AE14) -> 0 | AG14: =AF14+AD14 -> 0 | AL14: =SUM(AH14:AK14) -> 0 | AO14: =SUM(AM14:AN14) -> 0 | AR14: =SUM(AP14:AQ14) -> 0 | AU14: =SUM(AS14:AT14) -> 0 | AV14: =AU14+AR14 -> 0 | AX14: 5 | AY14: 5 | AZ14: =SUM(AW14:AY14) -> 10 | BB14: =SUM(BA14:BA14) -> 0 | BC14: =BB14+AZ14 -> 10 | BG14: =SUM(BD14:BF14) -> 0 | BH14: =BG14+BC14+AV14+AO14+AL14+AG14+Z14+U14+O14 -> 22 | BI14: 168109.6 | BJ14: =ROUND(BI14,0) -> 168110 | BT14: =BJ14 -> 168110 | BU14: =BT14*BH14 -> 3698420
B15: 8 | C15: ='ESPECIFICACIONES TECNICAS- E.M'!C15 -> Detergente líquido, neutro, concentrado, libre de cloro y sin olor para laboratorio. | D15: ='ESPECIFICACIONES TECNICAS- E.M'!D15 -> NA | E15: ='ESPECIFICACIONES TECNICAS- E.M'!E15 -> NA | F15: ='ESPECIFICACIONES TECNICAS- E.M'!F15 -> Recipiente por 5 L | G15: ='ESPECIFICACIONES TECNICAS- E.M'!G15 -> Un (1) año a partir de la entrega | H15: ='ESPECIFICACIONES TECNICAS- E.M'!H15 -> AMBIENTE | I15: ='ESPECIFICACIONES TECNICAS- E.M'!I15 -> NA | K15: ='ESPECIFICACIONES TECNICAS- E.M'!K15 -> DETERGENTE | L15: ='ESPECIFICACIONES TECNICAS- E.M'!L15 -> NA | O15: =SUM(N15:N15) -> 0 | U15: =SUM(P15:T15) -> 0 | Z15: =SUM(V15:Y15) -> 0 | AD15: =SUM(AA15:AC15) -> 0 | AE15: 1 | AF15: =SUM(AE15:AE15) -> 1 | AG15: =AF15+AD15 -> 1 | AL15: =SUM(AH15:AK15) -> 0 | AM15: 6 | AN15: 12 | AO15: =SUM(AM15:AN15) -> 18 | AR15: =SUM(AP15:AQ15) -> 0 | AT15: 1 | AU15: =SUM(AS15:AT15) -> 1 | AV15: =AU15+AR15 -> 1 | AW15: 2 | AZ15: =SUM(AW15:AY15) -> 2 | BA15: 1 | BB15: =SUM(BA15:BA15) -> 1 | BC15: =BB15+AZ15 -> 3 | BD15: 15 | BE15: 15 | BF15: 24 | BG15: =SUM(BD15:BF15) -> 54 | BH15: =BG15+BC15+AV15+AO15+AL15+AG15+Z15+U15+O15 -> 77 | BI15: 193326.04 | BJ15: =ROUND(BI15,0) -> 193326 | BT15: =BJ15 -> 193326 | BU15: =BT15*BH15 -> 14886102
B16: 9 | C16: ='ESPECIFICACIONES TECNICAS- E.M'!C16 -> Metanol para análisis | D16: ='ESPECIFICACIONES TECNICAS- E.M'!D16 -> Reactivo analítico o ACS o Análisis o Ph Eur o BP | E16: ='ESPECIFICACIONES TECNICAS- E.M'!E16 -> ≥ 99% | F16: ='ESPECIFICACIONES TECNICAS- E.M'!F16 -> Frasco por 2,5 Litros | G16: ='ESPECIFICACIONES TECNICAS- E.M'!G16 -> Un (1) año a partir de la entrega | H16: ='ESPECIFICACIONES TECNICAS- E.M'!H16 -> AMBIENTE | I16: ='ESPECIFICACIONES TECNICAS- E.M'!I16 -> 67-56-1 | K16: ='ESPECIFICACIONES TECNICAS- E.M'!K16 -> REACTIVO | L16: ='ESPECIFICACIONES TECNICAS- E.M'!L16 -> PUREZA | O16: =SUM(N16:N16) -> 0 | Q16: 2 | U16: =SUM(P16:T16) -> 2 | V16: 1 | Y16: 1 | Z16: =SUM(V16:Y16) -> 2 | AA16: 1 | AD16: =SUM(AA16:AC16) -> 1 | AF16: =SUM(AE16:AE16) -> 0 | AG16: =AF16+AD16 -> 1 | AL16: =SUM(AH16:AK16) -> 0 | AO16: =SUM(AM16:AN16) -> 0 | AR16: =SUM(AP16:AQ16) -> 0 | AU16: =SUM(AS16:AT16) -> 0 | AV16: =AU16+AR16 -> 0 | AX16: 1 | AY16: 2 | AZ16: =SUM(AW16:AY16) -> 3 | BB16: =SUM(BA16:BA16) -> 0 | BC16: =BB16+AZ16 -> 3 | BG16: =SUM(BD16:BF16) -> 0 | BH16: =BG16+BC16+AV16+AO16+AL16+AG16+Z16+U16+O16 -> 8 | BI16: 168109.6 | BJ16: =ROUND(BI16,0) -> 168110 | BT16: =BJ16 -> 168110 | BU16: =BT16*BH16 -> 1344880
B17: 10 | C17: ='ESPECIFICACIONES TECNICAS- E.M'!C17 -> Nitrito de sodio | D17: ='ESPECIFICACIONES TECNICAS- E.M'!D17 -> Reactivo analítico o ACS o Análisis o Ph Eur o BP | E17: ='ESPECIFICACIONES TECNICAS- E.M'!E17 -> ≥ 98% | F17: ='ESPECIFICACIONES TECNICAS- E.M'!F17 -> Frasco por 100 gramos | G17: ='ESPECIFICACIONES TECNICAS- E.M'!G17 -> Un (1) año a partir de la entrega | H17: ='ESPECIFICACIONES TECNICAS- E.M'!H17 -> AMBIENTE | I17: ='ESPECIFICACIONES TECNICAS- E.M'!I17 -> 7632-00-0 | K17: ='ESPECIFICACIONES TECNICAS- E.M'!K17 -> REACTIVO | L17: ='ESPECIFICACIONES TECNICAS- E.M'!L17 -> PUREZA | O17: =SUM(N17:N17) -> 0 | U17: =SUM(P17:T17) -> 0 | V17: 1 | Z17: =SUM(V17:Y17) -> 1 | AD17: =SUM(AA17:AC17) -> 0 | AF17: =SUM(AE17:AE17) -> 0 | AG17: =AF17+AD17 -> 0 | AL17: =SUM(AH17:AK17) -> 0 | AO17: =SUM(AM17:AN17) -> 0 | AR17: =SUM(AP17:AQ17) -> 0 | AU17: =SUM(AS17:AT17) -> 0 | AV17: =AU17+AR17 -> 0 | AZ17: =SUM(AW17:AY17) -> 0 | BB17: =SUM(BA17:BA17) -> 0 | BC17: =BB17+AZ17 -> 0 | BD17: 1 | BG17: =SUM(BD17:BF17) -> 1 | BH17: =BG17+BC17+AV17+AO17+AL17+AG17+Z17+U17+O17 -> 2 | BI17: 151298.64 | BJ17: =ROUND(BI17,0) -> 151299 | BT17: =BJ17 -> 151299 | BU17: =BT17*BH17 -> 302598
B18: 11 | C18: ='ESPECIFICACIONES TECNICAS- E.M'!C18 -> Permanganato de potasio | D18: ='ESPECIFICACIONES TECNICAS- E.M'!D18 -> Reactivo analítico o ACS o Análisis o Ph Eur o BP | E18: ='ESPECIFICACIONES TECNICAS- E.M'!E18 -> ≥ 98% | F18: ='ESPECIFICACIONES TECNICAS- E.M'!F18 -> Frasco por 250 gramos | G18: ='ESPECIFICACIONES TECNICAS- E.M'!G18 -> Un (1) año a partir de la entrega | H18: ='ESPECIFICACIONES TECNICAS- E.M'!H18 -> AMBIENTE | I18: ='ESPECIFICACIONES TECNICAS- E.M'!I18 -> 7722-64-7 | K18: ='ESPECIFICACIONES TECNICAS- E.M'!K18 -> REACTIVO | L18: ='ESPECIFICACIONES TECNICAS- E.M'!L18 -> PUREZA | O18: =SUM(N18:N18) -> 0 | U18: =SUM(P18:T18) -> 0 | Z18: =SUM(V18:Y18) -> 0 | AB18: 1 | AD18: =SUM(AA18:AC18) -> 1 | AF18: =SUM(AE18:AE18) -> 0 | AG18: =AF18+AD18 -> 1 | AL18: =SUM(AH18:AK18) -> 0 | AO18: =SUM(AM18:AN18) -> 0 | AR18: =SUM(AP18:AQ18) -> 0 | AU18: =SUM(AS18:AT18) -> 0 | AV18: =AU18+AR18 -> 0 | AZ18: =SUM(AW18:AY18) -> 0 | BB18: =SUM(BA18:BA18) -> 0 | BC18: =BB18+AZ18 -> 0 | BD18: 1 | BG18: =SUM(BD18:BF18) -> 1 | BH18: =BG18+BC18+AV18+AO18+AL18+AG18+Z18+U18+O18 -> 2 | BI18: 336219.2 | BJ18: =ROUND(BI18,0) -> 336219 | BT18: =BJ18 -> 336219 | BU18: =BT18*BH18 -> 672438
B19: 12 | C19: ='ESPECIFICACIONES TECNICAS- E.M'!C19 -> Acetaldehído | D19: ='ESPECIFICACIONES TECNICAS- E.M'!D19 -> Reactivo analítico o ACS o Análisis o Ph Eur o BP | E19: ='ESPECIFICACIONES TECNICAS- E.M'!E19 -> ≥99,5 % | F19: ='ESPECIFICACIONES TECNICAS- E.M'!F19 -> Frasco por 1 Litro | G19: ='ESPECIFICACIONES TECNICAS- E.M'!G19 -> Un (1) año a partir de la entrega | H19: ='ESPECIFICACIONES TECNICAS- E.M'!H19 -> AMBIENTE | I19: ='ESPECIFICACIONES TECNICAS- E.M'!I19 -> 75-07-0 | K19: ='ESPECIFICACIONES TECNICAS- E.M'!K19 -> REACTIVO | L19: ='ESPECIFICACIONES TECNICAS- E.M'!L19 -> PUREZA | O19: =SUM(N19:N19) -> 0 | U19: =SUM(P19:T19) -> 0 | Y19: 1 | Z19: =SUM(V19:Y19) -> 1 | AD19: =SUM(AA19:AC19) -> 0 | AF19: =SUM(AE19:AE19) -> 0 | AG19: =AF19+AD19 -> 0 | AL19: =SUM(AH19:AK19) -> 0 | AO19: =SUM(AM19:AN19) -> 0 | AQ19: 1 | AR19: =SUM(AP19:AQ19) -> 1 | AU19: =SUM(AS19:AT19) -> 0 | AV19: =AU19+AR19 -> 1 | AY19: 1 | AZ19: =SUM(AW19:AY19) -> 1 | BB19: =SUM(BA19:BA19) -> 0 | BC19: =BB19+AZ19 -> 1 | BF19: 1 | BG19: =SUM(BD19:BF19) -> 1 | BH19: =BG19+BC19+AV19+AO19+AL19+AG19+Z19+U19+O19 -> 4 | BI19: 1540115.4 | BJ19: =ROUND(BI19,0) -> 1540115 | BT19: =BJ19 -> 1540115 | BU19: =BT19*BH19 -> 6160460
B20: 13 | C20: ='ESPECIFICACIONES TECNICAS- E.M'!C20 -> Metanol para LC-MS | D20: ='ESPECIFICACIONES TECNICAS- E.M'!D20 -> LC-MS | E20: ='ESPECIFICACIONES TECNICAS- E.M'!E20 -> ≥99,9 % | F20: ='ESPECIFICACIONES TECNICAS- E.M'!F20 -> Frasco por 4 Litros | G20: ='ESPECIFICACIONES TECNICAS- E.M'!G20 -> Un (1) año a partir de la entrega | H20: ='ESPECIFICACIONES TECNICAS- E.M'!H20 -> AMBIENTE | I20: ='ESPECIFICACIONES TECNICAS- E.M'!I20 -> 67-56-1 | K20: ='ESPECIFICACIONES TECNICAS- E.M'!K20 -> REACTIVO | L20: ='ESPECIFICACIONES TECNICAS- E.M'!L20 -> PUREZA | O20: =SUM(N20:N20) -> 0 | Q20: 9 | U20: =SUM(P20:T20) -> 9 | Y20: 7 | Z20: =SUM(V20:Y20) -> 7 | AC20: 30 | AD20: =SUM(AA20:AC20) -> 30 | AF20: =SUM(AE20:AE20) -> 0 | AG20: =AF20+AD20 -> 30 | AL20: =SUM(AH20:AK20) -> 0 | AN20: 1 | AO20: =SUM(AM20:AN20) -> 1 | AR20: =SUM(AP20:AQ20) -> 0 | AU20: =SUM(AS20:AT20) -> 0 | AV20: =AU20+AR20 -> 0 | AZ20: =SUM(AW20:AY20) -> 0 | BB20: =SUM(BA20:BA20) -> 0 | BC20: =BB20+AZ20 -> 0 | BG20: =SUM(BD20:BF20) -> 0 | BH20: =BG20+BC20+AV20+AO20+AL20+AG20+Z20+U20+O20 -> 47 | BI20: 709783.87 | BJ20: =ROUND(BI20,0) -> 709784 | BT20: =BJ20 -> 709784 | BU20: =BT20*BH20 -> 33359848
B21: 14 | C21: ='ESPECIFICACIONES TECNICAS- E.M'!C21 -> Hexano (n-hexano) | D21: ='ESPECIFICACIONES TECNICAS- E.M'!D21 -> LC-MS | E21: ='ESPECIFICACIONES TECNICAS- E.M'!E21 -> ≥99 % | F21: ='ESPECIFICACIONES TECNICAS- E.M'!F21 -> Frasco por 2,5 Litros | G21: ='ESPECIFICACIONES TECNICAS- E.M'!G21 -> Un (1) año a partir de la entrega | H21: ='ESPECIFICACIONES TECNICAS- E.M'!H21 -> AMBIENTE | I21: ='ESPECIFICACIONES TECNICAS- E.M'!I21 -> 110-54-3 | K21: ='ESPECIFICACIONES TECNICAS- E.M'!K21 -> REACTIVO | L21: ='ESPECIFICACIONES TECNICAS- E.M'!L21 -> PUREZA | O21: =SUM(N21:N21) -> 0 | U21: =SUM(P21:T21) -> 0 | Z21: =SUM(V21:Y21) -> 0 | AC21: 1 | AD21: =SUM(AA21:AC21) -> 1 | AF21: =SUM(AE21:AE21) -> 0 | AG21: =AF21+AD21 -> 1 | AL21: =SUM(AH21:AK21) -> 0 | AO21: =SUM(AM21:AN21) -> 0 | AR21: =SUM(AP21:AQ21) -> 0 | AU21: =SUM(AS21:AT21) -> 0 | AV21: =AU21+AR21 -> 0 | AZ21: =SUM(AW21:AY21) -> 0 | BB21: =SUM(BA21:BA21) -> 0 | BC21: =BB21+AZ21 -> 0 | BG21: =SUM(BD21:BF21) -> 0 | BH21: =BG21+BC21+AV21+AO21+AL21+AG21+Z21+U21+O21 -> 1 | BI21: 1258254.6 | BJ21: =ROUND(BI21,0) -> 1258255 | BT21: =BJ21 -> 1258255 | BU21: =BT21*BH21 -> 1258255
B22: 15 | C22: ='ESPECIFICACIONES TECNICAS- E.M'!C22 -> Sulfato de amonio | D22: ='ESPECIFICACIONES TECNICAS- E.M'!D22 -> Reactivo analítico o ACS o Análisis o Ph Eur o BP | E22: ='ESPECIFICACIONES TECNICAS- E.M'!E22 -> ≥99% | F22: ='ESPECIFICACIONES TECNICAS- E.M'!F22 -> Frasco por 1 Kg | G22: ='ESPECIFICACIONES TECNICAS- E.M'!G22 -> Un (1) año a partir de la entrega | H22: ='ESPECIFICACIONES TECNICAS- E.M'!H22 -> AMBIENTE | I22: ='ESPECIFICACIONES TECNICAS- E.M'!I22 -> 7783-20-2 | K22: ='ESPECIFICACIONES TECNICAS- E.M'!K22 -> REACTIVO | L22: ='ESPECIFICACIONES TECNICAS- E.M'!L22 -> PUREZA | O22: =SUM(N22:N22) -> 0 | U22: =SUM(P22:T22) -> 0 | Z22: =SUM(V22:Y22) -> 0 | AD22: =SUM(AA22:AC22) -> 0 | AF22: =SUM(AE22:AE22) -> 0 | AG22: =AF22+AD22 -> 0 | AJ22: 1 | AL22: =SUM(AH22:AK22) -> 1 | AO22: =SUM(AM22:AN22) -> 0 | AR22: =SUM(AP22:AQ22) -> 0 | AU22: =SUM(AS22:AT22) -> 0 | AV22: =AU22+AR22 -> 0 | AZ22: =SUM(AW22:AY22) -> 0 | BB22: =SUM(BA22:BA22) -> 0 | BC22: =BB22+AZ22 -> 0 | BD22: 1 | BG22: =SUM(BD22:BF22) -> 1 | BH22: =BG22+BC22+AV22+AO22+AL22+AG22+Z22+U22+O22 -> 2 | BI22: 324665.08 | BJ22: =ROUND(BI22,0) -> 324665 | BT22: =BJ22 -> 324665 | BU22: =BT22*BH22 -> 649330
B23: 16 | C23: ='ESPECIFICACIONES TECNICAS- E.M'!C23 -> Oxido de Calcio en polvo | D23: ='ESPECIFICACIONES TECNICAS- E.M'!D23 -> Reactivo analítico o ACS o Análisis o Ph Eur o BP | E23: ='ESPECIFICACIONES TECNICAS- E.M'!E23 -> ≥95% | F23: ='ESPECIFICACIONES TECNICAS- E.M'!F23 -> Frasco por 1 Kg | G23: ='ESPECIFICACIONES TECNICAS- E.M'!G23 -> Un (1) año a partir de la entrega | H23: ='ESPECIFICACIONES TECNICAS- E.M'!H23 -> AMBIENTE | I23: ='ESPECIFICACIONES TECNICAS- E.M'!I23 -> 1305-78-8 | K23: ='ESPECIFICACIONES TECNICAS- E.M'!K23 -> REACTIVO | L23: ='ESPECIFICACIONES TECNICAS- E.M'!L23 -> PUREZA | O23: =SUM(N23:N23) -> 0 | U23: =SUM(P23:T23) -> 0 | Z23: =SUM(V23:Y23) -> 0 | AD23: =SUM(AA23:AC23) -> 0 | AF23: =SUM(AE23:AE23) -> 0 | AG23: =AF23+AD23 -> 0 | AL23: =SUM(AH23:AK23) -> 0 | AO23: =SUM(AM23:AN23) -> 0 | AR23: =SUM(AP23:AQ23) -> 0 | AU23: =SUM(AS23:AT23) -> 0 | AV23: =AU23+AR23 -> 0 | AZ23: =SUM(AW23:AY23) -> 0 | BB23: =SUM(BA23:BA23) -> 0 | BC23: =BB23+AZ23 -> 0 | BD23: 1 | BG23: =SUM(BD23:BF23) -> 1 | BH23: =BG23+BC23+AV23+AO23+AL23+AG23+Z23+U23+O23 -> 1 | BI23: 642204.45 | BJ23: =ROUND(BI23,0) -> 642204 | BT23: =BJ23 -> 642204 | BU23: =BT23*BH23 -> 642204
B24: 17 | C24: ='ESPECIFICACIONES TECNICAS- E.M'!C24 -> Tiocianato de Potasio | D24: ='ESPECIFICACIONES TECNICAS- E.M'!D24 -> Reactivo analítico o ACS o Análisis o Ph Eur o BP | E24: ='ESPECIFICACIONES TECNICAS- E.M'!E24 -> ≥95% | F24: ='ESPECIFICACIONES TECNICAS- E.M'!F24 -> Frasco por 100 gramos | G24: ='ESPECIFICACIONES TECNICAS- E.M'!G24 -> Un (1) año a partir de la entrega | H24: ='ESPECIFICACIONES TECNICAS- E.M'!H24 -> AMBIENTE | I24: ='ESPECIFICACIONES TECNICAS- E.M'!I24 -> 333-20-0 | K24: ='ESPECIFICACIONES TECNICAS- E.M'!K24 -> REACTIVO | L24: ='ESPECIFICACIONES TECNICAS- E.M'!L24 -> PUREZA | O24: =SUM(N24:N24) -> 0 | U24: =SUM(P24:T24) -> 0 | Z24: =SUM(V24:Y24) -> 0 | AD24: =SUM(AA24:AC24) -> 0 | AF24: =SUM(AE24:AE24) -> 0 | AG24: =AF24+AD24 -> 0 | AL24: =SUM(AH24:AK24) -> 0 | AO24: =SUM(AM24:AN24) -> 0 | AR24: =SUM(AP24:AQ24) -> 0 | AU24: =SUM(AS24:AT24) -> 0 | AV24: =AU24+AR24 -> 0 | AZ24: =SUM(AW24:AY24) -> 0 | BB24: =SUM(BA24:BA24) -> 0 | BC24: =BB24+AZ24 -> 0 | BD24: 1 | BG24: =SUM(BD24:BF24) -> 1 | BH24: =BG24+BC24+AV24+AO24+AL24+AG24+Z24+U24+O24 -> 1 | BI24: 275904.36 | BJ24: =ROUND(BI24,0) -> 275904 | BT24: =BJ24 -> 275904 | BU24: =BT24*BH24 -> 275904
B25: 18 | C25: ='ESPECIFICACIONES TECNICAS- E.M'!C25 -> Fenolftaleína | D25: ='ESPECIFICACIONES TECNICAS- E.M'!D25 -> Reactivo analítico | E25: ='ESPECIFICACIONES TECNICAS- E.M'!E25 -> NA | F25: ='ESPECIFICACIONES TECNICAS- E.M'!F25 -> Frasco por 100 gramos | G25: ='ESPECIFICACIONES TECNICAS- E.M'!G25 -> Un (1) año a partir de la entrega | H25: ='ESPECIFICACIONES TECNICAS- E.M'!H25 -> AMBIENTE | I25: ='ESPECIFICACIONES TECNICAS- E.M'!I25 -> 77-09-8 | K25: ='ESPECIFICACIONES TECNICAS- E.M'!K25 -> REACTIVO | L25: ='ESPECIFICACIONES TECNICAS- E.M'!L25 -> NA | O25: =SUM(N25:N25) -> 0 | U25: =SUM(P25:T25) -> 0 | Z25: =SUM(V25:Y25) -> 0 | AD25: =SUM(AA25:AC25) -> 0 | AF25: =SUM(AE25:AE25) -> 0 | AG25: =AF25+AD25 -> 0 | AL25: =SUM(AH25:AK25) -> 0 | AO25: =SUM(AM25:AN25) -> 0 | AR25: =SUM(AP25:AQ25) -> 0 | AU25: =SUM(AS25:AT25) -> 0 | AV25: =AU25+AR25 -> 0 | AX25: 1 | AZ25: =SUM(AW25:AY25) -> 1 | BB25: =SUM(BA25:BA25) -> 0 | BC25: =BB25+AZ25 -> 1 | BD25: 1 | BG25: =SUM(BD25:BF25) -> 1 | BH25: =BG25+BC25+AV25+AO25+AL25+AG25+Z25+U25+O25 -> 2 | BK25: ='ESPECIFICACIONES TECNICAS- E.M'!BM25 -> 218960 | BL25: ='ESPECIFICACIONES TECNICAS- E.M'!BP25 -> 261800 | BM25: ='ESPECIFICACIONES TECNICAS- E.M'!BS25 -> 227171 | BN25: ='ESPECIFICACIONES TECNICAS- E.M'!BV25 -> 214200 | BO25: ='ESPECIFICACIONES TECNICAS- E.M'!BY25 -> 261800 | BP25: ='ESPECIFICACIONES TECNICAS- E.M'!CB25 -> 223244 | BQ25: ='ESPECIFICACIONES TECNICAS- E.M'!CE25 -> 312970 | BR25: =ROUND(GEOMEAN(BK25:BQ25),0) -> 243682 | BS25: =ROUND(HARMEAN(BK25:BQ25),0) -> 241783 | BT25: =BR25 -> 243682 | BU25: =BT25*BH25 -> 487364 | BX25: =+IF(CD25>0.3,BS25,BR25) -> 243682 | BY25: =BX25-BT25 -> 0 | CA25: =+VAR(BK25:BN25) -> 4.6320985e+08 | CB25: =+STDEV(BK25:BQ25) -> 35586.837 | CC25: =+AVERAGEIF(BJ25:BQ25,"<>") -> 245735 | CD25: =CB25/CC25 -> 0.14481794
B26: 19 | C26: ='ESPECIFICACIONES TECNICAS- E.M'!C26 -> Vainillina | D26: ='ESPECIFICACIONES TECNICAS- E.M'!D26 -> Reactivo analítico o ACS o Análisis o Ph Eur o BP | E26: ='ESPECIFICACIONES TECNICAS- E.M'!E26 -> ≥98% | F26: ='ESPECIFICACIONES TECNICAS- E.M'!F26 -> Frasco por 100 gramos | G26: ='ESPECIFICACIONES TECNICAS- E.M'!G26 -> Un (1) año a partir de la entrega | H26: ='ESPECIFICACIONES TECNICAS- E.M'!H26 -> AMBIENTE | I26: ='ESPECIFICACIONES TECNICAS- E.M'!I26 -> 121-33-5 | K26: ='ESPECIFICACIONES TECNICAS- E.M'!K26 -> REACTIVO | L26: ='ESPECIFICACIONES TECNICAS- E.M'!L26 -> PUREZA | O26: =SUM(N26:N26) -> 0 | U26: =SUM(P26:T26) -> 0 | Z26: =SUM(V26:Y26) -> 0 | AD26: =SUM(AA26:AC26) -> 0 | AF26: =SUM(AE26:AE26) -> 0 | AG26: =AF26+AD26 -> 0 | AL26: =SUM(AH26:AK26) -> 0 | AO26: =SUM(AM26:AN26) -> 0 | AR26: =SUM(AP26:AQ26) -> 0 | AU26: =SUM(AS26:AT26) -> 0 | AV26: =AU26+AR26 -> 0 | AZ26: =SUM(AW26:AY26) -> 0 | BB26: =SUM(BA26:BA26) -> 0 | BC26: =BB26+AZ26 -> 0 | BD26: 1 | BG26: =SUM(BD26:BF26) -> 1 | BH26: =BG26+BC26+AV26+AO26+AL26+AG26+Z26+U26+O26 -> 1 | BK26: ='ESPECIFICACIONES TECNICAS- E.M'!BM26 -> 328440 | BL26: ='ESPECIFICACIONES TECNICAS- E.M'!BP26 -> 428400 | BM26: ='ESPECIFICACIONES TECNICAS- E.M'!BS26 -> 476000 | BN26: ='ESPECIFICACIONES TECNICAS- E.M'!BV26 -> 540379 | BO26: ='ESPECIFICACIONES TECNICAS- E.M'!BY26 -> 547400 | BP26: ='ESPECIFICACIONES TECNICAS- E.M'!CB26 -> 493850 | BQ26: ='ESPECIFICACIONES TECNICAS- E.M'!CE26 -> 451010 | BR26: =ROUND(GEOMEAN(BK26:BQ26),0) -> 460817 | BS26: =ROUND(HARMEAN(BK26:BQ26),0) -> 454565 | BT26: =BR26 -> 460817 | BU26: =BT26*BH26 -> 460817 | BX26: =+IF(CD26>0.3,BS26,BR26) -> 460817 | BY26: =BX26-BT26 -> 0 | CA26: =+VAR(BK26:BN26) -> 7.9694839e+09 | CB26: =+STDEV(BK26:BQ26) -> 74825.689 | CC26: =+AVERAGEIF(BJ26:BQ26,"<>") -> 466497 | CD26: =CB26/CC26 -> 0.16039908
B27: 20 | C27: ='ESPECIFICACIONES TECNICAS- E.M'!C27 -> Fosfato de sodio monobasico Anhidro | D27: ='ESPECIFICACIONES TECNICAS- E.M'!D27 -> Reactivo analítico o ACS o Análisis o Ph Eur o BP | E27: ='ESPECIFICACIONES TECNICAS- E.M'!E27 -> ≥98% | F27: ='ESPECIFICACIONES TECNICAS- E.M'!F27 -> Frasco por 500 gramos | G27: ='ESPECIFICACIONES TECNICAS- E.M'!G27 -> Un (1) año a partir de la entrega | H27: ='ESPECIFICACIONES TECNICAS- E.M'!H27 -> AMBIENTE | I27: ='ESPECIFICACIONES TECNICAS- E.M'!I27 -> 7558-80-7 | K27: ='ESPECIFICACIONES TECNICAS- E.M'!K27 -> REACTIVO | L27: ='ESPECIFICACIONES TECNICAS- E.M'!L27 -> NA | O27: =SUM(N27:N27) -> 0 | U27: =SUM(P27:T27) -> 0 | Z27: =SUM(V27:Y27) -> 0 | AB27: 1 | AD27: =SUM(AA27:AC27) -> 1 | AF27: =SUM(AE27:AE27) -> 0 | AG27: =AF27+AD27 -> 1 | AL27: =SUM(AH27:AK27) -> 0 | AN27: 1 | AO27: =SUM(AM27:AN27) -> 1 | AR27: =SUM(AP27:AQ27) -> 0 | AU27: =SUM(AS27:AT27) -> 0 | AV27: =AU27+AR27 -> 0 | AX27: 5 | AZ27: =SUM(AW27:AY27) -> 5 | BB27: =SUM(BA27:BA27) -> 0 | BC27: =BB27+AZ27 -> 5 | BG27: =SUM(BD27:BF27) -> 0 | BH27: =BG27+BC27+AV27+AO27+AL27+AG27+Z27+U27+O27 -> 7 | BK27: ='ESPECIFICACIONES TECNICAS- E.M'!BM27 -> 202300 | BL27: ='ESPECIFICACIONES TECNICAS- E.M'!BP27 -> 499800 | BM27: ='ESPECIFICACIONES TECNICAS- E.M'!BS27 -> 571200 | BN27: ='ESPECIFICACIONES TECNICAS- E.M'!BV27 -> 525504 | BO27: ='ESPECIFICACIONES TECNICAS- E.M'!BY27 -> 464100 | BP27: ='ESPECIFICACIONES TECNICAS- E.M'!CB27 -> 437920 | BQ27: ='ESPECIFICACIONES TECNICAS- E.M'!CE27 -> 1214990 | BR27: =ROUND(GEOMEAN(BK27:BQ27),0) -> 497039 | BS27: =ROUND(HARMEAN(BK27:BQ27),0) -> 441393 | BT27: =BS27 -> 441393 | BU27: =BT27*BH27 -> 3089751 | BX27: =+IF(CD27>0.3,BS27,BR27) -> 441393 | BY27: =BX27-BT27 -> 0 | CA27: =+VAR(BK27:BN27) -> 28075088804 | CB27: =+STDEV(BK27:BQ27) -> 312516.26 | CC27: =+AVERAGEIF(BJ27:BQ27,"<>") -> 559402 | CD27: =CB27/CC27 -> 0.55866132
B28: 21 | C28: ='ESPECIFICACIONES TECNICAS- E.M'!C28 -> Alcohol isopropílico (2-Propanol)/Isopropanol | D28: ='ESPECIFICACIONES TECNICAS- E.M'!D28 -> LC MS | E28: ='ESPECIFICACIONES TECNICAS- E.M'!E28 -> ≥99% | F28: ='ESPECIFICACIONES TECNICAS- E.M'!F28 -> Frasco por 4 Litros | G28: ='ESPECIFICACIONES TECNICAS- E.M'!G28 -> Un (1) año a partir de la entrega | H28: ='ESPECIFICACIONES TECNICAS- E.M'!H28 -> AMBIENTE | I28: ='ESPECIFICACIONES TECNICAS- E.M'!I28 -> 67-63-0 | K28: ='ESPECIFICACIONES TECNICAS- E.M'!K28 -> REACTIVO | L28: ='ESPECIFICACIONES TECNICAS- E.M'!L28 -> PUREZA | O28: =SUM(N28:N28) -> 0 | U28: =SUM(P28:T28) -> 0 | Y28: 2 | Z28: =SUM(V28:Y28) -> 2 | AD28: =SUM(AA28:AC28) -> 0 | AF28: =SUM(AE28:AE28) -> 0 | AG28: =AF28+AD28 -> 0 | AL28: =SUM(AH28:AK28) -> 0 | AO28: =SUM(AM28:AN28) -> 0 | AR28: =SUM(AP28:AQ28) -> 0 | AU28: =SUM(AS28:AT28) -> 0 | AV28: =AU28+AR28 -> 0 | AZ28: =SUM(AW28:AY28) -> 0 | BB28: =SUM(BA28:BA28) -> 0 | BC28: =BB28+AZ28 -> 0 | BG28: =SUM(BD28:BF28) -> 0 | BH28: =BG28+BC28+AV28+AO28+AL28+AG28+Z28+U28+O28 -> 2 | BN28: ='ESPECIFICACIONES TECNICAS- E.M'!BV28 -> 4284000 | BO28: ='ESPECIFICACIONES TECNICAS- E.M'!BY28 -> 987700 | BP28: ='ESPECIFICACIONES TECNICAS- E.M'!CB28 -> 657237 | BQ28: ='ESPECIFICACIONES TECNICAS- E.M'!CE28 -> 921060 | BR28: =ROUND(GEOMEAN(BK28:BQ28),0) -> 1265089 | BS28: =ROUND(HARMEAN(BK28:BQ28),0) -> 1038123 | BT28: =BS28 -> 1038123 | BU28: =BT28*BH28 -> 2076246 | BX28: =+IF(CD28>0.3,BS28,BR28) -> 1038123 | BY28: =BX28-BT28 -> 0 | CA28: =+VAR(BK28:BN28) -> #DIV/0! | CB28: =+STDEV(BK28:BQ28) -> 1720262.1 | CC28: =+AVERAGEIF(BJ28:BQ28,"<>") -> 1712499.2 | CD28: =CB28/CC28 -> 1.004533
B29: 22 | C29: ='ESPECIFICACIONES TECNICAS- E.M'!C29 -> Ácido fórmico | D29: ='ESPECIFICACIONES TECNICAS- E.M'!D29 -> LC MS | E29: ='ESPECIFICACIONES TECNICAS- E.M'!E29 -> ≥98% | F29: ='ESPECIFICACIONES TECNICAS- E.M'!F29 -> Frasco por 50 ml | G29: ='ESPECIFICACIONES TECNICAS- E.M'!G29 -> Un (1) año a partir de la entrega | H29: ='ESPECIFICACIONES TECNICAS- E.M'!H29 -> AMBIENTE | I29: ='ESPECIFICACIONES TECNICAS- E.M'!I29 -> CAS 64-18-6 | K29: ='ESPECIFICACIONES TECNICAS- E.M'!K29 -> REACTIVO | L29: ='ESPECIFICACIONES TECNICAS- E.M'!L29 -> PUREZA | O29: =SUM(N29:N29) -> 0 | Q29: 4 | U29: =SUM(P29:T29) -> 4 | Z29: =SUM(V29:Y29) -> 0 | AD29: =SUM(AA29:AC29) -> 0 | AF29: =SUM(AE29:AE29) -> 0 | AG29: =AF29+AD29 -> 0 | AL29: =SUM(AH29:AK29) -> 0 | AO29: =SUM(AM29:AN29) -> 0 | AR29: =SUM(AP29:AQ29) -> 0 | AU29: =SUM(AS29:AT29) -> 0 | AV29: =AU29+AR29 -> 0 | AZ29: =SUM(AW29:AY29) -> 0 | BB29: =SUM(BA29:BA29) -> 0 | BC29: =BB29+AZ29 -> 0 | BG29: =SUM(BD29:BF29) -> 0 | BH29: =BG29+BC29+AV29+AO29+AL29+AG29+Z29+U29+O29 -> 4 | BK29: ='ESPECIFICACIONES TECNICAS- E.M'!BM29 -> 183260 | BN29: ='ESPECIFICACIONES TECNICAS- E.M'!BV29 -> 8139600 | BO29: ='ESPECIFICACIONES TECNICAS- E.M'!BY29 -> 1344700 | BP29: ='ESPECIFICACIONES TECNICAS- E.M'!CB29 -> 897974 | BQ29: ='ESPECIFICACIONES TECNICAS- E.M'!CE29 -> 1257830 | BR29: =ROUND(GEOMEAN(BK29:BQ29),0) -> 1177705 | BS29: =ROUND(HARMEAN(BK29:BQ29),0) -> 607394 | BT29: =BS29 -> 607394 | BU29: =BT29*BH29 -> 2429576 | BX29: =+IF(CD29>0.3,BS29,BR29) -> 607394 | BY29: =BX29-BT29 -> 0 | CA29: =+VAR(BK29:BN29) -> 31651673097800 | CB29: =+STDEV(BK29:BQ29) -> 3260559.6 | CC29: =+AVERAGEIF(BJ29:BQ29,"<>") -> 2364672.8 | CD29: =CB29/CC29 -> 1.3788629
B30: 23 | C30: ='ESPECIFICACIONES TECNICAS- E.M'!C30 -> Ácido acético glacial | D30: ='ESPECIFICACIONES TECNICAS- E.M'!D30 -> LC MS | E30: ='ESPECIFICACIONES TECNICAS- E.M'!E30 -> ≥99% | F30: ='ESPECIFICACIONES TECNICAS- E.M'!F30 -> Frasco por 50 ml | G30: ='ESPECIFICACIONES TECNICAS- E.M'!G30 -> Un (1) año a partir de la entrega | H30: ='ESPECIFICACIONES TECNICAS- E.M'!H30 -> AMBIENTE | I30: ='ESPECIFICACIONES TECNICAS- E.M'!I30 -> CAS 64-19-7 | K30: ='ESPECIFICACIONES TECNICAS- E.M'!K30 -> REACTIVO | L30: ='ESPECIFICACIONES TECNICAS- E.M'!L30 -> PUREZA | O30: =SUM(N30:N30) -> 0 | Q30: 2 | U30: =SUM(P30:T30) -> 2 | Z30: =SUM(V30:Y30) -> 0 | AD30: =SUM(AA30:AC30) -> 0 | AF30: =SUM(AE30:AE30) -> 0 | AG30: =AF30+AD30 -> 0 | AL30: =SUM(AH30:AK30) -> 0 | AO30: =SUM(AM30:AN30) -> 0 | AR30: =SUM(AP30:AQ30) -> 0 | AU30: =SUM(AS30:AT30) -> 0 | AV30: =AU30+AR30 -> 0 | AZ30: =SUM(AW30:AY30) -> 0 | BB30: =SUM(BA30:BA30) -> 0 | BC30: =BB30+AZ30 -> 0 | BG30: =SUM(BD30:BF30) -> 0 | BH30: =BG30+BC30+AV30+AO30+AL30+AG30+Z30+U30+O30 -> 2 | BN30: ='ESPECIFICACIONES TECNICAS- E.M'!BV30 -> 2856000 | BO30: ='ESPECIFICACIONES TECNICAS- E.M'!BY30 -> 546210 | BP30: ='ESPECIFICACIONES TECNICAS- E.M'!CB30 -> 363545 | BQ30: ='ESPECIFICACIONES TECNICAS- E.M'!CE30 -> 509320 | BR30: =ROUND(GEOMEAN(BK30:BQ30),0) -> 733106 | BS30: =ROUND(HARMEAN(BK30:BQ30),0) -> 580128 | BT30: =BS30 -> 580128 | BU30: =BT30*BH30 -> 1160256 | BX30: =+IF(CD30>0.3,BS30,BR30) -> 580128 | BY30: =BX30-BT30 -> 0 | CA30: =+VAR(BK30:BN30) -> #DIV/0! | CB30: =+STDEV(BK30:BQ30) -> 1194094.7 | CC30: =+AVERAGEIF(BJ30:BQ30,"<>") -> 1068768.8 | CD30: =CB30/CC30 -> 1.117262
B31: 24 | C31: ='ESPECIFICACIONES TECNICAS- E.M'!C31 -> Alcohol etílico | D31: ='ESPECIFICACIONES TECNICAS- E.M'!D31 -> Reactivo analítico o ACS o Análisis o Ph Eur o BP | E31: ='ESPECIFICACIONES TECNICAS- E.M'!E31 -> ≥95 % | F31: ='ESPECIFICACIONES TECNICAS- E.M'!F31 -> Frasco por 2,5 Litros | G31: ='ESPECIFICACIONES TECNICAS- E.M'!G31 -> Un (1) año a partir de la entrega | H31: ='ESPECIFICACIONES TECNICAS- E.M'!H31 -> AMBIENTE | I31: ='ESPECIFICACIONES TECNICAS- E.M'!I31 -> 64-17-5 | K31: ='ESPECIFICACIONES TECNICAS- E.M'!K31 -> REACTIVO | L31: ='ESPECIFICACIONES TECNICAS- E.M'!L31 -> PUREZA | O31: =SUM(N31:N31) -> 0 | U31: =SUM(P31:T31) -> 0 | W31: 10 | Z31: =SUM(V31:Y31) -> 10 | AD31: =SUM(AA31:AC31) -> 0 | AF31: =SUM(AE31:AE31) -> 0 | AG31: =AF31+AD31 -> 0 | AH31: 2 | AJ31: 5 | AL31: =SUM(AH31:AK31) -> 7 | AM31: 2 | AO31: =SUM(AM31:AN31) -> 2 | AR31: =SUM(AP31:AQ31) -> 0 | AU31: =SUM(AS31:AT31) -> 0 | AV31: =AU31+AR31 -> 0 | AX31: 25 | AY31: 2 | AZ31: =SUM(AW31:AY31) -> 27 | BB31: =SUM(BA31:BA31) -> 0 | BC31: =BB31+AZ31 -> 27 | BD31: 20 | BE31: 10 | BG31: =SUM(BD31:BF31) -> 30 | BH31: =BG31+BC31+AV31+AO31+AL31+AG31+Z31+U31+O31 -> 76 | BK31: ='ESPECIFICACIONES TECNICAS- E.M'!BM31 -> 197540 | BM31: ='ESPECIFICACIONES TECNICAS- E.M'!BS31 -> 434350 | BN31: ='ESPECIFICACIONES TECNICAS- E.M'!BV31 -> 157080 | BO31: ='ESPECIFICACIONES TECNICAS- E.M'!BY31 -> 406980 | BP31: ='ESPECIFICACIONES TECNICAS- E.M'!CB31 -> 301546 | BQ31: ='ESPECIFICACIONES TECNICAS- E.M'!CE31 -> 366520 | BR31: =ROUND(GEOMEAN(BK31:BQ31),0) -> 290920 | BS31: =ROUND(HARMEAN(BK31:BQ31),0) -> 269876 | BT31: =BS31 -> 269876 | BU31: =BT31*BH31 -> 20510576 | BX31: =+IF(CD31>0.3,BS31,BR31) -> 269876 | BY31: =BX31-BT31 -> 0 | CA31: =+VAR(BK31:BN31) -> 22432440100 | CB31: =+STDEV(BK31:BQ31) -> 113281.17 | CC31: =+AVERAGEIF(BJ31:BQ31,"<>") -> 310669.33 | CD31: =CB31/CC31 -> 0.36463582
B32: 25 | C32: ='ESPECIFICACIONES TECNICAS- E.M'!C32 -> Extrelut® NT, referencia 1150921000 | E32: ='ESPECIFICACIONES TECNICAS- E.M'!E32 -> NA | F32: ='ESPECIFICACIONES TECNICAS- E.M'!F32 -> Frasco por 1 Kg | G32: ='ESPECIFICACIONES TECNICAS- E.M'!G32 -> Un (1) año a partir de la entrega | H32: ='ESPECIFICACIONES TECNICAS- E.M'!H32 -> AMBIENTE | I32: ='ESPECIFICACIONES TECNICAS- E.M'!I32 -> 68855-54-9 | K32: ='ESPECIFICACIONES TECNICAS- E.M'!K32 -> REACTIVO | L32: ='ESPECIFICACIONES TECNICAS- E.M'!L32 -> NA | O32: =SUM(N32:N32) -> 0 | U32: =SUM(P32:T32) -> 0 | Z32: =SUM(V32:Y32) -> 0 | AB32: 1 | AD32: =SUM(AA32:AC32) -> 1 | AF32: =SUM(AE32:AE32) -> 0 | AG32: =AF32+AD32 -> 1 | AL32: =SUM(AH32:AK32) -> 0 | AO32: =SUM(AM32:AN32) -> 0 | AR32: =SUM(AP32:AQ32) -> 0 | AU32: =SUM(AS32:AT32) -> 0 | AV32: =AU32+AR32 -> 0 | AZ32: =SUM(AW32:AY32) -> 0 | BB32: =SUM(BA32:BA32) -> 0 | BC32: =BB32+AZ32 -> 0 | BG32: =SUM(BD32:BF32) -> 0 | BH32: =BG32+BC32+AV32+AO32+AL32+AG32+Z32+U32+O32 -> 1 | BM32: ='ESPECIFICACIONES TECNICAS- E.M'!BS32 -> 6328658 | BN32: ='ESPECIFICACIONES TECNICAS- E.M'!BV32 -> 6126596 | BO32: ='ESPECIFICACIONES TECNICAS- E.M'!BY32 -> 6301050 | BP32: ='ESPECIFICACIONES TECNICAS- E.M'!CB32 -> 4201057 | BQ32: ='ESPECIFICACIONES TECNICAS- E.M'!CE32 -> 5882170 | BR32: =ROUND(GEOMEAN(BK32:BQ32),0) -> 5703849 | BS32: =ROUND(HARMEAN(BK32:BQ32),0) -> 5630767 | BT32: =BR32 -> 5703849 | BU32: =BT32*BH32 -> 5703849 | BX32: =+IF(CD32>0.3,BS32,BR32) -> 5703849 | BY32: =BX32-BT32 -> 0 | CA32: =+VAR(BK32:BN32) -> 20414525922 | CB32: =+STDEV(BK32:BQ32) -> 893786.31 | CC32: =+AVERAGEIF(BJ32:BQ32,"<>") -> 5767906.2 | CD32: =CB32/CC32 -> 0.15495854
B33: CANTIDAD TOTAL POR SERVICIO | N33: =SUM(N8:N32) -> 67 | O33: =SUM(O8:O32) -> 67 | P33: =SUM(P8:P32) -> 0 | Q33: =SUM(Q8:Q32) -> 17 | R33: =SUM(R8:R32) -> 0 | S33: =SUM(S8:S32) -> 22 | T33: =SUM(T8:T32) -> 0 | U33: =SUM(U8:U32) -> 39 | ... AK33: =SUM(AK8:AK32) -> 0 | AL33: =SUM(AL8:AL24) -> 1 | AM33: =SUM(AM8:AM32) -> 8 | AN33: =SUM(AN8:AN32) -> 15 | AO33: =SUM(AO8:AO32) -> 23 | AP33: =SUM(AP8:AP32) -> 0 | AQ33: =SUM(AQ8:AQ32) -> 1 | AR33: =SUM(AR8:AR32) -> 1 | AS33: =SUM(AS8:AS32) -> 0 | AT33: =SUM(AT8:AT32) -> 16 | ... BH33: =SUM(BH8:BH32) -> 400 | BI33: VALOR TOTAL POR LOTE | BL33: =BV8 -> 125875132
B35: LOTE 2
B38: ITEM | C38: ESPECIFICACION TECNICA | D38: GRADO | E38: PUREZA | F38: PRESENTACION O UNIDAD DE MEDIDA | G38: VIGENCIA MINIMA | H38: CONDICION DE ALMACENAMIENTO | I38: NUMERO DE CAS | J38: CLASIFICACION CODIGOS UNSPSC | K38: IDENTIFICACION ADICIONAL REQUERIDA | L38: CALIDAD MINIMA | M38: PATRONES DE DESEMPEÑO | N38: DIRECCION GENERAL | P38: REGIONAL BOGOTÁ | V38: REGIONAL NOROCCIDENTE | AA38: REGIONAL NORORIENTE | AH38: REGIONAL NORTE | AM38: REGIONAL OCCIDENTE | AP38: REGIONAL ORIENTE | AW38: REGIONAL SUR | BD38: REGIONAL SUROCCIDENTE | BH38: CANTIDAD TOTAL | BI38: HISTORICOS 2024 | BK38: VALOR TOTAL POR ITEM | BL38: VALOR TOTAL POR LOTE
AA39: SECCIONAL SANTANDER | AE39: SECCIONAL NORTE DE SANTANDER | AH39: SECCIONAL ATLÁNTICO | AP39: SECCIONAL BOYACÁ | AS39: SECCIONAL META | AV39: TOTAL REGIONAL ORIENTE | AW39: SECCIONAL TOLIMA | BA39: SECCIONAL HUILA | BC39: TOTAL REGIONAL SUR | BI39: VALOR UNITARIO CONTRATO | BJ39: VALOR UNITARIO CONTRATO CON IPC
N40: GRUPO APOYO-SNVJRNR | O40: TOTAL | P40: BIOLOGIA | Q40: ESTUPEFACIENTES | R40: E. TRAZA | S40: GENETICA | T40: TOXICOLOGIA | U40: TOTAL REGIONAL BOGOTÁ | V40: BALISTICA | W40: ESTUPEFACIENTES | X40: GENETICA | Y40: TOXICOLOGIA | Z40: TOTAL REGIONAL NOROCCIDENTE | AA40: BALISTICA | AB40: ESTUPEFACIENTES | AC40: TOXICOLOGIA | AD40: TOTAL SECCIONAL SANTANDER | AE40: BIOLOGIA | AF40: TOTAL SECCIONAL NTE SANTANDER | AG40: TOTAL REGIONAL NORORIENTE | AH40: BIOLOGIA | AI40: BALISTICA | AJ40: ESTUPEFACIENTES | AK40: TOXICOLOGIA | AL40: TOTAL REGIONAL NORTE | AM40: ESTUPEFACIENTES | AN40: TOXICOLOGIA | AO40: TOTAL REGIONAL OCCIDENTE | AP40: BALISTICA | AQ40: TOXICOLOGIA | AR40: TOTAL SECCIONAL BOYACÁ | AS40: BALISTICA | AT40: GENETICA | AU40: TOTAL SECCIONAL META | AW40: BIOLOGIA | AX40: ESTUPEFACIENTES | AY40: TOXICOLOGIA | AZ40: TOTAL SECCIONAL TOLIMA | BA40: BIOLOGIA | BB40: TOTAL SECCIONAL HUILA | BD40: ESTUPEFACIENTES | BE40: GENETICA | BF40: TOXICOLOGIA | BG40: TOTAL REGIONAL SUROCCIDENTE
B41: 26 | C41: ='ESPECIFICACIONES TECNICAS- E.M'!C41 -> Acetona | D41: ='ESPECIFICACIONES TECNICAS- E.M'!D41 -> Reactivo analítico o ACS o Análisis o Ph Eur o BP | E41: ='ESPECIFICACIONES TECNICAS- E.M'!E41 -> ≥99,5 % | F41: ='ESPECIFICACIONES TECNICAS- E.M'!F41 -> Frasco por 4 Litros | G41: ='ESPECIFICACIONES TECNICAS- E.M'!G41 -> Un (1) año a partir de la entrega | H41: ='ESPECIFICACIONES TECNICAS- E.M'!H41 -> AMBIENTE | I41: ='ESPECIFICACIONES TECNICAS- E.M'!I41 -> 67-64-1 | J41: ='ESPECIFICACIONES TECNICAS- E.M'!J41:J56 -> 12161500 12191500 12191600 12352100 12352300 | K41: ='ESPECIFICACIONES TECNICAS- E.M'!K41 -> REACTIVO | L41: ='ESPECIFICACIONES TECNICAS- E.M'!L41 -> PUREZA | M41: ='ESPECIFICACIONES TECNICAS- E.M'!M41:M56 -> ANALISIS DE SUSTACIA | O41: =SUM(N41:N41) -> 0 | U41: =SUM(P41:T41) -> 0 | Z41: =SUM(V41:Y41) -> 0 | AB41: 1 | AD41: =SUM(AA41:AC41) -> 1 | AF41: =SUM(AE41:AE41) -> 0 | AG41: =AF41+AD41 -> 1 | AL41: =SUM(AH41:AK41) -> 0 | AM41: 2 | AO41: =SUM(AM41:AN41) -> 2 | AR41: =SUM(AP41:AQ41) -> 0 | AS41: 1 | AU41: =SUM(AS41:AT41) -> 1 | AV41: =AU41+AR41 -> 1 | AX41: 1 | AZ41: =SUM(AW41:AY41) -> 1 | BC41: =BB41+AZ41 -> 1 | BD41: 2 | BF41: 2 | BG41: =SUM(BD41:BF41) -> 4 | BH41: =BG41+BC41+AV41+AO41+AL41+AG41+Z41+U41+O41 -> 9 | BI41: 178987.28 | BJ41: =ROUND(BI41,0) -> 178987 | BK41: =BJ41*BH41 -> 1610883 | BL41: =SUM(BK41:BK56) -> 20048186
B42: 27 | C42: ='ESPECIFICACIONES TECNICAS- E.M'!C42 -> Ácido acético glacial | D42: ='ESPECIFICACIONES TECNICAS- E.M'!D42 -> Reactivo analítico o ACS o Análisis o Ph Eur o BP | E42: ='ESPECIFICACIONES TECNICAS- E.M'!E42 -> ≥99%, | F42: ='ESPECIFICACIONES TECNICAS- E.M'!F42 -> Frasco por 2,5 Litros | G42: ='ESPECIFICACIONES TECNICAS- E.M'!G42 -> Un (1) año a partir de la entrega | H42: ='ESPECIFICACIONES TECNICAS- E.M'!H42 -> AMBIENTE | I42: ='ESPECIFICACIONES TECNICAS- E.M'!I42 -> 64-19-7 | K42: ='ESPECIFICACIONES TECNICAS- E.M'!K42 -> REACTIVO | L42: ='ESPECIFICACIONES TECNICAS- E.M'!L42 -> PUREZA | O42: =SUM(N42:N42) -> 0 | U42: =SUM(P42:T42) -> 0 | Z42: =SUM(V42:Y42) -> 0 | AD42: =SUM(AA42:AC42) -> 0 | AF42: =SUM(AE42:AE42) -> 0 | AG42: =AF42+AD42 -> 0 | AL42: =SUM(AH42:AK42) -> 0 | AN42: 1 | AO42: =SUM(AM42:AN42) -> 1 | AR42: =SUM(AP42:AQ42) -> 0 | AU42: =SUM(AS42:AT42) -> 0 | AV42: =AU42+AR42 -> 0 | AY42: 1 | AZ42: =SUM(AW42:AY42) -> 1 | BC42: =BB42+AZ42 -> 1 | BG42: =SUM(BD42:BF42) -> 0 | BH42: =BG42+BC42+AV42+AO42+AL42+AG42+Z42+U42+O42 -> 2 | BI42: 135476.56 | BJ42: =ROUND(BI42,0) -> 135477 | BK42: =BJ42*BH42 -> 270954
B43: 28 | C43: ='ESPECIFICACIONES TECNICAS- E.M'!C43 -> Ácido sulfúrico | D43: ='ESPECIFICACIONES TECNICAS- E.M'!D43 -> Reactivo analítico o ACS o Análisis o Ph Eur o BP | E43: ='ESPECIFICACIONES TECNICAS- E.M'!E43 -> ≥95%, | F43: ='ESPECIFICACIONES TECNICAS- E.M'!F43 -> Frasco por 2,5 Litros | G43: ='ESPECIFICACIONES TECNICAS- E.M'!G43 -> Un (1) año a partir de la entrega | H43: ='ESPECIFICACIONES TECNICAS- E.M'!H43 -> AMBIENTE | I43: ='ESPECIFICACIONES TECNICAS- E.M'!I43 -> 7664-93-9 | K43: ='ESPECIFICACIONES TECNICAS- E.M'!K43 -> REACTIVO | L43: ='ESPECIFICACIONES TECNICAS- E.M'!L43 -> PUREZA | O43: =SUM(N43:N43) -> 0 | U43: =SUM(P43:T43) -> 0 | Z43: =SUM(V43:Y43) -> 0 | AD43: =SUM(AA43:AC43) -> 0 | AF43: =SUM(AE43:AE43) -> 0 | AG43: =AF43+AD43 -> 0 | AL43: =SUM(AH43:AK43) -> 0 | AM43: 1 | AN43: 1 | AO43: =SUM(AM43:AN43) -> 2 | AR43: =SUM(AP43:AQ43) -> 0 | AU43: =SUM(AS43:AT43) -> 0 | AV43: =AU43+AR43 -> 0 | AX43: 1 | AZ43: =SUM(AW43:AY43) -> 1 | BC43: =BB43+AZ43 -> 1 | BG43: =SUM(BD43:BF43) -> 0 | BH43: =BG43+BC43+AV43+AO43+AL43+AG43+Z43+U43+O43 -> 3 | BI43: 139432.08 | BJ43: =ROUND(BI43,0) -> 139432 | BK43: =BJ43*BH43 -> 418296
B44: 29 | C44: ='ESPECIFICACIONES TECNICAS- E.M'!C44 -> Alcohol etílico absoluto | D44: ='ESPECIFICACIONES TECNICAS- E.M'!D44 -> Reactivo analítico o ACS o Análisis o Ph Eur o BP | E44: ='ESPECIFICACIONES TECNICAS- E.M'!E44 -> ≥99 % | F44: ='ESPECIFICACIONES TECNICAS- E.M'!F44 -> Frasco por 2,5 Litros | G44: ='ESPECIFICACIONES TECNICAS- E.M'!G44 -> Un (1) año a partir de la entrega | H44: ='ESPECIFICACIONES TECNICAS- E.M'!H44 -> AMBIENTE | I44: ='ESPECIFICACIONES TECNICAS- E.M'!I44 -> 64-17-5 | K44: ='ESPECIFICACIONES TECNICAS- E.M'!K44 -> REACTIVO | L44: ='ESPECIFICACIONES TECNICAS- E.M'!L44 -> PUREZA | O44: =SUM(N44:N44) -> 0 | U44: =SUM(P44:T44) -> 0 | Z44: =SUM(V44:Y44) -> 0 | AD44: =SUM(AA44:AC44) -> 0 | AF44: =SUM(AE44:AE44) -> 0 | AG44: =AF44+AD44 -> 0 | AL44: =SUM(AH44:AK44) -> 0 | AO44: =SUM(AM44:AN44) -> 0 | AR44: =SUM(AP44:AQ44) -> 0 | AU44: =SUM(AS44:AT44) -> 0 | AV44: =AU44+AR44 -> 0 | AZ44: =SUM(AW44:AY44) -> 0 | BC44: =BB44+AZ44 -> 0 | BF44: 4 | BG44: =SUM(BD44:BF44) -> 4 | BH44: =BG44+BC44+AV44+AO44+AL44+AG44+Z44+U44+O44 -> 4 | BI44: 127565.52 | BJ44: =ROUND(BI44,0) -> 127566 | BK44: =BJ44*BH44 -> 510264
B45: 30 | C45: ='ESPECIFICACIONES TECNICAS- E.M'!C45 -> Alcohol isopropílico (2-Propanol)/Isopropanol | D45: ='ESPECIFICACIONES TECNICAS- E.M'!D45 -> Reactivo analítico o ACS o Análisis o Ph Eur o BP | E45: ='ESPECIFICACIONES TECNICAS- E.M'!E45 -> ≥99 % | F45: ='ESPECIFICACIONES TECNICAS- E.M'!F45 -> Frasco por 1 Litro | G45: ='ESPECIFICACIONES TECNICAS- E.M'!G45 -> Un (1) año a partir de la entrega | H45: ='ESPECIFICACIONES TECNICAS- E.M'!H45 -> AMBIENTE | I45: ='ESPECIFICACIONES TECNICAS- E.M'!I45 -> 67-63-0 | K45: ='ESPECIFICACIONES TECNICAS- E.M'!K45 -> REACTIVO | L45: ='ESPECIFICACIONES TECNICAS- E.M'!L45 -> PUREZA | O45: =SUM(N45:N45) -> 0 | U45: =SUM(P45:T45) -> 0 | Z45: =SUM(V45:Y45) -> 0 | AC45: 2 | AD45: =SUM(AA45:AC45) -> 2 | AF45: =SUM(AE45:AE45) -> 0 | AG45: =AF45+AD45 -> 2 | AL45: =SUM(AH45:AK45) -> 0 | AO45: =SUM(AM45:AN45) -> 0 | AR45: =SUM(AP45:AQ45) -> 0 | AU45: =SUM(AS45:AT45) -> 0 | AV45: =AU45+AR45 -> 0 | AX45: 1 | AZ45: =SUM(AW45:AY45) -> 1 | BC45: =BB45+AZ45 -> 1 | BG45: =SUM(BD45:BF45) -> 0 | BH45: =BG45+BC45+AV45+AO45+AL45+AG45+Z45+U45+O45 -> 3 | BI45: 96910.24 | BJ45: =ROUND(BI45,0) -> 96910 | BK45: =BJ45*BH45 -> 290730
B46: 31 | C46: ='ESPECIFICACIONES TECNICAS- E.M'!C46 -> Carbonato de Sodio | D46: ='ESPECIFICACIONES TECNICAS- E.M'!D46 -> Reactivo analítico o ACS o Análisis o Ph Eur o BP | E46: ='ESPECIFICACIONES TECNICAS- E.M'!E46 -> ≥98%. | F46: ='ESPECIFICACIONES TECNICAS- E.M'!F46 -> Frasco por 1 Kg | G46: ='ESPECIFICACIONES TECNICAS- E.M'!G46 -> Un (1) año a partir de la entrega | H46: ='ESPECIFICACIONES TECNICAS- E.M'!H46 -> AMBIENTE | I46: ='ESPECIFICACIONES TECNICAS- E.M'!I46 -> 497-19-8 | K46: ='ESPECIFICACIONES TECNICAS- E.M'!K46 -> REACTIVO | L46: ='ESPECIFICACIONES TECNICAS- E.M'!L46 -> PUREZA | O46: =SUM(N46:N46) -> 0 | U46: =SUM(P46:T46) -> 0 | Z46: =SUM(V46:Y46) -> 0 | AD46: =SUM(AA46:AC46) -> 0 | AF46: =SUM(AE46:AE46) -> 0 | AG46: =AF46+AD46 -> 0 | AL46: =SUM(AH46:AK46) -> 0 | AO46: =SUM(AM46:AN46) -> 0 | AR46: =SUM(AP46:AQ46) -> 0 | AU46: =SUM(AS46:AT46) -> 0 | AV46: =AU46+AR46 -> 0 | AZ46: =SUM(AW46:AY46) -> 0 | BC46: =BB46+AZ46 -> 0 | BD46: 1 | BG46: =SUM(BD46:BF46) -> 1 | BH46: =BG46+BC46+AV46+AO46+AL46+AG46+Z46+U46+O46 -> 1 | BI46: 104821.28 | BJ46: =ROUND(BI46,0) -> 104821 | BK46: =BJ46*BH46 -> 104821
B47: 32 | C47: ='ESPECIFICACIONES TECNICAS- E.M'!C47 -> Diclorometano estabilizado con 2-Metil-2-Buteno o Amileno. | D47: ='ESPECIFICACIONES TECNICAS- E.M'!D47 -> Reactivo analítico o ACS o Análisis o Ph Eur o BP | E47: ='ESPECIFICACIONES TECNICAS- E.M'!E47 -> >98% | F47: ='ESPECIFICACIONES TECNICAS- E.M'!F47 -> Frasco por 4 Litros | G47: ='ESPECIFICACIONES TECNICAS- E.M'!G47 -> Un (1) año a partir de la entrega | H47: ='ESPECIFICACIONES TECNICAS- E.M'!H47 -> AMBIENTE | I47: ='ESPECIFICACIONES TECNICAS- E.M'!I47 -> 75-09-2 | K47: ='ESPECIFICACIONES TECNICAS- E.M'!K47 -> REACTIVO | L47: ='ESPECIFICACIONES TECNICAS- E.M'!L47 -> PUREZA | O47: =SUM(N47:N47) -> 0 | T47: 7 | U47: =SUM(P47:T47) -> 7 | Z47: =SUM(V47:Y47) -> 0 | AD47: =SUM(AA47:AC47) -> 0 | AF47: =SUM(AE47:AE47) -> 0 | AG47: =AF47+AD47 -> 0 | AL47: =SUM(AH47:AK47) -> 0 | AN47: 4 | AO47: =SUM(AM47:AN47) -> 4 | AR47: =SUM(AP47:AQ47) -> 0 | AU47: =SUM(AS47:AT47) -> 0 | AV47: =AU47+AR47 -> 0 | AY47: 6 | AZ47: =SUM(AW47:AY47) -> 6 | BC47: =BB47+AZ47 -> 6 | BF47: 7 | BG47: =SUM(BD47:BF47) -> 7 | BH47: =BG47+BC47+AV47+AO47+AL47+AG47+Z47+U47+O47 -> 24 | BI47: 342152.48 | BJ47: =ROUND(BI47,0) -> 342152 | BK47: =BJ47*BH47 -> 8211648
B48: 33 | C48: ='ESPECIFICACIONES TECNICAS- E.M'!C48 -> Hidróxido de amonio solución ≥28 % p/p (amoniaco) | D48: ='ESPECIFICACIONES TECNICAS- E.M'!D48 -> Reactivo analítico o ACS o Análisis o Ph Eur o BP | E48: ='ESPECIFICACIONES TECNICAS- E.M'!E48 -> NA | F48: ='ESPECIFICACIONES TECNICAS- E.M'!F48 -> Frasco por 1 Litro | G48: ='ESPECIFICACIONES TECNICAS- E.M'!G48 -> Un (1) año a partir de la entrega | H48: ='ESPECIFICACIONES TECNICAS- E.M'!H48 -> AMBIENTE | I48: ='ESPECIFICACIONES TECNICAS- E.M'!I48 -> 1336-21-6 | K48: ='ESPECIFICACIONES TECNICAS- E.M'!K48 -> REACTIVO | L48: ='ESPECIFICACIONES TECNICAS- E.M'!L48 -> NA | O48: =SUM(N48:N48) -> 0 | U48: =SUM(P48:T48) -> 0 | W48: 1 | Y48: 1 | Z48: =SUM(V48:Y48) -> 2 | AD48: =SUM(AA48:AC48) -> 0 | AF48: =SUM(AE48:AE48) -> 0 | AG48: =AF48+AD48 -> 0 | AL48: =SUM(AH48:AK48) -> 0 | AM48: 2 | AN48: 1 | AO48: =SUM(AM48:AN48) -> 3 | AP48: 1 | AR48: =SUM(AP48:AQ48) -> 1 | AU48: =SUM(AS48:AT48) -> 0 | AV48: =AU48+AR48 -> 1 | AX48: 1 | AY48: 1 | AZ48: =SUM(AW48:AY48) -> 2 | BC48: =BB48+AZ48 -> 2 | BD48: 1 | BG48: =SUM(BD48:BF48) -> 1 | BH48: =BG48+BC48+AV48+AO48+AL48+AG48+Z48+U48+O48 -> 9 | BI48: 100865.76 | BJ48: =ROUND(BI48,0) -> 100866 | BK48: =BJ48*BH48 -> 907794
B49: 34 | C49: ='ESPECIFICACIONES TECNICAS- E.M'!C49 -> Metiletilcetona | D49: ='ESPECIFICACIONES TECNICAS- E.M'!D49 -> Reactivo analítico o ACS o Análisis o Ph Eur o BP | E49: ='ESPECIFICACIONES TECNICAS- E.M'!E49 -> ≥99%. | F49: ='ESPECIFICACIONES TECNICAS- E.M'!F49 -> Frasco por 1 Litro | G49: ='ESPECIFICACIONES TECNICAS- E.M'!G49 -> Un (1) año a partir de la entrega | H49: ='ESPECIFICACIONES TECNICAS- E.M'!H49 -> AMBIENTE | I49: ='ESPECIFICACIONES TECNICAS- E.M'!I49 -> 78-93-3 | K49: ='ESPECIFICACIONES TECNICAS- E.M'!K49 -> REACTIVO | L49: ='ESPECIFICACIONES TECNICAS- E.M'!L49 -> PUREZA | O49: =SUM(N49:N49) -> 0 | U49: =SUM(P49:T49) -> 0 | Z49: =SUM(V49:Y49) -> 0 | AD49: =SUM(AA49:AC49) -> 0 | AF49: =SUM(AE49:AE49) -> 0 | AG49: =AF49+AD49 -> 0 | AK49: 1 | AL49: =SUM(AH49:AK49) -> 1 | AO49: =SUM(AM49:AN49) -> 0 | AR49: =SUM(AP49:AQ49) -> 0 | AU49: =SUM(AS49:AT49) -> 0 | AV49: =AU49+AR49 -> 0 | AZ49: =SUM(AW49:AY49) -> 0 | BC49: =BB49+AZ49 -> 0 | BD49: 1 | BG49: =SUM(BD49:BF49) -> 1 | BH49: =BG49+BC49+AV49+AO49+AL49+AG49+Z49+U49+O49 -> 2 | BI49: 232386.8 | BJ49: =ROUND(BI49,0) -> 232387 | BK49: =BJ49*BH49 -> 464774
B50: 35 | C50: ='ESPECIFICACIONES TECNICAS- E.M'!C50 -> Tris Base, tris (Hydroxymethyl) aminomethane | D50: ='ESPECIFICACIONES TECNICAS- E.M'!D50 -> Biología Molecular | E50: ='ESPECIFICACIONES TECNICAS- E.M'!E50 -> NA | F50: ='ESPECIFICACIONES TECNICAS- E.M'!F50 -> Frasco por 500 gramos | G50: ='ESPECIFICACIONES TECNICAS- E.M'!G50 -> Un (1) año a partir de la entrega | H50: ='ESPECIFICACIONES TECNICAS- E.M'!H50 -> AMBIENTE | I50: ='ESPECIFICACIONES TECNICAS- E.M'!I50 -> 77-86-1 | K50: ='ESPECIFICACIONES TECNICAS- E.M'!K50 -> REACTIVO | L50: ='ESPECIFICACIONES TECNICAS- E.M'!L50 -> NA | O50: =SUM(N50:N50) -> 0 | S50: 1 | U50: =SUM(P50:T50) -> 1 | X50: 1 | Z50: =SUM(V50:Y50) -> 1 | AD50: =SUM(AA50:AC50) -> 0 | AF50: =SUM(AE50:AE50) -> 0 | AG50: =AF50+AD50 -> 0 | AL50: =SUM(AH50:AK50) -> 0 | AO50: =SUM(AM50:AN50) -> 0 | AR50: =SUM(AP50:AQ50) -> 0 | AU50: =SUM(AS50:AT50) -> 0 | AV50: =AU50+AR50 -> 0 | AZ50: =SUM(AW50:AY50) -> 0 | BC50: =BB50+AZ50 -> 0 | BG50: =SUM(BD50:BF50) -> 0 | BH50: =BG50+BC50+AV50+AO50+AL50+AG50+Z50+U50+O50 -> 2 | BI50: 451918.16 | BJ50: =ROUND(BI50,0) -> 451918 | BK50: =BJ50*BH50 -> 903836
B51: 36 | C51: ='ESPECIFICACIONES TECNICAS- E.M'!C51 -> Acetonitrilo | D51: ='ESPECIFICACIONES TECNICAS- E.M'!D51 -> Reactivo analítico o ACS o Análisis o Ph Eur o BP | E51: ='ESPECIFICACIONES TECNICAS- E.M'!E51 -> ≥99,5% | F51: ='ESPECIFICACIONES TECNICAS- E.M'!F51 -> Frasco por 4 Litros | G51: ='ESPECIFICACIONES TECNICAS- E.M'!G51 -> Un (1) año a partir de la entrega | H51: ='ESPECIFICACIONES TECNICAS- E.M'!H51 -> AMBIENTE | I51: ='ESPECIFICACIONES TECNICAS- E.M'!I51 -> 75-05-8 | K51: ='ESPECIFICACIONES TECNICAS- E.M'!K51 -> REACTIVO | L51: ='ESPECIFICACIONES TECNICAS- E.M'!L51 -> PUREZA | O51: =SUM(N51:N51) -> 0 | U51: =SUM(P51:T51) -> 0 | Y51: 1 | Z51: =SUM(V51:Y51) -> 1 | AD51: =SUM(AA51:AC51) -> 0 | AF51: =SUM(AE51:AE51) -> 0 | AG51: =AF51+AD51 -> 0 | AL51: =SUM(AH51:AK51) -> 0 | AO51: =SUM(AM51:AN51) -> 0 | AR51: =SUM(AP51:AQ51) -> 0 | AU51: =SUM(AS51:AT51) -> 0 | AV51: =AU51+AR51 -> 0 | AZ51: =SUM(AW51:AY51) -> 0 | BC51: =BB51+AZ51 -> 0 | BG51: =SUM(BD51:BF51) -> 0 | BH51: =BG51+BC51+AV51+AO51+AL51+AG51+Z51+U51+O51 -> 1 | BI51: 356785.8 | BJ51: =ROUND(BI51,0) -> 356786 | BK51: =BJ51*BH51 -> 356786
B52: 37 | C52: ='ESPECIFICACIONES TECNICAS- E.M'!C52 -> Alcohol etílico absoluto libre de DNasas y RNasas. | D52: ='ESPECIFICACIONES TECNICAS- E.M'!D52 -> Reactivo analítico o ACS o Análisis o Ph Eur o BP | E52: ='ESPECIFICACIONES TECNICAS- E.M'!E52 -> ≥99,9 % | F52: ='ESPECIFICACIONES TECNICAS- E.M'!F52 -> Frasco por 1 Litro | G52: ='ESPECIFICACIONES TECNICAS- E.M'!G52 -> Un (1) año a partir de la entrega | H52: ='ESPECIFICACIONES TECNICAS- E.M'!H52 -> AMBIENTE | I52: ='ESPECIFICACIONES TECNICAS- E.M'!I52 -> 64-17-5 | K52: ='ESPECIFICACIONES TECNICAS- E.M'!K52 -> REACTIVO | L52: ='ESPECIFICACIONES TECNICAS- E.M'!L52 -> PUREZA | O52: =SUM(N52:N52) -> 0 | U52: =SUM(P52:T52) -> 0 | X52: 2 | Z52: =SUM(V52:Y52) -> 2 | AD52: =SUM(AA52:AC52) -> 0 | AF52: =SUM(AE52:AE52) -> 0 | AG52: =AF52+AD52 -> 0 | AL52: =SUM(AH52:AK52) -> 0 | AO52: =SUM(AM52:AN52) -> 0 | AR52: =SUM(AP52:AQ52) -> 0 | AT52: 2 | AU52: =SUM(AS52:AT52) -> 2 | AV52: =AU52+AR52 -> 2 | AZ52: =SUM(AW52:AY52) -> 0 | BC52: =BB52+AZ52 -> 0 | BE52: 3 | BG52: =SUM(BD52:BF52) -> 3 | BH52: =BG52+BC52+AV52+AO52+AL52+AG52+Z52+U52+O52 -> 7 | BI52: 253847.6 | BJ52: =ROUND(BI52,0) -> 253848 | BK52: =BJ52*BH52 -> 1776936
B53: 38 | C53: ='ESPECIFICACIONES TECNICAS- E.M'!C53 -> Difenilamina Grado reactivo | D53: ='ESPECIFICACIONES TECNICAS- E.M'!D53 -> Reactivo analítico o ACS o Análisis o Ph Eur o BP | E53: ='ESPECIFICACIONES TECNICAS- E.M'!E53 -> ≥99% | F53: ='ESPECIFICACIONES TECNICAS- E.M'!F53 -> Frasco por 100 gramos | G53: ='ESPECIFICACIONES TECNICAS- E.M'!G53 -> Un (1) año a partir de la entrega | H53: ='ESPECIFICACIONES TECNICAS- E.M'!H53 -> AMBIENTE | I53: ='ESPECIFICACIONES TECNICAS- E.M'!I53 -> 122-39-4 | K53: ='ESPECIFICACIONES TECNICAS- E.M'!K53 -> REACTIVO | L53: ='ESPECIFICACIONES TECNICAS- E.M'!L53 -> PUREZA | O53: =SUM(N53:N53) -> 0 | U53: =SUM(P53:T53) -> 0 | V53: 1 | Z53: =SUM(V53:Y53) -> 1 | AA53: 1 | AD53: =SUM(AA53:AC53) -> 1 | AF53: =SUM(AE53:AE53) -> 0 | AG53: =AF53+AD53 -> 1 | AL53: =SUM(AH53:AK53) -> 0 | AO53: =SUM(AM53:AN53) -> 0 | AR53: =SUM(AP53:AQ53) -> 0 | AU53: =SUM(AS53:AT53) -> 0 | AV53: =AU53+AR53 -> 0 | AZ53: =SUM(AW53:AY53) -> 0 | BC53: =BB53+AZ53 -> 0 | BG53: =SUM(BD53:BF53) -> 0 | BH53: =BG53+BC53+AV53+AO53+AL53+AG53+Z53+U53+O53 -> 2 | BI53: 270837.4 | BJ53: =ROUND(BI53,0) -> 270837 | BK53: =BJ53*BH53 -> 541674
B54: 39 | C54: ='ESPECIFICACIONES TECNICAS- E.M'!C54 -> Formaldehído estabilizado con metanol | D54: ='ESPECIFICACIONES TECNICAS- E.M'!D54 -> Reactivo analítico o ACS o Análisis o Ph Eur o BP | E54: ='ESPECIFICACIONES TECNICAS- E.M'!E54 -> ≥37% . | F54: ='ESPECIFICACIONES TECNICAS- E.M'!F54 -> Frasco por 1 Litro | G54: ='ESPECIFICACIONES TECNICAS- E.M'!G54 -> 9 meses a partir de la entrega | H54: ='ESPECIFICACIONES TECNICAS- E.M'!H54 -> AMBIENTE | I54: ='ESPECIFICACIONES TECNICAS- E.M'!I54 -> 50-00-0 | K54: ='ESPECIFICACIONES TECNICAS- E.M'!K54 -> REACTIVO | L54: ='ESPECIFICACIONES TECNICAS- E.M'!L54 -> PUREZA | O54: =SUM(N54:N54) -> 0 | U54: =SUM(P54:T54) -> 0 | Z54: =SUM(V54:Y54) -> 0 | AD54: =SUM(AA54:AC54) -> 0 | AF54: =SUM(AE54:AE54) -> 0 | AG54: =AF54+AD54 -> 0 | AL54: =SUM(AH54:AK54) -> 0 | AM54: 1 | AO54: =SUM(AM54:AN54) -> 1 | AR54: =SUM(AP54:AQ54) -> 0 | AU54: =SUM(AS54:AT54) -> 0 | AV54: =AU54+AR54 -> 0 | AZ54: =SUM(AW54:AY54) -> 0 | BC54: =BB54+AZ54 -> 0 | BD54: 1 | BG54: =SUM(BD54:BF54) -> 1 | BH54: =BG54+BC54+AV54+AO54+AL54+AG54+Z54+U54+O54 -> 2 | BI54: 181890.8 | BJ54: =ROUND(BI54,0) -> 181891 | BK54: =BJ54*BH54 -> 363782
B55: 40 | C55: ='ESPECIFICACIONES TECNICAS- E.M'!C55 -> Glicerina o Glicerol | D55: ='ESPECIFICACIONES TECNICAS- E.M'!D55 -> Grado ACS o USP, | E55: ='ESPECIFICACIONES TECNICAS- E.M'!E55 -> ≥87%. | F55: ='ESPECIFICACIONES TECNICAS- E.M'!F55 -> Frasco por 1 Litro | G55: ='ESPECIFICACIONES TECNICAS- E.M'!G55 -> Un (1) año a partir de la entrega | H55: ='ESPECIFICACIONES TECNICAS- E.M'!H55 -> AMBIENTE | I55: ='ESPECIFICACIONES TECNICAS- E.M'!I55 -> 56-81-5 | K55: ='ESPECIFICACIONES TECNICAS- E.M'!K55 -> REACTIVO | L55: ='ESPECIFICACIONES TECNICAS- E.M'!L55 -> PUREZA | O55: =SUM(N55:N55) -> 0 | U55: =SUM(P55:T55) -> 0 | Z55: =SUM(V55:Y55) -> 0 | AD55: =SUM(AA55:AC55) -> 0 | AF55: =SUM(AE55:AE55) -> 0 | AG55: =AF55+AD55 -> 0 | AL55: =SUM(AH55:AK55) -> 0 | AM55: 1 | AO55: =SUM(AM55:AN55) -> 1 | AR55: =SUM(AP55:AQ55) -> 0 | AU55: =SUM(AS55:AT55) -> 0 | AV55: =AU55+AR55 -> 0 | AZ55: =SUM(AW55:AY55) -> 0 | BC55: =BB55+AZ55 -> 0 | BG55: =SUM(BD55:BF55) -> 0 | BH55: =BG55+BC55+AV55+AO55+AL55+AG55+Z55+U55+O55 -> 1 | BI55: 292824.2 | BJ55: =ROUND(BI55,0) -> 292824 | BK55: =BJ55*BH55 -> 292824
B56: 41 | C56: ='ESPECIFICACIONES TECNICAS- E.M'!C56 -> Hexano (n-hexano) | D56: ='ESPECIFICACIONES TECNICAS- E.M'!D56 -> Reactivo analítico o ACS o Análisis o Ph Eur o BP | E56: ='ESPECIFICACIONES TECNICAS- E.M'!E56 -> >95% | F56: ='ESPECIFICACIONES TECNICAS- E.M'!F56 -> Frasco por 4 Litros | G56: ='ESPECIFICACIONES TECNICAS- E.M'!G56 -> Un (1) año a partir de la entrega | H56: ='ESPECIFICACIONES TECNICAS- E.M'!H56 -> AMBIENTE | I56: ='ESPECIFICACIONES TECNICAS- E.M'!I56 -> 110-54-3 | K56: ='ESPECIFICACIONES TECNICAS- E.M'!K56 -> REACTIVO | L56: ='ESPECIFICACIONES TECNICAS- E.M'!L56 -> PUREZA | O56: =SUM(N56:N56) -> 0 | U56: =SUM(P56:T56) -> 0 | Z56: =SUM(V56:Y56) -> 0 | AD56: =SUM(AA56:AC56) -> 0 | AF56: =SUM(AE56:AE56) -> 0 | AG56: =AF56+AD56 -> 0 | AL56: =SUM(AH56:AK56) -> 0 | AO56: =SUM(AM56:AN56) -> 0 | AR56: =SUM(AP56:AQ56) -> 0 | AU56: =SUM(AS56:AT56) -> 0 | AV56: =AU56+AR56 -> 0 | AZ56: =SUM(AW56:AY56) -> 0 | BC56: =BB56+AZ56 -> 0 | BD56: 2 | BF56: 6 | BG56: =SUM(BD56:BF56) -> 8 | BH56: =BG56+BC56+AV56+AO56+AL56+AG56+Z56+U56+O56 -> 8 | BI56: 377773.2 | BJ56: =ROUND(BI56,0) -> 377773 | BK56: =BJ56*BH56 -> 3022184
B57: CANTIDAD TOTAL POR SERVICIO | N57: =SUM(N41:N56) -> 0 | O57: =SUM(O41:O56) -> 0 | P57: =SUM(P41:P56) -> 0 | Q57: =SUM(Q41:Q56) -> 0 | R57: =SUM(R41:R56) -> 0 | S57: =SUM(S41:S56) -> 1 | T57: =SUM(T41:T56) -> 7 | U57: =SUM(U41:U56) -> 8 | ... BH57: =SUM(BH41:BH56) -> 80 | BI57: VALOR TOTAL POR LOTE
B59: LOTE 3
B62: ITEM | C62: ESPECIFICACION TECNICA | D62: GRADO | E62: PUREZA | F62: PRESENTACION O UNIDAD DE MEDIDA | G62: VIGENCIA MINIMA | H62: CONDICION DE ALMACENAMIENTO | I62: NUMERO DE CAS | J62: CLASIFICACION CODIGOS UNSPSC | K62: IDENTIFICACION ADICIONAL REQUERIDA | L62: CALIDAD MINIMA | M62: PATRONES DE DESEMPEÑO | N62: DIRECCION GENERAL | P62: REGIONAL BOGOTÁ | V62: REGIONAL NOROCCIDENTE | AA62: REGIONAL NORORIENTE | AH62: REGIONAL NORTE | AM62: REGIONAL OCCIDENTE | AP62: REGIONAL ORIENTE | AW62: REGIONAL SUR | BD62: REGIONAL SUROCCIDENTE | BH62: CANTIDAD ESTIMADA | BI62: HISTORICOS 2024 | BK62: ANNAR | BL62: AS ANALYTICAL | BM62: CIEDUTEC | BN62: SCIENTIFIC | BO62: NORQUIMICOS | BP62: PROFINAS | BQ62: QUIMITRONICA | BR62: VALOR PROMEDIO HOMOGENEO (-0.3) | BS62: VALOR PROMEDIO HETEROGENEO (+0.3) | BT62: VALOR PROMEDIO UNITARIO | BU62: VALOR PROMEDIO POR ITEM | BV62: VALOR TOTAL LOTE | BX62: VALOR PROMEDIO UNITARIO CON COEF.VARZ | BY62: SUBTOTALES | CA62: VARIANZA | CB62: DESVEST | CC62: PROMEDIO (MEDIA ARITMETICA) | CD62: COEFICIENTE DE VARIACIÓN
AA63: SECCIONAL SANTANDER | AE63: SECCIONAL NORTE DE SANTANDER | AH63: SECCIONAL ATLÁNTICO | AP63: SECCIONAL BOYACÁ | AS63: SECCIONAL META | AV63: TOTAL REGIONAL ORIENTE | AW63: SECCIONAL TOLIMA | BA63: SECCIONAL HUILA | BC63: TOTAL REGIONAL SUR | BI63: VALOR UNITARIO CONTRATO | BJ63: VALOR UNITARIO CONTRATO CON IPC | BK63: VALOR UNITRIO CON IVA | BL63: VALOR UNITRIO CON IVA | BM63: VALOR UNITRIO CON IVA | BN63: VALOR UNITRIO CON IVA | BO63: VALOR UNITRIO CON IVA | BP63: VALOR UNITRIO CON IVA | BQ63: VALOR UNITRIO CON IVA
N64: GRUPO APOYO-SNVJRNR | O64: TOTAL | P64: BIOLOGIA | Q64: ESTUPEFACIENTES | R64: E. TRAZA | S64: GENETICA | T64: TOXICOLOGIA | U64: TOTAL REGIONAL BOGOTÁ | V64: BALISTICA | W64: ESTUPEFACIENTES | X64: GENETICA | Y64: TOXICOLOGIA | Z64: TOTAL REGIONAL NOROCCIDENTE | AA64: BALISTICA | AB64: ESTUPEFACIENTES | AC64: TOXICOLOGIA | AD64: TOTAL SECCIONAL SANTANDER | AE64: BIOLOGIA | AF64: TOTAL SECCIONAL NTE SANTANDER | AG64: TOTAL REGIONAL NORORIENTE | AH64: BIOLOGIA | AI64: BALISTICA | AJ64: ESTUPEFACIENTES | AK64: TOXICOLOGIA | AL64: TOTAL REGIONAL NORTE | AM64: ESTUPEFACIENTES | AN64: TOXICOLOGIA | AO64: TOTAL REGIONAL OCCIDENTE | AP64: BALISTICA | AQ64: TOXICOLOGIA | AR64: TOTAL SECCIONAL BOYACÁ | AS64: BALISTICA | AT64: GENETICA | AU64: TOTAL SECCIONAL META | AW64: BIOLOGIA | AX64: ESTUPEFACIENTES | AY64: TOXICOLOGIA | AZ64: TOTAL SECCIONAL TOLIMA | BA64: BIOLOGIA | BB64: TOTAL SECCIONAL HUILA | BD64: ESTUPEFACIENTES | BE64: GENETICA | BF64: TOXICOLOGIA | BG64: TOTAL REGIONAL SUROCCIDENTE
B65: 42 | C65: ='ESPECIFICACIONES TECNICAS- E.M'!C65 -> Ácido tricloroacético | D65: ='ESPECIFICACIONES TECNICAS- E.M'!D65 -> Reactivo analítico o ACS o Análisis o Ph Eur o BP | E65: ='ESPECIFICACIONES TECNICAS- E.M'!E65 -> ≥99%. | F65: ='ESPECIFICACIONES TECNICAS- E.M'!F65 -> Frasco por 100 gramos | G65: ='ESPECIFICACIONES TECNICAS- E.M'!G65 -> Un (1) año a partir de la entrega | H65: ='ESPECIFICACIONES TECNICAS- E.M'!H65 -> AMBIENTE | I65: ='ESPECIFICACIONES TECNICAS- E.M'!I65 -> 76-03-9 | J65: ='ESPECIFICACIONES TECNICAS- E.M'!J65:J78 -> 12161500 12191500 12191600 12352100 12352300 | K65: ='ESPECIFICACIONES TECNICAS- E.M'!K65 -> REACTIVO | L65: ='ESPECIFICACIONES TECNICAS- E.M'!L65 -> PUREZA | M65: ='ESPECIFICACIONES TECNICAS- E.M'!M65:M78 -> ANALISIS DE SUSTACIA | O65: =SUM(N65:N65) -> 0 | U65: =SUM(P65:T65) -> 0 | Z65: =SUM(V65:Y65) -> 0 | AD65: =SUM(AA65:AC65) -> 0 | AF65: =SUM(AE65:AE65) -> 0 | AG65: =AF65+AD65 -> 0 | AL65: =SUM(AH65:AK65) -> 0 | AO65: =SUM(AM65:AN65) -> 0 | AR65: =SUM(AP65:AQ65) -> 0 | AU65: =SUM(AS65:AT65) -> 0 | AV65: =AU65+AR65 -> 0 | AY65: 1 | AZ65: =SUM(AW65:AY65) -> 1 | BB65: =SUM(BA65:BA65) -> 0 | BC65: =BB65+AZ65 -> 1 | BG65: =SUM(BD65:BF65) -> 0 | BH65: =BG65+BC65+AV65+AO65+AL65+AG65+Z65+U65+O65 -> 1 | BI65: 289618.87 | BJ65: =ROUND(BI65,0) -> 289619 | BT65: =BJ65 -> 289619 | BU65: =BT65*BH65 -> 289619 | BV65: =SUBTOTAL(9,BU65:BU78) -> 183868614
B66: 43 | C66: ='ESPECIFICACIONES TECNICAS- E.M'!C66 -> Acetato de n-propilo | D66: ='ESPECIFICACIONES TECNICAS- E.M'!D66 -> Reactivo analítico o ACS o Análisis o Ph Eur o BP | E66: ='ESPECIFICACIONES TECNICAS- E.M'!E66 -> ≥ 98% | F66: ='ESPECIFICACIONES TECNICAS- E.M'!F66 -> Frasco por 1 Litro | G66: ='ESPECIFICACIONES TECNICAS- E.M'!G66 -> Un (1) año a partir de la entrega | H66: ='ESPECIFICACIONES TECNICAS- E.M'!H66 -> AMBIENTE | I66: ='ESPECIFICACIONES TECNICAS- E.M'!I66 -> 109-60-4 | K66: ='ESPECIFICACIONES TECNICAS- E.M'!K66 -> REACTIVO | L66: ='ESPECIFICACIONES TECNICAS- E.M'!L66 -> PUREZA | O66: =SUM(N66:N66) -> 0 | Q66: 1 | U66: =SUM(P66:T66) -> 1 | Z66: =SUM(V66:Y66) -> 0 | AD66: =SUM(AA66:AC66) -> 0 | AF66: =SUM(AE66:AE66) -> 0 | AG66: =AF66+AD66 -> 0 | AL66: =SUM(AH66:AK66) -> 0 | AO66: =SUM(AM66:AN66) -> 0 | AR66: =SUM(AP66:AQ66) -> 0 | AU66: =SUM(AS66:AT66) -> 0 | AV66: =AU66+AR66 -> 0 | AZ66: =SUM(AW66:AY66) -> 0 | BB66: =SUM(BA66:BA66) -> 0 | BC66: =BB66+AZ66 -> 0 | BG66: =SUM(BD66:BF66) -> 0 | BH66: =BG66+BC66+AV66+AO66+AL66+AG66+Z66+U66+O66 -> 1 | BI66: 248845.37 | BJ66: =ROUND(BI66,0) -> 248845 | BT66: =BJ66 -> 248845 | BU66: =BT66*BH66 -> 248845
B67: 44 | C67: ='ESPECIFICACIONES TECNICAS- E.M'!C67 -> Ácido rodizónico, sal disódica | D67: ='ESPECIFICACIONES TECNICAS- E.M'!D67 -> Reactivo analítico o ACS o Análisis o Ph Eur o BP | E67: ='ESPECIFICACIONES TECNICAS- E.M'!E67 -> ≥ 96% | F67: ='ESPECIFICACIONES TECNICAS- E.M'!F67 -> Frasco por 5 gramos | G67: ='ESPECIFICACIONES TECNICAS- E.M'!G67 -> Un (1) año a partir de la entrega | H67: ='ESPECIFICACIONES TECNICAS- E.M'!H67 -> AMBIENTE | I67: ='ESPECIFICACIONES TECNICAS- E.M'!I67 -> 523-21-7 | K67: ='ESPECIFICACIONES TECNICAS- E.M'!K67 -> REACTIVO | L67: ='ESPECIFICACIONES TECNICAS- E.M'!L67 -> PUREZA | O67: =SUM(N67:N67) -> 0 | U67: =SUM(P67:T67) -> 0 | Z67: =SUM(V67:Y67) -> 0 | AD67: =SUM(AA67:AC67) -> 0 | AF67: =SUM(AE67:AE67) -> 0 | AG67: =AF67+AD67 -> 0 | AI67: 1 | AL67: =SUM(AH67:AK67) -> 1 | AO67: =SUM(AM67:AN67) -> 0 | AR67: =SUM(AP67:AQ67) -> 0 | AU67: =SUM(AS67:AT67) -> 0 | AV67: =AU67+AR67 -> 0 | AZ67: =SUM(AW67:AY67) -> 0 | BB67: =SUM(BA67:BA67) -> 0 | BC67: =BB67+AZ67 -> 0 | BG67: =SUM(BD67:BF67) -> 0 | BH67: =BG67+BC67+AV67+AO67+AL67+AG67+Z67+U67+O67 -> 1 | BI67: 246901.28 | BJ67: =ROUND(BI67,0) -> 246901 | BT67: =BJ67 -> 246901 | BU67: =BT67*BH67 -> 246901
B68: 45 | C68: ='ESPECIFICACIONES TECNICAS- E.M'!C68 -> Beta-glucuronidasa proveniente de Helix Pomatia o Haliotis Rufenscens, solución acuosa, actividad ≥ 100,000 unidades/mL. | D68: ='ESPECIFICACIONES TECNICAS- E.M'!D68 -> NA | E68: ='ESPECIFICACIONES TECNICAS- E.M'!E68 -> NA | F68: ='ESPECIFICACIONES TECNICAS- E.M'!F68 -> Frasco por 25 mL | G68: ='ESPECIFICACIONES TECNICAS- E.M'!G68 -> Un (1) año a partir de la entrega | H68: ='ESPECIFICACIONES TECNICAS- E.M'!H68 -> AMBIENTE | I68: ='ESPECIFICACIONES TECNICAS- E.M'!I68 -> 9001-45-0 | K68: ='ESPECIFICACIONES TECNICAS- E.M'!K68 -> REACTIVO | L68: ='ESPECIFICACIONES TECNICAS- E.M'!L68 -> NA | O68: =SUM(N68:N68) -> 0 | T68: 15 | U68: =SUM(P68:T68) -> 15 | Z68: =SUM(V68:Y68) -> 0 | AD68: =SUM(AA68:AC68) -> 0 | AF68: =SUM(AE68:AE68) -> 0 | AG68: =AF68+AD68 -> 0 | AK68: 10 | AL68: =SUM(AH68:AK68) -> 10 | AN68: 2 | AO68: =SUM(AM68:AN68) -> 2 | AR68: =SUM(AP68:AQ68) -> 0 | AU68: =SUM(AS68:AT68) -> 0 | AV68: =AU68+AR68 -> 0 | AY68: 6 | AZ68: =SUM(AW68:AY68) -> 6 | BB68: =SUM(BA68:BA68) -> 0 | BC68: =BB68+AZ68 -> 6 | BF68: 15 | BG68: =SUM(BD68:BF68) -> 15 | BH68: =BG68+BC68+AV68+AO68+AL68+AG68+Z68+U68+O68 -> 48 | BI68: 2170916.8 | BJ68: =ROUND(BI68,0) -> 2170917 | BT68: =BJ68 -> 2170917 | BU68: =BT68*BH68 -> 104204016
B69: 46 | C69: ='ESPECIFICACIONES TECNICAS- E.M'!C69 -> BSTFA + TMCS (99:1). | D69: ='ESPECIFICACIONES TECNICAS- E.M'!D69 -> NA | E69: ='ESPECIFICACIONES TECNICAS- E.M'!E69 -> NA | F69: ='ESPECIFICACIONES TECNICAS- E.M'!F69 -> Paquete * 10 ampollas de 1 mL (no vial con tapa y septum) | G69: ='ESPECIFICACIONES TECNICAS- E.M'!G69 -> Un (1) año a partir de la entrega | H69: ='ESPECIFICACIONES TECNICAS- E.M'!H69 -> AMBIENTE | I69: ='ESPECIFICACIONES TECNICAS- E.M'!I69 -> NA | K69: ='ESPECIFICACIONES TECNICAS- E.M'!K69 -> REACTIVO | L69: ='ESPECIFICACIONES TECNICAS- E.M'!L69 -> NA | O69: =SUM(N69:N69) -> 0 | T69: 25 | U69: =SUM(P69:T69) -> 25 | Y69: 10 | Z69: =SUM(V69:Y69) -> 10 | AD69: =SUM(AA69:AC69) -> 0 | AF69: =SUM(AE69:AE69) -> 0 | AG69: =AF69+AD69 -> 0 | AK69: 1 | AL69: =SUM(AH69:AK69) -> 1 | AN69: 15 | AO69: =SUM(AM69:AN69) -> 15 | AR69: =SUM(AP69:AQ69) -> 0 | AU69: =SUM(AS69:AT69) -> 0 | AV69: =AU69+AR69 -> 0 | AY69: 30 | AZ69: =SUM(AW69:AY69) -> 30 | BB69: =SUM(BA69:BA69) -> 0 | BC69: =BB69+AZ69 -> 30 | BF69: 70 | BG69: =SUM(BD69:BF69) -> 70 | BH69: =BG69+BC69+AV69+AO69+AL69+AG69+Z69+U69+O69 -> 151 | BI69: 373268.07 | BJ69: =ROUND(BI69,0) -> 373268 | BT69: =BJ69 -> 373268 | BU69: =BT69*BH69 -> 56363468
B70: 47 | C70: ='ESPECIFICACIONES TECNICAS- E.M'!C70 -> Alfa naftol (1-Naftol) | D70: ='ESPECIFICACIONES TECNICAS- E.M'!D70 -> Reactivo analítico o ACS o Análisis o Ph Eur o BP | E70: ='ESPECIFICACIONES TECNICAS- E.M'!E70 -> ≥99% | F70: ='ESPECIFICACIONES TECNICAS- E.M'!F70 -> Frasco por 50 gramos | G70: ='ESPECIFICACIONES TECNICAS- E.M'!G70 -> Un (1) año a partir de la entrega | H70: ='ESPECIFICACIONES TECNICAS- E.M'!H70 -> AMBIENTE | I70: ='ESPECIFICACIONES TECNICAS- E.M'!I70 -> 90-15-3 | K70: ='ESPECIFICACIONES TECNICAS- E.M'!K70 -> REACTIVO | L70: ='ESPECIFICACIONES TECNICAS- E.M'!L70 -> PUREZA | O70: =SUM(N70:N70) -> 0 | U70: =SUM(P70:T70) -> 0 | V70: 1 | Z70: =SUM(V70:Y70) -> 1 | AA70: 1 | AD70: =SUM(AA70:AC70) -> 1 | AF70: =SUM(AE70:AE70) -> 0 | AG70: =AF70+AD70 -> 1 | AL70: =SUM(AH70:AK70) -> 0 | AO70: =SUM(AM70:AN70) -> 0 | AR70: =SUM(AP70:AQ70) -> 0 | AS70: 1 | AU70: =SUM(AS70:AT70) -> 1 | AV70: =AU70+AR70 -> 1 | AZ70: =SUM(AW70:AY70) -> 0 | BB70: =SUM(BA70:BA70) -> 0 | BC70: =BB70+AZ70 -> 0 | BG70: =SUM(BD70:BF70) -> 0 | BH70: =BG70+BC70+AV70+AO70+AL70+AG70+Z70+U70+O70 -> 3 | BP70: ='ESPECIFICACIONES TECNICAS- E.M'!CB70 -> 459340 | BQ70: ='ESPECIFICACIONES TECNICAS- E.M'!CE70 -> 642600 | BR70: =ROUND(GEOMEAN(BK70:BQ70),0) -> 543297 | BS70: =ROUND(HARMEAN(BK70:BQ70),0) -> 535731 | BT70: =BR70 -> 543297 | BU70: =BT70*BH70 -> 1629891 | BX70: =+IF(CD70>0.3,BS70,BR70) -> 543297 | BY70: =BX70-BT70 -> 0 | CA70: =+VAR(BK70:BQ70) -> 16792113800 | CB70: =+STDEV(BK70:BQ70) -> 129584.39 | CC70: =+AVERAGEIF(BJ70:BQ70,"<>") -> 550970 | CD70: =CB70/CC70 -> 0.23519318
B71: 48 | C71: ='ESPECIFICACIONES TECNICAS- E.M'!C71 -> Dicromato de potasio | D71: ='ESPECIFICACIONES TECNICAS- E.M'!D71 -> Reactivo analítico o ACS o Análisis o Ph Eur o BP | E71: ='ESPECIFICACIONES TECNICAS- E.M'!E71 -> ≥98% | F71: ='ESPECIFICACIONES TECNICAS- E.M'!F71 -> Frasco por 100 gramos | G71: ='ESPECIFICACIONES TECNICAS- E.M'!G71 -> Un (1) año a partir de la entrega | H71: ='ESPECIFICACIONES TECNICAS- E.M'!H71 -> AMBIENTE | I71: ='ESPECIFICACIONES TECNICAS- E.M'!I71 -> 7778-50-9 | K71: ='ESPECIFICACIONES TECNICAS- E.M'!K71 -> REACTIVO | L71: ='ESPECIFICACIONES TECNICAS- E.M'!L71 -> PUREZA | O71: =SUM(N71:N71) -> 0 | U71: =SUM(P71:T71) -> 0 | Z71: =SUM(V71:Y71) -> 0 | AD71: =SUM(AA71:AC71) -> 0 | AF71: =SUM(AE71:AE71) -> 0 | AG71: =AF71+AD71 -> 0 | AL71: =SUM(AH71:AK71) -> 0 | AO71: =SUM(AM71:AN71) -> 0 | AR71: =SUM(AP71:AQ71) -> 0 | AU71: =SUM(AS71:AT71) -> 0 | AV71: =AU71+AR71 -> 0 | AZ71: =SUM(AW71:AY71) -> 0 | BB71: =SUM(BA71:BA71) -> 0 | BC71: =BB71+AZ71 -> 0 | BD71: 1 | BG71: =SUM(BD71:BF71) -> 1 | BH71: =BG71+BC71+AV71+AO71+AL71+AG71+Z71+U71+O71 -> 1 | BL71: ='ESPECIFICACIONES TECNICAS- E.M'!BP71 -> 3927000 | BQ71: ='ESPECIFICACIONES TECNICAS- E.M'!CE71 -> 794920 | BR71: =ROUND(GEOMEAN(BK71:BQ71),0) -> 1766819 | BS71: =ROUND(HARMEAN(BK71:BQ71),0) -> 1322196 | BT71: =BS71 -> 1322196 | BU71: =BT71*BH71 -> 1322196 | BX71: =+IF(CD71>0.3,BS71,BR71) -> 1322196 | BY71: =BX71-BT71 -> 0 | CA71: =+VAR(BK71:BQ71) -> 4904962563200 | CB71: =+STDEV(BK71:BQ71) -> 2214715 | CC71: =+AVERAGEIF(BJ71:BQ71,"<>") -> 2360960 | CD71: =CB71/CC71 -> 0.93805698
B72: 49 | C72: ='ESPECIFICACIONES TECNICAS- E.M'!C72 -> Nitrato de Bismuto (III) | D72: ='ESPECIFICACIONES TECNICAS- E.M'!D72 -> Reactivo analítico o ACS o Análisis o Ph Eur o BP | E72: ='ESPECIFICACIONES TECNICAS- E.M'!E72 -> ≥71% | F72: ='ESPECIFICACIONES TECNICAS- E.M'!F72 -> Frasco por 100 gramos | G72: ='ESPECIFICACIONES TECNICAS- E.M'!G72 -> Un (1) año a partir de la entrega | H72: ='ESPECIFICACIONES TECNICAS- E.M'!H72 -> AMBIENTE | I72: ='ESPECIFICACIONES TECNICAS- E.M'!I72 -> 1304-85-4 | K72: ='ESPECIFICACIONES TECNICAS- E.M'!K72 -> REACTIVO | L72: ='ESPECIFICACIONES TECNICAS- E.M'!L72 -> PUREZA | O72: =SUM(N72:N72) -> 0 | U72: =SUM(P72:T72) -> 0 | Z72: =SUM(V72:Y72) -> 0 | AD72: =SUM(AA72:AC72) -> 0 | AF72: =SUM(AE72:AE72) -> 0 | AG72: =AF72+AD72 -> 0 | AL72: =SUM(AH72:AK72) -> 0 | AO72: =SUM(AM72:AN72) -> 0 | AR72: =SUM(AP72:AQ72) -> 0 | AU72: =SUM(AS72:AT72) -> 0 | AV72: =AU72+AR72 -> 0 | AX72: 1 | AZ72: =SUM(AW72:AY72) -> 1 | BB72: =SUM(BA72:BA72) -> 0 | BC72: =BB72+AZ72 -> 1 | BD72: 1 | BG72: =SUM(BD72:BF72) -> 1 | BH72: =BG72+BC72+AV72+AO72+AL72+AG72+Z72+U72+O72 -> 2 | BL72: ='ESPECIFICACIONES TECNICAS- E.M'!BP72 -> 1666000 | BM72: ='ESPECIFICACIONES TECNICAS- E.M'!BS72 -> 1005550 | BO72: ='ESPECIFICACIONES TECNICAS- E.M'!BY72 -> 916300 | BP72: ='ESPECIFICACIONES TECNICAS- E.M'!CB72 -> 607257 | BQ72: ='ESPECIFICACIONES TECNICAS- E.M'!CE72 -> 850850 | BR72: =ROUND(GEOMEAN(BK72:BQ72),0) -> 954703 | BS72: =ROUND(HARMEAN(BK72:BQ72),0) -> 907752 | BT72: =BS72 -> 907752 | BU72: =BT72*BH72 -> 1815504 | BX72: =+IF(CD72>0.3,BS72,BR72) -> 907752 | BY72: =BX72-BT72 -> 0 | CA72: =+VAR(BK72:BN72) -> 218097101250 | CB72: =+STDEV(BK72:BQ72) -> 395810.2 | CC72: =+AVERAGEIF(BJ72:BQ72,"<>") -> 1009191.4 | CD72: =CB72/CC72 -> 0.39220529
B73: 50 | C73: ='ESPECIFICACIONES TECNICAS- E.M'!C73 -> Hidróxido de potasio | D73: ='ESPECIFICACIONES TECNICAS- E.M'!D73 -> Reactivo analítico o ACS o Análisis o Ph Eur o BP | E73: ='ESPECIFICACIONES TECNICAS- E.M'!E73 -> ≥85% | F73: ='ESPECIFICACIONES TECNICAS- E.M'!F73 -> Frasco por 500 gramos | G73: ='ESPECIFICACIONES TECNICAS- E.M'!G73 -> Un (1) año a partir de la entrega | H73: ='ESPECIFICACIONES TECNICAS- E.M'!H73 -> AMBIENTE | I73: ='ESPECIFICACIONES TECNICAS- E.M'!I73 -> 1310-58-3 | K73: ='ESPECIFICACIONES TECNICAS- E.M'!K73 -> REACTIVO | L73: ='ESPECIFICACIONES TECNICAS- E.M'!L73 -> PUREZA | O73: =SUM(N73:N73) -> 0 | U73: =SUM(P73:T73) -> 0 | Z73: =SUM(V73:Y73) -> 0 | AD73: =SUM(AA73:AC73) -> 0 | AF73: =SUM(AE73:AE73) -> 0 | AG73: =AF73+AD73 -> 0 | AL73: =SUM(AH73:AK73) -> 0 | AN73: 2 | AO73: =SUM(AM73:AN73) -> 2 | AR73: =SUM(AP73:AQ73) -> 0 | AU73: =SUM(AS73:AT73) -> 0 | AV73: =AU73+AR73 -> 0 | AY73: 1 | AZ73: =SUM(AW73:AY73) -> 1 | BB73: =SUM(BA73:BA73) -> 0 | BC73: =BB73+AZ73 -> 1 | BF73: 2 | BG73: =SUM(BD73:BF73) -> 2 | BH73: =BG73+BC73+AV73+AO73+AL73+AG73+Z73+U73+O73 -> 5 | BL73: ='ESPECIFICACIONES TECNICAS- E.M'!BP73 -> 1309000 | BM73: ='ESPECIFICACIONES TECNICAS- E.M'!BS73 -> 168980 | BP73: ='ESPECIFICACIONES TECNICAS- E.M'!CB73 -> 127449 | BQ73: ='ESPECIFICACIONES TECNICAS- E.M'!CE73 -> 178500 | BR73: =ROUND(GEOMEAN(BK73:BQ73),0) -> 266341 | BS73: =ROUND(HARMEAN(BK73:BQ73),0) -> 198705 | BT73: =BS73 -> 198705 | BU73: =BT73*BH73 -> 993525 | BX73: =+IF(CD73>0.3,BS73,BR73) -> 198705 | BY73: =BX73-BT73 -> 0 | CA73: =+VAR(BK73:BN73) -> 649822800200 | CB73: =+STDEV(BK73:BQ73) -> 575771.97 | CC73: =+AVERAGEIF(BJ73:BQ73,"<>") -> 445982.25 | CD73: =CB73/CC73 -> 1.2910199
B74: 51 | C74: ='ESPECIFICACIONES TECNICAS- E.M'!C74 -> Ácido nítrico | D74: ='ESPECIFICACIONES TECNICAS- E.M'!D74 -> Reactivo analítico o ACS o Análisis o Ph Eur o BP | E74: ='ESPECIFICACIONES TECNICAS- E.M'!E74 -> ≥65% | F74: ='ESPECIFICACIONES TECNICAS- E.M'!F74 -> Frasco por 2,5 Litros | G74: ='ESPECIFICACIONES TECNICAS- E.M'!G74 -> Un (1) año a partir de la entrega | H74: ='ESPECIFICACIONES TECNICAS- E.M'!H74 -> AMBIENTE | I74: ='ESPECIFICACIONES TECNICAS- E.M'!I74 -> 7697-37-2 | K74: ='ESPECIFICACIONES TECNICAS- E.M'!K74 -> REACTIVO | L74: ='ESPECIFICACIONES TECNICAS- E.M'!L74 -> PUREZA | O74: =SUM(N74:N74) -> 0 | U74: =SUM(P74:T74) -> 0 | Z74: =SUM(V74:Y74) -> 0 | AA74: 1 | AD74: =SUM(AA74:AC74) -> 1 | AF74: =SUM(AE74:AE74) -> 0 | AG74: =AF74+AD74 -> 1 | AL74: =SUM(AH74:AK74) -> 0 | AO74: =SUM(AM74:AN74) -> 0 | AR74: =SUM(AP74:AQ74) -> 0 | AU74: =SUM(AS74:AT74) -> 0 | AV74: =AU74+AR74 -> 0 | AZ74: =SUM(AW74:AY74) -> 0 | BB74: =SUM(BA74:BA74) -> 0 | BC74: =BB74+AZ74 -> 0 | BG74: =SUM(BD74:BF74) -> 0 | BH74: =BG74+BC74+AV74+AO74+AL74+AG74+Z74+U74+O74 -> 1 | BM74: ='ESPECIFICACIONES TECNICAS- E.M'!BS74 -> 535500 | BO74: ='ESPECIFICACIONES TECNICAS- E.M'!BY74 -> 600950 | BP74: ='ESPECIFICACIONES TECNICAS- E.M'!CB74 -> 689724 | BQ74: ='ESPECIFICACIONES TECNICAS- E.M'!CE74 -> 966280 | BR74: =ROUND(GEOMEAN(BK74:BQ74),0) -> 680525 | BS74: =ROUND(HARMEAN(BK74:BQ74),0) -> 664872 | BT74: =BR74 -> 680525 | BU74: =BT74*BH74 -> 680525 | BX74: =+IF(CD74>0.3,BS74,BR74) -> 680525 | BY74: =BX74-BT74 -> 0 | CA74: =+VAR(BK74:BN74) -> #DIV/0! | CB74: =+STDEV(BK74:BQ74) -> 189620.28 | CC74: =+AVERAGEIF(BJ74:BQ74,"<>") -> 698113.5 | CD74: =CB74/CC74 -> 0.27161812
B75: 52 | C75: ='ESPECIFICACIONES TECNICAS- E.M'!C75 -> Ácido nítrico | D75: ='ESPECIFICACIONES TECNICAS- E.M'!D75 -> Para análisis de trazas inorgánicas | E75: ='ESPECIFICACIONES TECNICAS- E.M'!E75 -> ≥65% | F75: ='ESPECIFICACIONES TECNICAS- E.M'!F75 -> Frasco por 1 Litro | G75: ='ESPECIFICACIONES TECNICAS- E.M'!G75 -> Un (1) año a partir de la entrega | H75: ='ESPECIFICACIONES TECNICAS- E.M'!H75 -> AMBIENTE | I75: ='ESPECIFICACIONES TECNICAS- E.M'!I75 -> 7697-37-2 | K75: ='ESPECIFICACIONES TECNICAS- E.M'!K75 -> REACTIVO | L75: ='ESPECIFICACIONES TECNICAS- E.M'!L75 -> PUREZA | O75: =SUM(N75:N75) -> 0 | R75: 4 | U75: =SUM(P75:T75) -> 4 | Z75: =SUM(V75:Y75) -> 0 | AD75: =SUM(AA75:AC75) -> 0 | AF75: =SUM(AE75:AE75) -> 0 | AG75: =AF75+AD75 -> 0 | AL75: =SUM(AH75:AK75) -> 0 | AO75: =SUM(AM75:AN75) -> 0 | AR75: =SUM(AP75:AQ75) -> 0 | AU75: =SUM(AS75:AT75) -> 0 | AV75: =AU75+AR75 -> 0 | AZ75: =SUM(AW75:AY75) -> 0 | BB75: =SUM(BA75:BA75) -> 0 | BC75: =BB75+AZ75 -> 0 | BG75: =SUM(BD75:BF75) -> 0 | BH75: =BG75+BC75+AV75+AO75+AL75+AG75+Z75+U75+O75 -> 4 | BM75: ='ESPECIFICACIONES TECNICAS- E.M'!BS75 -> 1264970 | BP75: ='ESPECIFICACIONES TECNICAS- E.M'!CB75 -> 994840 | BQ75: ='ESPECIFICACIONES TECNICAS- E.M'!CE75 -> 5270510 | BR75: =ROUND(GEOMEAN(BK75:BQ75),0) -> 1878864 | BS75: =ROUND(HARMEAN(BK75:BQ75),0) -> 1510989 | BT75: =BS75 -> 1510989 | BU75: =BT75*BH75 -> 6043956 | BX75: =+IF(CD75>0.3,BS75,BR75) -> 1510989 | BY75: =BX75-BT75 -> 0 | CA75: =+VAR(BK75:BN75) -> #DIV/0! | CB75: =+STDEV(BK75:BQ75) -> 2394391.9 | CC75: =+AVERAGEIF(BJ75:BQ75,"<>") -> 2510106.7 | CD75: =CB75/CC75 -> 0.95390045
B76: 53 | C76: ='ESPECIFICACIONES TECNICAS- E.M'!C76 -> Éter metil terbutílico | D76: ='ESPECIFICACIONES TECNICAS- E.M'!D76 -> Reactivo analítico o ACS o Análisis o Ph Eur o BP | E76: ='ESPECIFICACIONES TECNICAS- E.M'!E76 -> ≥99% | F76: ='ESPECIFICACIONES TECNICAS- E.M'!F76 -> Frasco por 1 Litro | G76: ='ESPECIFICACIONES TECNICAS- E.M'!G76 -> Un (1) año a partir de la entrega | H76: ='ESPECIFICACIONES TECNICAS- E.M'!H76 -> AMBIENTE | I76: ='ESPECIFICACIONES TECNICAS- E.M'!I76 -> 1634-04-4 | K76: ='ESPECIFICACIONES TECNICAS- E.M'!K76 -> REACTIVO | L76: ='ESPECIFICACIONES TECNICAS- E.M'!L76 -> PUREZA | O76: =SUM(N76:N76) -> 0 | T76: 1 | U76: =SUM(P76:T76) -> 1 | Z76: =SUM(V76:Y76) -> 0 | AD76: =SUM(AA76:AC76) -> 0 | AF76: =SUM(AE76:AE76) -> 0 | AG76: =AF76+AD76 -> 0 | AL76: =SUM(AH76:AK76) -> 0 | AO76: =SUM(AM76:AN76) -> 0 | AR76: =SUM(AP76:AQ76) -> 0 | AU76: =SUM(AS76:AT76) -> 0 | AV76: =AU76+AR76 -> 0 | AZ76: =SUM(AW76:AY76) -> 0 | BB76: =SUM(BA76:BA76) -> 0 | BC76: =BB76+AZ76 -> 0 | BG76: =SUM(BD76:BF76) -> 0 | BH76: =BG76+BC76+AV76+AO76+AL76+AG76+Z76+U76+O76 -> 1 | BK76: ='ESPECIFICACIONES TECNICAS- E.M'!BM76 -> 335580 | BL76: ='ESPECIFICACIONES TECNICAS- E.M'!BP76 -> 2737000 | BM76: ='ESPECIFICACIONES TECNICAS- E.M'!BS76 -> 806820 | BO76: ='ESPECIFICACIONES TECNICAS- E.M'!BY76 -> 1541050 | BP76: ='ESPECIFICACIONES TECNICAS- E.M'!CB76 -> 530621 | BQ76: ='ESPECIFICACIONES TECNICAS- E.M'!CE76 -> 743750 | BR76: =ROUND(GEOMEAN(BK76:BQ76),0) -> 875614 | BS76: =ROUND(HARMEAN(BK76:BQ76),0) -> 708990 | BT76: =BS76 -> 708990 | BU76: =BT76*BH76 -> 708990 | BX76: =+IF(CD76>0.3,BS76,BR76) -> 708990 | BY76: =BX76-BT76 -> 0 | CA76: =+VAR(BK76:BN76) -> 1.61908e+12 | CB76: =+STDEV(BK76:BQ76) -> 893777.89 | CC76: =+AVERAGEIF(BJ76:BQ76,"<>") -> 1115803.5 | CD76: =CB76/CC76 -> 0.80101728
B77: 54 | C77: ='ESPECIFICACIONES TECNICAS- E.M'!C77 -> Formiato de amonio | D77: ='ESPECIFICACIONES TECNICAS- E.M'!D77 -> LC MS | E77: ='ESPECIFICACIONES TECNICAS- E.M'!E77 -> ≥99% | F77: ='ESPECIFICACIONES TECNICAS- E.M'!F77 -> Frasco por 25 gramos | G77: ='ESPECIFICACIONES TECNICAS- E.M'!G77 -> Un (1) año a partir de la entrega | H77: ='ESPECIFICACIONES TECNICAS- E.M'!H77 -> AMBIENTE | I77: ='ESPECIFICACIONES TECNICAS- E.M'!I77 -> CAS 540-69-2 | K77: ='ESPECIFICACIONES TECNICAS- E.M'!K77 -> REACTIVO | L77: ='ESPECIFICACIONES TECNICAS- E.M'!L77 -> PUREZA | O77: =SUM(N77:N77) -> 0 | Q77: 8 | U77: =SUM(P77:T77) -> 8 | Z77: =SUM(V77:Y77) -> 0 | AD77: =SUM(AA77:AC77) -> 0 | AF77: =SUM(AE77:AE77) -> 0 | AG77: =AF77+AD77 -> 0 | AL77: =SUM(AH77:AK77) -> 0 | AO77: =SUM(AM77:AN77) -> 0 | AR77: =SUM(AP77:AQ77) -> 0 | AU77: =SUM(AS77:AT77) -> 0 | AV77: =AU77+AR77 -> 0 | AZ77: =SUM(AW77:AY77) -> 0 | BB77: =SUM(BA77:BA77) -> 0 | BC77: =BB77+AZ77 -> 0 | BG77: =SUM(BD77:BF77) -> 0 | BH77: =BG77+BC77+AV77+AO77+AL77+AG77+Z77+U77+O77 -> 8 | BO77: ='ESPECIFICACIONES TECNICAS- E.M'!BY77 -> 1023400 | BP77: ='ESPECIFICACIONES TECNICAS- E.M'!CB77 -> 790517 | BQ77: ='ESPECIFICACIONES TECNICAS- E.M'!CE77 -> 1107890 | BR77: =ROUND(GEOMEAN(BK77:BQ77),0) -> 964164 | BS77: =ROUND(HARMEAN(BK77:BQ77),0) -> 953972 | BT77: =BR77 -> 964164 | BU77: =BT77*BH77 -> 7713312 | BX77: =+IF(CD77>0.3,BS77,BR77) -> 964164 | BY77: =BX77-BT77 -> 0 | CA77: =+VAR(BK77:BN77) -> #DIV/0! | CB77: =+STDEV(BK77:BQ77) -> 164366.8 | CC77: =+AVERAGEIF(BJ77:BQ77,"<>") -> 973935.67 | CD77: =CB77/CC77 -> 0.16876556
B78: 55 | C78: ='ESPECIFICACIONES TECNICAS- E.M'!C78 -> Acetato de amonio | D78: ='ESPECIFICACIONES TECNICAS- E.M'!D78 -> LC MS | E78: ='ESPECIFICACIONES TECNICAS- E.M'!E78 -> ≥98% | F78: ='ESPECIFICACIONES TECNICAS- E.M'!F78 -> Frasco por 50 gramos | G78: ='ESPECIFICACIONES TECNICAS- E.M'!G78 -> Un (1) año a partir de la entrega | H78: ='ESPECIFICACIONES TECNICAS- E.M'!H78 -> AMBIENTE | I78: ='ESPECIFICACIONES TECNICAS- E.M'!I78 -> CAS 631-61-8 | K78: ='ESPECIFICACIONES TECNICAS- E.M'!K78 -> REACTIVO | L78: ='ESPECIFICACIONES TECNICAS- E.M'!L78 -> PUREZA | O78: =SUM(N78:N78) -> 0 | Q78: 2 | U78: =SUM(P78:T78) -> 2 | Z78: =SUM(V78:Y78) -> 0 | AD78: =SUM(AA78:AC78) -> 0 | AF78: =SUM(AE78:AE78) -> 0 | AG78: =AF78+AD78 -> 0 | AL78: =SUM(AH78:AK78) -> 0 | AO78: =SUM(AM78:AN78) -> 0 | AR78: =SUM(AP78:AQ78) -> 0 | AU78: =SUM(AS78:AT78) -> 0 | AV78: =AU78+AR78 -> 0 | AZ78: =SUM(AW78:AY78) -> 0 | BB78: =SUM(BA78:BA78) -> 0 | BC78: =BB78+AZ78 -> 0 | BG78: =SUM(BD78:BF78) -> 0 | BH78: =BG78+BC78+AV78+AO78+AL78+AG78+Z78+U78+O78 -> 2 | BK78: ='ESPECIFICACIONES TECNICAS- E.M'!BM78 -> 993650 | BO78: ='ESPECIFICACIONES TECNICAS- E.M'!BY78 -> 880600 | BP78: ='ESPECIFICACIONES TECNICAS- E.M'!CB78 -> 583933 | BQ78: ='ESPECIFICACIONES TECNICAS- E.M'!CE78 -> 817530 | BR78: =ROUND(GEOMEAN(BK78:BQ78),0) -> 803933 | BS78: =ROUND(HARMEAN(BK78:BQ78),0) -> 787758 | BT78: =BR78 -> 803933 | BU78: =BT78*BH78 -> 1607866 | BX78: =+IF(CD78>0.3,BS78,BR78) -> 803933 | BY78: =BX78-BT78 -> 0 | CA78: =+VAR(BK78:BN78) -> #DIV/0! | CB78: =+STDEV(BK78:BQ78) -> 172777.14 | CC78: =+AVERAGEIF(BJ78:BQ78,"<>") -> 818928.25 | CD78: =CB78/CC78 -> 0.21097958
B79: CANTIDAD TOTAL POR SERVICIO | N79: =SUM(N65:N78) -> 0 | O79: =SUM(O65:O78) -> 0 | P79: =SUM(P65:P78) -> 0 | Q79: =SUM(Q65:Q78) -> 11 | R79: =SUM(R65:R78) -> 4 | S79: =SUM(S65:S78) -> 0 | T79: =SUM(T65:T78) -> 41 | U79: =SUM(U65:U78) -> 56 | ... BH79: =SUM(BH65:BH78) -> 229 | BI79: VALOR TOTAL POR LOTE | BL79: =SUM(BV65) -> 183868614
B81: LOTE 4
B84: ITEM | C84: ESPECIFICACION TECNICA | D84: GRADO | E84: PUREZA | F84: PRESENTACION O UNIDAD DE MEDIDA | G84: VIGENCIA MINIMA | H84: CONDICION DE ALMACENAMIENTO | I84: NUMERO DE CAS | J84: CLASIFICACION CODIGOS UNSPSC | K84: IDENTIFICACION ADICIONAL REQUERIDA | L84: CALIDAD MINIMA | M84: PATRONES DE DESEMPEÑO | N84: DIRECCION GENERAL | P84: REGIONAL BOGOTÁ | V84: REGIONAL NOROCCIDENTE | AA84: REGIONAL NORORIENTE | AH84: REGIONAL NORTE | AM84: REGIONAL OCCIDENTE | AP84: REGIONAL ORIENTE | AW84: REGIONAL SUR | BD84: REGIONAL SUROCCIDENTE | BH84: CANTIDAD TOTAL | BI84: HISTORICOS 2024 | BK84: VALOR TOTAL POR ITEM | BL84: VALOR TOTAL POR LOTE
AA85: SECCIONAL SANTANDER | AE85: SECCIONAL NORTE DE SANTANDER | AH85: SECCIONAL ATLÁNTICO | AP85: SECCIONAL BOYACÁ | AS85: SECCIONAL META | AV85: TOTAL REGIONAL ORIENTE | AW85: SECCIONAL TOLIMA | BA85: SECCIONAL HUILA | BC85: TOTAL REGIONAL SUR | BI85: VALOR UNITARIO CONTRATO | BJ85: VALOR UNITARIO CONTRATO CON IPC
N86: GRUPO APOYO-SNVJRNR | O86: TOTAL | P86: BIOLOGIA | Q86: ESTUPEFACIENTES | R86: E. TRAZA | S86: GENETICA | T86: TOXICOLOGIA | U86: TOTAL REGIONAL BOGOTÁ | V86: BALISTICA | W86: ESTUPEFACIENTES | X86: GENETICA | Y86: TOXICOLOGIA | Z86: TOTAL REGIONAL NOROCCIDENTE | AA86: BALISTICA | AB86: ESTUPEFACIENTES | AC86: TOXICOLOGIA | AD86: TOTAL SECCIONAL SANTANDER | AE86: BIOLOGIA | AF86: TOTAL SECCIONAL NTE SANTANDER | AG86: TOTAL REGIONAL NORORIENTE | AH86: BIOLOGIA | AI86: BALISTICA | AJ86: ESTUPEFACIENTES | AK86: TOXICOLOGIA | AL86: TOTAL REGIONAL NORTE | AM86: ESTUPEFACIENTES | AN86: TOXICOLOGIA | AO86: TOTAL REGIONAL OCCIDENTE | AP86: BALISTICA | AQ86: TOXICOLOGIA | AR86: TOTAL SECCIONAL BOYACÁ | AS86: BALISTICA | AT86: GENETICA | AU86: TOTAL SECCIONAL META | AW86: BIOLOGIA | AX86: ESTUPEFACIENTES | AY86: TOXICOLOGIA | AZ86: TOTAL SECCIONAL TOLIMA | BA86: BIOLOGIA | BB86: TOTAL SECCIONAL HUILA | BD86: ESTUPEFACIENTES | BE86: GENETICA | BF86: TOXICOLOGIA | BG86: TOTAL REGIONAL SUROCCIDENTE
B87: 56 | C87: ='ESPECIFICACIONES TECNICAS- E.M'!C87 -> 1-propanol (n-propanol), | D87: ='ESPECIFICACIONES TECNICAS- E.M'!D87 -> Reactivo analítico o ACS o Análisis o Ph Eur o BP | E87: ='ESPECIFICACIONES TECNICAS- E.M'!E87 -> ≥99 %. | F87: ='ESPECIFICACIONES TECNICAS- E.M'!F87 -> Frasco por 1 Litro | G87: ='ESPECIFICACIONES TECNICAS- E.M'!G87 -> Un (1) año a partir de la entrega | H87: ='ESPECIFICACIONES TECNICAS- E.M'!H87 -> AMBIENTE | I87: ='ESPECIFICACIONES TECNICAS- E.M'!I87 -> 71-23-8 | J87: ='ESPECIFICACIONES TECNICAS- E.M'!J87:J96 -> 12161500 12191500 12191600 12352100 12352300 | K87: ='ESPECIFICACIONES TECNICAS- E.M'!K87 -> REACTIVO | L87: ='ESPECIFICACIONES TECNICAS- E.M'!L87 -> PUREZA | M87: ='ESPECIFICACIONES TECNICAS- E.M'!M87:M96 -> ANALISIS DE SUSTACIA | O87: =SUM(N87:N87) -> 0 | T87: 2 | U87: =SUM(P87:T87) -> 2 | Z87: =SUM(V87:Y87) -> 0 | AD87: =SUM(AA87:AC87) -> 0 | AF87: =SUM(AE87:AE87) -> 0 | AG87: =AF87+AD87 -> 0 | AL87: =SUM(AH87:AK87) -> 0 | AO87: =SUM(AM87:AN87) -> 0 | AR87: =SUM(AP87:AQ87) -> 0 | AU87: =SUM(AS87:AT87) -> 0 | AV87: =AU87+AR87 -> 0 | AZ87: =SUM(AW87:AY87) -> 0 | BB87: =SUM(BA87:BA87) -> 0 | BC87: =BB87+AZ87 -> 0 | BG87: =SUM(BD87:BF87) -> 0 | BH87: =BG87+BC87+AV87+AO87+AL87+AG87+Z87+U87+O87 -> 2 | BI87: 341079.44 | BJ87: =ROUND(BI87,0) -> 341079 | BK87: =BJ87*BH87 -> 682158 | BL87: =SUM(BK87:BK96) -> 113493602
B88: 57 | C88: ='ESPECIFICACIONES TECNICAS- E.M'!C88 -> Acetato de Isopropilo | D88: ='ESPECIFICACIONES TECNICAS- E.M'!D88 -> Reactivo analítico o ACS o Análisis o Ph Eur o BP | E88: ='ESPECIFICACIONES TECNICAS- E.M'!E88 -> ≥96% | F88: ='ESPECIFICACIONES TECNICAS- E.M'!F88 -> Frasco por 1 Litro | G88: ='ESPECIFICACIONES TECNICAS- E.M'!G88 -> Un (1) año a partir de la entrega | H88: ='ESPECIFICACIONES TECNICAS- E.M'!H88 -> AMBIENTE | I88: ='ESPECIFICACIONES TECNICAS- E.M'!I88 -> 108-21-4 | K88: ='ESPECIFICACIONES TECNICAS- E.M'!K88 -> REACTIVO | L88: ='ESPECIFICACIONES TECNICAS- E.M'!L88 -> PUREZA | O88: =SUM(N88:N88) -> 0 | U88: =SUM(P88:T88) -> 0 | Z88: =SUM(V88:Y88) -> 0 | AD88: =SUM(AA88:AC88) -> 0 | AF88: =SUM(AE88:AE88) -> 0 | AG88: =AF88+AD88 -> 0 | AL88: =SUM(AH88:AK88) -> 0 | AO88: =SUM(AM88:AN88) -> 0 | AR88: =SUM(AP88:AQ88) -> 0 | AU88: =SUM(AS88:AT88) -> 0 | AV88: =AU88+AR88 -> 0 | AZ88: =SUM(AW88:AY88) -> 0 | BB88: =SUM(BA88:BA88) -> 0 | BC88: =BB88+AZ88 -> 0 | BD88: 1 | BG88: =SUM(BD88:BF88) -> 1 | BH88: =BG88+BC88+AV88+AO88+AL88+AG88+Z88+U88+O88 -> 1 | BI88: 270742.72 | BJ88: =ROUND(BI88,0) -> 270743 | BK88: =BJ88*BH88 -> 270743
B89: 58 | C89: ='ESPECIFICACIONES TECNICAS- E.M'!C89 -> Acetonitrilo | D89: ='ESPECIFICACIONES TECNICAS- E.M'!D89 -> LC-MS | E89: ='ESPECIFICACIONES TECNICAS- E.M'!E89 -> ≥99,9 % | F89: ='ESPECIFICACIONES TECNICAS- E.M'!F89 -> Frasco por 2,5 Litros | G89: ='ESPECIFICACIONES TECNICAS- E.M'!G89 -> Un (1) año a partir de la entrega | H89: ='ESPECIFICACIONES TECNICAS- E.M'!H89 -> AMBIENTE | I89: ='ESPECIFICACIONES TECNICAS- E.M'!I89 -> 75-05-8 | K89: ='ESPECIFICACIONES TECNICAS- E.M'!K89 -> REACTIVO | L89: ='ESPECIFICACIONES TECNICAS- E.M'!L89 -> PUREZA | O89: =SUM(N89:N89) -> 0 | Q89: 3 | U89: =SUM(P89:T89) -> 3 | Y89: 90 | Z89: =SUM(V89:Y89) -> 90 | AC89: 70 | AD89: =SUM(AA89:AC89) -> 70 | AF89: =SUM(AE89:AE89) -> 0 | AG89: =AF89+AD89 -> 70 | AL89: =SUM(AH89:AK89) -> 0 | AO89: =SUM(AM89:AN89) -> 0 | AR89: =SUM(AP89:AQ89) -> 0 | AU89: =SUM(AS89:AT89) -> 0 | AV89: =AU89+AR89 -> 0 | AZ89: =SUM(AW89:AY89) -> 0 | BB89: =SUM(BA89:BA89) -> 0 | BC89: =BB89+AZ89 -> 0 | BG89: =SUM(BD89:BF89) -> 0 | BH89: =BG89+BC89+AV89+AO89+AL89+AG89+Z89+U89+O89 -> 163 | BI89: 627202.4 | BJ89: =ROUND(BI89,0) -> 627202 | BK89: =BJ89*BH89 -> 102233926
B90: 59 | C90: ='ESPECIFICACIONES TECNICAS- E.M'!C90 -> DTT (1,4-Dithiothreitol) para biología molecular. | D90: ='ESPECIFICACIONES TECNICAS- E.M'!D90 -> NA | E90: ='ESPECIFICACIONES TECNICAS- E.M'!E90 -> NA | F90: ='ESPECIFICACIONES TECNICAS- E.M'!F90 -> Frasco por 5 gramos | G90: ='ESPECIFICACIONES TECNICAS- E.M'!G90 -> Un (1) año a partir de la entrega | H90: ='ESPECIFICACIONES TECNICAS- E.M'!H90 -> REFRIGERACION / CONGELACION SEGÚN ESPECIFICACION DEL FABRICANTE | I90: ='ESPECIFICACIONES TECNICAS- E.M'!I90 -> 3483-12-3 | K90: ='ESPECIFICACIONES TECNICAS- E.M'!K90 -> REACTIVO | L90: ='ESPECIFICACIONES TECNICAS- E.M'!L90 -> NA | O90: =SUM(N90:N90) -> 0 | S90: 3 | U90: =SUM(P90:T90) -> 3 | X90: 3 | Z90: =SUM(V90:Y90) -> 3 | AD90: =SUM(AA90:AC90) -> 0 | AF90: =SUM(AE90:AE90) -> 0 | AG90: =AF90+AD90 -> 0 | AL90: =SUM(AH90:AK90) -> 0 | AO90: =SUM(AM90:AN90) -> 0 | AR90: =SUM(AP90:AQ90) -> 0 | AU90: =SUM(AS90:AT90) -> 0 | AV90: =AU90+AR90 -> 0 | AZ90: =SUM(AW90:AY90) -> 0 | BB90: =SUM(BA90:BA90) -> 0 | BC90: =BB90+AZ90 -> 0 | BE90: 1 | BG90: =SUM(BD90:BF90) -> 1 | BH90: =BG90+BC90+AV90+AO90+AL90+AG90+Z90+U90+O90 -> 7 | BI90: 438783.94 | BJ90: =ROUND(BI90,0) -> 438784 | BK90: =BJ90*BH90 -> 3071488
B91: 60 | C91: ='ESPECIFICACIONES TECNICAS- E.M'!C91 -> Sílica gel granulado (1-3mm), con indicador de humedad, capacidad de absorción ≥20%. | D91: ='ESPECIFICACIONES TECNICAS- E.M'!D91 -> NA | E91: ='ESPECIFICACIONES TECNICAS- E.M'!E91 -> NA | F91: ='ESPECIFICACIONES TECNICAS- E.M'!F91 -> Frasco por 1 Kg | G91: ='ESPECIFICACIONES TECNICAS- E.M'!G91 -> Un (1) año a partir de la entrega | H91: ='ESPECIFICACIONES TECNICAS- E.M'!H91 -> AMBIENTE | I91: ='ESPECIFICACIONES TECNICAS- E.M'!I91 -> NA | K91: ='ESPECIFICACIONES TECNICAS- E.M'!K91 -> REACTIVO | L91: ='ESPECIFICACIONES TECNICAS- E.M'!L91 -> NA | O91: =SUM(N91:N91) -> 0 | U91: =SUM(P91:T91) -> 0 | Z91: =SUM(V91:Y91) -> 0 | AD91: =SUM(AA91:AC91) -> 0 | AF91: =SUM(AE91:AE91) -> 0 | AG91: =AF91+AD91 -> 0 | AL91: =SUM(AH91:AK91) -> 0 | AO91: =SUM(AM91:AN91) -> 0 | AR91: =SUM(AP91:AQ91) -> 0 | AU91: =SUM(AS91:AT91) -> 0 | AV91: =AU91+AR91 -> 0 | AY91: 2 | AZ91: =SUM(AW91:AY91) -> 2 | BB91: =SUM(BA91:BA91) -> 0 | BC91: =BB91+AZ91 -> 2 | BG91: =SUM(BD91:BF91) -> 0 | BH91: =BG91+BC91+AV91+AO91+AL91+AG91+Z91+U91+O91 -> 2 | BI91: 345297.96 | BJ91: =ROUND(BI91,0) -> 345298 | BK91: =BJ91*BH91 -> 690596
B92: 61 | C92: ='ESPECIFICACIONES TECNICAS- E.M'!C92 -> Sodio tetraborato decahidratado | D92: ='ESPECIFICACIONES TECNICAS- E.M'!D92 -> Reactivo analítico o ACS o Análisis o Ph Eur o BP | E92: ='ESPECIFICACIONES TECNICAS- E.M'!E92 -> ≥ 97% | F92: ='ESPECIFICACIONES TECNICAS- E.M'!F92 -> Frasco por 500 gramos | G92: ='ESPECIFICACIONES TECNICAS- E.M'!G92 -> Un (1) año a partir de la entrega | H92: ='ESPECIFICACIONES TECNICAS- E.M'!H92 -> AMBIENTE | I92: ='ESPECIFICACIONES TECNICAS- E.M'!I92 -> 1303-96-4 | K92: ='ESPECIFICACIONES TECNICAS- E.M'!K92 -> REACTIVO | L92: ='ESPECIFICACIONES TECNICAS- E.M'!L92 -> PUREZA | O92: =SUM(N92:N92) -> 0 | U92: =SUM(P92:T92) -> 0 | Z92: =SUM(V92:Y92) -> 0 | AD92: =SUM(AA92:AC92) -> 0 | AF92: =SUM(AE92:AE92) -> 0 | AG92: =AF92+AD92 -> 0 | AL92: =SUM(AH92:AK92) -> 0 | AN92: 2 | AO92: =SUM(AM92:AN92) -> 2 | AR92: =SUM(AP92:AQ92) -> 0 | AU92: =SUM(AS92:AT92) -> 0 | AV92: =AU92+AR92 -> 0 | AY92: 3 | AZ92: =SUM(AW92:AY92) -> 3 | BB92: =SUM(BA92:BA92) -> 0 | BC92: =BB92+AZ92 -> 3 | BF92: 2 | BG92: =SUM(BD92:BF92) -> 2 | BH92: =BG92+BC92+AV92+AO92+AL92+AG92+Z92+U92+O92 -> 7 | BI92: 296590.36 | BJ92: =ROUND(BI92,0) -> 296590 | BK92: =BJ92*BH92 -> 2076130
B93: 62 | C93: ='ESPECIFICACIONES TECNICAS- E.M'!C93 -> Sulfato de Aluminio Octadecahidratado | D93: ='ESPECIFICACIONES TECNICAS- E.M'!D93 -> Reactivo analítico o ACS o Análisis o Ph Eur o BP | E93: ='ESPECIFICACIONES TECNICAS- E.M'!E93 -> ≥97% | F93: ='ESPECIFICACIONES TECNICAS- E.M'!F93 -> Frasco por 500 gramos | G93: ='ESPECIFICACIONES TECNICAS- E.M'!G93 -> Un (1) año a partir de la entrega | H93: ='ESPECIFICACIONES TECNICAS- E.M'!H93 -> AMBIENTE | I93: ='ESPECIFICACIONES TECNICAS- E.M'!I93 -> 7784-31-8 | K93: ='ESPECIFICACIONES TECNICAS- E.M'!K93 -> REACTIVO | L93: ='ESPECIFICACIONES TECNICAS- E.M'!L93 -> PUREZA | O93: =SUM(N93:N93) -> 0 | U93: =SUM(P93:T93) -> 0 | Z93: =SUM(V93:Y93) -> 0 | AD93: =SUM(AA93:AC93) -> 0 | AF93: =SUM(AE93:AE93) -> 0 | AG93: =AF93+AD93 -> 0 | AL93: =SUM(AH93:AK93) -> 0 | AO93: =SUM(AM93:AN93) -> 0 | AR93: =SUM(AP93:AQ93) -> 0 | AU93: =SUM(AS93:AT93) -> 0 | AV93: =AU93+AR93 -> 0 | AW93: 1 | AZ93: =SUM(AW93:AY93) -> 1 | BB93: =SUM(BA93:BA93) -> 0 | BC93: =BB93+AZ93 -> 1 | BG93: =SUM(BD93:BF93) -> 0 | BH93: =BG93+BC93+AV93+AO93+AL93+AG93+Z93+U93+O93 -> 1 | BI93: 164616.96 | BJ93: =ROUND(BI93,0) -> 164617 | BK93: =BJ93*BH93 -> 164617
B94: 63 | C94: ='ESPECIFICACIONES TECNICAS- E.M'!C94 -> Sulfato de sodio | D94: ='ESPECIFICACIONES TECNICAS- E.M'!D94 -> Reactivo analítico o ACS o Análisis o Ph Eur o BP | E94: ='ESPECIFICACIONES TECNICAS- E.M'!E94 -> ≥95% | F94: ='ESPECIFICACIONES TECNICAS- E.M'!F94 -> Frasco por 1 Kg | G94: ='ESPECIFICACIONES TECNICAS- E.M'!G94 -> Un (1) año a partir de la entrega | H94: ='ESPECIFICACIONES TECNICAS- E.M'!H94 -> AMBIENTE | I94: ='ESPECIFICACIONES TECNICAS- E.M'!I94 -> 7757-82-6 | K94: ='ESPECIFICACIONES TECNICAS- E.M'!K94 -> REACTIVO | L94: ='ESPECIFICACIONES TECNICAS- E.M'!L94 -> PUREZA | O94: =SUM(N94:N94) -> 0 | U94: =SUM(P94:T94) -> 0 | Z94: =SUM(V94:Y94) -> 0 | AB94: 3 | AC94: 1 | AD94: =SUM(AA94:AC94) -> 4 | AF94: =SUM(AE94:AE94) -> 0 | AG94: =AF94+AD94 -> 4 | AL94: =SUM(AH94:AK94) -> 0 | AO94: =SUM(AM94:AN94) -> 0 | AR94: =SUM(AP94:AQ94) -> 0 | AU94: =SUM(AS94:AT94) -> 0 | AV94: =AU94+AR94 -> 0 | AZ94: =SUM(AW94:AY94) -> 0 | BB94: =SUM(BA94:BA94) -> 0 | BC94: =BB94+AZ94 -> 0 | BG94: =SUM(BD94:BF94) -> 0 | BH94: =BG94+BC94+AV94+AO94+AL94+AG94+Z94+U94+O94 -> 4 | BI94: 138506.32 | BJ94: =ROUND(BI94,0) -> 138506 | BK94: =BJ94*BH94 -> 554024
B95: 64 | C95: ='ESPECIFICACIONES TECNICAS- E.M'!C95 -> Buffer PBS pH 7,4 ± 0,1 (1X ) en solución. | D95: ='ESPECIFICACIONES TECNICAS- E.M'!D95 -> NA | E95: ='ESPECIFICACIONES TECNICAS- E.M'!E95 -> NA | F95: ='ESPECIFICACIONES TECNICAS- E.M'!F95 -> Sobre para 1L o Frasco x 1L | G95: ='ESPECIFICACIONES TECNICAS- E.M'!G95 -> Un (1) año a partir de la entrega | H95: ='ESPECIFICACIONES TECNICAS- E.M'!H95 -> AMBIENTE | I95: ='ESPECIFICACIONES TECNICAS- E.M'!I95 -> NA | K95: ='ESPECIFICACIONES TECNICAS- E.M'!K95 -> REACTIVO | L95: ='ESPECIFICACIONES TECNICAS- E.M'!L95 -> NA | O95: =SUM(N95:N95) -> 0 | P95: 10 | S95: 3 | U95: =SUM(P95:T95) -> 13 | Z95: =SUM(V95:Y95) -> 0 | AD95: =SUM(AA95:AC95) -> 0 | AE95: 1 | AF95: =SUM(AE95:AE95) -> 1 | AG95: =AF95+AD95 -> 1 | AL95: =SUM(AH95:AK95) -> 0 | AO95: =SUM(AM95:AN95) -> 0 | AR95: =SUM(AP95:AQ95) -> 0 | AT95: 2 | AU95: =SUM(AS95:AT95) -> 2 | AV95: =AU95+AR95 -> 2 | AZ95: =SUM(AW95:AY95) -> 0 | BB95: =SUM(BA95:BA95) -> 0 | BC95: =BB95+AZ95 -> 0 | BE95: 2 | BG95: =SUM(BD95:BF95) -> 2 | BH95: =BG95+BC95+AV95+AO95+AL95+AG95+Z95+U95+O95 -> 18 | BI95: 195882.4 | BJ95: =ROUND(BI95,0) -> 195882 | BK95: =BJ95*BH95 -> 3525876
B96: 65 | C96: ='ESPECIFICACIONES TECNICAS- E.M'!C96 -> Oxalato de amonio monohidrato | D96: ='ESPECIFICACIONES TECNICAS- E.M'!D96 -> Reactivo analítico o ACS o Análisis o Ph Eur o BP | E96: ='ESPECIFICACIONES TECNICAS- E.M'!E96 -> ≥99%. | F96: ='ESPECIFICACIONES TECNICAS- E.M'!F96 -> Frasco por 25 gramos | G96: ='ESPECIFICACIONES TECNICAS- E.M'!G96 -> Un (1) año a partir de la entrega | H96: ='ESPECIFICACIONES TECNICAS- E.M'!H96 -> AMBIENTE | I96: ='ESPECIFICACIONES TECNICAS- E.M'!I96 -> 6009-70-7 | K96: ='ESPECIFICACIONES TECNICAS- E.M'!K96 -> REACTIVO | L96: ='ESPECIFICACIONES TECNICAS- E.M'!L96 -> PUREZA | O96: =SUM(N96:N96) -> 0 | U96: =SUM(P96:T96) -> 0 | Z96: =SUM(V96:Y96) -> 0 | AD96: =SUM(AA96:AC96) -> 0 | AF96: =SUM(AE96:AE96) -> 0 | AG96: =AF96+AD96 -> 0 | AL96: =SUM(AH96:AK96) -> 0 | AO96: =SUM(AM96:AN96) -> 0 | AR96: =SUM(AP96:AQ96) -> 0 | AU96: =SUM(AS96:AT96) -> 0 | AV96: =AU96+AR96 -> 0 | AZ96: =SUM(AW96:AY96) -> 0 | BB96: =SUM(BA96:BA96) -> 0 | BC96: =BB96+AZ96 -> 0 | BD96: 1 | BG96: =SUM(BD96:BF96) -> 1 | BH96: =BG96+BC96+AV96+AO96+AL96+AG96+Z96+U96+O96 -> 1 | BI96: 224044.49 | BJ96: =ROUND(BI96,0) -> 224044 | BK96: =BJ96*BH96 -> 224044
B97: CANTIDAD TOTAL POR SERVICIO | N97: =SUM(N87:N96) -> 0 | O97: =SUM(O87:O96) -> 0 | P97: =SUM(P87:P96) -> 10 | Q97: =SUM(Q87:Q96) -> 3 | R97: =SUM(R87:R96) -> 0 | S97: =SUM(S87:S96) -> 6 | T97: =SUM(T87:T96) -> 2 | U97: =SUM(U87:U96) -> 21 | ... BH97: =SUM(BH87:BH96) -> 206 | BI97: VALOR TOTAL POR LOTE
B99: LOTE 5
B102: ITEM | C102: ESPECIFICACION TECNICA | D102: GRADO | E102: PUREZA | F102: PRESENTACION O UNIDAD DE MEDIDA | G102: VIGENCIA MINIMA | H102: CONDICION DE ALMACENAMIENTO | I102: NUMERO DE CAS | J102: CLASIFICACION CODIGOS UNSPSC | K102: IDENTIFICACION ADICIONAL REQUERIDA | L102: CALIDAD MINIMA | M102: PATRONES DE DESEMPEÑO | N102: DIRECCION GENERAL | P102: REGIONAL BOGOTÁ | V102: REGIONAL NOROCCIDENTE | AA102: REGIONAL NORORIENTE | AH102: REGIONAL NORTE | AM102: REGIONAL OCCIDENTE | AP102: REGIONAL ORIENTE | AW102: REGIONAL SUR | BD102: REGIONAL SUROCCIDENTE | BH102: CANTIDAD ESTIMADA | BI102: HISTORICOS 2024 | BK102: VALOR TOTAL POR ITEM | BL102: VALOR TOTAL POR LOTE
AA103: SECCIONAL SANTANDER | AE103: SECCIONAL NORTE DE SANTANDER | AH103: SECCIONAL ATLÁNTICO | AP103: SECCIONAL BOYACÁ | AS103: SECCIONAL META | AV103: TOTAL REGIONAL ORIENTE | AW103: SECCIONAL TOLIMA | BA103: SECCIONAL HUILA | BC103: TOTAL REGIONAL SUR | BI103: VALOR UNITARIO CONTRATO | BJ103: VALOR UNITARIO CONTRATO CON IPC
N104: GRUPO APOYO-SNVJRNR | O104: TOTAL | P104: BIOLOGIA | Q104: ESTUPEFACIENTES | R104: E. TRAZA | S104: GENETICA | T104: TOXICOLOGIA | U104: TOTAL REGIONAL BOGOTÁ | V104: BALISTICA | W104: ESTUPEFACIENTES | X104: GENETICA | Y104: TOXICOLOGIA | Z104: TOTAL REGIONAL NOROCCIDENTE | AA104: BALISTICA | AB104: ESTUPEFACIENTES | AC104: TOXICOLOGIA | AD104: TOTAL SECCIONAL SANTANDER | AE104: BIOLOGIA | AF104: TOTAL SECCIONAL NTE SANTANDER | AG104: TOTAL REGIONAL NORORIENTE | AH104: BIOLOGIA | AI104: BALISTICA | AJ104: ESTUPEFACIENTES | AK104: TOXICOLOGIA | AL104: TOTAL REGIONAL NORTE | AM104: ESTUPEFACIENTES | AN104: TOXICOLOGIA | AO104: TOTAL REGIONAL OCCIDENTE | AP104: BALISTICA | AQ104: TOXICOLOGIA | AR104: TOTAL SECCIONAL BOYACÁ | AS104: BALISTICA | AT104: GENETICA | AU104: TOTAL SECCIONAL META | AW104: BIOLOGIA | AX104: ESTUPEFACIENTES | AY104: TOXICOLOGIA | AZ104: TOTAL SECCIONAL TOLIMA | BA104: BIOLOGIA | BB104: TOTAL SECCIONAL HUILA | BD104: ESTUPEFACIENTES | BE104: GENETICA | BF104: TOXICOLOGIA | BG104: TOTAL REGIONAL SUROCCIDENTE
B105: 66 | C105: ='ESPECIFICACIONES TECNICAS- E.M'!C105 -> Proteinasa K, liofilizada, libre de DNasas y RNasas. | D105: ='ESPECIFICACIONES TECNICAS- E.M'!D105 -> NA | E105: ='ESPECIFICACIONES TECNICAS- E.M'!E105 -> NA | F105: ='ESPECIFICACIONES TECNICAS- E.M'!F105 -> Frasco por 100 mg | G105: ='ESPECIFICACIONES TECNICAS- E.M'!G105 -> 1 año a partir de la entrega, en caso de no tener vigencia, se debe incluir documento (certificado de análisis o del fabricante) que incluya o se indique fecha de re-análisis (recommended retest date) o describir la vida útil del reactivo (Shelf life); ésta no debe ser inferior a doce (12) meses. | H105: ='ESPECIFICACIONES TECNICAS- E.M'!H105 -> REFRIGERACION / CONGELACION SEGÚN ESPECIFICACION DEL FABRICANTE | I105: ='ESPECIFICACIONES TECNICAS- E.M'!I105 -> NA | J105: ='ESPECIFICACIONES TECNICAS- E.M'!J105 -> 12161500 12352200 | ... M105: ='ESPECIFICACIONES TECNICAS- E.M'!M105 -> ANALISIS DE SUSTACIA | N105: 500 | O105: =SUM(N105:N105) -> 500 | S105: 200 | U105: =SUM(P105:T105) -> 200 | X105: 500 | Z105: =SUM(V105:Y105) -> 500 | AD105: =SUM(AA105:AC105) -> 0 | AF105: =SUM(AE105:AE105) -> 0 | AG105: =AF105+AD105 -> 0 | AL105: =SUM(AH105:AK105) -> 0 | AO105: =SUM(AM105:AN105) -> 0 | AR105: =SUM(AP105:AQ105) -> 0 | AT105: 300 | AU105: =SUM(AS105:AT105) -> 300 | AV105: =AU105+AR105 -> 300 | AZ105: =SUM(AW105:AY105) -> 0 | BB105: =SUM(BA105:BA105) -> 0 | BC105: =BB105+AZ105 -> 0 | BE105: 200 | BG105: =SUM(BD105:BF105) -> 200 | BH105: =BG105+BC105+AV105+AO105+AL105+AG105+Z105+U105+O105 -> 1700 | BI105: 151988.46 | BJ105: =ROUND(BI105,0) -> 151988 | BK105: =BJ105*BH105 -> 258379600 | BL105: =SUM(BK105) -> 258379600
B106: CANTIDAD TOTAL POR SERVICIO | N106: =SUM(N105) -> 500 | O106: =SUM(O105) -> 500 | P106: =SUM(P105) -> 0 | Q106: =SUM(Q105) -> 0 | R106: =SUM(R105) -> 0 | S106: =SUM(S105) -> 200 | T106: =SUM(T105) -> 0 | U106: =SUM(U105) -> 200 | ... BH106: =SUM(BH105) -> 1700 | BI106: VALOR TOTAL POR LOTE
B108: LOTE 6
B111: ITEM | C111: ESPECIFICACION TECNICA | D111: GRADO | E111: PUREZA | F111: PRESENTACION O UNIDAD DE MEDIDA | G111: VIGENCIA MINIMA | H111: CONDICION DE ALMACENAMIENTO | I111: NUMERO DE CAS | J111: CLASIFICACION CODIGOS UNSPSC | K111: IDENTIFICACION ADICIONAL REQUERIDA | L111: CALIDAD MINIMA | M111: PATRONES DE DESEMPEÑO | N111: DIRECCION GENERAL | P111: REGIONAL BOGOTÁ | V111: REGIONAL NOROCCIDENTE | AA111: REGIONAL NORORIENTE | AH111: REGIONAL NORTE | AM111: REGIONAL OCCIDENTE | AP111: REGIONAL ORIENTE | AW111: REGIONAL SUR | BD111: REGIONAL SUROCCIDENTE | BH111: CANTIDAD TOTAL | BI111: HISTORICOS 2024 | BK111: VALOR TOTAL POR ITEM | BL111: VALOR TOTAL POR LOTE
AA112: SECCIONAL SANTANDER | AE112: SECCIONAL NORTE DE SANTANDER | AH112: SECCIONAL ATLÁNTICO | AP112: SECCIONAL BOYACÁ | AS112: SECCIONAL META | AV112: TOTAL REGIONAL ORIENTE | AW112: SECCIONAL TOLIMA | BA112: SECCIONAL HUILA | BC112: TOTAL REGIONAL SUR | BI112: VALOR UNITARIO CONTRATO | BJ112: VALOR UNITARIO CONTRATO CON IPC
N113: GRUPO APOYO-SNVJRNR | O113: TOTAL | P113: BIOLOGIA | Q113: ESTUPEFACIENTES | R113: E. TRAZA | S113: GENETICA | T113: TOXICOLOGIA | U113: TOTAL REGIONAL BOGOTÁ | V113: BALISTICA | W113: ESTUPEFACIENTES | X113: GENETICA | Y113: TOXICOLOGIA | Z113: TOTAL REGIONAL NOROCCIDENTE | AA113: BALISTICA | AB113: ESTUPEFACIENTES | AC113: TOXICOLOGIA | AD113: TOTAL SECCIONAL SANTANDER | AE113: BIOLOGIA | AF113: TOTAL SECCIONAL NTE SANTANDER | AG113: TOTAL REGIONAL NORORIENTE | AH113: BIOLOGIA | AI113: BALISTICA | AJ113: ESTUPEFACIENTES | AK113: TOXICOLOGIA | AL113: TOTAL REGIONAL NORTE | AM113: ESTUPEFACIENTES | AN113: TOXICOLOGIA | AO113: TOTAL REGIONAL OCCIDENTE | AP113: BALISTICA | AQ113: TOXICOLOGIA | AR113: TOTAL SECCIONAL BOYACÁ | AS113: BALISTICA | AT113: GENETICA | AU113: TOTAL SECCIONAL META | AW113: BIOLOGIA | AX113: ESTUPEFACIENTES | AY113: TOXICOLOGIA | AZ113: TOTAL SECCIONAL TOLIMA | BA113: BIOLOGIA | BB113: TOTAL SECCIONAL HUILA | BD113: ESTUPEFACIENTES | BE113: GENETICA | BF113: TOXICOLOGIA | BG113: TOTAL REGIONAL SUROCCIDENTE
B114: 67 | C114: ='ESPECIFICACIONES TECNICAS- E.M'!C114 -> Reactivo para cuantificación de ADN humano autosómico y fracción masculina en una sola reacción para usar en Real Time PCR System 7500. Que cuente con validación para uso en muestras forenses, que permita la evaluación de inhibidores y degradación de ADN. Que incluya kit de calibración para equipo RT-PCR. En caso de requerirse un software específico para el análisis de los resultados, se debe suministrar a cada laboratorio que lo requiera. | D114: ='ESPECIFICACIONES TECNICAS- E.M'!D114 -> NA | E114: ='ESPECIFICACIONES TECNICAS- E.M'!E114 -> NA | F114: ='ESPECIFICACIONES TECNICAS- E.M'!F114 -> 1 Reaccion | G114: ='ESPECIFICACIONES TECNICAS- E.M'!G114 -> 6 meses a partir de la entrega | H114: ='ESPECIFICACIONES TECNICAS- E.M'!H114 -> CONGELACION | I114: ='ESPECIFICACIONES TECNICAS- E.M'!I114 -> NA | J114: ='ESPECIFICACIONES TECNICAS- E.M'!J114 -> 41105500 41106300 | ... M114: ='ESPECIFICACIONES TECNICAS- E.M'!M114 -> ANALISIS DE SUSTACIA | O114: =SUM(N114:N114) -> 0 | S114: =20*400 -> 8000 | U114: =SUM(P114:T114) -> 8000 | X114: 6000 | Z114: =SUM(V114:Y114) -> 6000 | AD114: =SUM(AA114:AC114) -> 0 | AF114: =SUM(AE114:AE114) -> 0 | AG114: =AF114+AD114 -> 0 | AL114: =SUM(AH114:AK114) -> 0 | AO114: =SUM(AM114:AN114) -> 0 | AR114: =SUM(AP114:AQ114) -> 0 | AT114: =4*400 -> 1600 | AU114: =SUM(AS114:AT114) -> 1600 | AV114: =AU114+AR114 -> 1600 | AZ114: =SUM(AW114:AY114) -> 0 | BB114: =SUM(BA114:BA114) -> 0 | BC114: =BB114+AZ114 -> 0 | BE114: 800 | BG114: =SUM(BD114:BF114) -> 800 | BH114: =BG114+BC114+AV114+AO114+AL114+AG114+Z114+U114+O114 -> 16400 | BI114: 19057.91 | BJ114: =ROUND(BI114,0) -> 19058 | BK114: =BJ114*BH114 -> 312551200 | BL114: =SUM(BK114) -> 312551200
B115: CANTIDAD TOTAL POR SERVICIO | N115: =SUM(N114) -> 0 | O115: =SUM(O114) -> 0 | P115: =SUM(P114) -> 0 | Q115: =SUM(Q114) -> 0 | R115: =SUM(R114) -> 0 | S115: =SUM(S114) -> 8000 | T115: =SUM(T114) -> 0 | U115: =SUM(U114) -> 8000 | ... BH115: =SUM(BH114) -> 16400 | BI115: VALOR TOTAL POR LOTE
B117: LOTE 7
B120: ITEM | C120: ESPECIFICACION TECNICA | D120: GRADO | E120: PUREZA | F120: PRESENTACION O UNIDAD DE MEDIDA | G120: VIGENCIA MINIMA | H120: CONDICION DE ALMACENAMIENTO | I120: NUMERO DE CAS | J120: CLASIFICACION CODIGOS UNSPSC | K120: IDENTIFICACION ADICIONAL REQUERIDA | L120: CALIDAD MINIMA | M120: PATRONES DE DESEMPEÑO | N120: DIRECCION GENERAL | P120: REGIONAL BOGOTÁ | V120: REGIONAL NOROCCIDENTE | AA120: REGIONAL NORORIENTE | AH120: REGIONAL NORTE | AM120: REGIONAL OCCIDENTE | AP120: REGIONAL ORIENTE | AW120: REGIONAL SUR | BD120: REGIONAL SUROCCIDENTE | BH120: CANTIDAD TOTAL | BI120: HISTORICOS 2024 | BK120: VALOR TOTAL POR ITEM | BL120: VALOR TOTAL POR LOTE
AA121: SECCIONAL SANTANDER | AE121: SECCIONAL NORTE DE SANTANDER | AH121: SECCIONAL ATLÁNTICO | AP121: SECCIONAL BOYACÁ | AS121: SECCIONAL META | AV121: TOTAL REGIONAL ORIENTE | AW121: SECCIONAL TOLIMA | BA121: SECCIONAL HUILA | BC121: TOTAL REGIONAL SUR | BI121: VALOR UNITARIO CONTRATO | BJ121: VALOR UNITARIO CONTRATO CON IPC
...

Sheet REGIONALIZACION 
B2: LOTE 1 | BJ2: VALOR TOTAL PROCESO | BL2: =BK8+BK41+BK65+BK87+BK105+BK114+BK123+BK132 -> 1025334519
B5: ITEM | C5: ESPECIFICACION TECNICA | D5: GRADO | E5: PUREZA | F5: PRESENTACION O UNIDAD DE MEDIDA | G5: VIGENCIA MINIMA | H5: CONDICION DE ALMACENAMIENTO | I5: NUMERO DE CAS | J5: CLASIFICACION CODIGOS UNSPSC | K5: IDENTIFICACION ADICIONAL REQUERIDA | L5: CALIDAD MINIMA | M5: PATRONES DE DESEMPEÑO | N5: DIRECCION GENERAL | P5: REGIONAL BOGOTÁ | V5: REGIONAL NOROCCIDENTE | AA5: REGIONAL NORORIENTE | AH5: REGIONAL NORTE | AM5: REGIONAL OCCIDENTE | AP5: REGIONAL ORIENTE | AW5: REGIONAL SUR | BD5: REGIONAL SUROCCIDENTE | BH5: CANTIDAD TOTAL | BI5: VALOR UNITARIO PROMEDIO | BJ5: VALOR TOTAL POR ITEM | BK5: VALOR TOTAL POR LOTE | BL5: DIRECCION GENERAL | BN5: REGIONAL BOGOTÁ | BT5: REGIONAL NOROCCIDENTE | BY5: REGIONAL NORORIENTE | CF5: REGIONAL NORTE | CK5: REGIONAL OCCIDENTE | CN5: REGIONAL ORIENTE | CU5: REGIONAL SUR | DB5: REGIONAL SUROCCIDENTE | DF5: VALOR POR ITEM | DG5: VALOR POR LOTE
AA6: SECCIONAL SANTANDER | AE6: SECCIONAL NORTE DE SANTANDER | AH6: SECCIONAL ATLÁNTICO | AP6: SECCIONAL BOYACÁ | AS6: SECCIONAL META | AV6: TOTAL REGIONAL ORIENTE | AW6: SECCIONAL TOLIMA | BA6: SECCIONAL HUILA | BC6: TOTAL REGIONAL SUR | BY6: SECCIONAL SANTANDER | CC6: SECCIONAL NORTE DE SANTANDER | CF6: SECCIONAL ATLÁNTICO | CN6: SECCIONAL BOYACÁ | CQ6: SECCIONAL META | CT6: TOTAL REGIONAL ORIENTE | CU6: SECCIONAL TOLIMA | CY6: SECCIONAL HUILA | DA6: TOTAL REGIONAL SUR
N7: GRUPO APOYO-SNVJRNR | O7: TOTAL | P7: BIOLOGIA | Q7: ESTUPEFACIENTES | R7: E. TRAZA | S7: GENETICA | T7: TOXICOLOGIA | U7: TOTAL REGIONAL BOGOTÁ | V7: BALISTICA | W7: ESTUPEFACIENTES | X7: GENETICA | Y7: TOXICOLOGIA | Z7: TOTAL REGIONAL NOROCCIDENTE | AA7: BALISTICA | AB7: ESTUPEFACIENTES | AC7: TOXICOLOGIA | AD7: TOTAL SECCIONAL SANTANDER | AE7: BIOLOGIA | AF7: TOTAL SECCIONAL NTE SANTANDER | AG7: TOTAL REGIONAL NORORIENTE | AH7: BIOLOGIA | AI7: BALISTICA | AJ7: ESTUPEFACIENTES | AK7: TOXICOLOGIA | AL7: TOTAL REGIONAL NORTE | AM7: ESTUPEFACIENTES | AN7: TOXICOLOGIA | AO7: TOTAL REGIONAL OCCIDENTE | AP7: BALISTICA | AQ7: TOXICOLOGIA | AR7: TOTAL SECCIONAL BOYACÁ | AS7: BALISTICA | AT7: GENETICA | AU7: TOTAL SECCIONAL META | AW7: BIOLOGIA | AX7: ESTUPEFACIENTES | AY7: TOXICOLOGIA | AZ7: TOTAL SECCIONAL TOLIMA | BA7: BIOLOGIA | BB7: TOTAL SECCIONAL HUILA | BD7: ESTUPEFACIENTES | BE7: GENETICA | BF7: TOXICOLOGIA | BG7: TOTAL REGIONAL SUROCCIDENTE | BL7: GRUPO APOYO-SNVJRNR | BM7: TOTAL | BN7: BIOLOGIA | BO7: ESTUPEFACIENTES | BP7: E. TRAZA | BQ7: GENETICA | BR7: TOXICOLOGIA | BS7: TOTAL REGIONAL BOGOTÁ | BT7: BALISTICA | BU7: ESTUPEFACIENTES | BV7: GENETICA | BW7: TOXICOLOGIA | BX7: TOTAL REGIONAL NOROCCIDENTE | BY7: BALISTICA | BZ7: ESTUPEFACIENTES | CA7: TOXICOLOGIA | CB7: TOTAL SECCIONAL SANTANDER | CC7: BIOLOGIA | CD7: TOTAL SECCIONAL NTE SANTANDER | CE7: TOTAL REGIONAL NORORIENTE | CF7: BIOLOGIA | CG7: BALISTICA | CH7: ESTUPEFACIENTES | CI7: TOXICOLOGIA | CJ7: TOTAL REGIONAL NORTE | CK7: ESTUPEFACIENTES | CL7: TOXICOLOGIA | CM7: TOTAL REGIONAL OCCIDENTE | CN7: BALISTICA | CO7: TOXICOLOGIA | CP7: TOTAL SECCIONAL BOYACÁ | CQ7: BALISTICA | CR7: GENETICA | CS7: TOTAL SECCIONAL META | CU7: BIOLOGIA | CV7: ESTUPEFACIENTES | CW7: TOXICOLOGIA | CX7: TOTAL SECCIONAL TOLIMA | CY7: BIOLOGIA | CZ7: TOTAL SECCIONAL HUILA | DB7: ESTUPEFACIENTES | DC7: GENETICA | DD7: TOXICOLOGIA | DE7: TOTAL REGIONAL SUROCCIDENTE
B8: 1 | C8: ='ESTUDIO FORMULADO '!C8 -> Ácido rubeánico o ditiooxiamida | D8: ='ESTUDIO FORMULADO '!D8 -> Reactivo analítico o ACS o Análisis o Ph Eur o BP | E8: ='ESTUDIO FORMULADO '!E8 -> ≥98% | F8: ='ESTUDIO FORMULADO '!F8 -> Frasco por 10 gramos | G8: ='ESTUDIO FORMULADO '!G8 -> Un (1) año a partir de la entrega | H8: ='ESTUDIO FORMULADO '!H8 -> AMBIENTE | I8: ='ESTUDIO FORMULADO '!I8 -> 79-40-3 | J8: ='ESTUDIO FORMULADO '!J8:J32 -> 12161500 12191500 12191600 12352100 12352300 | K8: ='ESTUDIO FORMULADO '!K8 -> REACTIVO | L8: ='ESTUDIO FORMULADO '!L8 -> PUREZA | M8: ='ESTUDIO FORMULADO '!M8:M32 -> ANALISIS DE SUSTACIA | O8: =SUM(N8:N8) -> 0 | U8: =SUM(P8:T8) -> 0 | Z8: =SUM(V8:Y8) -> 0 | AA8: 1 | AD8: =SUM(AA8:AC8) -> 1 | AF8: =SUM(AE8:AE8) -> 0 | AG8: =AF8+AD8 -> 1 | AL8: =SUM(AH8:AK8) -> 0 | AO8: =SUM(AM8:AN8) -> 0 | AR8: =SUM(AP8:AQ8) -> 0 | AU8: =SUM(AS8:AT8) -> 0 | AV8: =AU8+AR8 -> 0 | AZ8: =SUM(AW8:AY8) -> 0 | BB8: =SUM(BA8:BA8) -> 0 | BC8: =BB8+AZ8 -> 0 | BG8: =SUM(BD8:BF8) -> 0 | BH8: =BG8+BC8+AV8+AO8+AL8+AG8+Z8+U8+O8 -> 1 | BI8: ='ESTUDIO FORMULADO '!BJ8 -> 187153 | BJ8: =BI8*BH8 -> 187153 | BK8: =SUM(BJ8:BJ32) -> 125875132 | BL8: =BI8*N8 -> 0 | BM8: =BL8 -> 0 | BN8: =BI8*P8 -> 0 | BO8: =BI8*Q8 -> 0 | BP8: =BI8*R8 -> 0 | BQ8: =BI8*S8 -> 0 | BR8: =BI8*T8 -> 0 | BS8: =SUM(BN8:BR8) -> 0 | BT8: =BI8*V8 -> 0 | BU8: =BI8*W8 -> 0 | BV8: =BI8*X8 -> 0 | BW8: =BI8*Y8 -> 0 | BX8: =SUM(BT8:BW8) -> 0 | BY8: =BI8*AA8 -> 187153 | BZ8: =BI8*AB8 -> 0 | CA8: =BI8*AC8 -> 0 | CB8: =SUM(BY8:CA8) -> 187153 | CC8: =BI8*AE8 -> 0 | CD8: =SUM(CC8) -> 0 | CE8: =CD8+CB8 -> 187153 | CF8: =BI8*AH8 -> 0 | CG8: =BI8*AI8 -> 0 | CH8: =BI8*AJ8 -> 0 | CI8: =BI8*AK8 -> 0 | CJ8: =CI8+CH8+CG8+CF8 -> 0 | CK8: =BI8*AM8 -> 0 | CL8: =BI8*AN8 -> 0 | CM8: =SUM(CK8:CL8) -> 0 | CN8: =BI8*AP8 -> 0 | CO8: =BI8*AQ8 -> 0 | CP8: =SUM(CN8:CO8) -> 0 | CQ8: =BI8*AS8 -> 0 | CR8: =BI8*AT8 -> 0 | CS8: =SUM(CQ8:CR8) -> 0 | CT8: =CS8+CP8 -> 0 | CU8: =BI8*AW8 -> 0 | CV8: =BI8*AX8 -> 0 | CW8: =BI8*AY8 -> 0 | CX8: =SUM(CU8:CW8) -> 0 | CY8: =BI8*BA8 -> 0 | CZ8: =SUM(CY8) -> 0 | DA8: =CZ8+CX8 -> 0 | DB8: =BI8*BD8 -> 0 | DC8: =BI8*BE8 -> 0 | DD8: =BI8*BF8 -> 0 | DE8: =SUM(DB8:DD8) -> 0 | DF8: =DE8+DA8+CT8+CM8+CJ8+CE8+BX8+BS8+BM8 -> 187153 | DG8: =SUM(DF8:DF32) -> 125875132
B9: 2 | C9: ='ESTUDIO FORMULADO '!C9 -> Ditionito de sodio o Hidrosulfito de sodio | D9: ='ESTUDIO FORMULADO '!D9 -> Reactivo analítico o ACS o Análisis o Ph Eur o BP | E9: ='ESTUDIO FORMULADO '!E9 -> ≥85%. | F9: ='ESTUDIO FORMULADO '!F9 -> Frasco por 500 gramos | G9: ='ESTUDIO FORMULADO '!G9 -> Un (1) año a partir de la entrega | H9: ='ESTUDIO FORMULADO '!H9 -> AMBIENTE | I9: ='ESTUDIO FORMULADO '!I9 -> 7775-14-6 | K9: ='ESTUDIO FORMULADO '!K9 -> REACTIVO | L9: ='ESTUDIO FORMULADO '!L9 -> PUREZA | O9: =SUM(N9:N9) -> 0 | U9: =SUM(P9:T9) -> 0 | Z9: =SUM(V9:Y9) -> 0 | AD9: =SUM(AA9:AC9) -> 0 | AF9: =SUM(AE9:AE9) -> 0 | AG9: =AF9+AD9 -> 0 | AL9: =SUM(AH9:AK9) -> 0 | AN9: 1 | AO9: =SUM(AM9:AN9) -> 1 | AR9: =SUM(AP9:AQ9) -> 0 | AU9: =SUM(AS9:AT9) -> 0 | AV9: =AU9+AR9 -> 0 | AZ9: =SUM(AW9:AY9) -> 0 | BB9: =SUM(BA9:BA9) -> 0 | BC9: =BB9+AZ9 -> 0 | BG9: =SUM(BD9:BF9) -> 0 | BH9: =BG9+BC9+AV9+AO9+AL9+AG9+Z9+U9+O9 -> 1 | BI9: ='ESTUDIO FORMULADO '!BJ9 -> 92043 | BJ9: =BI9*BH9 -> 92043 | BL9: =BI9*N9 -> 0 | BM9: =BL9 -> 0 | BN9: =BI9*P9 -> 0 | BO9: =BI9*Q9 -> 0 | BP9: =BI9*R9 -> 0 | BQ9: =BI9*S9 -> 0 | BR9: =BI9*T9 -> 0 | BS9: =SUM(BN9:BR9) -> 0 | BT9: =BI9*V9 -> 0 | BU9: =BI9*W9 -> 0 | BV9: =BI9*X9 -> 0 | BW9: =BI9*Y9 -> 0 | BX9: =SUM(BT9:BW9) -> 0 | BY9: =BI9*AA9 -> 0 | BZ9: =BI9*AB9 -> 0 | CA9: =BI9*AC9 -> 0 | CB9: =SUM(BY9:CA9) -> 0 | CC9: =BI9*AE9 -> 0 | CD9: =SUM(CC9) -> 0 | CE9: =CD9+CB9 -> 0 | CF9: =BI9*AH9 -> 0 | CG9: =BI9*AI9 -> 0 | CH9: =BI9*AJ9 -> 0 | CI9: =BI9*AK9 -> 0 | CJ9: =CI9+CH9+CG9+CF9 -> 0 | CK9: =BI9*AM9 -> 0 | CL9: =BI9*AN9 -> 92043 | CM9: =SUM(CK9:CL9) -> 92043 | CN9: =BI9*AP9 -> 0 | CO9: =BI9*AQ9 -> 0 | CP9: =SUM(CN9:CO9) -> 0 | CQ9: =BI9*AS9 -> 0 | CR9: =BI9*AT9 -> 0 | CS9: =SUM(CQ9:CR9) -> 0 | CT9: =CS9+CP9 -> 0 | CU9: =BI9*AW9 -> 0 | CV9: =BI9*AX9 -> 0 | CW9: =BI9*AY9 -> 0 | CX9: =SUM(CU9:CW9) -> 0 | CY9: =BI9*BA9 -> 0 | CZ9: =SUM(CY9) -> 0 | DA9: =CZ9+CX9 -> 0 | DB9: =BI9*BD9 -> 0 | DC9: =BI9*BE9 -> 0 | DD9: =BI9*BF9 -> 0 | DE9: =SUM(DB9:DD9) -> 0 | DF9: =DE9+DA9+CT9+CM9+CJ9+CE9+BX9+BS9+BM9 -> 92043
B10: 3 | C10: ='ESTUDIO FORMULADO '!C10 -> Fenol equilibrado con Tris HCI para extracción de ADN (pH 8,0) | D10: ='ESTUDIO FORMULADO '!D10 -> NA | E10: ='ESTUDIO FORMULADO '!E10 -> NA | F10: ='ESTUDIO FORMULADO '!F10 -> Frasco por 400 mL | G10: ='ESTUDIO FORMULADO '!G10 -> Un (1) año a partir de la entrega | H10: ='ESTUDIO FORMULADO '!H10 -> AMBIENTE | I10: ='ESTUDIO FORMULADO '!I10 -> NA | K10: ='ESTUDIO FORMULADO '!K10 -> REACTIVO | L10: ='ESTUDIO FORMULADO '!L10 -> NA | N10: 7 | O10: =SUM(N10:N10) -> 7 | S10: 10 | U10: =SUM(P10:T10) -> 10 | Z10: =SUM(V10:Y10) -> 0 | AD10: =SUM(AA10:AC10) -> 0 | AF10: =SUM(AE10:AE10) -> 0 | AG10: =AF10+AD10 -> 0 | AL10: =SUM(AH10:AK10) -> 0 | AO10: =SUM(AM10:AN10) -> 0 | AR10: =SUM(AP10:AQ10) -> 0 | AT10: 1 | AU10: =SUM(AS10:AT10) -> 1 | AV10: =AU10+AR10 -> 1 | AZ10: =SUM(AW10:AY10) -> 0 | BB10: =SUM(BA10:BA10) -> 0 | BC10: =BB10+AZ10 -> 0 | BG10: =SUM(BD10:BF10) -> 0 | BH10: =BG10+BC10+AV10+AO10+AL10+AG10+Z10+U10+O10 -> 18 | BI10: ='ESTUDIO FORMULADO '!BJ10 -> 281084 | BJ10: =BI10*BH10 -> 5059512 | BL10: =BI10*N10 -> 1967588 | BM10: =BL10 -> 1967588 | BN10: =BI10*P10 -> 0 | BO10: =BI10*Q10 -> 0 | BP10: =BI10*R10 -> 0 | BQ10: =BI10*S10 -> 2810840 | BR10: =BI10*T10 -> 0 | BS10: =SUM(BN10:BR10) -> 2810840 | BT10: =BI10*V10 -> 0 | BU10: =BI10*W10 -> 0 | BV10: =BI10*X10 -> 0 | BW10: =BI10*Y10 -> 0 | BX10: =SUM(BT10:BW10) -> 0 | BY10: =BI10*AA10 -> 0 | BZ10: =BI10*AB10 -> 0 | CA10: =BI10*AC10 -> 0 | CB10: =SUM(BY10:CA10) -> 0 | CC10: =BI10*AE10 -> 0 | CD10: =SUM(CC10) -> 0 | CE10: =CD10+CB10 -> 0 | CF10: =BI10*AH10 -> 0 | CG10: =BI10*AI10 -> 0 | CH10: =BI10*AJ10 -> 0 | CI10: =BI10*AK10 -> 0 | CJ10: =CI10+CH10+CG10+CF10 -> 0 | CK10: =BI10*AM10 -> 0 | CL10: =BI10*AN10 -> 0 | CM10: =SUM(CK10:CL10) -> 0 | CN10: =BI10*AP10 -> 0 | CO10: =BI10*AQ10 -> 0 | CP10: =SUM(CN10:CO10) -> 0 | CQ10: =BI10*AS10 -> 0 | CR10: =BI10*AT10 -> 281084 | CS10: =SUM(CQ10:CR10) -> 281084 | CT10: =CS10+CP10 -> 281084 | CU10: =BI10*AW10 -> 0 | CV10: =BI10*AX10 -> 0 | CW10: =BI10*AY10 -> 0 | CX10: =SUM(CU10:CW10) -> 0 | CY10: =BI10*BA10 -> 0 | CZ10: =SUM(CY10) -> 0 | DA10: =CZ10+CX10 -> 0 | DB10: =BI10*BD10 -> 0 | DC10: =BI10*BE10 -> 0 | DD10: =BI10*BF10 -> 0 | DE10: =SUM(DB10:DD10) -> 0 | DF10: =DE10+DA10+CT10+CM10+CJ10+CE10+BX10+BS10+BM10 -> 5059512
B11: 4 | C11: ='ESTUDIO FORMULADO '!C11 -> Líquido para eliminar DNA y DNAsas contaminantes, de material plástico y vidrio, sin afectar las muestras de ADN en análisis (Tipo DNA-AWAY) | D11: ='ESTUDIO FORMULADO '!D11 -> NA | E11: ='ESTUDIO FORMULADO '!E11 -> NA | F11: ='ESTUDIO FORMULADO '!F11 -> Frasco por 250 mL | G11: ='ESTUDIO FORMULADO '!G11 -> Un (1) año a partir de la entrega | H11: ='ESTUDIO FORMULADO '!H11 -> AMBIENTE | I11: ='ESTUDIO FORMULADO '!I11 -> NA | K11: ='ESTUDIO FORMULADO '!K11 -> REACTIVO | L11: ='ESTUDIO FORMULADO '!L11 -> NA | N11: 10 | O11: =SUM(N11:N11) -> 10 | S11: 12 | U11: =SUM(P11:T11) -> 12 | X11: 5 | Z11: =SUM(V11:Y11) -> 5 | AD11: =SUM(AA11:AC11) -> 0 | AF11: =SUM(AE11:AE11) -> 0 | AG11: =AF11+AD11 -> 0 | AL11: =SUM(AH11:AK11) -> 0 | AO11: =SUM(AM11:AN11) -> 0 | AR11: =SUM(AP11:AQ11) -> 0 | AT11: 4 | AU11: =SUM(AS11:AT11) -> 4 | AV11: =AU11+AR11 -> 4 | AZ11: =SUM(AW11:AY11) -> 0 | BB11: =SUM(BA11:BA11) -> 0 | BC11: =BB11+AZ11 -> 0 | BE11: 5 | BG11: =SUM(BD11:BF11) -> 5 | BH11: =BG11+BC11+AV11+AO11+AL11+AG11+Z11+U11+O11 -> 36 | BI11: ='ESTUDIO FORMULADO '!BJ11 -> 92987 | BJ11: =BI11*BH11 -> 3347532 | BL11: =BI11*N11 -> 929870 | BM11: =BL11 -> 929870 | BN11: =BI11*P11 -> 0 | BO11: =BI11*Q11 -> 0 | BP11: =BI11*R11 -> 0 | BQ11: =BI11*S11 -> 1115844 | BR11: =BI11*T11 -> 0 | BS11: =SUM(BN11:BR11) -> 1115844 | BT11: =BI11*V11 -> 0 | BU11: =BI11*W11 -> 0 | BV11: =BI11*X11 -> 464935 | BW11: =BI11*Y11 -> 0 | BX11: =SUM(BT11:BW11) -> 464935 | BY11: =BI11*AA11 -> 0 | BZ11: =BI11*AB11 -> 0 | CA11: =BI11*AC11 -> 0 | CB11: =SUM(BY11:CA11) -> 0 | CC11: =BI11*AE11 -> 0 | CD11: =SUM(CC11) -> 0 | CE11: =CD11+CB11 -> 0 | CF11: =BI11*AH11 -> 0 | CG11: =BI11*AI11 -> 0 | CH11: =BI11*AJ11 -> 0 | CI11: =BI11*AK11 -> 0 | CJ11: =CI11+CH11+CG11+CF11 -> 0 | CK11: =BI11*AM11 -> 0 | CL11: =BI11*AN11 -> 0 | CM11: =SUM(CK11:CL11) -> 0 | CN11: =BI11*AP11 -> 0 | CO11: =BI11*AQ11 -> 0 | CP11: =SUM(CN11:CO11) -> 0 | CQ11: =BI11*AS11 -> 0 | CR11: =BI11*AT11 -> 371948 | CS11: =SUM(CQ11:CR11) -> 371948 | CT11: =CS11+CP11 -> 371948 | CU11: =BI11*AW11 -> 0 | CV11: =BI11*AX11 -> 0 | CW11: =BI11*AY11 -> 0 | CX11: =SUM(CU11:CW11) -> 0 | CY11: =BI11*BA11 -> 0 | CZ11: =SUM(CY11) -> 0 | DA11: =CZ11+CX11 -> 0 | DB11: =BI11*BD11 -> 0 | DC11: =BI11*BE11 -> 464935 | DD11: =BI11*BF11 -> 0 | DE11: =SUM(DB11:DD11) -> 464935 | DF11: =DE11+DA11+CT11+CM11+CJ11+CE11+BX11+BS11+BM11 -> 3347532
B12: 5 | C12: ='ESTUDIO FORMULADO '!C12 -> Sodium N Laurylsarcosinate, para biología molecular . | D12: ='ESTUDIO FORMULADO '!D12 -> NA | E12: ='ESTUDIO FORMULADO '!E12 -> ≥94,0% | F12: ='ESTUDIO FORMULADO '!F12 -> Frasco por 25 gramos | G12: ='ESTUDIO FORMULADO '!G12 -> 1 año a partir de la entrega, en caso de no tener vigencia, se debe incluir documento (certificado de análisis o del fabricante) que incluya o se indique fecha de re-análisis (recommended retest date) o describir la vida útil del reactivo (Shelf life); ésta no debe ser inferior a doce (12) meses. | H12: ='ESTUDIO FORMULADO '!H12 -> AMBIENTE | I12: ='ESTUDIO FORMULADO '!I12 -> 137-16-6 | K12: ='ESTUDIO FORMULADO '!K12 -> REACTIVO | L12: ='ESTUDIO FORMULADO '!L12 -> PUREZA | N12: 50 | O12: =SUM(N12:N12) -> 50 | U12: =SUM(P12:T12) -> 0 | X12: 10 | Z12: =SUM(V12:Y12) -> 10 | AD12: =SUM(AA12:AC12) -> 0 | AF12: =SUM(AE12:AE12) -> 0 | AG12: =AF12+AD12 -> 0 | AL12: =SUM(AH12:AK12) -> 0 | AO12: =SUM(AM12:AN12) -> 0 | AR12: =SUM(AP12:AQ12) -> 0 | AT12: 10 | AU12: =SUM(AS12:AT12) -> 10 | AV12: =AU12+AR12 -> 10 | AZ12: =SUM(AW12:AY12) -> 0 | BB12: =SUM(BA12:BA12) -> 0 | BC12: =BB12+AZ12 -> 0 | BE12: 10 | BG12: =SUM(BD12:BF12) -> 10 | BH12: =BG12+BC12+AV12+AO12+AL12+AG12+Z12+U12+O12 -> 80 | BI12: ='ESTUDIO FORMULADO '!BJ12 -> 212642 | BJ12: =BI12*BH12 -> 17011360 | BL12: =BI12*N12 -> 10632100 | BM12: =BL12 -> 10632100 | BN12: =BI12*P12 -> 0 | BO12: =BI12*Q12 -> 0 | BP12: =BI12*R12 -> 0 | BQ12: =BI12*S12 -> 0 | BR12: =BI12*T12 -> 0 | BS12: =SUM(BN12:BR12) -> 0 | BT12: =BI12*V12 -> 0 | BU12: =BI12*W12 -> 0 | BV12: =BI12*X12 -> 2126420 | BW12: =BI12*Y12 -> 0 | BX12: =SUM(BT12:BW12) -> 2126420 | BY12: =BI12*AA12 -> 0 | BZ12: =BI12*AB12 -> 0 | CA12: =BI12*AC12 -> 0 | CB12: =SUM(BY12:CA12) -> 0 | CC12: =BI12*AE12 -> 0 | CD12: =SUM(CC12) -> 0 | CE12: =CD12+CB12 -> 0 | CF12: =BI12*AH12 -> 0 | CG12: =BI12*AI12 -> 0 | CH12: =BI12*AJ12 -> 0 | CI12: =BI12*AK12 -> 0 | CJ12: =CI12+CH12+CG12+CF12 -> 0 | CK12: =BI12*AM12 -> 0 | CL12: =BI12*AN12 -> 0 | CM12: =SUM(CK12:CL12) -> 0 | CN12: =BI12*AP12 -> 0 | CO12: =BI12*AQ12 -> 0 | CP12: =SUM(CN12:CO12) -> 0 | CQ12: =BI12*AS12 -> 0 | CR12: =BI12*AT12 -> 2126420 | CS12: =SUM(CQ12:CR12) -> 2126420 | CT12: =CS12+CP12 -> 2126420 | CU12: =BI12*AW12 -> 0 | CV12: =BI12*AX12 -> 0 | CW12: =BI12*AY12 -> 0 | CX12: =SUM(CU12:CW12) -> 0 | CY12: =BI12*BA12 -> 0 | CZ12: =SUM(CY12) -> 0 | DA12: =CZ12+CX12 -> 0 | DB12: =BI12*BD12 -> 0 | DC12: =BI12*BE12 -> 2126420 | DD12: =BI12*BF12 -> 0 | DE12: =SUM(DB12:DD12) -> 2126420 | DF12: =DE12+DA12+CT12+CM12+CJ12+CE12+BX12+BS12+BM12 -> 17011360
