Workbook
Name \a: #REF!
Name \b: #REF!
Name \b: #REF!
Name \b: #REF!
Name \c: #REF!
Name \c: #REF!
Name \e: #REF!
Name \e: #REF!
Name \i: #REF!
Name \i: #REF!
Name \m: #REF!
Name \m: #REF!
Name \r: #REF!
Name \r: #REF!
Name \s: #REF!
Name \t: #REF!
Name \t: #REF!
Name \x: #REF!
Name \x: #REF!
Name \z: #REF!
Name \z: #REF!
Name _________________________________apu1: [1]INSUMOS!#REF!
Name ________________________________apu1: [1]INSUMOS!#REF!
Name _______________________________apu1: [1]INSUMOS!#REF!
Name ______________________________apu1: [1]INSUMOS!#REF!
Name ____________________________apu1: [1]INSUMOS!#REF!
Name ___________________________apu1: [1]INSUMOS!#REF!
Name __________________________apu1: [1]INSUMOS!#REF!
Name _________________________apu1: [1]INSUMOS!#REF!
Name ________________________apu1: [1]INSUMOS!#REF!
Name _______________________apu1: [1]INSUMOS!#REF!
Name _____________________apu1: [1]INSUMOS!#REF!
Name ____________________apu1: [1]INSUMOS!#REF!
Name ___________________apu1: [1]INSUMOS!#REF!
Name __________________apu1: [1]INSUMOS!#REF!
Name _________________apu1: [1]INSUMOS!#REF!
Name ________________apu1: [1]INSUMOS!#REF!
Name _______________apu1: [1]INSUMOS!#REF!
Name ______________apu1: [1]INSUMOS!#REF!
Name _____________apu1: [1]INSUMOS!#REF!
Name ____________apu1: [1]INSUMOS!#REF!
Name ___________apu1: [1]INSUMOS!#REF!
Name __________apu1: [1]INSUMOS!#REF!
Name _________apu1: [1]INSUMOS!#REF!
Name ________apu1: [1]INSUMOS!#REF!
Name _______apu1: [1]INSUMOS!#REF!
Name ______apu1: [1]INSUMOS!#REF!
Name _____apu1: [1]INSUMOS!#REF!
Name ____apu1: [1]INSUMOS!#REF!
Name ___apu1: [1]INSUMOS!#REF!
Name ___DIF2: #REF!
Name ___DIF2: #REF!
Name __apu1: [1]INSUMOS!#REF!
Name __DIF2: #REF!
Name __DIF2: #REF!
Name __PJ50: #REF!
Name _12__Excel_BuiltIn_Print_Area_2: #REF!
Name _15_Excel_BuiltIn_Print_Area_2: #REF!
Name _3_____Excel_BuiltIn_Print_Area_2: #REF!
Name _6____Excel_BuiltIn_Print_Area_2: #REF!

Sheet  ACTIVIDADES PPTO PROYECTADA
A11: Código BP | B11: BP-26005351 | D11: Código BPIN | I11: Versión PPM: | K11: 000 | N11: Vigencia | P11: 2024 | R11: Meta PDD CC | W11: Programa PDD | X11: 6201002 | AC11: Código BP | AD11: =B11 -> BP-26005351 | AF11: Código BPIN | AK11: Versión PPM: | AM11: 000 | AP11: Vigencia | AR11: 2025 | AT11: Meta PDD CC | AY11: Programa PDD | AZ11: 6201002 | BE11: Código BP | BF11: =AD11 -> BP-26005351 | BH11: Código BPIN | BM11: Versión PPM: | BO11: 000 | BR11: Vigencia | BT11: =AR11+1 -> 2026 | BV11: Meta PDD CC | CA11: Programa PDD | CB11: 6201002 | CG11: Código BP | CH11: =B11 -> BP-26005351 | CJ11: Código BPIN | CO11: Versión PPM: | CQ11: 000 | CT11: Vigencia | CV11: =BT11+1 -> 2027 | CX11: Meta PDD CC | DC11: Programa PDD | DD11: 6201002
I12: Versión PS: | K12: 000 | N12: Población Objetivo | P12: ='DETALLE POBLACIÓN PROYECTADA'!E9 -> 13479 | X12: =IF(X11=""," ",VLOOKUP(X11,[16]Listados!$F:$G,2,0)) -> Vivienda sostenible, saneamiento básico y servicios públicos | AK12: Versión PS: | AM12: 000 | AP12: Población Objetivo | AR12: ='DETALLE POBLACIÓN PROYECTADA'!F9 -> 37606 | AZ12: =IF(AZ11=""," ",VLOOKUP(AZ11,[16]Listados!$F:$G,2,0)) -> Vivienda sostenible, saneamiento básico y servicios públicos | BM12: Versión PS: | BO12: 000 | BR12: Población Objetivo | BT12: ='DETALLE POBLACIÓN PROYECTADA'!G9 -> 17111 | CB12: =IF(CB11=""," ",VLOOKUP(CB11,[16]Listados!$F:$G,2,0)) -> Vivienda sostenible, saneamiento básico y servicios públicos | CO12: Versión PS: | CQ12: 000 | CT12: Población Objetivo | CV12: ='DETALLE POBLACIÓN PROYECTADA'!H9 -> 13656 | DD12: =IF(DD11=""," ",VLOOKUP(DD11,[16]Listados!$F:$G,2,0)) -> Vivienda sostenible, saneamiento básico y servicios públicos
A13: Nombre del Proyecto | B13: Intervención Integral de los Sistemas de Acueducto en la Zona Rural del Distrito de Santiago de Cali | I13: Centro Gestor | K13: 4182 | L13: =IF(K13=""," ",VLOOKUP(K13,[16]Listados!$C:$D,2,0)) -> Unidad Administrativa Especial de Servicios Públicos | R13: Denominación Meta PDD CC | W13: Validador Programa PDD | AC13: Nombre del Proyecto | AD13: =B13 -> Intervención Integral de los Sistemas de Acueducto en la Zona Rural del Distrito de Santiago de Cali | AK13: Centro Gestor | AM13: 4182 | AN13: =IF(AM13=""," ",VLOOKUP(AM13,[16]Listados!$C:$D,2,0)) -> Unidad Administrativa Especial de Servicios Públicos | AT13: Denominación Meta PDD CC | AY13: Validador Programa PDD | BE13: Nombre del Proyecto | BF13: =B13 -> Intervención Integral de los Sistemas de Acueducto en la Zona Rural del Distrito de Santiago de Cali | BM13: Centro Gestor | BO13: 4182 | BP13: =IF(BO13=""," ",VLOOKUP(BO13,[16]Listados!$C:$D,2,0)) -> Unidad Administrativa Especial de Servicios Públicos | BV13: Denominación Meta PDD CC | CA13: Validador Programa PDD | CG13: Nombre del Proyecto | CH13: =B13 -> Intervención Integral de los Sistemas de Acueducto en la Zona Rural del Distrito de Santiago de Cali | CO13: Centro Gestor | CQ13: 4182 | CR13: =IF(CQ13=""," ",VLOOKUP(CQ13,[16]Listados!$C:$D,2,0)) -> Unidad Administrativa Especial de Servicios Públicos | CX13: Denominación Meta PDD CC | DC13: Validador Programa PDD
R14: =IF(R12=""," ",VLOOKUP(R12,[16]Listados!$L:$M,2,0)) | W14: {=IF(AND(COUNTIF(O17:O57, "<>")>0, SUMPRODUCT((ISNUMBER(VALUE(IFERROR(O17:O57, ""))))*(LEN(O17:O57)=11)*(LEFT(O17:O57, 7)=$AZ$11&""))=COUNTA(O17:O57)), "CORRECTO", "REVISAR META PDD")} -> CORRECTO | AT14: =IF(AT12=""," ",VLOOKUP(AT12,[16]Listados!$L:$M,2,0)) | AY14: {=IF(AND(COUNTIF(AQ17:AQ57, "<>")>0, SUMPRODUCT((ISNUMBER(VALUE(IFERROR(AQ17:AQ57, ""))))*(LEN(AQ17:AQ57)=11)*(LEFT(AQ17:AQ57, 7)=$AZ$11&""))=COUNTA(AQ17:AQ57)), "CORRECTO", "REVISAR META PDD")} -> CORRECTO | BV14: =IF(BV12=""," ",VLOOKUP(BV12,[16]Listados!$L:$M,2,0)) | CA14: {=IF(AND(COUNTIF(BS17:BS57, "<>")>0, SUMPRODUCT((ISNUMBER(VALUE(IFERROR(BS17:BS57, ""))))*(LEN(BS17:BS57)=11)*(LEFT(BS17:BS57, 7)=$AZ$11&""))=COUNTA(BS17:BS57)), "CORRECTO", "REVISAR META PDD")} -> CORRECTO | CX14: =IF(CX12=""," ",VLOOKUP(CX12,[16]Listados!$L:$M,2,0)) | DC14: {=IF(AND(COUNTIF(CU17:CU57, "<>")>0, SUMPRODUCT((ISNUMBER(VALUE(IFERROR(CU17:CU57, ""))))*(LEN(CU17:CU57)=11)*(LEFT(CU17:CU57, 7)=$AZ$11&""))=COUNTA(CU17:CU57)), "CORRECTO", "REVISAR META PDD")} -> CORRECTO
A16: Objetivo General | B16: Indicador Objetivo General | C16: Unidad de Medida | D16: Cantidad | E16: # Objetivo específico | F16: Objetivos Específicos | G16: Código MGA Producto | H16: # Producto | I16: Productos | J16: Código MGA Indicador Producto | K16: Indicador de Producto | L16: Unidad de Medida | M16: Cantidad | N16: % Ponderación Productos | O16: Meta Plan de Desarrollo | P16: Denominación Meta PDD | Q16: # Actividad | R16: Código Programa Presupuestario | S16: Actividades | T16: Ruta Crítica Si/No | U16: % Ponderación Actividad | V16: Código POSPRE | W16: Denominación POSPRE | X16: Código FONDO | Y16: Denominación FONDO | Z16: Valor Actividades | AA16: Modificación | AC16: Objetivo General | AD16: Indicador Objetivo General | AE16: Unidad de Medida | AF16: Cantidad | AG16: # Objetivo específico | AH16: Objetivos Específicos | AI16: Código MGA Producto | AJ16: # Producto | AK16: Productos | AL16: Código MGA Indicador Producto | AM16: Indicador de Producto | AN16: Unidad de Medida | AO16: Cantidad | AP16: % Ponderación Productos | AQ16: Meta Plan de Desarrollo | AR16: Denominación Meta PDD | AS16: # Actividad | AT16: Código Programa Presupuestario | AU16: Actividades | AV16: Ruta Crítica Si/No | AW16: % Ponderación Actividad | AX16: Código POSPRE | AY16: Denominación POSPRE | AZ16: Código FONDO | BA16: Denominación FONDO | BB16: Valor Actividades | BC16: Modificación | BE16: Objetivo General | BF16: Indicador Objetivo General | BG16: Unidad de Medida | BH16: Cantidad | BI16: # Objetivo específico | BJ16: Objetivos Específicos | BK16: Código MGA Producto | BL16: # Producto | BM16: Productos | BN16: Código MGA Indicador Producto | BO16: Indicador de Producto | BP16: Unidad de Medida | BQ16: Cantidad | BR16: % Ponderación Productos | BS16: Meta Plan de Desarrollo | BT16: Denominación Meta PDD | BU16: # Actividad | BV16: Código Programa Presupuestario | BW16: Actividades | BX16: Ruta Crítica Si/No | BY16: % Ponderación Actividad | BZ16: Código POSPRE | CA16: Denominación POSPRE | CB16: Código FONDO | CC16: Denominación FONDO | CD16: Valor Actividades | CE16: Modificación | CG16: Objetivo General | CH16: Indicador Objetivo General | CI16: Unidad de Medida | CJ16: Cantidad | CK16: # Objetivo específico | CL16: Objetivos Específicos | CM16: Código MGA Producto | CN16: # Producto | CO16: Productos | CP16: Código MGA Indicador Producto | CQ16: Indicador de Producto | CR16: Unidad de Medida | CS16: Cantidad | CT16: % Ponderación Productos | CU16: Meta Plan de Desarrollo | CV16: Denominación Meta PDD | CW16: # Actividad | CX16: Código Programa Presupuestario | CY16: Actividades | CZ16: Ruta Crítica Si/No | DA16: % Ponderación Actividad | DB16: Código POSPRE | DC16: Denominación POSPRE | DD16: Código FONDO | DE16: Denominación FONDO | DF16: Valor Actividades | DG16: Modificación
A17: Garantizar la provisión de los servicios de agua potable en cobertura, continuidad y calidad para la zona rural del distrito Santiago de Cali | B17: Sistemas de agua potable y/o saneamiento básico gestionados en áreas rurales | C17: Número | D17: 39 | E17: 1. | F17: Proveer los elementos necesarios para la construcción y renovación de la infraestructura de agua potable en la zona rural del Distrito de Santiago de Cali | G17: 4003008 | H17: 1.1 | I17: =IF(G17=""," ",VLOOKUP(G17,[16]Listados!$AA:$AE,2,0)) -> Servicio de apoyo financiero a los planes, programas y proyectos de Agua Potable y Saneamiento Básico | J17: =IF(G17=""," ",VLOOKUP(G17,[16]Listados!$AA:$AE,3,0)) -> 400300800 | K17: =IF(G17=""," ",VLOOKUP(G17,[16]Listados!$AA:$AE,4,0)) -> Proyectos de acueducto, alcantarillado y aseo apoyados financieramente | L17: =IF(G17=""," ",VLOOKUP(G17,[16]Listados!$AA:$AE,5,0)) -> Número | M17: 5 | N17: =SUM(Z17:Z37)/$Z$58 -> #REF! | O17: 62010020009 | P17: =IF(O17=""," ",VLOOKUP(O17,[16]Listados!$I:$J,2,0)) -> Sistemas de agua potable y/o saneamiento básico en áreas rurales gestionados | Q17: 1.1.1 | S17: Realizar Estudio de factibilidad técnica asociado a la mitigación de riesgos para la construcción de línea de conducción de agua desde La CADICA La Elvira hasta la PTAP Campoalegre, corregimiento de Montebello | T17: Si | U17: =+ROUND(+Z17/SUM($Z$17:$Z$37),2) -> #REF! | W17: =IF(V17=""," ",VLOOKUP(V17,[16]Listados!$O:$P,2,0)) | Y17: =IF(X17=""," ",VLOOKUP(X17,Listados!$O:$P,2,0)) | Z17: =#REF! -> #REF! | AC17: Garantizar la provisión de los servicios de agua potable en cobertura, continuidad y calidad para la zona rural del distrito Santiago de Cali | AD17: Sistemas de agua potable y/o saneamiento básico gestionados en áreas rurales | AE17: Número | AF17: 39 | AG17: 1. | AH17: Proveer los elementos necesarios para la construcción y renovación de la infraestructura de agua potable en la zona rural del Distrito de Santiago de Cali | AI17: 4003008 | AJ17: 1.1 | AK17: =IF(AI17=""," ",VLOOKUP(AI17,[16]Listados!$AA:$AE,2,0)) -> Servicio de apoyo financiero a los planes, programas y proyectos de Agua Potable y Saneamiento Básico | AL17: =IF(AI17=""," ",VLOOKUP(AI17,[16]Listados!$AA:$AE,3,0)) -> 400300800 | AM17: =IF(AI17=""," ",VLOOKUP(AI17,[16]Listados!$AA:$AE,4,0)) -> Proyectos de acueducto, alcantarillado y aseo apoyados financieramente | AN17: =IF(AI17=""," ",VLOOKUP(AI17,[16]Listados!$AA:$AE,5,0)) -> Número | AO17: 10 | AP17: 1 | AQ17: 62010020009 | AR17: =IF(AQ17=""," ",VLOOKUP(AQ17,[16]Listados!$I:$J,2,0)) -> Sistemas de agua potable y/o saneamiento básico en áreas rurales gestionados | AS17: 1.1.1 | AU17: Realizar Estudio de factibilidad técnica asociado a la mitigación de riesgos para la construcción de línea de conducción de agua desde La CADICA La Elvira hasta la PTAP Campoalegre, corregimiento de Montebello | AV17: Si | AW17: =ROUND(+BB17/(SUM($BB$17:$BB$37)),2) -> #REF! | AY17: =IF(AX17=""," ",VLOOKUP(AX17,Listados!$L:$M,2,0)) | BA17: =IF(AZ17=""," ",VLOOKUP(AZ17,Listados!$O:$P,2,0)) | BB17: 0 | BE17: Garantizar la provisión de los servicios de agua potable en cobertura, continuidad y calidad para la zona rural del distrito Santiago de Cali | BF17: Sistemas de agua potable y/o saneamiento básico gestionados en áreas rurales | BG17: Número | BH17: 39 | BI17: 1. | BJ17: Proveer los elementos necesarios para la construcción y renovación de la infraestructura de agua potable en la zona rural del Distrito de Santiago de Cali | BK17: 4003008 | BL17: 1.1 | BM17: =IF(BK17=""," ",VLOOKUP(BK17,[16]Listados!$AA:$AE,2,0)) -> Servicio de apoyo financiero a los planes, programas y proyectos de Agua Potable y Saneamiento Básico | BN17: =IF(BK17=""," ",VLOOKUP(BK17,[16]Listados!$AA:$AE,3,0)) -> 400300800 | BO17: =IF(BK17=""," ",VLOOKUP(BK17,[16]Listados!$AA:$AE,4,0)) -> Proyectos de acueducto, alcantarillado y aseo apoyados financieramente | BP17: =IF(BK17=""," ",VLOOKUP(BK17,[16]Listados!$AA:$AE,5,0)) -> Número | BQ17: 5 | BR17: =SUM(CD17:CD37)/$Z$58 -> #REF! | BS17: 62010020009 | BT17: =IF(BS17=""," ",VLOOKUP(BS17,[16]Listados!$I:$J,2,0)) -> Sistemas de agua potable y/o saneamiento básico en áreas rurales gestionados | BU17: 1.1.1 | BW17: Realizar Estudio de factibilidad técnica asociado a la mitigación de riesgos para la construcción de línea de conducción de agua desde La CADICA La Elvira hasta la PTAP Campoalegre, corregimiento de Montebello | BX17: Si | BY17: =ROUND(+CD17/(SUM($CD$17:$CD$37)),2) -> #REF! | CA17: =IF(BZ17=""," ",VLOOKUP(BZ17,Listados!$L:$M,2,0)) | CC17: =IF(CB17=""," ",VLOOKUP(CB17,Listados!$O:$P,2,0)) | CD17: 0 | CG17: Garantizar la provisión de los servicios de agua potable en cobertura, continuidad y calidad para la zona rural del distrito Santiago de Cali | CH17: Sistemas de agua potable y/o saneamiento básico gestionados en áreas rurales | CI17: Número | CJ17: 39 | CK17: 1. | CL17: Proveer los elementos necesarios para la construcción y renovación de la infraestructura de agua potable en la zona rural del Distrito de Santiago de Cali | CM17: 4003008 | CN17: 1.1 | CO17: =IF(CM17=""," ",VLOOKUP(CM17,[16]Listados!$AA:$AE,2,0)) -> Servicio de apoyo financiero a los planes, programas y proyectos de Agua Potable y Saneamiento Básico | CP17: =IF(CM17=""," ",VLOOKUP(CM17,[16]Listados!$AA:$AE,3,0)) -> 400300800 | CQ17: =IF(CM17=""," ",VLOOKUP(CM17,[16]Listados!$AA:$AE,4,0)) -> Proyectos de acueducto, alcantarillado y aseo apoyados financieramente | CR17: =IF(CM17=""," ",VLOOKUP(CM17,[16]Listados!$AA:$AE,5,0)) -> Número | CS17: 5 | CT17: =SUM(DF17:DF37)/$Z$58 -> #REF! | CU17: 62010020009 | CV17: =IF(CU17=""," ",VLOOKUP(CU17,[16]Listados!$I:$J,2,0)) -> Sistemas de agua potable y/o saneamiento básico en áreas rurales gestionados | CW17: 1.1.1 | CY17: Realizar Estudio de factibilidad técnica asociado a la mitigación de riesgos para la construcción de línea de conducción de agua desde La CADICA La Elvira hasta la PTAP Campoalegre, corregimiento de Montebello | CZ17: Si | DA17: =ROUND(DF17/(SUM($DF$17:$DF$37)),2) -> #REF! | DC17: =IF(DB17=""," ",VLOOKUP(DB17,Listados!$L:$M,2,0)) | DE17: =IF(DD17=""," ",VLOOKUP(DD17,Listados!$O:$P,2,0)) | DF17: 0 | DH17: =Z17+BB17+CD17+DF17 -> #REF!
Q18: 1.1.2 | S18: Realizar Estudio, modelación y diagnóstico con alcance de diseño para el mejoramiento de la PTAP del corregimiento Golondrinas | T18: Si | U18: =+ROUND(+Z18/SUM($Z$17:$Z$37),2) -> #REF! | W18: =IF(V18=""," ",VLOOKUP(V18,[16]Listados!$O:$P,2,0)) | Y18: =IF(X18=""," ",VLOOKUP(X18,Listados!$O:$P,2,0)) | Z18: =#REF! -> #REF! | AS18: 1.1.2 | AU18: Realizar Estudio, modelación y diagnóstico con alcance de diseño para el mejoramiento de la PTAP del corregimiento Golondrinas | AV18: Si | AW18: =ROUND(+BB18/(SUM($BB$17:$BB$37)),2) -> #REF! | AY18: =IF(AX18=""," ",VLOOKUP(AX18,Listados!$L:$M,2,0)) | BA18: =IF(AZ18=""," ",VLOOKUP(AZ18,Listados!$O:$P,2,0)) | BB18: 0 | BU18: 1.1.2 | BW18: Realizar Estudio, modelación y diagnóstico con alcance de diseño para el mejoramiento de la PTAP del corregimiento Golondrinas | BX18: Si | BY18: =ROUND(+CD18/(SUM($CD$17:$CD$37)),2) -> #REF! | CA18: =IF(BZ18=""," ",VLOOKUP(BZ18,Listados!$L:$M,2,0)) | CC18: =IF(CB18=""," ",VLOOKUP(CB18,Listados!$O:$P,2,0)) | CD18: 0 | CW18: 1.1.2 | CY18: Realizar Estudio, modelación y diagnóstico con alcance de diseño para el mejoramiento de la PTAP del corregimiento Golondrinas | CZ18: Si | DA18: =ROUND(DF18/(SUM($DF$17:$DF$37)),2) -> #REF! | DC18: =IF(DB18=""," ",VLOOKUP(DB18,Listados!$L:$M,2,0)) | DE18: =IF(DD18=""," ",VLOOKUP(DD18,Listados!$O:$P,2,0)) | DF18: 0 | DH18: =Z18+BB18+CD18+DF18 -> #REF!
Q19: 1.1.3 | S19: Realizar un estudio con alcance de diseño para la mitigación del riesgo y manejo de la estabilidad del terreno en la PTAP veredas El Diamante, La Soledad y El Cedral, corregimiento Felidia. | T19: Si | U19: =+ROUND(+Z19/SUM($Z$17:$Z$37),2) -> #REF! | W19: =IF(V19=""," ",VLOOKUP(V19,[16]Listados!$O:$P,2,0)) | Y19: =IF(X19=""," ",VLOOKUP(X19,Listados!$O:$P,2,0)) | Z19: =#REF! -> #REF! | AS19: 1.1.3 | AU19: Realizar un estudio con alcance de diseño para la mitigación del riesgo y manejo de la estabilidad del terreno en la PTAP veredas El Diamante, La Soledad y El Cedral, corregimiento Felidia. | AV19: Si | AW19: =ROUND(+BB19/(SUM($BB$17:$BB$37)),2) -> #REF! | AY19: =IF(AX19=""," ",VLOOKUP(AX19,Listados!$L:$M,2,0)) | BA19: =IF(AZ19=""," ",VLOOKUP(AZ19,Listados!$O:$P,2,0)) | BB19: 0 | BU19: 1.1.3 | BW19: Realizar un estudio con alcance de diseño para la mitigación del riesgo y manejo de la estabilidad del terreno en la PTAP veredas El Diamante, La Soledad y El Cedral, corregimiento Felidia. | BX19: Si | BY19: =ROUND(+CD19/(SUM($CD$17:$CD$37)),2) -> #REF! | CA19: =IF(BZ19=""," ",VLOOKUP(BZ19,Listados!$L:$M,2,0)) | CC19: =IF(CB19=""," ",VLOOKUP(CB19,Listados!$O:$P,2,0)) | CD19: 0 | CW19: 1.1.3 | CY19: Realizar un estudio con alcance de diseño para la mitigación del riesgo y manejo de la estabilidad del terreno en la PTAP veredas El Diamante, La Soledad y El Cedral, corregimiento Felidia. | CZ19: Si | DA19: =ROUND(DF19/(SUM($DF$17:$DF$37)),2) -> #REF! | DC19: =IF(DB19=""," ",VLOOKUP(DB19,Listados!$L:$M,2,0)) | DE19: =IF(DD19=""," ",VLOOKUP(DD19,Listados!$O:$P,2,0)) | DF19: 0 | DH19: =Z19+BB19+CD19+DF19 -> #REF!
Q20: 1.1.4 | S20: Realizar Interventoría a los Estudios, Modelaciones y/o Diseños de los Sistemas de Acueducto en la Zona Rural del Distrito Santiago de Cali | T20: Si | U20: =+ROUND(+Z20/SUM($Z$17:$Z$37),2) -> #REF! | W20: =IF(V20=""," ",VLOOKUP(V20,[16]Listados!$O:$P,2,0)) | Y20: =IF(X20=""," ",VLOOKUP(X20,Listados!$O:$P,2,0)) | Z20: =#REF! -> #REF! | AS20: 1.1.4 | AU20: Realizar Interventoría a los Estudios, Modelaciones y/o Diseños de los Sistemas de Acueducto en la Zona Rural del Distrito Santiago de Cali | AV20: Si | AW20: =ROUND(+BB20/(SUM($BB$17:$BB$37)),2) -> #REF! | AY20: =IF(AX20=""," ",VLOOKUP(AX20,Listados!$L:$M,2,0)) | BA20: =IF(AZ20=""," ",VLOOKUP(AZ20,Listados!$O:$P,2,0)) | BB20: =#REF! -> #REF! | BU20: 1.1.4 | BW20: Realizar Interventoría a los Estudios, Modelaciones y/o Diseños de los Sistemas de Acueducto en la Zona Rural del Distrito Santiago de Cali | BX20: No | BY20: =ROUND(+CD20/(SUM($CD$17:$CD$37)),2) -> #REF! | CA20: =IF(BZ20=""," ",VLOOKUP(BZ20,Listados!$L:$M,2,0)) | CC20: =IF(CB20=""," ",VLOOKUP(CB20,Listados!$O:$P,2,0)) | CD20: =#REF! -> #REF! | CW20: 1.1.4 | CY20: Realizar Interventoría a los Estudios, Modelaciones y/o Diseños de los Sistemas de Acueducto en la Zona Rural del Distrito Santiago de Cali | CZ20: No | DA20: =ROUND(DF20/(SUM($DF$17:$DF$37)),2) -> #REF! | DC20: =IF(DB20=""," ",VLOOKUP(DB20,Listados!$L:$M,2,0)) | DE20: =IF(DD20=""," ",VLOOKUP(DD20,Listados!$O:$P,2,0)) | DF20: =#REF! -> #REF! | DH20: =Z20+BB20+CD20+DF20 -> #REF!
Q21: 1.1.5 | S21: Realizar la implementación del Nodo IDESC de información para el acueducto del área rural de la Buitrera Norte - Corregimiento La Buitrera | Y21: =IF(X21=""," ",VLOOKUP(X21,Listados!$O:$P,2,0)) | AS21: 1.1.5 | AU21: Realizar la implementación del Nodo IDESC de información para el acueducto del área rural de la Buitrera Norte - Corregimiento La Buitrera | AV21: Si | AW21: =ROUND(+BB21/(SUM($BB$17:$BB$37)),2) -> #REF! | AY21: =IF(AX21=""," ",VLOOKUP(AX21,Listados!$L:$M,2,0)) | BA21: =IF(AZ21=""," ",VLOOKUP(AZ21,Listados!$O:$P,2,0)) | BB21: =+#REF! -> #REF! | BU21: 1.1.5 | BW21: Realizar la implementación del Nodo IDESC de información para el acueducto del área rural de la Buitrera Norte - Corregimiento La Buitrera | BX21: Si | BY21: =ROUND(+CD21/(SUM($CD$17:$CD$37)),2) -> #REF! | CA21: =IF(BZ21=""," ",VLOOKUP(BZ21,Listados!$L:$M,2,0)) | CC21: =IF(CB21=""," ",VLOOKUP(CB21,Listados!$O:$P,2,0)) | CD21: 0 | CW21: 1.1.5 | CY21: Realizar la implementación del Nodo IDESC de información para el acueducto del área rural de la Buitrera Norte - Corregimiento La Buitrera | CZ21: Si | DA21: =ROUND(DF21/(SUM($DF$17:$DF$37)),2) -> #REF! | DC21: =IF(DB21=""," ",VLOOKUP(DB21,Listados!$L:$M,2,0)) | DE21: =IF(DD21=""," ",VLOOKUP(DD21,Listados!$O:$P,2,0)) | DF21: 0 | DH21: =Z21+BB21+CD21+DF21 -> #REF!
Q22: 1.1.6 | S22: Realizar la implementación del Nodo IDESC de información para el acueducto del área rural vereda La Luisa - Corregimiento La Buitrera | Y22: =IF(X22=""," ",VLOOKUP(X22,Listados!$O:$P,2,0)) | AS22: 1.1.6 | AU22: Realizar la implementación del Nodo IDESC de información para el acueducto del área rural vereda La Luisa - Corregimiento La Buitrera | AV22: Si | AW22: =ROUND(+BB22/(SUM($BB$17:$BB$37)),2) -> #REF! | AY22: =IF(AX22=""," ",VLOOKUP(AX22,Listados!$L:$M,2,0)) | BA22: =IF(AZ22=""," ",VLOOKUP(AZ22,Listados!$O:$P,2,0)) | BB22: =+#REF! -> #REF! | BU22: 1.1.6 | BW22: Realizar la implementación del Nodo IDESC de información para el acueducto del área rural vereda La Luisa - Corregimiento La Buitrera | BX22: Si | BY22: =ROUND(+CD22/(SUM($CD$17:$CD$37)),2) -> #REF! | CA22: =IF(BZ22=""," ",VLOOKUP(BZ22,Listados!$L:$M,2,0)) | CC22: =IF(CB22=""," ",VLOOKUP(CB22,Listados!$O:$P,2,0)) | CD22: 0 | CW22: 1.1.6 | CY22: Realizar la implementación del Nodo IDESC de información para el acueducto del área rural vereda La Luisa - Corregimiento La Buitrera | CZ22: Si | DA22: =ROUND(DF22/(SUM($DF$17:$DF$37)),2) -> #REF! | DC22: =IF(DB22=""," ",VLOOKUP(DB22,Listados!$L:$M,2,0)) | DE22: =IF(DD22=""," ",VLOOKUP(DD22,Listados!$O:$P,2,0)) | DF22: 0 | DH22: =Z22+BB22+CD22+DF22 -> #REF!
Q23: 1.1.7 | S23: Realizar la implementación del Nodo IDESC de información para el acueducto del área rural vereda La Fonda - Corregimiento de Villa Carmelo | Y23: =IF(X23=""," ",VLOOKUP(X23,Listados!$O:$P,2,0)) | AS23: 1.1.7 | AU23: Realizar la implementación del Nodo IDESC de información para el acueducto del área rural vereda La Fonda - Corregimiento de Villa Carmelo | AV23: Si | AW23: =ROUND(+BB23/(SUM($BB$17:$BB$37)),2) -> #REF! | AY23: =IF(AX23=""," ",VLOOKUP(AX23,Listados!$L:$M,2,0)) | BA23: =IF(AZ23=""," ",VLOOKUP(AZ23,Listados!$O:$P,2,0)) | BB23: =+#REF! -> #REF! | BU23: 1.1.7 | BW23: Realizar la implementación del Nodo IDESC de información para el acueducto del área rural vereda La Fonda - Corregimiento de Villa Carmelo | BX23: Si | BY23: =ROUND(+CD23/(SUM($CD$17:$CD$37)),2) -> #REF! | CA23: =IF(BZ23=""," ",VLOOKUP(BZ23,Listados!$L:$M,2,0)) | CC23: =IF(CB23=""," ",VLOOKUP(CB23,Listados!$O:$P,2,0)) | CD23: 0 | CW23: 1.1.7 | CY23: Realizar la implementación del Nodo IDESC de información para el acueducto del área rural vereda La Fonda - Corregimiento de Villa Carmelo | CZ23: Si | DA23: =ROUND(DF23/(SUM($DF$17:$DF$37)),2) -> #REF! | DC23: =IF(DB23=""," ",VLOOKUP(DB23,Listados!$L:$M,2,0)) | DE23: =IF(DD23=""," ",VLOOKUP(DD23,Listados!$O:$P,2,0)) | DF23: 0 | DH23: =Z23+BB23+CD23+DF23 -> #REF!
Q24: 1.1.8 | S24: Realizar Modelación con Alcance de Diseño Sistema de Acueducto Felidia Cabecera, Corregimiento Felidia | Y24: =IF(X24=""," ",VLOOKUP(X24,Listados!$O:$P,2,0)) | AS24: 1.1.8 | AU24: Realizar Modelación con Alcance de Diseño Sistema de Acueducto Felidia Cabecera, Corregimiento Felidia | AV24: Si | AW24: =ROUND(+BB24/(SUM($BB$17:$BB$37)),2) -> #REF! | AY24: =IF(AX24=""," ",VLOOKUP(AX24,Listados!$L:$M,2,0)) | BA24: =IF(AZ24=""," ",VLOOKUP(AZ24,Listados!$O:$P,2,0)) | BB24: =+#REF! -> #REF! | BU24: 1.1.8 | BW24: Realizar Modelación con Alcance de Diseño Sistema de Acueducto Felidia Cabecera, Corregimiento Felidia | BX24: Si | BY24: =ROUND(+CD24/(SUM($CD$17:$CD$37)),2) -> #REF! | CA24: =IF(BZ24=""," ",VLOOKUP(BZ24,Listados!$L:$M,2,0)) | CC24: =IF(CB24=""," ",VLOOKUP(CB24,Listados!$O:$P,2,0)) | CD24: 0 | CW24: 1.1.8 | CY24: Realizar Modelación con Alcance de Diseño Sistema de Acueducto Felidia Cabecera, Corregimiento Felidia | CZ24: Si | DA24: =ROUND(DF24/(SUM($DF$17:$DF$37)),2) -> #REF! | DC24: =IF(DB24=""," ",VLOOKUP(DB24,Listados!$L:$M,2,0)) | DE24: =IF(DD24=""," ",VLOOKUP(DD24,Listados!$O:$P,2,0)) | DF24: 0 | DH24: =Z24+BB24+CD24+DF24 -> #REF!
Q25: 1.1.9 | S25: Realizar Modelación con Alcance de Diseño Sistema de Acueducto La Elvira Cabecera, Corregimiento La Elvira | Y25: =IF(X25=""," ",VLOOKUP(X25,Listados!$O:$P,2,0)) | AS25: 1.1.9 | AU25: Realizar Modelación con Alcance de Diseño Sistema de Acueducto La Elvira Cabecera, Corregimiento La Elvira | AV25: Si | AW25: =ROUND(+BB25/(SUM($BB$17:$BB$37)),2) -> #REF! | AY25: =IF(AX25=""," ",VLOOKUP(AX25,Listados!$L:$M,2,0)) | BA25: =IF(AZ25=""," ",VLOOKUP(AZ25,Listados!$O:$P,2,0)) | BB25: =+#REF! -> #REF! | BU25: 1.1.9 | BW25: Realizar Modelación con Alcance de Diseño Sistema de Acueducto La Elvira Cabecera, Corregimiento La Elvira | BX25: Si | BY25: =ROUND(+CD25/(SUM($CD$17:$CD$37)),2) -> #REF! | CA25: =IF(BZ25=""," ",VLOOKUP(BZ25,Listados!$L:$M,2,0)) | CC25: =IF(CB25=""," ",VLOOKUP(CB25,Listados!$O:$P,2,0)) | CD25: 0 | CW25: 1.1.9 | CY25: Realizar Modelación con Alcance de Diseño Sistema de Acueducto La Elvira Cabecera, Corregimiento La Elvira | CZ25: Si | DA25: =ROUND(DF25/(SUM($DF$17:$DF$37)),2) -> #REF! | DC25: =IF(DB25=""," ",VLOOKUP(DB25,Listados!$L:$M,2,0)) | DE25: =IF(DD25=""," ",VLOOKUP(DD25,Listados!$O:$P,2,0)) | DF25: 0 | DH25: =Z25+BB25+CD25+DF25 -> #REF!
Q26: 1.1.10 | S26: Realizar Modelación con Alcance de Diseño Sistema de Acueducto Vereda La Fonda, Corregimiento Villacarmelo | Y26: =IF(X26=""," ",VLOOKUP(X26,Listados!$O:$P,2,0)) | AS26: 1.1.10 | AU26: Realizar Modelación con Alcance de Diseño Sistema de Acueducto Vereda La Fonda, Corregimiento Villacarmelo | AV26: Si | AW26: =ROUND(+BB26/(SUM($BB$17:$BB$37)),2) -> #REF! | AY26: =IF(AX26=""," ",VLOOKUP(AX26,Listados!$L:$M,2,0)) | BA26: =IF(AZ26=""," ",VLOOKUP(AZ26,Listados!$O:$P,2,0)) | BB26: =+#REF! -> #REF! | BU26: 1.1.10 | BW26: Realizar Modelación con Alcance de Diseño Sistema de Acueducto Vereda La Fonda, Corregimiento Villacarmelo | BX26: Si | BY26: =ROUND(+CD26/(SUM($CD$17:$CD$37)),2) -> #REF! | CA26: =IF(BZ26=""," ",VLOOKUP(BZ26,Listados!$L:$M,2,0)) | CC26: =IF(CB26=""," ",VLOOKUP(CB26,Listados!$O:$P,2,0)) | CD26: 0 | CW26: 1.1.10 | CY26: Realizar Modelación con Alcance de Diseño Sistema de Acueducto Vereda La Fonda, Corregimiento Villacarmelo | CZ26: Si | DA26: =ROUND(DF26/(SUM($DF$17:$DF$37)),2) -> #REF! | DC26: =IF(DB26=""," ",VLOOKUP(DB26,Listados!$L:$M,2,0)) | DE26: =IF(DD26=""," ",VLOOKUP(DD26,Listados!$O:$P,2,0)) | DF26: 0 | DH26: =Z26+BB26+CD26+DF26 -> #REF!
Q27: 1.1.11 | S27: Realizar Modelación con Alcance de Diseño Sistema de Acueducto Montebello Cabecera, Corregimiento Montebello | Y27: =IF(X27=""," ",VLOOKUP(X27,Listados!$O:$P,2,0)) | AS27: 1.1.11 | AU27: Realizar Modelación con Alcance de Diseño Sistema de Acueducto Montebello Cabecera, Corregimiento Montebello | AV27: Si | AW27: =ROUND(+BB27/(SUM($BB$17:$BB$37)),2) -> #REF! | AY27: =IF(AX27=""," ",VLOOKUP(AX27,Listados!$L:$M,2,0)) | BA27: =IF(AZ27=""," ",VLOOKUP(AZ27,Listados!$O:$P,2,0)) | BB27: =#REF! -> #REF! | BU27: 1.1.11 | BW27: Realizar Modelación con Alcance de Diseño Sistema de Acueducto Montebello Cabecera, Corregimiento Montebello | BX27: Si | BY27: =ROUND(+CD27/(SUM($CD$17:$CD$37)),2) -> #REF! | CA27: =IF(BZ27=""," ",VLOOKUP(BZ27,Listados!$L:$M,2,0)) | CC27: =IF(CB27=""," ",VLOOKUP(CB27,Listados!$O:$P,2,0)) | CD27: 0 | CW27: 1.1.11 | CY27: Realizar Modelación con Alcance de Diseño Sistema de Acueducto Montebello Cabecera, Corregimiento Montebello | CZ27: Si | DA27: =ROUND(DF27/(SUM($DF$17:$DF$37)),2) -> #REF! | DC27: =IF(DB27=""," ",VLOOKUP(DB27,Listados!$L:$M,2,0)) | DE27: =IF(DD27=""," ",VLOOKUP(DD27,Listados!$O:$P,2,0)) | DF27: 0 | DH27: =Z27+BB27+CD27+DF27 -> #REF!
Q28: 1.1.12 | S28: Realizar Modelación con Alcance de Diseño de la Conducción desde la Quebrada El Silencio Hasta las PTAP's La Reforma y Cristo Rey, Corregimiento Los Andes | Y28: =IF(X28=""," ",VLOOKUP(X28,Listados!$O:$P,2,0)) | AS28: 1.1.12 | AU28: Realizar Modelación con Alcance de Diseño de la Conducción desde la Quebrada El Silencio Hasta las PTAP's La Reforma y Cristo Rey, Corregimiento Los Andes | AV28: Si | AW28: =ROUND(+BB28/(SUM($BB$17:$BB$37)),2) -> #REF! | AY28: =IF(AX28=""," ",VLOOKUP(AX28,Listados!$L:$M,2,0)) | BA28: =IF(AZ28=""," ",VLOOKUP(AZ28,Listados!$O:$P,2,0)) | BB28: =+#REF! -> #REF! | BU28: 1.1.12 | BW28: Realizar Modelación con Alcance de Diseño de la Conducción desde la Quebrada El Silencio Hasta las PTAP's La Reforma y Cristo Rey, Corregimiento Los Andes | BX28: Si | BY28: =ROUND(+CD28/(SUM($CD$17:$CD$37)),2) -> #REF! | CA28: =IF(BZ28=""," ",VLOOKUP(BZ28,Listados!$L:$M,2,0)) | CC28: =IF(CB28=""," ",VLOOKUP(CB28,Listados!$O:$P,2,0)) | CD28: 0 | CW28: 1.1.12 | CY28: Realizar Modelación con Alcance de Diseño de la Conducción desde la Quebrada El Silencio Hasta las PTAP's La Reforma y Cristo Rey, Corregimiento Los Andes | CZ28: Si | DA28: =ROUND(DF28/(SUM($DF$17:$DF$37)),2) -> #REF! | DC28: =IF(DB28=""," ",VLOOKUP(DB28,Listados!$L:$M,2,0)) | DE28: =IF(DD28=""," ",VLOOKUP(DD28,Listados!$O:$P,2,0)) | DF28: 0 | DH28: =Z28+BB28+CD28+DF28 -> #REF!
Q29: 1.1.13 | S29: Realizar Modelación con Alcance de Diseño Sistema de Acueducto Vereda Pilas del Cabuyal, Corregimiento Los Andes | Y29: =IF(X29=""," ",VLOOKUP(X29,Listados!$O:$P,2,0)) | AS29: 1.1.13 | AU29: Realizar Modelación con Alcance de Diseño Sistema de Acueducto Vereda Pilas del Cabuyal, Corregimiento Los Andes | AV29: Si | AW29: =ROUND(+BB29/(SUM($BB$17:$BB$37)),2) -> #REF! | AY29: =IF(AX29=""," ",VLOOKUP(AX29,Listados!$L:$M,2,0)) | BA29: =IF(AZ29=""," ",VLOOKUP(AZ29,Listados!$O:$P,2,0)) | BB29: =+#REF! -> #REF! | BU29: 1.1.13 | BW29: Realizar Modelación con Alcance de Diseño Sistema de Acueducto Vereda Pilas del Cabuyal, Corregimiento Los Andes | BX29: Si | BY29: =ROUND(+CD29/(SUM($CD$17:$CD$37)),2) -> #REF! | CA29: =IF(BZ29=""," ",VLOOKUP(BZ29,Listados!$L:$M,2,0)) | CC29: =IF(CB29=""," ",VLOOKUP(CB29,Listados!$O:$P,2,0)) | CD29: 0 | CW29: 1.1.13 | CY29: Realizar Modelación con Alcance de Diseño Sistema de Acueducto Vereda Pilas del Cabuyal, Corregimiento Los Andes | CZ29: Si | DA29: =ROUND(DF29/(SUM($DF$17:$DF$37)),2) -> #REF! | DC29: =IF(DB29=""," ",VLOOKUP(DB29,Listados!$L:$M,2,0)) | DE29: =IF(DD29=""," ",VLOOKUP(DD29,Listados!$O:$P,2,0)) | DF29: 0 | DH29: =Z29+BB29+CD29+DF29 -> #REF!
Q30: 1.1.14 | S30: Realizar Estudio con Alcance de Diseño para la Mitigación del Riesgo y Manejo de la Estabilidad del Terreno Sistema de Acueducto vereda La Ascensión, Corregimiento Felidia | Y30: =IF(X30=""," ",VLOOKUP(X30,Listados!$O:$P,2,0)) | AS30: 1.1.14 | AU30: Realizar Estudio con Alcance de Diseño para la Mitigación del Riesgo y Manejo de la Estabilidad del Terreno Sistema de Acueducto vereda La Ascensión, Corregimiento Felidia | AV30: Si | AW30: =ROUND(+BB30/(SUM($BB$17:$BB$37)),2) -> #REF! | AY30: =IF(AX30=""," ",VLOOKUP(AX30,Listados!$L:$M,2,0)) | BA30: =IF(AZ30=""," ",VLOOKUP(AZ30,Listados!$O:$P,2,0)) | BB30: =#REF! -> #REF! | BU30: 1.1.14 | BW30: Realizar Estudio con Alcance de Diseño para la Mitigación del Riesgo y Manejo de la Estabilidad del Terreno Sistema de Acueducto vereda La Ascensión, Corregimiento Felidia | BX30: Si | BY30: =ROUND(+CD30/(SUM($CD$17:$CD$37)),2) -> #REF! | CA30: =IF(BZ30=""," ",VLOOKUP(BZ30,Listados!$L:$M,2,0)) | CC30: =IF(CB30=""," ",VLOOKUP(CB30,Listados!$O:$P,2,0)) | CD30: 0 | CW30: 1.1.14 | CY30: Realizar Estudio con Alcance de Diseño para la Mitigación del Riesgo y Manejo de la Estabilidad del Terreno Sistema de Acueducto vereda La Ascensión, Corregimiento Felidia | CZ30: Si | DA30: =ROUND(DF30/(SUM($DF$17:$DF$37)),2) -> #REF! | DC30: =IF(DB30=""," ",VLOOKUP(DB30,Listados!$L:$M,2,0)) | DE30: =IF(DD30=""," ",VLOOKUP(DD30,Listados!$O:$P,2,0)) | DF30: 0 | DH30: =Z30+BB30+CD30+DF30 -> #REF!
Q31: 1.1.15 | S31: Realizar Estudio con Alcance de Diseño para la Mitigación del Riesgo y Manejo de la Estabilidad del Terreno Sistema de Acueducto Pance Cabecera, Corregimiento Pance | W31: =IF(V31=""," ",VLOOKUP(V31,[16]Listados!$O:$P,2,0)) | Y31: =IF(X31=""," ",VLOOKUP(X31,Listados!$O:$P,2,0)) | AS31: 1.1.15 | AU31: Realizar Estudio con Alcance de Diseño para la Mitigación del Riesgo y Manejo de la Estabilidad del Terreno Sistema de Acueducto Pance Cabecera, Corregimiento Pance | AV31: Si | AW31: =ROUND(+BB31/(SUM($BB$17:$BB$37)),2) -> #REF! | AY31: =IF(AX31=""," ",VLOOKUP(AX31,Listados!$L:$M,2,0)) | BA31: =IF(AZ31=""," ",VLOOKUP(AZ31,Listados!$O:$P,2,0)) | BB31: =#REF! -> #REF! | BU31: 1.1.15 | BW31: Realizar Estudio con Alcance de Diseño para la Mitigación del Riesgo y Manejo de la Estabilidad del Terreno Sistema de Acueducto Pance Cabecera, Corregimiento Pance | BX31: Si | BY31: =ROUND(+CD31/(SUM($CD$17:$CD$37)),2) -> #REF! | CA31: =IF(BZ31=""," ",VLOOKUP(BZ31,Listados!$L:$M,2,0)) | CC31: =IF(CB31=""," ",VLOOKUP(CB31,Listados!$O:$P,2,0)) | CD31: 0 | CW31: 1.1.15 | CY31: Realizar Estudio con Alcance de Diseño para la Mitigación del Riesgo y Manejo de la Estabilidad del Terreno Sistema de Acueducto Pance Cabecera, Corregimiento Pance | CZ31: Si | DA31: =ROUND(DF31/(SUM($DF$17:$DF$37)),2) -> #REF! | DC31: =IF(DB31=""," ",VLOOKUP(DB31,Listados!$L:$M,2,0)) | DE31: =IF(DD31=""," ",VLOOKUP(DD31,Listados!$O:$P,2,0)) | DF31: 0 | DH31: =Z31+BB31+CD31+DF31 -> #REF!
Q32: 1.1.16 | S32: Realizar Estudio con Alcance de Diseño para la Mitigación del Riesgo y Manejo de la Estabilidad del Terreno Sistema de Acueducto Vereda La Sirena, Corregimiento La Buitrera | W32: =IF(V32=""," ",VLOOKUP(V32,[16]Listados!$O:$P,2,0)) | Y32: =IF(X32=""," ",VLOOKUP(X32,Listados!$O:$P,2,0)) | AS32: 1.1.16 | AU32: Realizar Estudio con Alcance de Diseño para la Mitigación del Riesgo y Manejo de la Estabilidad del Terreno Sistema de Acueducto Vereda La Sirena, Corregimiento La Buitrera | AV32: Si | AW32: =ROUND(+BB32/(SUM($BB$17:$BB$37)),2) -> #REF! | AY32: =IF(AX32=""," ",VLOOKUP(AX32,Listados!$L:$M,2,0)) | BA32: =IF(AZ32=""," ",VLOOKUP(AZ32,Listados!$O:$P,2,0)) | BB32: =#REF! -> #REF! | BU32: 1.1.16 | BW32: Realizar Estudio con Alcance de Diseño para la Mitigación del Riesgo y Manejo de la Estabilidad del Terreno Sistema de Acueducto Vereda La Sirena, Corregimiento La Buitrera | BX32: Si | BY32: =ROUND(+CD32/(SUM($CD$17:$CD$37)),2) -> #REF! | CA32: =IF(BZ32=""," ",VLOOKUP(BZ32,Listados!$L:$M,2,0)) | CC32: =IF(CB32=""," ",VLOOKUP(CB32,Listados!$O:$P,2,0)) | CD32: 0 | CW32: 1.1.16 | CY32: Realizar Estudio con Alcance de Diseño para la Mitigación del Riesgo y Manejo de la Estabilidad del Terreno Sistema de Acueducto Vereda La Sirena, Corregimiento La Buitrera | CZ32: Si | DA32: =ROUND(DF32/(SUM($DF$17:$DF$37)),2) -> #REF! | DC32: =IF(DB32=""," ",VLOOKUP(DB32,Listados!$L:$M,2,0)) | DE32: =IF(DD32=""," ",VLOOKUP(DD32,Listados!$O:$P,2,0)) | DF32: 0 | DH32: =Z32+BB32+CD32+DF32 -> #REF!
Q33: 1.1.17 | S33: Realizar la implementación del Nodo IDESC de información de acueducto del área rural vereda Campoalegre - Corregimiento Montebello | AS33: 1.1.17 | AU33: Realizar la implementación del Nodo IDESC de información de acueducto del área rural vereda Campoalegre - Corregimiento Montebello | BU33: 1.1.17 | BW33: Realizar la implementación del Nodo IDESC de información de acueducto del área rural vereda Campoalegre - Corregimiento Montebello | BX33: No | BY33: =ROUND(+CD33/(SUM($CD$17:$CD$37)),2) -> #REF! | CA33: =IF(BZ33=""," ",VLOOKUP(BZ33,Listados!$L:$M,2,0)) | CC33: =IF(CB33=""," ",VLOOKUP(CB33,Listados!$O:$P,2,0)) | CD33: =#REF! -> #REF! | CW33: 1.1.17 | CY33: Realizar la implementación del Nodo IDESC de información de acueducto del área rural vereda Campoalegre - Corregimiento Montebello | CZ33: No | DA33: =ROUND(DF33/(SUM($DF$17:$DF$37)),2) -> #REF! | DC33: =IF(DB33=""," ",VLOOKUP(DB33,Listados!$L:$M,2,0)) | DE33: =IF(DD33=""," ",VLOOKUP(DD33,Listados!$O:$P,2,0)) | DF33: 0 | DH33: =Z33+BB33+CD33+DF33 -> #REF!
Q34: 1.1.18 | S34: Realizar la implementación del Nodo IDESC de información de acueducto del área rural Montebello Cabecera - Corregimiento de Montebello | AS34: 1.1.18 | AU34: Realizar la implementación del Nodo IDESC de información de acueducto del área rural Montebello Cabecera - Corregimiento de Montebello | BU34: 1.1.18 | BW34: Realizar la implementación del Nodo IDESC de información de acueducto del área rural Montebello Cabecera - Corregimiento de Montebello | BX34: No | BY34: =ROUND(+CD34/(SUM($CD$17:$CD$37)),2) -> #REF! | CA34: =IF(BZ34=""," ",VLOOKUP(BZ34,Listados!$L:$M,2,0)) | CC34: =IF(CB34=""," ",VLOOKUP(CB34,Listados!$O:$P,2,0)) | CD34: =#REF! -> #REF! | CW34: 1.1.18 | CY34: Realizar la implementación del Nodo IDESC de información de acueducto del área rural Montebello Cabecera - Corregimiento de Montebello | CZ34: No | DA34: =ROUND(DF34/(SUM($DF$17:$DF$37)),2) -> #REF! | DC34: =IF(DB34=""," ",VLOOKUP(DB34,Listados!$L:$M,2,0)) | DE34: =IF(DD34=""," ",VLOOKUP(DD34,Listados!$O:$P,2,0)) | DF34: 0 | DH34: =Z34+BB34+CD34+DF34 -> #REF!
Q35: 1.1.19 | S35: Realizar la implementación del Nodo IDESC de información de acueducto del área rural vereda Las Palmas - Corregimiento La Castilla | AS35: 1.1.19 | AU35: Realizar la implementación del Nodo IDESC de información de acueducto del área rural vereda Las Palmas - Corregimiento La Castilla | BU35: 1.1.19 | BW35: Realizar la implementación del Nodo IDESC de información de acueducto del área rural vereda Las Palmas - Corregimiento La Castilla | BX35: No | BY35: =ROUND(+CD35/(SUM($CD$17:$CD$37)),2) -> #REF! | CA35: =IF(BZ35=""," ",VLOOKUP(BZ35,Listados!$L:$M,2,0)) | CC35: =IF(CB35=""," ",VLOOKUP(CB35,Listados!$O:$P,2,0)) | CD35: =#REF! -> #REF! | CW35: 1.1.19 | CY35: Realizar la implementación del Nodo IDESC de información de acueducto del área rural vereda Las Palmas - Corregimiento La Castilla | CZ35: No | DA35: =ROUND(DF35/(SUM($DF$17:$DF$37)),2) -> #REF! | DC35: =IF(DB35=""," ",VLOOKUP(DB35,Listados!$L:$M,2,0)) | DE35: =IF(DD35=""," ",VLOOKUP(DD35,Listados!$O:$P,2,0)) | DF35: 0 | DH35: =Z35+BB35+CD35+DF35 -> #REF!
Q36: 1.1.20 | S36: Realizar Modelación con Alcance de Diseño Sistema de Acueducto Saladito Cabecera, Corregimiento Saladito | AS36: 1.1.20 | AU36: Realizar Modelación con Alcance de Diseño Sistema de Acueducto Saladito Cabecera, Corregimiento Saladito | BU36: 1.1.20 | BW36: Realizar Modelación con Alcance de Diseño Sistema de Acueducto Saladito Cabecera, Corregimiento Saladito | BX36: No | BY36: =ROUND(+CD36/(SUM($CD$17:$CD$37)),2) -> #REF! | CA36: =IF(BZ36=""," ",VLOOKUP(BZ36,Listados!$L:$M,2,0)) | CC36: =IF(CB36=""," ",VLOOKUP(CB36,Listados!$O:$P,2,0)) | CD36: =#REF! -> #REF! | CW36: 1.1.20 | CY36: Realizar Modelación con Alcance de Diseño Sistema de Acueducto Saladito Cabecera, Corregimiento Saladito | CZ36: No | DA36: =ROUND(DF36/(SUM($DF$17:$DF$37)),2) -> #REF! | DC36: =IF(DB36=""," ",VLOOKUP(DB36,Listados!$L:$M,2,0)) | DE36: =IF(DD36=""," ",VLOOKUP(DD36,Listados!$O:$P,2,0)) | DF36: 0 | DH36: =Z36+BB36+CD36+DF36 -> #REF!
Q37: 1.1.21 | S37: Realizar la implementación del Nodo IDESC de información de acueducto del área rural Vereda Km18 - Corregimiento La Elvira | Y37: =IF(X37=""," ",VLOOKUP(X37,Listados!$O:$P,2,0)) | AS37: 1.1.21 | AU37: Realizar la implementación del Nodo IDESC de información de acueducto del área rural Vereda Km18 - Corregimiento La Elvira | BW37: Realizar la implementación del Nodo IDESC de información de acueducto del área rural Vereda Km18 - Corregimiento La Elvira | CW37: 1.1.21 | CY37: Realizar la implementación del Nodo IDESC de información de acueducto del área rural Vereda Km18 - Corregimiento La Elvira | CZ37: No | DA37: =ROUND(DF37/(SUM($DF$17:$DF$37)),2) -> #REF! | DC37: =IF(DB37=""," ",VLOOKUP(DB37,Listados!$L:$M,2,0)) | DE37: =IF(DD37=""," ",VLOOKUP(DD37,Listados!$O:$P,2,0)) | DF37: =#REF! -> #REF! | DH37: =Z37+BB37+CD37+DF37 -> #REF!
Q38: 1.1.22 | S38: Realizar el Fortalecimiento de Esquemas Organizacionales para la Administración y Operación de los Sistemas de Acueducto en la Zona Rural de Santiago de Cali | T38: No | U38: =+Z38/(SUM($Z$38:$Z$45)) -> #REF! | W38: =IF(V38=""," ",VLOOKUP(V38,[17]Listados!$L:$M,2,0)) | Y38: =IF(X38=""," ",VLOOKUP(X38,Listados!$O:$P,2,0)) | Z38: =#REF! -> #REF! | AS38: 1.1.22 | AU38: Realizar el Fortalecimiento de Esquemas Organizacionales para la Administración y Operación de los Sistemas de Acueducto en la Zona Rural de Santiago de Cali | AV38: No | AW38: =+BB38/(SUM($BB$38:$BB$45)) -> #REF! | AY38: =IF(AX38=""," ",VLOOKUP(AX38,[17]Listados!$L:$M,2,0)) | BA38: =IF(AZ38=""," ",VLOOKUP(AZ38,Listados!$O:$P,2,0)) | BB38: =+#REF! -> #REF! | BU38: 1.2.1 | BW38: Realizar el Fortalecimiento de Esquemas Organizacionales para la Administración y Operación de los Sistemas de Acueducto en la Zona Rural de Santiago de Cali | BX38: No | BY38: =ROUND(CD38/(SUM($CD$38:$CD$45)),2) -> #REF! | CA38: =IF(BZ38=""," ",VLOOKUP(BZ38,[17]Listados!$L:$M,2,0)) | CC38: =IF(CB38=""," ",VLOOKUP(CB38,Listados!$O:$P,2,0)) | CD38: =#REF! -> #REF! | CW38: 1.2.1 | CY38: Realizar el Fortalecimiento de Esquemas Organizacionales para la Administración y Operación de los Sistemas de Acueducto en la Zona Rural de Santiago de Cali | CZ38: No | DA38: =ROUND(DF38/(SUM($DF$38:$DF$45)),2) -> #REF! | DC38: =IF(DB38=""," ",VLOOKUP(DB38,[17]Listados!$L:$M,2,0)) | DE38: =IF(DD38=""," ",VLOOKUP(DD38,Listados!$O:$P,2,0)) | DF38: =#REF! -> #REF! | DH38: =Z38+BB38+CD38+DF38 -> #REF!
Q39: 1.1.23 | S39: Realizar la Construcción del Sistema de Acueducto Sector La Gorgona, vereda Las Brisas, corregimiento La Castilla y vereda Alto Aguacatal, corregimiento La Elvira | AS39: 1.1.23 | AU39: Realizar la Construcción del Sistema de Acueducto Sector La Gorgona, vereda Las Brisas, corregimiento La Castilla y vereda Alto Aguacatal, corregimiento La Elvira | AV39: Si | AW39: =+BB39/(SUM($BB$38:$BB$45)) -> #REF! | AY39: =IF(AX39=""," ",VLOOKUP(AX39,Listados!$L:$M,2,0)) | BA39: =IF(AZ39=""," ",VLOOKUP(AZ39,Listados!$O:$P,2,0)) | BB39: =#REF! -> #REF! | BU39: 1.2.2 | BW39: Realizar la Construcción del Sistema de Acueducto Sector La Gorgona, vereda Las Brisas, corregimiento La Castilla y vereda Alto Aguacatal, corregimiento La Elvira | BX39: Si | BY39: =+CD39/(SUM($CD$38:$CD$45)) -> #REF! | CA39: =IF(BZ39=""," ",VLOOKUP(BZ39,Listados!$L:$M,2,0)) | CC39: =IF(CB39=""," ",VLOOKUP(CB39,Listados!$O:$P,2,0)) | CD39: 0 | CW39: 1.2.2 | CY39: Realizar la Construcción del Sistema de Acueducto Sector La Gorgona, vereda Las Brisas, corregimiento La Castilla y vereda Alto Aguacatal, corregimiento La Elvira | CZ39: Si | DA39: =+DF39/(SUM($CD$38:$CD$45)) -> #REF! | DC39: =IF(DB39=""," ",VLOOKUP(DB39,Listados!$L:$M,2,0)) | DE39: =IF(DD39=""," ",VLOOKUP(DD39,Listados!$O:$P,2,0)) | DF39: 0 | DH39: =Z39+BB39+CD39+DF39 -> #REF!
Q40: 1.1.24 | S40: Realizar la Demolición y Construcción Tanque de Almacenamiento vereda El Estero, Corregimiento Navarro | Y40: =IF(X40=""," ",VLOOKUP(X40,Listados!$O:$P,2,0)) | AS40: 1.1.24 | AU40: Realizar la Demolición y Construcción Tanque de Almacenamiento vereda El Estero, Corregimiento Navarro | AV40: Si | AW40: =+BB40/(SUM($BB$38:$BB$45)) -> #REF! | AY40: =IF(AX40=""," ",VLOOKUP(AX40,Listados!$L:$M,2,0)) | BA40: =IF(AZ40=""," ",VLOOKUP(AZ40,Listados!$O:$P,2,0)) | BB40: =#REF! -> #REF! | BU40: 1.2.3 | BW40: Realizar la Demolición y Construcción Tanque de Almacenamiento vereda El Estero, Corregimiento Navarro | BX40: Si | BY40: =+CD40/(SUM($CD$38:$CD$45)) -> #REF! | CA40: =IF(BZ40=""," ",VLOOKUP(BZ40,Listados!$L:$M,2,0)) | CC40: =IF(CB40=""," ",VLOOKUP(CB40,Listados!$O:$P,2,0)) | CD40: 0 | CW40: 1.2.3 | CY40: Realizar la Demolición y Construcción Tanque de Almacenamiento vereda El Estero, Corregimiento Navarro | CZ40: Si | DA40: =+DF40/(SUM($CD$38:$CD$45)) -> #REF! | DC40: =IF(DB40=""," ",VLOOKUP(DB40,Listados!$L:$M,2,0)) | DE40: =IF(DD40=""," ",VLOOKUP(DD40,Listados!$O:$P,2,0)) | DF40: 0 | DH40: =Z40+BB40+CD40+DF40 -> #REF!
Q41: 1.1.25 | S41: Realizar Interventoría a las Obras de Construcción de los Sistemas de Acueducto en la Zona Rural del Distrito Santiago de Cali | Y41: =IF(X41=""," ",VLOOKUP(X41,Listados!$O:$P,2,0)) | AS41: 1.1.25 | AU41: Realizar Interventoría a las Obras de Construcción de los Sistemas de Acueducto en la Zona Rural del Distrito Santiago de Cali | AV41: No | AW41: =+BB41/(SUM($BB$38:$BB$45)) -> #REF! | AY41: =IF(AX41=""," ",VLOOKUP(AX41,Listados!$L:$M,2,0)) | BA41: =IF(AZ41=""," ",VLOOKUP(AZ41,Listados!$O:$P,2,0)) | BB41: =#REF! -> #REF! | BU41: 1.2.4 | BW41: Realizar Interventoría a las Obras de Construcción de los Sistemas de Acueducto en la Zona Rural del Distrito Santiago de Cali | BX41: No | BY41: =+CD41/(SUM($CD$38:$CD$45)) -> #REF! | CA41: =IF(BZ41=""," ",VLOOKUP(BZ41,Listados!$L:$M,2,0)) | CC41: =IF(CB41=""," ",VLOOKUP(CB41,Listados!$O:$P,2,0)) | CD41: =#REF! -> #REF! | CW41: 1.2.4 | CY41: Realizar Interventoría a las Obras de Construcción de los Sistemas de Acueducto en la Zona Rural del Distrito Santiago de Cali | CZ41: No | DA41: =+DF41/(SUM($CD$38:$CD$45)) -> #REF! | DC41: =IF(DB41=""," ",VLOOKUP(DB41,Listados!$L:$M,2,0)) | DE41: =IF(DD41=""," ",VLOOKUP(DD41,Listados!$O:$P,2,0)) | DF41: 0 | DH41: =Z41+BB41+CD41+DF41 -> #REF!
Q42: 1.1.26 | S42: Realizar la Construcción del Sistema de Acueducto Sector Porvenir, Corregimiento La Leonera | AS42: 1.1.26 | AU42: Realizar la Construcción del Sistema de Acueducto Sector Porvenir, Corregimiento La Leonera | BU42: 1.2.5 | BW42: Realizar la Construcción del Sistema de Acueducto Sector Porvenir, Corregimiento La Leonera | BX42: Si | BY42: =+CD42/(SUM($CD$38:$CD$45)) -> #REF! | CA42: =IF(BZ42=""," ",VLOOKUP(BZ42,Listados!$L:$M,2,0)) | CC42: =IF(CB42=""," ",VLOOKUP(CB42,Listados!$O:$P,2,0)) | CD42: =#REF! -> #REF! | CW42: 1.2.5 | CY42: Realizar la Construcción del Sistema de Acueducto Sector Porvenir, Corregimiento La Leonera | CZ42: Si | DA42: =+DF42/(SUM($CD$38:$CD$45)) -> #REF! | DC42: =IF(DB42=""," ",VLOOKUP(DB42,Listados!$L:$M,2,0)) | DE42: =IF(DD42=""," ",VLOOKUP(DD42,Listados!$O:$P,2,0)) | DF42: 0 | DH42: =Z42+BB42+CD42+DF42 -> #REF!
Q43: 1.1.27 | S43: Realizar la Construcción del Sistema de Acueducto vereda La Ascensión, Corregimiento Felidia | AS43: 1.1.27 | AU43: Realizar la Construcción del Sistema de Acueducto vereda La Ascensión, Corregimiento Felidia | BU43: 1.2.6 | BW43: Realizar la Construcción del Sistema de Acueducto vereda La Ascensión, Corregimiento Felidia | BX43: Si | BY43: =+CD43/(SUM($CD$38:$CD$45)) -> #REF! | CA43: =IF(BZ43=""," ",VLOOKUP(BZ43,Listados!$L:$M,2,0)) | CC43: =IF(CB43=""," ",VLOOKUP(CB43,Listados!$O:$P,2,0)) | CD43: =#REF! -> #REF! | CW43: 1.2.6 | CY43: Realizar la Construcción del Sistema de Acueducto vereda La Ascensión, Corregimiento Felidia | CZ43: Si | DA43: =+DF43/(SUM($CD$38:$CD$45)) -> #REF! | DC43: =IF(DB43=""," ",VLOOKUP(DB43,Listados!$L:$M,2,0)) | DE43: =IF(DD43=""," ",VLOOKUP(DD43,Listados!$O:$P,2,0)) | DF43: 0 | DH43: =Z43+BB43+CD43+DF43 -> #REF!
Q44: 1.1.28 | S44: Realizar la Construcción del Sistema de Acueducto Pance Cabecera, Corregimiento Pance | AS44: 1.1.28 | AU44: Realizar la Construcción del Sistema de Acueducto Pance Cabecera, Corregimiento Pance | BU44: 1.2.7 | BW44: Realizar la Construcción del Sistema de Acueducto Pance Cabecera, Corregimiento Pance | BX44: Si | BY44: =+CD44/(SUM($CD$38:$CD$45)) -> #REF! | CA44: =IF(BZ44=""," ",VLOOKUP(BZ44,Listados!$L:$M,2,0)) | CC44: =IF(CB44=""," ",VLOOKUP(CB44,Listados!$O:$P,2,0)) | CD44: =#REF! -> #REF! | CW44: 1.2.7 | CY44: Realizar la Construcción del Sistema de Acueducto Pance Cabecera, Corregimiento Pance | CZ44: Si | DA44: =+DF44/(SUM($CD$38:$CD$45)) -> #REF! | DC44: =IF(DB44=""," ",VLOOKUP(DB44,Listados!$L:$M,2,0)) | DE44: =IF(DD44=""," ",VLOOKUP(DD44,Listados!$O:$P,2,0)) | DF44: 0 | DH44: =Z44+BB44+CD44+DF44 -> #REF!
Q45: 1.1.29 | S45: Realizar la Construcción del Tanque de Almacenamiento Vereda La Sirena, Corregimiento La Buitrera | AS45: 1.1.29 | AU45: Realizar la Construcción del Tanque de Almacenamiento Vereda La Sirena, Corregimiento La Buitrera | BU45: 1.2.8 | BW45: Realizar la Construcción del Tanque de Almacenamiento Vereda La Sirena, Corregimiento La Buitrera | BX45: Si | BY45: =+CD45/(SUM($CD$38:$CD$45)) -> #REF! | CA45: =IF(BZ45=""," ",VLOOKUP(BZ45,Listados!$L:$M,2,0)) | CC45: =IF(CB45=""," ",VLOOKUP(CB45,Listados!$O:$P,2,0)) | CD45: =#REF! -> #REF! | CW45: 1.2.8 | CY45: Realizar la Construcción del Tanque de Almacenamiento Vereda La Sirena, Corregimiento La Buitrera | CZ45: Si | DA45: =+DF45/(SUM($CD$38:$CD$45)) -> #REF! | DC45: =IF(DB45=""," ",VLOOKUP(DB45,Listados!$L:$M,2,0)) | DE45: =IF(DD45=""," ",VLOOKUP(DD45,Listados!$O:$P,2,0)) | DF45: 0 | DH45: =Z45+BB45+CD45+DF45 -> #REF!
Q46: 1.1.30 | S46: Realizar obras de mejoramiento PTAP Las Palmas Fase II - corregimiento La Castilla | T46: Si | U46: {=SUM(+Z46:Z46)/(SUM($Z$46:$Z$49))} -> #REF! | W46: =IF(V46=""," ",VLOOKUP(V46,Listados!$L:$M,2,0)) | Y46: =IF(X46=""," ",VLOOKUP(X46,Listados!$O:$P,2,0)) | Z46: =#REF! -> #REF! | AS46: 1.1.30 | AU46: Realizar obras de mejoramiento PTAP Las Palmas Fase II - corregimiento La Castilla | AV46: Si | AW46: =BB46/(SUM($BB$46:$BB$57)) -> #REF! | AY46: =IF(AX46=""," ",VLOOKUP(AX46,Listados!$L:$M,2,0)) | BA46: =IF(AZ46=""," ",VLOOKUP(AZ46,Listados!$O:$P,2,0)) | BB46: 0 | BU46: 1.3.1 | BW46: Realizar obras de mejoramiento PTAP Las Palmas Fase II - corregimiento La Castilla | BX46: Si | BY46: =CD46/(SUM($CD$46:$CD$57)) -> #REF! | CA46: =IF(BZ46=""," ",VLOOKUP(BZ46,Listados!$L:$M,2,0)) | CC46: =IF(CB46=""," ",VLOOKUP(CB46,Listados!$O:$P,2,0)) | CD46: 0 | CW46: 1.3.1 | CY46: Realizar obras de mejoramiento PTAP Las Palmas Fase II - corregimiento La Castilla | CZ46: Si | DA46: =ROUND(DF46/(SUM($DF$46:$DF$57)),2) -> #REF! | DC46: =IF(DB46=""," ",VLOOKUP(DB46,Listados!$L:$M,2,0)) | DE46: =IF(DD46=""," ",VLOOKUP(DD46,Listados!$O:$P,2,0)) | DF46: 0 | DH46: =Z46+BB46+CD46+DF46 -> #REF!
Q47: 1.1.31 | S47: Realizar Obras de Mejoramiento PTAP Villa del Rosario Fase II, corregimiento La Paz | T47: Si | U47: =+Z47/(SUM($Z$46:$Z$49)) -> #REF! | W47: =IF(V47=""," ",VLOOKUP(V47,Listados!$L:$M,2,0)) | Y47: =IF(X47=""," ",VLOOKUP(X47,Listados!$O:$P,2,0)) | Z47: =#REF! -> #REF! | AS47: 1.1.31 | AU47: Realizar Obras de Mejoramiento PTAP Villa del Rosario Fase II, corregimiento La Paz | AV47: Si | AW47: =BB47/(SUM($BB$46:$BB$57)) -> #REF! | AY47: =IF(AX47=""," ",VLOOKUP(AX47,Listados!$L:$M,2,0)) | BA47: =IF(AZ47=""," ",VLOOKUP(AZ47,Listados!$O:$P,2,0)) | BB47: 0 | BU47: 1.3.2 | BW47: Realizar Obras de Mejoramiento PTAP Villa del Rosario Fase II, corregimiento La Paz | BX47: Si | BY47: =CD47/(SUM($CD$46:$CD$57)) -> #REF! | CA47: =IF(BZ47=""," ",VLOOKUP(BZ47,Listados!$L:$M,2,0)) | CC47: =IF(CB47=""," ",VLOOKUP(CB47,Listados!$O:$P,2,0)) | CD47: 0 | CW47: 1.3.2 | CY47: Realizar Obras de Mejoramiento PTAP Villa del Rosario Fase II, corregimiento La Paz | CZ47: Si | DA47: =ROUND(DF47/(SUM($DF$46:$DF$57)),2) -> #REF! | DC47: =IF(DB47=""," ",VLOOKUP(DB47,Listados!$L:$M,2,0)) | DE47: =IF(DD47=""," ",VLOOKUP(DD47,Listados!$O:$P,2,0)) | DF47: 0 | DH47: =Z47+BB47+CD47+DF47 -> #REF!
Q48: 1.1.32 | S48: Adquirir, instalar y puesta en funcionamiento del sistema eléctrico y de bombeo de los acueductos de la vereda Kilómetro 18 - corregimiento La Elvira, El Hormiguero Cabecera y vereda El Estero - corregimiento Navarro | T48: Si | U48: =+Z48/(SUM($Z$46:$Z$49)) -> #REF! | W48: =IF(V48=""," ",VLOOKUP(V48,Listados!$L:$M,2,0)) | Y48: =IF(X48=""," ",VLOOKUP(X48,Listados!$O:$P,2,0)) | Z48: =#REF! -> #REF! | AS48: 1.1.32 | AU48: Adquirir, instalar y puesta en funcionamiento del sistema eléctrico y de bombeo de los acueductos de la vereda Kilómetro 18 - corregimiento La Elvira, El Hormiguero Cabecera y vereda El Estero - corregimiento Navarro | AV48: Si | AW48: =BB48/(SUM($BB$46:$BB$57)) -> #REF! | AY48: =IF(AX48=""," ",VLOOKUP(AX48,Listados!$L:$M,2,0)) | BA48: =IF(AZ48=""," ",VLOOKUP(AZ48,Listados!$O:$P,2,0)) | BB48: 0 | BU48: 1.3.3 | BW48: Adquirir, instalar y puesta en funcionamiento del sistema eléctrico y de bombeo de los acueductos de la vereda Kilómetro 18 - corregimiento La Elvira, El Hormiguero Cabecera y vereda El Estero - corregimiento Navarro | BX48: Si | BY48: =CD48/(SUM($CD$46:$CD$57)) -> #REF! | CA48: =IF(BZ48=""," ",VLOOKUP(BZ48,Listados!$L:$M,2,0)) | CC48: =IF(CB48=""," ",VLOOKUP(CB48,Listados!$O:$P,2,0)) | CD48: 0 | CW48: 1.3.3 | CY48: Adquirir, instalar y puesta en funcionamiento del sistema eléctrico y de bombeo de los acueductos de la vereda Kilómetro 18 - corregimiento La Elvira, El Hormiguero Cabecera y vereda El Estero - corregimiento Navarro | CZ48: Si | DA48: =ROUND(DF48/(SUM($DF$46:$DF$57)),2) -> #REF! | DC48: =IF(DB48=""," ",VLOOKUP(DB48,Listados!$L:$M,2,0)) | DE48: =IF(DD48=""," ",VLOOKUP(DD48,Listados!$O:$P,2,0)) | DF48: 0 | DH48: =Z48+BB48+CD48+DF48 -> #REF!
Q49: 1.1.33 | S49: Realizar Interventoría a las Obras de Mejoramiento de los Sistemas de Acueducto en la Zona Rural del Distrito Santiago de Cali | T49: No | U49: =+Z49/(SUM($Z$46:$Z$49)) -> #REF! | W49: =IF(V49=""," ",VLOOKUP(V49,Listados!$L:$M,2,0)) | Y49: =IF(X49=""," ",VLOOKUP(X49,Listados!$O:$P,2,0)) | Z49: =#REF! -> #REF! | AS49: 1.1.33 | AU49: Realizar Interventoría a las Obras de Mejoramiento de los Sistemas de Acueducto en la Zona Rural del Distrito Santiago de Cali | AV49: No | AW49: =BB49/(SUM($BB$46:$BB$57)) -> #REF! | AY49: =IF(AX49=""," ",VLOOKUP(AX49,Listados!$L:$M,2,0)) | BA49: =IF(AZ49=""," ",VLOOKUP(AZ49,Listados!$O:$P,2,0)) | BB49: =#REF! -> #REF! | BU49: 1.3.4 | BW49: Realizar Interventoría a las Obras de Mejoramiento de los Sistemas de Acueducto en la Zona Rural del Distrito Santiago de Cali | BX49: No | BY49: =CD49/(SUM($CD$46:$CD$57)) -> #REF! | CA49: =IF(BZ49=""," ",VLOOKUP(BZ49,Listados!$L:$M,2,0)) | CC49: =IF(CB49=""," ",VLOOKUP(CB49,Listados!$O:$P,2,0)) | CD49: =#REF! -> #REF! | CW49: 1.3.4 | CY49: Realizar Interventoría a las Obras de Mejoramiento de los Sistemas de Acueducto en la Zona Rural del Distrito Santiago de Cali | CZ49: No | DA49: =ROUND(DF49/(SUM($DF$46:$DF$57)),2) -> #REF! | DC49: =IF(DB49=""," ",VLOOKUP(DB49,Listados!$L:$M,2,0)) | DE49: =IF(DD49=""," ",VLOOKUP(DD49,Listados!$O:$P,2,0)) | DF49: =#REF! -> #REF! | DH49: =Z49+BB49+CD49+DF49 -> #REF!
Q50: 1.1.34 | S50: Realizar la Optimización del Sistema de Acueducto Pichindé Cabecera, corregimiento Pichindé | AS50: 1.1.34 | AU50: Realizar la Optimización del Sistema de Acueducto Pichindé Cabecera, corregimiento Pichindé | AV50: Si | AW50: =BB50/(SUM($BB$46:$BB$57)) -> #REF! | AY50: =IF(AX50=""," ",VLOOKUP(AX50,Listados!$L:$M,2,0)) | BA50: =IF(AZ50=""," ",VLOOKUP(AZ50,Listados!$O:$P,2,0)) | BB50: =#REF! -> #REF! | BU50: 1.3.5 | BW50: Realizar la Optimización del Sistema de Acueducto Pichindé Cabecera, corregimiento Pichindé | BX50: Si | BY50: =CD50/(SUM($CD$46:$CD$57)) -> #REF! | CA50: =IF(BZ50=""," ",VLOOKUP(BZ50,Listados!$L:$M,2,0)) | CC50: =IF(CB50=""," ",VLOOKUP(CB50,Listados!$O:$P,2,0)) | CD50: 0 | CW50: 1.3.5 | CY50: Realizar la Optimización del Sistema de Acueducto Pichindé Cabecera, corregimiento Pichindé | CZ50: Si | DA50: =ROUND(DF50/(SUM($DF$46:$DF$57)),2) -> #REF! | DC50: =IF(DB50=""," ",VLOOKUP(DB50,Listados!$L:$M,2,0)) | DE50: =IF(DD50=""," ",VLOOKUP(DD50,Listados!$O:$P,2,0)) | DF50: 0 | DH50: =Z50+BB50+CD50+DF50 -> #REF!
Q51: 1.1.35 | S51: Realizar Obras de Mejoramiento PTAP El Banqueo, Corregimiento Pance | AS51: 1.1.35 | AU51: Realizar Obras de Mejoramiento PTAP El Banqueo, Corregimiento Pance | AV51: Si | AW51: =BB51/(SUM($BB$46:$BB$57)) -> #REF! | AY51: =IF(AX51=""," ",VLOOKUP(AX51,Listados!$L:$M,2,0)) | BA51: =IF(AZ51=""," ",VLOOKUP(AZ51,Listados!$O:$P,2,0)) | BB51: =+#REF! -> #REF! | BU51: 1.3.6 | BW51: Realizar Obras de Mejoramiento PTAP El Banqueo, Corregimiento Pance | BX51: Si | BY51: =CD51/(SUM($CD$46:$CD$57)) -> #REF! | CA51: =IF(BZ51=""," ",VLOOKUP(BZ51,Listados!$L:$M,2,0)) | CC51: =IF(CB51=""," ",VLOOKUP(CB51,Listados!$O:$P,2,0)) | CD51: 0 | CW51: 1.3.6 | CY51: Realizar Obras de Mejoramiento PTAP El Banqueo, Corregimiento Pance | CZ51: Si | DA51: =ROUND(DF51/(SUM($DF$46:$DF$57)),2) -> #REF! | DC51: =IF(DB51=""," ",VLOOKUP(DB51,Listados!$L:$M,2,0)) | DE51: =IF(DD51=""," ",VLOOKUP(DD51,Listados!$O:$P,2,0)) | DF51: 0 | DH51: =Z51+BB51+CD51+DF51 -> #REF!
...

Sheet DETALLE POBLACIÓN PROYECTADA
B2: DETALLE DE POBLACIÓN OBJETIVO | J2: DETALLE DE POBLACIÓN OBJETIVO
B4: Ubicación general | C4: Localización específica | D4: Detalle de la Población | E4: 2024 | F4: 2025 | G4: 2026 | H4: 2027 | J4: DETALLE DE POBLACIÓN OBJETIVO | L4: AÑO: | M4: 2024 | N4: 2025 | O4: 2026 | P4: 2027
B5: Santiago de Cali | C5: Zona rural de Santiago de Cali | D5: 0 a 14 años | E5: =E9*0.22 -> 2965.38 | F5: =F9*0.22 -> 8273.32 | G5: =G9*0.22 -> 3764.42 | H5: =H9*0.22 -> 3004.32 | J5: UBICACIÓN POR COMUNAS / CORREGIMIENTOS | K5: LOCALIZACIÓN ESPECIFICA | L5: DETALLE POBLACION | M5: CANTIDAD POBLACIÓN
B6: Santiago de Cali | C6: Zona rural de Santiago de Cali | D6: 15 a 19 años | E6: =E9*0.08 -> 1078.32 | F6: =F9*0.08 -> 3008.48 | G6: =G9*0.08 -> 1368.88 | H6: =H9*0.08 -> 1092.48 | J6: Corregimientos del Distrito de Santiago de Cali | K6: Navarro | L6: Habitantes de los corregimientos del Distrito de Santiago de Cali | M6: =135*5 -> 675 | N6: =540 -> 540
B7: Santiago de Cali | C7: Zona rural de Santiago de Cali | D7: 20 a 59 años | E7: =E9*0.57 -> 7683.03 | F7: =F9*0.57 -> 21435.42 | G7: =G9*0.57 -> 9753.27 | H7: =H9*0.57 -> 7783.92 | K7: El Hormiguero | M7: =850*5 -> 4250
B8: Santiago de Cali | C8: Zona rural de Santiago de Cali | D8: Mayor de 60 años (Adultos Mayor) | E8: =E9*0.13 -> 1752.27 | F8: =F9*0.13 -> 4888.78 | G8: =G9*0.13 -> 2224.43 | H8: =H9*0.13 -> 1775.28 | K8: Pance | N8: =1505+200 -> 1705
C9: TOTAL | E9: =+M21 -> 13479 | F9: =+N21 -> 37606 | G9: =+O21 -> 17111 | H9: =+P21 -> 13656 | K9: La Buitrera | N9: =892+9985+5180 -> 16057
D10: Hombres | E10: =ROUND(E9*0.4,) -> 5392 | F10: =ROUND(F9*0.4,) -> 15042 | G10: =ROUND(G9*0.4,) -> 6844 | H10: =ROUND(H9*0.4,) -> 5462 | K10: Villacarmelo | N10: 488 | P10: =548 -> 548
D11: Mujeres | E11: =ROUND(E9*0.6,) -> 8087 | F11: =ROUND(F9*0.6,) -> 22564 | G11: =ROUND(G9*0.6,) -> 10267 | H11: =ROUND(H9*0.6,) -> 8194 | K11: Los Andes | N11: =3260+480 -> 3740
K12: Pichindé | N12: =1444 -> 1444
B13: CLASIFICADOR DE LA INVERSIÓN | K13: La Leonera | O13: 410
K14: Felidia | M14: =106*5 -> 530 | N14: =2824+188 -> 3012 | O14: =412 -> 412 | P14: =240+2176 -> 2416
B15: Sector | C15: 40-Vivienda, ciudad y territorio | K15: El Saladito | O15: 900
B16: Articulación con Política Pública No.1 | C16: Acuerdo 562 POR MEDIO DEL CUAL SE ADOPTA LA POLÍTICA PÚBLICA DE DERECHOS HUMANOS 2022 - 2031 DEL DISTRITO ESPECIAL, DEPORTIVO, CULTURAL, TURÍSTICO, EMPRESARIAL Y DE SERVICIOS DE SANTIAGO DE CALI Y SE DICTAN OTRAS DISPOSICIONES | K16: La Elvira | M16: =60*5 -> 300 | N16: 448 | P16: 520
B17: Articulación con Política Pública No.2 | K17: La Castilla | M17: =128*5 -> 640 | O17: =512+625 -> 1137
B18: Articulación con Política Pública No.3 | K18: La Paz | M18: =112*5 -> 560
B19: Gasto Público Social | C19: Si | K19: Montebello | M19: 3984 | N19: =10172 -> 10172 | O19: =10172+4080 -> 14252 | P19: =10172 -> 10172
B20: Grupo vulnerable | K20: Golondrinas | M20: =508*5 -> 2540
