Workbook

Sheet Estudio de mercado
C1: GESTIÓN CONTRACTUAL | L1: Código: IDPAC-GC-FT-29 Versión: 2 Página: 1 de 1 Fecha: 16/09/2022
C2: ELABORACIÓN ESTUDIOS DE MERCADO - PROCESOS DE GESTIÓN CONTRACTUAL
A4: DESCRIPCIÓN GENERAL | F4: PROVEEDOR 1 Soluciones Inmediatas | H4: PROVEEDOR 2 SOLUCIONES TECNOLOGICAS RG S.A.S | J4: PROVEEDOR 3 SYSTEM NET INGENIERIA SAS | L4: PROMEDIO (INDEXACIÓN DE PRECIOS - PRECIOS DE REFERENCIA, ETC)
A5: No. Item | B5: Código UNSPSC | C5: Descripción | D5: Cantidad | E5: Unidad de Medida | F5: Precio unitario estimado IVA incluido | G5: Precio total estimado IVA incluido | H5: Precio unitario estimado IVA incluido | I5: Precio total estimado IVA incluido | J5: Precio unitario estimado IVA incluido | K5: Precio total estimado IVA incluido | L5: Precio unitario estimado IVA incluido | M5: Precio total unitario estimado IVA incluido | N5: VR MÍNIMO | O5: VR MAYOR | P5: DIFERENCIA | Q5: VARIACIÓN PORCENTUAL | R5: SI NO
A6: 1 | B6: 72154000 | C6: UNIDAD FUSORA HP LASERJET P3015 | D6: 1 | E6: UN | F6: 1400000 | G6: 1400000 | H6: 952000 | I6: 952000 | J6: 1280000 | K6: 1280000 | L6: =ROUND(AVERAGE(F6,H6,J6),0) -> 1210667 | M6: =L6*D6 -> 1210667 | N6: =MIN(F6,H6,J6) -> 952000 | O6: =MAX(F6,H6,J6) -> 1400000 | P6: =O6-N6 -> 448000 | Q6: =P6/O6 -> 0.32 | R6: =IF(Q6>30%, "NO SE ACEPTA","ACEPTADO") -> NO SE ACEPTA
A7: 2 | B7: 72154000 | C7: UNIDAD FUSORA HP LASERJET PRO-400 COLOR | D7: 1 | E7: UN | F7: 1700000 | G7: 1700000 | H7: 1071000 | I7: 1071000 | J7: 1690000 | K7: 1690000 | L7: =ROUND(AVERAGE(F7,H7,J7),0) -> 1487000 | M7: =L7*D7 -> 1487000 | N7: =MIN(F7,H7,J7) -> 1071000 | O7: =MAX(F7,H7,J7) -> 1700000 | P7: =O7-N7 -> 629000 | Q7: =P7/O7 -> 0.37 | R7: =IF(Q7>30%, "NO SE ACEPTA","ACEPTADO") -> NO SE ACEPTA
A8: 3 | B8: 72154000 | C8: ACETATOS HP-LASERJET- P3015 | D8: 1 | E8: UN | F8: 400000 | G8: 400000 | H8: 238000 | I8: 238000 | J8: 390000 | K8: 390000 | L8: =ROUND(AVERAGE(F8,H8,J8),0) -> 342667 | M8: =L8*D8 -> 342667 | N8: =MIN(F8,H8,J8) -> 238000 | O8: =MAX(F8,H8,J8) -> 400000 | P8: =O8-N8 -> 162000 | Q8: =P8/O8 -> 0.405 | R8: =IF(Q8>30%, "NO SE ACEPTA","ACEPTADO") -> NO SE ACEPTA
A9: 4 | B9: 72154000 | C9: KIT DE MANTENIMIENTO HP-LASERJET- P3015 | D9: 1 | E9: UN | F9: 500000 | G9: 500000 | H9: 1130500 | I9: 1130500 | J9: 530000 | K9: 530000 | L9: =ROUND(AVERAGE(F9,H9,J9),0) -> 720167 | M9: =L9*D9 -> 720167 | N9: =MIN(F9,H9,J9) -> 500000 | O9: =MAX(F9,H9,J9) -> 1130500 | P9: =O9-N9 -> 630500 | Q9: =P9/O9 -> 0.55771782 | R9: =IF(Q9>30%, "NO SE ACEPTA","ACEPTADO") -> NO SE ACEPTA
A10: 5 | B10: 72154000 | C10: PICK ROLLER HP-LASERJET- P3015 | D10: 1 | E10: UN | F10: 200000 | G10: 200000 | H10: 190400 | I10: 190400 | J10: 240000 | K10: 240000 | L10: =ROUND(AVERAGE(F10,H10,J10),0) -> 210133 | M10: =L10*D10 -> 210133 | N10: =MIN(F10,H10,J10) -> 190400 | O10: =MAX(F10,H10,J10) -> 240000 | P10: =O10-N10 -> 49600 | Q10: =P10/O10 -> 0.20666667 | R10: =IF(Q10>30%, "NO SE ACEPTA","ACEPTADO") -> ACEPTADO
A11: 6 | B11: 72154000 | C11: BANDEJA FRONTAL HP-LASERJET 3015 | D11: 1 | E11: UN | F11: 500000 | G11: 500000 | H11: 773500 | I11: 773500 | J11: 512000 | K11: 512000 | L11: =ROUND(AVERAGE(F11,H11,J11),0) -> 595167 | M11: =L11*D11 -> 595167 | N11: =MIN(F11,H11,J11) -> 500000 | O11: =MAX(F11,H11,J11) -> 773500 | P11: =O11-N11 -> 273500 | Q11: =P11/O11 -> 0.35358759 | R11: =IF(Q11>30%, "NO SE ACEPTA","ACEPTADO") -> NO SE ACEPTA
A12: 7 | B12: 72154000 | C12: MANTENIMIENTO PREVENTIVO IMPRESORA HP LASERJET 3015 | D12: 1 | E12: UN | F12: 250000 | G12: 250000 | H12: 190400 | I12: 190400 | J12: 245000 | K12: 245000 | L12: =ROUND(AVERAGE(F12,H12,J12),0) -> 228467 | M12: =L12*D12 -> 228467 | N12: =MIN(F12,H12,J12) -> 190400 | O12: =MAX(F12,H12,J12) -> 250000 | P12: =O12-N12 -> 59600 | Q12: =P12/O12 -> 0.2384 | R12: =IF(Q12>30%, "NO SE ACEPTA","ACEPTADO") -> ACEPTADO
A13: 8 | B13: 72154000 | C13: MANTENIMIENTO PREVENTIVO IMPRESORA BRAILE | D13: 1 | E13: UN | F13: 250000 | G13: 250000 | H13: 190400 | I13: 190400 | J13: 265000 | K13: 265000 | L13: =ROUND(AVERAGE(F13,H13,J13),0) -> 235133 | M13: =L13*D13 -> 235133 | N13: =MIN(F13,H13,J13) -> 190400 | O13: =MAX(F13,H13,J13) -> 265000 | P13: =O13-N13 -> 74600 | Q13: =P13/O13 -> 0.28150943 | R13: =IF(Q13>30%, "NO SE ACEPTA","ACEPTADO") -> ACEPTADO
A14: 9 | B14: 72154000 | C14: MANTENIMIENTO PREVENTIVO EPSON MULTIFUNCIONAL | D14: 1 | E14: UN | F14: 250000 | G14: 250000 | H14: 214200 | I14: 214200 | J14: 230000 | K14: 230000 | L14: =ROUND(AVERAGE(F14,H14,J14),0) -> 231400 | M14: =L14*D14 -> 231400 | N14: =MIN(F14,H14,J14) -> 214200 | O14: =MAX(F14,H14,J14) -> 250000 | P14: =O14-N14 -> 35800 | Q14: =P14/O14 -> 0.1432 | R14: =IF(Q14>30%, "NO SE ACEPTA","ACEPTADO") -> ACEPTADO
A15: 10 | B15: 72154000 | C15: MANTENIMIENTO PREVENTIVO IMPRESORA HP LASERJET 400 | D15: 1 | E15: UN | F15: 250000 | G15: 250000 | H15: 214200 | I15: 214200 | J15: 265000 | K15: 265000 | L15: =ROUND(AVERAGE(F15,H15,J15),0) -> 243067 | M15: =L15*D15 -> 243067 | N15: =MIN(F15,H15,J15) -> 214200 | O15: =MAX(F15,H15,J15) -> 265000 | P15: =O15-N15 -> 50800 | Q15: =P15/O15 -> 0.19169811 | R15: =IF(Q15>30%, "NO SE ACEPTA","ACEPTADO") -> ACEPTADO
A16: 11 | B16: 72154000 | C16: MANTENIMIENTO PREVENTIVO IMPRESORA DE CARNÉ ZEBRA ZXP Serie1 | D16: 1 | E16: UN | F16: 250000 | G16: 250000 | H16: 214200 | I16: 214200 | J16: 260000 | K16: 260000 | L16: =ROUND(AVERAGE(F16,H16,J16),0) -> 241400 | M16: =L16*D16 -> 241400 | N16: =MIN(F16,H16,J16) -> 214200 | O16: =MAX(F16,H16,J16) -> 260000 | P16: =O16-N16 -> 45800 | Q16: =P16/O16 -> 0.17615385 | R16: =IF(Q16>30%, "NO SE ACEPTA","ACEPTADO") -> ACEPTADO
A17: 12 | B17: 72154000 | C17: MANTENIMIENTO PREVENTIVO IMPRESORA DE ETIQUETAS ZEBRA ZD420 TT | D17: 1 | E17: UN | F17: 250000 | G17: 250000 | H17: 214200 | I17: 214200 | J17: 260000 | K17: 260000 | L17: =ROUND(AVERAGE(F17,H17,J17),0) -> 241400 | M17: =L17*D17 -> 241400 | N17: =MIN(F17,H17,J17) -> 214200 | O17: =MAX(F17,H17,J17) -> 260000 | P17: =O17-N17 -> 45800 | Q17: =P17/O17 -> 0.17615385 | R17: =IF(Q17>30%, "NO SE ACEPTA","ACEPTADO") -> ACEPTADO
... A37: 32 | B37: 72154000 | C37: MANTENIMIENTO CORRECTIVO ESCANER - KODAK I2820 | D37: 1 | E37: UN | F37: 250000 | G37: 250000 | H37: 261800 | I37: 261800 | J37: 245000 | K37: 245000 | L37: =ROUND(AVERAGE(F37,H37,J37),0) -> 252267 | M37: =L37*D37 -> 252267 | N37: =MIN(F37,H37,J37) -> 245000 | O37: =MAX(F37,H37,J37) -> 261800 | P37: =O37-N37 -> 16800 | Q37: =P37/O37 -> 0.064171123 | R37: =IF(Q37>30%, "NO SE ACEPTA","ACEPTADO") -> ACEPTADO
A38: VALOR TOTAL ESTUDIO DE MERCADO | M38: =SUM(M6:M37) -> 11217337
B42: ELABORÓ | C42: Erica Milena Vargas Medina - Contrato 110-2025

Sheet Resumen
G1: Código: IDPAC-GC-FT-29 Versión: 2 Página: 1 de 1 Fecha: 16/09/2022
A3: No. Item | B3: Código UNSPSC | C3: Descripción | D3: Cantidad | E3: Unidad de Medida | F3: Precio unitario estimado IVA incluido | G3: Precio total unitario estimado IVA incluido
A4: =+'Estudio de mercado'!A6 -> 1 | B4: 72154000 | C4: =+'Estudio de mercado'!C6 -> UNIDAD FUSORA HP LASERJET P3015 | D4: =+'Estudio de mercado'!D6 -> 1 | E4: =+'Estudio de mercado'!E6 -> UN | F4: =+'Estudio de mercado'!L6 -> 1210667 | G4: =F4*D4 -> 1210667
A5: =+'Estudio de mercado'!A7 -> 2 | B5: 72154000 | C5: =+'Estudio de mercado'!C7 -> UNIDAD FUSORA HP LASERJET PRO-400 COLOR | D5: =+'Estudio de mercado'!D7 -> 1 | E5: =+'Estudio de mercado'!E7 -> UN | F5: =+'Estudio de mercado'!L7 -> 1487000 | G5: =F5*D5 -> 1487000
A6: =+'Estudio de mercado'!A8 -> 3 | B6: 72154000 | C6: =+'Estudio de mercado'!C8 -> ACETATOS HP-LASERJET- P3015 | D6: =+'Estudio de mercado'!D8 -> 1 | E6: =+'Estudio de mercado'!E8 -> UN | F6: =+'Estudio de mercado'!L8 -> 342667 | G6: =F6*D6 -> 342667
A7: =+'Estudio de mercado'!A9 -> 4 | B7: 72154000 | C7: =+'Estudio de mercado'!C9 -> KIT DE MANTENIMIENTO HP-LASERJET- P3015 | D7: =+'Estudio de mercado'!D9 -> 1 | E7: =+'Estudio de mercado'!E9 -> UN | F7: =+'Estudio de mercado'!L9 -> 720167 | G7: =F7*D7 -> 720167
A8: =+'Estudio de mercado'!A10 -> 5 | B8: 72154000 | C8: =+'Estudio de mercado'!C10 -> PICK ROLLER HP-LASERJET- P3015 | D8: =+'Estudio de mercado'!D10 -> 1 | E8: =+'Estudio de mercado'!E10 -> UN | F8: =+'Estudio de mercado'!L10 -> 210133 | G8: =F8*D8 -> 210133
A9: =+'Estudio de mercado'!A11 -> 6 | B9: 72154000 | C9: =+'Estudio de mercado'!C11 -> BANDEJA FRONTAL HP-LASERJET 3015 | D9: =+'Estudio de mercado'!D11 -> 1 | E9: =+'Estudio de mercado'!E11 -> UN | F9: =+'Estudio de mercado'!L11 -> 595167 | G9: =F9*D9 -> 595167
A10: =+'Estudio de mercado'!A12 -> 7 | B10: 72154000 | C10: =+'Estudio de mercado'!C12 -> MANTENIMIENTO PREVENTIVO IMPRESORA HP LASERJET 3015 | D10: =+'Estudio de mercado'!D12 -> 1 | E10: =+'Estudio de mercado'!E12 -> UN | F10: =+'Estudio de mercado'!L12 -> 228467 | G10: =F10*D10 -> 228467
A11: =+'Estudio de mercado'!A13 -> 8 | B11: 72154000 | C11: =+'Estudio de mercado'!C13 -> MANTENIMIENTO PREVENTIVO IMPRESORA BRAILE | D11: =+'Estudio de mercado'!D13 -> 1 | E11: =+'Estudio de mercado'!E13 -> UN | F11: =+'Estudio de mercado'!L13 -> 235133 | G11: =F11*D11 -> 235133
A12: =+'Estudio de mercado'!A14 -> 9 | B12: 72154000 | C12: =+'Estudio de mercado'!C14 -> MANTENIMIENTO PREVENTIVO EPSON MULTIFUNCIONAL | D12: =+'Estudio de mercado'!D14 -> 1 | E12: =+'Estudio de mercado'!E14 -> UN | F12: =+'Estudio de mercado'!L14 -> 231400 | G12: =F12*D12 -> 231400
A13: =+'Estudio de mercado'!A15 -> 10 | B13: 72154000 | C13: =+'Estudio de mercado'!C15 -> MANTENIMIENTO PREVENTIVO IMPRESORA HP LASERJET 400 | D13: =+'Estudio de mercado'!D15 -> 1 | E13: =+'Estudio de mercado'!E15 -> UN | F13: =+'Estudio de mercado'!L15 -> 243067 | G13: =F13*D13 -> 243067
A14: =+'Estudio de mercado'!A16 -> 11 | B14: 72154000 | C14: =+'Estudio de mercado'!C16 -> MANTENIMIENTO PREVENTIVO IMPRESORA DE CARNÉ ZEBRA ZXP Serie1 | D14: =+'Estudio de mercado'!D16 -> 1 | E14: =+'Estudio de mercado'!E16 -> UN | F14: =+'Estudio de mercado'!L16 -> 241400 | G14: =F14*D14 -> 241400
A15: =+'Estudio de mercado'!A17 -> 12 | B15: 72154000 | C15: =+'Estudio de mercado'!C17 -> MANTENIMIENTO PREVENTIVO IMPRESORA DE ETIQUETAS ZEBRA ZD420 TT | D15: =+'Estudio de mercado'!D17 -> 1 | E15: =+'Estudio de mercado'!E17 -> UN | F15: =+'Estudio de mercado'!L17 -> 241400 | G15: =F15*D15 -> 241400
... A35: =+'Estudio de mercado'!A37 -> 32 | B35: 72154000 | C35: =+'Estudio de mercado'!C37 -> MANTENIMIENTO CORRECTIVO ESCANER - KODAK I2820 | D35: =+'Estudio de mercado'!D37 -> 1 | E35: =+'Estudio de mercado'!E37 -> UN | F35: =+'Estudio de mercado'!L37 -> 252267 | G35: =F35*D35 -> 252267
A36: VALOR TOTAL ESTUDIO DE MERCADO | G36: =SUM(G4:G31) -> 10208269
A39: Para la estructuración del presupuesto oficial del proceso se procedió a solicitar cotizaciones de empresas que contaran con la idoneidad y la experiencia en el desarrollo de contratos con objetos contractuales similares o iguales,convocatoria a la cual respondieron firmas como SOLUCIONES INMEDIATAS, SOLUCIONES TECNOLOGICAS RG S.A.S y SYSTEM NET INGENIERIA SAS, a travéz de las propuesta presentadas mediante el procedimiento matemático de pronmedio simple se establecieron los precios techos para el desarrollo del proceso contractual.
A43: ELABORÓ | B43: Erica Milena Vargas Medina - Contrato 110-2025

Sheet listado de unidades
A1: UNIDADES
A2: Nombre | B2: Descripción
A3: µA | B3: Microamperio
A4: µGL | B4: Microgramos/Litro
A5: µGQ | B5: Microgramos/ Metro cúbico
A6: µM | B6: Micrómetro
A7: 2IN | B7: Pulgada cuadrada
A8: A | B8: Amperio
A9: ACR | B9: Acre
A10: ANO | B10: Año
A11: ARR | B11: Arroba
A12: AT | B12: Hierro atado
A13: BDN | B13: Bidón
... A186: YD | B186: Yarda
