Workbook

Sheet CONSOLIDADO 
A2: ANEXO - FORMATO OFERTA ECONOMICA
A3: “PRESTAR LOS SERVICIOS DE MANTENIMIENTO PREVENTIVO, PREDICTIVO Y CORRECTIVO CON SUMINISTROS DE REPUESTOS DE LOS VEHÍCULOS PROPIEDAD DEL CUERPO OFICIAL DE BOMBEROS DE BUCARAMANGA”
A4: VEHÍCULOS BOMBEROS DE BUCARAMANGA 2025
A5: No. | B5: ITEM | C5: CLASIFICACION VEHÍCULO | D5: DESCRIPCIÓN VEHÍCULO | E5: CANTIDAD VEHICULOS | F5: VALOR TOTAL INCLUIDO IMPUESTOS Y GRAVAMENES
A6: 1 | B6: XTZ | C6: MOTOS | D6: =+'1M XTZ'!A1:A1 -> YAMAHA XTZ 250 | E6: 6 | F6: =+'1M XTZ'!G118 -> 0
A7: 2 | B7: M5 | C7: ESPECIALIZADO | D7: =+'1E. M 5 '!A1:A1 -> FORD OSA 785 MODELO: 2001 | E7: 1 | F7: =+'1E. M 5 '!F618 -> 0
A8: 3 | B8: MAQ 18 | C8: ESPECIALIZADO | D8: =+'2E. MAQ 18 '!A1:A1 -> FREIGTHLINNER MERCEDES MODELO: 2003 | E8: 1 | F8: =+'2E. MAQ 18 '!F844 -> 0
A9: 4 | B9: MAQ 19 | C9: ESPECIALIZADO | D9: =+'3E. MAQ 19 '!A1:A1 -> TOYOTA FJ 25 OSA 783 MODELO: 2006 | E9: 1 | F9: =+'3E. MAQ 19 '!F549 -> 0
A10: 5 | B10: MAQ 20 | C10: ESPECIALIZADO | D10: =+'4E. MAQ 20 '!A1:A1 -> INTERNATIONAL OSA 784 MODELO: 2006 | E10: 1 | F10: =+'4E. MAQ 20 '!F844 -> 0
A11: 6 | B11: MAQ 21 | C11: ESPECIALIZADO | D11: =+'5E. MAQ 21'!A1:A1 -> KENWORTH T 370 OSA 840 MODELO: 2008 | E11: 1 | F11: =+'5E. MAQ 21'!F844 -> 0
A12: 7 | B12: MAQ 22 | C12: ESPECIALIZADO | D12: =+'6E. MAQ 22'!A1:A1 -> FREIGHTLINNER OSA 865 MODELO: 2010 | E12: 1 | F12: =+'6E. MAQ 22'!F844 -> 0
A13: 8 | B13: MAQ 23 | C13: ESPECIALIZADO | D13: =+'7E. MAQ 23'!A1:A1 -> INTERNATIONAL OSB 106 MODELO: 2014 | E13: 1 | F13: =+'7E. MAQ 23'!F844 -> 0
A14: 9 | B14: MAQ 24 | C14: ESPECIALIZADO | D14: =+'8E. MAQ 24'!A1:A1 -> INTERNATIONAL OSB 105 MODELO: 2014 | E14: 1 | F14: =+'8E. MAQ 24'!F844 -> 0
A15: 10 | B15: MAQ 25 | C15: ESPECIALIZADO | D15: =+'9E. MAQ 25'!A1:A1 -> FORD F550 OSB 107 MODELO: 2013 | E15: 1 | F15: =+'9E. MAQ 25'!F844 -> 0
A16: 11 | B16: MAQ 26 | C16: ESPECIALIZADO | D16: =+'10E. MAQ 26'!A1:A1 -> INTERNATIONAL OSB 164 MODELO: 2015 | E16: 1 | F16: =+'10E. MAQ 26'!F843 -> 0
A17: 12 | B17: MAQ 27 | C17: ESPECIALIZADO | D17: =+'11E. MAQ 27'!A1:A1 -> ROSENBAUER REFERENCIA L32AXS-FA MODELO: 2019 | E17: 1 | F17: =+'11E. MAQ 27'!F35 -> 0
A18: 13 | B18: MAQ 28 | C18: CAMIONETA | D18: =+'1C. MAQ 28-29-30'!A1:A1 -> NISSAN 4X4NP300 FRONTIER MODELO 2019 | E18: 3 | F18: =+ROUND('1C. MAQ 28-29-30'!F555,0) -> 0
A19: 14 | B19: MAQ 29
A20: 15 | B20: MAQ 30
A21: 16 | B21: M1 | C21: CAMIONETA | D21: =+'4C. M 1'!A1:A1 -> TOYOTA FORTUNER MODELO: 2015 | E21: 1 | F21: =+'4C. M 1'!F547 -> 0
A22: TOTAL INCLUIDO IMPUESTOD Y DEMAS GASTOS Y GRAVAMENES A LOS QUE HAYA LUGAR | F22: =SUM(F6:F21) -> 0
A24: VEHICULOS MOTOS | F24: =+F6 -> 0
A25: VEHICULOS ESPECIALIZADOS | F25: =+F7+F8+F9+F10+F11+F12+F13+F14+F15+F16+F17 -> 0
A26: VEHICULOS CAMIONETAS | F26: =+F21+F18 -> 0
A27: SUMATORIA TOTAL DE MANTENIMIENTO Y SUMINISTRO DE REPUESTOS | F27: =+F24+F25+F26 -> 0
A29: VALOR TOTAL PRESUPUESTO ESTABLECIDO | F29: 500000000
A30: Observación: El valor del presupuesto establecido por la entidad para este proceso contractual es una Bolsa a monto agotable, por lo tanto, no podra ser cambiado ni modificado.
A32: NOTA 1: Los valores con decimales deben aproximarse al número mas cercano y solo se tendrá en cuenta el valor entero.
A33: NOTA 2: Los valores unitarios y totales acá descritos contienen los impuestos, gravámenes y demás gastos a los que haya lugar
A34: NOTA 3: El valor total unitario determinado con la sumatoria de todos los ítems será la referencia para determinar el menor precio y es el mismo que el oferente deberá tener en cuenta para realizar la oferta económica.
A35: NOTA 4: El valor del presupuesto establecido por la entidad para este proceso contractual es una Bolsa a monto agotable, por lo tanto, no podra ser cambiado ni modificado.
A36: En aceptación al ofrecimiento de la oferta económica se firma en la ciudad de xxxxxxxxxxxxx, a los xxxxxx (xx) días, del mes xxx ,del año 202x
A37: _____________________________________________ FIRMA: NOMBRE DEL REPRESENTANTE LEGAL : NOMBRE O RAZON SOCIAL: NIT O CC.: DIRECCIÓN: CIUDAD: TELEFONO: E-MAIL:

Sheet 1M XTZ
A1: YAMAHA XTZ 250 | D1: Cantidad | E1: 6
A2: 6 | C2: GRUPOS
A3: Items mantenimiento sistemas | E3: MANTENIMIENTO | F3: REPUESTOS | G3: TOTAL
A5: Item | B5: UNSPSC | C5: MOTOR | D5: UND
A6: 1 | B6: 781815 | C6: CAMBIO SELLOS DE VÁLVULAS | D6: JUEGO
A7: 2 | B7: 781815 | C7: CAMBIO PASADOR BALANCÍN | D7: UND
A8: 3 | B8: 781815 | C8: CAMBIO RETEN CIGÜEÑAL IZQUIERDO | D8: UND
A9: 4 | B9: 781815 | C9: CAMBIO EMPAQUE TENSOR CADENILLA | D9: UND
A10: 5 | B10: 781815 | C10: CAMBIO EMPAQUES DEL MOTOR | D10: JUEGO
A11: 6 | B11: 781815 | C11: CAMBIO RETENES DEL MOTOR | D11: JUEGO
A12: 7 | B12: 781815 | C12: CAMBIO TORNILLO CULATA | D12: UND
A13: 8 | B13: 781815 | C13: CAMBIO TORNILLO BALANCIN | D13: UND
A14: 9 | B14: 781815 | C14: CAMBIO TUERCA BALANCIN | D14: UND
A15: 10 | B15: 781815 | C15: CAMBIO CADENILLA | D15: UND
A16: 11 | B16: 781815 | C16: CAMBIO GUÍA DE CADENILLA | D16: UND
A17: 12 | B17: 781815 | C17: CAMBIO TENSOR DE CADENILLA INTERNO | D17: UND
... A34: 29 | B34: 781815 | C34: CAMBIO DE ACEITE COMPLETO | D34: GLOBAL
C35: CAJA CAMBIOS
A36: 30 | B36: 781815 | C36: CAMBIO SELECTOR CAMBIOS | D36: UND
A37: 31 | B37: 781815 | C37: CAMBIO PIÑÓN PRIMERA | D37: UND
A38: 32 | B38: 781815 | C38: CAMBIO EJE DE CAMBIOS | D38: UND
A39: 33 | B39: 781815 | C39: CAMBIO PERA DE NEUTRO | D39: UND
A40: 34 | B40: 781815 | C40: CAMBIO RETENEDOR PALANCA CAMBIOS | D40: UND
A41: 35 | B41: 781815 | C41: CAMBIO RETENEDOR PIÑÓN ARRASTRE | D41: UND
C42: CLUTCH
A43: 36 | B43: 781815 | C43: CAMBIO PRENSA CLUTCH | D43: UND
A44: 37 | B44: 781815 | C44: CAMBIO PORTA DISCO | D44: UND
A45: 38 | B45: 781815 | C45: CAMBIO TAPA DE PRENSA | D45: UND
A46: 39 | B46: 781815 | C46: CAMBIO EMPAQUE TAPA CLUTCH | D46: UND
A47: 40 | B47: 781815 | C47: CAMBIO ANILLO CLUTCH ESPECIAL | D47: UND
A48: 41 | B48: 781815 | C48: CAMBIO EMPAQUE TAPA VOLANTE | D48: UND
A49: 42 | B49: 781815 | C49: CAMBIO PALANCA DE CAMBIOS | D49: UND
C50: TRANSMISIÓN
A51: 43 | B51: 781815 | C51: CAMBIO KIT DE ARRASTRE (CATALINA, PIÑON Y CADENA) | D51: GENERAL
A52: 44 | B52: 781815 | C52: CAMBIO ESPARRAGOS CATALINA | D52: UND
A53: 45 | B53: 781815 | C53: CAMBIO TUERCAS CATALINA | D53: UND
A54: 46 | B54: 781815 | C54: CAMBIO CHAVETA PIÑON ARRASTRE | D54: UND
A55: 47 | B55: 781815 | C55: CAMBIO DESLIZANTE CADENA | D55: UND
A56: 48 | B56: 781815 | C56: CAMBIO TENSOR CADENA | D56: UND
A57: 49 | B57: 781815 | C57: CAMBIO TAPA TENSOR CADENA | D57: UND
...

Sheet 1E. M 5 
A1: FORD OSA 785 MODELO: 2001
A2: 1 | C2: GRUPOS
A3: GRUPO 001. SISTEMA DE VENTILACION, CALEFACCION Y AIRE ACONDICIONADO | D3: MANTENIMIENTO | E3: REPUESTOS | F3: TOTAL
A4: CONCEPTO
A5: 001 | B5: BVB-001-001 | C5: Condensador, Ensamble de Radiador - Q y P
A6: 001 | B6: BVB-001-002 | C6: Reparacion condesador
A7: 001 | B7: BVB-001-003 | C7: Ventilador condensador Q y P
A8: 001 | B8: BVB-001-004 | C8: Lavado interno condensador (barrido)
A9: 001 | B9: BVB-001-005 | C9: Evaporador - Q y P
A10: 001 | B10: BVB-001-006 | C10: Reparacion evaporador
A11: 001 | B11: BVB-001-007 | C11: Lavado interno evaporador (barrido)
A12: 001 | B12: BVB-001-008 | C12: Válvula de Expansión - Q y P
A13: 001 | B13: BVB-001-009 | C13: Manguera de aire acondiconado Q yP
A14: 001 | B14: BVB-001-010 | C14: Ensamblar manguera de aire acondicionado
A15: 001 | B15: BVB-001-011 | C15: Ensamblar tubo de aire acondicionado
A16: 001 | B16: BVB-001-012 | C16: Barrido o limpieza tubo de aire acondicionado C/U
... A46: 001 | B46: BVB-001-042 | C46: Diagnostico codigos de falla del aire acondicionado
C47: TOTAL
A48: GRUPO 002. MOTOR
A49: CONCEPTO
A50: 002 | B50: BVB-002-001 | C50: Diagnostico electronico de motor
A51: 002 | B51: BVB-002-002 | C51: Modulo de motor D y M
A52: 002 | B52: BVB-002-003 | C52: Reparacion harnes electrico de motor
A53: 002 | B53: BVB-002-004 | C53: Harnes de motor D y M
A54: 002 | B54: BVB-002-005 | C54: Programacion modulo de motor
A55: 002 | B55: BVB-002-006 | C55: Calibracion modulo de motor
A56: 002 | B56: BVB-002-007 | C56: Escaner
A57: 002 | B57: BVB-002-008 | C57: Sensor de motor D y M
A58: 002 | B58: BVB-002-009 | C58: Actuador de motor D y M
A59: 002 | B59: BVB-002-010 | C59: Solenoide D y M
A60: 002 | B60: BVB-002-011 | C60: diagnostico de motor
A61: 002 | B61: BVB-002-012 | C61: Reparacion parcial de motor (6 CILINDROS)
... A142: 002 | B142: BVB-002-100 | C142: Reparacaion corto electrico
C143: TOTAL
A144: GRUPO 003 . FRENOS
A145: CONCEPTO
A146: 003 | B146: BVB-003-001 | C146: Rueda delantera Q y P
A147: 003 | B147: BVB-003-002 | C147: Soporte de la leva del freno (uno) - Q y P
A148: 003 | B148: BVB-003-003 | C148: Sellos y Eje de levas de los frenos (uno) - Q y P
A149: 003 | B149: BVB-003-004 | C149: Recámara de aire de los frenos delanteros (una) - Q y P
...

Sheet 2E. MAQ 18 
A1: FREIGTHLINNER MERCEDES MODELO: 2003
A2: 2 | C2: GRUPOS
A3: GRUPO 001. SISTEMA DE VENTILACION, CALEFACCION Y AIRE ACONDICIONADO | D3: MANTENIMIENTO | E3: REPUESTOS | F3: TOTAL
A4: CONCEPTO
A5: 001 | B5: BVB-001-001 | C5: Condensador, Ensamble de Radiador - Q y P
A6: 001 | B6: BVB-001-002 | C6: Reparacion condesador
A7: 001 | B7: BVB-001-003 | C7: Ventilador condensador Q y P
A8: 001 | B8: BVB-001-004 | C8: Lavado interno condensador (barrido)
A9: 001 | B9: BVB-001-005 | C9: Evaporador - Q y P
A10: 001 | B10: BVB-001-006 | C10: Reparacion evaporador
A11: 001 | B11: BVB-001-007 | C11: Lavado interno evaporador (barrido)
A12: 001 | B12: BVB-001-008 | C12: Válvula de Expansión - Q y P
A13: 001 | B13: BVB-001-009 | C13: Manguera de aire acondiconado Q yP
A14: 001 | B14: BVB-001-010 | C14: Ensamblar manguera de aire acondicionado
A15: 001 | B15: BVB-001-011 | C15: Ensamblar tubo de aire acondicionado
A16: 001 | B16: BVB-001-012 | C16: Barrido o limpieza tubo de aire acondicionado C/U
... A46: 001 | B46: BVB-001-042 | C46: Diagnostico codigos de falla del aire acondicionado
C47: TOTAL
A48: GRUPO 002. MOTOR
A49: CONCEPTO
A50: 002 | B50: BVB-002-001 | C50: Diagnostico electronico de motor
A51: 002 | B51: BVB-002-002 | C51: Modulo de motor D y M
A52: 002 | B52: BVB-002-003 | C52: Reparacion harnes electrico de motor
A53: 002 | B53: BVB-002-004 | C53: Harnes de motor D y M
A54: 002 | B54: BVB-002-005 | C54: Programacion modulo de motor
A55: 002 | B55: BVB-002-006 | C55: Calibracion modulo de motor
A56: 002 | B56: BVB-002-007 | C56: Escaner
A57: 002 | B57: BVB-002-008 | C57: Sensor de motor D y M
A58: 002 | B58: BVB-002-009 | C58: Actuador de motor D y M
A59: 002 | B59: BVB-002-010 | C59: Solenoide D y M
A60: 002 | B60: BVB-002-011 | C60: diagnostico de motor
A61: 002 | B61: BVB-002-012 | C61: Reparacion parcial de motor (6 CILINDROS)
... A142: 002 | B142: BVB-002-100 | C142: Reparacaion corto electrico
C143: TOTAL
A144: GRUPO 003 . FRENOS
A145: CONCEPTO
A146: 003 | B146: BVB-003-001 | C146: Rueda delantera Q y P
A147: 003 | B147: BVB-003-002 | C147: Soporte de la leva del freno (uno) - Q y P
A148: 003 | B148: BVB-003-003 | C148: Sellos y Eje de levas de los frenos (uno) - Q y P
A149: 003 | B149: BVB-003-004 | C149: Recámara de aire de los frenos delanteros (una) - Q y P
...

Sheet 3E. MAQ 19 
A1: TOYOTA FJ 25 OSA 783 MODELO: 2006
A2: 3 | C2: GRUPOS
A3: GRUPO 001. SISTEMA DE VENTILACION, CALEFACCION Y AIRE ACONDICIONADO | D3: MANTENIMIENTO | E3: REPUESTOS | F3: TOTAL
A4: CONCEPTO
A5: 001 | B5: BVB-001-001 | C5: Condensador, Ensamble de Radiador - Q y P
A6: 001 | B6: BVB-001-002 | C6: Reparacion condesador
A7: 001 | B7: BVB-001-003 | C7: Ventilador condensador Q y P
A8: 001 | B8: BVB-001-004 | C8: Lavado interno condensador (barrido)
A9: 001 | B9: BVB-001-005 | C9: Evaporador - Q y P
A10: 001 | B10: BVB-001-006 | C10: Reparacion evaporador
A11: 001 | B11: BVB-001-007 | C11: Lavado interno evaporador (barrido)
A12: 001 | B12: BVB-001-008 | C12: Válvula de Expansión - Q y P
A13: 001 | B13: BVB-001-009 | C13: Manguera de aire acondiconado Q yP
A14: 001 | B14: BVB-001-010 | C14: Ensamblar manguera de aire acondicionado
A15: 001 | B15: BVB-001-011 | C15: Ensamblar tubo de aire acondicionado
A16: 001 | B16: BVB-001-012 | C16: Barrido o limpieza tubo de aire acondicionado C/U
... A46: 001 | B46: BVB-001-042 | C46: Diagnostico codigos de falla del aire acondicionado
C47: TOTAL
A48: GRUPO 002. MOTOR
A49: CONCEPTO
A50: 002 | B50: BVB-002-001 | C50: Diagnostico electronico de motor
A51: 002 | B51: BVB-002-002 | C51: Modulo de motor D y M
A52: 002 | B52: BVB-002-003 | C52: Reparacion harnes electrico de motor
A53: 002 | B53: BVB-002-004 | C53: Harnes de motor D y M
A54: 002 | B54: BVB-002-005 | C54: Programacion modulo de motor
A55: 002 | B55: BVB-002-006 | C55: Calibracion modulo de motor
A56: 002 | B56: BVB-002-007 | C56: Escaner
A57: 002 | B57: BVB-002-008 | C57: Sensor de motor D y M
A58: 002 | B58: BVB-002-009 | C58: Actuador de motor D y M
A59: 002 | B59: BVB-002-010 | C59: Solenoide D y M
A60: 002 | B60: BVB-002-011 | C60: diagnostico de motor
A61: 002 | B61: BVB-002-012 | C61: Reparacion parcial de motor (6 CILINDROS)
... A142: 002 | B142: BVB-002-100 | C142: Reparacaion corto electrico
C143: TOTAL
A144: GRUPO 003 . FRENOS
A145: CONCEPTO
A146: 003 | B146: BVB-003-001 | C146: Rueda delantera Q y P
A147: 003 | B147: BVB-003-002 | C147: Ensamble Caliper del freno (una sola rueda) - Q y P
A148: 003 | B148: BVB-003-003 | C148: Zapatas de los frenos (una sola rueda) - Q y P
A149: 003 | B149: BVB-003-004 | C149: Ajustador del freno - delantero (uno) - Q y P
...

Sheet 4E. MAQ 20 
A1: INTERNATIONAL OSA 784 MODELO: 2006
A2: 4 | C2: GRUPOS
A3: GRUPO 001. SISTEMA DE VENTILACION, CALEFACCION Y AIRE ACONDICIONADO | D3: MANTENIMIENTO | E3: REPUESTOS | F3: TOTAL
A4: CONCEPTO
A5: 001 | B5: BVB-001-001 | C5: Condensador, Ensamble de Radiador - Q y P
A6: 001 | B6: BVB-001-002 | C6: Reparacion condesador
A7: 001 | B7: BVB-001-003 | C7: Ventilador condensador Q y P
A8: 001 | B8: BVB-001-004 | C8: Lavado interno condensador (barrido)
A9: 001 | B9: BVB-001-005 | C9: Evaporador - Q y P
A10: 001 | B10: BVB-001-006 | C10: Reparacion evaporador
A11: 001 | B11: BVB-001-007 | C11: Lavado interno evaporador (barrido)
A12: 001 | B12: BVB-001-008 | C12: Válvula de Expansión - Q y P
A13: 001 | B13: BVB-001-009 | C13: Manguera de aire acondiconado Q yP
A14: 001 | B14: BVB-001-010 | C14: Ensamblar manguera de aire acondicionado
A15: 001 | B15: BVB-001-011 | C15: Ensamblar tubo de aire acondicionado
A16: 001 | B16: BVB-001-012 | C16: Barrido o limpieza tubo de aire acondicionado C/U
... A46: 001 | B46: BVB-001-042 | C46: Diagnostico codigos de falla del aire acondicionado
C47: TOTAL
A48: GRUPO 002. MOTOR
A49: CONCEPTO
A50: 002 | B50: BVB-002-001 | C50: Diagnostico electronico de motor
A51: 002 | B51: BVB-002-002 | C51: Modulo de motor D y M
A52: 002 | B52: BVB-002-003 | C52: Reparacion harnes electrico de motor
A53: 002 | B53: BVB-002-004 | C53: Harnes de motor D y M
A54: 002 | B54: BVB-002-005 | C54: Programacion modulo de motor
A55: 002 | B55: BVB-002-006 | C55: Calibracion modulo de motor
A56: 002 | B56: BVB-002-007 | C56: Escaner
A57: 002 | B57: BVB-002-008 | C57: Sensor de motor D y M
A58: 002 | B58: BVB-002-009 | C58: Actuador de motor D y M
A59: 002 | B59: BVB-002-010 | C59: Solenoide D y M
A60: 002 | B60: BVB-002-011 | C60: diagnostico de motor
A61: 002 | B61: BVB-002-012 | C61: Reparacion parcial de motor (6 CILINDROS)
... A142: 002 | B142: BVB-002-100 | C142: Reparacaion corto electrico
C143: TOTAL
A144: GRUPO 003 . FRENOS
A145: CONCEPTO
A146: 003 | B146: BVB-003-001 | C146: Rueda delantera Q y P
A147: 003 | B147: BVB-003-002 | C147: Soporte de la leva del freno (uno) - Q y P
A148: 003 | B148: BVB-003-003 | C148: Sellos y Eje de levas de los frenos (uno) - Q y P
A149: 003 | B149: BVB-003-004 | C149: Recámara de aire de los frenos delanteros (una) - Q y P
...

Sheet 5E. MAQ 21
A1: KENWORTH T 370 OSA 840 MODELO: 2008
A2: 5 | C2: GRUPOS
A3: GRUPO 001. SISTEMA DE VENTILACION, CALEFACCION Y AIRE ACONDICIONADO | D3: MANTENIMIENTO | E3: REPUESTOS | F3: TOTAL
A4: CONCEPTO
A5: 001 | B5: BVB-001-001 | C5: Condensador, Ensamble de Radiador - Q y P
A6: 001 | B6: BVB-001-002 | C6: Reparacion condesador
A7: 001 | B7: BVB-001-003 | C7: Ventilador condensador Q y P
A8: 001 | B8: BVB-001-004 | C8: Lavado interno condensador (barrido)
A9: 001 | B9: BVB-001-005 | C9: Evaporador - Q y P
A10: 001 | B10: BVB-001-006 | C10: Reparacion evaporador
A11: 001 | B11: BVB-001-007 | C11: Lavado interno evaporador (barrido)
A12: 001 | B12: BVB-001-008 | C12: Válvula de Expansión - Q y P
A13: 001 | B13: BVB-001-009 | C13: Manguera de aire acondiconado Q yP
A14: 001 | B14: BVB-001-010 | C14: Ensamblar manguera de aire acondicionado
A15: 001 | B15: BVB-001-011 | C15: Ensamblar tubo de aire acondicionado
A16: 001 | B16: BVB-001-012 | C16: Barrido o limpieza tubo de aire acondicionado C/U
... A46: 001 | B46: BVB-001-042 | C46: Diagnostico codigos de falla del aire acondicionado
C47: TOTAL
A48: GRUPO 002. MOTOR
A49: CONCEPTO
A50: 002 | B50: BVB-002-001 | C50: Diagnostico electronico de motor
A51: 002 | B51: BVB-002-002 | C51: Modulo de motor D y M
A52: 002 | B52: BVB-002-003 | C52: Reparacion harnes electrico de motor
A53: 002 | B53: BVB-002-004 | C53: Harnes de motor D y M
A54: 002 | B54: BVB-002-005 | C54: Programacion modulo de motor
A55: 002 | B55: BVB-002-006 | C55: Calibracion modulo de motor
A56: 002 | B56: BVB-002-007 | C56: Escaner
A57: 002 | B57: BVB-002-008 | C57: Sensor de motor D y M
A58: 002 | B58: BVB-002-009 | C58: Actuador de motor D y M
A59: 002 | B59: BVB-002-010 | C59: Solenoide D y M
A60: 002 | B60: BVB-002-011 | C60: diagnostico de motor
A61: 002 | B61: BVB-002-012 | C61: Reparacion parcial de motor (6 CILINDROS)
... A142: 002 | B142: BVB-002-100 | C142: Reparacaion corto electrico
C143: TOTAL
A144: GRUPO 003 . FRENOS
A145: CONCEPTO
A146: 003 | B146: BVB-003-001 | C146: Rueda delantera Q y P
A147: 003 | B147: BVB-003-002 | C147: Soporte de la leva del freno (uno) - Q y P
A148: 003 | B148: BVB-003-003 | C148: Sellos y Eje de levas de los frenos (uno) - Q y P
A149: 003 | B149: BVB-003-004 | C149: Recámara de aire de los frenos delanteros (una) - Q y P
...

Sheet 6E. MAQ 22
A1: FREIGHTLINNER OSA 865 MODELO: 2010
A2: 6 | C2: GRUPOS
A3: GRUPO 001. SISTEMA DE VENTILACION, CALEFACCION Y AIRE ACONDICIONADO | D3: MANTENIMIENTO | E3: REPUESTOS | F3: TOTAL
A4: CONCEPTO
A5: 001 | B5: BVB-001-001 | C5: Condensador, Ensamble de Radiador - Q y P
A6: 001 | B6: BVB-001-002 | C6: Reparacion condesador
A7: 001 | B7: BVB-001-003 | C7: Ventilador condensador Q y P
A8: 001 | B8: BVB-001-004 | C8: Lavado interno condensador (barrido)
A9: 001 | B9: BVB-001-005 | C9: Evaporador - Q y P
A10: 001 | B10: BVB-001-006 | C10: Reparacion evaporador
A11: 001 | B11: BVB-001-007 | C11: Lavado interno evaporador (barrido)
A12: 001 | B12: BVB-001-008 | C12: Válvula de Expansión - Q y P
A13: 001 | B13: BVB-001-009 | C13: Manguera de aire acondiconado Q yP
A14: 001 | B14: BVB-001-010 | C14: Ensamblar manguera de aire acondicionado
A15: 001 | B15: BVB-001-011 | C15: Ensamblar tubo de aire acondicionado
A16: 001 | B16: BVB-001-012 | C16: Barrido o limpieza tubo de aire acondicionado C/U
... A46: 001 | B46: BVB-001-042 | C46: Diagnostico codigos de falla del aire acondicionado
C47: TOTAL
A48: GRUPO 002. MOTOR
A49: CONCEPTO
A50: 002 | B50: BVB-002-001 | C50: Diagnostico electronico de motor
A51: 002 | B51: BVB-002-002 | C51: Modulo de motor D y M
A52: 002 | B52: BVB-002-003 | C52: Reparacion harnes electrico de motor
A53: 002 | B53: BVB-002-004 | C53: Harnes de motor D y M
A54: 002 | B54: BVB-002-005 | C54: Programacion modulo de motor
A55: 002 | B55: BVB-002-006 | C55: Calibracion modulo de motor
A56: 002 | B56: BVB-002-007 | C56: Escaner
A57: 002 | B57: BVB-002-008 | C57: Sensor de motor D y M
A58: 002 | B58: BVB-002-009 | C58: Actuador de motor D y M
A59: 002 | B59: BVB-002-010 | C59: Solenoide D y M
A60: 002 | B60: BVB-002-011 | C60: diagnostico de motor
A61: 002 | B61: BVB-002-012 | C61: Reparacion parcial de motor (6 CILINDROS)
... A142: 002 | B142: BVB-002-100 | C142: Reparacaion corto electrico
C143: TOTAL
A144: GRUPO 003 . FRENOS
A145: CONCEPTO
A146: 003 | B146: BVB-003-001 | C146: Rueda delantera Q y P
A147: 003 | B147: BVB-003-002 | C147: Soporte de la leva del freno (uno) - Q y P
A148: 003 | B148: BVB-003-003 | C148: Sellos y Eje de levas de los frenos (uno) - Q y P
A149: 003 | B149: BVB-003-004 | C149: Recámara de aire de los frenos delanteros (una) - Q y P
...

Sheet 7E. MAQ 23
A1: INTERNATIONAL OSB 106 MODELO: 2014
A2: 7 | C2: GRUPOS
A3: GRUPO 001. SISTEMA DE VENTILACION, CALEFACCION Y AIRE ACONDICIONADO | D3: MANTENIMIENTO | E3: REPUESTOS | F3: TOTAL
A4: CONCEPTO
A5: 001 | B5: BVB-001-001 | C5: Condensador, Ensamble de Radiador - Q y P
A6: 001 | B6: BVB-001-002 | C6: Reparacion condesador
A7: 001 | B7: BVB-001-003 | C7: Ventilador condensador Q y P
A8: 001 | B8: BVB-001-004 | C8: Lavado interno condensador (barrido)
A9: 001 | B9: BVB-001-005 | C9: Evaporador - Q y P
A10: 001 | B10: BVB-001-006 | C10: Reparacion evaporador
A11: 001 | B11: BVB-001-007 | C11: Lavado interno evaporador (barrido)
A12: 001 | B12: BVB-001-008 | C12: Válvula de Expansión - Q y P
A13: 001 | B13: BVB-001-009 | C13: Manguera de aire acondiconado Q yP
A14: 001 | B14: BVB-001-010 | C14: Ensamblar manguera de aire acondicionado
A15: 001 | B15: BVB-001-011 | C15: Ensamblar tubo de aire acondicionado
A16: 001 | B16: BVB-001-012 | C16: Barrido o limpieza tubo de aire acondicionado C/U
... A46: 001 | B46: BVB-001-042 | C46: Diagnostico codigos de falla del aire acondicionado
C47: TOTAL
A48: GRUPO 002. MOTOR
A49: CONCEPTO
A50: 002 | B50: BVB-002-001 | C50: Diagnostico electronico de motor
A51: 002 | B51: BVB-002-002 | C51: Modulo de motor D y M
A52: 002 | B52: BVB-002-003 | C52: Reparacion harnes electrico de motor
A53: 002 | B53: BVB-002-004 | C53: Harnes de motor D y M
A54: 002 | B54: BVB-002-005 | C54: Programacion modulo de motor
A55: 002 | B55: BVB-002-006 | C55: Calibracion modulo de motor
A56: 002 | B56: BVB-002-007 | C56: Escaner
A57: 002 | B57: BVB-002-008 | C57: Sensor de motor D y M
A58: 002 | B58: BVB-002-009 | C58: Actuador de motor D y M
A59: 002 | B59: BVB-002-010 | C59: Solenoide D y M
A60: 002 | B60: BVB-002-011 | C60: diagnostico de motor
A61: 002 | B61: BVB-002-012 | C61: Reparacion parcial de motor (6 CILINDROS)
... A142: 002 | B142: BVB-002-100 | C142: Reparacaion corto electrico
C143: TOTAL
A144: GRUPO 003 . FRENOS
A145: CONCEPTO
A146: 003 | B146: BVB-003-001 | C146: Rueda delantera Q y P
A147: 003 | B147: BVB-003-002 | C147: Soporte de la leva del freno (uno) - Q y P
A148: 003 | B148: BVB-003-003 | C148: Sellos y Eje de levas de los frenos (uno) - Q y P
A149: 003 | B149: BVB-003-004 | C149: Recámara de aire de los frenos delanteros (una) - Q y P
...

Sheet 8E. MAQ 24
A1: INTERNATIONAL OSB 105 MODELO: 2014
A2: 8 | C2: GRUPOS
A3: GRUPO 001. SISTEMA DE VENTILACION, CALEFACCION Y AIRE ACONDICIONADO | D3: MANTENIMIENTO | E3: REPUESTOS | F3: TOTAL
A4: CONCEPTO
A5: 001 | B5: BVB-001-001 | C5: Condensador, Ensamble de Radiador - Q y P
A6: 001 | B6: BVB-001-002 | C6: Reparacion condesador
A7: 001 | B7: BVB-001-003 | C7: Ventilador condensador Q y P
A8: 001 | B8: BVB-001-004 | C8: Lavado interno condensador (barrido)
A9: 001 | B9: BVB-001-005 | C9: Evaporador - Q y P
A10: 001 | B10: BVB-001-006 | C10: Reparacion evaporador
A11: 001 | B11: BVB-001-007 | C11: Lavado interno evaporador (barrido)
A12: 001 | B12: BVB-001-008 | C12: Válvula de Expansión - Q y P
A13: 001 | B13: BVB-001-009 | C13: Manguera de aire acondiconado Q yP
A14: 001 | B14: BVB-001-010 | C14: Ensamblar manguera de aire acondicionado
A15: 001 | B15: BVB-001-011 | C15: Ensamblar tubo de aire acondicionado
A16: 001 | B16: BVB-001-012 | C16: Barrido o limpieza tubo de aire acondicionado C/U
... A46: 001 | B46: BVB-001-042 | C46: Diagnostico codigos de falla del aire acondicionado
C47: TOTAL
A48: GRUPO 002. MOTOR
A49: CONCEPTO
A50: 002 | B50: BVB-002-001 | C50: Diagnostico electronico de motor
A51: 002 | B51: BVB-002-002 | C51: Modulo de motor D y M
A52: 002 | B52: BVB-002-003 | C52: Reparacion harnes electrico de motor
A53: 002 | B53: BVB-002-004 | C53: Harnes de motor D y M
A54: 002 | B54: BVB-002-005 | C54: Programacion modulo de motor
A55: 002 | B55: BVB-002-006 | C55: Calibracion modulo de motor
A56: 002 | B56: BVB-002-007 | C56: Escaner
A57: 002 | B57: BVB-002-008 | C57: Sensor de motor D y M
A58: 002 | B58: BVB-002-009 | C58: Actuador de motor D y M
A59: 002 | B59: BVB-002-010 | C59: Solenoide D y M
A60: 002 | B60: BVB-002-011 | C60: diagnostico de motor
A61: 002 | B61: BVB-002-012 | C61: Reparacion parcial de motor (6 CILINDROS)
... A142: 002 | B142: BVB-002-100 | C142: Reparacaion corto electrico
C143: TOTAL
A144: GRUPO 003 . FRENOS
A145: CONCEPTO
A146: 003 | B146: BVB-003-001 | C146: Rueda delantera Q y P
A147: 003 | B147: BVB-003-002 | C147: Soporte de la leva del freno (uno) - Q y P
A148: 003 | B148: BVB-003-003 | C148: Sellos y Eje de levas de los frenos (uno) - Q y P
A149: 003 | B149: BVB-003-004 | C149: Recámara de aire de los frenos delanteros (una) - Q y P
...

Sheet 9E. MAQ 25
A1: FORD F550 OSB 107 MODELO: 2013
A2: 9 | C2: GRUPOS
A3: GRUPO 001. SISTEMA DE VENTILACION, CALEFACCION Y AIRE ACONDICIONADO | D3: MANTENIMIENTO | E3: REPUESTOS | F3: TOTAL
A4: CONCEPTO
A5: 001 | B5: BVB-001-001 | C5: Condensador, Ensamble de Radiador - Q y P
A6: 001 | B6: BVB-001-002 | C6: Reparacion condesador
A7: 001 | B7: BVB-001-003 | C7: Ventilador condensador Q y P
A8: 001 | B8: BVB-001-004 | C8: Lavado interno condensador (barrido)
A9: 001 | B9: BVB-001-005 | C9: Evaporador - Q y P
A10: 001 | B10: BVB-001-006 | C10: Reparacion evaporador
A11: 001 | B11: BVB-001-007 | C11: Lavado interno evaporador (barrido)
A12: 001 | B12: BVB-001-008 | C12: Válvula de Expansión - Q y P
A13: 001 | B13: BVB-001-009 | C13: Manguera de aire acondiconado Q yP
A14: 001 | B14: BVB-001-010 | C14: Ensamblar manguera de aire acondicionado
A15: 001 | B15: BVB-001-011 | C15: Ensamblar tubo de aire acondicionado
A16: 001 | B16: BVB-001-012 | C16: Barrido o limpieza tubo de aire acondicionado C/U
... A46: 001 | B46: BVB-001-042 | C46: Diagnostico codigos de falla del aire acondicionado
C47: TOTAL
A48: GRUPO 002. MOTOR
A49: CONCEPTO
A50: 002 | B50: BVB-002-001 | C50: Diagnostico electronico de motor
A51: 002 | B51: BVB-002-002 | C51: Modulo de motor D y M
A52: 002 | B52: BVB-002-003 | C52: Reparacion harnes electrico de motor
A53: 002 | B53: BVB-002-004 | C53: Harnes de motor D y M
A54: 002 | B54: BVB-002-005 | C54: Programacion modulo de motor
A55: 002 | B55: BVB-002-006 | C55: Calibracion modulo de motor
A56: 002 | B56: BVB-002-007 | C56: Escaner
A57: 002 | B57: BVB-002-008 | C57: Sensor de motor D y M
A58: 002 | B58: BVB-002-009 | C58: Actuador de motor D y M
A59: 002 | B59: BVB-002-010 | C59: Solenoide D y M
A60: 002 | B60: BVB-002-011 | C60: diagnostico de motor
A61: 002 | B61: BVB-002-012 | C61: Reparacion parcial de motor (6 CILINDROS)
... A142: 002 | B142: BVB-002-100 | C142: Reparacaion corto electrico
C143: TOTAL
A144: GRUPO 003 . FRENOS
A145: CONCEPTO
A146: 003 | B146: BVB-003-001 | C146: Rueda delantera Q y P
A147: 003 | B147: BVB-003-002 | C147: Soporte de la leva del freno (uno) - Q y P
A148: 003 | B148: BVB-003-003 | C148: Sellos y Eje de levas de los frenos (uno) - Q y P
A149: 003 | B149: BVB-003-004 | C149: Recámara de aire de los frenos delanteros (una) - Q y P
...

Sheet 10E. MAQ 26
A1: INTERNATIONAL OSB 164 MODELO: 2015
A2: 10 | C2: GRUPOS
A3: GRUPO 001. SISTEMA DE VENTILACION, CALEFACCION Y AIRE ACONDICIONADO | D3: MANTENIMIENTO | E3: REPUESTOS | F3: TOTAL
A4: CONCEPTO
A5: 001 | B5: BVB-001-001 | C5: Condensador, Ensamble de Condensador - Q y P
A6: 001 | B6: BVB-001-002 | C6: Reparacion condesador
A7: 001 | B7: BVB-001-003 | C7: Ventilador condensador Q y P
A8: 001 | B8: BVB-001-004 | C8: Lavado interno condensador (barrido)
A9: 001 | B9: BVB-001-005 | C9: Evaporador - Q y P
A10: 001 | B10: BVB-001-006 | C10: Reparacion evaporador
A11: 001 | B11: BVB-001-007 | C11: Lavado interno evaporador (barrido)
A12: 001 | B12: BVB-001-008 | C12: Válvula de Expansión - Q y P
A13: 001 | B13: BVB-001-009 | C13: Manguera de aire acondiconado Q yP
A14: 001 | B14: BVB-001-010 | C14: Ensamblar manguera de aire acondicionado
A15: 001 | B15: BVB-001-011 | C15: Ensamblar tubo de aire acondicionado
A16: 001 | B16: BVB-001-012 | C16: Barrido o limpieza tubo de aire acondicionado C/U
... A46: 001 | B46: BVB-001-042 | C46: Diagnostico con escaner automotriz del sistema de control del aire acondicionado y reinicio de valores de adaptacion (si aplica)
A47: TOTAL
C48: GRUPO 002. MOTOR
C49: CONCEPTO
A50: 002 | B50: BVB-002-001 | C50: Diagnostico con escaner automotriz del sistema de control electronico del motor y reinicio de valores de adaptacion (si aplica)
A51: 002 | B51: BVB-002-002 | C51: Modulo de motor Q y P
A52: 002 | B52: BVB-002-003 | C52: Reparacion harnes electrico de motor
A53: 002 | B53: BVB-002-004 | C53: Harnes de motor Q y P
A54: 002 | B54: BVB-002-005 | C54: Programacion modulo de motor
A55: 002 | B55: BVB-002-006 | C55: Calibracion modulo de motor
A56: 002 | B56: BVB-002-007 | C56: Escaner
A57: 002 | B57: BVB-002-008 | C57: Sensor de motor D y M
A58: 002 | B58: BVB-002-009 | C58: Actuador de motor D y M
A59: 002 | B59: BVB-002-010 | C59: Solenoide D y M
A60: 002 | B60: BVB-002-011 | C60: Diagnostico de motor (pruebas de: compresion y Fugas)
A61: 002 | B61: BVB-002-012 | C61: Reparacion parcial de motor (6 CILINDROS)(con mantenimiento a culata)
... A141: 002 | B141: BVB-002-100 | C141: Reparacaion corto electrico
A142: TOTAL
A143: GRUPO 003 . FRENOS
A144: CONCEPTO
A145: 003 | B145: BVB-003-001 | C145: Rueda delantera Q y P
A146: 003 | B146: BVB-003-002 | C146: Soporte de la leva del freno (uno) - Q y P
A147: 003 | B147: BVB-003-003 | C147: Sellos y Eje de levas de los frenos (uno) - Q y P
A148: 003 | B148: BVB-003-004 | C148: Recámara de aire de los frenos delanteros (una) - Q y P
...

Sheet 11E. MAQ 27
A1: ROSENBAUER REFERENCIA L32AXS-FA MODELO: 2019
A2: 11 | C2: GRUPOS
A3: GRUPO 002. MOTOR
A4: CONCEPTO | D4: MANTENIMIENTO | E4: REPUESTOS | F4: TOTAL
A5: 002 | B5: BVB-002-079 | C5: Cambio de aceite
A6: 002 | B6: BVB-002-080 | C6: Cambio filtro de combustible
A7: 002 | B7: BVB-002-081 | C7: Cambio filtro trampa
A8: 002 | B8: BVB-002-082 | C8: Cambio filtro de agua
A9: 002 | B9: BVB-002-083 | C9: Cambio filtro de aire
A10: 002 | B10: BVB-002-084 | C10: Cambio filtro de aceite
A11: TOTAL
A12: GRUPO 014. SISTEMA DE ARRANQUE
A13: CONCEPTO
A14: 014 | B14: BVB-014-001 | C14: Cable, Tierra de Batería - Q y P
A15: 014 | B15: BVB-014-002 | C15: Cable, De la Batería al Arrancador - Q y P
A16: 014 | B16: BVB-014-003 | C16: Batería - Q y P una
A17: 014 | B17: BVB-014-004 | C17: Diagnostico sistema de arranque
A18: 014 | B18: BVB-014-XXX | C18: - Mano de Obra Miscelánea.
A19: TOTAL
A20: GRUPO 021. SISTEMA DE LUBRICACION
A21: CONCEPTO
A22: 021 | B22: BVB-021-001 | C22: Tubo de la Bayoneta de medición de aceite - Q y P
A23: 021 | B23: BVB-021-002 | C23: Placa de llenado del aceite - Q y P
A24: 021 | B24: BVB-021-003 | C24: Tubo de Llenado del aceite - Q y P
A25: 021 | B25: BVB-021-004 | C25: Ensamble del filtro de derivación o desviación de aceite - Q y P
A26: 021 | B26: BVB-021-005 | C26: Fleje de montaje del filtro de aceite (uno) - Q y P
A27: 021 | B27: BVB-021-006 | C27: Ensamble completo del filtro de aceite de flujo completo - Q y P
A28: 021 | B28: BVB-021-007 | C28: Drenar y rellenar aceite lubricante
A29: TOTAL
A30: GRUPO 027 EQUIPO CONTRA INCENDIOS PRUEBAS DE RENDIMIENTO BOMBA
A31: CONCEPTO
A32: 027 | C32: Pruba de funcionamiento de sistema de escalera.
A33: 027 | C33: Llevar a cabo el mantenimiento preventivo y correctivo de los sistemas de control electrónico pertenecientes a los tableros de control.
A34: TOTAL
A35: =+'1C. MAQ 28-29-30'!A555 -> Total Incuidos Impuestos y Demas gastos y Gravamenes a los que Haya Lugar
A37: NOTA 1: Los valores con decimales deben aproximarse al número mas cercano y solo se tendrá en cuenta el valor entero.
A38: NOTA 2: Los valores unitarios y totales acá descritos contienen los impuestos, gravámenes y demás gastos a los que haya lugar
A39: NOTA 3: El valor total unitario determinado con la sumatoria de todos los ítems será la referencia para determinar el menor precio y es el mismo que el oferente deberá tener en cuenta para realizar la oferta económica.
A40: NOTA 4: El valor del presupuesto establecido por la entidad para este proceso contractual es una Bolsa a monto agotable, por lo tanto, no podra ser cambiado ni modificado.
A41: En aceptación al ofrecimiento de la oferta económica se firma en la ciudad de xxxxxxxxxxxxx, a los xxxxxx (xx) días, del mes xxx ,del año 202x
...

Sheet 1C. MAQ 28-29-30
A1: NISSAN 4X4NP300 FRONTIER MODELO 2019 | D1: CANT | E1: 3
A2: 3 | C2: GRUPOS
A3: GRUPO 001. SISTEMA DE VENTILACION, CALEFACCION Y AIRE ACONDICIONADO | D3: MANTENIMIENTO | E3: REPUESTOS | F3: TOTAL
A4: CONCEPTO
A5: 001 | B5: BVB-001-001 | C5: Condensador, Ensamble de Radiador - Q y P
A6: 001 | B6: BVB-001-002 | C6: Reparacion condesador
A7: 001 | B7: BVB-001-003 | C7: Ventilador condensador Q y P
A8: 001 | B8: BVB-001-004 | C8: Lavado interno condensador (barrido)
A9: 001 | B9: BVB-001-005 | C9: Evaporador - Q y P
A10: 001 | B10: BVB-001-006 | C10: Reparacion evaporador
A11: 001 | B11: BVB-001-007 | C11: Lavado interno evaporador (barrido)
A12: 001 | B12: BVB-001-008 | C12: Válvula de Expansión - Q y P
A13: 001 | B13: BVB-001-009 | C13: Manguera de aire acondiconado Q yP
A14: 001 | B14: BVB-001-010 | C14: Ensamblar manguera de aire acondicionado
A15: 001 | B15: BVB-001-011 | C15: Ensamblar tubo de aire acondicionado
A16: 001 | B16: BVB-001-012 | C16: Barrido o limpieza tubo de aire acondicionado C/U
... A46: 001 | B46: BVB-001-042 | C46: Diagnostico codigos de falla del aire acondicionado
C47: TOTAL
A48: GRUPO 002. MOTOR
A49: CONCEPTO
A50: 002 | B50: BVB-002-001 | C50: Diagnostico electronico de motor
A51: 002 | B51: BVB-002-002 | C51: Modulo de motor D y M
A52: 002 | B52: BVB-002-003 | C52: Reparacion harnes electrico de motor
A53: 002 | B53: BVB-002-004 | C53: Harnes de motor D y M
A54: 002 | B54: BVB-002-005 | C54: Programacion modulo de motor
A55: 002 | B55: BVB-002-006 | C55: Calibracion modulo de motor
A56: 002 | B56: BVB-002-007 | C56: Escaner
A57: 002 | B57: BVB-002-008 | C57: Sensor de motor D y M
A58: 002 | B58: BVB-002-009 | C58: Actuador de motor D y M
A59: 002 | B59: BVB-002-010 | C59: Solenoide D y M
A60: 002 | B60: BVB-002-011 | C60: diagnostico de motor
A61: 002 | B61: BVB-002-012 | C61: Reparacion parcial de motor (6 CILINDROS)
... A142: 002 | B142: BVB-002-100 | C142: Reparacaion corto electrico
C143: TOTAL
A144: GRUPO 003 . FRENOS
A145: CONCEPTO
A146: 003 | B146: BVB-003-001 | C146: Rueda delantera Q y P
A147: 003 | B147: BVB-003-002 | C147: Ensamble Caliper del freno (una sola rueda) - Q y P
A148: 003 | B148: BVB-003-003 | C148: Zapatas de los frenos traseros - Q y P
A149: 003 | B149: BVB-003-004 | C149: Cambio pastillas freno delantero
...

Sheet 4C. M 1
A1: TOYOTA FORTUNER MODELO: 2015
A2: 4 | C2: GRUPOS
A3: GRUPO 001. SISTEMA DE VENTILACION, CALEFACCION Y AIRE ACONDICIONADO | D3: MANTENIMIENTO | E3: REPUESTOS | F3: TOTAL
A4: CONCEPTO
A5: 001 | B5: BVB-001-001 | C5: Condensador, Ensamble de Radiador - Q y P
A6: 001 | B6: BVB-001-002 | C6: Reparacion condesador
A7: 001 | B7: BVB-001-003 | C7: Ventilador condensador Q y P
A8: 001 | B8: BVB-001-004 | C8: Lavado interno condensador (barrido)
A9: 001 | B9: BVB-001-005 | C9: Evaporador - Q y P
A10: 001 | B10: BVB-001-006 | C10: Reparacion evaporador
A11: 001 | B11: BVB-001-007 | C11: Lavado interno evaporador (barrido)
A12: 001 | B12: BVB-001-008 | C12: Válvula de Expansión - Q y P
A13: 001 | B13: BVB-001-009 | C13: Manguera de aire acondiconado Q yP
A14: 001 | B14: BVB-001-010 | C14: Ensamblar manguera de aire acondicionado
A15: 001 | B15: BVB-001-011 | C15: Ensamblar tubo de aire acondicionado
A16: 001 | B16: BVB-001-012 | C16: Barrido o limpieza tubo de aire acondicionado C/U
... A46: 001 | B46: BVB-001-042 | C46: Diagnostico codigos de falla del aire acondicionado
C47: TOTAL
A48: GRUPO 002. MOTOR
A49: CONCEPTO
A50: 002 | B50: BVB-002-001 | C50: Diagnostico electronico de motor
A51: 002 | B51: BVB-002-002 | C51: Modulo de motor D y M
A52: 002 | B52: BVB-002-003 | C52: Reparacion harnes electrico de motor
A53: 002 | B53: BVB-002-004 | C53: Harnes de motor D y M
A54: 002 | B54: BVB-002-005 | C54: Programacion modulo de motor
A55: 002 | B55: BVB-002-006 | C55: Calibracion modulo de motor
A56: 002 | B56: BVB-002-007 | C56: Escaner
A57: 002 | B57: BVB-002-008 | C57: Sensor de motor D y M
A58: 002 | B58: BVB-002-009 | C58: Actuador de motor D y M
A59: 002 | B59: BVB-002-010 | C59: Solenoide D y M
A60: 002 | B60: BVB-002-011 | C60: diagnostico de motor
A61: 002 | B61: BVB-002-012 | C61: Reparacion parcial de motor (6 CILINDROS)
... A142: 002 | B142: BVB-002-100 | C142: Reparacaion corto electrico
C143: TOTAL
A144: GRUPO 003 . FRENOS
A145: CONCEPTO
A146: 003 | B146: BVB-003-001 | C146: Rueda delantera Q y P
A147: 003 | B147: BVB-003-002 | C147: Ensamble Caliper del freno (una sola rueda) - Q y P
A148: 003 | B148: BVB-003-003 | C148: Zapatas de los frenos traseros - Q y P
A149: 003 | B149: BVB-003-004 | C149: Cambio pastillas freno delantero
...
