Workbook
Name __EST1: #REF!
Name __EST1: #REF!
Name __EST1: #REF!
Name __EST1: #REF!
Name __EST10: #REF!
Name __EST10: #REF!
Name __EST10: #REF!
Name __EST10: #REF!
Name __EST11: #REF!
Name __EST11: #REF!
Name __EST11: #REF!
Name __EST11: #REF!
Name __EST12: #REF!
Name __EST12: #REF!
Name __EST12: #REF!
Name __EST12: #REF!
Name __EST13: #REF!
Name __EST13: #REF!
Name __EST13: #REF!
Name __EST13: #REF!
Name __EST14: #REF!
Name __EST14: #REF!
Name __EST14: #REF!
Name __EST14: #REF!
Name __EST15: #REF!
Name __EST15: #REF!
Name __EST15: #REF!
Name __EST15: #REF!
Name __EST16: #REF!
Name __EST16: #REF!
Name __EST16: #REF!
Name __EST16: #REF!
Name __EST17: #REF!
Name __EST17: #REF!
Name __EST17: #REF!
Name __EST17: #REF!
Name __EST18: #REF!
Name __EST18: #REF!
Name __EST18: #REF!
Name __EST18: #REF!
Name __EST19: #REF!
Name __EST19: #REF!
Name __EST19: #REF!
Name __EST19: #REF!
Name __EST2: #REF!
Name __EST2: #REF!
Name __EST2: #REF!
Name __EST2: #REF!
Name __EST3: #REF!
Name __EST3: #REF!
Name __EST3: #REF!
Name __EST3: #REF!
Name __EST4: #REF!
Name __EST4: #REF!
Name __EST4: #REF!
Name __EST4: #REF!
Name __EST5: #REF!
Name __EST5: #REF!
Name __EST5: #REF!
Name __EST5: #REF!

Sheet OFERTA ECONOMICA
B2: FORMULARIO No 1 - FORMULARIO DE PRESUPUESTO OFICIAL
J4: 1.6250891
B5: CANT. (1) | C5: CARGO / OFICIO | D5: SUELDO Y/O JORNAL MENSUAL (2) | E5: PRIMA REGIONAL (3) | F5: DEDICACIÓN (h-mes) (4) | G5: PARTICIPACIÓN TOTAL (mes) (5) | H5: VALOR PARCIAL ($) (1)*((2)+(3))*(4)*(5) = (6)
B6: COSTOS DIRECTOS DE PERSONAL OPERATIVO OBRA | J6: % prestaciones
C7: PERSONAL PROFESIONAL PERMANENTE | J7: 1.6350891 | K7: costos según circular
C9: Dirección Proyecto | H9: =SUM(H10:H11) -> 0
B10: 1 | C10: Director General | F10: 1 | G10: 4 | H10: =ROUND(B10*(D10+E10)*F10*G10,0) -> 0 | I10: PROFESIONAL ESPECIALIZADO GRADO 6 | J10: 7272998.1 | K10: =J10*$J$7 -> 11892000
C12: Residentes | H12: =SUM(H14:H15) -> 0
B13: 2 | C13: Residente Ingeniero Grado 3 | F13: 1 | G13: 4 | H13: =ROUND(B13*(D13+E13)*G13*F13,0) -> 0
B14: 1 | C14: Residente arquitecto Grado 3 | F14: 1 | G14: 4 | H14: =ROUND(B14*(D14+E14)*G14*F14,0) -> 0 | I14: PROFESIONAL ESPECIALIZADO GRADO 3 | J14: 4602195.7 | K14: =J14*$J$7 -> 7525000
C16: Gestión Obra | H16: =SUM(H17:H21) -> 0
B17: 3 | C17: INSPECTOR DE OBRA | F17: 1 | G17: 4 | H17: =ROUND(+B17*(D17+E17)*F17*G17,0) -> 0 | I17: TECNICO GRADO 3 | J17: 2087959.6 | K17: =J17*$J$7 -> 3414000
B18: 1 | C18: PROFESIONAL DE SEGURIDAD INDUSTRIAL Y SALUD OCUPACIONAL SISO | F18: 1 | G18: 4 | H18: =ROUND(+B18*(D18+E18)*F18*G18,0) -> 0 | I18: PROFESIONAL GRADO 3 | J18: 3330093.7 | K18: =J18*$J$7 -> 5445000
B19: 1 | C19: INSPECTOR TÉCNICO SST | F19: 1 | G19: 4 | H19: =ROUND(+B19*(D19+E19)*F19*G19,0) -> 0 | I19: TECNICO GRADO 3 | J19: 2087959.6 | K19: =J19*$J$7 -> 3414000
B20: 1 | C20: PROFESIONAL SOCIAL | F20: 1 | G20: 4 | H20: =ROUND(+B20*(D20+E20)*F20*G20,0) -> 0 | I20: PROFESIONAL GRADO 3 | J20: 3330093.7 | K20: =J20*$J$7 -> 5445000
B21: 1 | C21: INGENIERO AMBIENTAL | F21: 1 | G21: 4 | H21: =ROUND(+B21*(D21+E21)*F21*G21,0) -> 0 | I21: PROFESIONAL GRADO 3
C23: Levantamiento Topográfico | H23: =SUM(H24:H27) -> 0
B24: 1 | C24: Topografo - Inspector | F24: 0.3 | G24: 4 | H24: =ROUND(+B24*(D24+E24)*G24*F24,0) -> 0 | I24: TECNICO GRADO 3 | J24: 2087959.6 | K24: =J24*$J$7 -> 3414000
B25: 1 | C25: Cadenero | F25: =F24 -> 0.3 | G25: 4 | H25: =ROUND(+B25*(D25+E25)*G25*F25,0) -> 0 | I25: ASISTENCIAL GRADO 1 | J25: 1423500 | K25: =J25*$J$7 -> 2327549.3
B26: 1 | C26: Laboratorista Inspector | F26: =F25 -> 0.3 | G26: 4 | H26: =ROUND(+B26*(D26+E26)*G26*F26,0) -> 0 | I26: TECNICO GRADO 3 | J26: 2087959.6 | K26: =J26*$J$7 -> 3414000
B27: 1 | C27: Laboratorista Auxiliar | F27: =F26 -> 0.3 | G27: 4 | H27: =ROUND(+B27*(D27+E27)*G27*F27,0) -> 0 | I27: TECNICO GRADO 1 | J27: 1423500 | K27: =J27*$J$7 -> 2327549.3
C29: SUBTOTAL COSTOS DE PERSONAL = SUMATORIA DE (5) = (6) | H29: =H9+H12+H16+H23 -> 0
C30: FACTOR MULTIPLICADOR (7) | H30: ='FactorMultiplicador '!$I$41 -> 0
C31: TOTAL COSTOS DE PERSONAL = (6) * (7) = (A) | H31: =+H29*H30 -> 0
E33: COSTO | G33: TIEMPO DE | H33: VALOR
B34: CANT. | C34: CONCEPTO | D34: UNIDAD | E34: ($) | G34: UTILIZACIÓN | H34: PARCIAL ($)
B35: (8) | E35: (9) | G35: TOTAL (10) | H35: (8) * (9) * (10) = (11)
B36: OTROS COSTOS DIRECTOS
C37: ALQUILER DE EQUIPOS | H37: =SUM(H38:H41) -> 0
B38: 1 | C38: Equipo completo de Topografía | D38: mes | F38: 0.3 | G38: 4 | H38: =ROUND(+B38*(0+E38)*G38*F38,0) -> 0
B39: 1 | C39: Ensayos laboratorio | D39: mes | F39: 0.25 | G39: 4 | H39: =ROUND(+B39*(0+E39)*G39*F39,0) -> 0
B40: 1 | C40: Alquiler Vehículo | D40: mes | F40: 1 | G40: 4 | H40: =ROUND(+B40*(0+E40)*G40*F40,0) -> 0
C42: TOTAL OTROS COSTOS DIRECTOS = SUMATORIA DE (11) = (B) | H42: =H37 -> 0
B44: TOTAL OPERACIÓN PERMANENTE FIJA | H44: =H42+H31 -> 0
B46: CANT. (1) | C46: CARGO / OFICIO | D46: SUELDO Y/O JORNAL MENSUAL (2) | E46: PRIMA REGIONAL (3) | F46: DEDICACIÓN (h-mes) (4) | G46: PARTICIPACIÓN TOTAL (mes) (5) | H46: VALOR PARCIAL ($) (1)*((2)+(3))*(4)*(5) = (6)
B48: DIAS FESTIVOS Y DOMINICALES
C49: DIAS FESTIVOS Y DOMINICALES | H49: =SUM(H50:H51) -> 0
B50: 34 | C50: Reconocimiento Días Festivos mas 1 hora días sábado (completar jornada 8 horas) | D50: =(H23+H16+H12+H9)/8/30 -> 0 | F50: 1.75 | G50: 0 | H50: =ROUND(+B50*(D50+E50)*G50*F50,0) -> 0
C52: SUBTOTAL COSTOS DE PERSONAL = SUMATORIA DE (5) = (6) | H52: =H49 -> 0
C53: FACTOR MULTIPLICADOR (7) | H53: ='FactorMultiplicador '!$I$41 -> 0
...

Sheet PRESUPUESTO OFICIAL_i
B2: FORMULARIO No 1 - FORMULARIO DE PRESUPUESTO OFICIAL
J4: 1.6250891
B5: CANT. (1) | C5: CARGO / OFICIO | D5: SUELDO Y/O JORNAL MENSUAL (2) | E5: PRIMA REGIONAL (3) | F5: DEDICACIÓN (h-mes) (4) | G5: PARTICIPACIÓN TOTAL (mes) (5) | H5: VALOR PARCIAL ($) (1)*((2)+(3))*(4)*(5) = (6)
B6: COSTOS DIRECTOS DE PERSONAL OPERATIVO OBRA | J6: % prestaciones
C7: PERSONAL PROFESIONAL PERMANENTE | J7: 1.6350891 | K7: costos según circular
C9: Dirección Proyecto | H9: =SUM(H10:H11) -> 29091992
B10: 1 | C10: Director General | D10: 7272998.1 | F10: 1 | G10: 4 | H10: =ROUND(B10*(D10+E10)*F10*G10,0) -> 29091992 | I10: PROFESIONAL ESPECIALIZADO GRADO 6 | J10: 7272998.1 | K10: =J10*$J$7 -> 11892000
C12: Residentes | H12: =SUM(H13:H14) -> 55226348
B13: 3 | C13: Residente Grado 3 | D13: 4602195.7 | F13: 1 | G13: 4 | H13: =ROUND(B13*(D13+E13)*G13*F13,0) -> 55226348 | I13: PROFESIONAL ESPECIALIZADO GRADO 3 | J13: 4602195.7 | K13: =J13*$J$7 -> 7525000
C15: Gestión Obra | H15: =SUM(H16:H20) -> 81720317
B16: 3 | C16: INSPECTOR DE OBRA | D16: 2087959.6 | F16: 1 | G16: 4 | H16: =ROUND(+B16*(D16+E16)*F16*G16,0) -> 25055515 | I16: TECNICO GRADO 3 | J16: 2087959.6 | K16: =J16*$J$7 -> 3414000
B17: 1 | C17: PROFESIONAL DE SEGURIDAD INDUSTRIAL Y SALUD OCUPACIONAL SISO | D17: 3330093.7 | F17: 1 | G17: 4 | H17: =ROUND(+B17*(D17+E17)*F17*G17,0) -> 13320375 | I17: PROFESIONAL GRADO 3 | J17: 3330093.7 | K17: =J17*$J$7 -> 5445000
B18: 2 | C18: INSPECTOR TÉCNICO SST | D18: 2087959.6 | F18: 1 | G18: 4 | H18: =ROUND(+B18*(D18+E18)*F18*G18,0) -> 16703677 | I18: TECNICO GRADO 3 | J18: 2087959.6 | K18: =J18*$J$7 -> 3414000
B19: 1 | C19: PROFESIONAL SOCIAL | D19: 3330093.7 | F19: 1 | G19: 4 | H19: =ROUND(+B19*(D19+E19)*F19*G19,0) -> 13320375 | I19: PROFESIONAL GRADO 3 | J19: 3330093.7 | K19: =J19*$J$7 -> 5445000
B20: 1 | C20: INGENIERO AMBIENTAL | D20: 3330093.7 | F20: 1 | G20: 4 | H20: =ROUND(+B20*(D20+E20)*F20*G20,0) -> 13320375 | I20: PROFESIONAL GRADO 3
C22: Levantamiento Topográfico | H22: =SUM(H23:H26) -> 8427504
B23: 1 | C23: Topografo - Inspector | D23: 2087959.6 | F23: 0.3 | G23: 4 | H23: =ROUND(+B23*(D23+E23)*G23*F23,0) -> 2505552 | I23: TECNICO GRADO 3 | J23: 2087959.6 | K23: =J23*$J$7 -> 3414000
B24: 1 | C24: Cadenero | D24: 1423500 | F24: =F23 -> 0.3 | G24: 4 | H24: =ROUND(+B24*(D24+E24)*G24*F24,0) -> 1708200 | I24: ASISTENCIAL GRADO 1 | J24: 1423500 | K24: =J24*$J$7 -> 2327549.3
B25: 1 | C25: Laboratorista Inspector | D25: 2087959.6 | F25: =F24 -> 0.3 | G25: 4 | H25: =ROUND(+B25*(D25+E25)*G25*F25,0) -> 2505552 | I25: TECNICO GRADO 3 | J25: 2087959.6 | K25: =J25*$J$7 -> 3414000
B26: 1 | C26: Laboratorista Auxiliar | D26: 1423500 | F26: =F25 -> 0.3 | G26: 4 | H26: =ROUND(+B26*(D26+E26)*G26*F26,0) -> 1708200 | I26: TECNICO GRADO 1 | J26: 1423500 | K26: =J26*$J$7 -> 2327549.3
C28: SUBTOTAL COSTOS DE PERSONAL = SUMATORIA DE (5) = (6) | H28: =H9+H12+H15+H22 -> 174466161
C29: FACTOR MULTIPLICADOR (7) | H29: 2.19
C30: TOTAL COSTOS DE PERSONAL = (6) * (7) = (A) | H30: =+H28*H29 -> 3.8208089e+08
E32: COSTO | G32: TIEMPO DE | H32: VALOR
B33: CANT. | C33: CONCEPTO | D33: UNIDAD | E33: ($) | G33: UTILIZACIÓN | H33: PARCIAL ($)
B34: (8) | E34: (9) | G34: TOTAL (10) | H34: (8) * (9) * (10) = (11)
B35: OTROS COSTOS DIRECTOS
C36: ALQUILER DE EQUIPOS | H36: =SUM(H37:H40) -> 53878400
B37: 1 | C37: Equipo completo de Topografía | D37: mes | E37: 4116000 | F37: 0.4 | G37: 4 | H37: =ROUND(+B37*(0+E37)*G37*F37,0) -> 6585600
B38: 1 | C38: Ensayos laboratorio | D38: mes | E38: 11383000 | F38: 0.4 | G38: 4 | H38: =ROUND(+B38*(0+E38)*G38*F38,0) -> 18212800
B39: 1 | C39: Alquiler Vehículo | D39: mes | E39: 7270000 | F39: 1 | G39: 4 | H39: =ROUND(+B39*(0+E39)*G39*F39,0) -> 29080000
C41: TOTAL OTROS COSTOS DIRECTOS = SUMATORIA DE (11) = (B) | H41: =H36 -> 53878400
B43: TOTAL OPERACIÓN PERMANENTE FIJA | H43: =H41+H30 -> 4.3595929e+08
B45: CANT. (1) | C45: CARGO / OFICIO | D45: SUELDO Y/O JORNAL MENSUAL (2) | E45: PRIMA REGIONAL (3) | F45: DEDICACIÓN (h-mes) (4) | G45: PARTICIPACIÓN TOTAL (mes) (5) | H45: VALOR PARCIAL ($) (1)*((2)+(3))*(4)*(5) = (6)
B47: DIAS FESTIVOS Y DOMINICALES
C48: DIAS FESTIVOS Y DOMINICALES | H48: =SUM(H49:H50) -> 0
B49: 34 | C49: Reconocimiento Días Festivos mas 1 hora días sábado (completar jornada 8 horas) | D49: =(H22+H15+H12+H9)/8/30 -> 726942.34 | F49: 1.75 | G49: 0 | H49: =ROUND(+B49*(D49+E49)*G49*F49,0) -> 0
C51: SUBTOTAL COSTOS DE PERSONAL = SUMATORIA DE (5) = (6) | H51: =H48 -> 0
C52: FACTOR MULTIPLICADOR (7) | H52: 2.19
C53: TOTAL COSTOS DE PERSONAL = (6) * (7) = (A) | H53: =+H51*H52 -> 0
...

Sheet FactorMultiplicador
B3: FACTOR MULTIPLICADOR
B5: ITEM | C5: CONCEPTO | I5: PORCENTAJE
B6: 1. | C6: Salarios y Prestaciones Sociales de Personal Facturable
B7: 1.1. | C7: Salarios | I7: 1
B8: 1.2. | C8: Prima anual (legal) | F8: 1 | G8: ÷ 12 = | I8: =1/12 -> 0.083333333
B9: 1.3. | C9: Cesantía | F9: 1 | G9: ÷ 12 = | I9: =1/12 -> 0.083333333
B10: 1.4. | C10: Intereses de cesantía | F10: 0.01 | G10: x 1.3. = | I10: 0.01
B11: 1.5. | C11: Vacaciones | I11: =+I9/2 -> 0.041666667
B12: 1.6. | C12: Seguridad Social (salud + pensión) | I12: 0.285
B13: 1.7. | C13: Caja de Compensación Familiar | I13: 0.04
B14: 1.8. | C14: ARP | I14: 0.025
B15: 1.9. | C15: Sena | D15: 0.02 | E15: Porcentaje ajustado a la estructura salarial de sólo el director de interventoría > 10 SMLM | I15: 0.0027023094
B16: 1.10. | C16: ICBF | D16: 0.03 | I16: 0.0040534641
B17: 1.11. | C17: Otros (Auxilios varios, prestaciones extralegales, Incapacidades no cubertas) | I17: 0.01
B18: 1.12. | C18: Dotación | I18: 0.04 | J18: 0.05
G19: Sub-total | I19: =SUM(I7:I18) -> 1.6250891
B20: 2. | C20: Gastos Directos
B21: 2.1. | C21: Arriendo oficina | I21: 0.02 | J21: 0.03
B22: 2.2. | C22: Administración edificio | I22: 0.004
B23: 3.2. | C23: Servicios públicos | I23: 0.005
G24: Sub-total | I24: =SUM(I21:I23) -> 0.029
B25: 3. | C25: Gastos Generales
B26: 3.1. | C26: Preparación de Propuesta | I26: 0.01 | J26: 0.015
B27: 3.2. | C27: Asesoria Contable Tributaria y Juridica | I27: 0.03 | J27: 0.04
B28: 3.3. | C28: Equipos y mantenimiento Oficina (Aseo) | I28: 0.01 | J28: 0.02
B29: 3.4. | C29: Mubles Equipos Campamento | I29: 0.01 | J29: 0.02
B30: 3.1. | C30: Gastos de vehículo | I30: 0.005 | J30: 0.01
B31: 3.2. | C31: Seguros de robo e incendio | I31: 0.005
B32: 3.3. | C32: Documentación Técnica | I32: 0.02 | J32: 0.03
B33: 3.4. | C33: Papelería y útiles de oficina | I33: 0.01
B34: 3.1. | C34: Personal Administrativo no facturado | I34: 0.01
B35: 3.11. | C35: Personal Profesional no facturado | I35: 0.01
B36: 3.12. | C36: Depreciación de muebles y equipos | I36: 0.005
B37: 3.13. | C37: Licenciamiento de software | I37: 0.02 | J37: 0.03
B38: 3.14. | C38: Correo y otros | I38: 0.005
G39: Sub-total | I39: =SUM(I26:I38) -> 0.15
B40: 4. | C40: Costos Directos no Reembolsables
B41: 4.1 | C41: Poliza de Calidad | I41: 0.0092808618
B42: 4.2 | C42: Póliza Cumplimiento | I42: 0.0025483759
B43: 4.3 | C43: Póliza Salarios y prestaciones Sociales | I43: 0.0059111091
...

Sheet Table 1
A1: TABLA DE HONORARIOS 2025
A2: NIVEL | B2: GRADO | C2: FORMACION ACADEMICA | D2: EXPERIENCIA | E2: HONORARIOS 2025
A3: PROFESIONAL ESPECIALIZADO | B3: 6 | C3: Título profesional y titulo de postgrado | D3: 108 meses de experiencia profesional | E3: 11892000
B4: 5 | C4: Título profesional y titulo de postgrado | D4: 90 meses de experiencia profesional | E4: 9975000
B5: 4 | C5: Título profesional y titulo de postgrado | D5: 72 meses de experiencia profesional | E5: 8056000
B6: 3 | C6: Título profesional y titulo de postgrado | D6: 54 meses de experiencia profesional | E6: 7525000
B7: 2 | C7: Título profesional y titulo de postgrado | D7: 36 meses de experiencia profesional | E7: 6765000
B8: 1 | C8: Título profesional y titulo de postgrado | D8: 24 meses de experiencia profesional | E8: 6007000
A9: PROFESIONAL | B9: 3 | C9: Título profesional | D9: 18 meses de experiencia profesional | E9: 5445000
B10: 2 | C10: Título profesional | D10: 12 meses de experiencia profesional | E10: 4620000
B11: 1 | C11: Título profesional | D11: No requerida | E11: 3795000
A12: TECNICO | B12: 3 | C12: Título de formación técnica o tecnológica o aprobación de seis (6) semestres de educación superior en la modalidad de pregrado. | D12: 12 meses de experiencia laboral | E12: 3414000
B13: 2 | C13: Título de formación técnica o tecnológica o aprobación de seis (6) semestres de educación superior en la modalidad de pregrado. | D13: 6 meses de experiencia laboral | E13: 3130000
B14: 1 | C14: Título de formación técnica o tecnológica o aprobación de seis (6) semestres de educación superior en la modalidad de pregrado. | D14: No requerida | E14: 2793000
A15: ASISTENCIAL | B15: 3 | C15: Título de bachiller | D15: 24 meses de experiencia laboral | E15: 2685000
B16: 2 | C16: Título de bachiller | D16: 6 meses de experiencia laboral o 18 meses de experiencia laboral sin titulo de bachiller | E16: 2184000
B17: 1 | C17: Alternativa de 4 años de educación básica secundaria Equivalencia: 6 meses de experiencia laboral por aprobación de 4 año de básica secundaria, siempre y cuando se acredite la formación básica primaria | D17: Con titulo de bachiller no requiere experiencia o 12 meses de experiencia laboral sin titulo de bachiller. | E17: 2028000

Sheet FactorMultiplicador 
B3: FACTOR MULTIPLICADOR
B5: ITEM | C5: CONCEPTO | I5: PORCENTAJE
B6: 1. | C6: Salarios y Prestaciones Sociales de Personal Facturable
B7: 1.1. | C7: Salarios
B8: 1.2. | C8: Prima anual (legal) | F8: 1 | G8: ÷ 12 =
B9: 1.3. | C9: Cesantía | F9: 1 | G9: ÷ 12 =
B10: 1.4. | C10: Intereses de cesantía | F10: 0.01 | G10: x 1.3. =
B11: 1.5. | C11: Vacaciones
B12: 1.6. | C12: Seguridad Social (salud + pensión)
B13: 1.7. | C13: Caja de Compensación Familiar
B14: 1.8. | C14: ARP
B15: 1.9. | C15: Sena | D15: 0.02 | E15: Porcentaje ajustado a la estructura salarial de sólo el director de interventoría > 10 SMLM
B16: 1.10. | C16: ICBF | D16: 0.03
B17: 1.11. | C17: Otros (Auxilios varios, prestaciones extralegales, Incapacidades no cubertas)
B18: 1.12. | C18: Dotación | J18: 0.05
G19: Sub-total | I19: =SUM(I7:I18) -> 0
B20: 2. | C20: Gastos Directos
B21: 2.1. | C21: Arriendo oficina | J21: 0.03
B22: 2.2. | C22: Administración edificio
B23: 3.2. | C23: Servicios públicos
G24: Sub-total | I24: =SUM(I21:I23) -> 0
B25: 3. | C25: Gastos Generales
B26: 3.1. | C26: Preparación de Propuesta | J26: 0.015
B27: 3.2. | C27: Asesoria Contable Tributaria y Juridica | J27: 0.04
B28: 3.3. | C28: Equipos y mantenimiento Oficina (Aseo) | J28: 0.02
B29: 3.4. | C29: Mubles Equipos Campamento | J29: 0.02
B30: 3.1. | C30: Gastos de vehículo | J30: 0.01
B31: 3.2. | C31: Seguros de robo e incendio
B32: 3.3. | C32: Documentación Técnica | J32: 0.03
B33: 3.4. | C33: Papelería y útiles de oficina
B34: 3.1. | C34: Personal Administrativo no facturado
B35: 3.11. | C35: Personal Profesional no facturado
B36: 3.12. | C36: Depreciación de muebles y equipos
B37: 3.13. | C37: Licenciamiento de software | J37: 0.03
B38: 3.14. | C38: Correo y otros
G39: Sub-total | I39: =SUM(I26:I38) -> 0
B40: 4. | C40: Honorarios (Utilidad del consultor y costos no previstos) | G40: Sub-total
B41: T O T A L | I41: =ROUND(SUM(I40,I39,I24,I19),2) -> 0

Sheet Polizas_Impuestos
B3: Costos Directos no Reembolsables
B5: 4. | C5: Costos Directos no Reembolsables
B6: 4.1 | C6: Poliza de Calidad | I6: 0.00286
B7: 4.2 | C7: Póliza Cumplimiento | I7: 0.00222
B8: 4.3 | C8: Póliza Salarios y prestaciones Sociales | I8: 0.00149
G9: Sub-total | I9: =SUM(I6:J8) -> 0.00657
B10: 5. | C10: Impuestos y Estampillas
B11: 4.7 | C11: Estampilla Adulto Mayor - Deducción estampilla Pro Adulto Mayor | I11: 0.02
B12: 4.8 | C12: Estampilla Procultura - Deducción estampilla Procultura con base | I12: 0.01
B13: 4.9 | C13: Estampilla Prohospitales - Deduccion estampilla Prohospitales | I13: 0.01
B14: 4.91 | C14: Estampilla Prodesarrollo - Deduc. EstampProdesarro =+ de 2.196UVTs | I14: 0.035
B15: 4.92 | C15: Estampilla Prouniversidad del Pacifico - Deduc EstamProuniverpacifico PN | I15: 0.01
B16: 4.93 | C16: Estampilla Prouniversidad del Valle - Deduccion estampilla Prouniv del Valle | I16: 0.02
B17: 4.95 | C17: Tasa Pro Deporte y Recreación Acuerdo No. 0530 de 2022 | I17: 0.02
B18: 4.94 | C18: Impuesto de Timbre Nacional | I18: 0.005
B19: 4.95 | C19: Retencion de ica 6,6*1000 | I19: 0.0066
G20: Sub-total | I20: =SUM(I11:J19) -> 0.1366
B21: T O T A L | I21: =I9+I20 -> 0.14317
O23: Póliza
M24: SIN IVA | N24: =N26/1.19 -> 2.2606008e+09 | O24: =ROUND(O26/N24,5) -> 0.00657
M25: IVA | N25: =ROUND(N24*0.19,0) -> 429514148
M26: Vr. Total | N26: 2690114924 | O26: =14855247 -> 14855247
