Workbook
Name EMRESPEL2025: 'Cotizaciones Empresas'!$A$2:$BC$145

Sheet Cotizaciones Empresas
A1: SECCIONALES | B1: SEDE | C1: RH &CIUDAD LIMPIA Valor Kg Biosanitario | D1: RH &CIUDAD LIMPIA Valor Kg Cortopunzantes | E1: RH &CIUDAD LIMPIA Valor Kg Animales | F1: RH &CIUDAD LIMPIA Valor Kg Quimicos | G1: ASEI & Biologicos y contaminados Valor Kg Biosanitario | H1: ASEI & Biologicos y contaminados Valor Kg Cortopunzantes | I1: ASEI & Biologicos y contaminados Valor Kg Animales | J1: ASEI & Biologicos y contaminados Valor Kg Quimicos | K1: EDEPSA Valor Kg Biosanitario | L1: EDEPSA Valor Kg Cortopunzantes | M1: EDEPSA Valor Kg Animales | N1: EDEPSA Valor Kg Quimicos | O1: EDEPSA Valor Flete | P1: VEOLIA Valor Kg Biosanitario | Q1: VEOLIA Valor Kg Cortopunzantes | R1: VEOLIA Valor Kg Animales | S1: VEOLIA Valor Kg Quimicos | T1: PROSSAM Valor Kg Biosanitario | U1: PROSSAM Valor Kg Cortopunzantes | V1: PROSSAM Valor Kg Animales | W1: PROSSAM Valor Kg Quimicos | X1: COMSERVA Valor Kg Biosanitario | Y1: COMSERVA Valor Kg Cortopunzantes | Z1: COMSERVA Valor Kg Animales | AA1: COMSERVA Valor Kg Quimicos | AB1: MAREES Valor Kg Biosanitario | AC1: MAREES Valor Kg Cortopunzantes | AD1: MAREES Valor Kg Animales | AE1: MAREES Valor Kg Quimicos | AF1: ASERHI Valor Kg Biosanitario | AG1: ASERHI Valor Kg Cortopunzantes | AH1: ASERHI Valor Kg Animales | AI1: ASERHI Valor Kg Quimicos | AJ1: DESCONT Valor Kg Biosanitario | AK1: DESCONT Valor Kg Cortopunzantes | AL1: DESCONT Valor Kg Animales | AM1: DESCONT Valor Kg Quimicos | AN1: BIORESIDUOS Valor Kg Biosanitario | AO1: BIORESIDUOS Valor Kg Cortopunzantes | AP1: BIORESIDUOS Valor Kg Animales | AQ1: BIORESIDUOS Valor Kg Quimicos | AR1: INCIHUILA Valor Kg Biosanitario | AS1: INCIHUILA Valor Kg Cortopunzantes | AT1: INCIHUILA Valor Kg Animales | AU1: INCIHUILA Valor Kg Quimicos | AV1: SALVI Valor Kg Biosanitario | AW1: SALVI Valor Kg Cortopunzantes | AX1: SALVI Valor Kg Animales | AY1: SALVI Valor Kg Quimicos | AZ1: SANDESOL Valor Kg Biosanitario | BA1: SANDESOL Valor Kg Cortopunzantes | BB1: SANDESOL Valor Kg Animales | BC1: SANDESOL Valor Kg Quimicos | BD1: HISTORICO 2024 + IPC 2025 (3%) Biosanitario | BE1: HISTORICO 2024 + IPC 2025 (3%) Cortopunzantes | BF1: HISTORICO 2024 + IPC 2025 (3%) Animales | BG1: HISTORICO 2024 + IPC 2025 (3%) Quimicos
A2: #VALUE! | B2: Bello | BK2: 3700 | BL2: Valor Kg 2024
A3: #VALUE! | B3: #VALUE! | BK3: 0.03 | BL3: IPC 2025
A4: #VALUE! | B4: #VALUE! | BK4: =+BK2*BK3 -> 111 | BL4: incremento
A5: #VALUE! | B5: #VALUE! | BK5: =+BK2+BK4 -> 3811 | BL5: total con incremento
A6: #VALUE! | B6: #VALUE!
A7: #VALUE! | B7: #VALUE!
A8: #VALUE! | B8: #VALUE!
A9: #VALUE! | B9: #VALUE!
A10: #VALUE! | B10: #VALUE!
A11: #VALUE! | B11: #VALUE! | K11: 8000 | L11: 8000 | M11: 8000 | N11: 8000 | O11: 120000 | BD11: 5356 | BE11: 5356 | BF11: 5356 | BG11: 5356
A12: #VALUE! | B12: #VALUE! | K12: 8000 | L12: 8000 | M12: 8000 | N12: 8000 | O12: 120000 | BD12: 5356 | BE12: 5356 | BF12: 5356 | BG12: 5356
A13: #VALUE! | B13: #VALUE! | K13: 8000 | L13: 8000 | M13: 8000 | N13: 8000 | O13: 120000 | BD13: 5356 | BE13: 5356 | BF13: 5356 | BG13: 5356
A14: #VALUE! | B14: #VALUE! | K14: 8000 | L14: 8000 | M14: 8000 | N14: 8000 | O14: 120000 | BD14: 5356 | BE14: 5356 | BF14: 5356 | BG14: 5356
A15: #VALUE! | B15: #VALUE!
A16: #VALUE! | B16: #VALUE!
A17: #VALUE! | B17: #VALUE!
A18: #VALUE! | B18: #VALUE!
A19: #VALUE! | B19: #VALUE!
A20: #VALUE! | B20: #VALUE!
A21: #VALUE! | B21: #VALUE! | K21: 8000 | L21: 8000 | M21: 8000 | N21: 8000 | O21: 120000 | AJ21: 4500 | AK21: 4500 | AL21: 4500 | AM21: 4700
A22: #VALUE! | B22: #VALUE! | K22: 8000 | L22: 8000 | M22: 8000 | N22: 8000 | O22: 120000 | AJ22: 4500 | AK22: 4500 | AL22: 4500 | AM22: 4700
A23: #VALUE! | B23: #VALUE! | K23: 8000 | L23: 8000 | M23: 8000 | N23: 8000 | O23: 120000 | AJ23: 4500 | AK23: 4500 | AL23: 4500 | AM23: 4700
A24: #VALUE! | B24: #VALUE! | K24: 8000 | L24: 8000 | M24: 8000 | N24: 8000 | O24: 120000 | AJ24: 4500 | AK24: 4500 | AL24: 4500 | AM24: 4700
A25: #VALUE! | B25: #VALUE! | K25: 8000 | L25: 8000 | M25: 8000 | N25: 8000 | O25: 120000 | AJ25: 4500 | AK25: 4500 | AL25: 4500 | AM25: 4700
A26: #VALUE! | B26: #VALUE! | K26: 8000 | L26: 8000 | M26: 8000 | N26: 8000 | O26: 120000 | AJ26: 4500 | AK26: 4500 | AL26: 4500 | AM26: 4700
A27: #VALUE! | B27: #VALUE! | K27: 8000 | L27: 8000 | M27: 8000 | N27: 8000 | O27: 120000 | AJ27: 4500 | AK27: 4500 | AL27: 4500 | AM27: 4700
A28: #VALUE! | B28: #VALUE! | K28: 8000 | L28: 8000 | M28: 8000 | N28: 8000 | O28: 120000 | AJ28: 4500 | AK28: 4500 | AL28: 4500 | AM28: 4700
A29: #VALUE! | B29: #VALUE! | K29: 8000 | L29: 8000 | M29: 8000 | N29: 8000 | O29: 120000 | AJ29: 4500 | AK29: 4500 | AL29: 4500 | AM29: 4700
A30: #VALUE! | B30: #VALUE! | K30: 8000 | L30: 8000 | M30: 8000 | N30: 8000 | O30: 120000 | AJ30: 4500 | AK30: 4500 | AL30: 4500 | AM30: 4700
A31: #VALUE! | B31: #VALUE!
A32: #VALUE! | B32: #VALUE!
A33: #VALUE! | B33: #VALUE!
A34: #VALUE! | B34: #VALUE!
A35: #VALUE! | B35: #VALUE!
A36: #VALUE! | B36: #VALUE!
A37: #VALUE! | B37: Paujil
A38: #VALUE! | B38: #VALUE!
A39: #VALUE! | B39: #VALUE!
A40: #VALUE! | B40: #VALUE! | AJ40: 4500 | AK40: 4500 | AL40: 4500 | AM40: 4700
...

Sheet D.P. 2025 SAD, SPA & SPF
B2: SECCIONALES | C2: SEDE | D2: SAD | E2: SPA | F2: SPF | G2: histotico 2024
B3: Antioquia | C3: Bello | D3: 13600000
B4: Antioquia | C4: Carepa
B5: Antioquia | C5: Necoclí
B6: Antioquia | C6: Turbo
B7: Antioquia | C7: Santa Rosa de Osos
B8: Antioquia | C8: Rionegro
B9: Antioquia | C9: La Pintada
B10: Antioquia | C10: Caucasia
B11: Antioquia | C11: Puerto Berrío
B12: Arauca | C12: Arauca | D12: 4800000
B13: Arauca | C13: Arauquita
B14: Arauca | C14: Tame
B15: Arauca | C15: Saravena
B16: Atlántico | C16: Soledad | D16: 9500000
B17: Bolívar | C17: Cartagena de Indias | D17: 1600000
B18: Bolívar | C18: Santa Cruz de Mompox
B19: Bolívar | C19: Magangué
B20: Bolívar | C20: San Juan Nepomuceno
B21: Bolívar | C21: El Carmen de Bolívar
B22: Boyacá | C22: Sogamoso | D22: 9300000
B23: Boyacá | C23: Duitama
B24: Boyacá | C24: Tunja
B25: Boyacá | C25: Miraflores
B26: Boyacá | C26: Soatá
B27: Boyacá | C27: Garagoa
B28: Boyacá | C28: Moniquirá
B29: Boyacá | C29: Puerto Boyacá
B30: Boyacá | C30: Chiquinquirá
B31: Boyacá | C31: Cubará
B32: Caldas | C32: La Dorada | D32: 6800000
B33: Caldas | C33: Manizales
B34: Caquetá | C34: Florencia | D34: 3200000
B35: Caquetá | C35: San Vicente del Caguán
B36: Caquetá | C36: Puerto Rico
B37: Caquetá | C37: Roncello
B38: Caquetá | C38: Paujil
B39: Caquetá | C39: Cartagena del Chairá
B40: Caquetá | C40: Albania
B41: Casanare | C41: Yopal | D41: 3200000
...

Sheet Cundinamarca
B1: COTIZACIONES PARA 2025
B3: DEPARTAMENTO | C3: MUNICIPIO | D3: RH &CIUDAD LIMPIA Valor Kg Biosanitario | E3: RH &CIUDAD LIMPIA Valor Kg Cortopunzantes | F3: RH &CIUDAD LIMPIA Valor Kg Animales | G3: RH &CIUDAD LIMPIA Valor Kg Quimicos | H3: DESCONT Valor Kg Biosanitario | I3: DESCONT Valor Kg Cortopunzantes | J3: DESCONT Valor Kg Animales | K3: DESCONT Valor Kg Quimicos | L3: HISTORICO 2024 + IPC 2025 (3%)Biosanitario | M3: HISTORICO 2024 + IPC 2025 (3%) Cortopunzantes | N3: HISTORICO 2024 + IPC 2025 (3%)Animales | O3: HISTORICO 2024 + IPC 2025 (3%) Quimicos | P3: Valor promedio de Kilogramo Biosanitario | Q3: Valor promedio de Kilogramo Cortopunzantes | R3: Valor promedio de Kilogramog Animales | S3: Valor promedio de Kilogramo Quimicos
B4: Cundinamarca | C4: LNDV / Bogotá | D4: =+'Cotizaciones Empresas'!C68 -> 3500 | E4: =+'Cotizaciones Empresas'!D68 -> 3500 | F4: =+'Cotizaciones Empresas'!E68 -> 3500 | G4: =+'Cotizaciones Empresas'!F68 -> 3500 | H4: =+'Cotizaciones Empresas'!AJ68 -> 4500 | I4: =+'Cotizaciones Empresas'!AK68 -> 4500 | J4: =+'Cotizaciones Empresas'!AL68 -> 4500 | K4: =+'Cotizaciones Empresas'!AM68 -> 4700 | L4: =+'Cotizaciones Empresas'!BD68 -> 2884 | M4: =+'Cotizaciones Empresas'!BE68 -> 2884 | N4: =+'Cotizaciones Empresas'!BF68 -> 2884 | O4: =+'Cotizaciones Empresas'!BG68 -> 2884 | P4: =AVERAGE(COTIZACIONES2025[[#This Row],[RH &CIUDAD LIMPIA Valor Kg Biosanitario ]],COTIZACIONES2025[[#This Row],[DESCONT Valor Kg Biosanitario ]],COTIZACIONES2025[[#This Row],[HISTORICO 2024 + IPC 2025 (3%)Biosanitario]]) -> 3628 | Q4: =AVERAGE(COTIZACIONES2025[[#This Row],[RH &CIUDAD LIMPIA Valor Kg Cortopunzantes]],COTIZACIONES2025[[#This Row],[DESCONT Valor Kg Cortopunzantes]],COTIZACIONES2025[[#This Row],[HISTORICO 2024 + IPC 2025 (3%) Cortopunzantes]]) -> 3628 | R4: =AVERAGE(COTIZACIONES2025[[#This Row],[RH &CIUDAD LIMPIA Valor Kg Animales]],COTIZACIONES2025[[#This Row],[DESCONT Valor Kg Animales]],COTIZACIONES2025[[#This Row],[HISTORICO 2024 + IPC 2025 (3%)Animales]]) -> 3628 | S4: =AVERAGE(COTIZACIONES2025[[#This Row],[RH &CIUDAD LIMPIA Valor Kg Quimicos]],COTIZACIONES2025[[#This Row],[DESCONT Valor Kg Quimicos]],COTIZACIONES2025[[#This Row],[HISTORICO 2024 + IPC 2025 (3%) Quimicos]]) -> 3694.6667
C5: LANIP / Mosquera | D5: =+'Cotizaciones Empresas'!C69 -> 3500 | E5: =+'Cotizaciones Empresas'!D69 -> 3500 | F5: =+'Cotizaciones Empresas'!E69 -> 3500 | G5: =+'Cotizaciones Empresas'!F69 -> 3500 | H5: =+'Cotizaciones Empresas'!AJ69 -> 4500 | I5: =+'Cotizaciones Empresas'!AK69 -> 4500 | J5: =+'Cotizaciones Empresas'!AL69 -> 4500 | K5: =+'Cotizaciones Empresas'!AM69 -> 4700 | L5: =+'Cotizaciones Empresas'!BD69 -> 2884 | M5: =+'Cotizaciones Empresas'!BE69 -> 2884 | N5: =+'Cotizaciones Empresas'!BF69 -> 2884 | O5: 2884 | P5: =AVERAGE(COTIZACIONES2025[[#This Row],[RH &CIUDAD LIMPIA Valor Kg Biosanitario ]],COTIZACIONES2025[[#This Row],[DESCONT Valor Kg Biosanitario ]],COTIZACIONES2025[[#This Row],[HISTORICO 2024 + IPC 2025 (3%)Biosanitario]]) -> 3628 | Q5: =AVERAGE(COTIZACIONES2025[[#This Row],[RH &CIUDAD LIMPIA Valor Kg Cortopunzantes]],COTIZACIONES2025[[#This Row],[DESCONT Valor Kg Cortopunzantes]],COTIZACIONES2025[[#This Row],[HISTORICO 2024 + IPC 2025 (3%) Cortopunzantes]]) -> 3628 | R5: =AVERAGE(COTIZACIONES2025[[#This Row],[RH &CIUDAD LIMPIA Valor Kg Animales]],COTIZACIONES2025[[#This Row],[DESCONT Valor Kg Animales]],COTIZACIONES2025[[#This Row],[HISTORICO 2024 + IPC 2025 (3%)Animales]]) -> 3628 | S5: =AVERAGE(COTIZACIONES2025[[#This Row],[RH &CIUDAD LIMPIA Valor Kg Quimicos]],COTIZACIONES2025[[#This Row],[DESCONT Valor Kg Quimicos]],COTIZACIONES2025[[#This Row],[HISTORICO 2024 + IPC 2025 (3%) Quimicos]]) -> 3694.6667
C6: LTC / Mosquera | D6: =+'Cotizaciones Empresas'!C70 -> 3500 | E6: =+'Cotizaciones Empresas'!D70 -> 3500 | F6: =+'Cotizaciones Empresas'!E70 -> 3500 | G6: =+'Cotizaciones Empresas'!F70 -> 3500 | H6: =+'Cotizaciones Empresas'!AJ70 -> 4500 | I6: =+'Cotizaciones Empresas'!AK70 -> 4500 | J6: =+'Cotizaciones Empresas'!AL70 -> 4500 | K6: =+'Cotizaciones Empresas'!AM70 -> 4700 | L6: =+'Cotizaciones Empresas'!BD70 -> 2884 | M6: =+'Cotizaciones Empresas'!BE70 -> 2884 | N6: =+'Cotizaciones Empresas'!BF70 -> 2884 | O6: 2884 | P6: =AVERAGE(COTIZACIONES2025[[#This Row],[RH &CIUDAD LIMPIA Valor Kg Biosanitario ]],COTIZACIONES2025[[#This Row],[DESCONT Valor Kg Biosanitario ]],COTIZACIONES2025[[#This Row],[HISTORICO 2024 + IPC 2025 (3%)Biosanitario]]) -> 3628 | Q6: =AVERAGE(COTIZACIONES2025[[#This Row],[RH &CIUDAD LIMPIA Valor Kg Cortopunzantes]],COTIZACIONES2025[[#This Row],[DESCONT Valor Kg Cortopunzantes]],COTIZACIONES2025[[#This Row],[HISTORICO 2024 + IPC 2025 (3%) Cortopunzantes]]) -> 3628 | R6: =AVERAGE(COTIZACIONES2025[[#This Row],[RH &CIUDAD LIMPIA Valor Kg Animales]],COTIZACIONES2025[[#This Row],[DESCONT Valor Kg Animales]],COTIZACIONES2025[[#This Row],[HISTORICO 2024 + IPC 2025 (3%)Animales]]) -> 3628 | S6: =AVERAGE(COTIZACIONES2025[[#This Row],[RH &CIUDAD LIMPIA Valor Kg Quimicos]],COTIZACIONES2025[[#This Row],[DESCONT Valor Kg Quimicos]],COTIZACIONES2025[[#This Row],[HISTORICO 2024 + IPC 2025 (3%) Quimicos]]) -> 3694.6667
C7: LNCV / Mosquera | D7: =+'Cotizaciones Empresas'!C71 -> 3500 | E7: =+'Cotizaciones Empresas'!D71 -> 3500 | F7: =+'Cotizaciones Empresas'!E71 -> 3500 | G7: =+'Cotizaciones Empresas'!F71 -> 3500 | H7: =+'Cotizaciones Empresas'!AJ71 -> 4500 | I7: =+'Cotizaciones Empresas'!AK71 -> 4500 | J7: =+'Cotizaciones Empresas'!AL71 -> 4500 | K7: =+'Cotizaciones Empresas'!AM71 -> 4700 | L7: =+'Cotizaciones Empresas'!BD71 -> 2884 | M7: =+'Cotizaciones Empresas'!BE71 -> 2884 | N7: =+'Cotizaciones Empresas'!BF71 -> 2884 | O7: 2884 | P7: =AVERAGE(COTIZACIONES2025[[#This Row],[RH &CIUDAD LIMPIA Valor Kg Biosanitario ]],COTIZACIONES2025[[#This Row],[DESCONT Valor Kg Biosanitario ]],COTIZACIONES2025[[#This Row],[HISTORICO 2024 + IPC 2025 (3%)Biosanitario]]) -> 3628 | Q7: =AVERAGE(COTIZACIONES2025[[#This Row],[RH &CIUDAD LIMPIA Valor Kg Cortopunzantes]],COTIZACIONES2025[[#This Row],[DESCONT Valor Kg Cortopunzantes]],COTIZACIONES2025[[#This Row],[HISTORICO 2024 + IPC 2025 (3%) Cortopunzantes]]) -> 3628 | R7: =AVERAGE(COTIZACIONES2025[[#This Row],[RH &CIUDAD LIMPIA Valor Kg Animales]],COTIZACIONES2025[[#This Row],[DESCONT Valor Kg Animales]],COTIZACIONES2025[[#This Row],[HISTORICO 2024 + IPC 2025 (3%)Animales]]) -> 3628 | S7: =AVERAGE(COTIZACIONES2025[[#This Row],[RH &CIUDAD LIMPIA Valor Kg Quimicos]],COTIZACIONES2025[[#This Row],[DESCONT Valor Kg Quimicos]],COTIZACIONES2025[[#This Row],[HISTORICO 2024 + IPC 2025 (3%) Quimicos]]) -> 3694.6667
C8: LANASE / Mosquera | D8: =+'Cotizaciones Empresas'!C72 -> 3500 | E8: =+'Cotizaciones Empresas'!D72 -> 3500 | F8: =+'Cotizaciones Empresas'!E72 -> 3500 | G8: =+'Cotizaciones Empresas'!F72 -> 3500 | H8: =+'Cotizaciones Empresas'!AJ72 -> 4500 | I8: =+'Cotizaciones Empresas'!AK72 -> 4500 | J8: =+'Cotizaciones Empresas'!AL72 -> 4500 | K8: =+'Cotizaciones Empresas'!AM72 -> 4700 | L8: =+'Cotizaciones Empresas'!BD72 -> 2884 | M8: =+'Cotizaciones Empresas'!BE72 -> 2884 | N8: =+'Cotizaciones Empresas'!BF72 -> 2884 | O8: 2884 | P8: =AVERAGE(COTIZACIONES2025[[#This Row],[RH &CIUDAD LIMPIA Valor Kg Biosanitario ]],COTIZACIONES2025[[#This Row],[DESCONT Valor Kg Biosanitario ]],COTIZACIONES2025[[#This Row],[HISTORICO 2024 + IPC 2025 (3%)Biosanitario]]) -> 3628 | Q8: =AVERAGE(COTIZACIONES2025[[#This Row],[RH &CIUDAD LIMPIA Valor Kg Cortopunzantes]],COTIZACIONES2025[[#This Row],[DESCONT Valor Kg Cortopunzantes]],COTIZACIONES2025[[#This Row],[HISTORICO 2024 + IPC 2025 (3%) Cortopunzantes]]) -> 3628 | R8: =AVERAGE(COTIZACIONES2025[[#This Row],[RH &CIUDAD LIMPIA Valor Kg Animales]],COTIZACIONES2025[[#This Row],[DESCONT Valor Kg Animales]],COTIZACIONES2025[[#This Row],[HISTORICO 2024 + IPC 2025 (3%)Animales]]) -> 3628 | S8: =AVERAGE(COTIZACIONES2025[[#This Row],[RH &CIUDAD LIMPIA Valor Kg Quimicos]],COTIZACIONES2025[[#This Row],[DESCONT Valor Kg Quimicos]],COTIZACIONES2025[[#This Row],[HISTORICO 2024 + IPC 2025 (3%) Quimicos]]) -> 3694.6667
C9: LANIA / Tibaitatá Mosquera | D9: =+'Cotizaciones Empresas'!C73 -> 3500 | E9: =+'Cotizaciones Empresas'!D73 -> 3500 | F9: =+'Cotizaciones Empresas'!E73 -> 3500 | G9: =+'Cotizaciones Empresas'!F73 -> 3500 | H9: =+'Cotizaciones Empresas'!AJ73 -> 4500 | I9: =+'Cotizaciones Empresas'!AK73 -> 4500 | J9: =+'Cotizaciones Empresas'!AL73 -> 4500 | K9: =+'Cotizaciones Empresas'!AM73 -> 4700 | L9: =+'Cotizaciones Empresas'!BD73 -> 2884 | M9: =+'Cotizaciones Empresas'!BE73 -> 2884 | N9: =+'Cotizaciones Empresas'!BF73 -> 2884 | O9: 2884 | P9: =AVERAGE(COTIZACIONES2025[[#This Row],[RH &CIUDAD LIMPIA Valor Kg Biosanitario ]],COTIZACIONES2025[[#This Row],[DESCONT Valor Kg Biosanitario ]],COTIZACIONES2025[[#This Row],[HISTORICO 2024 + IPC 2025 (3%)Biosanitario]]) -> 3628 | Q9: =AVERAGE(COTIZACIONES2025[[#This Row],[RH &CIUDAD LIMPIA Valor Kg Cortopunzantes]],COTIZACIONES2025[[#This Row],[DESCONT Valor Kg Cortopunzantes]],COTIZACIONES2025[[#This Row],[HISTORICO 2024 + IPC 2025 (3%) Cortopunzantes]]) -> 3628 | R9: =AVERAGE(COTIZACIONES2025[[#This Row],[RH &CIUDAD LIMPIA Valor Kg Animales]],COTIZACIONES2025[[#This Row],[DESCONT Valor Kg Animales]],COTIZACIONES2025[[#This Row],[HISTORICO 2024 + IPC 2025 (3%)Animales]]) -> 3628 | S9: =AVERAGE(COTIZACIONES2025[[#This Row],[RH &CIUDAD LIMPIA Valor Kg Quimicos]],COTIZACIONES2025[[#This Row],[DESCONT Valor Kg Quimicos]],COTIZACIONES2025[[#This Row],[HISTORICO 2024 + IPC 2025 (3%) Quimicos]]) -> 3694.6667
C10: LNDF / Tibaitatá Mosquera | D10: =+'Cotizaciones Empresas'!C74 -> 3500 | E10: =+'Cotizaciones Empresas'!D74 -> 3500 | F10: =+'Cotizaciones Empresas'!E74 -> 3500 | G10: =+'Cotizaciones Empresas'!F74 -> 3500 | H10: =+'Cotizaciones Empresas'!AJ74 -> 4500 | I10: =+'Cotizaciones Empresas'!AK74 -> 4500 | J10: =+'Cotizaciones Empresas'!AL74 -> 4500 | K10: =+'Cotizaciones Empresas'!AM74 -> 4700 | L10: =+'Cotizaciones Empresas'!BD74 -> 2884 | M10: =+'Cotizaciones Empresas'!BE74 -> 2884 | N10: =+'Cotizaciones Empresas'!BF74 -> 2884 | O10: 2884 | P10: =AVERAGE(COTIZACIONES2025[[#This Row],[RH &CIUDAD LIMPIA Valor Kg Biosanitario ]],COTIZACIONES2025[[#This Row],[DESCONT Valor Kg Biosanitario ]],COTIZACIONES2025[[#This Row],[HISTORICO 2024 + IPC 2025 (3%)Biosanitario]]) -> 3628 | Q10: =AVERAGE(COTIZACIONES2025[[#This Row],[RH &CIUDAD LIMPIA Valor Kg Cortopunzantes]],COTIZACIONES2025[[#This Row],[DESCONT Valor Kg Cortopunzantes]],COTIZACIONES2025[[#This Row],[HISTORICO 2024 + IPC 2025 (3%) Cortopunzantes]]) -> 3628 | R10: =AVERAGE(COTIZACIONES2025[[#This Row],[RH &CIUDAD LIMPIA Valor Kg Animales]],COTIZACIONES2025[[#This Row],[DESCONT Valor Kg Animales]],COTIZACIONES2025[[#This Row],[HISTORICO 2024 + IPC 2025 (3%)Animales]]) -> 3628 | S10: =AVERAGE(COTIZACIONES2025[[#This Row],[RH &CIUDAD LIMPIA Valor Kg Quimicos]],COTIZACIONES2025[[#This Row],[DESCONT Valor Kg Quimicos]],COTIZACIONES2025[[#This Row],[HISTORICO 2024 + IPC 2025 (3%) Quimicos]]) -> 3694.6667
C11: LOGM / Tibaitatá Mosquera | D11: =+'Cotizaciones Empresas'!C75 -> 3500 | E11: =+'Cotizaciones Empresas'!D75 -> 3500 | F11: =+'Cotizaciones Empresas'!E75 -> 3500 | G11: =+'Cotizaciones Empresas'!F75 -> 3500 | H11: =+'Cotizaciones Empresas'!AJ75 -> 4500 | I11: =+'Cotizaciones Empresas'!AK75 -> 4500 | J11: =+'Cotizaciones Empresas'!AL75 -> 4500 | K11: =+'Cotizaciones Empresas'!AM75 -> 4700 | L11: =+'Cotizaciones Empresas'!BD75 -> 2884 | M11: =+'Cotizaciones Empresas'!BE75 -> 2884 | N11: =+'Cotizaciones Empresas'!BF75 -> 2884 | O11: 2884 | P11: =AVERAGE(COTIZACIONES2025[[#This Row],[RH &CIUDAD LIMPIA Valor Kg Biosanitario ]],COTIZACIONES2025[[#This Row],[DESCONT Valor Kg Biosanitario ]],COTIZACIONES2025[[#This Row],[HISTORICO 2024 + IPC 2025 (3%)Biosanitario]]) -> 3628 | Q11: =AVERAGE(COTIZACIONES2025[[#This Row],[RH &CIUDAD LIMPIA Valor Kg Cortopunzantes]],COTIZACIONES2025[[#This Row],[DESCONT Valor Kg Cortopunzantes]],COTIZACIONES2025[[#This Row],[HISTORICO 2024 + IPC 2025 (3%) Cortopunzantes]]) -> 3628 | R11: =AVERAGE(COTIZACIONES2025[[#This Row],[RH &CIUDAD LIMPIA Valor Kg Animales]],COTIZACIONES2025[[#This Row],[DESCONT Valor Kg Animales]],COTIZACIONES2025[[#This Row],[HISTORICO 2024 + IPC 2025 (3%)Animales]]) -> 3628 | S11: =AVERAGE(COTIZACIONES2025[[#This Row],[RH &CIUDAD LIMPIA Valor Kg Quimicos]],COTIZACIONES2025[[#This Row],[DESCONT Valor Kg Quimicos]],COTIZACIONES2025[[#This Row],[HISTORICO 2024 + IPC 2025 (3%) Quimicos]]) -> 3694.6667
C12: ECO San Jorge / Soacha | D12: =+'Cotizaciones Empresas'!C76 -> 3500 | E12: =+'Cotizaciones Empresas'!D76 -> 3500 | F12: =+'Cotizaciones Empresas'!E76 -> 3500 | G12: =+'Cotizaciones Empresas'!F76 -> 3500 | H12: =+'Cotizaciones Empresas'!AJ76 -> 4500 | I12: =+'Cotizaciones Empresas'!AK76 -> 4500 | J12: =+'Cotizaciones Empresas'!AL76 -> 4500 | K12: =+'Cotizaciones Empresas'!AM76 -> 4700 | L12: =+'Cotizaciones Empresas'!BD76 -> 2884 | M12: =+'Cotizaciones Empresas'!BE76 -> 2884 | N12: =+'Cotizaciones Empresas'!BF76 -> 2884 | O12: 2884 | P12: =AVERAGE(COTIZACIONES2025[[#This Row],[RH &CIUDAD LIMPIA Valor Kg Biosanitario ]],COTIZACIONES2025[[#This Row],[DESCONT Valor Kg Biosanitario ]],COTIZACIONES2025[[#This Row],[HISTORICO 2024 + IPC 2025 (3%)Biosanitario]]) -> 3628 | Q12: =AVERAGE(COTIZACIONES2025[[#This Row],[RH &CIUDAD LIMPIA Valor Kg Cortopunzantes]],COTIZACIONES2025[[#This Row],[DESCONT Valor Kg Cortopunzantes]],COTIZACIONES2025[[#This Row],[HISTORICO 2024 + IPC 2025 (3%) Cortopunzantes]]) -> 3628 | R12: =AVERAGE(COTIZACIONES2025[[#This Row],[RH &CIUDAD LIMPIA Valor Kg Animales]],COTIZACIONES2025[[#This Row],[DESCONT Valor Kg Animales]],COTIZACIONES2025[[#This Row],[HISTORICO 2024 + IPC 2025 (3%)Animales]]) -> 3628 | S12: =AVERAGE(COTIZACIONES2025[[#This Row],[RH &CIUDAD LIMPIA Valor Kg Quimicos]],COTIZACIONES2025[[#This Row],[DESCONT Valor Kg Quimicos]],COTIZACIONES2025[[#This Row],[HISTORICO 2024 + IPC 2025 (3%) Quimicos]]) -> 3694.6667
C13: Estación de Cuarentena vegetal / Mosquera | D13: =+'Cotizaciones Empresas'!C77 -> 3500 | E13: =+'Cotizaciones Empresas'!D77 -> 3500 | F13: =+'Cotizaciones Empresas'!E77 -> 3500 | G13: =+'Cotizaciones Empresas'!F77 -> 3500 | H13: =+'Cotizaciones Empresas'!AJ77 -> 4500 | I13: =+'Cotizaciones Empresas'!AK77 -> 4500 | J13: =+'Cotizaciones Empresas'!AL77 -> 4500 | K13: =+'Cotizaciones Empresas'!AM77 -> 4700 | L13: =+'Cotizaciones Empresas'!BD77 -> 2884 | M13: =+'Cotizaciones Empresas'!BE77 -> 2884 | N13: =+'Cotizaciones Empresas'!BF77 -> 2884 | O13: 2884 | P13: =AVERAGE(COTIZACIONES2025[[#This Row],[RH &CIUDAD LIMPIA Valor Kg Biosanitario ]],COTIZACIONES2025[[#This Row],[DESCONT Valor Kg Biosanitario ]],COTIZACIONES2025[[#This Row],[HISTORICO 2024 + IPC 2025 (3%)Biosanitario]]) -> 3628 | Q13: =AVERAGE(COTIZACIONES2025[[#This Row],[RH &CIUDAD LIMPIA Valor Kg Cortopunzantes]],COTIZACIONES2025[[#This Row],[DESCONT Valor Kg Cortopunzantes]],COTIZACIONES2025[[#This Row],[HISTORICO 2024 + IPC 2025 (3%) Cortopunzantes]]) -> 3628 | R13: =AVERAGE(COTIZACIONES2025[[#This Row],[RH &CIUDAD LIMPIA Valor Kg Animales]],COTIZACIONES2025[[#This Row],[DESCONT Valor Kg Animales]],COTIZACIONES2025[[#This Row],[HISTORICO 2024 + IPC 2025 (3%)Animales]]) -> 3628 | S13: =AVERAGE(COTIZACIONES2025[[#This Row],[RH &CIUDAD LIMPIA Valor Kg Quimicos]],COTIZACIONES2025[[#This Row],[DESCONT Valor Kg Quimicos]],COTIZACIONES2025[[#This Row],[HISTORICO 2024 + IPC 2025 (3%) Quimicos]]) -> 3694.6667
C14: Tibaitatá / Mosquera | D14: =+'Cotizaciones Empresas'!C78 -> 3500 | E14: =+'Cotizaciones Empresas'!D78 -> 3500 | F14: =+'Cotizaciones Empresas'!E78 -> 3500 | G14: =+'Cotizaciones Empresas'!F78 -> 3500 | H14: =+'Cotizaciones Empresas'!AJ78 -> 4500 | I14: =+'Cotizaciones Empresas'!AK78 -> 4500 | J14: =+'Cotizaciones Empresas'!AL78 -> 4500 | K14: =+'Cotizaciones Empresas'!AM78 -> 4700 | L14: =+'Cotizaciones Empresas'!BD78 -> 2884 | M14: =+'Cotizaciones Empresas'!BE78 -> 2884 | N14: =+'Cotizaciones Empresas'!BF78 -> 2884 | O14: 2884 | P14: =AVERAGE(COTIZACIONES2025[[#This Row],[RH &CIUDAD LIMPIA Valor Kg Biosanitario ]],COTIZACIONES2025[[#This Row],[DESCONT Valor Kg Biosanitario ]],COTIZACIONES2025[[#This Row],[HISTORICO 2024 + IPC 2025 (3%)Biosanitario]]) -> 3628 | Q14: =AVERAGE(COTIZACIONES2025[[#This Row],[RH &CIUDAD LIMPIA Valor Kg Cortopunzantes]],COTIZACIONES2025[[#This Row],[DESCONT Valor Kg Cortopunzantes]],COTIZACIONES2025[[#This Row],[HISTORICO 2024 + IPC 2025 (3%) Cortopunzantes]]) -> 3628 | R14: =AVERAGE(COTIZACIONES2025[[#This Row],[RH &CIUDAD LIMPIA Valor Kg Animales]],COTIZACIONES2025[[#This Row],[DESCONT Valor Kg Animales]],COTIZACIONES2025[[#This Row],[HISTORICO 2024 + IPC 2025 (3%)Animales]]) -> 3628 | S14: =AVERAGE(COTIZACIONES2025[[#This Row],[RH &CIUDAD LIMPIA Valor Kg Quimicos]],COTIZACIONES2025[[#This Row],[DESCONT Valor Kg Quimicos]],COTIZACIONES2025[[#This Row],[HISTORICO 2024 + IPC 2025 (3%) Quimicos]]) -> 3694.6667
C15: Soacha | D15: =+'Cotizaciones Empresas'!C79 -> 3500 | E15: =+'Cotizaciones Empresas'!D79 -> 3500 | F15: =+'Cotizaciones Empresas'!E79 -> 3500 | G15: =+'Cotizaciones Empresas'!F79 -> 3500 | H15: =+'Cotizaciones Empresas'!AJ79 -> 4500 | I15: =+'Cotizaciones Empresas'!AK79 -> 4500 | J15: =+'Cotizaciones Empresas'!AL79 -> 4500 | K15: =+'Cotizaciones Empresas'!AM79 -> 4700 | L15: =+'Cotizaciones Empresas'!BD79 -> 2884 | M15: =+'Cotizaciones Empresas'!BE79 -> 2884 | N15: =+'Cotizaciones Empresas'!BF79 -> 2884 | O15: 2884 | P15: =AVERAGE(COTIZACIONES2025[[#This Row],[RH &CIUDAD LIMPIA Valor Kg Biosanitario ]],COTIZACIONES2025[[#This Row],[DESCONT Valor Kg Biosanitario ]],COTIZACIONES2025[[#This Row],[HISTORICO 2024 + IPC 2025 (3%)Biosanitario]]) -> 3628 | Q15: =AVERAGE(COTIZACIONES2025[[#This Row],[RH &CIUDAD LIMPIA Valor Kg Cortopunzantes]],COTIZACIONES2025[[#This Row],[DESCONT Valor Kg Cortopunzantes]],COTIZACIONES2025[[#This Row],[HISTORICO 2024 + IPC 2025 (3%) Cortopunzantes]]) -> 3628 | R15: =AVERAGE(COTIZACIONES2025[[#This Row],[RH &CIUDAD LIMPIA Valor Kg Animales]],COTIZACIONES2025[[#This Row],[DESCONT Valor Kg Animales]],COTIZACIONES2025[[#This Row],[HISTORICO 2024 + IPC 2025 (3%)Animales]]) -> 3628 | S15: =AVERAGE(COTIZACIONES2025[[#This Row],[RH &CIUDAD LIMPIA Valor Kg Quimicos]],COTIZACIONES2025[[#This Row],[DESCONT Valor Kg Quimicos]],COTIZACIONES2025[[#This Row],[HISTORICO 2024 + IPC 2025 (3%) Quimicos]]) -> 3694.6667
C16: Tabio | D16: =+'Cotizaciones Empresas'!C80 -> 3500 | E16: =+'Cotizaciones Empresas'!D80 -> 3500 | F16: =+'Cotizaciones Empresas'!E80 -> 3500 | G16: =+'Cotizaciones Empresas'!F80 -> 3500 | H16: =+'Cotizaciones Empresas'!AJ80 -> 4500 | I16: =+'Cotizaciones Empresas'!AK80 -> 4500 | J16: =+'Cotizaciones Empresas'!AL80 -> 4500 | K16: =+'Cotizaciones Empresas'!AM80 -> 4700 | L16: =+'Cotizaciones Empresas'!BD80 -> 2884 | M16: =+'Cotizaciones Empresas'!BE80 -> 2884 | N16: =+'Cotizaciones Empresas'!BF80 -> 2884 | O16: 2884 | P16: =AVERAGE(COTIZACIONES2025[[#This Row],[RH &CIUDAD LIMPIA Valor Kg Biosanitario ]],COTIZACIONES2025[[#This Row],[DESCONT Valor Kg Biosanitario ]],COTIZACIONES2025[[#This Row],[HISTORICO 2024 + IPC 2025 (3%)Biosanitario]]) -> 3628 | Q16: =AVERAGE(COTIZACIONES2025[[#This Row],[RH &CIUDAD LIMPIA Valor Kg Cortopunzantes]],COTIZACIONES2025[[#This Row],[DESCONT Valor Kg Cortopunzantes]],COTIZACIONES2025[[#This Row],[HISTORICO 2024 + IPC 2025 (3%) Cortopunzantes]]) -> 3628 | R16: =AVERAGE(COTIZACIONES2025[[#This Row],[RH &CIUDAD LIMPIA Valor Kg Animales]],COTIZACIONES2025[[#This Row],[DESCONT Valor Kg Animales]],COTIZACIONES2025[[#This Row],[HISTORICO 2024 + IPC 2025 (3%)Animales]]) -> 3628 | S16: =AVERAGE(COTIZACIONES2025[[#This Row],[RH &CIUDAD LIMPIA Valor Kg Quimicos]],COTIZACIONES2025[[#This Row],[DESCONT Valor Kg Quimicos]],COTIZACIONES2025[[#This Row],[HISTORICO 2024 + IPC 2025 (3%) Quimicos]]) -> 3694.6667
... C30: Girardot | D30: =+'Cotizaciones Empresas'!C94 -> 3500 | E30: =+'Cotizaciones Empresas'!D94 -> 3500 | F30: =+'Cotizaciones Empresas'!E94 -> 3500 | G30: =+'Cotizaciones Empresas'!F94 -> 3500 | H30: =+'Cotizaciones Empresas'!AJ94 -> 4500 | I30: =+'Cotizaciones Empresas'!AK94 -> 4500 | J30: =+'Cotizaciones Empresas'!AL94 -> 4500 | K30: =+'Cotizaciones Empresas'!AM94 -> 4700 | L30: =+'Cotizaciones Empresas'!BD94 -> 3811 | M30: =+'Cotizaciones Empresas'!BE94 -> 3811 | N30: =+'Cotizaciones Empresas'!BF94 -> 3811 | O30: 3811 | P30: =AVERAGE(COTIZACIONES2025[[#This Row],[RH &CIUDAD LIMPIA Valor Kg Biosanitario ]],COTIZACIONES2025[[#This Row],[DESCONT Valor Kg Biosanitario ]],COTIZACIONES2025[[#This Row],[HISTORICO 2024 + IPC 2025 (3%)Biosanitario]]) -> 3937 | Q30: =AVERAGE(COTIZACIONES2025[[#This Row],[RH &CIUDAD LIMPIA Valor Kg Cortopunzantes]],COTIZACIONES2025[[#This Row],[DESCONT Valor Kg Cortopunzantes]],COTIZACIONES2025[[#This Row],[HISTORICO 2024 + IPC 2025 (3%) Cortopunzantes]]) -> 3937 | R30: =AVERAGE(COTIZACIONES2025[[#This Row],[RH &CIUDAD LIMPIA Valor Kg Animales]],COTIZACIONES2025[[#This Row],[DESCONT Valor Kg Animales]],COTIZACIONES2025[[#This Row],[HISTORICO 2024 + IPC 2025 (3%)Animales]]) -> 3937 | S30: =AVERAGE(COTIZACIONES2025[[#This Row],[RH &CIUDAD LIMPIA Valor Kg Quimicos]],COTIZACIONES2025[[#This Row],[DESCONT Valor Kg Quimicos]],COTIZACIONES2025[[#This Row],[HISTORICO 2024 + IPC 2025 (3%) Quimicos]]) -> 4003.6667
B33: PRESUPUESTO 2025 SAD, SPA & SPF | F33: DISTRIBUCIÓN PRESUPUESTO TIPO DE DESECHO
B34: DEPARTAMENTO | C34: MUNICIPIO | D34: PRESUPUESTO 2025 | E34: Columna1 | F34: DEPARTAMENTO | G34: MUNICIPIO | H34: PRESUPUESTO 2025 Biosanitario | I34: PRESUPUESTO 2025 Cortopunzantes | J34: PRESUPUESTO 2025 Animales | K34: PRESUPUESTO 2025 Quimicos
B35: Cundinamarca | C35: LNDV / Bogotá | D35: =+'D.P. 2025 SAD, SPA & SPF'!D69 -> 60000000 | E35: =+PRESUPUSTO_2025[[#This Row],[PRESUPUESTO 2025]]/4 -> 15000000 | F35: Cundinamarca | G35: LNDV / Bogotá | H35: =+PRESUPUSTO_2025[[#This Row],[Columna1]] -> 15000000 | I35: =+PRESUPUSTO_2025[[#This Row],[Columna1]] -> 15000000 | J35: =+PRESUPUSTO_2025[[#This Row],[Columna1]] -> 15000000 | K35: =+PRESUPUSTO_2025[[#This Row],[Columna1]] -> 15000000
C36: LANIP / Mosquera | D36: =+'D.P. 2025 SAD, SPA & SPF'!D70 -> 40000000 | E36: =+PRESUPUSTO_2025[[#This Row],[PRESUPUESTO 2025]]/4 -> 10000000 | G36: LANIP / Mosquera | H36: =+PRESUPUSTO_2025[[#This Row],[Columna1]] -> 10000000 | I36: =+PRESUPUSTO_2025[[#This Row],[Columna1]] -> 10000000 | J36: =+PRESUPUSTO_2025[[#This Row],[Columna1]] -> 10000000 | K36: =+PRESUPUSTO_2025[[#This Row],[Columna1]] -> 10000000
C37: LNTC / Mosquera | D37: =+'D.P. 2025 SAD, SPA & SPF'!D71 -> 7500000 | E37: =+PRESUPUSTO_2025[[#This Row],[PRESUPUESTO 2025]]/3 -> 2500000 | G37: LNTC / Mosquera | H37: =+PRESUPUSTO_2025[[#This Row],[Columna1]] -> 2500000 | I37: =+PRESUPUSTO_2025[[#This Row],[Columna1]] -> 2500000 | J37: 0 | K37: =+PRESUPUSTO_2025[[#This Row],[Columna1]] -> 2500000
C38: LCV / Mosquera | D38: =+'D.P. 2025 SAD, SPA & SPF'!D72 -> 7500000 | E38: =+PRESUPUSTO_2025[[#This Row],[PRESUPUESTO 2025]]/3 -> 2500000 | G38: LCV / Mosquera | H38: =+PRESUPUSTO_2025[[#This Row],[Columna1]] -> 2500000 | I38: =+PRESUPUSTO_2025[[#This Row],[Columna1]] -> 2500000 | J38: 0 | K38: =+PRESUPUSTO_2025[[#This Row],[Columna1]] -> 2500000
C39: LANASE / Mosquera | D39: =+'D.P. 2025 SAD, SPA & SPF'!D73 -> 1000000 | E39: =+PRESUPUSTO_2025[[#This Row],[PRESUPUESTO 2025]]/3 -> 333333.33 | G39: LANASE / Mosquera | H39: =+PRESUPUSTO_2025[[#This Row],[Columna1]] -> 333333.33 | I39: =+PRESUPUSTO_2025[[#This Row],[Columna1]] -> 333333.33 | J39: 0 | K39: =+PRESUPUSTO_2025[[#This Row],[Columna1]] -> 333333.33
C40: LANIA / Tibaitatá Mosquera | D40: =+'D.P. 2025 SAD, SPA & SPF'!D74 -> 27000000 | E40: =+PRESUPUSTO_2025[[#This Row],[PRESUPUESTO 2025]]/3 -> 9000000 | G40: LANIA / Tibaitatá Mosquera | H40: =+PRESUPUSTO_2025[[#This Row],[Columna1]] -> 9000000 | I40: =+PRESUPUSTO_2025[[#This Row],[Columna1]] -> 9000000 | J40: 0 | K40: =+PRESUPUSTO_2025[[#This Row],[Columna1]] -> 9000000
C41: LNDF / Tibaitatá Mosquera | D41: =+'D.P. 2025 SAD, SPA & SPF'!D75 -> 7500000 | E41: =+PRESUPUSTO_2025[[#This Row],[PRESUPUESTO 2025]]/3 -> 2500000 | G41: LNDF / Tibaitatá Mosquera | H41: =+PRESUPUSTO_2025[[#This Row],[Columna1]] -> 2500000 | I41: =+PRESUPUSTO_2025[[#This Row],[Columna1]] -> 2500000 | J41: 0 | K41: =+PRESUPUSTO_2025[[#This Row],[Columna1]] -> 2500000
C42: LOGM / Tibaitatá Mosquera | D42: =+'D.P. 2025 SAD, SPA & SPF'!D76 -> 7500000 | E42: =+PRESUPUSTO_2025[[#This Row],[PRESUPUESTO 2025]]/3 -> 2500000 | G42: LOGM / Tibaitatá Mosquera | H42: =+PRESUPUSTO_2025[[#This Row],[Columna1]] -> 2500000 | I42: =+PRESUPUSTO_2025[[#This Row],[Columna1]] -> 2500000 | J42: 0 | K42: =+PRESUPUSTO_2025[[#This Row],[Columna1]] -> 2500000
C43: ECO San Jorge / Soacha | D43: =+'D.P. 2025 SAD, SPA & SPF'!D77 -> 2500000 | E43: =+PRESUPUSTO_2025[[#This Row],[PRESUPUESTO 2025]]/4 -> 625000 | G43: ECO San Jorge / Soacha | H43: =+PRESUPUSTO_2025[[#This Row],[Columna1]] -> 625000 | I43: =+PRESUPUSTO_2025[[#This Row],[Columna1]] -> 625000 | J43: =+PRESUPUSTO_2025[[#This Row],[Columna1]] -> 625000 | K43: =+PRESUPUSTO_2025[[#This Row],[Columna1]] -> 625000
C44: Estación de Cuarentena vegetal / Mosquera | D44: =+'D.P. 2025 SAD, SPA & SPF'!D78 -> 2500000 | E44: =+PRESUPUSTO_2025[[#This Row],[PRESUPUESTO 2025]]/3 -> 833333.33 | G44: Estación de Cuarentena vegetal / Mosquera | H44: =+PRESUPUSTO_2025[[#This Row],[Columna1]] -> 833333.33 | I44: =+PRESUPUSTO_2025[[#This Row],[Columna1]] -> 833333.33 | J44: 0 | K44: =+PRESUPUSTO_2025[[#This Row],[Columna1]] -> 833333.33
C45: Tibaitatá / Mosquera | D45: =+'D.P. 2025 SAD, SPA & SPF'!E79 -> 0 | E45: =+PRESUPUSTO_2025[[#This Row],[PRESUPUESTO 2025]]/4 -> 0 | G45: Tibaitatá / Mosquera
C46: Soacha | D46: =+'D.P. 2025 SAD, SPA & SPF'!E80 -> 0 | E46: =+PRESUPUSTO_2025[[#This Row],[PRESUPUESTO 2025]]/4 -> 0 | G46: Soacha
C47: Tabio | D47: =+'D.P. 2025 SAD, SPA & SPF'!E81 -> 0 | E47: =+PRESUPUSTO_2025[[#This Row],[PRESUPUESTO 2025]]/4 -> 0 | G47: Tabio
C48: Chía | D48: =+'D.P. 2025 SAD, SPA & SPF'!E82 -> 0 | E48: =+PRESUPUSTO_2025[[#This Row],[PRESUPUESTO 2025]]/4 -> 0 | G48: Chía
C49: Ubaté | D49: =+'D.P. 2025 SAD, SPA & SPF'!E83 -> 0 | E49: =+PRESUPUSTO_2025[[#This Row],[PRESUPUESTO 2025]]/4 -> 0 | G49: Ubaté
C50: Cáqueza | D50: =+'D.P. 2025 SAD, SPA & SPF'!E84 -> 0 | E50: =+PRESUPUSTO_2025[[#This Row],[PRESUPUESTO 2025]]/4 -> 0 | G50: Cáqueza
C51: Fusagasugá | D51: =+'D.P. 2025 SAD, SPA & SPF'!E85 -> 0 | E51: =+PRESUPUSTO_2025[[#This Row],[PRESUPUESTO 2025]]/4 -> 0 | G51: Fusagasugá
C52: Zipaquirá | D52: =+'D.P. 2025 SAD, SPA & SPF'!E86 -> 0 | E52: =+PRESUPUSTO_2025[[#This Row],[PRESUPUESTO 2025]]/4 -> 0 | G52: Zipaquirá
C53: Yacopí | D53: =+'D.P. 2025 SAD, SPA & SPF'!E87 -> 0 | E53: =+PRESUPUSTO_2025[[#This Row],[PRESUPUESTO 2025]]/4 -> 0 | G53: Yacopí
C54: Pacho | D54: =+'D.P. 2025 SAD, SPA & SPF'!E88 -> 0 | E54: =+PRESUPUSTO_2025[[#This Row],[PRESUPUESTO 2025]]/4 -> 0 | G54: Pacho
C55: Medina | D55: =+'D.P. 2025 SAD, SPA & SPF'!E89 -> 0 | E55: =+PRESUPUSTO_2025[[#This Row],[PRESUPUESTO 2025]]/4 -> 0 | G55: Medina
C56: Chocontá | D56: =+'D.P. 2025 SAD, SPA & SPF'!E90 -> 0 | E56: =+PRESUPUSTO_2025[[#This Row],[PRESUPUESTO 2025]]/4 -> 0 | G56: Chocontá
...

Sheet ARAUCA
B1: COTIZACIONES PARA 2025
B3: DEPARTAMENTO | C3: MUNICIPIO | D3: EDEPSA Valor Kg Biosanitario | E3: EDEPSA Valor Kg Cortopunzantes | F3: EDEPSA Valor Kg Animales | G3: EDEPSA Valor Kg Quimicos | H3: Valor Kg Biosanitario | I3: Valor Kg Cortopunzantes | J3: Valor Kg Animales | K3: Valor Kg Quimicos | L3: HISTORICO 2024 + IPC 2025 (3%)Biosanitario | M3: HISTORICO 2024 + IPC 2025 (3%) Cortopunzantes | N3: HISTORICO 2024 + IPC 2025 (3%)Animales | O3: HISTORICO 2024 + IPC 2025 (3%) Quimicos | P3: Valor promedio de Kilogramo Biosanitario | Q3: Valor promedio de Kilogramo Cortopunzantes | R3: Valor promedio de Kilogramog Animales | S3: Valor promedio de Kilogramo Quimicos
B4: ARAUCA | C4: LDV Arauca | D4: 8000 | E4: 8000 | F4: 8000 | G4: 8000 | L4: 5356 | M4: 5356 | N4: 5356 | O4: 5356 | P4: =AVERAGE(COTIZACIONES20252[[#This Row],[EDEPSA Valor Kg Biosanitario ]],COTIZACIONES20252[[#This Row],[ Valor Kg Biosanitario ]],COTIZACIONES20252[[#This Row],[HISTORICO 2024 + IPC 2025 (3%)Biosanitario]]) -> 6678 | Q4: =AVERAGE(COTIZACIONES20252[[#This Row],[EDEPSA Valor Kg Cortopunzantes]],COTIZACIONES20252[[#This Row],[ Valor Kg Cortopunzantes]],COTIZACIONES20252[[#This Row],[HISTORICO 2024 + IPC 2025 (3%) Cortopunzantes]]) -> 6678 | R4: =AVERAGE(COTIZACIONES20252[[#This Row],[EDEPSA Valor Kg Animales]],COTIZACIONES20252[[#This Row],[ Valor Kg Animales]],COTIZACIONES20252[[#This Row],[HISTORICO 2024 + IPC 2025 (3%)Animales]]) -> 6678 | S4: =AVERAGE(COTIZACIONES20252[[#This Row],[EDEPSA Valor Kg Quimicos]],COTIZACIONES20252[[#This Row],[ Valor Kg Quimicos]],COTIZACIONES20252[[#This Row],[HISTORICO 2024 + IPC 2025 (3%) Quimicos]]) -> 6678
C5: Arauca | D5: =+'Cotizaciones Empresas'!K11 -> 8000 | E5: =+'Cotizaciones Empresas'!L11 -> 8000 | F5: =+'Cotizaciones Empresas'!M11 -> 8000 | G5: =+'Cotizaciones Empresas'!N11 -> 8000 | L5: =+'Cotizaciones Empresas'!BD11 -> 5356 | M5: =+'Cotizaciones Empresas'!BE11 -> 5356 | N5: =+'Cotizaciones Empresas'!BF11 -> 5356 | O5: =+'Cotizaciones Empresas'!BG11 -> 5356 | P5: =AVERAGE(COTIZACIONES20252[[#This Row],[EDEPSA Valor Kg Biosanitario ]],COTIZACIONES20252[[#This Row],[ Valor Kg Biosanitario ]],COTIZACIONES20252[[#This Row],[HISTORICO 2024 + IPC 2025 (3%)Biosanitario]]) -> 6678 | Q5: =AVERAGE(COTIZACIONES20252[[#This Row],[EDEPSA Valor Kg Cortopunzantes]],COTIZACIONES20252[[#This Row],[ Valor Kg Cortopunzantes]],COTIZACIONES20252[[#This Row],[HISTORICO 2024 + IPC 2025 (3%) Cortopunzantes]]) -> 6678 | R5: =AVERAGE(COTIZACIONES20252[[#This Row],[EDEPSA Valor Kg Animales]],COTIZACIONES20252[[#This Row],[ Valor Kg Animales]],COTIZACIONES20252[[#This Row],[HISTORICO 2024 + IPC 2025 (3%)Animales]]) -> 6678 | S5: =AVERAGE(COTIZACIONES20252[[#This Row],[EDEPSA Valor Kg Quimicos]],COTIZACIONES20252[[#This Row],[ Valor Kg Quimicos]],COTIZACIONES20252[[#This Row],[HISTORICO 2024 + IPC 2025 (3%) Quimicos]]) -> 6678
C6: Arauquita | D6: =+'Cotizaciones Empresas'!K12 -> 8000 | E6: =+'Cotizaciones Empresas'!L12 -> 8000 | F6: =+'Cotizaciones Empresas'!M12 -> 8000 | G6: =+'Cotizaciones Empresas'!N12 -> 8000 | L6: =+'Cotizaciones Empresas'!BD12 -> 5356 | M6: =+'Cotizaciones Empresas'!BE12 -> 5356 | N6: =+'Cotizaciones Empresas'!BF12 -> 5356 | O6: =+'Cotizaciones Empresas'!BG12 -> 5356 | P6: =AVERAGE(COTIZACIONES20252[[#This Row],[EDEPSA Valor Kg Biosanitario ]],COTIZACIONES20252[[#This Row],[ Valor Kg Biosanitario ]],COTIZACIONES20252[[#This Row],[HISTORICO 2024 + IPC 2025 (3%)Biosanitario]]) -> 6678 | Q6: =AVERAGE(COTIZACIONES20252[[#This Row],[EDEPSA Valor Kg Cortopunzantes]],COTIZACIONES20252[[#This Row],[ Valor Kg Cortopunzantes]],COTIZACIONES20252[[#This Row],[HISTORICO 2024 + IPC 2025 (3%) Cortopunzantes]]) -> 6678 | R6: =AVERAGE(COTIZACIONES20252[[#This Row],[EDEPSA Valor Kg Animales]],COTIZACIONES20252[[#This Row],[ Valor Kg Animales]],COTIZACIONES20252[[#This Row],[HISTORICO 2024 + IPC 2025 (3%)Animales]]) -> 6678 | S6: =AVERAGE(COTIZACIONES20252[[#This Row],[EDEPSA Valor Kg Quimicos]],COTIZACIONES20252[[#This Row],[ Valor Kg Quimicos]],COTIZACIONES20252[[#This Row],[HISTORICO 2024 + IPC 2025 (3%) Quimicos]]) -> 6678
C7: Tame | D7: =+'Cotizaciones Empresas'!K13 -> 8000 | E7: =+'Cotizaciones Empresas'!L13 -> 8000 | F7: =+'Cotizaciones Empresas'!M13 -> 8000 | G7: =+'Cotizaciones Empresas'!N13 -> 8000 | L7: =+'Cotizaciones Empresas'!BD13 -> 5356 | M7: =+'Cotizaciones Empresas'!BE13 -> 5356 | N7: =+'Cotizaciones Empresas'!BF13 -> 5356 | O7: =+'Cotizaciones Empresas'!BG13 -> 5356 | P7: =AVERAGE(COTIZACIONES20252[[#This Row],[EDEPSA Valor Kg Biosanitario ]],COTIZACIONES20252[[#This Row],[ Valor Kg Biosanitario ]],COTIZACIONES20252[[#This Row],[HISTORICO 2024 + IPC 2025 (3%)Biosanitario]]) -> 6678 | Q7: =AVERAGE(COTIZACIONES20252[[#This Row],[EDEPSA Valor Kg Cortopunzantes]],COTIZACIONES20252[[#This Row],[ Valor Kg Cortopunzantes]],COTIZACIONES20252[[#This Row],[HISTORICO 2024 + IPC 2025 (3%) Cortopunzantes]]) -> 6678 | R7: =AVERAGE(COTIZACIONES20252[[#This Row],[EDEPSA Valor Kg Animales]],COTIZACIONES20252[[#This Row],[ Valor Kg Animales]],COTIZACIONES20252[[#This Row],[HISTORICO 2024 + IPC 2025 (3%)Animales]]) -> 6678 | S7: =AVERAGE(COTIZACIONES20252[[#This Row],[EDEPSA Valor Kg Quimicos]],COTIZACIONES20252[[#This Row],[ Valor Kg Quimicos]],COTIZACIONES20252[[#This Row],[HISTORICO 2024 + IPC 2025 (3%) Quimicos]]) -> 6678
C8: Saravena | D8: =+'Cotizaciones Empresas'!K14 -> 8000 | E8: =+'Cotizaciones Empresas'!L14 -> 8000 | F8: =+'Cotizaciones Empresas'!M14 -> 8000 | G8: =+'Cotizaciones Empresas'!N14 -> 8000 | L8: =+'Cotizaciones Empresas'!BD14 -> 5356 | M8: =+'Cotizaciones Empresas'!BE14 -> 5356 | N8: =+'Cotizaciones Empresas'!BF14 -> 5356 | O8: =+'Cotizaciones Empresas'!BG14 -> 5356 | P8: =AVERAGE(COTIZACIONES20252[[#This Row],[EDEPSA Valor Kg Biosanitario ]],COTIZACIONES20252[[#This Row],[ Valor Kg Biosanitario ]],COTIZACIONES20252[[#This Row],[HISTORICO 2024 + IPC 2025 (3%)Biosanitario]]) -> 6678 | Q8: =AVERAGE(COTIZACIONES20252[[#This Row],[EDEPSA Valor Kg Cortopunzantes]],COTIZACIONES20252[[#This Row],[ Valor Kg Cortopunzantes]],COTIZACIONES20252[[#This Row],[HISTORICO 2024 + IPC 2025 (3%) Cortopunzantes]]) -> 6678 | R8: =AVERAGE(COTIZACIONES20252[[#This Row],[EDEPSA Valor Kg Animales]],COTIZACIONES20252[[#This Row],[ Valor Kg Animales]],COTIZACIONES20252[[#This Row],[HISTORICO 2024 + IPC 2025 (3%)Animales]]) -> 6678 | S8: =AVERAGE(COTIZACIONES20252[[#This Row],[EDEPSA Valor Kg Quimicos]],COTIZACIONES20252[[#This Row],[ Valor Kg Quimicos]],COTIZACIONES20252[[#This Row],[HISTORICO 2024 + IPC 2025 (3%) Quimicos]]) -> 6678
B11: PRESUPUESTO 2025 SAD, SPA & SPF | F11: DISTRIBUCIÓN PRESUPUESTO TIPO DE DESECHO
B12: DEPARTAMENTO | C12: MUNICIPIO | D12: PRESUPUESTO 2025 | E12: Columna1 | F12: DEPARTAMENTO | G12: MUNICIPIO | H12: PRESUPUESTO 2025 Biosanitario | I12: PRESUPUESTO 2025 Cortopunzantes | J12: PRESUPUESTO 2025 Animales | K12: PRESUPUESTO 2025 Quimicos
B13: ARAUCA | C13: LDV Arauca | D13: 4800000 | E13: =+PRESUPUSTO_20254[[#This Row],[PRESUPUESTO 2025]]/4 -> 1200000 | F13: ARAUCA | G13: LDV Arauca | H13: =+PRESUPUSTO_20254[[#This Row],[Columna1]] -> 1200000 | I13: =+PRESUPUSTO_20254[[#This Row],[Columna1]] -> 1200000 | J13: =+PRESUPUSTO_20254[[#This Row],[Columna1]] -> 1200000 | K13: =+PRESUPUSTO_20254[[#This Row],[Columna1]] -> 1200000
C14: Arauca | E14: =+PRESUPUSTO_20254[[#This Row],[PRESUPUESTO 2025]]/4 -> 0 | G14: Arauca | H14: =+PRESUPUSTO_20254[[#This Row],[Columna1]] -> 0 | I14: =+PRESUPUSTO_20254[[#This Row],[Columna1]] -> 0 | J14: =+PRESUPUSTO_20254[[#This Row],[Columna1]] -> 0 | K14: =+PRESUPUSTO_20254[[#This Row],[Columna1]] -> 0
E15: =+PRESUPUSTO_20254[[#This Row],[PRESUPUESTO 2025]]/3 -> 0 | G15: Arauquita | H15: =+PRESUPUSTO_20254[[#This Row],[Columna1]] -> 0 | I15: =+PRESUPUSTO_20254[[#This Row],[Columna1]] -> 0 | J15: 0 | K15: =+PRESUPUSTO_20254[[#This Row],[Columna1]] -> 0
E16: =+PRESUPUSTO_20254[[#This Row],[PRESUPUESTO 2025]]/3 -> 0 | G16: Tame | H16: =+PRESUPUSTO_20254[[#This Row],[Columna1]] -> 0 | I16: =+PRESUPUSTO_20254[[#This Row],[Columna1]] -> 0 | J16: 0 | K16: =+PRESUPUSTO_20254[[#This Row],[Columna1]] -> 0
E17: =+PRESUPUSTO_20254[[#This Row],[PRESUPUESTO 2025]]/3 -> 0 | G17: Saravena | H17: =+PRESUPUSTO_20254[[#This Row],[Columna1]] -> 0 | I17: =+PRESUPUSTO_20254[[#This Row],[Columna1]] -> 0 | J17: 0 | K17: =+PRESUPUSTO_20254[[#This Row],[Columna1]] -> 0
C18: Total | D18: =SUBTOTAL(109,PRESUPUSTO_20254[PRESUPUESTO 2025]) -> 4800000 | E18: =SUBTOTAL(109,PRESUPUSTO_20254[Columna1]) -> 1200000
B20: Proyección kilogramos 2025
B21: DEPARTAMENTO | C21: MUNICIPIO | D21: Proyección kilogramos 2025 Biosanitario | E21: Proyección kilogramos 2025 Cortopunzantes | F21: Proyección kilogramos 2025 Animales | G21: Proyección kilogramos 2025 Quimicos | H21: TOTAL DE KILOGRAMOS | J21: 719
B22: ARAUCA | C22: LDV Arauca | D22: 180 | E22: 180 | F22: 180 | G22: 180 | H22: =+ProyeccionKg202510[[#This Row],[Proyección kilogramos 2025 Biosanitario ]]+ProyeccionKg202510[[#This Row],[Proyección kilogramos 2025 Cortopunzantes]]+ProyeccionKg202510[[#This Row],[Proyección kilogramos 2025 Animales]]+ProyeccionKg202510[[#This Row],[Proyección kilogramos 2025 Quimicos]] -> 720 | J22: 20
C23: Arauca | J23: =+J21/J22 -> 35.95
C27: Total | D27: =SUBTOTAL(109,ProyeccionKg202510[[Proyección kilogramos 2025 Biosanitario ]]) -> 180 | E27: =SUBTOTAL(109,ProyeccionKg202510[Proyección kilogramos 2025 Cortopunzantes]) -> 180 | F27: =SUBTOTAL(109,ProyeccionKg202510[Proyección kilogramos 2025 Animales]) -> 180 | G27: =SUBTOTAL(109,ProyeccionKg202510[Proyección kilogramos 2025 Quimicos]) -> 180 | H27: =SUBTOTAL(109,ProyeccionKg202510[[TOTAL DE KILOGRAMOS ]]) -> 720
B30: Subgerencia de Análisis y Diagnóstico- SAD
B31: SECCIONAL | C31: SEDE | D31: UNIDAD DE MEDIDA | E31: Cantidades requeridas (kg)
E32: Biosanitario | F32: Cortopunzantes | G32: Animales | H32: Quimicos | I32: TOTAL DE KILOGRAMOS
B33: ARAUCA | C33: LDV Arauca | D33: KILOGRAMOS | E33: =+D22 -> 180 | F33: =+E22 -> 180 | G33: =+F22 -> 180 | H33: =+G22 -> 180 | I33: =+H22 -> 720
B36: Seccional Cundinamarca (Subgerencia de Protección Animal)
B37: SECCIONALES | C37: SEDE | D37: UNIDAD DE MEDIDA | E37: Cantidades requeridas (kg)
E38: Biosanitario | F38: Cortopunzantes | G38: Animales | H38: Quimicos | I38: TOTAL DE KILOGRAMOS
B39: ARAUCA | C39: Arauca | D39: KILOGRAMOS | E39: =+D23 -> 0 | F39: =+E23 -> 0 | G39: =+F23 -> 0 | H39: =+G23 -> 0 | I39: =+H23 -> 0
D40: KILOGRAMOS | F40: =+E24 -> 0 | G40: =+F24 -> 0 | H40: =+G24 -> 0 | I40: =+H24 -> 0
D41: KILOGRAMOS | F41: =+E25 -> 0 | G41: =+F25 -> 0 | H41: =+G25 -> 0 | I41: =+H25 -> 0
D42: KILOGRAMOS | F42: =+E26 -> 0 | G42: =+F26 -> 0 | H42: =+G26 -> 0 | I42: =+H26 -> 0

Sheet ARMENIA
B1: COTIZACIONES PARA 2025
B3: DEPARTAMENTO | C3: MUNICIPIO | D3: EDEPSA Valor Kg Biosanitario | E3: EDEPSA Valor Kg Cortopunzantes | F3: EDEPSA Valor Kg Animales | G3: EDEPSA Valor Kg Quimicos | H3: Valor Kg Biosanitario | I3: Valor Kg Cortopunzantes | J3: Valor Kg Animales | K3: Valor Kg Quimicos | L3: HISTORICO 2024 + IPC 2025 (3%)Biosanitario | M3: HISTORICO 2024 + IPC 2025 (3%) Cortopunzantes | N3: HISTORICO 2024 + IPC 2025 (3%)Animales | O3: HISTORICO 2024 + IPC 2025 (3%) Quimicos | P3: Valor promedio de Kilogramo Biosanitario | Q3: Valor promedio de Kilogramo Cortopunzantes | R3: Valor promedio de Kilogramog Animales | S3: Valor promedio de Kilogramo Quimicos
B4: ARAUCA | C4: LDV Arauca | D4: 8000 | E4: 8000 | F4: 8000 | G4: 8000 | L4: 5356 | M4: 5356 | N4: 5356 | O4: 5356 | P4: =AVERAGE(COTIZACIONES2025256[[#This Row],[EDEPSA Valor Kg Biosanitario ]],COTIZACIONES2025256[[#This Row],[ Valor Kg Biosanitario ]],COTIZACIONES2025256[[#This Row],[HISTORICO 2024 + IPC 2025 (3%)Biosanitario]]) -> 6678 | Q4: =AVERAGE(COTIZACIONES2025256[[#This Row],[EDEPSA Valor Kg Cortopunzantes]],COTIZACIONES2025256[[#This Row],[ Valor Kg Cortopunzantes]],COTIZACIONES2025256[[#This Row],[HISTORICO 2024 + IPC 2025 (3%) Cortopunzantes]]) -> 6678 | R4: =AVERAGE(COTIZACIONES2025256[[#This Row],[EDEPSA Valor Kg Animales]],COTIZACIONES2025256[[#This Row],[ Valor Kg Animales]],COTIZACIONES2025256[[#This Row],[HISTORICO 2024 + IPC 2025 (3%)Animales]]) -> 6678 | S4: =AVERAGE(COTIZACIONES2025256[[#This Row],[EDEPSA Valor Kg Quimicos]],COTIZACIONES2025256[[#This Row],[ Valor Kg Quimicos]],COTIZACIONES2025256[[#This Row],[HISTORICO 2024 + IPC 2025 (3%) Quimicos]]) -> 6678
C5: Arauca | D5: =+'Cotizaciones Empresas'!K11 -> 8000 | E5: =+'Cotizaciones Empresas'!L11 -> 8000 | F5: =+'Cotizaciones Empresas'!M11 -> 8000 | G5: =+'Cotizaciones Empresas'!N11 -> 8000 | L5: =+'Cotizaciones Empresas'!BD11 -> 5356 | M5: =+'Cotizaciones Empresas'!BE11 -> 5356 | N5: =+'Cotizaciones Empresas'!BF11 -> 5356 | O5: =+'Cotizaciones Empresas'!BG11 -> 5356 | P5: =AVERAGE(COTIZACIONES2025256[[#This Row],[EDEPSA Valor Kg Biosanitario ]],COTIZACIONES2025256[[#This Row],[ Valor Kg Biosanitario ]],COTIZACIONES2025256[[#This Row],[HISTORICO 2024 + IPC 2025 (3%)Biosanitario]]) -> 6678 | Q5: =AVERAGE(COTIZACIONES2025256[[#This Row],[EDEPSA Valor Kg Cortopunzantes]],COTIZACIONES2025256[[#This Row],[ Valor Kg Cortopunzantes]],COTIZACIONES2025256[[#This Row],[HISTORICO 2024 + IPC 2025 (3%) Cortopunzantes]]) -> 6678 | R5: =AVERAGE(COTIZACIONES2025256[[#This Row],[EDEPSA Valor Kg Animales]],COTIZACIONES2025256[[#This Row],[ Valor Kg Animales]],COTIZACIONES2025256[[#This Row],[HISTORICO 2024 + IPC 2025 (3%)Animales]]) -> 6678 | S5: =AVERAGE(COTIZACIONES2025256[[#This Row],[EDEPSA Valor Kg Quimicos]],COTIZACIONES2025256[[#This Row],[ Valor Kg Quimicos]],COTIZACIONES2025256[[#This Row],[HISTORICO 2024 + IPC 2025 (3%) Quimicos]]) -> 6678
C6: Arauquita | D6: =+'Cotizaciones Empresas'!K12 -> 8000 | E6: =+'Cotizaciones Empresas'!L12 -> 8000 | F6: =+'Cotizaciones Empresas'!M12 -> 8000 | G6: =+'Cotizaciones Empresas'!N12 -> 8000 | L6: =+'Cotizaciones Empresas'!BD12 -> 5356 | M6: =+'Cotizaciones Empresas'!BE12 -> 5356 | N6: =+'Cotizaciones Empresas'!BF12 -> 5356 | O6: =+'Cotizaciones Empresas'!BG12 -> 5356 | P6: =AVERAGE(COTIZACIONES2025256[[#This Row],[EDEPSA Valor Kg Biosanitario ]],COTIZACIONES2025256[[#This Row],[ Valor Kg Biosanitario ]],COTIZACIONES2025256[[#This Row],[HISTORICO 2024 + IPC 2025 (3%)Biosanitario]]) -> 6678 | Q6: =AVERAGE(COTIZACIONES2025256[[#This Row],[EDEPSA Valor Kg Cortopunzantes]],COTIZACIONES2025256[[#This Row],[ Valor Kg Cortopunzantes]],COTIZACIONES2025256[[#This Row],[HISTORICO 2024 + IPC 2025 (3%) Cortopunzantes]]) -> 6678 | R6: =AVERAGE(COTIZACIONES2025256[[#This Row],[EDEPSA Valor Kg Animales]],COTIZACIONES2025256[[#This Row],[ Valor Kg Animales]],COTIZACIONES2025256[[#This Row],[HISTORICO 2024 + IPC 2025 (3%)Animales]]) -> 6678 | S6: =AVERAGE(COTIZACIONES2025256[[#This Row],[EDEPSA Valor Kg Quimicos]],COTIZACIONES2025256[[#This Row],[ Valor Kg Quimicos]],COTIZACIONES2025256[[#This Row],[HISTORICO 2024 + IPC 2025 (3%) Quimicos]]) -> 6678
C7: Tame | D7: =+'Cotizaciones Empresas'!K13 -> 8000 | E7: =+'Cotizaciones Empresas'!L13 -> 8000 | F7: =+'Cotizaciones Empresas'!M13 -> 8000 | G7: =+'Cotizaciones Empresas'!N13 -> 8000 | L7: =+'Cotizaciones Empresas'!BD13 -> 5356 | M7: =+'Cotizaciones Empresas'!BE13 -> 5356 | N7: =+'Cotizaciones Empresas'!BF13 -> 5356 | O7: =+'Cotizaciones Empresas'!BG13 -> 5356 | P7: =AVERAGE(COTIZACIONES2025256[[#This Row],[EDEPSA Valor Kg Biosanitario ]],COTIZACIONES2025256[[#This Row],[ Valor Kg Biosanitario ]],COTIZACIONES2025256[[#This Row],[HISTORICO 2024 + IPC 2025 (3%)Biosanitario]]) -> 6678 | Q7: =AVERAGE(COTIZACIONES2025256[[#This Row],[EDEPSA Valor Kg Cortopunzantes]],COTIZACIONES2025256[[#This Row],[ Valor Kg Cortopunzantes]],COTIZACIONES2025256[[#This Row],[HISTORICO 2024 + IPC 2025 (3%) Cortopunzantes]]) -> 6678 | R7: =AVERAGE(COTIZACIONES2025256[[#This Row],[EDEPSA Valor Kg Animales]],COTIZACIONES2025256[[#This Row],[ Valor Kg Animales]],COTIZACIONES2025256[[#This Row],[HISTORICO 2024 + IPC 2025 (3%)Animales]]) -> 6678 | S7: =AVERAGE(COTIZACIONES2025256[[#This Row],[EDEPSA Valor Kg Quimicos]],COTIZACIONES2025256[[#This Row],[ Valor Kg Quimicos]],COTIZACIONES2025256[[#This Row],[HISTORICO 2024 + IPC 2025 (3%) Quimicos]]) -> 6678
C8: Saravena | D8: =+'Cotizaciones Empresas'!K14 -> 8000 | E8: =+'Cotizaciones Empresas'!L14 -> 8000 | F8: =+'Cotizaciones Empresas'!M14 -> 8000 | G8: =+'Cotizaciones Empresas'!N14 -> 8000 | L8: =+'Cotizaciones Empresas'!BD14 -> 5356 | M8: =+'Cotizaciones Empresas'!BE14 -> 5356 | N8: =+'Cotizaciones Empresas'!BF14 -> 5356 | O8: =+'Cotizaciones Empresas'!BG14 -> 5356 | P8: =AVERAGE(COTIZACIONES2025256[[#This Row],[EDEPSA Valor Kg Biosanitario ]],COTIZACIONES2025256[[#This Row],[ Valor Kg Biosanitario ]],COTIZACIONES2025256[[#This Row],[HISTORICO 2024 + IPC 2025 (3%)Biosanitario]]) -> 6678 | Q8: =AVERAGE(COTIZACIONES2025256[[#This Row],[EDEPSA Valor Kg Cortopunzantes]],COTIZACIONES2025256[[#This Row],[ Valor Kg Cortopunzantes]],COTIZACIONES2025256[[#This Row],[HISTORICO 2024 + IPC 2025 (3%) Cortopunzantes]]) -> 6678 | R8: =AVERAGE(COTIZACIONES2025256[[#This Row],[EDEPSA Valor Kg Animales]],COTIZACIONES2025256[[#This Row],[ Valor Kg Animales]],COTIZACIONES2025256[[#This Row],[HISTORICO 2024 + IPC 2025 (3%)Animales]]) -> 6678 | S8: =AVERAGE(COTIZACIONES2025256[[#This Row],[EDEPSA Valor Kg Quimicos]],COTIZACIONES2025256[[#This Row],[ Valor Kg Quimicos]],COTIZACIONES2025256[[#This Row],[HISTORICO 2024 + IPC 2025 (3%) Quimicos]]) -> 6678
B11: PRESUPUESTO 2025 SAD, SPA & SPF | F11: DISTRIBUCIÓN PRESUPUESTO TIPO DE DESECHO
B12: DEPARTAMENTO | C12: MUNICIPIO | D12: PRESUPUESTO 2025 | E12: Columna1 | F12: DEPARTAMENTO | G12: MUNICIPIO | H12: PRESUPUESTO 2025 Biosanitario | I12: PRESUPUESTO 2025 Cortopunzantes | J12: PRESUPUESTO 2025 Animales | K12: PRESUPUESTO 2025 Quimicos
B13: ARAUCA | C13: LDV Arauca | D13: 4800000 | E13: =+PRESUPUSTO_2025457[[#This Row],[PRESUPUESTO 2025]]/4 -> 1200000 | F13: ARAUCA | G13: LDV Arauca | H13: =+PRESUPUSTO_2025457[[#This Row],[Columna1]] -> 1200000 | I13: =+PRESUPUSTO_2025457[[#This Row],[Columna1]] -> 1200000 | J13: =+PRESUPUSTO_2025457[[#This Row],[Columna1]] -> 1200000 | K13: =+PRESUPUSTO_2025457[[#This Row],[Columna1]] -> 1200000
C14: Arauca | E14: =+PRESUPUSTO_2025457[[#This Row],[PRESUPUESTO 2025]]/4 -> 0 | G14: Arauca | H14: =+PRESUPUSTO_2025457[[#This Row],[Columna1]] -> 0 | I14: =+PRESUPUSTO_2025457[[#This Row],[Columna1]] -> 0 | J14: =+PRESUPUSTO_2025457[[#This Row],[Columna1]] -> 0 | K14: =+PRESUPUSTO_2025457[[#This Row],[Columna1]] -> 0
C15: Arauquita | E15: =+PRESUPUSTO_2025457[[#This Row],[PRESUPUESTO 2025]]/3 -> 0 | G15: Arauquita | H15: =+PRESUPUSTO_2025457[[#This Row],[Columna1]] -> 0 | I15: =+PRESUPUSTO_2025457[[#This Row],[Columna1]] -> 0 | J15: 0 | K15: =+PRESUPUSTO_2025457[[#This Row],[Columna1]] -> 0
C16: Tame | E16: =+PRESUPUSTO_2025457[[#This Row],[PRESUPUESTO 2025]]/3 -> 0 | G16: Tame | H16: =+PRESUPUSTO_2025457[[#This Row],[Columna1]] -> 0 | I16: =+PRESUPUSTO_2025457[[#This Row],[Columna1]] -> 0 | J16: 0 | K16: =+PRESUPUSTO_2025457[[#This Row],[Columna1]] -> 0
C17: Saravena | E17: =+PRESUPUSTO_2025457[[#This Row],[PRESUPUESTO 2025]]/3 -> 0 | G17: Saravena | H17: =+PRESUPUSTO_2025457[[#This Row],[Columna1]] -> 0 | I17: =+PRESUPUSTO_2025457[[#This Row],[Columna1]] -> 0 | J17: 0 | K17: =+PRESUPUSTO_2025457[[#This Row],[Columna1]] -> 0
C18: Total | D18: =SUBTOTAL(109,PRESUPUSTO_2025457[PRESUPUESTO 2025]) -> 4800000 | E18: =SUBTOTAL(109,PRESUPUSTO_2025457[Columna1]) -> 1200000
B20: Proyección kilogramos 2025
B21: DEPARTAMENTO | C21: MUNICIPIO | D21: Proyección kilogramos 2025 Biosanitario | E21: Proyección kilogramos 2025 Cortopunzantes | F21: Proyección kilogramos 2025 Animales | G21: Proyección kilogramos 2025 Quimicos | H21: TOTAL DE KILOGRAMOS
B22: ARAUCA | C22: LDV Arauca | D22: =+H13/P4 -> 179.69452 | E22: =+I13/Q4 -> 179.69452 | F22: =+J13/R4 -> 179.69452 | G22: =+K13/S4 -> 179.69452 | H22: =+ProyeccionKg20251058[[#This Row],[Proyección kilogramos 2025 Biosanitario ]]+ProyeccionKg20251058[[#This Row],[Proyección kilogramos 2025 Cortopunzantes]]+ProyeccionKg20251058[[#This Row],[Proyección kilogramos 2025 Animales]]+ProyeccionKg20251058[[#This Row],[Proyección kilogramos 2025 Quimicos]] -> 718.77808
C23: Arauca | D23: =+H14/P5 -> 0 | E23: =+I14/Q5 -> 0 | F23: =+J14/R5 -> 0 | G23: =+K14/S5 -> 0 | H23: =+ProyeccionKg20251058[[#This Row],[Proyección kilogramos 2025 Biosanitario ]]+ProyeccionKg20251058[[#This Row],[Proyección kilogramos 2025 Cortopunzantes]]+ProyeccionKg20251058[[#This Row],[Proyección kilogramos 2025 Animales]]+ProyeccionKg20251058[[#This Row],[Proyección kilogramos 2025 Quimicos]] -> 0
C24: Arauquita | D24: =+H15/P6 -> 0 | E24: =+I15/Q6 -> 0 | F24: =+J15/R6 -> 0 | G24: =+K15/S6 -> 0 | H24: =+ProyeccionKg20251058[[#This Row],[Proyección kilogramos 2025 Biosanitario ]]+ProyeccionKg20251058[[#This Row],[Proyección kilogramos 2025 Cortopunzantes]]+ProyeccionKg20251058[[#This Row],[Proyección kilogramos 2025 Animales]]+ProyeccionKg20251058[[#This Row],[Proyección kilogramos 2025 Quimicos]] -> 0
C25: Tame | D25: =+H16/P7 -> 0 | E25: =+I16/Q7 -> 0 | F25: =+J16/R7 -> 0 | G25: =+K16/S7 -> 0 | H25: =+ProyeccionKg20251058[[#This Row],[Proyección kilogramos 2025 Biosanitario ]]+ProyeccionKg20251058[[#This Row],[Proyección kilogramos 2025 Cortopunzantes]]+ProyeccionKg20251058[[#This Row],[Proyección kilogramos 2025 Animales]]+ProyeccionKg20251058[[#This Row],[Proyección kilogramos 2025 Quimicos]] -> 0
C26: Saravena | D26: =+H17/P8 -> 0 | E26: =+I17/Q8 -> 0 | F26: =+J17/R8 -> 0 | G26: =+K17/S8 -> 0 | H26: =+ProyeccionKg20251058[[#This Row],[Proyección kilogramos 2025 Biosanitario ]]+ProyeccionKg20251058[[#This Row],[Proyección kilogramos 2025 Cortopunzantes]]+ProyeccionKg20251058[[#This Row],[Proyección kilogramos 2025 Animales]]+ProyeccionKg20251058[[#This Row],[Proyección kilogramos 2025 Quimicos]] -> 0
C27: Total | D27: =SUBTOTAL(109,ProyeccionKg20251058[[Proyección kilogramos 2025 Biosanitario ]]) -> 179.69452 | E27: =SUBTOTAL(109,ProyeccionKg20251058[Proyección kilogramos 2025 Cortopunzantes]) -> 179.69452 | F27: =SUBTOTAL(109,ProyeccionKg20251058[Proyección kilogramos 2025 Animales]) -> 179.69452 | G27: =SUBTOTAL(109,ProyeccionKg20251058[Proyección kilogramos 2025 Quimicos]) -> 179.69452 | H27: =SUBTOTAL(109,ProyeccionKg20251058[[TOTAL DE KILOGRAMOS ]]) -> 718.77808
B30: Subgerencia de Análisis y Diagnóstico- SAD
B31: SECCIONAL | C31: SEDE | D31: UNIDAD DE MEDIDA | E31: Cantidades requeridas (kg)
E32: Biosanitario | F32: Cortopunzantes | G32: Animales | H32: Quimicos | I32: TOTAL DE KILOGRAMOS
B33: ARAUCA | C33: LDV Arauca | D33: KILOGRAMOS | E33: =+D22 -> 179.69452 | F33: =+E22 -> 179.69452 | G33: =+F22 -> 179.69452 | H33: =+G22 -> 179.69452 | I33: =+H22 -> 718.77808
B36: Seccional Cundinamarca (Subgerencia de Protección Animal)
B37: SECCIONALES | C37: SEDE | D37: UNIDAD DE MEDIDA | E37: Cantidades requeridas (kg)
E38: Biosanitario | F38: Cortopunzantes | G38: Animales | H38: Quimicos | I38: TOTAL DE KILOGRAMOS
B39: ARAUCA | C39: Arauca | D39: KILOGRAMOS | E39: =+D23 -> 0 | F39: =+E23 -> 0 | G39: =+F23 -> 0 | H39: =+G23 -> 0 | I39: =+H23 -> 0
C40: Arauquita | D40: KILOGRAMOS | E40: =+D24 -> 0 | F40: =+E24 -> 0 | G40: =+F24 -> 0 | H40: =+G24 -> 0 | I40: =+H24 -> 0
C41: Tame | D41: KILOGRAMOS | E41: =+D25 -> 0 | F41: =+E25 -> 0 | G41: =+F25 -> 0 | H41: =+G25 -> 0 | I41: =+H25 -> 0
C42: Saravena | D42: KILOGRAMOS | E42: =+D26 -> 0 | F42: =+E26 -> 0 | G42: =+F26 -> 0 | H42: =+G26 -> 0 | I42: =+H26 -> 0

Sheet BARRANCABERMEJA
B1: COTIZACIONES PARA 2025
B3: DEPARTAMENTO | C3: MUNICIPIO | D3: EDEPSA Valor Kg Biosanitario | E3: EDEPSA Valor Kg Cortopunzantes | F3: EDEPSA Valor Kg Animales | G3: EDEPSA Valor Kg Quimicos | H3: Valor Kg Biosanitario | I3: Valor Kg Cortopunzantes | J3: Valor Kg Animales | K3: Valor Kg Quimicos | L3: HISTORICO 2024 + IPC 2025 (3%)Biosanitario | M3: HISTORICO 2024 + IPC 2025 (3%) Cortopunzantes | N3: HISTORICO 2024 + IPC 2025 (3%)Animales | O3: HISTORICO 2024 + IPC 2025 (3%) Quimicos | P3: Valor promedio de Kilogramo Biosanitario | Q3: Valor promedio de Kilogramo Cortopunzantes | R3: Valor promedio de Kilogramog Animales | S3: Valor promedio de Kilogramo Quimicos
B4: ARAUCA | C4: LDV Arauca | D4: 8000 | E4: 8000 | F4: 8000 | G4: 8000 | L4: 5356 | M4: 5356 | N4: 5356 | O4: 5356 | P4: =AVERAGE(COTIZACIONES2025260[[#This Row],[EDEPSA Valor Kg Biosanitario ]],COTIZACIONES2025260[[#This Row],[ Valor Kg Biosanitario ]],COTIZACIONES2025260[[#This Row],[HISTORICO 2024 + IPC 2025 (3%)Biosanitario]]) -> 6678 | Q4: =AVERAGE(COTIZACIONES2025260[[#This Row],[EDEPSA Valor Kg Cortopunzantes]],COTIZACIONES2025260[[#This Row],[ Valor Kg Cortopunzantes]],COTIZACIONES2025260[[#This Row],[HISTORICO 2024 + IPC 2025 (3%) Cortopunzantes]]) -> 6678 | R4: =AVERAGE(COTIZACIONES2025260[[#This Row],[EDEPSA Valor Kg Animales]],COTIZACIONES2025260[[#This Row],[ Valor Kg Animales]],COTIZACIONES2025260[[#This Row],[HISTORICO 2024 + IPC 2025 (3%)Animales]]) -> 6678 | S4: =AVERAGE(COTIZACIONES2025260[[#This Row],[EDEPSA Valor Kg Quimicos]],COTIZACIONES2025260[[#This Row],[ Valor Kg Quimicos]],COTIZACIONES2025260[[#This Row],[HISTORICO 2024 + IPC 2025 (3%) Quimicos]]) -> 6678
