Workbook
Name _1Sin_nombre: #REF!
Name _1Sin_nombre: #REF!
Name _PD2016: '[1]LISTA MPD'!$A$2:$A$644
Name _PDC2016: '[2]LISTA MPD'!$F$2:$F$917
Name Adm: #REF!
Name Adm: #REF!
Name akjhgbksdbj: #REF!
Name akjhgbksdbj: #REF!
Name ANEXOADQUISICION97: '[3]BP 1454_2.1.1'!#REF!
Name ANEXOADQUISICION97: '[3]BP 1454_2.1.1'!#REF!
Name ANEXOINTER2: #REF!
Name ANEXOINTER2: #REF!
Name asas: #REF!
Name asas: #REF!
Name BuiltIn_Print_Area: #REF!
Name BuiltIn_Print_Area: #REF!
Name BuiltIn_Print_Area___0: #REF!
Name BuiltIn_Print_Area___0: #REF!
Name BuiltIn_Print_Area___0___0: #REF!
Name BuiltIn_Print_Area___0___0: #REF!
Name BuiltIn_Print_Area___0___0___0: #REF!
Name BuiltIn_Print_Area___0___0___0: #REF!
Name BuiltIn_Print_Titles: #REF!
Name BuiltIn_Print_Titles: #REF!
Name caaa: #REF!
Name caaa: #REF!
Name cacha: #REF!
Name cacha: #REF!
Name cccccc: #REF!
Name cccccc: #REF!
Name cd: #REF!
Name cd: #REF!
Name CDCT: [4]PRESUPUESTO!$A$2
Name CENTROGESTOR: #REF!
Name CENTROGESTOR: #REF!
Name CENTROGESTORDEPENDENCIA: #REF!
Name CENTROGESTORDEPENDENCIA: #REF!
Name centrogestornuevo: #REF!
Name centrogestornuevo: #REF!
Name ci: #REF!
Name ci: #REF!
Name COSTOS_DIRECTOS: #REF!
Name COSTOS_DIRECTOS: #REF!
Name credito_completa: #REF!
Name credito_completa: #REF!
Name Cuadrillas: #REF!
Name Cuadrillas: #REF!
Name dddddd: #REF!
Name dddddd: #REF!
Name DEPENDENCIA: #REF!
Name DEPENDENCIA: #REF!
Name Descrip_cuadrillas: #REF!
Name Descrip_cuadrillas: #REF!
Name Descrip_equipos: #REF!
Name Descrip_equipos: #REF!
Name Descrip_transporte: #REF!
Name Descrip_transporte: #REF!
Name Descripción: #REF!
Name Descripción: #REF!
Name eeeee: #REF!

Sheet FORMATO 13
B2: FORMATO 13: CUADRO DE DESCRIPCIÓN, CANTIDADES, PRECIOS Y RESUMEN DE LA PROPUESTA ECONOMICA
B3: PROCESO No. 4162.010.32. 1.1056 de 2025
B5: PROPONENTE: GRARCO S.A.S
B7: DISTRITO ESPECIAL DE SANTIAGO DE CALI
B8: SECRETARÍA DEL DEPORTE Y LA RECREACION
B9: DEPENDENCIA 2025
B10: OBJETO: REALIZAR EL MANTENIMIENTO DE CAMPOS DE JUEGO HÍBRIDO Y DE GRAMA NATURAL DE LOS ESCENARIOS DEPORTIVOS Y RECREATIVOS DE ALTO RENDIMIENTO DEL DISTRITO ESPECIAL SANTIAGO DE CALI
B11: CAP | C11: DESCRIPCION
B12: 1 | C12: MANTENIMIENTO CAMPO DE JUEGO HÍBRIDO DEL ESTADIO OLÍMPICO PASCUAL GUERRERO | D12: UN | E12: VALOR UNIT | F12: CANTIDAD | G12: VALOR TOTAL
B13: =B12+0.01 -> 1.01 | C13: CEPILLADO: Movimiento de estolones de tal manera que queden en un sentido adecuado antes de realizar la labor de corte. El cepillado debe ser permanente y ajustado para la perfecta conservación de las gramillas. Siguiendo las indicaciones de la supervisión, interventoría o recomendaciones del contratista, debidamente aprobadas por el supervisor. Se realizará en sentido longitudinal y transversal utilizando una cepilladora manual tipo casette G860 de escobillas. Es necesario realizar cepillado antes de cada partido. Esto garantiza que el césped se presente de forma óptima definida por la entidad. Incluye, todos los materiales e insumos para su óptimo funcionamiento, operarios, herramienta menor y la recolección y disposición adecuada de los residuos. La maquinaria especializada tipo "brush soft" para esta actividad es provista por la entidad y deberá ser usada para el cepillado. Nota: Deberá garantizar el buen funcionamiento de la máquina durante la ejecución del contrato y deberá ser devuelta a la entidad en las mismas condiciones en las que fue entregada, asumiendo los costos asociados para este fin. | D13: VECES | E13: =APU!G33 -> 338755 | F13: 93 | G13: =ROUND(E13*F13,0) -> 31504215
B14: =B13+0.01 -> 1.02 | C14: CORTE: Mantener la altura adecuada del césped para favorecer un crecimiento saludable del campo de juego híbrido. Se debe realizar un corte antes de cada partido o evento a toda la gramilla, o de acuerdo con las indicaciones de la supervisión y/o interventoría y/o recomendación del contratista, debidamente aprobadas por el supervisor con la finalidad de tener a la altura óptima el prado. Incluye la maquinaria, la maquinaria especializada, el combustible, el operario, recolección y botada de sobrantes. El corte debe ser permanente y ajustado para la perfecta conservación de las gramillas. Se realizará en sentido longitudinal y transversal utilizando una cortadora manual tipo casette G860 de 8 hojas, previa instalación de hilos para demarcaciones de las franjas. Esto garantiza que el césped mantenga la altura óptima definida por la entidad. Incluye, todos los materiales e insumos para su óptimo funcionamiento, operarios, herramienta menor y la recolección y disposición adecuada de los residuos. La maquinaria especializada tipo "casette G860 de 8 hojas" para esta actividad es provista por la entidad y deberá ser usada para el corte. Nota: Deberá garantizar el buen funcionamiento de la máquina durante la ejecución del contrato y deberá ser devuelta a la entidad en las mismas condiciones en las que fue entregada, asumiendo los costos asociados para este fin. | D14: VECES | E14: =+APU!G60 -> 671957 | F14: 93 | G14: =ROUND(E14*F14,0) -> 62492001
B15: =B14+0.01 -> 1.03 | C15: ASPIRADO: Extraer los residuos de estolones longevos y de corte. El Aspirado debe ser permanente y después de cada corte. Siguiendo las indicaciones de la supervisión, interventoría o recomendaciones del contratista, debidamente aprobadas por el supervisor. Se realizará en sentido longitudinal y transversal utilizando una máquina aspiradora manual PR 34, siguiendo las indicaciones de la supervisión, interventoría o recomendaciones del contratista, debidamente aprobadas por el supervisor. Incluye, todos los materiales e insumos para su óptimo funcionamiento, operarios, herramienta menor y la recolección y disposición adecuada de los residuos. La maquinaria especializada tipo "PR34" para esta actividad es provista por la entidad y deberá ser usada para el aspirado. Nota: Deberá garantizar el buen funcionamiento de la máquina durante la ejecución del contrato y deberá ser devuelta a la entidad en las mismas condiciones en las que fue entregada, asumiendo los costos asociados para este fin. | D15: VECES | E15: =+APU!G86 -> 338754 | F15: 93 | G15: =ROUND(E15*F15,0) -> 31504122
B16: =B15+0.01 -> 1.04 | C16: RIEGO: Permanente dependiendo de las condiciones hidroclimátológicas y de la necesidad del campo. Siguiendo las indicaciones de la supervisión, interventoría o recomendaciones del contratista, debidamente aprobadas por el supervisor. Esta actividad incluye la operación del sistema de riego el cual debe ser continuo, El contratista deberá responder por las condiciones operativas del sistema de riego. Tener en cuenta que en algunos momentos, será necesario realizar el balance hídrico antes de aplicar el riego, para que su aplicación sea la adecuada. | D16: MES | E16: =+APU!G112 -> 1104134 | F16: 6 | G16: =ROUND(E16*F16,0) -> 6624804
B17: =B16+0.01 -> 1.05 | C17: DESHIERBE Y CONTROL DE MALEZAS: Eliminar las arvenses de hoja ancha y de hoja delgada que se presenten en el área de gramado. Siguiendo las indicaciones de la supervisión, interventoría o recomendaciones del contratista, debidamente aprobadas por el supervisor. Esta actividad debe ser de forma manual y permanente para evitar la presencia de malezas que puedan contaminar el césped, la frecuencia puede variar según el grado de infestación presente. Incluye: Insumos biológicos, mano de obra, equipos y herramientas necesarias. En caso de que se necesite usar un herbicida selectivo debe ser aprobado por el supervisor. | D17: MES | E17: =+APU!G137 -> 799033 | F17: 6 | G17: =ROUND(E17*F17,0) -> 4794198
B18: =B17+0.01 -> 1.06 | C18: FERTILIZACIÓN: Proporcionar los nutrientes necesarios para el crecimiento óptimo del césped. Se debe hacer alternada, liquida y granular. Una vez cada diez (10) días a toda la gramilla. La frecuencia puede variar de acuerdo con el análisis y estudio de suelos o de acuerdo con las indicaciones de la supervisión. Incluye los insumos o abonos químicos o biológicos, mano de obra, equipos y herramientas necesarias para su correcta ejecución. | D18: VECES | E18: =+APU!G165 -> 2008991 | F18: 18 | G18: =ROUND(E18*F18,0) -> 36161838
B19: =B18+0.01 -> 1.07 | C19: CONTROL DE PLAGAS Y ENFERMEDADES: Monitorear y controlar las plagas y enfermedades que puedan afectar elcampo de juego híbrido: Aplicación de micorrizas líquidas y entomopatógenos líquidos (trichoderma, beauveria baussiana, facelomicis v bacilus turigencis). Siguiendo las indicaciones de la supervisión, interventoría o recomendaciones del contratista, debidamente aprobadas por el supervisor. Incluye los insumos biológicos, mano de obra, equipos y herramientas necesarias para su correcta ejecución. | D19: VECES | E19: =+APU!G193 -> 1478176 | F19: 4 | G19: =ROUND(E19*F19,0) -> 5912704
B20: =B19+0.01 -> 1.08 | C20: AIREACIÓN CON PINES SÓLIDOS: Mejorar la circulación de aire y la penetración de agua y nutrientes en el suelo. Se debe realizar la aireación con pines sólidos una (1) vez cada 7 días o de acuerdo con las indicaciones de la supervisión y/o interventoría y/o recomendación del contratista, debidamente aprobadas por el supervisor. Se debe realizar la aireación con pines sólidos de 20 cm. Incluye, todos los materiales e insumos para su óptimo funcionamiento, operarios, herramienta menor y la recolección y disposición adecuada de los residuos. La maquinaria especializada tipo Aireador auto-propulsado o de toma fuerza hidráulico, con chuzos intercambiables de '/2” ó 3/4 “, que garantice profundidad mínima de 15 cm. para esta actividad la maquinaria es provista por la entidad y deberá ser usada para el aireación con pines sólidos. En algunos casos se deberá medir la compactación del suelo con el penetrometro antes de realizar la aireación. Nota: Deberá garantizar el buen funcionamiento de la máquina durante la ejecución del contrato y deberá ser devuelta a la entidad en las mismas condiciones en las que fue entregada, asumiendo los costos asociados para este fin. | D20: VECES | E20: =+APU!G218 -> 364233 | F20: 24 | G20: =ROUND(E20*F20,0) -> 8741592
B21: =B20+0.01 -> 1.09 | C21: VERTICUT LEVE: Corte vertical para disminuir el acolchonamiento de la grama. Se debe realizar una (1) vez cada 7 días ó de acuerdo con las indicaciones de la supervisión y/o interventoría y/o recomendación del contratista, debidamente aprobadas por el supervisor, en ambos sentidos con el fin de remover el acolchonamiento de la grama, facilitar la circulación de aire, agua y nutrientes. Incluye, todos los materiales e insumos para su óptimo funcionamiento, operarios, herramienta menor y la recolección y disposición adecuada de los residuos. La maquinaria especializada tipo “BLADE CASETTE“ para esta actividad es provista por la entidad y deberá ser usada para el verticute. Nota: Deberá garantizar el buen funcionamiento de la máquina durante la ejecución del contrato y deberá ser devuelta a la entidad en las mismas condiciones en las que fue entregada, asumiendo los costos asociados para este fin. | D21: VECES | E21: =+APU!G243 -> 416508 | F21: 24 | G21: =ROUND(E21*F21,0) -> 9996192
B22: =B21+0.01 -> 1.1 | C22: TOP DRESSING: Llenar los orificios realizados después de la aireación, en una proporción 80% arena de granulometría media lavada en lo posible del Rio Frayle y pasada por zaranda y 20% de tierra negra. Siguiendo las indicaciones de la supervisión, interventoría o recomendaciones del contratista, debidamente aprobadas por el supervisor. Se debe realizar con la aplicación de mínimo 18 M3 de arena cernida a toda la gramilla por lo menos una (1) vez durante la ejecución del contrato, con la maquinaría especializada tipo MATE-R-MATIC, conforme a las indicaciones de la supervisión y/o interventoría y/o recomendación del contratista, debidamente aprobadas por el supervisor. Incluye, todos los materiales e insumos para su óptimo funcionamiento, operarios, herramienta menor y la recolección y disposición adecuada de los residuos. La maquinaria especializada tipo “MATE-R-MATIC" para esta actividad es provista por la entidad y deberá ser usada para el top dressing. Nota: Deberá garantizar el buen funcionamiento de la máquina durante la ejecución del contrato y deberá ser devuelta a la entidad en las mismas condiciones en las que fue entregada, asumiendo los costos asociados para este fin. | D22: VECES | E22: =+APU!G268 -> 1976335 | F22: 1 | G22: =ROUND(E22*F22,0) -> 1976335
B23: =B22+0.01 -> 1.11 | C23: REPARACIÓN DE APIQUES O DIVOTS: Arreglar los baches generados después de cada partido, se realiza utilizando la herramienta especial para esta labor y en algunas ocasiones se debe realizar con la proporción 80% arena de granulometría media lavada en lo posible del Rio Frayle y pasada por zaranda y 20% de tierra negra. Se realiza después de cada partido, competencia o evento y después de uso del campo en eventos masivos. Siguiendo las indicaciones de la supervisión, interventoría o recomendaciones del contratista, debidamente aprobadas por el supervisor. Incluye materiales vegetales, orgánicos y minerales para el relleno; equipos y herramientas y mano de obra para su correcta ejecución. | D23: MES | E23: =+APU!G290 -> 418547 | F23: 6 | G23: =ROUND(E23*F23,0) -> 2511282
B24: =B23+0.01 -> 1.12 | C24: DEMARCACIÓN DE CAMPO: Aplicación de pintura para delimitar las áreas del campo de juego. Se debe realizar de manera permanente, previo a cada partido regional, nacional o internacional o las veces necesarias para las competencias o según los requerimientos de la interventoría y/o supervisión, siguiendo las indicaciones de la supervisión, interventoría o recomendaciones del contratista, debidamente aprobadas por el supervisor. Incluye, todos los materiales e insumos para la correcta ejecución de la actividad, la pintura a emplear debe ser vinilo especial blanco tipo II, operarios, herramienta menor. La maquinaria especializada tipo “LINE MARKER (WHEEL TO WHEEL)“ para esta actividad es provista por la entidad y deberá ser usada para la demarcación del campo. Nota: Deberá garantizar el buen funcionamiento de la máquina durante la ejecución del contrato y deberá ser devuelta a la entidad en las mismas condiciones en las que fue entregada, asumiendo los costos asociados para este fin. | D24: MES | E24: =+APU!G314 -> 3021674 | F24: 6 | G24: =ROUND(E24*F24,0) -> 18130044
B25: =B24+0.01 -> 1.13 | C25: MICRONIVELACIÓN: Nivelar tanto por arriba como por abajo del nivel del diseño de la cancha. Se debe realizar en el tiempo de duración del contrato cada que se evidencia desnivelación o cuando el supervisor del contrato lo indique. Se deberán realizar las labores de topografía requeridas para establecer los niveles de las gramas y controlar las actividades de nivelación y micronivelación. La micro nivelación de las gramas se debe hacer con arena mediana del rio Fraile cernida, lavada, seleccionada y tierra abonada. La proporción debe ser 80% arena y 20% tierra negra abonada con la maquinaría especializada tipo MATE-R-MATIC. La micro nivelación se establece a mínimo 2500 mts2, incluye nivelación topográfica, o de acuerdo a las indicaciones de la supervisión y/o interventoría y/o recomendación del contratista, debidamente aprobadas por el supervisor. Incluye, todos los materiales e insumos para su óptimo funcionamiento, operarios, herramienta menor y la recolección y disposición adecuada de los residuos. La maquinaria especializada tipo “MATE-R-MATIC de 0.33 m3, 499 km de capacidad“ para esta actividad es provista por la entidad y deberá ser usada para la micro nivelación. Nota: Deberá garantizar el buen funcionamiento de la máquina durante la ejecución del contrato y deberá ser devuelta a la entidad en las mismas condiciones en las que fue entregada, asumiendo los costos asociados para este fin. | D25: MES | E25: =+APU!G339 -> 1507576 | F25: 2 | G25: =ROUND(E25*F25,0) -> 3015152
B26: =B25+0.01 -> 1.14 | C26: ANÁLISIS Y ESTUDIO DE SUELOS: Consiste en sacar muestras del suelo con el barreno y llevarlos al laboratorio para identificar los parámetros físicos y químicos para realizar el plan de fertilización de la grama.Con el estudio se deben determinar: 1) Las propiedades de los sustratos, 2) Análisis físico-químico del suelo completo en laboratorio: a. físico: tipos de suelos, retención de humedad, capacidad de campo, punto de marchitez permanente, etc. b. químico: pH, % de nitrógeno, % de fósforo, % de potasio y % de elementos menores, etc., 3) Análisis del agua de riego: pH, dureza, solidos en suspensión, etc., y 4) Perfiles de los suelos de la cancha: mínimo cuatro (4) muestras por cancha, utilizando el barreno. Incluye los materiales, mano de obra, equipos y herramientas necesarias para su correcta ejecución. de acuerdo a las indicaciones de la supervisión y/o interventoría y/o recomendación del contratista, debidamente aprobadas por el supervisor. | D26: VECES | E26: =+APU!G360 -> 966666 | F26: 1 | G26: =ROUND(E26*F26,0) -> 966666
B27: =B26+0.01 -> 1.15 | C27: LIMPIEZA PERMANENTE Y RETIRO DE SOBRANTES: Se debe realizar de forma permanente, en todo el tiempo de duración del contrato. Siguiendo las indicaciones de la supervisión, interventoría o recomendaciones del contratista, debidamente aprobadas por el supervisor. Se debe realizar el aseo y limpieza del área de trabajo y sus alrededores afectados; todos los sobrantes de este trabajo deberán ser depositados en los sitios autorizados por la autoridad ambiental municipal. Incluye mano de obra, equipos y herramienta de cargue y descargue; maquinaria, equipo y herramienta para el transporte; trámite y costos de permisos para disposición de material de desecho. | D27: MES | E27: =+APU!G384 -> 1113280 | F27: 6 | G27: =ROUND(E27*F27,0) -> 6679680
B28: =B27+0.01 -> 1.16 | C28: FONDO AGOTABLE PARA COMPRA DE REPUESTOS Y EQUIPOS DE MANTENIMIENTO: : Este fondo está destinado a la adquisición de repuestos necesarios para el soporte eléctrico y electrónico del sistema de riego, motobombas y otros equipos requeridos para el mantenimiento del campo de juego híbrido. Su ejecución debe realizarse mediante un proceso de facturación y cotizaciones debidamente aprobadas por el interventor y/o supervisor del contrato. Este ítem incluye equipos y repuestos tales como: programadores de riego marca Toro TMC 424 o con características equivalentes, bomba de mínimo 10 caballos de fuerza para implementar en el sistema de riego, válvulas solenoides marca Toro o equivalentes, cable calibre 14, entre otros. Igualmente, podrá cubrir la facturación de mano de obra especializada en electricidad, electrónica y mecánica, debidamente justificada y aprobada por el interventor y/o supervisor. Notas importantes: Valor fijo e inmodificable: Este monto es establecido por la entidad y es igual para todos los proponentes, garantizando condiciones de igualdad en la presentación de propuestas. Ejecución presupuestal: La ejecución de este fondo se realizará conforme a las especificaciones definidas en el requerimiento técnico. El supervisor deberá aprobar previamente la cantidad y el valor unitario de cada repuesto y/o servicio antes de la adquisición o ejecución. Soportes obligatorios: El contratista deberá presentar los soportes correspondientes, incluyendo facturación aprobada por el interventor y/o supervisor. Toda documentación debe estar debidamente detallada y respaldada en el acta de liquidación del contrato. Esta modalidad garantiza transparencia, control y una ejecución eficiente de los recursos asignados para esta actividad. | D28: GLB | E28: 5510000 | F28: 1 | G28: =E28*F28 -> 5510000
B29: =B28+0.01 -> 1.17 | C29: Limpieza permanente para zonas expuestas por contaminación: incluye Lavado de andenes peatonales, escaleras, vías vehiculares incluyendo el sardinel, parqueaderos, rampas, escaleras, muros menores de 1 metro de altura y otras zonas duras del estadio Olímpico Pascual Guerrero, esta labor consiste en el barrido, recolección, acopio, trasiego y disposición final de los residuos sólidos y orgánicos que se encuentren dentro del área; incluyendo el control manual o químico de malezas, aplicación de agua y detergentes a alta presión, con máquinas hidrolavadoras de ser requerido, Incluye los materiales, mano de obra, equipos y herramientas necesarias para su correcta ejecución. Todos los sobrantes de este trabajo deberán ser depositados en los sitios autorizados por la autoridad ambiental municipal incluyendo trámite y costos de permisos para disposición de material de desecho. | D29: M2 | E29: =+APU!G410 -> 391 | F29: 10150 | G29: =ROUND(E29*F29,0) -> 3968650
B30: =B29+0.01 -> 1.18 | C30: MANTENIMIENTO DE GRAMAS EXTERIORES UNIDAD DEPORTIVA SAN FERNANDO | D30: M2 | E30: =+APU!G433 -> 274 | F30: 410 | G30: =ROUND(E30*F30,0) -> 112340
B31: SUBTOTAL TOTAL COSTOS DIRECTOS MANTENIMIENTO CAMPO DE JUEGO HÍBRIDO DEL ESTADIO OLÍMPICO PASCUAL GUERRERO | G31: =SUM(G13:G30) -> 240601815
C32: ADMINISTRACIÓN | F32: 0.305 | G32: =ROUND($G$31*F32,0) -> 73383554
C33: UTILIDAD | F33: 0.05 | G33: =ROUND($G$31*F33,0) -> 12030091
C34: TOTAL A.U. | F34: 0.355 | G34: =G32+G33 -> 85413645
C35: TOTAL CD INCLUIDO AU | G35: =G31+G34 -> 326015460
B36: 2 | C36: MANTENIMIENTO GRAMA NATURAL DEL ESTADIO INTERNACIONAL DE ATLETISMO PEDRO GRAJALES - CANCHA EN PISTA PRINCIPAL | D36: UN | E36: VALOR UNIT | F36: CANTIDAD | G36: VALOR TOTAL
B37: =B36+0.01 -> 2.01 | C37: CORTE: Mantener la altura adecuada del césped para favorecer un crecimiento saludable del gramado. Se debe realizar un corte antes de cada partido o evento a toda la gramilla, o de acuerdo con las indicaciones de la supervisión y/o interventoría y/o recomendación del contratista, debidamente aprobadas por el supervisor con la finalidad de tener a la altura óptima el prado. Incluye la maquinaria, la maquinaria especializada, el combustible, el operario, recolección y botada de sobrantes. El corte debe ser permanente y ajustado para la perfecta conservación de las gramillas. Se debe utilizar una cortadora especializada tipo greenera. Es necesario realizar un corte antes de cada partido o evento en toda la gramilla, siguiendo las indicaciones de la supervisión, interventoría o recomendaciones del contratista, debidamente aprobadas por el supervisor. Esto garantiza que el césped mantenga la altura óptima definida por la entidad. Incluye, toda la maquinaria necesaria, todos los materiales e insumos para su óptimo funcionamiento, operarios, herramienta menor y la recolección y disposición adecuada de los residuos. | D37: VECES | E37: =+APU!G467 -> 518089 | F37: 12 | G37: =ROUND(E37*F37,0) -> 6217068
B38: =B37+0.01 -> 2.02 | C38: RIEGO: Permanente dependiendo de las condiciones hidroclimátológicas y de la necesidad del campo. Siguiendo las indicaciones de la supervisión, interventoría o recomendaciones del contratista, debidamente aprobadas por el supervisor. | D38: MES | E38: =+APU!G493 -> 519074 | F38: 6 | G38: =ROUND(E38*F38,0) -> 3114444
B39: =B38+0.01 -> 2.03 | C39: DESHIERBE Y CONTROL DE MALEZAS: Eliminar las arvenses de hoja ancha y de hoja delgada que se presenten en el área de gramado. De manera permanente. Siguiendo las indicaciones de la supervisión, interventoría o recomendaciones del contratista, debidamente aprobadas por el supervisor. Esta actividad debe ser de forma manual y permanente, la frecuencia puede variar según el grado de infestación presente. Incluye: Mano de obra, equipos y herramientas necesarias. En caso de que se necesite usar un herbicida selectivo debe ser aprobado por el supervisor. | D39: MES | E39: =+APU!G519 -> 658559 | F39: 6 | G39: =ROUND(E39*F39,0) -> 3951354
B40: =B39+0.01 -> 2.04 | C40: FERTILIZACIÓN: Proporcionar los nutrientes necesarios para el crecimiento óptimo del césped. Se debe hacer alternada, liquida y granular. Una vez cada treinta (30) días a toda la gramilla. La frecuencia puede variar de acuerdo con las indicaciones de la supervisión. Suministro y aplicación de abono químico. Incluye los insumos, fertilizantes liquidos y granulares, mano de obra, equipos y herramientas necesarias para su correcta ejecución. La fertilización debe ser alternada entre forma líquida y sólida. | D40: VECES | E40: =+APU!G554 -> 1565383 | F40: 6 | G40: =ROUND(E40*F40,0) -> 9392298
B41: =B40+0.01 -> 2.05 | C41: CONTROL DE PLAGAS Y ENFERMEDADES: Monitorear y controlar las plagas y enfermedades que puedan afectar el campo de juego: Aplicación de micorrizas líquidas y entomopatógenos líquidos (trichoderma, beauveria baussiana, facelomicis v bacilus turigencis). Siguiendo las indicaciones de la supervisión, interventoría o recomendaciones del contratista, debidamente aprobadas por el supervisor. Incluye los insumos biológicos, mano de obra, equipos y herramientas necesarias para su correcta ejecución. | D41: VECES | E41: =+APU!G583 -> 700705 | F41: 4 | G41: =ROUND(E41*F41,0) -> 2802820
B42: =B41+0.01 -> 2.06 | C42: AIREACIÓN CON PINES SÓLIDOS: Mejorar la circulación de aire y la penetración de agua y nutrientes en el suelo. Se debe realizar la aireación con pines sólidos una (1) vez cada mes o de acuerdo con las indicaciones de la supervisión y/o interventoría y/o recomendación del contratista, debidamente aprobadas por el supervisor. Se debe realizar la aireación con pines sólidos de 20 cm, Incluye toda la maquinaria necesaria, todos los materiales e insumos para su óptimo funcionamiento, operarios, herramienta menor y la recolección y disposición adecuada de los residuos. | D42: VECES | E42: =+APU!G607 -> 463208 | F42: 6 | G42: =ROUND(E42*F42,0) -> 2779248
B43: =B42+0.01 -> 2.07 | C43: REPARACIÓN DE APIQUES O DIVOTS: Arreglar los baches generados después de cada partido, se realiza utilizando la herramienta especial para esta labor y en algunas ocasiones se debe realizar con la proporción 80% arena media y 20% tierra negra. Se realiza después de cada partido, competencia o evento y después de uso del campo en eventos masivos. Siguiendo las indicaciones de la supervisión, interventoría o recomendaciones del contratista, debidamente aprobadas por el supervisor.Incluye materiales vegetales, orgánicos y minerales para el relleno; equipos y herramientas y mano de obra para su correcta ejecución. | D43: MES | E43: =+APU!G631 -> 501434 | F43: 6 | G43: =ROUND(E43*F43,0) -> 3008604
...

Sheet A.U. COMPONENTE 1
B2: COSTOS ADMINISTRATIVOS DEL AU
B4: COMPONENTE 1
B6: VALOR COSTO DIRECTO | I6: ='FORMATO 13'!G31 -> 240601815
B7: VALOR DEL CONTRATO | I7: ='FORMATO 13'!G35 -> 326015460
B8: DURACIÓN PROYECTO (MESES) | I8: 6
B10: Descripción | C10: CANT | D10: Valor mensual | E10: % factor prestacional | F10: Vr. Mensual integral | G10: % dedica-ción | H10: Duración (meses) | I10: Valor total
B11: PERSONAL PROFESIONAL | I11: =SUM(I12:I13) -> 4763700
B12: Director ingeniero Agrónomo o Agrícola | C12: 1 | D12: 4500000 | E12: 0.58 | F12: =(D12*E12)+D12 -> 7110000 | G12: 0.05 | H12: =I8 -> 6 | I12: =F12*H12*G12 -> 2133000
B13: Profesional de seguridad y salud en el trabajo | C13: 1 | D13: 1850000 | E13: 0.58 | F13: =(D13*E13)+D13 -> 2923000 | G13: 0.15 | H13: =I8 -> 6 | I13: =F13*H13*G13 -> 2630700
B14: PERSONAL TECNICO Y ADMINISTRATIVO | I14: =I15 -> 2133000
B15: Jefe de cuadrilla Mantenimiento Gramas Naturales | C15: 2 | D15: 1500000 | E15: 0.58 | F15: =(D15*E15)+D15 -> 2370000 | G15: 0.15 | H15: =I8 -> 6 | I15: =F15*H15*G15 -> 2133000
I16: =I11+I14 -> 6896700
B17: Oficina, papeleria y otros | I17: =SUM(I18:I19) -> 550000
B18: DOTACIONES EPP PARA PERSONAL(CASCO BOTAS OVEROL) INCLUYE DOTACION DE SEGURIDAD INDUSTRIAL | C18: 1 | E18: GLB | F18: 250000 | H18: 1 | I18: =H18*F18*C18 -> 250000
B19: COSTO PAPELERIA, FOTOCOPIAS, TRANSPORTES | C19: 1 | E19: MES | F19: 50000 | G19: 1 | H19: =I8 -> 6 | I19: =F19*H19*G19 -> 300000
I20: =I17 -> 550000
B21: Pólizas del contrato | D21: Vr. o vigencia req | E21: Duración | F21: Prima como % Vr.cntrt. | G21: % dedica-ción | H21: Duración (meses) | I21: Valor total
B22: POLIZA DE CUMPLIMIENTO | D22: 0.2 | E22: 6 | F22: 0.001 | I22: =ROUND($I$7*F22,0) -> 326015
B23: POLIZA DE RESP. CIVIL EXTRAC. (SMMLV) | D23: 200 | E23: 6 | F23: 0.001 | I23: =ROUND($I$7*F23,0) -> 326015
B24: POLIZA DE ESTABILIDAD (O CALIDAD) | D24: 0.2 | E24: 6 | F24: 0.004 | I24: =ROUND($I$7*F24,0) -> 1304062
B25: POLIZA DE SALARIOS Y PREST. SOC. | D25: 0.1 | E25: 36 | F25: 0.001 | I25: =ROUND($I$7*F25,0) -> 326015
B26: Sobretasas al valor del contrato | I26: =SUM(I22:I25) -> 2282107
B27: CONTRIBUCIÓN ESPECIAL - CONTRATO DE OBRA O MANTENIMIENTO | E27: 0.05 | I27: =ROUND($I$7*E27,0) -> 16300773
B28: PROCULTURA: SEGÚN VALOR CONTRATO > UVT 4,072 (MAYOR A $139,547,440) | E28: 0.01 | I28: =ROUND($I$7*E28,0) -> 3260155
B29: PRODESARROLLO: SEGÚN VALOR CONTRATO >= 2,196 UVT (IGUAL O MAYOR A $75,256,920) | E29: 0.035 | I29: =ROUND($I$7*E29,0) -> 11410541
B30: PRO UNIVALLE | E30: 0.02 | I30: =ROUND($I$7*E30,0) -> 6520309
B31: PRO HOSPITAL | E31: 0.01 | I31: =ROUND($I$7*E31,0) -> 3260155
B32: PRO-UNIPACÍFICO: TODO TIPO DE CONTRATOS | E32: 0.005 | I32: =ROUND($I$7*E32,0) -> 1630077
B33: PRO - BIENESTAR ADULTO MAYOR | E33: 0.02 | I33: =ROUND($I$7*E33,0) -> 6520309
B34: PRO - DEPORTE | E34: 0.02 | I34: =ROUND($I$7*E34,0) -> 6520309
B35: PRO-JUSTICIA FAMILIAR | E35: 0.02 | I35: =ROUND($I$7*E35,0) -> 6520309
B36: Impuesto de Timbre Nacional >=6000 UVT (Igual o mayor a $298.794.000) | E36: 0.005 | I36: =ROUND($I$7*E36,0) -> 1630077
I37: =SUM(I27:I36) -> 63573014
B38: VALOR TOTAL COSTOS ADMINISTRATIVOS ESTIMADOS ($) | I38: =I16+I20+I26+I37 -> 73301821
B40: COSTOS ADMINISTRATIVOS COMO % DEL COSTO DIRECTO | I40: =ROUND(I38/I6,3) -> 0.305
B42: UTILIDAD COMO % DEL COSTO DIRECTO | I42: 0.05
B44: TOTAL ADMINISTRACIÓN Y UTILIDAD COMO % DEL COSTO DIRECTO | I44: =I40+I42 -> 0.355
B55: Representante Legal | E55: INGENIERA AGRONOMA
B56: GUSTAVO EDUARDO AGUILAR DONNEYS | E56: ING. BRAHIAN ALEXIS VÁSQUEZ NARVAEZ
B58: De acuerdo con lo expresado en la Ley 842 de 2003 y debido a que el suscriptor de la presente propuesta no es Ingeniero matriculado, yo BRAHIAN ALEXIS VÁSQUEZ NARVAEZ Ingeniero con Matricula Profesional No. T.P.76209237073 VLL C.C. No 1.113.633.169 de Palmira, avalar la presente propuesta”

Sheet A.U. COMPONENTE 2
B2: COSTOS ADMINISTRATIVOS DEL AU
B4: COMPONENTE 2
B6: VALOR COSTO DIRECTO | I6: ='FORMATO 13'!G100 -> 279796417
B7: VALOR DEL CONTRATO | I7: ='FORMATO 13'!G104 -> 398709894
B8: DURACIÓN PROYECTO (MESES) | I8: 6
B10: Descripción | C10: CANT | D10: Valor mensual | E10: % factor prestacional | F10: Vr. Mensual integral | G10: % dedica-ción | H10: Duración (meses) | I10: Valor total
B11: PERSONAL PROFESIONAL | I11: =SUM(I12:I13) -> 14291100
B12: Director ingeniero Agrónomo o Agrícola | C12: 1 | D12: 4500000 | E12: 0.58 | F12: =(D12*E12)+D12 -> 7110000 | G12: 0.15 | H12: =I8 -> 6 | I12: =F12*H12*G12 -> 6399000
B13: Profesional de seguridad y salud en el trabajo | C13: 1 | D13: 1850000 | E13: 0.58 | F13: =(D13*E13)+D13 -> 2923000 | G13: 0.45 | H13: =I8 -> 6 | I13: =F13*H13*G13 -> 7892100
B14: PERSONAL TECNICO Y ADMINISTRATIVO | I14: =I15 -> 6399000
B15: Jefe de cuadrilla Mantenimiento Gramas Naturales | C15: 2 | D15: 1500000 | E15: 0.58 | F15: =(D15*E15)+D15 -> 2370000 | G15: 0.45 | H15: =I8 -> 6 | I15: =F15*H15*G15 -> 6399000
I16: =I11+I14 -> 20690100
B17: Oficina, papeleria y otros | I17: =SUM(I18:I19) -> 3800000
B18: DOTACIONES EPP PARA PERSONAL(CASCO BOTAS OVEROL) INCLUYE DOTACION DE SEGURIDAD INDUSTRIAL | C18: =4*3+2 -> 14 | E18: GLB | F18: 250000 | H18: 1 | I18: =H18*F18*C18 -> 3500000
B19: COSTO PAPELERIA, FOTOCOPIAS, TRANSPORTES | C19: 1 | E19: MES | F19: 50000 | G19: 1 | H19: =I8 -> 6 | I19: =F19*H19*G19 -> 300000
I20: =I17 -> 3800000
B21: Pólizas del contrato | D21: Vr. o vigencia req | E21: Duración | F21: Prima como % Vr.cntrt. | G21: % dedica-ción | H21: Duración (meses) | I21: Valor total
B22: POLIZA DE CUMPLIMIENTO | D22: 0.2 | E22: 6 | F22: 0.001 | I22: =ROUND($I$7*F22,0) -> 398710
B23: POLIZA DE RESP. CIVIL EXTRAC. (SMMLV) | D23: 200 | E23: 6 | F23: 0.001 | I23: =ROUND($I$7*F23,0) -> 398710
B24: POLIZA DE ESTABILIDAD (O CALIDAD) | D24: 0.2 | E24: 6 | F24: 0.004 | I24: =ROUND($I$7*F24,0) -> 1594840
B25: POLIZA DE SALARIOS Y PREST. SOC. | D25: 0.1 | E25: 36 | F25: 0.001 | I25: =ROUND($I$7*F25,0) -> 398710
B26: Sobretasas al valor del contrato | I26: =SUM(I22:I25) -> 2790970
B27: CONTRIBUCIÓN ESPECIAL - CONTRATO DE OBRA O MANTENIMIENTO | E27: 0.05 | I27: =ROUND($I$7*E27,0) -> 19935495
B28: PROCULTURA: SEGÚN VALOR CONTRATO > UVT 4,072 (MAYOR A $139,547,440) | E28: 0.01 | I28: =ROUND($I$7*E28,0) -> 3987099
B29: PRODESARROLLO: SEGÚN VALOR CONTRATO >= 2,196 UVT (IGUAL O MAYOR A $75,256,920) | E29: 0.035 | I29: =ROUND($I$7*E29,0) -> 13954846
B30: PRO UNIVALLE | E30: 0.02 | I30: =ROUND($I$7*E30,0) -> 7974198
B31: PRO HOSPITAL | E31: 0.01 | I31: =ROUND($I$7*E31,0) -> 3987099
B32: PRO-UNIPACÍFICO: TODO TIPO DE CONTRATOS | E32: 0.005 | I32: =ROUND($I$7*E32,0) -> 1993549
B33: PRO - BIENESTAR ADULTO MAYOR | E33: 0.02 | I33: =ROUND($I$7*E33,0) -> 7974198
B34: PRO - DEPORTE | E34: 0.02 | I34: =ROUND($I$7*E34,0) -> 7974198
B35: PRO-JUSTICIA FAMILIAR | E35: 0.02 | I35: =ROUND($I$7*E35,0) -> 7974198
B36: Impuesto de Timbre Nacional >=6000 UVT (Igual o mayor a $298.794.000) | E36: 0.005 | I36: =ROUND($I$7*E36,0) -> 1993549
I37: =SUM(I27:I36) -> 77748429
B38: VALOR TOTAL COSTOS ADMINISTRATIVOS ESTIMADOS ($) | I38: =I16+I20+I26+I37 -> 105029499
B40: COSTOS ADMINISTRATIVOS COMO % DEL COSTO DIRECTO | I40: =ROUND(I38/I6,3) -> 0.375
B42: UTILIDAD COMO % DEL COSTO DIRECTO | I42: 0.05
B44: TOTAL ADMINISTRACIÓN Y UTILIDAD COMO % DEL COSTO DIRECTO | I44: =I40+I42 -> 0.425
B55: Representante Legal | E55: INGENIERA AGRONOMA
B56: GUSTAVO EDUARDO AGUILAR DONNEYS | E56: ING. BRAHIAN ALEXIS VÁSQUEZ NARVAEZ
B58: De acuerdo con lo expresado en la Ley 842 de 2003 y debido a que el suscriptor de la presente propuesta no es Ingeniero matriculado, yo BRAHIAN ALEXIS VÁSQUEZ NARVAEZ Ingeniero con Matricula Profesional No. T.P.76209237073 VLL C.C. No 1.113.633.169 de Palmira, avalar la presente propuesta”

Sheet APU
B2: DISTRITO ESPECIAL DE SANTIAGO DE CALI Secretaria del Deporte y la Recreación | D2: ANALISIS DE PRECIOS UNITARIOS
B3: OBRA: REALIZAR EL MANTENIMIENTO DE CAMPOS DE JUEGO HÍBRIDO Y DE GRAMA NATURAL DE LOS ESCENARIOS DEPORTIVOS Y RECREATIVOS DE ALTO RENDIMIENTO DEL DISTRITO ESPECIAL SANTIAGO DE CALI | D3: Nº 4162.010.32.1.1056-2025
B4: PROPONENTE: GRARCO SAS
B6: ='[12]FORMATO 11 OFERTA ECONOM'!A9 -> 1.00
B7: ='FORMATO 13'!C12 -> MANTENIMIENTO CAMPO DE JUEGO HÍBRIDO DEL ESTADIO OLÍMPICO PASCUAL GUERRERO
B9: ='FORMATO 13'!C13 -> CEPILLADO: Movimiento de estolones de tal manera que queden en un sentido adecuado antes de realizar la labor de corte. El cepillado debe ser permanente y ajustado para la perfecta conservación de las gramillas. Siguiendo las indicaciones de la supervisión, interventoría o recomendaciones del contratista, debidamente aprobadas por el supervisor. Se realizará en sentido longitudinal y transversal utilizando una cepilladora manual tipo casette G860 de escobillas. Es necesario realizar cepillado antes de cada partido. Esto garantiza que el césped se presente de forma óptima definida por la entidad. Incluye, todos los materiales e insumos para su óptimo funcionamiento, operarios, herramienta menor y la recolección y disposición adecuada de los residuos. La maquinaria especializada tipo "brush soft" para esta actividad es provista por la entidad y deberá ser usada para el cepillado. Nota: Deberá garantizar el buen funcionamiento de la máquina durante la ejecución del contrato y deberá ser devuelta a la entidad en las mismas condiciones en las que fue entregada, asumiendo los costos asociados para este fin. | F9: UNIDAD: | G9: ='FORMATO 13'!D13 -> VECES
F10: ITEM: | G10: ='FORMATO 13'!B13 -> 1.01
B11: DESCRIPCION | C11: UND | D11: CANT. | E11: DESP.% | F11: PRECIO UNIT | G11: VALOR TOTAL
B13: MATERIALES
B14: =INSUMOS!$B$11 -> GASOLINA CORRIENTE | C14: =INSUMOS!$C$11 -> GLN | D14: 4 | E14: 0 | F14: =INSUMOS!$E$11 -> 16423 | G14: =TRUNC(D14 * (1 + E14 / 100) * F14,0) -> 65692
B15: =INSUMOS!$B$12 -> ACEITE MOTOR 4 TIEMPOS | C15: =INSUMOS!$C$12 -> GLN | D15: 0.01 | E15: 0 | F15: =INSUMOS!$E$12 -> 114944 | G15: =TRUNC(D15 * (1 + E15 / 100) * F15,0) -> 1149
B16: =INSUMOS!$B$13 -> BOLSAS PARA BASURA | C16: =INSUMOS!$C$13 -> UND | D16: 10 | E16: 0 | F16: =INSUMOS!$E$13 -> 2053 | G16: =TRUNC(D16 * (1 + E16 / 100) * F16,0) -> 20530
F18: SUBTOTAL MATERIALES | G18: =SUM(G14:G17) -> 87371
B19: MANO DE OBRA
B20: =INSUMOS!$B$72 -> M.O. 1 OFICIAL + 1 AYUDANTES | C20: =INSUMOS!$C$72 -> JORNAL | D20: 0.7143 | F20: =INSUMOS!$E$72 -> 308098 | G20: =TRUNC(D20 * (1 + E20 / 100) * F20,0) -> 220074
F22: SUBTOTAL- MANO DE OBRA | G22: =SUM(G20:G21) -> 220074
B23: EQUIPO
B24: =INSUMOS!$B$83 -> VOLQUETA 8 M3 CON BOTADERO CERTIFICADO | C24: =INSUMOS!$C$83 -> M3 | D24: 1 | F24: =INSUMOS!$E$83 -> 24812 | G24: =TRUNC(D24 * (1 + E24 / 100) * F24,0) -> 24812
F26: SUBTOTAL- EQUIPO | G26: =SUM(G24:G25) -> 24812
B27: OTROS
B28: =INSUMOS!$B$84 -> HERRAMIENTA MENOR | C28: =INSUMOS!$C$84 -> GLB | D28: 0.1 | F28: =INSUMOS!$E$84 -> 2174 | G28: =TRUNC(D28 * (1 + E28 / 100) * F28,0) -> 217
B29: =INSUMOS!$B$85 -> MANTENIMIENTO CORTADORA CASETTE G860 8 HOJAS | C29: =INSUMOS!$C$85 -> GLB | D29: 1 | F29: =INSUMOS!$E$85 -> 6281 | G29: =TRUNC(D29 * (1 + E29 / 100) * F29,0) -> 6281
F31: ="SUBTOTAL " &B27 -> SUBTOTAL OTROS | G31: =SUM(G28:G30) -> 6498
E33: COSTO DIRECTO | G33: =ROUND(G18+G22+G26+G31,0) -> 338755
B35: ='FORMATO 13'!C14 -> CORTE: Mantener la altura adecuada del césped para favorecer un crecimiento saludable del campo de juego híbrido. Se debe realizar un corte antes de cada partido o evento a toda la gramilla, o de acuerdo con las indicaciones de la supervisión y/o interventoría y/o recomendación del contratista, debidamente aprobadas por el supervisor con la finalidad de tener a la altura óptima el prado. Incluye la maquinaria, la maquinaria especializada, el combustible, el operario, recolección y botada de sobrantes. El corte debe ser permanente y ajustado para la perfecta conservación de las gramillas. Se realizará en sentido longitudinal y transversal utilizando una cortadora manual tipo casette G860 de 8 hojas, previa instalación de hilos para demarcaciones de las franjas. Esto garantiza que el césped mantenga la altura óptima definida por la entidad. Incluye, todos los materiales e insumos para su óptimo funcionamiento, operarios, herramienta menor y la recolección y disposición adecuada de los residuos. La maquinaria especializada tipo "casette G860 de 8 hojas" para esta actividad es provista por la entidad y deberá ser usada para el corte. Nota: Deberá garantizar el buen funcionamiento de la máquina durante la ejecución del contrato y deberá ser devuelta a la entidad en las mismas condiciones en las que fue entregada, asumiendo los costos asociados para este fin. | F35: UNIDAD: | G35: ='FORMATO 13'!D14 -> VECES
F36: ITEM: | G36: ='FORMATO 13'!B14 -> 1.02
B37: DESCRIPCION | C37: UND | D37: CANT. | E37: DESP.% | F37: PRECIO UNIT | G37: VALOR TOTAL
B39: MATERIALES
B40: =INSUMOS!$B$11 -> GASOLINA CORRIENTE | C40: =INSUMOS!$C$11 -> GLN | D40: 4 | E40: 0 | F40: =INSUMOS!$E$11 -> 16423 | G40: =TRUNC(D40 * (1 + E40 / 100) * F40,0) -> 65692
B41: =INSUMOS!$B$12 -> ACEITE MOTOR 4 TIEMPOS | C41: =INSUMOS!$C$12 -> GLN | D41: 0.01 | E41: 0 | F41: =INSUMOS!$E$12 -> 114944 | G41: =TRUNC(D41 * (1 + E41 / 100) * F41,0) -> 1149
B42: =INSUMOS!$B$13 -> BOLSAS PARA BASURA | C42: =INSUMOS!$C$13 -> UND | D42: 30 | E42: 0 | F42: =INSUMOS!$E$13 -> 2053 | G42: =TRUNC(D42 * (1 + E42 / 100) * F42,0) -> 61590
F44: SUBTOTAL MATERIALES | G44: =SUM(G40:G43) -> 128431
B45: MANO DE OBRA
B46: =INSUMOS!$B$73 -> M.O. 1 OFICIAL + 2 AYUDANTES | C46: =INSUMOS!$C$73 -> JORNAL | D46: 0.75 | F46: =INSUMOS!$E$73 -> 422209 | G46: =TRUNC(D46 * (1 + E46 / 100) * F46,0) -> 316656
B47: =INSUMOS!$B$78 -> INGENIERO AGRONOMO | C47: =INSUMOS!C78 -> JORNAL | D47: 0.5 | F47: =INSUMOS!E78 -> 236291 | G47: =TRUNC(D47 * (1 + E47 / 100) * F47,0) -> 118145
F49: SUBTOTAL- MANO DE OBRA | G49: =SUM(G46:G48) -> 434801
B50: EQUIPO
B51: =INSUMOS!$B$83 -> VOLQUETA 8 M3 CON BOTADERO CERTIFICADO | C51: =INSUMOS!$C$83 -> M3 | D51: 3 | F51: =INSUMOS!$E$83 -> 24812 | G51: =TRUNC(D51 * (1 + E51 / 100) * F51,0) -> 74436
F53: SUBTOTAL- EQUIPO | G53: =SUM(G51:G52) -> 74436
B54: OTROS
...

Sheet INSUMOS
B5: DISTRITO ESPECIAL DE SANTIAGO DE CALI Secretaria del Deporte y la Recreación | D5: ANALISIS DE PRECIOS UNITARIOS
B6: OBRA: REALIZAR EL MANTENIMIENTO DE CAMPOS DE JUEGO HÍBRIDO Y DE GRAMA NATURAL DE LOS ESCENARIOS DEPORTIVOS Y RECREATIVOS DE ALTO RENDIMIENTO DEL DISTRITO ESPECIAL SANTIAGO DE CALI | D6: Nº 4162.010.32.1.1056-2025
B7: PROPONENTE: GRARCO SAS
B9: MATERIALES | F9: =SUM(F12:F63) -> 0
B10: DESCRIPCION | C10: UND | D10: CANT. | E10: VR. UNIT. | F10: VR.TOTAL
B11: GASOLINA CORRIENTE | C11: GLN | E11: =ROUND(16758*$Y$11,0) -> 16423 | F11: =ROUND(D11*E11,0) -> 0 | Y11: 0.98
B12: ACEITE MOTOR 4 TIEMPOS | C12: GLN | E12: =ROUND(117290*$Y$11,0) -> 114944 | F12: =ROUND(D12*E12,0) -> 0
B13: BOLSAS PARA BASURA | C13: UND | E13: =ROUND(2095*$Y$11,0) -> 2053 | F13: =ROUND(D13*E13,0) -> 0
B14: ASPERSORES T-7 | C14: UND | E14: =ROUND(369629*$Y$11,0) -> 362236 | F14: =ROUND(D14*E14,0) -> 0
B15: VALVULAS ELECTRONICAS | C15: UND | E15: =ROUND(975094*$Y$11,0) -> 955592 | F15: =ROUND(D15*E15,0) -> 0
B16: TUBERIA Y ACCESORIOS PRESION DIFERENTES DIAMETROS 2 | C16: GLB | E16: =ROUND(108173*$Y$11,0) -> 106010 | F16: =ROUND(D16*E16,0) -> 0
B17: COMPONENTES ELECTRONICOS VARIOS 2 | C17: GLB | E17: =ROUND(159131*$Y$11,0) -> 155948 | F17: =ROUND(D17*E17,0) -> 0
B18: GUADAÑA | C18: DIA | E18: =ROUND(30382*$Y$11,0) -> 29774 | F18: =ROUND(D18*E18,0) -> 0
B19: COADYUDANTE I-NEX A | C19: GLB | E19: =ROUND(56403*$Y$11,0) -> 55275 | F19: =ROUND(D19*E19,0) -> 0
B20: ISABION | C20: LITRO | E20: =ROUND(79989*$Y$11,0) -> 78389 | F20: =ROUND(D20*E20,0) -> 0
B21: POLY FEED TRIPLE 19 | C21: KG | E21: =ROUND(9691*$Y$11,0) -> 9497 | F21: =ROUND(D21*E21,0) -> 0
B22: NITRATO DE CALICO | C22: KG | E22: =ROUND(5995*$Y$11,0) -> 5875 | F22: =ROUND(D22*E22,0) -> 0
B23: KELATO DE HIERRO | C23: KG | E23: =ROUND(64606*$Y$11,0) -> 63314 | F23: =ROUND(D23*E23,0) -> 0
B24: KELATO DE MAGNESIO | C24: KG | E24: =ROUND(59223*$Y$11,0) -> 58039 | F24: =ROUND(D24*E24,0) -> 0
B25: ALGAS MARINAS | C25: KG | E25: =ROUND(257401*$Y$11,0) -> 252253 | F25: =ROUND(D25*E25,0) -> 0
B26: MICORRIZAS | C26: LITRO | E26: =ROUND(60504*$Y$11,0) -> 59294 | F26: =ROUND(D26*E26,0) -> 0
B27: TRICHODERMA | C27: LITRO | E27: =ROUND(71785*$Y$11,0) -> 70349 | F27: =ROUND(D27*E27,0) -> 0
B28: BEAUVERIA BAUSSINIA | C28: LITRO | E28: =ROUND(49224*$Y$11,0) -> 48240 | F28: =ROUND(D28*E28,0) -> 0
B29: FACELOMICIS | C29: LITRO | E29: =ROUND(46147*$Y$11,0) -> 45224 | F29: =ROUND(D29*E29,0) -> 0
B30: VTACILUS TURIGENCIS | C30: LITRO | E30: =ROUND(33326*$Y$11,0) -> 32659 | F30: =ROUND(D30*E30,0) -> 0
B31: AMISTAR TOP | C31: LITRO | E31: =ROUND(86001*$Y$11,0) -> 84281 | F31: =ROUND(D31*E31,0) -> 0
B32: JUEGO DE PINES SOLIDOS | C32: UND | E32: =ROUND(328161*$Y$11,0) -> 321598 | F32: =ROUND(D32*E32,0) -> 0
B33: JUEGO DE CUCHILLAS TIPO CORBATIN | C33: UND | E33: =ROUND(328161*$Y$11,0) -> 321598 | F33: =ROUND(D33*E33,0) -> 0
B34: ARENA MEDIANA LAVADA SELECCIONADA | C34: M3 | E34: =ROUND(80000*$Y$11,0) -> 78400 | F34: =ROUND(D34*E34,0) -> 0
B35: PINTURA VINILO TIPO II | C35: GLN | E35: =ROUND(60000*$Y$11,0) -> 58800 | F35: =ROUND(D35*E35,0) -> 0
B36: DETERGENTE EN POLVO | C36: KG | E36: =ROUND(13571*$Y$11,0) -> 13300 | F36: =ROUND(D36*E36,0) -> 0
B37: RASTRILLO PLÁSTICO | C37: UND | E37: =ROUND(29774*$Y$11,0) -> 29179 | F37: =ROUND(D37*E37,0) -> 0
B38: TELAR SINTETICO TIPO ALFOMBRA 1.50X3.00 | C38: UND | E38: =ROUND(229919*$Y$11,0) -> 225321 | F38: =ROUND(D38*E38,0) -> 0
B39: CARRETA TIPO BUGUI | C39: DIA | E39: =ROUND(4760*$Y$11,0) -> 4665 | F39: =ROUND(D39*E39,0) -> 0
B40: ESCOBA PLASTICA DE CERDA FINA ANCHA | C40: UND | E40: =ROUND(7364*$Y$11,0) -> 7217 | F40: =ROUND(D40*E40,0) -> 0
B41: MANGUERA PARA RIEGO 2" TIPO BOMBERO DE 200ML | C41: ML | E41: =ROUND(6793*$Y$11,0) -> 6657 | F41: =ROUND(D41*E41,0) -> 0
B42: CAÑON 50 (DIAMETRO DE RIEGO 50ML) | C42: UND | E42: =ROUND(1758927*$Y$11,0) -> 1723748 | F42: =ROUND(D42*E42,0) -> 0
B43: TRIPODE | C43: UND | E43: =ROUND(390872*$Y$11,0) -> 383055 | F43: =ROUND(D43*E43,0) -> 0
B44: AGUA | C44: LTS | E44: =ROUND(41*$Y$11,0) -> 40 | F44: =ROUND(D44*E44,0) -> 0
B45: BIOABONO "EL CEDRO" X 40 KILOS | C45: UND | E45: =ROUND(29000*$Y$11,0) -> 28420 | F45: =ROUND(D45*E45,0) -> 0
...
