Workbook
Name \0: #REF!
Name \0: #REF!
Name \0: #REF!
Name \0: #REF!
Name \0: #REF!
Name \0: #REF!
Name \0: #REF!
Name \0: #REF!
Name \0: #REF!
Name \0: #REF!
Name \0: #REF!
Name \0: #REF!
Name \0: #REF!
Name \0: #REF!
Name \0: #REF!
Name \0: #REF!
Name \0: #REF!
Name \0: #REF!
Name \0: #REF!
Name \0: #REF!
Name \00: #REF!
Name \00: #REF!
Name \00: #REF!
Name \00: #REF!
Name \00: #REF!
Name \00: #REF!
Name \00: #REF!
Name \00: #REF!
Name \00: #REF!
Name \00: #REF!
Name \00: #REF!
Name \00: #REF!
Name \00: #REF!
Name \00: #REF!
Name \00: #REF!
Name \00: #REF!
Name \00: #REF!
Name \00: #REF!
Name \00: #REF!
Name \00: #REF!
Name \a: #REF!
Name \a: #REF!
Name \a: #REF!
Name \a: #REF!
Name \a: #REF!
Name \a: #REF!
Name \a: #REF!
Name \a: #REF!
Name \a: #REF!
Name \a: #REF!
Name \a: #REF!
Name \a: #REF!
Name \a: #REF!
Name \a: #REF!
Name \a: #REF!
Name \a: #REF!
Name \a: #REF!
Name \a: #REF!
Name \a: #REF!
Name \a: #REF!

Sheet PRESUPUESTO OFICIAL (Entidad)
C3: Formulario 1 - Propuesta económica - Documento tipo de licitación de obra pública de infraestructura de transporte - versión 4
C4: Código | D4: CCE-EICP-FM-14 | E4: Versión | F4: 4
C5: FORMULARIO 1
C6: PRESUPUESTO OFICIAL
C7: [La entidad puede utilizar este formulario de detalle del presupuesto oficial para determinar las condiciones bajo las cuales los proponentes analizarán y presentarán su propuesta económica de forma detallada, sin perjuicio que la entidad pueda modificarlo o establecer la presentación de la oferta económica con un formulario distinto al indicado.]
C9: Adicionalmente, cuando el proceso de contratación es estructurado por precios unitarios, la Entidad debe aplicar las notas 1, 2 y 3 del presente formulario y las casillas de "Descripción", "Porcentaje" de la Administración, Imprevisto, Utilidad y total A.I.U. resaltadas en color amarillo. Tratándose de otras modalidades de precio, la Entidad puede o no configurar los mismos aspectos.
C11: Nº | D11: ÍTEM DE PAGO | E11: ESPECIFICACIONES | G11: DESCRIPCIÓN | H11: UND. | I11: CANTIDAD | J11: VALOR UNITARIO | K11: VALOR TOTAL
E12: GENERAL | F12: PARTICULAR | O12: F | P12: I
C13: 1 | D13: ANDENES AEROPUERTO LA NUBIA | K13: =SUM(K14:K17) -> 20805923 | N13: FUNCIONAMIENTO | O13: =+K13 -> 20805923 | Q13: =+K13 -> 20805923
C14: 1.1 | G14: DEMOLICION DE LOSAS EXISTENTES QUE PRESENTAN DETERIORO (INCLUYE DISPOSICION FINAL) | H14: M3 | I14: 6 | J14: =+'APU 1,1'!O68 -> 220218 | K14: =+ROUND(J14*I14,0) -> 1321308
C15: 1.2 | G15: EXCAVACION EN MATERIAL GRANULAR INCLUYE RETIRO Y DISPOSICION FINAL | H15: M3 | I15: 18 | J15: =+'APU 1,2'!O68 -> 210912 | K15: =+ROUND(J15*I15,0) -> 3796416
C16: 1.3 | G16: SUMNISTRO, TRANSPORTE E INSTALACION DE BASE GRANULAR | H16: M3 | I16: 18 | J16: =+'APU 1,3'!O68 -> 366130 | K16: =+ROUND(J16*I16,0) -> 6590340
C17: 1.4 | G17: SUMINISTRO, TRANSPORTE E INSTALACION ANDEN CONCRETO 3000 PSI E= 0.10M. ACABADO: ESCOBIADO | H17: M2 | I17: 59 | J17: =+'APU 1,4'!O71 -> 154201 | K17: =+ROUND(J17*I17,0) -> 9097859
C18: 2 | D18: CERRAMIENTO PERIMETRAL - SEPARACION UNIVERSIDAD / REFORZAMIENTO BODEGA | K18: =SUM(K19:K20) -> 19595155 | N18: INVERSION | P18: =+K18 -> 19595155 | R18: =+K18 -> 19595155
C19: 2.1 | G19: VIGA DE AMARRE Y COLUMNETA EN CONCRETO DE 20,7 MPA DE 0,15*0,20 M INCLUYE REFUERZO | H19: ML | I19: 95 | J19: =+'APU 2,1'!O74 -> 152199 | K19: =+ROUND(J19*I19,0) -> 14458905
C20: 2.2 | G20: SUMINISTRO TRANSPORTE E INSTALACION DE MURO EN LADRILLO FAROL . INCLUYE MORTERO DE PEGA. | H20: M2 | I20: 70 | J20: =+'APU 2,2'!O71 -> 73375 | K20: =+ROUND(J20*I20,0) -> 5136250
C21: 3 | D21: BODEGA O ALMACEN UBICADA EN EL PARQUEADERO | K21: =SUM(K22:K24) -> 6244732 | N21: FUNCIONAMIENTO | O21: =+K21 -> 6244732 | Q21: =+K21 -> 6244732
C22: 3.1 | G22: PINTURA COLUMNAS, VIGAS, MUROS Y CIELORASO 2 MANOS (INCLUYE ASEO FINAL) | H22: M2 | I22: 55 | J22: =+'APU 3,1'!O69 -> 36062 | K22: =+ROUND(J22*I22,0) -> 1983410
C23: 3.2 | G23: DESMONTE DE CIELO RASO EXISTENTE | H23: M2 | I23: 26 | J23: =+'APU 3,2'!O69 -> 20799 | K23: =+ROUND(J23*I23,0) -> 540774
C24: 3.3 | G24: SUMINISTRO, INSTALACION Y TRANSPORTE DE CIELO RASO EN SUPERBOARD | H24: M2 | I24: 26 | J24: =+'APU 3,3'!O77 -> 143098 | K24: =+ROUND(J24*I24,0) -> 3720548
C25: 4 | D25: SEÑALIZACION PARQUEADERO Y ENTRADA AEROPUERTO | K25: =SUM(K26:K40) -> 41103751 | N25: FUNCIONAMIENTO | O25: =+K25 -> 41103751 | Q25: =+K25 -> 41103751
C26: 4.1 | G26: IMPRIMANTE PARA PINTURA ACRILICA BASE SOLVENTE NEGRA | H26: M2 | I26: 380 | J26: =+'APU 4,1'!O69 -> 49472 | K26: =+ROUND(J26*I26,0) -> 18799360
C27: 4.2 | G27: SUMINISTRO Y APLICACIÓN DE PINTURA PARA SEÑALIZACION HORIZONTAL - LINEA AMARILLA, ANCHO 10 CM | H27: ML | I27: 593 | J27: =+'APU 4,2'!O69 -> 4165 | K27: =+ROUND(J27*I27,0) -> 2469845
C28: 4.3 | G28: SUMINISTRO Y APLICACIÓN DE PINTURA PARA SEÑALIZACION HORIZONTAL - LINEA AZUL ANCHO 10 CM | H28: ML | I28: 127 | J28: =+'APU 4,2'!O69 -> 4165 | K28: =+ROUND(J28*I28,0) -> 528955
C29: 4.4 | G29: SUMINISTRO Y APLICACIÓN DE PINTURA PARA SEÑALIZACION HORIZONTAL - LINEA VERDE ANCHO 10 CM | H29: ML | I29: 60 | J29: =+'APU 4,2'!O69 -> 4165 | K29: =+ROUND(J29*I29,0) -> 249900
C30: 4.5 | G30: SUMINISTRO Y APLICACIÓN DE PINTURA PARA SEÑALIZACION HORIZONTAL - LINEA BLANCA ANCHO 10 CM | H30: ML | I30: 238 | J30: =+'APU 4,2'!O69 -> 4165 | K30: =+ROUND(J30*I30,0) -> 991270
C31: 4.6 | G31: CEBRA PEATONAL (3,00 x 0,40 m). | H31: M2 | I31: 28 | J31: =+'APU 4,6'!O69 -> 55927 | K31: =+ROUND(J31*I31,0) -> 1565956
C32: 4.7 | G32: CEBRA PEATONAL (1,00 x 0,25 m). | H32: M2 | I32: 90 | J32: =+'APU 4,6'!O69 -> 55927 | K32: =+ROUND(J32*I32,0) -> 5033430
C33: 4.8 | G33: CEBRA AMARILLA NO PARQUEAR | H33: M2 | I33: 25 | J33: =+'APU 4,6'!O69 -> 55927 | K33: =+ROUND(J33*I33,0) -> 1398175
C34: 4.9 | G34: NUMERACIÓN PARQUEADEROS, CARROS. (SEÑAL CIRCULAR Ø=60CM). | H34: M2 | I34: 21 | J34: =+'APU 4,6'!O69 -> 55927 | K34: =+ROUND(J34*I34,0) -> 1174467
C35: 4.1 | G35: NUMERACIÓN PARQUEADEROS, MOTOS. (SEÑAL CIRCULAR Ø=40CM). | H35: M2 | I35: 5 | J35: =+'APU 4,6'!O69 -> 55927 | K35: =+ROUND(J35*I35,0) -> 279635
C36: 4.11 | G36: SEÑAL HORIZONTAL, PARQUEADERO DE DISCAPACITADOS. (1,75 X 1,75 M). | H36: M2 | I36: 7 | J36: =+'APU 4,6'!O69 -> 55927 | K36: =+ROUND(J36*I36,0) -> 391489
C37: 4.12 | G37: PUNTO DE ENCUENTRO - PINTURA VERDE. | H37: M2 | I37: 96 | J37: =+'APU 4,6'!O69 -> 55927 | K37: =+ROUND(J37*I37,0) -> 5368992
C38: 4.13 | G38: SEÑAL HORIZONTAL, PUNTO DE ENCUENTRO. (3,00 X 2,00 M). | H38: M2 | I38: 7 | J38: =+'APU 4,6'!O69 -> 55927 | K38: =+ROUND(J38*I38,0) -> 391489
C39: 4.14 | G39: SEÑAL HORIZONTAL - PROHIBIDO PARQUEAR. (3,00 X 3,00 M) - PUNTO DE ENCUENTRO. | H39: M2 | I39: 9 | J39: =+'APU 4,6'!O69 -> 55927 | K39: =+ROUND(J39*I39,0) -> 503343
C40: 4.15 | G40: FLECHAS SENTIDO VIAL. | H40: M2 | I40: 35 | J40: =+'APU 4,6'!O69 -> 55927 | K40: =+ROUND(J40*I40,0) -> 1957445
C41: 5 | D41: CAMBIADOR DE BEBES | K41: =SUM(K42) -> 6219724 | N41: INVERSION | P41: =+K41 -> 6219724 | Q41: =+K41 -> 6219724
C42: 5.1 | G42: SUMINISTRO, TRANSPORTE E INSTALACION DE CAMBIADOR DE BEBE HORIZONTAL GRIS | H42: UND | I42: 2 | J42: =+'APU 5,1'!O65 -> 3109862 | K42: =+ROUND(J42*I42,0) -> 6219724
C43: 6 | D43: ASFALTO VIAS ENTRADA AEROPUERTO | K43: =SUM(K44:K46) -> 14160671 | N43: INVERSION | P43: =+K43 -> 14160671 | R43: =+K43 -> 14160671
C44: 6.1 | G44: FRESADA CARPETA ASFALTICA HASTA 10 CM (INCLUYE CARGUE, CPRTE, RETIRO Y DISPOSICION FINAL) | H44: M2 | I44: 70 | J44: =+'APU 6,1'!O71 -> 13369 | K44: =+ROUND(J44*I44,0) -> 935830
...

Sheet PROPUESTA ECONOMICA(Proponente)
C3: Formulario 1 - Propuesta económica - Documento tipo de licitación de obra pública de infraestructura de transporte - versión 4
C4: Código | D4: CCE-EICP-FM-14 | E4: Versión | F4: 4
C5: FORMULARIO 1
C6: PROPUESTA ECONÓMICA
C7: [La entidad puede utilizar este formulario de presentación de propuesta económica de forma detallada, sin perjuicio que la entidad pueda modificarlo o establecer la presentación de la oferta económica con un formulario distinto al indicado.] [Los proponentes emplearán el formulario establecido por la entidad para determinar su propuesta económica conforme al Formulario 1 - Presupuesto Oficial publicado por la Entidad]
C9: Cuando el proceso de contratación es estructurado por precios unitarios, la Entidad debe aplicar las notas 1, 2 y 3 del presente formato y las casillas de "Descripción", "Porcentaje" de la Administración, Imprevisto, Utilidad y total A.I.U. resaltadas en color amarillo.
C11: Nº | D11: ÍTEM DE PAGO | E11: ESPECIFICACIONES | G11: DESCRIPCIÓN | H11: UND. | I11: CANTIDAD | J11: VALOR UNITARIO | K11: VALOR TOTAL
E12: GENERAL | F12: PARTICULAR
C13: 1 | D13: ANDENES AEROPUERTO LA NUBIA
C14: 1.1 | G14: DEMOLICION DE LOSAS EXISTENTES QUE PRESENTAN DETERIORO (INCLUYE DISPOSICION FINAL) | H14: M3 | I14: 6
C15: 1.2 | G15: EXCAVACION EN MATERIAL GRANULAR INCLUYE RETIRO Y DISPOSICION FINAL | H15: M3 | I15: 18
C16: 1.3 | G16: SUMNISTRO, TRANSPORTE E INSTALACION DE BASE GRANULAR | H16: M3 | I16: 18
C17: 1.4 | G17: SUMINISTRO, TRANSPORTE E INSTALACION ANDEN CONCRETO 3000 PSI E= 0.10M. ACABADO: ESCOBIADO | H17: M2 | I17: 59
C18: 2 | D18: CERRAMIENTO PERIMETRAL - SEPARACION UNIVERSIDAD / REFORZAMIENTO BODEGA
C19: 2.1 | G19: VIGA DE AMARRE Y COLUMNETA EN CONCRETO DE 20,7 MPA DE 0,15*0,20 M INCLUYE REFUERZO | H19: ML | I19: 95
C20: 2.2 | G20: SUMINISTRO TRANSPORTE E INSTALACION DE MURO EN LADRILLO FAROL . INCLUYE MORTERO DE PEGA. | H20: M2 | I20: 70
C21: 3 | D21: BODEGA O ALMACEN UBICADA EN EL PARQUEADERO
C22: 3.1 | G22: PINTURA COLUMNAS, VIGAS, MUROS Y CIELORASO 2 MANOS (INCLUYE ASEO FINAL) | H22: M2 | I22: 55
C23: 3.2 | G23: DESMONTE DE CIELO RASO EXISTENTE | H23: M2 | I23: 26
C24: 3.3 | G24: SUMINISTRO, INSTALACION Y TRANSPORTE DE CIELO RASO EN SUPERBOARD | H24: M2 | I24: 26
C25: 4 | D25: SEÑALIZACION PARQUEADERO Y ENTRADA AEROPUERTO
C26: 4.1 | G26: IMPRIMANTE PARA PINTURA ACRILICA BASE SOLVENTE NEGRA | H26: M2 | I26: 380
C27: 4.2 | G27: SUMINISTRO Y APLICACIÓN DE PINTURA PARA SEÑALIZACION HORIZONTAL - LINEA AMARILLA, ANCHO 10 CM | H27: ML | I27: 593
C28: 4.3 | G28: SUMINISTRO Y APLICACIÓN DE PINTURA PARA SEÑALIZACION HORIZONTAL - LINEA AZUL ANCHO 10 CM | H28: ML | I28: 127
C29: 4.4 | G29: SUMINISTRO Y APLICACIÓN DE PINTURA PARA SEÑALIZACION HORIZONTAL - LINEA VERDE ANCHO 10 CM | H29: ML | I29: 60
C30: 4.5 | G30: SUMINISTRO Y APLICACIÓN DE PINTURA PARA SEÑALIZACION HORIZONTAL - LINEA BLANCA ANCHO 10 CM | H30: ML | I30: 238
C31: 4.6 | G31: CEBRA PEATONAL (3,00 x 0,40 m). | H31: M2 | I31: 28
C32: 4.7 | G32: CEBRA PEATONAL (1,00 x 0,25 m). | H32: M2 | I32: 90
C33: 4.8 | G33: CEBRA AMARILLA NO PARQUEAR | H33: M2 | I33: 25
C34: 4.9 | G34: NUMERACIÓN PARQUEADEROS, CARROS. (SEÑAL CIRCULAR Ø=60CM). | H34: M2 | I34: 21
C35: 4.1 | G35: NUMERACIÓN PARQUEADEROS, MOTOS. (SEÑAL CIRCULAR Ø=40CM). | H35: M2 | I35: 5
C36: 4.11 | G36: SEÑAL HORIZONTAL, PARQUEADERO DE DISCAPACITADOS. (1,75 X 1,75 M). | H36: M2 | I36: 7
C37: 4.12 | G37: PUNTO DE ENCUENTRO - PINTURA VERDE. | H37: M2 | I37: 96
... C40: 4.15 | G40: FLECHAS SENTIDO VIAL. | H40: M2 | I40: 35
C41: 5 | D41: CAMBIADOR DE BEBES
C42: 5.1 | G42: SUMINISTRO, TRANSPORTE E INSTALACION DE CAMBIADOR DE BEBE HORIZONTAL GRIS | H42: UND | I42: 2
C43: 6 | D43: ASFALTO VIAS ENTRADA AEROPUERTO
C44: 6.1 | G44: FRESADA CARPETA ASFALTICA HASTA 10 CM (INCLUYE CARGUE, CPRTE, RETIRO Y DISPOSICION FINAL) | H44: M2 | I44: 70
C45: 6.2 | G45: RIEGO DE IMPRIMACIÓN CON EMULSION ASFALTICO CRL-57 (CRL-1) (SUMINISTRO, BARRIDO SUPERFICIE Y RIEGO) | H45: M2 | I45: 70
C46: 6.3 | G46: CONCRETO ASFALTICO MDC19 (INCLUYE TRANSPORTE, SUMINISTRO E INSTALACION) | H46: M3 | I46: 7
...

Sheet A.I.U
C4: GOBERNACIÓN DE CALDAS
C5: INSTITUTO DE FINANCIAMIENTO, PROMOCIÓN Y DESARROLLO DE CALDAS
C6: CALCULO A.I.U.
I9: FECHA
J10: (Día) | K10: (Mes) | L10: (Año)
C14: Valor estimado de la Obra (Costo Directo). | F14: Valor | G14: =+'PRESUPUESTO OFICIAL (Entidad)'!K78/1.37 -> 3.6898687e+08
C15: Plazo estimado de ejecución | F15: Meses | G15: 3
G16: =+G15*30 -> 90
C17: CAPITULO | D17: TIPO DE GASTO | E17: UN | F17: CANTIDAD. | G17: Destinación | H17: VLOR UNITARIO (mes) | I17: Factor Prestacional. | J17: VLOR TOTAL | K17: SUMA | L17: PORCENTAJE
C19: 1 | D19: GASTOS GENERALES. | L19: =+L20 -> 0.13611938
C20: 1.1 | D20: MANO DE OBRA | K20: =SUM(J21:J29) -> 47226264 | L20: =+(K20/$G$14)+L26 -> 0.13611938
D21: Ingeniero Director | E21: Un | F21: 1 | G21: 0.1 | H21: 6500000 | I21: 0.5483 | J21: =+F21*G21*$G$15*H21*(1+I21) -> 3019185
D22: Ingeniero Residente | E22: Un | F22: 1 | G22: 1 | H22: 4200000 | I22: 0.5483 | J22: =+F22*G22*$G$15*H22*(1+I22) -> 19508580
D23: Profesional en Seguridad y Salud en el Trabajo | E23: Un | F23: 1 | G23: 1 | H23: 3250000 | I23: 0.5483 | J23: =+F23*G23*$G$15*H23*(1+I23) -> 15095925
D24: Ingeniero Ambiental | E24: Un | F24: 1 | G24: 0.3 | H24: 4200000 | I24: 0.5483 | J24: =+F24*G24*$G$15*H24*(1+I24) -> 5852574
D26: Ensayos de laboratorio | E26: Un | F26: 1 | G26: 1 | H26: 1000000 | J26: =$G$15*H26*G26*F26 -> 3000000 | L26: =+J26:J28/$G$14 -> 0.0081303706
D27: Seguridad y salud en el trabajo | E27: Un | F27: 1 | G27: 0.5 | H27: 500000 | J27: =$G$15*H27*G27*F27 -> 750000
C30: 2 | D30: GASTOS INDIRECTOS. | L30: =L31+L35+L41 -> 0.187964
C31: 2.1 | D31: LEGALIZACION.
D32: Factor Multiplicador | I32: 1.37 | N32: =+L53 -> 0.37
C35: 2.2 | D35: POLIZAS | K35: =SUM(J36:J40) -> 2274804.1 | L35: =+K35/$G$14 -> 0.006165
D36: Cumplimiento | E36: % | F36: 0.0006 | H36: =+G14 -> 3.6898687e+08 | I36: =+$I$32 -> 1.37 | J36: =+H36*I36*F36 -> 303307.21 | L36: =+J36/$G$14 -> 0.000822
D37: Estabilidad | E37: % | F37: 0.0009 | H37: =+$H$36 -> 3.6898687e+08 | I37: =+$I$32 -> 1.37 | J37: =+H37*I37*F37 -> 454960.81 | L37: =+J37/$G$14 -> 0.001233
D38: Buen manejo y correcta inversión del anticipo | E38: % | F38: 0 | H38: =+$H$36 -> 3.6898687e+08 | I38: =+$I$32 -> 1.37 | J38: =+H38*I38*F38 -> 0 | L38: =+J38/$G$14 -> 0
D39: Pago de salarios, prestaciones sociales legales e indemnizaciones laborales | E39: % | F39: 0.0005 | H39: =+$H$36 -> 3.6898687e+08 | I39: =+$I$32 -> 1.37 | J39: =+H39*I39*F39 -> 252756.01 | L39: =+J39/$G$14 -> 0.000685
D40: Responsabilidad Civil | E40: % | F40: 0.0025 | H40: =+$H$36 -> 3.6898687e+08 | I40: =+$I$32 -> 1.37 | J40: =+H40*I40*F40 -> 1263780 | L40: =+J40/$G$14 -> 0.003425
C41: 2.3 | D41: IMPUESTOS Y VALORES AGREGADOS | K41: =SUM(J42:J49) -> 67081444 | L41: =+K41/$G$14 -> 0.181799
D42: Contribución Especial (Seguridad Ciudadana) | E42: % | F42: 0.05 | H42: =+$H$40 -> 3.6898687e+08 | I42: =+$I$32 -> 1.37 | J42: =+F42*H42*I42 -> 25275601 | L42: =+J42/$G$14 -> 0.0685
D43: Estampillas para el bienestar del adulto mayor | E43: % | F43: 0.03 | H43: =+$H$40 -> 3.6898687e+08 | I43: =+$I$32 -> 1.37 | J43: =+F43*H43*I43 -> 15165360 | L43: =+J43/$G$14 -> 0.0411
D44: Estampillas Pro - Universidades. | E44: % | F44: 0.02 | H44: =+$H$40 -> 3.6898687e+08 | I44: =+$I$32 -> 1.37 | J44: =+F44*H44*I44 -> 10110240 | L44: =+J44/$G$14 -> 0.0274
D45: Estampilla Prodesarrollo | E45: % | F45: 0.01 | H45: =+$H$40 -> 3.6898687e+08 | I45: =+$I$32 -> 1.37 | J45: =+F45*H45*I45 -> 5055120.1 | L45: =+J45/$G$14 -> 0.0137
D46: Estampilla ProHospital | E46: % | F46: 0.01 | H46: =+$H$40 -> 3.6898687e+08 | I46: =+$I$32 -> 1.37 | J46: =+F46*H46*I46 -> 5055120.1 | L46: =+J46/$G$14 -> 0.0137
D47: Impuesto de timbre | E47: % | F47: 0.005 | H47: =+$H$40 -> 3.6898687e+08 | I47: =+$I$32 -> 1.37 | J47: =+F47*H47*I47 -> 2527560.1
D48: 4/1000 (transacciones financieras) | E48: % | F48: 0.004 | H48: =+$H$40 -> 3.6898687e+08 | I48: =+$I$32 -> 1.37 | J48: =+F48*H48*I48 -> 2022048 | L48: =+J48/$G$14 -> 0.00548
D49: Industria y Comercio 3,7 x 1.000 sobre valor total. | E49: % | F49: 0.0037 | H49: =+$H$40 -> 3.6898687e+08 | I49: =+$I$32 -> 1.37 | J49: =+F49*H49*I49 -> 1870394.4 | L49: =+J49/$G$14 -> 0.005069
D50: TOTAL GASTOS INDIRECTOS DE ADMINISTRACION. | K50: =SUM(K20:K49) -> 1.1658251e+08 | L50: =+ROUND((L19+L30),2) -> 0.32
D51: IMPREVISTO: | L51: 0
D52: UTILIDAD (+ IVA).: | K52: 0.05 | L52: =+K52 -> 0.05
D53: A.I.U. | L53: =SUM(L50+L51+L52) -> 0.37

Sheet APU 1,1
C3: Formulario 1 - Propuesta económica - Documento tipo de licitación de obra pública de infraestructura de transporte - versión 4
C4: Código | D4: CCE-EICP-FM-14 | E4: Versión | F4: 4
C6: [La entidad podrá utilizar este formato para la presentación de los análisis de precios unitarios del contratista en la oportunidad prevista en el numeral 8.1. del Documento Base]
D9: INSTITUTO DE FINANCIAMIENTO, PROMOCIÓN Y DESARROLLO DE CALDAS - INFICALDAS
L10: VERSIÓN
D11: INFI L.P XXXX-2025
L12: PÁGINA | M12: 1 | N12: DE | O12: 1
D14: ANALISIS DE PRECIOS UNITARIOS
L16: FECHA | M16: DD | N16: MM | O16: AA
C18: ÍTEMS DE LA PROPUESTA ECONÓMICA | I18: ÍTEMS NO PREVISTOS
C22: DATOS ESPECÍFICOS
C24: ÍTEM | D24: DESCRIPCIÓN | M24: UNIDAD | O24: CANTIDAD
C25: =+'PRESUPUESTO OFICIAL (Entidad)'!C14 -> 1.1 | D25: =+'PRESUPUESTO OFICIAL (Entidad)'!G14 -> DEMOLICION DE LOSAS EXISTENTES QUE PRESENTAN DETERIORO (INCLUYE DISPOSICION FINAL) | M25: =+'PRESUPUESTO OFICIAL (Entidad)'!H14 -> M3 | O25: 1
C26: I. EQUIPO
C29: DESCRIPCIÓN | H29: MARCA | J29: TIPO | L29: TARIFA/HORA | M29: RENDIMIENTO | O29: Vr. UNITARIO
C30: Compresor portátil de 70 a 120 HP, con martillo | L30: 133280 | M30: 0.7 | O30: =+L30*M30 -> 93296
C32: HERRAMIENTA MENOR (%) | M32: 0.05 | O32: =+O56*M32 -> 1264.068
C33: SUBTOTAL $ | O33: =+O30+O32 -> 94560.068
C34: II. MATERIALES
C37: DESCRIPCIÓN | K37: UNIDAD | L37: CANTIDAD | M37: PRECIO UNIT. | O37: Vr. UNITARIO
C38: Derechos de conformación y/o disposición de materiales sobrantes | K38: m3 | L38: 1.4 | M38: 7846.9 | O38: =+L38*M38 -> 10985.66
C40: SUBTOTAL $ | O40: =+O38 -> 10985.66
C41: III. TRANSPORTES
C44: MATERIAL | J44: VOL. o PESO | K44: DISTANCIA | L44: M3 o Ton/Km | M44: TARIFA | O44: Vr. UNITARIO
C45: Transporte de material de demolición | J45: viaje | K45: 2 | L45: 0.166 | M45: 180217 | O45: =+L45*M45 -> 29916.022
C47: SUBTOTAL $ | O47: =+O45 -> 29916.022
C48: IV. MANO DE OBRA
C51: TRABAJADOR | J51: JORNAL | K51: PRESTACIONES | L51: JORNAL TOTAL | M51: RENDIMIENTO | O51: Vr. UNITARIO
C52: Ayudante | D52: 2 | J52: =47450*D52 -> 94900 | K52: 1.85 | L52: =+J52*K52 -> 175565 | M52: 0.08 | O52: =+L52*M52 -> 14045.2
C53: Oficial | D53: 1 | J53: 75920 | K53: 1.85 | L53: =+J53*K53 -> 140452 | M53: 0.08 | O53: =+L53*M53 -> 11236.16
C56: SUBTOTAL $ | O56: =+O53+O52 -> 25281.36
C58: TOTAL COSTO DIRECTO $ | O58: =+O56+O47+O40+O33 -> 160743.11
C59: V. COSTOS INDIRECTOS
C62: Descripción | L62: Porcentaje | M62: Valor Total
C63: ADMINISTRACION | L63: =+'PRESUPUESTO OFICIAL (Entidad)'!K91 -> 0.32 | M63: =+O58*L63 -> 51437.795
C64: IMPREVISTOS | L64: =+'PRESUPUESTO OFICIAL (Entidad)'!K92 -> 0
C65: UTILIDAD | L65: =+'PRESUPUESTO OFICIAL (Entidad)'!K93 -> 0.05 | M65: =+O58*L65 -> 8037.1555
C66: SUBTOTAL $
C68: Precio Unitario Total Aproximado al peso $ | O68: =+ROUND(O58+M63+M65,0) -> 220218
H72: Firma
...

Sheet APU 1,2
C3: Formulario 1 - Propuesta económica - Documento tipo de licitación de obra pública de infraestructura de transporte - versión 4
C4: Código | D4: CCE-EICP-FM-14 | E4: Versión | F4: 4
C6: [La entidad podrá utilizar este formato para la presentación de los análisis de precios unitarios del contratista en la oportunidad prevista en el numeral 8.1. del Documento Base]
D9: INSTITUTO DE FINANCIAMIENTO, PROMOCIÓN Y DESARROLLO DE CALDAS - INFICALDAS
L10: VERSIÓN
D11: INFI L.P XXXX-2025
L12: PÁGINA | M12: 1 | N12: DE | O12: 1
D14: ANALISIS DE PRECIOS UNITARIOS
L16: FECHA | M16: DD | N16: MM | O16: AA
C18: ÍTEMS DE LA PROPUESTA ECONÓMICA | I18: ÍTEMS NO PREVISTOS
C22: DATOS ESPECÍFICOS
C24: ÍTEM | D24: DESCRIPCIÓN | M24: UNIDAD | O24: CANTIDAD
C25: =+'PRESUPUESTO OFICIAL (Entidad)'!C15 -> 1.2 | D25: =+'PRESUPUESTO OFICIAL (Entidad)'!G15 -> EXCAVACION EN MATERIAL GRANULAR INCLUYE RETIRO Y DISPOSICION FINAL | M25: =+'PRESUPUESTO OFICIAL (Entidad)'!H15 -> M3
C26: I. EQUIPO
C29: DESCRIPCIÓN | H29: MARCA | J29: TIPO | L29: TARIFA/HORA | M29: RENDIMIENTO | O29: Vr. UNITARIO
C30: Minicargador Bocat | L30: =180000*1.092 -> 196560 | M30: 0.2 | O30: =+L30*M30 -> 39312
C32: HERRAMIENTA MENOR (%) | M32: 0.05 | O32: =+O56*M32 -> 1035.8335
C33: SUBTOTAL $ | O33: =+O32+O30 -> 40347.834
C34: II. MATERIALES
C37: DESCRIPCIÓN | K37: UNIDAD | L37: CANTIDAD | M37: PRECIO UNIT. | O37: Vr. UNITARIO
C38: Derechos de conformación y/o disposición de materiales sobrantes | K38: m3 | L38: 1.4 | M38: 7846.9 | O38: =+L38*M38 -> 10985.66
C40: SUBTOTAL $ | O40: =+O38 -> 10985.66
C41: III. TRANSPORTES
C44: MATERIAL | J44: VOL. o PESO | K44: DISTANCIA | L44: M3 o Ton/Km | M44: TARIFA | O44: Vr. UNITARIO
C45: Transporte de material de excavacion | K45: 2 | L45: 1.25 | M45: =60000*1.092 -> 65520 | O45: =+L45*M45 -> 81900
C47: SUBTOTAL $ | O47: =+O45 -> 81900
C48: IV. MANO DE OBRA
C51: TRABAJADOR | J51: JORNAL | K51: PRESTACIONES | L51: JORNAL TOTAL | M51: RENDIMIENTO | O51: Vr. UNITARIO
C52: Ayudante | D52: 2 | J52: =47450*D52 -> 94900 | K52: 1.85 | L52: =+J52*K52 -> 175565 | M52: 0.062 | O52: =+L52*M52 -> 10885.03
C53: Oficial | D53: 1 | J53: 75920 | K53: 1.85 | L53: =+J53*K53 -> 140452 | M53: 0.07 | O53: =+L53*M53 -> 9831.64
C56: SUBTOTAL $ | O56: =+O53+O52 -> 20716.67
C58: TOTAL COSTO DIRECTO $ | O58: =+O56+O47+O40+O33 -> 153950.16
C59: V. COSTOS INDIRECTOS
C62: Descripción | L62: Porcentaje | M62: Valor Total
C63: ADMINISTRACION | L63: =+'PRESUPUESTO OFICIAL (Entidad)'!K91 -> 0.32 | M63: =+O58*L63 -> 49264.052
C64: IMPREVISTOS | L64: =+'PRESUPUESTO OFICIAL (Entidad)'!K92 -> 0
C65: UTILIDAD | L65: =+'PRESUPUESTO OFICIAL (Entidad)'!K93 -> 0.05 | M65: =+O58*L65 -> 7697.5082
C66: SUBTOTAL $
C68: Precio Unitario Total Aproximado al peso $ | O68: =+ROUND(O58+M63+M65,0) -> 210912
H72: Firma
...

Sheet APU 1,3
C3: Formulario 1 - Propuesta económica - Documento tipo de licitación de obra pública de infraestructura de transporte - versión 4
C4: Código | D4: CCE-EICP-FM-14 | E4: Versión | F4: 4
C6: [La entidad podrá utilizar este formato para la presentación de los análisis de precios unitarios del contratista en la oportunidad prevista en el numeral 8.1. del Documento Base]
D9: INSTITUTO DE FINANCIAMIENTO, PROMOCIÓN Y DESARROLLO DE CALDAS - INFICALDAS
L10: VERSIÓN
D11: INFI L.P XXXX-2025
L12: PÁGINA | M12: 1 | N12: DE | O12: 1
D14: ANALISIS DE PRECIOS UNITARIOS
L16: FECHA | M16: DD | N16: MM | O16: AA
C18: ÍTEMS DE LA PROPUESTA ECONÓMICA | I18: ÍTEMS NO PREVISTOS
C22: DATOS ESPECÍFICOS
C24: ÍTEM | D24: DESCRIPCIÓN | M24: UNIDAD | O24: CANTIDAD
C25: =+'PRESUPUESTO OFICIAL (Entidad)'!C16 -> 1.3 | D25: =+'PRESUPUESTO OFICIAL (Entidad)'!G16 -> SUMNISTRO, TRANSPORTE E INSTALACION DE BASE GRANULAR | M25: =+'PRESUPUESTO OFICIAL (Entidad)'!H16 -> M3
C26: I. EQUIPO
C29: DESCRIPCIÓN | H29: MARCA | J29: TIPO | L29: TARIFA/HORA | M29: RENDIMIENTO | O29: Vr. UNITARIO
C30: Vibrocompactador tipo rana | L30: 56105 | M30: 0.1 | O30: =+ROUND(L30*M30,0) -> 5611
C32: HERRAMIENTA MENOR (%) | M32: 0.05 | O32: =+O56*M32 -> 1817.0978
C33: SUBTOTAL $ | O33: =SUM(O30:O32) -> 7428.0977
C34: II. MATERIALES
C37: DESCRIPCIÓN | K37: UNIDAD | L37: CANTIDAD | M37: PRECIO UNIT. | O37: Vr. UNITARIO
C38: BASE GRANULAR B-200 NORMA INVIAS | K38: M3 | L38: 1.3 | M38: =65000*1.092 -> 70980 | O38: =+ROUND(L38*M38,0) -> 92274
C40: SUBTOTAL $ | O40: =+O38 -> 92274
C41: III. TRANSPORTES
C44: MATERIAL | J44: VOL. o PESO | K44: DISTANCIA | L44: M3 o Ton/Km | M44: TARIFA | O44: Vr. UNITARIO
C45: Transporte de material base | J45: 1.25 | K45: 60 | L45: =+J45*K45 -> 75 | M45: =1602*1.092 -> 1749.384 | O45: =+M45*L45 -> 131203.8
C47: SUBTOTAL $ | O47: =+O45+O46 -> 131203.8
C48: IV. MANO DE OBRA
C51: TRABAJADOR | J51: JORNAL | K51: PRESTACIONES | L51: JORNAL TOTAL | M51: RENDIMIENTO | O51: Vr. UNITARIO
C52: Ayudante | D52: 3 | J52: =47450*D52 -> 142350 | K52: 1.85 | L52: =+J52*K52 -> 263347.5 | M52: 0.09 | O52: =+L52*M52 -> 23701.275
C53: Oficial | D53: 1 | J53: 75920 | K53: 1.85 | L53: =+J53*K53 -> 140452 | M53: 0.09 | O53: =+L53*M53 -> 12640.68
C56: SUBTOTAL $ | O56: =+O53+O52 -> 36341.955
C58: TOTAL COSTO DIRECTO $ | O58: =+O56+O47+O40+O33 -> 267247.85
C59: V. COSTOS INDIRECTOS
C62: Descripción | L62: Porcentaje | M62: Valor Total
C63: ADMINISTRACION | L63: =+'PRESUPUESTO OFICIAL (Entidad)'!K91 -> 0.32 | M63: =+O58*L63 -> 85519.313
C64: IMPREVISTOS | L64: =+'PRESUPUESTO OFICIAL (Entidad)'!K92 -> 0
C65: UTILIDAD | L65: =+'PRESUPUESTO OFICIAL (Entidad)'!K93 -> 0.05 | M65: =+O58*L65 -> 13362.393
C66: SUBTOTAL $
C68: Precio Unitario Total Aproximado al peso $ | O68: =+ROUND(O58+M63+M65,0) -> 366130
H72: Firma
...

Sheet APU 1,4
C3: Formulario 1 - Propuesta económica - Documento tipo de licitación de obra pública de infraestructura de transporte - versión 4
C4: Código | D4: CCE-EICP-FM-14 | E4: Versión | F4: 4
C6: [La entidad podrá utilizar este formato para la presentación de los análisis de precios unitarios del contratista en la oportunidad prevista en el numeral 8.1. del Documento Base]
D9: INSTITUTO DE FINANCIAMIENTO, PROMOCIÓN Y DESARROLLO DE CALDAS - INFICALDAS
L10: VERSIÓN
D11: INFI L.P XXXX-2025
L12: PÁGINA | M12: 1 | N12: DE | O12: 1
D14: ANALISIS DE PRECIOS UNITARIOS
L16: FECHA | M16: DD | N16: MM | O16: AA
C18: ÍTEMS DE LA PROPUESTA ECONÓMICA | I18: ÍTEMS NO PREVISTOS
C22: DATOS ESPECÍFICOS
C24: ÍTEM | D24: DESCRIPCIÓN | M24: UNIDAD | O24: CANTIDAD
C25: =+'PRESUPUESTO OFICIAL (Entidad)'!C17 -> 1.4 | D25: =+'PRESUPUESTO OFICIAL (Entidad)'!G17 -> SUMINISTRO, TRANSPORTE E INSTALACION ANDEN CONCRETO 3000 PSI E= 0.10M. ACABADO: ESCOBIADO | M25: =+'PRESUPUESTO OFICIAL (Entidad)'!H17 -> M2
C26: I. EQUIPO
C29: DESCRIPCIÓN | H29: MARCA | J29: TIPO | L29: TARIFA/HORA | M29: RENDIMIENTO | O29: Vr. UNITARIO
C30: Herramienta menor | L30: 3484 | M30: 0.4 | O30: =+ROUND(L30*M30,0) -> 1394
C33: SUBTOTAL $ | O33: =SUM(O30:O32) -> 1394
C34: II. MATERIALES
C37: DESCRIPCIÓN | K37: UNIDAD | L37: CANTIDAD | M37: PRECIO UNIT. | O37: Vr. UNITARIO
C38: CONCRETO 3000 psi - 21 Mpa | K38: m3 | L38: 0.1 | M38: 561725 | O38: =+ROUND(L38*M38,0) -> 56173
C39: FORMALETA SARDINEL DESDE 0.20 HASTA 0.60 M. DE ALTURA POR 2.00 M. DE LONGITUD | K39: dia | L39: 1.75 | M39: 900 | O39: =+ROUND(L39*M39,0) -> 1575
C40: POLIETILENO NO. 6 | K40: m2 | L40: 1 | M40: 4924 | O40: =+ROUND(L40*M40,0) -> 4924
C41: LISTON 2 X 4 | K41: m | L41: 0.8 | M41: 4456 | O41: =+ROUND(L41*M41,0) -> 3565
C43: SUBTOTAL $ | O43: =SUM(O38:O42) -> 66237
C44: III. TRANSPORTES
C47: MATERIAL | J47: VOL. o PESO | K47: DISTANCIA | L47: M3 o Ton/Km | M47: TARIFA | O47: Vr. UNITARIO
C48: EQUIPO DE TRANSPORTE | L48: 0.007 | M48: 180217 | O48: =+M48*L48 -> 1261.519
C49: ACARREO INTERNO | L49: 1.8 | M49: 1824 | O49: =+M49*L49 -> 3283.2
C50: SUBTOTAL $ | O50: =+O48+O49 -> 4544.719
C51: IV. MANO DE OBRA
C54: TRABAJADOR | J54: JORNAL | K54: PRESTACIONES | L54: JORNAL TOTAL | M54: RENDIMIENTO | O54: Vr. UNITARIO
C55: Ayudante | D55: 3 | J55: =47450*D55 -> 142350 | K55: 1.85 | L55: =+J55*K55 -> 263347.5 | M55: 0.1 | O55: =+L55*M55 -> 26334.75
C56: Oficial | D56: 1 | J56: 75920 | K56: 1.85 | L56: =+J56*K56 -> 140452 | M56: 0.1 | O56: =+L56*M56 -> 14045.2
C59: SUBTOTAL $ | O59: =+O56+O55 -> 40379.95
C61: TOTAL COSTO DIRECTO $ | O61: =+O59+O50+O43+O33 -> 112555.67
C62: V. COSTOS INDIRECTOS
C65: Descripción | L65: Porcentaje | M65: Valor Total
C66: ADMINISTRACION | L66: =+'PRESUPUESTO OFICIAL (Entidad)'!K91 -> 0.32 | M66: =+O61*L66 -> 36017.814
C67: IMPREVISTOS | L67: =+'PRESUPUESTO OFICIAL (Entidad)'!K92 -> 0
C68: UTILIDAD | L68: =+'PRESUPUESTO OFICIAL (Entidad)'!K93 -> 0.05 | M68: =+O61*L68 -> 5627.7834
...

Sheet APU  2,1
C3: Formulario 1 - Propuesta económica - Documento tipo de licitación de obra pública de infraestructura de transporte - versión 4
C4: Código | D4: CCE-EICP-FM-14 | E4: Versión | F4: 4
C6: [La entidad podrá utilizar este formato para la presentación de los análisis de precios unitarios del contratista en la oportunidad prevista en el numeral 8.1. del Documento Base]
D9: INSTITUTO DE FINANCIAMIENTO, PROMOCIÓN Y DESARROLLO DE CALDAS - INFICALDAS
L10: VERSIÓN
D11: INFI L.P XXXX-2025
L12: PÁGINA | M12: 1 | N12: DE | O12: 1
D14: ANALISIS DE PRECIOS UNITARIOS
L16: FECHA | M16: DD | N16: MM | O16: AA
C18: ITEMS DE LA PROPUESTA ECONÓMICA | I18: ITEMS NO PREVISTOS
C22: DATOS ESPECÍFICOS
C24: ITEM | D24: DESCRIPCIÓN | M24: UNIDAD | O24: CANTIDAD
C25: =+'PRESUPUESTO OFICIAL (Entidad)'!C19 -> 2.1 | D25: =+'PRESUPUESTO OFICIAL (Entidad)'!G19 -> VIGA DE AMARRE Y COLUMNETA EN CONCRETO DE 20,7 MPA DE 0,15*0,20 M INCLUYE REFUERZO | M25: =+'PRESUPUESTO OFICIAL (Entidad)'!H19 -> ML | O25: 1
C26: I. EQUIPO
C29: DESCRIPCIÓN | H29: MARCA | J29: TIPO | L29: TARIFA/HORA | M29: RENDIMIENTO | O29: Vr. UNITARIO
C30: Herramienta menor | L30: 3484 | M30: 0.1 | O30: =+ROUND(L30*M30,0) -> 348
C31: Andamio | L31: 16636 | M31: 0.06 | O31: =+ROUND(L31*M31,0) -> 998
O32: =+ROUND(L32*M32,0) -> 0
C33: SUBTOTAL $ | O33: =+O30+O31+O32 -> 1346
C34: II. MATERIALES
C37: DESCRIPCIÓN | K37: UNIDAD | L37: CANTIDAD | M37: PRECIO UNIT. | O37: Vr. UNITARIO
C38: Tabla para formaleta | K38: ML | L38: 2 | M38: 4856 | O38: =+ROUND(M38*L38,0) -> 9712
C39: Puntilla (promedio) | K39: LB | L39: 0.1 | M39: 5100 | O39: =+ROUND(M39*L39,0) -> 510
C40: ACPM | K40: GAL | L40: 0.05 | M40: 12500 | O40: =+ROUND(M40*L40,0) -> 625
C41: Alambre negro | K41: KG | L41: 0.1 | M41: 5938 | O41: =+ROUND(M41*L41,0) -> 594
C42: Varillon de sajo | K42: ML | L42: 2 | M42: 17304 | O42: =+ROUND(M42*L42,0) -> 34608
C43: Acero G60 W #3 (3/8 Pulg) | K43: KG | L43: 2.104 | M43: 4251 | O43: =+ROUND(M43*L43,0) -> 8944
C44: Flejes acero G60 W #3 (3/8 Pulg) | K44: KG | L44: 1.6832 | M44: 4251 | O44: =+ROUND(M44*L44,0) -> 7155
C45: Concreto de 20,7 MPA (3000 PSI) (produccion) | K45: M3 | L45: 0.03 | M45: 561725 | O45: =+ROUND(M45*L45,0) -> 16852
C46: SUBTOTAL $ | O46: =SUM(O38:O45) -> 79000
C47: III. TRANSPORTES
C50: MATERIAL | J50: VOL. o PESO | K50: DISTANCIA | L50: M3 o Ton/Km | M50: TARIFA | O50: Vr. UNITARIO
C53: SUBTOTAL $ | O53: =+O51+O52 -> 0
C54: IV. MANO DE OBRA
C57: TRABAJADOR | J57: JORNAL | K57: PRESTACIONES | L57: JORNAL TOTAL | M57: RENDIMIENTO | O57: Vr. UNITARIO
C58: Ayudante | D58: 2 | J58: =47450*D58 -> 94900 | K58: 1.8 | L58: =+J58*K58 -> 170820 | M58: 0.1 | O58: =+ROUND(L58*M58,0) -> 17082 | R58: 27815 | S58: 1692
C59: Oficial | D59: 1 | J59: 75920 | K59: 1.8 | L59: =+J59*K59 -> 136656 | M59: =+M58 -> 0.1 | O59: =+ROUND(L59*M59,0) -> 13666
C62: SUBTOTAL $ | O62: =+O58+O59 -> 30748
C64: TOTAL COSTO DIRECTO $ | O64: =+O62+O53+O46+O33 -> 111094
C65: V. COSTOS INDIRECTOS
...

Sheet APU  2,2
C3: Formulario 1 - Propuesta económica - Documento tipo de licitación de obra pública de infraestructura de transporte - versión 4
C4: Código | D4: CCE-EICP-FM-14 | E4: Versión | F4: 4
C6: [La entidad podrá utilizar este formato para la presentación de los análisis de precios unitarios del contratista en la oportunidad prevista en el numeral 8.1. del Documento Base]
D9: INSTITUTO DE FINANCIAMIENTO, PROMOCIÓN Y DESARROLLO DE CALDAS - INFICALDAS
L10: VERSIÓN
D11: INFI L.P XXXX-2025
L12: PÁGINA | M12: 1 | N12: DE | O12: 1
D14: ANALISIS DE PRECIOS UNITARIOS
L16: FECHA | M16: DD | N16: MM | O16: AA
C18: ITEMS DE LA PROPUESTA ECONÓMICA | I18: ITEMS NO PREVISTOS
C22: DATOS ESPECÍFICOS
C24: ITEM | D24: DESCRIPCIÓN | M24: UNIDAD | O24: CANTIDAD
C25: =+'PRESUPUESTO OFICIAL (Entidad)'!C20 -> 2.2 | D25: =+'PRESUPUESTO OFICIAL (Entidad)'!G20 -> SUMINISTRO TRANSPORTE E INSTALACION DE MURO EN LADRILLO FAROL . INCLUYE MORTERO DE PEGA. | M25: =+'PRESUPUESTO OFICIAL (Entidad)'!H20 -> M2 | O25: 1
C26: I. EQUIPO
C29: DESCRIPCIÓN | H29: MARCA | J29: TIPO | L29: TARIFA/HORA | M29: RENDIMIENTO | O29: Vr. UNITARIO
C30: Herramienta menor | L30: 3484 | M30: 0.6 | O30: =+ROUND(L30*M30,0) -> 2090
C31: Andamio | L31: 16636 | M31: 0.06 | O31: =+ROUND(L31*M31,0) -> 998
O32: =+ROUND(L32*M32,0) -> 0
C33: SUBTOTAL $ | O33: =+O30+O31+O32 -> 3088
C34: II. MATERIALES
C37: DESCRIPCIÓN | K37: UNIDAD | L37: CANTIDAD | M37: PRECIO UNIT. | O37: Vr. UNITARIO
C38: MORTERO 1:3 | K38: m3 | L38: 0.017 | M38: 505998 | O38: =+ROUND(M38*L38,0) -> 8602
C39: LADRILLO FAROL RAYADO DE 0,12X0,20X0,30M | K39: und | L39: 15.3 | M39: 1400 | O39: =+ROUND(M39*L39,0) -> 21420
C40: AGUA LITRO | K40: lt | L40: 14 | M40: 33 | O40: =+ROUND(M40*L40,0) -> 462
O41: =+ROUND(M41*L41,0) -> 0
O42: =+ROUND(M42*L42,0) -> 0
C43: SUBTOTAL $ | O43: =SUM(O38:O42) -> 30484
C44: III. TRANSPORTES
C47: MATERIAL | J47: VOL. o PESO | K47: DISTANCIA | L47: M3 o Ton/Km | M47: TARIFA | O47: Vr. UNITARIO
C50: SUBTOTAL $ | O50: =+O48+O49 -> 0
C51: IV. MANO DE OBRA
C54: TRABAJADOR | J54: JORNAL | K54: PRESTACIONES | L54: JORNAL TOTAL | M54: RENDIMIENTO | O54: Vr. UNITARIO
C55: Ayudante | D55: 2 | J55: =47450*D55 -> 94900 | K55: 1.8 | L55: =+J55*K55 -> 170820 | M55: 0.065 | O55: =+ROUND(L55*M55,0) -> 11103 | R55: 27815 | S55: 1692
C56: Oficial | D56: 1 | J56: 75920 | K56: 1.8 | L56: =+J56*K56 -> 136656 | M56: =+M55 -> 0.065 | O56: =+ROUND(L56*M56,0) -> 8883
C59: SUBTOTAL $ | O59: =+O55+O56 -> 19986
C61: TOTAL COSTO DIRECTO $ | O61: =+O59+O50+O43+O33 -> 53558
C62: V. COSTOS INDIRECTOS
C65: Descripción | L65: Porcentaje | M65: Valor Total
C66: ADMINISTRACION | L66: =+'[129]APU 2,3 - 11,6'!L64 -> 0.32 | M66: =+ROUND($O$61*L66,0) -> 17139
C67: IMPREVISTOS | L67: 0 | M67: =+ROUND($O$61*L67,0) -> 0
...

Sheet APU 3,1
C3: Formulario 1 - Propuesta económica - Documento tipo de licitación de obra pública de infraestructura de transporte - versión 4
C4: Código | D4: CCE-EICP-FM-14 | E4: Versión | F4: 4
C6: [La entidad podrá utilizar este formato para la presentación de los análisis de precios unitarios del contratista en la oportunidad prevista en el numeral 8.1. del Documento Base]
D9: INSTITUTO DE FINANCIAMIENTO, PROMOCIÓN Y DESARROLLO DE CALDAS - INFICALDAS
L10: VERSIÓN
D11: INFI L.P XXXX-2025
L12: PÁGINA | M12: 1 | N12: DE | O12: 1
D14: ANALISIS DE PRECIOS UNITARIOS
L16: FECHA | M16: DD | N16: MM | O16: AA
C18: ITEMS DE LA PROPUESTA ECONÓMICA | I18: ITEMS NO PREVISTOS
C22: DATOS ESPECÍFICOS
C24: ITEM | D24: DESCRIPCIÓN | M24: UNIDAD | O24: CANTIDAD
C25: =+'PRESUPUESTO OFICIAL (Entidad)'!C22 -> 3.1 | D25: =+'PRESUPUESTO OFICIAL (Entidad)'!G22 -> PINTURA COLUMNAS, VIGAS, MUROS Y CIELORASO 2 MANOS (INCLUYE ASEO FINAL) | M25: =+'PRESUPUESTO OFICIAL (Entidad)'!H22 -> M2 | O25: 1
C26: I. EQUIPO
C29: DESCRIPCIÓN | H29: MARCA | J29: TIPO | L29: TARIFA/HORA | M29: RENDIMIENTO | O29: Vr. UNITARIO
C30: Herramienta menor | L30: 3484 | M30: 0.05 | O30: =+ROUND(L30*M30,0) -> 174
C31: Andamio | L31: 16636 | M31: 0.06 | O31: =+ROUND(L31*M31,0) -> 998
C33: SUBTOTAL $ | O33: =+O30+O31 -> 1172
C34: II. MATERIALES
C37: DESCRIPCIÓN | K37: UNIDAD | L37: CANTIDAD | M37: PRECIO UNIT. | O37: Vr. UNITARIO
C38: Lija PABMERIL PLIEGO 9" X 11" | K38: UND | L38: 0.02 | M38: 4660 | O38: =+ROUND(L38*M38,0) -> 93
C39: VINILTEX - TIPO PINTUCO REF. SEGÚN COLOR DISEÑO O SIMILAR. | K39: GAL | L39: 0.08 | M39: 104901 | O39: =+ROUND(L39*M39,0) -> 8392
C40: ESTUCO PARA EXTERIORES - TIPO PINTUCO REF. 27060 O SIMILAR. | K40: GAL | L40: 0.05 | M40: 37500 | O40: =+ROUND(L40*M40,0) -> 1875
C41: SUBTOTAL $ | O41: =+O38+O39+O40 -> 10360
C42: III. TRANSPORTES
C45: MATERIAL | J45: VOL. o PESO | K45: DISTANCIA | L45: M3 o Ton/Km | M45: TARIFA | O45: Vr. UNITARIO
C46: Equipo de transporte | J46: DIA | L46: 0.0013 | M46: 180217 | O46: =+ROUND(M46*L46,0) -> 234
C48: SUBTOTAL $ | O48: =+O46 -> 234
C49: IV. MANO DE OBRA
C52: TRABAJADOR | J52: JORNAL | K52: PRESTACIONES | L52: JORNAL TOTAL | M52: RENDIMIENTO | O52: Vr. UNITARIO
C53: Ayudante | D53: 1 | J53: 54568 | K53: 1.8 | L53: =+J53*K53 -> 98222.4 | M53: 0.057 | O53: =+ROUND(L53*M53,0) -> 5599
C54: Oficial | D54: 1 | J54: 87308 | K54: 1.8 | L54: =+J54*K54 -> 157154.4 | M54: =+M53 -> 0.057 | O54: =+ROUND(L54*M54,0) -> 8958
C57: SUBTOTAL $ | O57: =+O53+O54 -> 14557
C59: TOTAL COSTO DIRECTO $ | O59: =+O57+O48+O41+O33 -> 26323
C60: V. COSTOS INDIRECTOS
C63: Descripción | L63: Porcentaje | M63: Valor Total
C64: ADMINISTRACION | L64: =+'PRESUPUESTO OFICIAL (Entidad)'!K91 -> 0.32 | M64: =+ROUND($O$59*L64,0) -> 8423
C65: IMPREVISTOS | L65: =+'PRESUPUESTO OFICIAL (Entidad)'!K92 -> 0 | M65: =+ROUND($O$59*L65,0) -> 0
C66: UTILIDAD | L66: =+'PRESUPUESTO OFICIAL (Entidad)'!K93 -> 0.05 | M66: =+ROUND($O$59*L66,0) -> 1316
C67: SUBTOTAL $ | O67: =+M64+M65+M66 -> 9739
...

Sheet APU 3,2
C3: Formulario 1 - Propuesta económica - Documento tipo de licitación de obra pública de infraestructura de transporte - versión 4
C4: Código | D4: CCE-EICP-FM-14 | E4: Versión | F4: 4
C6: [La entidad podrá utilizar este formato para la presentación de los análisis de precios unitarios del contratista en la oportunidad prevista en el numeral 8.1. del Documento Base]
D9: INSTITUTO DE FINANCIAMIENTO, PROMOCIÓN Y DESARROLLO DE CALDAS - INFICALDAS
L10: VERSIÓN
D11: INFI L.P XXXX-2025
L12: PÁGINA | M12: 1 | N12: DE | O12: 1
D14: ANALISIS DE PRECIOS UNITARIOS
L16: FECHA | M16: DD | N16: MM | O16: AA
C18: ITEMS DE LA PROPUESTA ECONÓMICA | I18: ITEMS NO PREVISTOS
C22: DATOS ESPECÍFICOS
C24: ITEM | D24: DESCRIPCIÓN | M24: UNIDAD | O24: CANTIDAD
C25: =+'PRESUPUESTO OFICIAL (Entidad)'!C23 -> 3.2 | D25: =+'PRESUPUESTO OFICIAL (Entidad)'!G23 -> DESMONTE DE CIELO RASO EXISTENTE | M25: =+'PRESUPUESTO OFICIAL (Entidad)'!H23 -> M2 | O25: 1
C26: I. EQUIPO
C29: DESCRIPCIÓN | H29: MARCA | J29: TIPO | L29: TARIFA/HORA | M29: RENDIMIENTO | O29: Vr. UNITARIO
C30: Herramienta menor | L30: 3484 | M30: 0.18 | O30: =+ROUND(L30*M30,0) -> 627
C31: Andamio | L31: 16636 | M31: 0.16 | O31: =+ROUND(L31*M31,0) -> 2662
O32: =+ROUND(L32*M32,0) -> 0
C33: SUBTOTAL $ | O33: =+O30+O31+O32 -> 3289
C34: II. MATERIALES
C37: DESCRIPCIÓN | K37: UNIDAD | L37: CANTIDAD | M37: PRECIO UNIT. | O37: Vr. UNITARIO
C41: SUBTOTAL $ | O41: =+O38+O39+O40 -> 0
C42: III. TRANSPORTES
C45: MATERIAL | J45: VOL. o PESO | K45: DISTANCIA | L45: M3 o Ton/Km | M45: TARIFA | O45: Vr. UNITARIO
C46: vOLQUETA 6M3 (CARGUE A MANO) - INCLUYE DISPOSICION EN BOTADERO | J46: VJE | L46: 0.018 | M46: 310000 | O46: =+ROUND(M46*L46,0) -> 5580
C47: Acarreo interno | J47: UND | L47: 0.2954 | M47: 1824 | O47: =+ROUND(M47*L47,0) -> 539
C48: SUBTOTAL $ | O48: =+O46+O47 -> 6119
C49: IV. MANO DE OBRA
C52: TRABAJADOR | J52: JORNAL | K52: PRESTACIONES | L52: JORNAL TOTAL | M52: RENDIMIENTO | O52: Vr. UNITARIO
C53: Ayudante | D53: 1 | J53: 47450 | K53: 1.8 | L53: =+J53*K53 -> 85410 | M53: 0.026 | O53: =+ROUND(L53*M53,0) -> 2221
C54: Oficial | D54: 1 | J54: 75920 | K54: 1.8 | L54: =+J54*K54 -> 136656 | M54: 0.026 | O54: =+ROUND(L54*M54,0) -> 3553
C57: SUBTOTAL $ | O57: =+O53+O54 -> 5774
C59: TOTAL COSTO DIRECTO $ | O59: =+O57+O48+O41+O33 -> 15182
C60: V. COSTOS INDIRECTOS
C63: Descripción | L63: Porcentaje | M63: Valor Total
C64: ADMINISTRACION | L64: =+'PRESUPUESTO OFICIAL (Entidad)'!K91 -> 0.32 | M64: =+ROUND($O$59*L64,0) -> 4858
C65: IMPREVISTOS | L65: =+'PRESUPUESTO OFICIAL (Entidad)'!K92 -> 0 | M65: =+ROUND($O$59*L65,0) -> 0
C66: UTILIDAD | L66: =+'PRESUPUESTO OFICIAL (Entidad)'!K93 -> 0.05 | M66: =+ROUND($O$59*L66,0) -> 759
C67: SUBTOTAL $ | O67: =+M64+M65+M66 -> 5617
C69: Precio Unitario Total Aproximado al peso $ | O69: =+ROUND(O59+O67,0) -> 20799
...

Sheet APU 3,3
C3: Formulario 1 - Propuesta económica - Documento tipo de licitación de obra pública de infraestructura de transporte - versión 4
C4: Código | D4: CCE-EICP-FM-14 | E4: Versión | F4: 4
C6: [La entidad podrá utilizar este formato para la presentación de los análisis de precios unitarios del contratista en la oportunidad prevista en el numeral 8.1. del Documento Base]
D9: INSTITUTO DE FINANCIAMIENTO, PROMOCIÓN Y DESARROLLO DE CALDAS - INFICALDAS
L10: VERSIÓN
D11: INFI L.P XXXX-2025
L12: PÁGINA | M12: 1 | N12: DE | O12: 1
D14: ANALISIS DE PRECIOS UNITARIOS
L16: FECHA | M16: DD | N16: MM | O16: AA
C18: ITEMS DE LA PROPUESTA ECONÓMICA | I18: ITEMS NO PREVISTOS
C22: DATOS ESPECÍFICOS
C24: ITEM | D24: DESCRIPCIÓN | M24: UNIDAD | O24: CANTIDAD
C25: =+'PRESUPUESTO OFICIAL (Entidad)'!C24 -> 3.3 | D25: =+'PRESUPUESTO OFICIAL (Entidad)'!G24 -> SUMINISTRO, INSTALACION Y TRANSPORTE DE CIELO RASO EN SUPERBOARD | M25: =+'PRESUPUESTO OFICIAL (Entidad)'!H24 -> M2 | O25: 1
C26: I. EQUIPO
C29: DESCRIPCIÓN | H29: MARCA | J29: TIPO | L29: TARIFA/HORA | M29: RENDIMIENTO | O29: Vr. UNITARIO
C30: HERRAMIENTA MENOR | L30: 3484 | M30: 0.57 | O30: =+ROUND(L30*M30,0) -> 1986
C31: ANDAMIO METALICO CERTIFICADO, INCLUYE ESCALERILLA CON BARANDAS Y PLATAFORMAS DE TRABAJO | L31: 16636 | M31: 0.8 | O31: =+ROUND(L31*M31,0) -> 13309
O32: =+ROUND(L32*M32,0) -> 0
C33: SUBTOTAL $ | O33: =+O30+O31+O32 -> 15295
C34: II. MATERIALES
C37: DESCRIPCIÓN | K37: UNIDAD | L37: CANTIDAD | M37: PRECIO UNIT. | O37: Vr. UNITARIO
C38: INTERVINILO - TIPO PINTUCO REF. SEGÚN COLOR DISEÑO O SIMILAR | K38: GAL | L38: 0.04 | M38: 59900 | O38: =+ROUND(L38*M38,0) -> 2396
C39: VINILTEX - TIPO PINTUCO REF. SEGÚN COLOR DISEÑO O SIMILAR. | K39: GAL | L39: 0.08 | M39: 104901 | O39: =+ROUND(L39*M39,0) -> 8392
C40: CINTA MALLA DE FIBRA DE VIDRIO ( 90 M. ) | K40: ROLLO | L40: 0.006 | M40: 12900 | O40: =+ROUND(L40*M40,0) -> 77
C41: MASILLA SUPERMASTIC USG | K41: CANECA | L41: 0.04 | M41: 61900 | O41: =+ROUND(L41*M41,0) -> 2476
C42: PERFIL CANAL CAL. 26 ( 90 MM ) - 2.44 M. | K42: UND | L42: 0.71 | M42: 6450 | O42: =+ROUND(L42*M42,0) -> 4580
C43: PERFIL OMEGA CAL 26 - 2.44 M. | K43: UND | L43: 0.89 | M43: 3650 | O43: =+ROUND(L43*M43,0) -> 3249
C44: TORNILLO AUTOPERFORANTE EST. 7/16 " | K44: UND | L44: 6.03 | M44: 42 | O44: =+ROUND(L44*M44,0) -> 253
C45: TORNILLO AUTOPERFORANTE YESO 6 X1 | K45: UND | L45: 8.79 | M45: 42 | O45: =+ROUND(L45*M45,0) -> 369
C46: TORNILLO PTA BROCA EXTRAPL. EST 8 X 1/2" ( 13MM ) | K46: UND | L46: 0.24 | M46: 77 | O46: =+ROUND(L46*M46,0) -> 18
C47: SUPERBOARD ( 2.44 X 1.22 ) E=6 MM | K47: M2 | L47: 1 | M47: 26000 | O47: =+ROUND(L47*M47,0) -> 26000
C49: SUBTOTAL $ | O49: =SUM(O38:O48) -> 47810
C50: III. TRANSPORTES
C53: MATERIAL | J53: 54568 | K53: DISTANCIA | L53: M3 o Ton/Km | M53: TARIFA | O53: Vr. UNITARIO
C54: Equipo de transporte | J54: 87308 | L54: 0.0084 | M54: 171308 | O54: =+ROUND(M54*L54,0) -> 1439
C55: Acarreo interno | J55: UND | L55: 1.2 | M55: 1733 | O55: =+ROUND(M55*L55,0) -> 2080
C56: SUBTOTAL $ | O56: =+O54+O55 -> 3519
C57: IV. MANO DE OBRA
C60: TRABAJADOR | J60: JORNAL | K60: PRESTACIONES | L60: JORNAL TOTAL | M60: RENDIMIENTO | O60: Vr. UNITARIO
C61: Ayudante | D61: 2 | J61: 51156 | K61: 1.8 | L61: =+J61*K61 -> 92080.8 | M61: 0.158 | O61: =+ROUND(L61*M61,0) -> 14549
...

Sheet APU 4,1
C3: Formulario 1 - Propuesta económica - Documento tipo de licitación de obra pública de infraestructura de transporte - versión 4
C4: Código | D4: CCE-EICP-FM-14 | E4: Versión | F4: 4
C6: [La entidad podrá utilizar este formato para la presentación de los análisis de precios unitarios del contratista en la oportunidad prevista en el numeral 8.1. del Documento Base]
D9: INSTITUTO DE FINANCIAMIENTO, PROMOCIÓN Y DESARROLLO DE CALDAS - INFICALDAS
L10: VERSIÓN
D11: INFI L.P XXXX-2025
L12: PÁGINA | M12: 1 | N12: DE | O12: 1
D14: ANALISIS DE PRECIOS UNITARIOS
L16: FECHA | M16: DD | N16: MM | O16: AA
C18: ITEMS DE LA PROPUESTA ECONÓMICA | I18: ITEMS NO PREVISTOS
C22: DATOS ESPECÍFICOS
C24: ITEM | D24: DESCRIPCIÓN | M24: UNIDAD | O24: CANTIDAD
C25: =+'PRESUPUESTO OFICIAL (Entidad)'!C26 -> 4.1 | D25: =+'PRESUPUESTO OFICIAL (Entidad)'!G26 -> IMPRIMANTE PARA PINTURA ACRILICA BASE SOLVENTE NEGRA | M25: =+'PRESUPUESTO OFICIAL (Entidad)'!H26 -> M2 | O25: 1
C26: I. EQUIPO
C29: DESCRIPCIÓN | H29: MARCA | J29: TIPO | L29: TARIFA/HORA | M29: RENDIMIENTO | O29: Vr. UNITARIO
C30: Camioneta de estacas 4x4 | L30: 45917.311 | M30: 6.2 | O30: =+ROUND(L30/M30,0) -> 7406
C31: Vehículo delineador para aplicación de pintura con mínimo 2 boquillas (NTC 4744-2) | L31: 10412 | M31: 6.2 | O31: =+ROUND(L31/M31,0) -> 1679
O32: =+ROUND(L32*M32,0) -> 0
C33: SUBTOTAL $ | O33: =+O30+O31+O32 -> 9085
C34: II. MATERIALES
C37: DESCRIPCIÓN | K37: UNIDAD | L37: CANTIDAD | M37: PRECIO UNIT. | O37: Vr. UNITARIO
C38: Imprimante base solvente | K38: GAL | L38: 0.13 | M38: =142558*1.1 -> 156813.8 | O38: =+M38*L38 -> 20385.794
C41: SUBTOTAL $ | O41: =+O38+O39+O40 -> 20385.794
C42: III. TRANSPORTES
C45: MATERIAL | J45: VOL. o PESO | K45: DISTANCIA | L45: M3 o Ton/Km | M45: TARIFA | O45: Vr. UNITARIO
C48: SUBTOTAL $ | O48: =+O46+O47 -> 0
C49: IV. MANO DE OBRA
C52: TRABAJADOR | J52: JORNAL | K52: PRESTACIONES | L52: JORNAL TOTAL | M52: RENDIMIENTO | O52: Vr. UNITARIO
C53: Ayudante | D53: 2 | J53: 54568 | K53: 1.8 | L53: =+J53*K53 -> 98222.4 | M53: 0.026 | O53: =+ROUND(L53*M53,0) -> 2554
C54: Oficial | D54: 1 | J54: 87308 | K54: 1.8 | L54: =+J54*K54 -> 157154.4 | M54: 0.026 | O54: =+ROUND(L54*M54,0) -> 4086
C57: SUBTOTAL $ | O57: =+O53+O54 -> 6640
C59: TOTAL COSTO DIRECTO $ | O59: =+O57+O48+O41+O33 -> 36110.794
C60: V. COSTOS INDIRECTOS
C63: Descripción | L63: Porcentaje | M63: Valor Total
C64: ADMINISTRACION | L64: =+'PRESUPUESTO OFICIAL (Entidad)'!K91 -> 0.32 | M64: =+ROUND($O$59*L64,0) -> 11555
C65: IMPREVISTOS | L65: =+'PRESUPUESTO OFICIAL (Entidad)'!K92 -> 0 | M65: =+ROUND($O$59*L65,0) -> 0
C66: UTILIDAD | L66: =+'PRESUPUESTO OFICIAL (Entidad)'!K93 -> 0.05 | M66: =+ROUND($O$59*L66,0) -> 1806
C67: SUBTOTAL $ | O67: =+M64+M65+M66 -> 13361
C69: Precio Unitario Total Aproximado al peso $ | O69: =+ROUND(O59+O67,0) -> 49472
H73: Firma
...

Sheet APU 4,2
C3: Formulario 1 - Propuesta económica - Documento tipo de licitación de obra pública de infraestructura de transporte - versión 4
C4: Código | D4: CCE-EICP-FM-14 | E4: Versión | F4: 4
C6: [La entidad podrá utilizar este formato para la presentación de los análisis de precios unitarios del contratista en la oportunidad prevista en el numeral 8.1. del Documento Base]
D9: INSTITUTO DE FINANCIAMIENTO, PROMOCIÓN Y DESARROLLO DE CALDAS - INFICALDAS
L10: VERSIÓN
D11: INFI L.P XXXX-2025
L12: PÁGINA | M12: 1 | N12: DE | O12: 1
D14: ANALISIS DE PRECIOS UNITARIOS
L16: FECHA | M16: DD | N16: MM | O16: AA
C18: ITEMS DE LA PROPUESTA ECONÓMICA | I18: ITEMS NO PREVISTOS
C22: DATOS ESPECÍFICOS
C24: ITEM | D24: DESCRIPCIÓN | M24: UNIDAD | O24: CANTIDAD
C25: =+'PRESUPUESTO OFICIAL (Entidad)'!C27 -> 4.2 | D25: =+'PRESUPUESTO OFICIAL (Entidad)'!G27 -> SUMINISTRO Y APLICACIÓN DE PINTURA PARA SEÑALIZACION HORIZONTAL - LINEA AMARILLA, ANCHO 10 CM | M25: =+'PRESUPUESTO OFICIAL (Entidad)'!H27 -> ML | O25: 1
C26: I. EQUIPO
C29: DESCRIPCIÓN | H29: MARCA | J29: TIPO | L29: TARIFA/HORA | M29: RENDIMIENTO | O29: Vr. UNITARIO
C30: Herramienta menor | L30: 3484 | M30: 0.0059 | O30: =+L30*M30 -> 20.5556
C31: Camioneta de estacas 4x4 | L31: 45917.311 | M31: 0.0059 | O31: =+L31*M31 -> 270.91213
C32: Vehículo delineador para aplicación de pintura con mínimo 2 boquillas (NTC 4744-2) | L32: 7500 | M32: 0.0059 | O32: =+L32*M32 -> 44.25
C33: SUBTOTAL $ | O33: =+O30+O31+O32 -> 335.71773
C34: II. MATERIALES
C37: DESCRIPCIÓN | K37: UNIDAD | L37: CANTIDAD | M37: PRECIO UNIT. | O37: Vr. UNITARIO
C38: Esferas reflectivas | K38: KG | L38: 0.053 | M38: =11731*1.092 -> 12810.252 | O38: =+L38*M38 -> 678.94336
C39: Pintura acrilico pura para trafico | K39: GALON | L39: 0.013 | M39: =138700*1.092 -> 151460.4 | O39: =+M39*L39 -> 1968.9852
C40: Disolvente para pintura acrilico pura para trafico | K40: GALON | L40: 0.00043 | M40: =63554.8733333333*1.092 -> 69401.922 | O40: =+M40*L40 -> 29.842826
C41: SUBTOTAL $ | O41: =+O38+O39+O40 -> 2677.7714
C42: III. TRANSPORTES
C45: MATERIAL | J45: VOL. o PESO | K45: DISTANCIA | L45: M3 o Ton/Km | M45: TARIFA | O45: Vr. UNITARIO
C48: SUBTOTAL $ | O48: =+O46+O47 -> 0
C49: IV. MANO DE OBRA
C52: TRABAJADOR | J52: JORNAL | K52: PRESTACIONES | L52: JORNAL TOTAL | M52: RENDIMIENTO | O52: Vr. UNITARIO
C53: Ayudante | D53: 2 | J53: =54568*D53 -> 109136 | K53: 1.8 | L53: =+J53*K53 -> 196444.8 | M53: 13528 | O53: =+ROUND(L53/M53,0) -> 15
C54: Oficial | D54: 1 | J54: 87308 | K54: 1.8 | L54: =+J54*K54 -> 157154.4 | M54: =+M53 -> 13528 | O54: =+ROUND(L54/M54,0) -> 12
C57: SUBTOTAL $ | O57: =+O53+O54 -> 27
C59: TOTAL COSTO DIRECTO $ | O59: =+O57+O48+O41+O33 -> 3040.4891
C60: V. COSTOS INDIRECTOS
C63: Descripción | L63: Porcentaje | M63: Valor Total
C64: ADMINISTRACION | L64: =+'PRESUPUESTO OFICIAL (Entidad)'!K91 -> 0.32 | M64: =+ROUND($O$59*L64,0) -> 973
C65: IMPREVISTOS | L65: =+'PRESUPUESTO OFICIAL (Entidad)'!K92 -> 0 | M65: =+ROUND($O$59*L65,0) -> 0
C66: UTILIDAD | L66: =+'PRESUPUESTO OFICIAL (Entidad)'!K93 -> 0.05 | M66: =+ROUND($O$59*L66,0) -> 152
C67: SUBTOTAL $ | O67: =+M64+M65+M66 -> 1125
...

Sheet APU 4,6
C3: Formulario 1 - Propuesta económica - Documento tipo de licitación de obra pública de infraestructura de transporte - versión 4
C4: Código | D4: CCE-EICP-FM-14 | E4: Versión | F4: 4
C6: [La entidad podrá utilizar este formato para la presentación de los análisis de precios unitarios del contratista en la oportunidad prevista en el numeral 8.1. del Documento Base]
D9: INSTITUTO DE FINANCIAMIENTO, PROMOCIÓN Y DESARROLLO DE CALDAS - INFICALDAS
L10: VERSIÓN
D11: INFI L.P XXXX-2025
L12: PÁGINA | M12: 1 | N12: DE | O12: 1
D14: ANALISIS DE PRECIOS UNITARIOS
L16: FECHA | M16: DD | N16: MM | O16: AA
C18: ITEMS DE LA PROPUESTA ECONÓMICA | I18: ITEMS NO PREVISTOS
C22: DATOS ESPECÍFICOS
C24: ITEM | D24: DESCRIPCIÓN | M24: UNIDAD | O24: CANTIDAD
C25: =+'PRESUPUESTO OFICIAL (Entidad)'!C31 -> 4.6 | D25: =+'PRESUPUESTO OFICIAL (Entidad)'!G31 -> CEBRA PEATONAL (3,00 x 0,40 m). | M25: =+'PRESUPUESTO OFICIAL (Entidad)'!H31 -> M2 | O25: 1
C26: I. EQUIPO
C29: DESCRIPCIÓN | H29: MARCA | J29: TIPO | L29: TARIFA/HORA | M29: RENDIMIENTO | O29: Vr. UNITARIO
C30: Herramienta menor | L30: 3484 | M30: 0.11 | O30: =+L30*M30 -> 383.24
C31: Camioneta de estacas 4x4 | L31: 45917.311 | M31: =+M30 -> 0.11 | O31: =+L31*M31 -> 5050.9042
C32: Equipo de pintura (Compresor). Presión máxima de trabajo 7 HP | L32: 7500 | M32: =+M31 -> 0.11 | O32: =+L32*M32 -> 825
C33: SUBTOTAL $ | O33: =+O30+O31+O32 -> 6259.1442
C34: II. MATERIALES
C37: DESCRIPCIÓN | K37: UNIDAD | L37: CANTIDAD | M37: PRECIO UNIT. | O37: Vr. UNITARIO
C38: Esferas reflectivas | K38: KG | L38: 0.48 | M38: 12810.252 | O38: =+L38*M38 -> 6148.921
C39: Pintura acrilico pura para trafico | K39: GALON | L39: 0.129 | M39: 151460.4 | O39: =+M39*L39 -> 19538.392
C40: Disolvente para pintura acrilico pura para trafico | K40: GALON | L40: 0.065 | M40: 69401.922 | O40: =+M40*L40 -> 4511.1249
C41: SUBTOTAL $ | O41: =+O38+O39+O40 -> 30198.437
C42: III. TRANSPORTES
C45: MATERIAL | J45: VOL. o PESO | K45: DISTANCIA | L45: M3 o Ton/Km | M45: TARIFA | O45: Vr. UNITARIO
C48: SUBTOTAL $ | O48: =+O46+O47 -> 0
C49: IV. MANO DE OBRA
C52: TRABAJADOR | J52: JORNAL | K52: PRESTACIONES | L52: JORNAL TOTAL | M52: RENDIMIENTO | O52: Vr. UNITARIO
C53: Ayudante | D53: 2 | J53: =54568*D53 -> 109136 | K53: 1.8 | L53: =+J53*K53 -> 196444.8 | M53: 81 | O53: =+ROUND(L53/M53,0) -> 2425
C54: Oficial | D54: 1 | J54: 87308 | K54: 1.8 | L54: =+J54*K54 -> 157154.4 | M54: 81 | O54: =+ROUND(L54/M54,0) -> 1940
C57: SUBTOTAL $ | O57: =+O53+O54 -> 4365
C59: TOTAL COSTO DIRECTO $ | O59: =+O57+O48+O41+O33 -> 40822.582
C60: V. COSTOS INDIRECTOS
C63: Descripción | L63: Porcentaje | M63: Valor Total
C64: ADMINISTRACION | L64: =+'PRESUPUESTO OFICIAL (Entidad)'!K91 -> 0.32 | M64: =+ROUND($O$59*L64,0) -> 13063
C65: IMPREVISTOS | L65: =+'PRESUPUESTO OFICIAL (Entidad)'!K92 -> 0 | M65: =+ROUND($O$59*L65,0) -> 0
C66: UTILIDAD | L66: =+'PRESUPUESTO OFICIAL (Entidad)'!K93 -> 0.05 | M66: =+ROUND($O$59*L66,0) -> 2041
C67: SUBTOTAL $ | O67: =+M64+M65+M66 -> 15104
...

Sheet APU 5,1
D5: INSTITUTO DE FINANCIAMIENTO, PROMOCIÓN Y DESARROLLO DE CALDAS - INFICALDAS
L6: VERSIÓN
D7: INFI L.P XXXX-2025
L8: PÁGINA | M8: 1 | N8: DE | O8: 1
D10: ANALISIS DE PRECIOS UNITARIOS
L12: FECHA | M12: DD | N12: MM | O12: AA
C14: ITEMS DE LA PROPUESTA ECONÓMICA | I14: ITEMS NO PREVISTOS
C18: DATOS ESPECÍFICOS
C20: ITEM | D20: DESCRIPCIÓN | M20: UNIDAD | O20: CANTIDAD
C21: =+'PRESUPUESTO OFICIAL (Entidad)'!C42 -> 5.1 | D21: =+'PRESUPUESTO OFICIAL (Entidad)'!G42 -> SUMINISTRO, TRANSPORTE E INSTALACION DE CAMBIADOR DE BEBE HORIZONTAL GRIS | M21: =+'PRESUPUESTO OFICIAL (Entidad)'!H42 -> UND | O21: 1
C22: I. EQUIPO
C25: DESCRIPCIÓN | H25: MARCA | J25: TIPO | L25: TARIFA/HORA | M25: RENDIMIENTO | O25: Vr. UNITARIO
C26: Herramienta menor | L26: 3484 | M26: 0.3 | O26: =+ROUND(L26*M26,0) -> 1045
O27: =+ROUND(L27*M27,0) -> 0
C28: SUBTOTAL $ | O28: =+O26+O27 -> 1045
C29: II. MATERIALES
C32: DESCRIPCIÓN | K32: UNIDAD | L32: CANTIDAD | M32: PRECIO UNIT. | O32: Vr. UNITARIO
C33: Cambiador De Bebe Horizontal Gris Rubbermaid Commercial | K33: und | L33: 1 | M33: 2143900 | O33: =+ROUND(L33*M33,0) -> 2143900
C34: Chazo y tornillo | K34: und | L34: 6 | M34: 275 | O34: =+ROUND(L34*M34,0) -> 1650
O35: =+ROUND(L35*M35,0) -> 0
C37: SUBTOTAL $ | O37: =SUM(O33:O36) -> 2145550
C38: III. TRANSPORTES
C41: MATERIAL | J41: VOL. o PESO | K41: DISTANCIA | L41: M3 o Ton/Km | M41: TARIFA | O41: Vr. UNITARIO
C42: EQUIPO DE TRANSPORTE | L42: 0.034 | M42: 180217 | O42: =+ROUND(M42*L42,0) -> 6127
C43: ACARREO INTERNO | L43: 4.5 | M43: 1824 | O43: =+ROUND(M43*L43,0) -> 8208
C44: SUBTOTAL $ | O44: =+O42 -> 6127
C45: IV. MANO DE OBRA
C48: TRABAJADOR | J48: JORNAL | K48: PRESTACIONES | L48: JORNAL TOTAL | M48: RENDIMIENTO | O48: Vr. UNITARIO
C49: Ayudante | D49: 1 | J49: 52195 | K49: 1.8 | L49: =+J49*K49 -> 93951 | M49: 0.48 | O49: =+ROUND(L49*M49,0) -> 45096
C50: Oficial | D50: 1 | J50: 83512 | K50: 1.8 | L50: =+J50*K50 -> 150321.6 | M50: =+M49 -> 0.48 | O50: =+ROUND(L50*M50,0) -> 72154
C53: SUBTOTAL $ | O53: =+O49+O50 -> 117250
C55: TOTAL COSTO DIRECTO $ | O55: =+O53+O44+O37+O28 -> 2269972
C56: V. COSTOS INDIRECTOS
C59: Descripción | L59: Porcentaje | M59: Valor Total
C60: ADMINISTRACION | L60: =+'PRESUPUESTO OFICIAL (Entidad)'!K91 -> 0.32 | M60: =+ROUND($O$55*L60,0) -> 726391
C61: IMPREVISTOS | L61: =+'PRESUPUESTO OFICIAL (Entidad)'!K92 -> 0 | M61: =+ROUND($O$55*L61,0) -> 0
C62: UTILIDAD | L62: =+'PRESUPUESTO OFICIAL (Entidad)'!K93 -> 0.05 | M62: =+ROUND($O$55*L62,0) -> 113499
C63: SUBTOTAL $ | O63: =+M60+M61+M62 -> 839890
C65: Precio Unitario Total Aproximado al peso $ | O65: =+ROUND(O55+O63,0) -> 3109862
H69: Firma
...

Sheet APU 6,1
C3: Formulario 1 - Propuesta económica - Documento tipo de licitación de obra pública de infraestructura de transporte - versión 4
C4: Código | D4: CCE-EICP-FM-14 | E4: Versión | F4: 4
C6: [La entidad podrá utilizar este formato para la presentación de los análisis de precios unitarios del contratista en la oportunidad prevista en el numeral 8.1. del Documento Base]
D9: INSTITUTO DE FINANCIAMIENTO, PROMOCIÓN Y DESARROLLO DE CALDAS - INFICALDAS
L10: VERSIÓN
D11: INFI L.P XXXX-2025
L12: PÁGINA | M12: 1 | N12: DE | O12: 1
D14: ANALISIS DE PRECIOS UNITARIOS
L16: FECHA | M16: DD | N16: MM | O16: AA
C18: ÍTEMS DE LA PROPUESTA ECONÓMICA | I18: ÍTEMS NO PREVISTOS
C22: DATOS ESPECÍFICOS
C24: ÍTEM | D24: DESCRIPCIÓN | M24: UNIDAD | O24: CANTIDAD
C25: =+'PRESUPUESTO OFICIAL (Entidad)'!C44 -> 6.1 | D25: =+'PRESUPUESTO OFICIAL (Entidad)'!G44 -> FRESADA CARPETA ASFALTICA HASTA 10 CM (INCLUYE CARGUE, CPRTE, RETIRO Y DISPOSICION FINAL) | M25: =+'PRESUPUESTO OFICIAL (Entidad)'!H44 -> M2 | O25: 1
C26: I. EQUIPO
C29: DESCRIPCIÓN | H29: MARCA | J29: TIPO | L29: TARIFA/HORA | M29: RENDIMIENTO | O29: Vr. UNITARIO
C30: Barredora de succión, almacenamiento aproximado 6 m3 | L30: 86784 | M30: 0.0066666667 | O30: =+L30*M30 -> 578.56
C31: Fresadora de pavimento, ancho de trabajo 2 m, potencia aproximada 580 HP, profundidad de corte 30 cm | L31: 1049782.4 | M31: 0.0066666667 | O31: =+L31*M31 -> 6998.5494
C32: Cargador: potencia en el volante 110 hp, clasificación de rpm del motoro 2300 | L32: 196960.55 | M32: 0.007 | O32: =+L32*M32 -> 1378.7238
C35: HERRAMIENTA MENOR (%) | M35: 0.05 | O35: =+O59*M35 -> 14.630417
C36: SUBTOTAL $ | O36: =SUM(O30:O35) -> 8970.4637
C37: II. MATERIALES
C40: DESCRIPCIÓN | K40: UNIDAD | L40: CANTIDAD | M40: PRECIO UNIT. | O40: Vr. UNITARIO
O41: =+L41*M41 -> 0
C43: SUBTOTAL $ | O43: =+O41 -> 0
C44: III. TRANSPORTES
C47: MATERIAL | J47: VOL. o PESO | K47: DISTANCIA | L47: M3 o Ton/Km | M47: TARIFA | O47: Vr. UNITARIO
C48: Transporte de material fresado | J48: 0.13 | K48: 2 | L48: =+J48*K48 -> 0.26 | M48: 1904 | O48: =+M48*L48 -> 495.04
C50: SUBTOTAL $ | O50: =+O48 -> 495.04
C51: IV. MANO DE OBRA
C54: TRABAJADOR | J54: JORNAL | K54: PRESTACIONES | L54: JORNAL TOTAL | M54: RENDIMIENTO | O54: Vr. UNITARIO
C55: Ayudante | D55: 4 | J55: =47450*D55 -> 189800 | K55: 1.85 | L55: =+J55*K55 -> 351130 | M55: 1200 | O55: =+L55/M55 -> 292.60833
C59: SUBTOTAL $ | O59: =+O56+O55 -> 292.60833
C61: TOTAL COSTO DIRECTO $ | O61: =+O59+O50+O43+O36 -> 9758.112
C62: V. COSTOS INDIRECTOS
C65: Descripción | L65: Porcentaje | M65: Valor Total
C66: ADMINISTRACION | L66: =+'PRESUPUESTO OFICIAL (Entidad)'!K91 -> 0.32 | M66: =+O61*L66 -> 3122.5958
C67: IMPREVISTOS | L67: =+'PRESUPUESTO OFICIAL (Entidad)'!K92 -> 0
C68: UTILIDAD | L68: =+'PRESUPUESTO OFICIAL (Entidad)'!K93 -> 0.05 | M68: =+O61*L68 -> 487.9056
C69: SUBTOTAL $
C71: Precio Unitario Total Aproximado al peso $ | O71: =+ROUND(O61+M66+M68,0) -> 13369
...

Sheet APU 6,2
C3: Formulario 1 - Propuesta económica - Documento tipo de licitación de obra pública de infraestructura de transporte - versión 4
C4: Código | D4: CCE-EICP-FM-14 | E4: Versión | F4: 4
C6: [La entidad podrá utilizar este formato para la presentación de los análisis de precios unitarios del contratista en la oportunidad prevista en el numeral 8.1. del Documento Base]
D9: INSTITUTO DE FINANCIAMIENTO, PROMOCIÓN Y DESARROLLO DE CALDAS - INFICALDAS
L10: VERSIÓN
D11: INFI L.P XXXX-2025
L12: PÁGINA | M12: 1 | N12: DE | O12: 1
D14: ANALISIS DE PRECIOS UNITARIOS
L16: FECHA | M16: DD | N16: MM | O16: AA
C18: ÍTEMS DE LA PROPUESTA ECONÓMICA | I18: ÍTEMS NO PREVISTOS
C22: DATOS ESPECÍFICOS
C24: ÍTEM | D24: DESCRIPCIÓN | M24: UNIDAD | O24: CANTIDAD
C25: =+'PRESUPUESTO OFICIAL (Entidad)'!C45 -> 6.2 | D25: =+'PRESUPUESTO OFICIAL (Entidad)'!G45 -> RIEGO DE IMPRIMACIÓN CON EMULSION ASFALTICO CRL-57 (CRL-1) (SUMINISTRO, BARRIDO SUPERFICIE Y RIEGO) | M25: =+'PRESUPUESTO OFICIAL (Entidad)'!H45 -> M2 | O25: 1
C26: I. EQUIPO
C29: DESCRIPCIÓN | H29: MARCA | J29: TIPO | L29: TARIFA/HORA | M29: RENDIMIENTO | O29: Vr. UNITARIO
C30: Carrotanque irrigador de asfalto, 1000 galones de capacidad | L30: 104134 | M30: 0.0020602627 | O30: =+L30*M30 -> 214.54339
C31: Compresor (barrido y soplado) | L31: 1049782.4 | M31: 0.0020602627 | O31: =+L31*M31 -> 2162.8275
C32: HERRAMIENTA MENOR (%) | M32: 0.05 | O32: =+O55*M32 -> 70.226
C33: SUBTOTAL $ | O33: =SUM(O30:O32) -> 2447.5969
C34: II. MATERIALES
C37: DESCRIPCIÓN | K37: UNIDAD | L37: CANTIDAD | M37: PRECIO UNIT. | O37: Vr. UNITARIO
C38: Emulsión asfáltica CRL-57 (CRL-1) | K38: L | L38: 1.55 | M38: 2545.21 | O38: =+L38*M38 -> 3945.0755
C40: SUBTOTAL $ | O40: =+O38 -> 3945.0755
C41: III. TRANSPORTES
C44: MATERIAL | J44: VOL. o PESO | K44: DISTANCIA | L44: M3 o Ton/Km | M44: TARIFA | O44: Vr. UNITARIO
C47: SUBTOTAL $ | O47: =+O45 -> 0
C48: IV. MANO DE OBRA
C51: TRABAJADOR | J51: JORNAL | K51: PRESTACIONES | L51: JORNAL TOTAL | M51: RENDIMIENTO | O51: Vr. UNITARIO
C52: Ayudante | D52: 4 | J52: =47450*D52 -> 189800 | K52: 1.85 | L52: =+J52*K52 -> 351130 | M52: 0.004 | O52: =+L52*M52 -> 1404.52
C55: SUBTOTAL $ | O55: =SUM(O52:O54) -> 1404.52
C57: TOTAL COSTO DIRECTO $ | O57: =+O55+O47+O40+O33 -> 7797.1924
C58: V. COSTOS INDIRECTOS
C61: Descripción | L61: Porcentaje | M61: Valor Total
C62: ADMINISTRACION | L62: =+'PRESUPUESTO OFICIAL (Entidad)'!K91 -> 0.32 | M62: =+O57*L62 -> 2495.1016
C63: IMPREVISTOS | L63: =+'PRESUPUESTO OFICIAL (Entidad)'!K92 -> 0
C64: UTILIDAD | L64: =+'PRESUPUESTO OFICIAL (Entidad)'!K93 -> 0.05 | M64: =+O57*L64 -> 389.85962
C65: SUBTOTAL $
C67: Precio Unitario Total Aproximado al peso $ | O67: =+ROUND(O57+M62+M64,0) -> 10682
H71: Firma
H72: Nombre:
...

Sheet APU 6,3
C3: Formulario 1 - Propuesta económica - Documento tipo de licitación de obra pública de infraestructura de transporte - versión 4
C4: Código | D4: CCE-EICP-FM-14 | E4: Versión | F4: 4
