Workbook

Sheet 1, Gerente ProyectoHabilitante
E2: Rama Judicial del Poder Público
E3: Consejo Superior de la Judicatura
E4: Dirección Ejecutiva de Administración Judicial
B8: FORMATO - EXPERIENCIA DEL EQUIPO MÍNIMO DE TRABAJO
C9: EXPERIENCIA HABILITANTE GERENTE DE PROYECTO
B10: NUMERO DE PROCESO: | E10: CM-06-2025
B12: FECHA DE CIERRE DEL PROCESO:
B14: OBJETO DEL PROCESO: | E14: Determinar las necesidades de la Rama Judicial para la construcción del Plan Sectorial de Desarrollo 2027-2030.
B16: NOMBRE DEL PROPONENTE:
B18: NOMBRES Y APELLIDOS DE LA PERSONA: | M18: CC:
B20: 1. ACREDITACIÓN DE IDONEIDAD MINIMAS
B22: Título profesional: | J22: UNIVERSIDAD:
B23: Tarjeta o matrícula profesional expedida por: (Si Aplica) | J23: NUMERO: | M23: FECHA EXPEDICION:
B24: Título posgrado: | J24: UNIVERSIDAD:
B25: 2. Anexa formato “CARTA DE COMPROMISO PROFESIONAL”:
B27: 3. ACREDITACIÓN EXPERIENCIA PROFESIONAL ESPECÍFICA CERTIFICADA Mínimo cinco (05) años de experiencia específica en los roles de gerencia o dirección o coordinación o líder o gestión de proyectos que correspondan al diseño e implementación de encuestas o evaluaciones o estudios o consultorías para procesos de planeación estratégica o evaluación institucional, o procesos o resultados o impactos de proyectos, o políticas o programas públicos.
B28: CER. | C28: PROYECTO | E28: CARGO / ACTIVIDAD DESEMPEÑADA | I28: TIEMPO DE EXPERIENCIA | M28: OBSERVACIÓN
I29: INICIO | J29: FINALIZACIÓN | K29: DURACIÓN (Dias) | L29: DURACIÓN (años y/o fracción)
B30: 1 | K30: =DAYS360(I30,J30) -> 0 | L30: =K30/360 -> 0
B31: 2 | K31: =DAYS360(I31,J31) -> 0 | L31: =K31/360 -> 0
B32: 3 | K32: =DAYS360(I32,J32) -> 0 | L32: =K32/360 -> 0
B33: 4 | K33: =DAYS360(I33,J33) -> 0 | L33: =K33/360 -> 0
B34: 5 | K34: =DAYS360(I34,J34) -> 0 | L34: =K34/360 -> 0
B35: 6 | K35: =DAYS360(I35,J35) -> 0 | L35: =K35/360 -> 0
B36: 7 | K36: =DAYS360(I36,J36) -> 0 | L36: =K36/360 -> 0
B37: 8 | K37: =DAYS360(I37,J37) -> 0 | L37: =K37/360 -> 0
B38: 9 | K38: =DAYS360(I38,J38) -> 0 | L38: =K38/360 -> 0
B39: 10 | K39: =DAYS360(I39,J39) -> 0 | L39: =K39/360 -> 0
B40: 11 | K40: =DAYS360(I40,J40) -> 0 | L40: =K40/360 -> 0
B41: 12 | K41: =DAYS360(I41,J41) -> 0 | L41: =K41/360 -> 0
... B48: 19 | K48: =DAYS360(I48,J48) -> 0 | L48: =K48/360 -> 0
B49: EXPERIENCIA TOTAL ACREDITADA | I49: Años Min. | L49: =SUM(L30:L48) -> 0

Sheet 1,Gerente Proyecto Ponderable
E2: Rama Judicial del Poder Público
E3: Consejo Superior de la Judicatura
E4: Dirección Ejecutiva de Administración Judicial
B8: EXPERIENCIA y FORMACIÓN ACADÉMICA DEL EQUIPO MÍNIMO DE TRABAJO
B9: EXPERIENCIA PONDERABLE DEL GERENTE DE PROYECTO
B10: NUMERO DE PROCESO: | E10: ='1, Gerente ProyectoHabilitante'!E10 -> CM-06-2025
B12: FECHA DE CIERRE DEL PROCESO: | E12: ='1, Gerente ProyectoHabilitante'!E12 -> 0
B14: OBJETO DEL PROCESO: | E14: ='1, Gerente ProyectoHabilitante'!E14 -> Determinar las necesidades de la Rama Judicial para la construcción del Plan Sectorial de Desarrollo 2027-2030.
B16: NOMBRE DEL PROPONENTE: | E16: ='1, Gerente ProyectoHabilitante'!E16 -> 0
B18: NOMBRES Y APELLIDOS DE LA PERSONA: | E18: ='1, Gerente ProyectoHabilitante'!E18 -> 0 | M18: CC: | N18: ='1, Gerente ProyectoHabilitante'!N18 -> 0
B20: 1. ACREDITACIÓN DE IDONEIDAD
B22: Título profesional: | D22: ='1, Gerente ProyectoHabilitante'!D22 -> 0 | J22: UNIVERSIDAD: | K22: ='1, Gerente ProyectoHabilitante'!K22 -> 0
B23: Tarjeta o matrícula profesional expedida por: (Si Aplica) | E23: ='1, Gerente ProyectoHabilitante'!E23 -> 0 | J23: NUMERO: | K23: ='1, Gerente ProyectoHabilitante'!K23 -> 0 | M23: FECHA EXPEDICION: | O23: ='1, Gerente ProyectoHabilitante'!O23 -> 0
B24: Título posgrado: | D24: ='1, Gerente ProyectoHabilitante'!D24 -> 0 | J24: UNIVERSIDAD: | K24: ='1, Gerente ProyectoHabilitante'!K24 -> 0
B25: 2. Anexa formato “CARTA DE COMPROMISO PROFESIONAL”: | I25: ='1, Gerente ProyectoHabilitante'!I25 -> 0
B27: 3. ACREDITACIÓN EXPERIENCIA ADICIONAL PONDERABLE DEL GERENTE PROYECTO que el Director de Proyecto cuenta con experiencia adicional a la mínima exigida como gerente o director o coordinador o líder o gestor de proyectos de proyectos que correspondan al diseño e implementación de encuestas para procesos de planeación estratégica.
B28: CER. | C28: PROYECTO | E28: CARGO / ACTIVIDAD DESEMPEÑADA | I28: TIEMPO DE EXPERIENCIA | M28: OBSERVACIÓN
I29: INICIO | J29: FINALIZACIÓN | K29: DURACIÓN (Dias) | L29: DURACIÓN (años y/o fracción)
B30: 1 | K30: =DAYS360(I30,J30) -> 0 | L30: =K30/360 -> 0
B31: 2 | K31: =DAYS360(I31,J31) -> 0 | L31: =K31/360 -> 0
B32: 3 | K32: =DAYS360(I32,J32) -> 0 | L32: =K32/360 -> 0
B33: 4 | K33: =DAYS360(I33,J33) -> 0 | L33: =K33/360 -> 0
B34: 5 | K34: =DAYS360(I34,J34) -> 0 | L34: =K34/360 -> 0
B35: 6 | K35: =DAYS360(I35,J35) -> 0 | L35: =K35/360 -> 0
B36: 7 | K36: =DAYS360(I36,J36) -> 0 | L36: =K36/360 -> 0
B37: 8 | K37: =DAYS360(I37,J37) -> 0 | L37: =K37/360 -> 0
B38: 9 | K38: =DAYS360(I38,J38) -> 0 | L38: =K38/360 -> 0
B39: 10 | K39: =DAYS360(I39,J39) -> 0 | L39: =K39/360 -> 0
B40: 11 | K40: =DAYS360(I40,J40) -> 0 | L40: =K40/360 -> 0
B41: 12 | K41: =DAYS360(I41,J41) -> 0 | L41: =K41/360 -> 0
... B48: 19 | K48: =DAYS360(I48,J48) -> 0 | L48: =K48/360 -> 0
B49: EXPERIENCIA TOTAL ACREDITADA | I49: Años Min. | L49: =SUM(L30:L48) -> 0
B51: 4. FORMACIÓN ACADÉMICA PONDERABLE DEL GERENTE DE PROYECTO
B52: TÍTULO DE POSGRADO (ESPECIALIZACIÓN, MAESTRÍA, DOCTORADO, OTRO) | I52: UNIVERSIDAD QUE OTORGA EL TITULO | M52: OBSERVACION

Sheet 2,ExpertoDiseñosMuestralHabilit
E2: Rama Judicial del Poder Público
E3: Consejo Superior de la Judicatura
E4: Dirección Ejecutiva de Administración Judicial
B8: EXPERIENCIA DEL EQUIPO MÍNIMO DE TRABAJO
B9: EXPERIENCIA HABILITANTE EXPERTO EN DISEÑOS MUESTRALES
B10: NUMERO DE PROCESO: | E10: ='1, Gerente ProyectoHabilitante'!E10 -> CM-06-2025
B12: FECHA DE CIERRE DEL PROCESO: | E12: ='1, Gerente ProyectoHabilitante'!E12 -> 0
B14: OBJETO DEL PROCESO: | E14: ='1, Gerente ProyectoHabilitante'!E14 -> Determinar las necesidades de la Rama Judicial para la construcción del Plan Sectorial de Desarrollo 2027-2030.
B16: NOMBRE DEL PROPONENTE: | E16: ='1, Gerente ProyectoHabilitante'!E16 -> 0
B18: NOMBRES Y APELLIDOS DE LA PERSONA: | M18: CC:
B20: 1. ACREDITACIÓN DE IDONEIDAD
B22: Título profesional: | J22: UNIVERSIDAD:
B23: Tarjeta o matrícula profesional expedida por: (Si Aplica) | J23: NUMERO: | M23: FECHA EXPEDICION:
B24: Título posgrado: | J24: UNIVERSIDAD:
B26: 2. Anexa formato “CARTA DE COMPROMISO PROFESIONAL”:
B28: 3. ACREDITACIÓN EXPERIENCIA PROFESIONAL ESPECÍFICA CERTIFICADA Mínimo tres (3) años de experiencia específica como asesor o consultor o coordinador o director o director de componente o responsable técnico o contratista o profesional o experto o especialista o líder o gerente de diseños muestrales o estimación de muestras estadísticas, para recolección de información cuantitativa o censos o encuestas o trabajo de campo
B29: CER. | C29: PROYECTO | E29: CARGO / ACTIVIDAD DESEMPEÑADA | I29: TIEMPO DE EXPERIENCIA | M29: OBSERVACIÓN
I30: INICIO | J30: FINALIZACIÓN | K30: DURACIÓN (Dias) | L30: DURACIÓN (años y/o fracción)
B31: 1 | K31: =DAYS360(I31,J31) -> 0 | L31: =K31/360 -> 0
B32: 2 | K32: =DAYS360(I32,J32) -> 0 | L32: =K32/360 -> 0
B33: 3 | K33: =DAYS360(I33,J33) -> 0 | L33: =K33/360 -> 0
B34: 4 | K34: =DAYS360(I34,J34) -> 0 | L34: =K34/360 -> 0
B35: 5 | K35: =DAYS360(I35,J35) -> 0 | L35: =K35/360 -> 0
B36: 6 | K36: =DAYS360(I36,J36) -> 0 | L36: =K36/360 -> 0
B37: 7 | K37: =DAYS360(I37,J37) -> 0 | L37: =K37/360 -> 0
B38: 8 | K38: =DAYS360(I38,J38) -> 0 | L38: =K38/360 -> 0
B39: 9 | K39: =DAYS360(I39,J39) -> 0 | L39: =K39/360 -> 0
B40: 10 | K40: =DAYS360(I40,J40) -> 0 | L40: =K40/360 -> 0
B41: 11 | K41: =DAYS360(I41,J41) -> 0 | L41: =K41/360 -> 0
B42: 12 | K42: =DAYS360(I42,J42) -> 0 | L42: =K42/360 -> 0
... B49: 19 | K49: =DAYS360(I49,J49) -> 0 | L49: =K49/360 -> 0
B50: EXPERIENCIA TOTAL ACREDITADA | I50: Años Min. | L50: =SUM(L31:L49) -> 0

Sheet 2,ExpertoDiseñosMuestralPondera
E2: Rama Judicial del Poder Público
E3: Consejo Superior de la Judicatura
E4: Dirección Ejecutiva de Administración Judicial
B8: EXPERIENCIA DEL EQUIPO MÍNIMO DE TRABAJO
B9: EXPERIENCIA y FORMACIÓN ACADÉMICA PONDERABLE DEL EXPERTO EN DISEÑOS MUESTRALES
B10: NUMERO DE PROCESO: | E10: ='1, Gerente ProyectoHabilitante'!E10 -> CM-06-2025
B12: FECHA DE CIERRE DEL PROCESO: | E12: ='1, Gerente ProyectoHabilitante'!E12 -> 0
B14: OBJETO DEL PROCESO: | E14: ='1, Gerente ProyectoHabilitante'!E14 -> Determinar las necesidades de la Rama Judicial para la construcción del Plan Sectorial de Desarrollo 2027-2030.
B16: NOMBRE DEL PROPONENTE: | E16: ='1, Gerente ProyectoHabilitante'!E16 -> 0
B18: NOMBRES Y APELLIDOS DE LA PERSONA: | E18: ='2,ExpertoDiseñosMuestralHabilit'!E18 -> 0 | M18: CC: | N18: ='2,ExpertoDiseñosMuestralHabilit'!N18 -> 0
B20: 1. ACREDITACIÓN DE IDONEIDAD
B22: Título profesional: | D22: ='2,ExpertoDiseñosMuestralHabilit'!D22 -> 0 | J22: UNIVERSIDAD: | K22: ='2,ExpertoDiseñosMuestralHabilit'!K22 -> 0
B23: Tarjeta o matrícula profesional expedida por: (Si Aplica) | E23: ='2,ExpertoDiseñosMuestralHabilit'!E23 -> 0 | J23: NUMERO: | K23: ='2,ExpertoDiseñosMuestralHabilit'!K23 -> 0 | M23: FECHA EXPEDICION: | O23: ='2,ExpertoDiseñosMuestralHabilit'!O23 -> 0
B24: Título posgrado: | D24: ='2,ExpertoDiseñosMuestralHabilit'!D24 -> 0 | J24: UNIVERSIDAD: | K24: ='2,ExpertoDiseñosMuestralHabilit'!K24 -> 0
B26: 2. Anexa formato “CARTA DE COMPROMISO PROFESIONAL”: | I26: ='2,ExpertoDiseñosMuestralHabilit'!I26 -> 0
B28: 3. ACREDITACIÓN EXPERIENCIA ADICIONAL PONDERABLE DEL EXPERTO EN DISEÑOS MUESTRALES que el Experto en Diseños Muestrales cuenta con experiencia adicional a la mínima exigida como asesor o consultor o coordinador o profesional o experto o especialista de diseños muestrales y/o estimación de muestras estadísticas, para recolección de información cuantitativa o censos o encuestas o trabajo de campo
B29: CER. | C29: PROYECTO | E29: CARGO / ACTIVIDAD DESEMPEÑADA | I29: TIEMPO DE EXPERIENCIA | M29: OBSERVACIÓN
I30: INICIO | J30: FINALIZACIÓN | K30: DURACIÓN (Dias) | L30: DURACIÓN (años y/o fracción)
B31: 1 | K31: =DAYS360(I31,J31) -> 0 | L31: =K31/360 -> 0
B32: 2 | K32: =DAYS360(I32,J32) -> 0 | L32: =K32/360 -> 0
B33: 3 | K33: =DAYS360(I33,J33) -> 0 | L33: =K33/360 -> 0
B34: 4 | K34: =DAYS360(I34,J34) -> 0 | L34: =K34/360 -> 0
B35: 5 | K35: =DAYS360(I35,J35) -> 0 | L35: =K35/360 -> 0
B36: 6 | K36: =DAYS360(I36,J36) -> 0 | L36: =K36/360 -> 0
B37: 7 | K37: =DAYS360(I37,J37) -> 0 | L37: =K37/360 -> 0
B38: 8 | K38: =DAYS360(I38,J38) -> 0 | L38: =K38/360 -> 0
B39: 9 | K39: =DAYS360(I39,J39) -> 0 | L39: =K39/360 -> 0
B40: 10 | K40: =DAYS360(I40,J40) -> 0 | L40: =K40/360 -> 0
B41: 11 | K41: =DAYS360(I41,J41) -> 0 | L41: =K41/360 -> 0
B42: 12 | K42: =DAYS360(I42,J42) -> 0 | L42: =K42/360 -> 0
... B49: 19 | K49: =DAYS360(I49,J49) -> 0 | L49: =K49/360 -> 0
B50: EXPERIENCIA TOTAL ACREDITADA | I50: Años Min. | L50: =SUM(L31:L49) -> 0
B52: 4. FORMACIÓN ACADÉMICA PONDERABLE DEL EXPERTO EN DISEÑOS MUESTRALES
B53: TÍTULO DE POSGRADO (ESPECIALIZACIÓN, MAESTRÍA, DOCTORADO, OTRO) | I53: UNIVERSIDAD QUE OTORGA EL TITULO | M53: OBSERVACION

Sheet Hoja1
D3: Otros
D4: Director de Interventoria
D5: Director de Obra
D6: Residente de Obra
D7: Residente de Interventoria
G9: Director de Interventoria
G10: Director de Obra
G11: Residente de Obra
G12: Residente de Interventoria
D15: LOTE 1 - Ubate
D16: LOTE 2 - Lérida
