Workbook

Sheet Presupuesto
A1: RELACIONE EL NOMBRE DEL PROCESO
A2: OBJETO | C2: AUNAR ESFUERZOS PARA AVANZAR EN LOS DOCUMENTOS TÉCNICOS QUE PERMITAN CONSOLIDAR EL PROYECTO DE LA UNIVERSIDAD PROPIA DEL PUEBLO AFRODESCENDIENTE COMO UN ESPACIO NACIONAL DE INVESTIGACIÓN Y EDUCACIÓN SUPERIOR PROPIO, DE CARÁCTER COMUNITARIO, AFROCENTRADO, ANTIRRACISTA Y PANAFRICANISTA, ADECUADO Y EQUIPADO DE MANERA EFICIENTE RESPONDIENDO A LAS REALIDADES DE LA SOCIEDAD, DE LOS TERRITORIOS, EN CORRESPONDENCIA CON LAS DIFERENTES EXPECTATIVAS Y COSMOVISIONES ÉTNICAS Y CULTURALES Y ARMONIZADA CON LA LEY 30 DE 1992 O AQUELLA QUE LA COMPLEMENTE, MODIFIQUE O SUSTITUYA.
A5: ITEM | B5: RUBRO | C5: CANTIDAD | D5: % DE DEDICACIÓN | E5: MESES | F5: VALOR MENSUAL Y/O UNITARIO | G5: VALOR PROMEDIO MERCADO | H5: VALOR TOTAL | I5: APORTE MEN | J5: APORTE RÍO RAPOSO | K5: %
A6: 1 | B6: TALENTO HUMANO MINIMO REQUERIDO
A7: 1.1 | B7: Coordinadora Administrativa | C7: 1 | D7: 1 | E7: 5 | F7: =6000000 -> 6000000 | G7: =+'[1]Analisis de Mercado-Salarios'!E37 -> 9498694.5 | H7: =F7*E7*C7 -> 30000000 | I7: =H7 -> 30000000 | K7: =I7/588000000 -> 0.051020408
A8: 1.2 | B8: Coordinador | C8: 1 | D8: 1 | E8: 5 | F8: 10800000 | G8: =+'Analisis de Mercado-Salarios'!E37 -> 9498694.5 | H8: =F8*E8*C8 -> 54000000 | I8: =H8 -> 54000000 | K8: =I8/588000000 -> 0.091836735
A9: 1.3 | B9: Especialistas academicos | C9: 2 | D9: 1 | E9: 5 | F9: 10800000 | G9: =+'Analisis de Mercado-Salarios'!E37 -> 9498694.5 | H9: =F9*E9*C9 -> 108000000 | I9: =H9 -> 108000000 | K9: =I9/588000000 -> 0.18367347
A10: 1.4 | B10: Especialista en proceso estrategicos | C10: 1 | D10: 1 | E10: 5 | F10: 10800000 | G10: =+'Analisis de Mercado-Salarios'!E37 -> 9498694.5 | H10: =F10*E10*C10 -> 54000000 | I10: =H10 -> 54000000 | K10: =I10/588000000 -> 0.091836735
A11: 1.5 | B11: Especialista financiero | C11: 1 | D11: 1 | E11: 5 | F11: 10800000 | G11: =+'Analisis de Mercado-Salarios'!E37 -> 9498694.5 | H11: =F11*E11*C11 -> 54000000 | I11: =H11 -> 54000000 | K11: =I11/588000000 -> 0.091836735
A12: 1.6 | B12: Especialista juridico | C12: 1 | D12: 1 | E12: 5 | F12: 10800000 | G12: =+'Analisis de Mercado-Salarios'!E37 -> 9498694.5 | H12: =F12*E12*C12 -> 54000000 | I12: =H12 -> 54000000 | K12: =I12/588000000 -> 0.091836735
A13: 1.7 | B13: Especialista experto enlace comunitario | C13: 1 | D13: 1 | E13: 5 | F13: 10800000 | G13: =+'Analisis de Mercado-Salarios'!E37 -> 9498694.5 | H13: =F13*E13*C13 -> 54000000 | I13: =H13 -> 54000000 | K13: =I13/588000000 -> 0.091836735
A14: 1.8 | B14: Expertos para realizacion de documentos maestros | C14: 3 | D14: 1 | E14: 2 | F14: 10614166 | G14: ='[1]Analisis de Mercado-Salarios'!E37 -> 9498694.5 | H14: =F14*E14*C14 -> 63684998 | I14: =H14 -> 63684998 | K14: =I14/588000000 -> 0.10830782
A15: SUBTOTAL | C15: =SUM(C7:C14) -> 11 | G15: =SUM(G7:G14) -> 75989556 | H15: =SUM(H7:H14) -> 4.71685e+08 | I15: =SUM(I7:I14) -> 4.71685e+08 | K15: =SUM(K7:K14) -> 0.80218537
A16: 2 | B16: REUNIONES DE RETROALIMENTACION Y SOCIALIZACION | C16: CANTIDAD | E16: MESES | F16: VALOR UNITARIO | G16: VALOR PROMEDIO MERCADO | H16: VALOR TOTAL | I16: APORTE MEN | J16: APORTE RÍO RAPOSO | K16: %
A17: 2.1. | B17: Armonizacion | C17: 3 | D17: N/A | E17: N/A | F17: 400000 | G17: =+'Analisis de Mercado-Actividades'!E28 -> 10135767 | H17: =F17*C17 -> 1200000 | I17: 0 | J17: =H17 -> 1200000 | K17: =H17/588000000 -> 0.0020408163
A18: 2.2. | B18: Alimentacion (Desayunos,almuerzos,refrigerios am-pm,cenas) | C18: 160 | D18: N/A | E18: N/A | F18: 90000 | G18: =+G17 -> 10135767 | H18: =F18*C18 -> 14400000 | I18: 0 | J18: =H18 -> 14400000 | K18: =H18/588000000 -> 0.024489796
A19: 2.3. | B19: Estacion de café, aromatica, agua | C19: 3 | D19: N/A | E19: N/A | F19: 300000 | G19: =+'Analisis de Mercado-Actividades'!E28 -> 10135767 | H19: =F19*C19 -> 900000 | I19: 0 | J19: =H19 -> 900000 | K19: =H19/588000000 -> 0.0015306122
A20: 2.4. | B20: Alquiler de espacios | C20: 3 | D20: N/A | E20: N/A | F20: 1200000 | G20: =+G19 -> 10135767 | H20: =F20*C20 -> 3600000 | I20: 0 | J20: =H20 -> 3600000 | K20: =H20/588000000 -> 0.006122449
A21: 2.5. | B21: Transporte aereos para el equipo impulsor a cada encuentro | C21: 15 | D21: N/A | E21: N/A | F21: 830000 | H21: =F21*C21 -> 12450000 | I21: 0 | J21: =H21 -> 12450000 | K21: =H21/588000000 -> 0.021173469
A22: 2.6. | B22: Transporte aereo y fluviales a algunas personas de los consejos comunitarios alejados | C22: 25 | D22: N/A | E22: N/A | F22: 710000 | G22: =+G20 -> 10135767 | H22: =F22*C22 -> 17750000 | I22: 0 | J22: =H22 -> 17750000 | K22: =H22/588000000 -> 0.030187075
A23: 2.7. | B23: transporte terrestre | C23: 160 | D23: N/A | E23: N/A | F23: 100000 | G23: =+G22 -> 10135767 | H23: =F23*C23 -> 16000000 | I23: 0 | J23: =H23 -> 16000000 | K23: =H23/588000000 -> 0.027210884
A24: 2.8. | B24: Alquiler de equipos( video beam, equipo, camara filmadora, estabilizador) | C24: 3 | D24: N/A | E24: N/A | F24: 1800000 | G24: ='Analisis de Mercado-Actividades'!E28 -> 10135767 | H24: =F24*C24 -> 5400000 | I24: 0 | J24: =H24 -> 5400000 | K24: =H24/588000000 -> 0.0091836735
A25: 2.9. | B25: Levantamiento audiovisual | C25: 3 | F25: 1000000 | G25: ='Analisis de Mercado-Actividades'!E28 -> 10135767 | H25: =F25*C25 -> 3000000 | I25: 0 | J25: =H25 -> 3000000 | K25: =H25/588000000 -> 0.0051020408
A26: 2.10 | B26: Hospedaje | C26: 70 | F26: 110000 | G26: ='Analisis de Mercado-Actividades'!E28 -> 10135767 | H26: =F26*C26 -> 7700000 | I26: 0 | J26: =H26 -> 7700000 | K26: =H26/588000000 -> 0.013095238
A27: 2.11 | B27: Insumos y Papeleria | C27: 3 | D27: N/A | E27: N/A | F27: 200000 | G27: =+G26 -> 10135767 | H27: =F27*C27 -> 600000 | I27: 0 | J27: =H27 -> 600000 | K27: =H27/588000000 -> 0.0010204082
A28: 2.12 | B28: Equipo de computo oficina | C28: 2 | D28: N/A | E28: N/A | F28: 2500000 | G28: ='Analisis de Mercado-Actividades'!E28 -> 10135767 | H28: =F28*C28 -> 5000000 | I28: 0 | J28: =H28 -> 5000000 | K28: =H28/588000000 -> 0.0085034014
A29: SUBTOTAL | H29: =SUM(H17:H28) -> 88000000 | I29: =SUM(I17:I23) -> 0 | J29: =SUM(J17:J28) -> 88000000 | K29: =SUM(K17:K28) -> 0.14965986
A30: 3 | B30: GASTOS ADMINISTRATIVOS | C30: CANTIDAD | E30: MESES | F30: VALOR UNITARIO | G30: VALOR PROMEDIO MERCADO | H30: VALOR TOTAL | I30: APORTE MEN | J30: APORTE RÍO RAPOSO | K30: %
A31: 3.1 | B31: Gastos Administrativos | C31: 1 | D31: N/A | E31: 6 | F31: 4719167 | H31: =F31*E31 -> 28315002 | I31: =H31-J31 -> 28315002 | K31: =H31/588000000 -> 0.048154765
A32: SUBTOTAL | H32: =SUM(H31:H31) -> 28315002 | I32: =SUM(I31:I31) -> 28315002 | J32: =J15+J29 -> 88000000 | K32: =SUM(K31) -> 0.048154765
A33: 1 | B33: TOTAL COSTOS DIRECTOS DE OPERACIÓN | H33: =H32+H29+H15 -> 5.88e+08 | I33: =I32+I15 -> 5e+08 | J33: =J29 -> 88000000 | K33: =K29+K15+K32 -> 1
B34: VALOR TOTAL DEL PROYECTO | H34: =H33 -> 5.88e+08 | I34: =I33 -> 5e+08 | J34: =J33 -> 88000000 | K34: =K33 -> 1

Sheet Analisis de Mercado-Salarios
A1: Análisis de Mercado
A2: METODOLOGÍA | B2: Cotejo de valor mensual de salarios y actividades, para identificar precios de mercado
A4: Rubro
A5: TALENTO HUMANO MINIMO REQUERIDO
A6: Contratista | B6: Contrato | C6: Talento Humano Requerido | D6: Nombre Genérico | E6: Valor Mensual
A7: Organización Nacional Inígena de Colombia ONIC | B7: CO1.PCCNTR.5335465 | C7: Asesor Coordinador | D7: Directivo - Especialista | E7: 7000000
A8: Consorcio Comite Cafeteros de Caldas - CRECE | B8: CO1.PCCNTR.2713913 | C8: Coordinador | D8: Directivo - Especialista | E8: 15600000
A9: Proyectamos Colombia SAS | B9: CO1.PCCNTR.2559252 | C9: Director | D9: Directivo - Especialista | E9: 14900000
A10: Consorcio Comite Cafeteros de Caldas - CRECE | B10: CO1.PCCNTR.2713913 | C10: Investigadora Crece | D10: Directivo - Especialista | E10: 14285714
A11: Consorcio Comite Cafeteros de Caldas - CRECE | B11: CO1.PCCNTR.2713913 | C11: Profesional Orientador Tipo 1 | D11: Directivo - Especialista | E11: 13591400
A12: Consorcio Comite Cafeteros de Caldas - CRECE | B12: CO1.PCCNTR.2713913 | C12: Profesional Orientador Tipo 2 | D12: Directivo - Especialista | E12: 13591400
A13: Proyectamos Colombia SAS | B13: CO1.PCCNTR.2559252 | C13: Asesor Técnico | D13: Directivo - Especialista | E13: 13000000
A14: Proyectamos Colombia SAS | B14: CO1.PCCNTR.2559252 | C14: Asesor en metdología de la investigación cualitativa | D14: Directivo - Especialista | E14: 13000000
A15: Proyectamos Colombia SAS | B15: CO1.PCCNTR.2559252 | C15: Expertos en primera infancia | D15: Directivo - Especialista | E15: 13000000
A16: Fundación Plan | B16: CO1.PCCNTR.2417016 | C16: Coordinador Nacional - Gerente de proyecto | D16: Directivo - Especialista | E16: 12682076
A17: Consorcio INCAP - BETA | B17: CO1.PCCNTR.2546507 | C17: Gerente | D17: Directivo - Especialista | E17: 10201393
A18: RESGUARDO DEL CABILDO DE GUAMBIA | B18: CO1.PCCNTR.5110688 | C18: Coordinador/a: Sabedor Misak | D18: Directivo - Especialista | E18: 7000000
... A36: ASOCIACIÓN DE CABILDOS INDÍGENAS DE CALDAS | B36: CO1.PCCNTR.2386594 | C36: Coordinador General | D36: Directivo - Especialista | E36: 4500000
D37: Promedio Directivo - Especialista | E37: =SUBTOTAL(1,E7:E36) -> 9498694.5 | F37: 9930336
A38: Consejo Noruego para Refugiados | B38: CO1.PCCNTR.2580977 | C38: Oficial Técnico Educación occidente | D38: Profesional | E38: 6868195
A39: Proyectamos Colombia SAS | B39: CO1.PCCNTR.2559252 | C39: Coordinador trabajo de campo | D39: Profesional | E39: 6800000
A40: Fundación Plan | B40: CO1.PCCNTR.2417016 | C40: Lider Técnico - Subgerente Técnico | D40: Profesional | E40: 6776264
A41: Organización Nacional Inígena de Colombia ONIC | B41: CO1.PCCNTR.5335465 | C41: Asesor Ciencias Sociales | D41: Profesional | E41: 6500000
A42: Organización Nacional Inígena de Colombia ONIC | B42: CO1.PCCNTR.5335465 | C42: Asesor Educativo | D42: Profesional | E42: 6500000
A43: Organización Nacional Inígena de Colombia ONIC | B43: CO1.PCCNTR.5335465 | C43: Asesor Jurídico | D43: Profesional | E43: 6500000
A44: Organización Nacional Inígena de Colombia ONIC | B44: CO1.PCCNTR.5335465 | C44: Asesor Indígena | D44: Profesional | E44: 6500000
A45: ORGANIZACIÓN DE AUTORIDADES INDÍGENAS DE COLOMBIA “POR LA PACHA MAMA” – AICO | B45: CO1.PCCNTR.5338882 | C45: Profesional para el acompañamiento técnico especializado financiero | D45: Profesional | E45: 6513157.9
A46: ORGANIZACIÓN DE AUTORIDADES INDÍGENAS DE COLOMBIA “POR LA PACHA MAMA” – AICO | B46: CO1.PCCNTR.5338882 | C46: Profesional para el acompañamiento técnico especializado jurídico | D46: Profesional | E46: 6513157.9
A47: ORGANIZACIÓN DE AUTORIDADES INDÍGENAS DE COLOMBIA “POR LA PACHA MAMA” – AICO | B47: CO1.PCCNTR.5338882 | C47: Profesionales para la consolidación de los documentos maestros del estudio de creación de programas | D47: Profesional | E47: 9236842.1
A48: ORGANIZACIÓN DE AUTORIDADES INDÍGENAS DE COLOMBIA “POR LA PACHA MAMA” – AICO | B48: CO1.PCCNTR.5338882 | C48: Profesional para consolidar los documentos maestros de la estrategia de comunicaciones | D48: Profesional | E48: 5921052.6
A49: Universidad de Caldas | B49: CO1.PCCNTR.2559557 | C49: Profesional | D49: Profesional | E49: 6500000
... A66: RESGUARDO DEL CABILDO DE GUAMBIA | B66: CO1.PCCNTR.5110688 | C66: Profesionales en área Financiera | D66: Profesional | E66: 7000000
D67: Promedio Profesional | E67: =SUBTOTAL(1,E38:E66) -> 6837266 | F67: 5210040
A68: Consejo Noruego para Refugiados | B68: CO1.PCCNTR.2580977 | C68: Asistente técnico financiero | D68: Asistencial | E68: 2486488
A69: MEN TARIFAS 2022 | B69: CO1.PCCNTR.3195927 | C69: Asistente técnico administrativo y financiero | D69: Asistencial | E69: 2490000
A70: Universidad del Valle 2022 | B70: CO1.PCCNTR.3410358 | C70: Apoyo a la gestión de viajes | D70: Asistencial | E70: 4200000
A71: Universidad EAFIT 2022 | B71: CO1.PCCNTR.3415073 | C71: Asistente Lógistico | D71: Asistencial | E71: 4382285
A72: Universidad Cooperativa de Colombia | B72: CO1.PCCNTR.2480408 | C72: Asistente técnico financiero | D72: Asistencial | E72: 2000000
A73: RESGUARDO DEL CABILDO DE GUAMBIA | B73: CO1.PCCNTR.4017345 | C73: Técnico de apoyo | D73: Asistencial-técnico | E73: 4000000
A74: RESGUARDO DEL CABILDO DE GUAMBIA | B74: CO1.PCCNTR.5110688 | C74: Apoyos logísticos y de sistematización – para los 3 componentes del estudio de factibilidad. | D74: Asistencial-técnico | E74: 3000000
...

Sheet Analisis de Mercado-Actividades
A1: Análisis de Mercado
A2: METODOLOGÍA | B2: Cotejo de valor mensual de salarios y actividades, para identificar precios de mercado
A4: Rubro
A5: TALENTO HUMANO MINIMO REQUERIDO
A6: Contratista | B6: Contrato | C6: Costos Indirectos | D6: Nombre Genérico | E6: Valor Unitario
A7: ORGANIZACIÓN DE AUTORIDADES INDÍGENAS DE COLOMBIA “POR LA PACHA MAMA” – AICO | B7: CO1.PCCNTR.5338882 | C7: Acompañamiento médicos tradicionales en las 5 zonas. | D7: Saberes ancestrales, mingas, armonizaciones | E7: 4144736.8
A8: ORGANIZACIÓN DE AUTORIDADES INDÍGENAS DE COLOMBIA “POR LA PACHA MAMA” – AICO | B8: CO1.PCCNTR.5338882 | C8: sesiones autónomas de la Mesa Regional Pastos y Quillacingas | D8: Saberes ancestrales, mingas, armonizaciones | E8: 12500000
A9: RESGUARDO DEL CABILDO DE GUAMBIA | B9: CO1.PCCNTR.5110688 | C9: Minga de planeación | D9: Saberes ancestrales, mingas, armonizaciones | E9: 6000000
A10: RESGUARDO DEL CABILDO DE GUAMBIA | B10: CO1.PCCNTR.5110688 | C10: Ceremonias de armonización: Rituales para armonizar el proceso y cada una de las etapas y actividades propuestas en el proyecto | D10: Saberes ancestrales, mingas, armonizaciones | E10: 1600000
A11: RESGUARDO DEL CABILDO DE GUAMBIA | B11: CO1.PCCNTR.5110688 | C11: Saberes ancestrales que no se pueden cuantificar, pero que son de un alto valor para el pueblo Misak | D11: Saberes ancestrales, mingas, armonizaciones | E11: 4166666.7
A12: RESGUARDO DEL CABILDO DE GUAMBIA | B12: CO1.PCCNTR.5110688 | C12: Apoyo y acompañamiento de autoridades, docentes, líderes y Pubenences del pueblo Misak - Orientador político cultural del proceso | D12: Saberes ancestrales, mingas, armonizaciones | E12: 15518400
A13: ORGANIZACIÓN NACIONAL DE LOS PUEBLOS INDIGENAS DE LA AMAZONIA COLOMBIANA | B13: CO1.PCCNTR.5337144 | C13: Aportes ancestrales y de conocimiento tradicional amazónico | D13: Saberes ancestrales, mingas, armonizaciones | E13: 30000000
A14: RESGUARDO DEL CABILDO DE GUAMBIA | B14: CO1.PCCNTR.4017345 | C14: Ceremonias de armonización | D14: Saberes ancestrales, mingas, armonizaciones | E14: 1777650
D15: Promedio saberes ancestrales, mingas, armonizaciones | E15: =SUM(E7:E14)/8 -> 9463431.7
A16: Organización Nacional Inígena de Colombia ONIC | B16: CO1.PCCNTR.5335465 | C16: Sesiones de socialización del estudio | D16: Evento | E16: 6055555.6
A17: RESGUARDO DEL CABILDO DE GUAMBIA | B17: CO1.PCCNTR.5110688 | C17: Encuentro de trabajo componente político - organizativo | D17: Evento | E17: 6800000
A18: RESGUARDO DEL CABILDO DE GUAMBIA | B18: CO1.PCCNTR.5110688 | C18: Encuentro de trabajo Componente pedagógico | D18: Evento | E18: 6800000
A19: RESGUARDO DEL CABILDO DE GUAMBIA | B19: CO1.PCCNTR.5110688 | C19: Encuentro de trabajo Componente administrativo- financiero | D19: Evento | E19: 6800000
A20: RESGUARDO DEL CABILDO DE GUAMBIA | B20: CO1.PCCNTR.5110688 | C20: Sesión de informe primer avance del estudio | D20: Evento | E20: 6500000
A21: RESGUARDO DEL CABILDO DE GUAMBIA | B21: CO1.PCCNTR.5110688 | C21: Sesión de socialización del estudio | D21: Evento | E21: 6000000
A22: RESGUARDO DEL CABILDO DE GUAMBIA | B22: CO1.PCCNTR.5110688 | C22: Sesiones de socialización | D22: Evento | E22: 5000000
A23: RESGUARDO DEL CABILDO DE GUAMBIA | B23: CO1.PCCNTR.5110688 | C23: Espacios de encuentro (salones, servicios básicos, silletería, escritorios) | D23: Evento | E23: 5000000
A24: Universidad de Caldas | B24: CO1.PCCNTR.2559557 | C24: Validación con pares | D24: Evento | E24: 30000000
A25: Universidad de Caldas | B25: CO1.PCCNTR.2559557 | C25: Validación con usuarios | D25: Evento | E25: 5000000
A26: ORGANIZACIÓN NACIONAL DE LOS PUEBLOS INDIGENAS DE LA AMAZONIA COLOMBIANA | B26: CO1.PCCNTR.5337144 | C26: Alimentación, Hospedaje del encuentro de autoridades de la amazonía colombiana | D26: Evento | E26: 30740000
A27: RESGUARDO DEL CABILDO DE GUAMBIA | B27: CO1.PCCNTR.4017345 | C27: Encuentros de trabajo | D27: Evento | E27: 6933650
D28: Promedio Evento | E28: =SUM(E16:E27)/12 -> 10135767
A29: RESGUARDO DEL CABILDO DE GUAMBIA | B29: CO1.PCCNTR.4017345 | C29: Transporte | D29: Transporte | E29: 17301000
A30: ORGANIZACIÓN NACIONAL DE LOS PUEBLOS INDIGENAS DE LA AMAZONIA COLOMBIANA | B30: CO1.PCCNTR.5337144 | C30: Transporte multimodal para el encuentro de autoridades de la amazonía colombiana | D30: Transporte | E30: 36800000
A31: ORGANIZACIÓN NACIONAL DE LOS PUEBLOS INDIGENAS DE LA AMAZONIA COLOMBIANA | B31: CO1.PCCNTR.5337144 | C31: Transporte aéreo para el encuentro de autoridades de la amazonía colombiana | D31: Transporte | E31: 28800000
D32: Promedio Transporte | E32: =SUM(E29:E31)/3 -> 27633667
A33: ASOCIACION DE CABILDOS INDIGENAS DEL PUEBLO SIONA | B33: CO1.PCCNTR.3787396 | C33: Papelería | D33: Gastos Administrativos - Papelería | E33: 15474750
A34: ASOCIACIÓN DE CABILDOS INDÍGENAS DE CALDAS | B34: CO1.PCCNTR.2386594 | C34: PAPELERÍA | D34: Gastos Administrativos - Papelería | E34: 29441000
A35: Proyectamos Colombia SAS | B35: CO1.PCCNTR.2559252 | C35: Papelería y miscelanea | D35: Gastos Administrativos - Papelería | E35: 5831000
A36: RESGUARDO DEL CABILDO DE GUAMBIA | B36: CO1.PCCNTR.4017345 | C36: Papelería | D36: Gastos Administrativos - Papelería | E36: 1450000
A37: ORGANIZACIÓN NACIONAL DE LOS PUEBLOS INDIGENAS DE LA AMAZONIA COLOMBIANA | B37: CO1.PCCNTR.5337144 | C37: Materiales y Papelería | D37: Gastos Administrativos - Papelería | E37: 1760000
A38: RESGUARDO DEL CABILDO DE GUAMBIA | B38: CO1.PCCNTR.5110688 | C38: Papelería | D38: Gastos Administrativos - Papelería | E38: 3360000
A39: ORGANIZACIÓN DE AUTORIDADES INDÍGENAS DE COLOMBIA “POR LA PACHA MAMA” – AICO | B39: CO1.PCCNTR.5338882 | C39: Papelería | D39: Gastos Administrativos - Papelería | E39: 10300000
D40: Promedio Gastos Administrativos - Papelería | E40: =SUM(E33:E39)/7 -> 9659535.7
A41: Organización Nacional Inígena de Colombia ONIC | B41: CO1.PCCNTR.5335465 | C41: Espacios de encuentro en la sede ONIC (incluye servicios y mobiliario) | D41: Gastos Administrativos | E41: 5111111.1
...

Sheet Contratos de Comparación
A1: Nivel Entidad | B1: Nombre de la Entidad | C1: NIT de la Entidad | D1: Estado del Proceso | E1: Modalidad de Contratación | F1: Objeto a Contratar | G1: Tipo de Contrato | H1: Fecha de Firma del Contrato | I1: Numero del Contrato | J1: Numero de Proceso | K1: Valor Contrato | L1: Nom Raz Social Contratista | M1: URL Contrato | N1: Columna1
A2: Nacional | B2: MINISTERIO DE EDUCACION NACIONAL (MEN) | C2: 899999001 | D2: En ejecución | E2: Contratación régimen especial | F2: Implementar el Modelo de Educación Inicial en Ruralidad | G2: Prestación de servicios | H2: 09/03/2021 07:09:25 PM | I2: CO1.PCCNTR.2808033 | J2: CO1.BDOS.2208389 | K2: 2280184441 | L2: APCA U.T. LAZOS SOCIALES POR LA EDUCACIÓN INICIAL RURAL | M2: https://community.secop.gov.co/Public/Tendering/OpportunityDetail/Index?noticeUID=CO1.NTC.2211541&isFromPublicArea=True&isModal=true&asPopupView=true
A3: Nacional | B3: MINISTERIO DE EDUCACION NACIONAL (MEN) | C3: 899999001 | D3: En ejecución | E3: Contratación régimen especial | F3: CONSULTORÍA PARA DISEÑAR Y APOYAR LA IMPLEMENTACIÓN DE UN MODELO DE ACUERDO BINACIONAL PARA ASEGURAR LA TRAYECTORIA EDUCATIVA DE ESTUDIANTES EN ZONA RURAL Y DE FRONTERA ENTRE ECUADOR Y COLOMBIA EN EL DEPARTAMENTO DEL PUTUMAYO. | G3: Prestación de servicios | H3: 08/10/2021 09:08:21 AM | I3: CO1.PCCNTR.2713913 | J3: CO1.BDOS.2106649 | K3: 477047019 | L3: CONSORCIO COMITE CAFETEROS DE CALDAS - CRECE | M3: https://community.secop.gov.co/Public/Tendering/OpportunityDetail/Index?noticeUID=CO1.NTC.2133413&isFromPublicArea=True&isModal=true&asPopupView=true
A4: Nacional | B4: MINISTERIO DE EDUCACION NACIONAL (MEN) | C4: 899999001 | D4: En ejecución | E4: Licitación pública | F4: Realizar la medición de la calidad de la educación inicial en el grado transición en una muestra representativa nacional de establecimientos educativos oficiales ubicados en zonas urbanas y rurales del país el desarrollo de un estudio cualitativo centrado en el reconocimiento de las particularidad | G4: Prestación de servicios | H4: 06/04/2021 09:06:11 AM | I4: CO1.PCCNTR.2559252 | J4: CO1.BDOS.1871740 | K4: 2793585845 | L4: PROYECTAMOS COLOMBIA SAS | M4: https://community.secop.gov.co/Public/Tendering/OpportunityDetail/Index?noticeUID=CO1.NTC.1915070&isFromPublicArea=True&isModal=true&asPopupView=true
A5: Nacional | B5: MINISTERIO DE EDUCACION NACIONAL (MEN) | C5: 899999001 | D5: En ejecución | E5: Contratación régimen especial | F5: Consultoría para el desarrollo de planes de formación complementaria en las escuelas normales superiores actualizados para estrategias educativas rurales | G5: Otro | H5: 04/29/2021 06:04:06 PM | I5: CO1.PCCNTR.2473858 | J5: CO1.BDOS.1945815 | K5: 3090737741 | L5: Universidad de la Salle | M5: https://community.secop.gov.co/Public/Tendering/OpportunityDetail/Index?noticeUID=CO1.NTC.1944251&isFromPublicArea=True&isModal=true&asPopupView=true
A6: Nacional | B6: MINISTERIO DE EDUCACION NACIONAL (MEN) | C6: 899999001 | D6: En ejecución | E6: Contratación régimen especial | F6: Acompañar la implementación de las estrategias educativas en establecimientos educativos focalizados que implementan la estrategia de permanencia residencia escolar en zonas rurales con el fin de cualificar la atención educativa desde un uso significativo del tiempo escolar promover y acompañar | G6: Otro | H6: 04/10/2021 05:04:18 AM | I6: CO1.PCCNTR.2417016 | J6: CO1.BDOS.1903431 | K6: 1729999998 | L6: Fundación Plan | M6: https://community.secop.gov.co/Public/Tendering/OpportunityDetail/Index?noticeUID=CO1.NTC.1900170&isFromPublicArea=True&isModal=true&asPopupView=true
A7: Nacional | B7: MINISTERIO DE EDUCACION NACIONAL (MEN) | C7: 899999001 | D7: Modificado | E7: Licitación pública | F7: IMPLEMENTAR ESTRATEGIAS EDUCATIVAS RURALES A TRAVÉS DE LA DINAMIZACIÓN DE ECOSISTEMAS DE INNOVACIÓN PARA LA EDUCACIÓN MEDIA CON EL FIN DE FORTALECER LA ARTICULACIÓN DE ACTORES ESTRATEGIAS Y RECURSOS EN PRO DE GENERAR POLÍTICAS EDUCATIVAS INTEGRALES DIRIGIDAS A LOS ADOLESCENTES Y JÓVENES FAVORECIEND | G7: Prestación de servicios | H7: 06/04/2021 07:06:56 AM | I7: CO1.PCCNTR.2546507 | J7: CO1.BDOS.1872636 | K7: 1443345273 | L7: CONSORCIO INCAP - BETA | M7: https://community.secop.gov.co/Public/Tendering/OpportunityDetail/Index?noticeUID=CO1.NTC.1915006&isFromPublicArea=True&isModal=true&asPopupView=true
A8: Nacional | B8: MINISTERIO DE EDUCACION NACIONAL (MEN) | C8: 899999001 | D8: En ejecución | E8: Contratación régimen especial | F8: Asistir y acompañar técnicamente Entidades Territoriales Certificadas e instituciones educativas focalizadas en la implementación de estrategias educativas rurales para contribuir al cierre de brechas en el acceso la acogida el bienestar y la permanencia de niños niñas y adolescentes en condicio | G8: Prestación de servicios | H8: 06/23/2021 05:06:18 PM | I8: CO1.PCCNTR.2580977 | J8: CO1.BDOS.2027308 | K8: 1729908235 | L8: CONSEJO NORUEGO PARA REFUGIADOS | M8: https://community.secop.gov.co/Public/Tendering/OpportunityDetail/Index?noticeUID=CO1.NTC.2027717&isFromPublicArea=True&isModal=true&asPopupView=true
A9: Nacional | B9: MINISTERIO DE EDUCACION NACIONAL (MEN) | C9: 899999001 | D9: Modificado | E9: Contratación régimen especial | F9: Consultoría para la validación ajuste socialización y fortalecimiento de capacidades para la implementación de los lineamientos y los recursos pedagógicos de la educación inicial básica y media para las ruralidades | G9: Otro | H9: 06/02/2021 12:06:22 AM | I9: CO1.PCCNTR.2559557 | J9: CO1.BDOS.2009693 | K9: 1703660956 | L9: UNIVERSIDAD DE CALDAS | M9: https://community.secop.gov.co/Public/Tendering/OpportunityDetail/Index?noticeUID=CO1.NTC.2010638&isFromPublicArea=True&isModal=true&asPopupView=true
A10: Nacional | B10: MINISTERIO DE EDUCACION NACIONAL (MEN) | C10: 899999001 | D10: Modificado | E10: Contratación régimen especial | F10: FORMAR Y ACOMPAÑAR EN LIDERAZGO Y GESTIÓN A DIRECTIVOS DOCENTES RURALES DEL PAÍS ASÍ COMO EL DESARROLLO DE PLANES DE FORMACIÓN COMPLEMENTARIOS EN LAS ENS ACTUALIZADOS PARA ESTRATEGIAS EDUCATIVAS RURALES | G10: Prestación de servicios | H10: 09/15/2020 11:09:50 AM | I10: CO1.PCCNTR.1839020 | J10: CO1.BDOS.1448012 | K10: 1990738196 | L10: Universidad de la Salle | M10: https://community.secop.gov.co/Public/Tendering/OpportunityDetail/Index?noticeUID=CO1.NTC.1446514&isFromPublicArea=True&isModal=true&asPopupView=true
A11: Nacional | B11: MINISTERIO DE EDUCACION NACIONAL (MEN) | C11: 899999002 | D11: Modificado | E11: Contratación régimen especial | F11: Aunar esfuerzos para el fortalecimiento de los procesos de educación universitaria propia y el SEIP, avanzando en la consolidación del proyecto de la Misak Universidad, en desarrollo del Derecho Mayor, la Misak Ley, el Decreto 1953 de 2014 y la normatividad aplicable vigente | G11: Prestación de servicios | I11: CO1.PCCNTR.4017345 | J11: CO1.BDOS.2458913 | K11: 362176000 | L11: Cabildo del Resguardo de Guambia | M11: https://community.secop.gov.co/Public/Tendering/OpportunityDetail/Index?noticeUID=CO1.NTC.4017345&isFromPublicArea=True&isModal=true&asPopupView=true
A12: Nacional | B12: MINISTERIO DE EDUCACION NACIONAL (MEN) | C12: 899999001 | D12: En ejecución | E12: Contratación régimen especial | F12: AUNAR ESFUERZOS PARA LA CONSOLIDACIÓN DEL PROYECTO DE LA ALA KUSREI Y A MISAK UNIVERSIDAD COMO PARTE DE LOS PROCESOS DE FORTALECIMIENTO DE LA EDUCACIÓN PROPIA, FUNDAMENTADA EN EL DERECHO MAYOR, LOS COMPONENTES DEL SEIP Y , EL DECRETO 1953 DE 2014 Y LA NORMATIVIDAD APLICABLE VIGENTE. | G12: Prestación de servicios | H12: 45098.613 | I12: CO1.PCCNTR.5110688 | J12: CV-I-MEN-0924-2023 | K12: 913129600 | L12: Cabildo del Resguardo de Guambia | M12: https://community.secop.gov.co/Public/Tendering/OpportunityDetail/Index?noticeUID=CO1.NTC.1446514&isFromPublicArea=True&isModal=true&asPopupView=true
A13: Nacional | B13: MINISTERIO DE EDUCACION NACIONAL (MEN) | C13: 899999001 | D13: En ejecución | E13: Contratación régimen especial | F13: Aunar esfuerzos para la consolidación del estudio de caracterización poblacional y territorial de las cinco (5) macrorregiones de la Organización Nacional Indígena de Colombia - ONIC (Amazonia, Centro Oriente, Norte, Orinoquia y Occidente), para fortalecer el proceso de creación de la Universidad Nacional Indígena de la ONIC (Kinsia Yetarauai - Escuela de pensamiento y conocimiento indígena) en el marco de la educación propia y fundamentada en el derecho mayor, los componentes del SEIP, el Decre | G13: Prestación de servicios | H13: 29/08/2023 12:30:03 PM | I13: CO1.PCCNTR.5335465 | J13: CV-I-MEN-1250-2023 | K13: 470000000 | L13: Organización Naciona Indígena de Colombia | M13: https://www.secop.gov.co/CO1ContractsManagement/Tendering/ProcurementContractEdit/View?docUniqueIdentifier=CO1.PCCNTR.5335465&prevCtxUrl=https%3a%2f%2fwww.secop.gov.co%3a443%2fCO1ContractsManagement%2fTendering%2fProcurementContractManagement%2fIndex&prevCtxLbl=Contratos+
A14: Nacional | B14: MINISTERIO DE EDUCACION NACIONAL (MEN) | C14: 899999001 | D14: En ejecución | E14: Contratación régimen especial | F14: AUNAR ESFUERZOS PARA AVANZAR EN LA CONSOLIDACIÓN DEL PROCESO DE CREACIÓN DE LA UNIVERSIDAD INDIGENA INTERCULTURAL DE LA AMAZONIA UIIAM EN EL MARCO DE LA EDUCACION SUPERIOR PROPIA DE LA ORGANIZACIÓN NACIONAL DE LOS PUEBLOS INDÍGENAS DE LA AMAZONÍA COLOMBIANA, FUNDAMENTADA EN EL DERECHO MAYOR, LOS COMPONENTES DEL SEIP, LOS ACUERDOS DEL PLAN NACIONAL DE DESARROLLO 2022 - 2026, EL DECRETO 1953 DE 2014 Y LA NORMATIVIDAD VIGENTE APLICABLE | G14: Prestación de servicios | H14: 29/08/2023 5:07:49 PM | I14: CO1.PCCNTR.5337144 | J14: CV-I-MEN-1346-2023 | K14: 254000000 | L14: ORGANIZACIÓN NACIONAL DE LOS PUEBLOS INDIGENAS DE LA AMAZONIA COLOMBIANA | M14: https://www.secop.gov.co/CO1ContractsManagement/Tendering/ProcurementContractEdit/View?docUniqueIdentifier=CO1.PCCNTR.5337144&prevCtxUrl=https%3a%2f%2fwww.secop.gov.co%3a443%2fCO1ContractsManagement%2fTendering%2fProcurementContractManagement%2fIndex&prevCtxLbl=Contratos+
A15: Nacional | B15: MINISTERIO DE EDUCACION NACIONAL (MEN) | C15: 899999002 | D15: En ejecución | E15: Contratación régimen especial | F15: Aunar esfuerzos para la consolidación del proyecto de la Universidad Pública Indígena del Pueblo de los Pastos y Quillasingas como parte del proceso de fortalecimiento de la educación superior propia, orientada a través del derecho mayor, ley de origen, ley natural, derecho propio, el bloque de constitucionalidad, el Decreto 1953 de 2014 , los componentes del SEIP y la normatividad aplicable vigente | G15: Prestación de servicios | H15: 30/08/2023 2:24:27 PM | I15: CO1.PCCNTR.5338882 | J15: CV-I-MEN-1251-2023 | K15: 460750000 | L15: Autoridades Indigenas de Colombia por la Pacha Mama - AICO | M15: https://www.secop.gov.co/CO1ContractsManagement/Tendering/ProcurementContractEdit/View?docUniqueIdentifier=CO1.PCCNTR.5338882&prevCtxUrl=https%3a%2f%2fwww.secop.gov.co%3a443%2fCO1ContractsManagement%2fTendering%2fProcurementContractManagement%2fIndex&prevCtxLbl=Contratos+
A16: Nacional | B16: MINISTERIO DE EDUCACION NACIONAL (MEN) | C16: 899999003 | D16: En ejecución | E16: Contratación régimen especial | F16: AUNAR ESFUERZOS Y RECURSOS TÉCNICOS, ADMINISTRATIVOS Y FINANCIEROS PARA EL FORTALECIMIENTO DE LA EDUCACIÓN PROPIA E INTERCULTURAL EN LA PERSPECTIVA DEL DESARROLLO Y LA IMPLEMENTACIÓN DEL COMPONENTE PEDAGÓGICO DEL SISTEMA EDUCATIVO INDÍGENA PROPIO- SEIP- Y LA ARTICULACIÓN DE ACCIONES PEDAGÓGICAS NECESARIAS DIRIGIDAS A LA ATENCIÓN DE LA COMUNIDAD EDUCATIVA POR PARTE DEL CONSEJO REGIONAL INDÍGENA DE CALDAS -CRIDEC A TRAVÉS DE LA ASOCIACIÓN DE CABILDOS INDÍGENAS DE CALDAS ACICAL. | G16: Prestación de servicios | H16: 26/03/2021 10:29:51 AM | I16: CO1.PCCNTR.2386594 | J16: CV-I-MEN-810-2021 | K16: 2534000000 | L16: ASOCIACIÓN DE CABILDOS INDÍGENAS DE CALDASS | M16: https://www.secop.gov.co/CO1ContractsManagement/Tendering/ProcurementContractManagement/Index
A17: Nacional | B17: MINISTERIO DE EDUCACION NACIONAL (MEN) | C17: 899999004 | D17: En ejecución | E17: Contratación régimen especial | F17: FORTALECIMIENTO AL DESARROLLO E IMPLEMENTACIÓN DEL PROYECTO EDUCATIVO COMUNITARIO DEL PUEBLO INDÍGENA JIW, PARA GARANTIZAR UNAS TRAYECTORIAS EDUCATIVAS PERTINENTES Y DE CALIDAD, QUE RECONOZCAN LA INTERCULTURALIDAD Y LAS PARTICULARIDADES DE LA COMUNIDAD FOCALIZADA. | G17: Prestación de servicios | H17: 7/07/2022 4:55:51 PM | I17: CO1.PCCNTR.3787396 | J17: SD-MEN-BID- P47983-2022 | K17: 141537441 | L17: ASOCIACION DE CABILDOS INDIGENAS DEL PUEBLO SIONA | M17: https://www.secop.gov.co/CO1ContractsManagement/Tendering/ProcurementContractManagement/Index

Sheet CO1.PCCNTR.2808033 APCA U.T. LA
A1: RELACIONE EL NOMBRE DEL PROCESO
A2: OBJETO | C2: Implementar el Modelo de Educación Inicial en Ruralidad
A4: ITEM | B4: RUBRO | C4: CANTIDAD | E4: VALOR MENSUAL | F4: VALOR FASE 1 | G4: % | H4: VALOR FASE 2 | J4: VALOR FASE 3 | K4: % | L4: TOTAL FASE 1+2+3 | M4: %
A5: 1 | B5: TALENTO HUMANO MINIMO REQUERIDO
A6: 1.1 | B6: Coordinador General | C6: 1 | D6: Sede | E6: 7312500 | F6: 3707031 | G6: =F6*100%/$F$80 -> 0.0019119889 | H6: 22848890 | I6: =+H6*100%/$F$80 -> 0.011784855 | J6: 2694079 | K6: =J6*100%/$F$80 -> 0.001389535 | L6: =+F6+H6+J6 -> 29250000 | M6: =+G6+I6+K6 -> 0.015086379
D7: Campo | E7: 1687500 | F7: 855469 | G7: =F7*100%/$F$80 -> 0.00044122837 | H7: 5272821 | I7: =+H7*100%/$F$80 -> 0.0027195821 | J7: 621711 | K7: =J7*100%/$F$80 -> 0.00032066215 | L7: =+F7+H7+J7 -> 6750001 | M7: =+G7+I7+K7 -> 0.0034814726
A8: 1.2 | B8: Asesor Pedagógico | C8: 1 | D8: Sede | E8: 4812500 | F8: 2439670 | G8: =F8*100%/$F$80 -> 0.0012583175 | H8: 15037304 | I8: =+H8*100%/$F$80 -> 0.0077558451 | J8: 1773026 | K8: =J8*100%/$F$80 -> 0.00091448009 | L8: =+F8+H8+J8 -> 19250000 | M8: =+G8+I8+K8 -> 0.0099286427
D9: Campo | E9: 2187500 | F9: 1108940 | G9: =F9*100%/$F$80 -> 0.00057196203 | H9: 6835138 | I9: =+H9*100%/$F$80 -> 0.0035253841 | J9: 805921 | K9: =J9*100%/$F$80 -> 0.00041567281 | L9: =+F9+H9+J9 -> 8749999 | M9: =+G9+I9+K9 -> 0.0045130189
A10: 1.3 | B10: Profesional de acompañamiento | C10: 17 | D10: Campo | E10: 4000000 | F10: 34472222 | G10: =F10*100%/$F$80 -> 0.017779864 | H10: 212475146 | I10: =+H10*100%/$F$80 -> 0.10958908 | J10: 25052632 | K10: =J10*100%/$F$80 -> 0.012921487 | L10: =+F10+H10+J10 -> 272000000 | M10: =+G10+I10+K10 -> 0.14029043
A11: 1.4 | B11: Profesional especializado salas de lectura | C11: 1 | D11: Sede | E11: 1718750 | F11: 871311 | G11: =F11*100%/$F$80 -> 0.00044939925 | H11: 5370465 | I11: =+H11*100%/$F$80 -> 0.0027699443 | J11: 633224 | K11: =J11*100%/$F$80 -> 0.00032660025 | L11: =+F11+H11+J11 -> 6875000 | M11: =+G11+I11+K11 -> 0.0035459438
D12: Campo | E12: 3781250 | F12: 1916884 | G12: =F12*100%/$F$80 -> 0.00098867825 | H12: 11815024 | I12: =+H12*100%/$F$80 -> 0.006093878 | J12: 1393092 | K12: =J12*100%/$F$80 -> 0.00071852014 | L12: =+F12+H12+J12 -> 15125000 | M12: =+G12+I12+K12 -> 0.0078010764
A13: 1.5 | B13: Profesional de apoyo salas de lectura | C13: 1 | D13: Sede | E13: 1156250 | F13: 586155 | G13: =F13*100%/$F$80 -> 0.0003023233 | H13: 3612859 | I13: =+H13*100%/$F$80 -> 0.0018634175 | J13: 425987 | K13: =J13*100%/$F$80 -> 0.00021971287 | L13: =+F13+H13+J13 -> 4625001 | M13: =+G13+I13+K13 -> 0.0023854536
D14: Campo | E14: 2543750 | F14: 1289540 | G14: =F14*100%/$F$80 -> 0.00066511075 | H14: 7948289 | I14: =+H14*100%/$F$80 -> 0.004099518 | J14: 937171 | K14: =J14*100%/$F$80 -> 0.0004833681 | L14: =+F14+H14+J14 -> 10175000 | M14: =+G14+I14+K14 -> 0.0052479969
A15: 1.6 | B15: Investigador Principal | C15: 1 | D15: Sede | E15: 5500000 | F15: 2788194 | G15: =F15*100%/$F$80 -> 0.001438077 | H15: 17185490 | I15: =+H15*100%/$F$80 -> 0.0088638229 | J15: 2026316 | K15: =J15*100%/$F$80 -> 0.0010451204 | L15: =+F15+H15+J15 -> 22000000 | M15: =+G15+I15+K15 -> 0.01134702
D16: Campo | E16: 2500000 | F16: 1267361 | G16: =F16*100%/$F$80 -> 0.00065367141 | H16: 7811586 | I16: =+H16*100%/$F$80 -> 0.0040290102 | J16: 921053 | K16: =J16*100%/$F$80 -> 0.00047505487 | L16: =+F16+H16+J16 -> 10000000 | M16: =+G16+I16+K16 -> 0.0051577365
A17: 1.7 | B17: Coinvestigadores | C17: 2 | D17: Sede | E17: 3000000 | F17: 3041667 | G17: =F17*100%/$F$80 -> 0.0015688117 | H17: 18747807 | I17: =+H17*100%/$F$80 -> 0.0096696248 | J17: 2210526 | K17: =J17*100%/$F$80 -> 0.0011401311 | L17: =+F17+H17+J17 -> 24000000 | M17: =+G17+I17+K17 -> 0.012378568
D18: Campo | E18: 1000000 | F18: 1013889 | G18: =F18*100%/$F$80 -> 0.00052293723 | H18: 6249269 | I18: =+H18*100%/$F$80 -> 0.0032232083 | J18: 736842 | K18: =J18*100%/$F$80 -> 0.00038004369 | L18: =+F18+H18+J18 -> 8000000 | M18: =+G18+I18+K18 -> 0.0041261892
A19: 1.8 | B19: Personal Administrativo y financiero | C19: 1 | D19: Sede | E19: 5000000 | F19: 2534722 | G19: =F19*100%/$F$80 -> 0.0013073428 | H19: 15623172 | I19: =+H19*100%/$F$80 -> 0.0080580204 | J19: 1842105 | K19: =J19*100%/$F$80 -> 0.00095010921 | L19: =+F19+H19+J19 -> 19999999 | M19: =+G19+I19+K19 -> 0.010315472
A20: SUBTOTAL | F20: =SUM(F6:F19) -> 57893055 | G20: =SUM(G6:G19) -> 0.029859712 | H20: =SUM(H6:H19)+1 -> 356833261 | I20: =SUM(I6:I19) -> 0.18404519 | J20: =SUM(J6:J19) -> 42073685 | K20: =SUM(K6:K19) -> 0.021700498 | L20: =SUM(L6:L19) -> 456800000 | M20: =SUM(M6:M19) -> 0.2356054
A21: 2 | B21: FASE ALISTAMIENTO Y DEFINICIÓN DE CONTENIDOS TÉCNICOS | C21: CANTIDAD | E21: MESES | F21: VALOR TOTAL
A22: 2.1 | B22: Selección y contratación del equipo de trabajo
A23: 2.1.1 | B23: Proceso de selección y contratación de profesionales
A24: 2.1.2 | B24: Inducción en cascada (equipo central y maestras y maestros)
A25: 2.2 | B25: Elaboración y validación de plan de trabajo, cronograma, metodologías e instrumentos
A26: 2.2.1 | B26: Revisión y análisis de directrices técnicas, insumos y formatos suministrados por el MEN
A27: 2.2.2 | B27: Proyección de acompañamiento de las niñas y niños
A28: 2.2.3 | B28: Proyección de los acompañamientos a maestras y maestros en la implementación del modelo
A29: 2.2.4 | B29: Proyección de la ruta metodológica para el seguimiento y documentación del modelo
A30: 2.2.5 | B30: Gestión proceso de Salas de Lectura
A31: 2.3 | B31: Adquisición y despliegue de dotaciones y recursos
A32: 2.3.1 | B32: Revisión y análisis de insumos suministrados por el MEN y los Establecimientos Educativos
A33: 2.3.2 | B33: Gestión proceso de Salas de Lectura
... A39: 2.5.2 | B39: Diseño de la estrategia de Ssitematización
A40: SUBTOTAL | F40: 220535750 | G40: =F40*100%/F80 -> 0.11374653
A41: 3 | B41: IMPLEMENTACIÓN DEL MODELO | C41: CANTIDAD | E41: MESES | F41: VALOR TOTAL
A42: 3.1 | B42: Actividades para desarrollar con niñas y niños y sus familias
A43: 3.1.1 | B43: Exploración del entorno y caracterización de los niños y niñas
A44: 3.1.2 | B44: Reconocimiento del Territorio
A45: 3.1.3 | B45: Realización de cartografía social
A46: 3.1.4 | B46: Movlización social y comunicación en el territorio
...

Sheet CO1.PCCNTR.2713913 Comite Cafet
A1: RELACIONE EL NOMBRE DEL PROCESO
A2: OBJETO | C2: Consultoría para diseñar y apoyar la implementación de un modelo de acuerdo binacional para asegurar la trayectoria educativa en estudiantes de zona rural y de frontera entre Ecuador y Colombia en el departamento del Putumayo
A4: ITEM | B4: RUBRO | C4: CANTIDAD | D4: % DE DEDICACIÓN | E4: MESES | F4: VALOR MENSUAL Y/O UNITARIO | G4: VALOR TOTAL | H4: %
A5: 1 | B5: TALENTO HUMANO MINIMO REQUERIDO
A6: 1.1. | B6: Coordinador | C6: 1 | D6: 1 | E6: 3.2 | F6: 15600000 | G6: =(E6*F6)*D6*C6 -> 49920000 | H6: =G6*100%/$G$27 -> 0.12452609
A7: 1.2. | B7: Profesional Orientador Tipo 1 | C7: 2 | D7: 1 | E7: =1.5+2.7 -> 4.2 | F7: 13591400 | G7: =(E7*F7)*D7*C7 -> 114167760 | H7: =G7*100%/$G$27 -> 0.28479296
A8: 1.4. | B8: Profesional Orientador Tipo 2 | C8: 1 | D8: 1 | E8: 2.8 | F8: 13591400 | G8: =(E8*F8)*D8 -> 38055920 | H8: =G8*100%/$G$27 -> 0.094930988
A9: 1.5. | B9: Personal de Apoyo Administrativo | C9: 1 | D9: 1 | E9: 5 | F9: 3953927 | G9: =(E9*F9)*D9 -> 19769635 | H9: =G9*100%/$G$27 -> 0.049315612
A10: 1.6. | B10: Investigadora Crece | C10: 1 | D10: 1 | E10: 3 | F10: 14285714 | G10: =((E10*F10)*D10)*C10 -> 42857142 | H10: =G10*100%/$G$27 -> 0.1069077
A11: SUBTOTAL | C11: =SUM(C6:C10) -> 6 | F11: =SUM(F6:F10) -> 61022441 | G11: =SUM(G6:G10)+2 -> 264770459 | H11: =SUM(H6:H10) -> 0.66047335
A12: 2 | B12: OTROS GASTOS | C12: CANTIDAD | F12: VALOR UNITARIO | G12: VALOR TOTAL | H12: %
A13: 2.1 | B13: Manuales y otros materiales usados en el desarrollo | C13: =32*2 -> 64 | D13: N/A | E13: N/A | F13: 100000 | G13: =C13*F13 -> 6400000 | H13: =G13*100%/$G$27 -> 0.015964883
A14: 2.2 | B14: Preparación y reproducción de informes | C14: =8*2 -> 16 | D14: N/A | E14: N/A | F14: 1000000 | G14: =C14*F14 -> 16000000 | H14: =G14*100%/$G$27 -> 0.039912208
A15: 2.3 | B15: Gastos de comunicación | C15: =8*2 -> 16 | D15: N/A | E15: N/A | F15: 500000 | G15: =C15*F15 -> 8000000 | H15: =G15*100%/$G$27 -> 0.019956104
A16: SUBTOTAL | C16: =SUM(C13:C15) -> 96 | G16: =SUM(G13:G15) -> 30400000 | H16: =SUM(H13:H15) -> 0.075833196
A17: 3 | B17: GASTOS DE DESPLAZAMIENTO | C17: CANTIDAD | F17: VALOR UNITARIO | G17: VALOR TOTAL | H17: %
A18: 3.1 | B18: Viáticos. Alojamiento y cenas 1 profesional/9 días por cada 4 sedes acompañadas: 4 días de desplazamiento ida y regreso y 5 días de ejecución) | C18: =72*2 -> 144 | D18: N/A | E18: N/A | F18: 139927 | G18: =C18*F18 -> 20149488 | H18: =G18*100%/$G$27 -> 0.05026316
A19: 3.2 | B19: Vuelos nacionales. Manizales - Puerto Asis | C19: =8*2 -> 16 | D19: N/A | E19: N/A | F19: 1700000 | G19: =C19*F19 -> 27200000 | H19: =G19*100%/$G$27 -> 0.067850754
A20: 3.3 | B20: Otros gastos de viaje (Transporte terrestre en el Putumayo: 5 trayectos por cada 4 escuelas; 40 trayectos para las 32 escuelas) | C20: =40*2 -> 80 | D20: N/A | E20: N/A | F20: 307532 | G20: =C20*F20 -> 24602560 | H20: =G20*100%/$G$27 -> 0.061371406
A21: 3.4 | B21: Otros gastos de viaje (Transporte en desplazamientos Manizales a Putumayo) | C21: =8*2 -> 16 | D21: N/A | E21: N/A | F21: 46130 | G21: =C21*F21 -> 738080 | H21: =G21*100%/$G$27 -> 0.0018411502
A22: SUBTOTAL | C22: =SUM(C18:C21) -> 256 | G22: =SUM(G18:G21)+5 -> 72690133 | H22: =G22*100%/$G$27 -> 0.18132648
A23: 1+2+3 | B23: TOTAL COSTOS DIRECTOS | G23: =+G22+G16+G11+1 -> 367860593 | H23: =G23*100%/$G$27 -> 0.91763304
B24: COSTOS INDIRECTOS DE OPERACIÓN
A25: 3.1 | B25: Gastos de Administración | C25: Gravamen a los movimientos financieros, costos administrativos y demas en que incurra la universidad para garantizar el cumplimient odel objeto contractual. | G25: 33019254 | H25: =+G25*100%/G27 -> 0.082366959
B26: SUBTOTAL | G26: =G25 -> 33019254 | H26: =SUM(H25) -> 0.082366959
B27: VALOR TOTAL DEL PROYECTO | G27: =G26+G23+1 -> 400879848 | H27: =H23+H26 -> 1

Sheet CO1.PCCNTR.2559252 PROYECTAMOS 
A1: RELACIONE EL NOMBRE DEL PROCESO
A2: OBJETO | C2: Realizar la medición de la calidad de la educación inicial en el grado transición en una muestra representativa nacional de establecimientos educativos oficiales ubicados en zonas urbanas y rurales del país el desarrollo de un estudio cualitativo centrado en el reconocimiento de las particularidad
A4: ITEM | B4: RUBRO | C4: CANTIDAD | D4: % DE DEDICACIÓN | E4: MESES | F4: VALOR MENSUAL Y/O UNITARIO | G4: VALOR TOTAL | H4: %
A5: 1 | B5: TALENTO HUMANO MINIMO REQUERIDO
A6: 1.1 | B6: Director | C6: 1 | D6: 0.5 | E6: 7.5 | F6: 14900000 | G6: =(E6*F6)*D6*C6 -> 55875000 | H6: =G6*100%/$G$38 -> 0.023801399
A7: 1.2 | B7: Asesor Técnico | C7: 1 | D7: 0.5 | E7: 7.5 | F7: 13000000 | G7: =(E7*F7)*D7*C7 -> 48750000 | H7: =G7*100%/$G$38 -> 0.020766321
A8: 1.3 | B8: Asesor en metdología de la investigación cualitativa | C8: 1 | D8: 0.5 | E8: 5 | F8: 13000000 | G8: =(E8*F8)*D8 -> 32500000 | H8: =G8*100%/$G$38 -> 0.013844214
A9: 1.4 | B9: Coordinador trabajo de campo | C9: 1 | D9: 1 | E9: 5 | F9: 6800000 | G9: =(E9*F9)*D9 -> 34000000 | H9: =G9*100%/$G$38 -> 0.014483178
A10: 1.5 | B10: Profesionales de campo | C10: 5 | D10: 1 | E10: 5 | F10: 2900000 | G10: =((E10*F10)*D10)*C10 -> 72500000 | H10: =G10*100%/$G$38 -> 0.030883246
A11: 1.6 | B11: Profesional con experiencia en transcripción de información cualitativa | C11: 1 | D11: 0.5 | E11: 3 | F11: 8500000 | G11: =((E11*F11)*D11)*C11 -> 12750000 | H11: =G11*100%/$G$38 -> 0.0054311916
A12: 1.7 | B12: Profesionales especializados en estadística | C12: 2 | D12: 1 | E12: 7.5 | F12: 5800000 | G12: =((E12*F12)*D12)*C12 -> 87000000 | H12: =G12*100%/$G$38 -> 0.037059896
A13: 1.8 | B13: Coordinadores regionales para la aplicación de instrumentos del modelo de medición | C13: 10 | D13: 1 | E13: 2 | F13: 3700000 | G13: =((E13*F13)*D13)*C13 -> 74000000 | H13: =G13*100%/$G$38 -> 0.03152221
A14: 1.9 | B14: Aplicadores de instrumentos de medición de calidad | C14: 98 | D14: 1 | E14: 2 | F14: 2900000 | G14: =((E14*F14)*D14)*C14 -> 568400000 | H14: =G14*100%/$G$38 -> 0.24212465
A15: 1.10 | B15: Auxiliar administrativo y logístico | C15: 1 | D15: 1 | E15: 7.5 | F15: 2900000 | G15: =((E15*F15)*D15)*C15 -> 21750000 | H15: =G15*100%/$G$38 -> 0.0092649739
A16: 1.11 | B16: Coordinador de consolidación de programa de entretenimiento | C16: 1 | D16: 1 | E16: 7.5 | F16: 4700000 | G16: =((E16*F16)*D16)*C16 -> 35250000 | H16: =G16*100%/$G$38 -> 0.015015647
A17: 1.12 | B17: Profesional para diseño de herramientas asociadas al programa de entrenamiento | C17: 1 | D17: 1 | E17: 3 | F17: 4500000 | G17: =((E17*F17)*D17)*C17 -> 13500000 | H17: =G17*100%/$G$38 -> 0.0057506735
A18: 1.13 | B18: Profesional en producción audiovisual | C18: 1 | D18: 1 | E18: 3 | F18: 4800000 | G18: =((E18*F18)*D18)*C18 -> 14400000 | H18: =G18*100%/$G$38 -> 0.0061340517
A19: 1.14 | B19: Expertos en primera infancia | C19: 3 | D19: 0.5 | E19: 3 | F19: 13000000 | G19: =((E19*F19)*D19)*C19 -> 58500000 | H19: =G19*100%/$G$38 -> 0.024919585
A20: 1.15 | B20: Profesional para edición y corrección de estilo | C20: 1 | D20: 1 | E20: 3 | F20: 4500000 | G20: =((E20*F20)*D20)*C20 -> 13500000 | H20: =G20*100%/$G$38 -> 0.0057506735
A21: 1.16 | B21: Profesional en diseño | C21: 1 | D21: 0.5 | E21: 2 | F21: 8900000 | G21: =((E21*F21)*D21)*C21 -> 8900000 | H21: =G21*100%/$G$38 -> 0.0037911847
A22: 1.17 | B22: Profesional experto en análisis de datos | C22: 1 | D22: 0.5 | E22: 3 | F22: 8900000 | G22: =((E22*F22)*D22)*C22 -> 13350000 | H22: =G22*100%/$G$38 -> 0.0056867771
A23: SUBTOTAL | C23: =SUM(C6:C22) -> 130 | F23: =SUM(F6:F22) -> 123700000 | G23: =SUM(G6:G22) -> 1164925000 | H23: =SUM(H6:H22) -> 0.49622987
A24: 2 | B24: OTROS GASTOS | C24: CANTIDAD | F24: VALOR UNITARIO | G24: VALOR TOTAL | H24: %
A25: 2.1 | B25: Alquiler DMC (recolección de información) | C25: 114 | D25: N/A | E25: 2 | F25: 142800 | G25: =C25*F25*E25 -> 32558400 | H25: =G25*100%/$G$38 -> 0.013869091
A26: 2.2 | B26: Papelería y miscelanea | C26: 1 | D26: N/A | E26: 5 | F26: 5831000 | G26: =C26*F26*E26 -> 29155000 | H26: =G26*100%/$G$38 -> 0.012419325
A27: 2.3 | B27: Espacios de entrenamiento | C27: 15 | D27: N/A | E27: 1 | F27: 3094000 | G27: =C27*F27*E27 -> 46410000 | H27: =G27*100%/$G$38 -> 0.019769537
A28: SUBTOTAL | C28: =SUM(C25:C27) -> 130 | G28: =SUM(G25:G27) -> 108123400 | H28: =SUM(H25:H27) -> 0.046057953
A29: 3 | B29: GASTOS DE DESPLAZAMIENTO | C29: CANTIDAD | E29: PLAZO DE EJECUCION (7,5 MESES) TIEMPO MAX A PONER | F29: VALOR UNITARIO | G29: VALOR TOTAL | H29: %
A30: 3.1 | B30: Gastos de transporte | C30: 114 | D30: N/A | E30: 2 | F30: 1142400 | G30: =C30*F30*E30 -> 260467200 | H30: =G30*100%/$G$38 -> 0.11095273
A31: 3.2 | B31: Gastos de viáticos (alimentación y hospedaje) | C31: 114 | D31: N/A | E31: 2 | F31: 2266435.9 | G31: =C31*F31*E31 -> 5.167474e+08 | H31: =G31*100%/$G$38 -> 0.22012189
A32: SUBTOTAL | C32: =SUM(C30:C31) -> 228 | G32: =SUM(G30:G31) -> 7.772146e+08 | H32: =G32*100%/$G$38 -> 0.33107462
A33: 1+2+3 | B33: TOTAL COSTOS DIRECTOS | G33: =+G32+G28+G23+1 -> 2.050263e+09 | H33: =H32+H28+H23 -> 0.87336245
B34: COSTOS INDIRECTOS DE OPERACIÓN
A35: 4 | B35: Gastos de Administración | C35: Gravamen a los movimientos financieros, costos administrativos y demas en que incurra la universidad para garantizar el cumplimient odel objeto contractual. | G35: 1.5376972e+08 | H35: =G35*100%/G38 -> 0.065502183
A36: 5 | B36: Utilidad | G36: 1.4351841e+08 | H36: =G36*100%/G38 -> 0.061135371
B37: SUBTOTAL | G37: =SUM(G35:G36) -> 2.9728813e+08 | H37: =SUM(H35:H36) -> 0.12663755
B38: VALOR TOTAL DEL PROYECTO SIN IVA | G38: =+G23+G28+G32+G37 -> 2.3475511e+09 | H38: =H33+H37 -> 1
A39: 6 | B39: Iva 19% | G39: =+G38*19% -> 4.4603471e+08
B40: SUBTOTAL | G40: =SUM(G39:G39) -> 4.4603471e+08
B41: VALOR TOTAL DEL PROYECTO CON IVA | G41: =+G38+G40 -> 2.7935858e+09 | H41: =H38+H40 -> 1

Sheet CO1.PCCNTR.2473858 Salle 2021
A1: RELACIONE EL NOMBRE DEL PROCESO
A2: OBJETO | C2: Consultoría para el desarrollo de planes de formación complementaria en las escuelas normales superiores actualizados para estrategias educativas rurales
A4: ITEM | B4: RUBRO | C4: CANTIDAD | D4: % DE DEDICACIÓN | E4: MESES | F4: VALOR MENSUAL Y/O UNITARIO | G4: VALOR TOTAL | H4: %
A5: 1 | B5: TALENTO HUMANO MINIMO REQUERIDO
A6: 1.1 | B6: Coordinador | C6: 1 | D6: 1 | E6: 8 | F6: 8000000 | G6: =C6*D6*E6*F6 -> 64000000 | H6: =G6*100%/$G$32 -> 0.02070703
A7: 1.2 | B7: Expertos en campos de conocimiento | C7: 4 | D7: 1 | E7: 8 | F7: 7000000 | G7: =C7*D7*E7*F7 -> 224000000 | H7: =G7*100%/$G$32 -> 0.072474606
A8: 1.3 | B8: Expertos en los ejes procesuales | C8: 4 | D8: 1 | E8: 8 | F8: 7000000 | G8: =C8*D8*E8*F8 -> 224000000 | H8: =G8*100%/$G$32 -> 0.072474606
A9: 1.4 | B9: Expertos en liderazgo directivo y educación rural | C9: 3 | D9: 1 | E9: 8 | F9: 7000000 | G9: =C9*D9*E9*F9 -> 168000000 | H9: =G9*100%/$G$32 -> 0.054355954
A10: 1.5 | B10: Expertos en sistematización de datos | C10: 7 | D10: 1 | E10: 8 | F10: 6000000 | G10: =C10*D10*E10*F10 -> 336000000 | H10: =G10*100%/$G$32 -> 0.10871191
A11: 1.6 | B11: Desarrollador | C11: 3 | D11: 1 | E11: 8 | F11: 6000000 | G11: =C11*D11*E11*F11 -> 144000000 | H11: =G11*100%/$G$32 -> 0.046590818
A12: 1.7 | B12: Asesoría tecno-pedagógica | C12: 4 | D12: 1 | E12: 8 | F12: 4000000 | G12: =C12*D12*E12*F12 -> 128000000 | H12: =G12*100%/$G$32 -> 0.041414061
A13: 1.8 | B13: Facilitadores regionales | C13: 25 | D13: 1 | E13: 8 | F13: 5500000 | G13: =C13*D13*E13*F13 -> 1100000000 | H13: =G13*100%/$G$32 -> 0.35590208
A14: 1.9 | B14: Profesional de comunicaciones | C14: 2 | D14: 1 | E14: 7 | F14: 4500000 | G14: =C14*D14*E14*F14 -> 63000000 | H14: =G14*100%/$G$32 -> 0.020383483
A15: 1.10 | B15: Diseñador | C15: 2 | D15: 1 | E15: 6 | F15: 4500000 | G15: =C15*D15*E15*F15 -> 54000000 | H15: =G15*100%/$G$32 -> 0.017471557
A16: 1.11 | B16: Diseñador Editorial | C16: 1 | D16: 1 | E16: 4 | F16: 4500000 | G16: =C16*D16*E16*F16 -> 18000000 | H16: =G16*100%/$G$32 -> 0.0058238523
A17: 1.12 | B17: Profesional Administrativo | C17: 1 | D17: 1 | E17: 8 | F17: 4000000 | G17: =C17*D17*E17*F17 -> 32000000 | H17: =G17*100%/$G$32 -> 0.010353515
A18: 1.13 | B18: Asistente Administrativo | C18: 1 | D18: 1 | E18: 8 | F18: 2500000 | G18: =C18*D18*E18*F18 -> 20000000 | H18: =G18*100%/$G$32 -> 0.006470947
A19: SUBTOTAL | F19: =SUM(F6:F18) -> 70500000 | G19: =SUM(G6:G18) -> 2575000000 | H19: =SUM(H6:H18) -> 0.83313442
A20: 2 | B20: PLATAFORMA TECNOLOGICA | C20: CANTIDAD | E20: MESES | F20: VALOR MENSUAL | G20: VALOR TOTAL
A21: 2.1 | B21: Plataforma Tecnologica de Gesión del Aprendizaje | C21: 1 | D21: N/A | E21: 8 | F21: 4603746 | G21: =(C21*E21*F21)-1 -> 36829967 | H21: =G21*100%/$G$32 -> 0.011916238
A22: 2.2 | B22: Licencia Uso de Plataforma | C22: 1677 | D22: N/A | E22: 1 | F22: =12000 -> 12000 | G22: =+C22*E22*F22 -> 20124000 | H22: =G22*100%/$G$32 -> 0.0065110668
A23: 2.3 | B23: Material | C23: =+C22 -> 1677 | D23: N/A | E23: 1 | F23: 30000 | G23: =F23*E23*C23 -> 50310000 | H23: =G23*100%/$G$32 -> 0.016277667
A24: 2.4 | B24: Publicidad | C24: 7 | D24: N/A | E24: 1 | F24: 3000000 | G24: =F24*E24*C24 -> 21000000 | H24: =G24*100%/$G$32 -> 0.0067944943
A25: 2.5 | B25: Socialización de experiencias y trabajo de campo | C25: 49 | D25: N/A | E25: 1 | F25: 850000 | G25: =F25*C25 -> 41650000 | H25: =G25*100%/$G$32 -> 0.013475747
A26: 2.6 | B26: Socialización de experiencias y trabajo de campo | C26: 49 | D26: N/A | E26: 3 | F26: 250000 | G26: =F26*E26*C26 -> 36750000 | H26: =G26*100%/$G$32 -> 0.011890365
A27: SUBTOTAL | G27: =SUM(G21:G26) -> 206663967 | H27: =SUM(H21:H26) -> 0.066865578
A28: 1+2 | B28: TOTAL COSTOS DIRECTOS DE OPERACIÓN | G28: =G19+G27 -> 2781663967 | H28: =G28/G32*100% -> 0.9
B29: COSTOS INDIRECTOS DE OPERACIÓN
A30: 3.1 | B30: Gastos de Administración | F30: 0.1 | G30: =+G28*0.1/0.9 -> 3.0907377e+08 | H30: =G30/G32*100% -> 0.1
B31: SUBTOTAL | G31: =G30 -> 3.0907377e+08
B32: VALOR TOTAL DEL PROYECTO | G32: =+G31+G27+G19 -> 3.0907377e+09 | H32: =H28+H30 -> 1

Sheet CO1.PCCNTR.2417016 FUND PLAN
A1: RELACIONE EL NOMBRE DEL PROCESO
A2: OBJETO | C2: Acompañar la implementación de las estrategias educativas en establecimientos educativos focalizados que implementan la estrategia de permanencia residencia escolar en zonas rurales con el fin de cualificar la atención educativa desde un uso significativo del tiempo escolar promover y acompañar
A4: ITEM | B4: RUBRO | C4: CANTIDAD | D4: % DE DEDICACIÓN | E4: MESES | F4: VALOR MENSUAL Y/O UNITARIO | G4: VALOR TOTAL | H4: %
A5: 1 | B5: TALENTO HUMANO MINIMO REQUERIDO
A6: 1.1 | B6: Coordinador Nacional - Gerente de proyecto | C6: 1 | D6: 1 | E6: 8 | F6: 12682076 | G6: =(E6*F6)*D6*C6 -> 101456608 | H6: =G6*100%/$G$26 -> 0.069788075
A7: 1.2 | B7: Lider Técnico - Subgerente Técnico | C7: 1 | D7: 1 | E7: 8 | F7: 6776264 | G7: =(E7*F7)*D7*C7+86800 -> 54296912 | H7: =G7*100%/$G$26 -> 0.037348745
A8: 1.3 | B8: Lider Operativo - Subgerente Operativo | C8: 1 | D8: 1 | E8: 8 | F8: 4182564 | G8: =(E8*F8)*D8+86800 -> 33547312 | H8: =G8*100%/$G$26 -> 0.023075898
A9: 1.4 | B9: Profesional para la implementación del componente salud y nutrición, protocolo de bioseguridad y protocolo de bioseguridad y protocolo de limpieza y desinfección | C9: 1 | D9: 1 | E9: 8 | F9: 4182564 | G9: =(E9*F9)*D9+86800 -> 33547312 | H9: =G9*100%/$G$26 -> 0.023075898
A10: 1.5 | B10: Profesional para la implementación de componente pedagófico y vida cotidiana | C10: 3 | D10: 1 | E10: 8 | F10: 4182564 | G10: =((E10*F10)*D10)*C10+86800 -> 100468336 | H10: =G10*100%/$G$26 -> 0.069108281
A11: 1.6 | B11: Profesesional para la implementación de componente familia, comunidad y redes y gestion emocional | C11: 1 | D11: 1 | E11: 8 | F11: 4182564 | G11: =((E11*F11)*D11)*C11+86800 -> 33547312 | H11: =G11*100%/$G$26 -> 0.023075898
A12: 1.7 | B12: Profesional para la implementación del componente administración y gestión financiera, planes y proyectos de inversión para la mejora de las residencias escolares | C12: 2 | D12: 1 | E12: 8 | F12: 4182564 | G12: =((E12*F12)*D12)*C12+86800 -> 67007824 | H12: =G12*100%/$G$26 -> 0.046092089
A13: 1.8 | B13: Profesional en tema de género | C13: 1 | D13: 1 | E13: 8 | F13: 4182564 | G13: =((E13*F13)*D13)*C13+86800 -> 33547312 | H13: =G13*100%/$G$26 -> 0.023075898
A14: 1.9 | B14: Profesional de apoyo en la implementación plan de comunicaciones para el fortalecimiento pedagógico de las instituciones educativas con residencia escolar | C14: 1 | D14: 1 | E14: 8 | F14: 4182564 | G14: =((E14*F14)*D14)*C14+86800 -> 33547312 | H14: =G14*100%/$G$26 -> 0.023075898
A15: 1.10 | B15: Profesionales para la implementación del proyecto en campo | C15: 32 | D15: 1 | E15: 7 | F15: 2822428 | G15: =((E15*F15)*D15)*C15+86519 -> 632310391 | H15: =G15*100%/$G$26 -> 0.43494185
A16: 1.11 | B16: Profesional especializado en Monitoreo y Evaluación | C16: 1 | D16: 1 | E16: 7 | F16: 3601189 | G16: =((E16*F16)*D16)*C16+86800 -> 25295123 | H16: =G16*100%/$G$26 -> 0.017399536
A17: 1.12 | B17: Analista de proyecto | C17: 2 | D17: 1 | E17: 8 | F17: 2822428 | G17: =((E17*F17)*D17)*C17+86801 -> 45245649 | H17: =G17*100%/$G$26 -> 0.031122731
A18: 1.13 | B18: Analista Financiero | C18: 1 | D18: 1 | E18: 8 | F18: 2822428 | G18: =((E18*F18)*D18)*C18+86801 -> 22666225 | H18: =G18*100%/$G$26 -> 0.015591219
A19: 1.14 | B19: Auxliar en gestión documental | C19: 1 | D19: 1 | E19: 3 | F19: 1594971 | G19: =((E19*F19)*D19)*C19+86800 -> 4871713 | H19: =G19*100%/$G$26 -> 0.0033510629
A20: SUBTOTAL | C20: =SUM(C6:C19) -> 49 | F20: =SUM(F6:F19) -> 62399732 | G20: =SUM(G6:G19)-11085419 -> 1210269922 | H20: =SUM(H6:H19) -> 0.84012308
A21: 2 | B21: OTROS GASTOS | C21: CANTIDAD | F21: VALOR UNITARIO | G21: VALOR TOTAL | H21: %
A22: 2.1 | B22: Implementación encuentro nacional | C22: 1 | D22: N/A | E22: N/A | F22: N/A | G22: N/A | H22: N/A
A23: 2.2 | B23: Insumos de trabajo | C23: 1 | D23: N/A | E23: N/A | F23: N/A | G23: N/A | H23: N/A
A24: 2.3 | B24: Gastos Administrativos | C24: 1 | D24: N/A | E24: N/A | F24: N/A | G24: N/A | H24: N/A
A25: SUBTOTAL | C25: =SUM(C22:C24) -> 3 | G25: 243511519 | H25: =G25*100%/G26 -> 0.16750215
A26: 1+2+3 | B26: TOTAL COSTOS DIRECTOS + INDIRECTOS | G26: =+G20+G25 -> 1453781441 | H26: =+H20+H25-1% -> 0.99762523
B27: COSTOS INDIRECTOS DE OPERACIÓN
A28: 4 | B28: Iva 19% | G28: =+G26*19% -> 2.7621847e+08
B29: SUBTOTAL | G29: =SUM(G28:G28) -> 2.7621847e+08
B30: VALOR TOTAL DEL PROYECTO CON IVA | G30: =+G26+G29 -> 1.7299999e+09

Sheet CO1.PCCNTR.2546507 INCAP BETA
A1: RELACIONE EL NOMBRE DEL PROCESO
A2: OBJETO | C2: Implementar estrategias educativas rurales a través de la dinamización de ecosistemas de innovación para la educación media con el fin de fortalecer la articulación de acciones estrategias y productos en pro de generar políticas educativas integrales dirigidas a los adolescentes y jóvenes
A4: ITEM | B4: RUBRO | C4: CANTIDAD | D4: % DE DEDICACIÓN | E4: MESES | F4: VALOR MENSUAL Y/O UNITARIO | G4: VALOR TOTAL | H4: %
B5: DINAMIZADOR NACIONAL DE ECOSISTEMAS
A6: 1.1 | B6: Gerente | C6: 1 | D6: 1 | E6: 6.5 | F6: 10201393 | G6: =(E6*F6)*D6*C6+1 -> 66309056 | H6: =G6*100%/$G$26 -> 0.060767362
A7: 1.2 | B7: Asesor de Alianzas | C7: 1 | D7: 1 | E7: 6.5 | F7: 8982273 | G7: =(E7*F7)*D7*C7 -> 58384774 | H7: =G7*100%/$G$26 -> 0.053505343
A8: 1.3 | B8: Profesional experto en diversificación curricular (4 talleres * Ecosistema) | C8: 1 | D8: 1 | E8: 3 | F8: 6382022 | G8: =(E8*F8)*D8+1 -> 19146067 | H8: =G8*100%/$G$26 -> 0.017545959
A9: 1.4 | B9: Asesor en permanencia | C9: 1 | D9: 1 | E9: 6.5 | F9: 8982273 | G9: =(E9*F9)*D9 -> 58384774 | H9: =G9*100%/$G$26 -> 0.053505343
A10: 1.5 | B10: Profesional de sistema de seguimiento y monitoreo | C10: 1 | D10: 1 | E10: 6.5 | F10: 6382022 | G10: =((E10*F10)*D10)*C10+3 -> 41483146 | H10: =G10*100%/$G$26 -> 0.038016246
B11: ACOMPAÑAMIENTO A ETC
A12: 1.6 | B12: Coordinador de Ecosistemas | C12: 4 | D12: 1 | E12: 6.5 | F12: 8085311 | G12: =((E12*F12)*D12)*C12 -> 210218086 | H12: =G12*100%/$G$26 -> 0.19264938
A13: 1.7 | B13: Profesional de acompañamiento | C13: 4 | D13: 1 | E13: 6.5 | F13: 4136374 | G13: =((E13*F13)*D13)*C13 -> 107545724 | H13: =G13*100%/$G$26 -> 0.098557729
A14: 1.8 | B14: Coordinador de Ecosistemas | C14: 4 | D14: 1 | E14: 6.5 | F14: 8085311 | G14: =((E14*F14)*D14)*C14 -> 210218086 | H14: =G14*100%/$G$26 -> 0.19264938
A15: 1.9 | B15: Profesional de acompañamiento | C15: 5 | D15: 1 | E15: 6.5 | F15: 4136374 | G15: =((E15*F15)*D15)*C15-8 -> 134432147 | H15: =G15*100%/$G$26 -> 0.12319715
A16: 1.10 | B16: Tutores | C16: 8 | D16: 1 | E16: 4 | F16: 4136371 | G16: =((E16*F16)*D16)*C16 -> 132363872 | H16: =G16*100%/$G$26 -> 0.12130173
A17: SUBTOTAL COSTO DIRECTO | C17: =SUM(C6:C16) -> 30 | F17: =SUM(F6:F16) -> 69509724 | G17: =SUM(G6:G16)+77 -> 1.0384858e+09 | H17: =SUM(H6:H16) -> 0.95169563
A18: 2 | B18: GASTOS DE DESPLAZAMIENTO | C18: CANTIDAD | E18: DIAS | F18: VALOR UNITARIO | G18: VALOR TOTAL | H18: %
B19: ACOMPAÑAMIENTO A ETC
A20: 2.1 | B20: Gastos de desplazamiento tiquetes terrestres -Tiquete ida y regreso - 13 visitas ecosistemas nuevos y 18 creados en 2020 | C20: 31 | D20: N/A | E20: 1 | F20: 84377 | G20: =F20*C20*E20 -> 2615687 | H20: =G20*100%/$G$26 -> 0.0023970843
A21: 2.2 | B21: Gastos de desplazamiento viáticos 1 día - 13 visitas ecosistemas nuevos y 18 creados en 2020 | C21: 31 | D21: N/A | E21: 1 | F21: 304830 | G21: =F21*C21*E21 -> 9449730 | H21: =G21*100%/$G$26 -> 0.0086599811
B22: VISITAS DE VERIFICACIÓN Y GESTIÓN
A23: 2.3 | B23: Gastos de desplazamiento tiquetes terrestres -Tiquete ida y regreso para el gerente Realizar 2 viajes por cada uno de los 4 ecosistemas nuevos) | C23: 8 | D23: N/A | E23: 2.5 | F23: 711271 | G23: =F23*C23*E23*2 -> 28450840 | H23: =G23*100%/$G$26 -> 0.026073098
A24: 2.4 | B24: Gastos de desplazamiento viáticos para el gerente Realizar 2 viajes por cada uno de los 4 ecosistemas nuevos) | C24: 8 | D24: N/A | E24: 2.5 | F24: 304830 | G24: =F24*C24*E24*2 -> 12193200 | H24: =G24*100%/$G$26 -> 0.011174169
A25: SUBTOTAL COSTO DIRECTO | C25: =SUM(C20:C24) -> 78 | G25: =SUM(G20:G24) -> 52709457 | H25: =SUM(H23:H24) -> 0.037247267
A26: 1+2+3 | B26: TOTAL COSTOS DIRECTOS | G26: =G25+G17-39.5 -> 1091195227 | H26: =+H25+H17+1% -> 0.9989429
B27: COSTOS INDIRECTOS DE OPERACIÓN
A28: 4 | B28: Gastos de Administración | C28: Gravamen a los movimientos financieros, costos administrativos y demas en que incurra la universidad para garantizar el cumplimient odel objeto contractual. | G28: =H28*G26 -> 76383666 | H28: 0.07
A29: 5 | B29: Utilidad | G29: =H29*G26 -> 92751594 | H29: 0.085
B30: SUBTOTAL | G30: =+G28+G29 -> 1.6913526e+08
B31: VALOR TOTAL DEL PROYECTO SIN IVA | G31: =+G30+G26 -> 1.2603305e+09 | H31: =H26+H30 -> 0.9989429
A32: 6 | B32: Iva 19% | G32: =+G31*19% -> 2.3946279e+08
B33: SUBTOTAL | G33: =SUM(G32:G32) -> 2.3946279e+08 | H33: =SUM(H32:H32) -> 0
