Workbook
Name fcc: #REF!
Name fyy: #REF!

Sheet E
B2: NOMBRE DE LA ENTIDAD FORMATO - CAPACIDAD RESIDUAL EXPERIENCIA
A4: No. Proceso:
A6: OFERENTE:
A8: No. de contrato en el RUP | B8: Contratos relacionados con la actividad de la construccion - seg 72 clasif. UNSPSC del RUP en (SMMLV A) | D8: Participación del proponente en el contratista plural (B) | E8: C = A * B * 1,300,000 Valor total de los contratos ejecutados (valor del contrato ponderado por la participación en pesos colombianos) (C)
A9: 1 | E9: P
A10: 2
A11: 3
A12: 4
A13: 5
A14: 6
A15: 7
A16: 9
A17: 10
A18: 11
A19: 12
A20: 13
A21: 16
... A87: 138
D88: TOTAL | E88: =SUM(E9:E87) -> 0
A91: En constancia de lo anterior firmo este documento a los
A97: Firma representante legal del Oferente
A98: Nombre:
A99: Cargo: | B99: Representante Legal:
A100: Documento de Identidad:

Sheet CT
A2: NOMBRE DE LA ENTIDAD FORMATO - CAPACIDAD RESIDUAL - CAPACIDAD TECNICA
A4: No. Proceso:
A6: OFERENTE:
A8: Nombre del socio y/o profesional de la arquitectura, ingeniería o geología | B8: Profesión | C8: N° de matrícula profesional | D8: Número y año del Contrato laboral o de prestación de servicios profesionales | E8: Vigencia del Contrato
A24: =+E!A91 -> En constancia de lo anterior firmo este documento a los
A30: Firma representante legal del Oferente | D30: Firma del auditor o revisor fiscal
A31: Nombre: | D31: Nombre:
A32: Cargo: | D32: Cargo:
A33: Documento de Identidad: | D33: Documento de Identidad:

Sheet SCE
B2: NOMBRE DE LA ENTIDAD FORMATO - CAPACIDAD RESIDUAL - SCE
A4: No. Proceso:
A6: OFERENTE:
A11: Anexo Capacidad Residual - Verificación contratos en ejecución
A12: Contratos vigentes por Empresa | C12: Valor del Contrato de Obra (incuidas adiciones) (CO) | D12: Fecha de inicio (dd/mm/aaaa) | E12: Plazo del Contrato en meses (incluidas prorrogas) (P) | F12: Si el Contrato està o estuvo Suspendido colocar fecha de suspensión (dd/mm/aaaa) *** | G12: Si el Contrato està o estuvo Suspendido colocar fecha de reinicio (dd/mm/aaaa) *** | H12: Total en meses que estuvo suspendido el contrato | I12: Fecha de terminacion del contrato incluidas las suspensiones (dd/mm/aaaa) | J12: Dias ejecutados | K12: Dias por ejecutar (DE) | L12: Oferente Plural (Si, No) | M12: Porcentaje de participacion en el contrato (%) | N12: Fecha Presentación Propuesta | O12: Saldo | P12: fecha presentacion
F13: - | G13: - | H13: - | I13: =+D13+E13*30 -> 0 | J13: =+P13-D13 -> 0 | K13: =+E13*30-J13 -> 0 | O13: =C13/(E13*30)*K13*M13 -> #DIV/0!
F14: - | G14: - | H14: - | I14: =+D14+E14*30 -> 0 | J14: =+P14-D14 -> 0 | K14: =+E14*30-J14 -> 0 | O14: =C14/(E14*30)*K14*M14 -> #DIV/0!
A16: TOTAL | O16: =+O14+O13 -> #DIV/0!
A23: Firma representante legal del Oferente | L23: Firma representante del auditor o revisor fiscal
A24: =+CT!A31 -> Nombre: | L24: =+CT!D31 -> Nombre:
A25: =+CT!A32 -> Cargo: | L25: =+CT!D32 -> Cargo:
A26: =+CT!A33 -> Documento de Identidad: | L26: =+CT!D33 -> Documento de Identidad:

Sheet Anexo 4 CONSOLIDADO
B1: Cálculo de la capacidad residual del proponente
A3: PROCESO:
A5: OBJETO:
A8: OFERENTE:
A10: CAPACIDAD RESIDUAL DEL PROPONENTE = CO x [(E + CT + CF) / 100] - SCE
A12: CAPACIDAD DE ORGANIZACIÓN | B12: PUNTAJE POR EXPERIENCIA | C12: PUNTAJE POR CAPACIDAD TÉCNICA | D12: PUNTAJE POR CAPACIDAD FINANCIERA | E12: CO x [(E + CT + CF) / 100] A | F12: SALDOS DE LOS CONTRATOS EN EJECUCIÓN B | G12: CAPACIDAD RESIDUAL DEL PROPONENTE C = A - B
A13: =+F17 -> 0 | B13: 120 | C13: 20 | D13: 40 | E13: =+A13*(B13+C13+D13)/100 -> 0 | F13: =+F29 -> #DIV/0! | G13: =+E13-F13 -> #DIV/0!
A15: CAPACIDAD DE ORGANIZACIÓN
A16: Información Proveniente del Estado de resultados | E16: Año | F16: Capacidad de organización
A17: Mayor Ingreso Operacional | E17: 2019
A18: EXPERIENCIA
A19: Contratos relacionados con la actividad de la construcción inscritos por el proponente en el RUP en el segmento 72 “Servicios de Edificación, Construcción de Instalaciones y Mantenimiento” del Clasificador de Bienes y Servicios. | F19: Número de veces que el proponente ha ejecutado contratos equivalentes a la cuantía del Proceso de Contratación
A20: Experiencia | F20: =E!$E$88/(I6*J3) -> #DIV/0!
A21: CAPACIDAD TÉCNICA
A22: Número de socios y profesionales de la arquitectura, ingeniería y geología vinculados mediante una relación laboral o contractual conforme a la cual desarrollen actividades relacionadas directamente a la construcción. | F22: Número de profesionales
A23: Capacidad Técnica; Número de Profesionales
A24: CAPACIDAD FINANCIERA
A25: El índice de liquidez del proponente se verifica con el RUP. | F25: indicador
A26: Índice de Líquidez
A27: SALDOS DE LOS CONTRATOS EN EJECUCIÓN - SCE
A28: Sumatoria de los valores de los saldos de los contratos en ejecución (Tomado del Formulario No. 2 - Anexo No. 3) | F28: Valor Total de los saldos de los contratos en ejecución
A29: Sumatoria de los saldos de los contratos en ejecución | F29: =+SCE!O16 -> #DIV/0!
A31: =+#REF! -> #REF!
A33: Firma Representante legal del Oferente: | E33: Firma Contador Público y/o Revisor Fiscal:
A35: Nombre: | E35: Nombre:
A36: Documento de identidad: | E36: Documento de identidad:
E37: T.P No.:
