Workbook

Sheet Cronograma
A1: CRONOGRAMA DE ACTIVIDADES
A2: ALCANCE | B2: ACTIVDAD | C2: MES 1 | D2: MES 2 | E2: MES 3
A3: 1. Operar dos centros de atención de primer nivel, crear y operar un centro de primer nivel , operar un centro de atención de segundo nivel y brindar atención de tercer nivel todos pertenecientes a la Red Hospital Público Veterinaria de Pereira." | B3: Firma de convenio y contratos | C3: x
B4: Firma de contratos con proveedores de bienes y servicios | C4: x | D4: x | E4: x
B5: Conformación y contratación de equipos de trabajo | C5: x | D5: x | E5: x
B6: Atención de 24 horas en el segundo nivel de la red HOSPITAL PÚBLICO VETERINARIO DE PEREIRA | C6: x | D6: x | E6: x
B7: Prestación de servicio nivel 1 | C7: x | D7: x | E7: x
B8: Prestación de servicio nivel 2 | C8: x | D8: x | E8: x
B9: Prestacion del servicio de nivel 3 | D9: x | E9: x
A10: 2. Brindar atención en el Centro de Bienestar Animal a los animales en condición de calle que se encuentran en custodia del municipio de Pereira, provenientes de procesos de contravención, politraumatismo y/o situaciones de abandono o vulnerabilidad, de acuerdo a la capacidad institucional instalada. | B10: Fortalecimiento CBA | C10: x | D10: x | E10: x
B11: Actualización protocolos y documentación del CBA | C11: x | D11: x
B12: Conformación y contratacion de equipos de trabajo | C12: x | D12: x | E12: x
B13: Prestación de servicio | C13: x | D13: x | E13: x
A14: 3. Realizar campañas de adopción y apadrinamiento de los animales de compañía (caninos y felinos) en el marco de cumplimiento de la política pública de bienestar animal. | B14: Realizar campañas de adopción y apadrinamiento de los animales de compañía (caninos y felinos) en el marco de cumplimiento de la política pública de bienestar animal. | C14: x | D14: x | E14: x
A15: 4. Ejecutar campañas de educación sobre tenencia responsable y bienestar animal. | B15: Establecer los lineamientos de las campañas de educación sobre tenencia responsable y bienestar animal. | C15: x
B16: Implementar campañas de educación sobre tenencia responsable y bienestar animal. | D16: x | E16: x
A17: 5. Fortalecer las instituciones y organizaciones que desarrollan programas y actividades con animales domesticos en estado de vulnerabilidad de la ciudad de Pereira | B17: Brindar capacitaciones de acuerdo a las necesidades especificas | C17: x | D17: x | E17: x
B18: Actualizacion del inventario de las ONG, hogares de paso, acumuladores | C18: x
B19: Realizar brigadas de seguridad alimentaria en las organizaciones legalemente constituidas de la ciudad de pereira. | D19: x | E19: x
A20: OTRAS ACTIVIDADES DE APOYO A LA GESTION INSTITUCIONAL DEL CONVENIO | B20: Actividades de gestión administrativa, legal operativa y financiera | C20: x | D20: x | E20: x
B21: Presentación de informes | C21: x | D21: x | E21: x

Sheet Cuadro Resumen
A1: PRESUPUESTO
A2: ALCANCE | C2: ACTIVIDAD | D2: APORTE ALCALDIA | E2: APORTE UKUMARÍ | F2: VALOR TOTAL
A3: 1. Operar dos centros de atención de primer nivel, operar un centro de atención de segundo nivel y brindar atención de tercer nivel todos pertenecientes a la Red Hospital Público Veterinaria de Pereira." | B3: 1 | C3: Funcionamiento sedes y otros costos administrativos | D3: =ROUND(SUM(D4:D5),0) -> 11062856
B4: 1.1 | C4: Pólizas de responsabilidad civil | D4: =ROUND(4288189*1.056,0) -> 4528328
B5: 1.2 | C5: Poliza Rc instalaciones | D5: =(1.056*6188000) -> 6534528
B6: 2 | C6: Elementos operacionales de las sedes nivel 1-2 y sede administrativa | D6: =SUM(D7) -> 102423317
B7: 2.1 | C7: Mobiliario de servicio | D7: =ROUND('2.1 Mobiliario de Servicios'!F5,0) -> 102423317
B8: 3 | C8: Operación de sedes | D8: =SUM(D9:D15) -> 1100689521
B9: 3.1 | C9: Arrendamientos | D9: ='3.1 Arrendamientos'!C5 -> 38400000
B10: 3.2 | C10: Servicios Públicos (energía eléctrica, acueducto, alcantarillado, gas, disposición de residuos) para la sede de atencion de segundo nivel y sede administrativa, ya que los puntos de atención primaria se habilitarán en los CEDES del municipio los cuales ya cuenta con pago de servicios | D10: ='3.2 Servicios Públicos '!H16 -> 20967840
B11: 3.3 | C11: Internet para la sede administrativa y Hospital | D11: ='3.3 Internet'!C5 -> 1701474
B12: 3.4 | C12: Control de plagas para las 3 sedes y en que frecuencia | D12: ='3.4 Control de Plagas'!F6 -> 6642600
B13: 3.5 | C13: Contratos de Prestacion de Servicios | D13: ='3.5, 3.6 Personal'!Q4 -> 180600000
B14: 3.6 | C14: Costo de personal Red Hospital Publico Veterinario (Planta Temporal) | D14: =ROUND('3.5, 3.6 Personal'!L99-D28-D31-D34,0) -> 852377607
B15: 3.7 | C15: Unidad movil veterinaria | E15: =ROUND('3.7 Unidad Movil Veterinaria'!C3,0) -> 63364250
B16: 4 | C16: Consumibles atencion medico quirurgica | D16: =D17+D18+D20+D22+D23+D24+D19+D21 -> 736244334
B17: 4.1 | C17: Insumos hospitalarios (Consumibles) | D17: ='4.1 4.2 INSUMOS - Medicamentos'!I332 -> 94666667
B18: 4.2 | C18: Medicamentos-vacunas-desparasitantes | D18: ='4.1 4.2 INSUMOS - Medicamentos'!I333 -> 260000000
B19: 4.3 | C19: Instrumental | D19: ='4.3 Instrumental'!E68 -> 32000000
B20: 4.4 | C20: Insumos de laboratorio | D20: ='4.4 Insumos de Laboratorio'!F36 -> 100000000
B21: 4.5 | C21: Equipos Biomedicos | D21: =ROUND('4.5 Equipos Biomedicos '!G6,0) -> 111577667
B22: 4.6 | C22: Servicios por atención medica nivel 3 | D22: ='4.6 Tercer Nivel'!D14 -> 90000000
B23: 4.7 | C23: Aseo y cafetería | D23: ='5.6 Aseo y Cafeteria'!F111 -> 32000000
B24: 4.8 | C24: Papelería | D24: ='5.7 Papeleria'!E51 -> 16000000
A25: 2.Brindar atención en el centro de bienestar animal a los animales en condición de calle que se encuentran en custodia del municipio de Pereira. provenientes de procesos de contravención, politraumatismo y/o situaciones de abandono o vulnerabilidad, de acuerdo a la capacidad institucional instalada. | B25: 5 | C25: Operación CBA | D25: =SUM(D26:D29) -> 457630523
B26: 5.1 | C26: Operación, mantenimiento del centro de bienestar y componente ambiental | D26: =ROUND('5.1 Operacion y Mantenimi CBA'!F11,0) -> 135366248
B28: 5.2 | C28: Personal Centro de Bienestar animal | D28: =ROUND('3.5, 3.6 Personal'!M73+'3.5, 3.6 Personal'!M74+'3.5, 3.6 Personal'!M76+'3.5, 3.6 Personal'!M75+'3.5, 3.6 Personal'!M77+'3.5, 3.6 Personal'!M78+'3.5, 3.6 Personal'!M79+'3.5, 3.6 Personal'!M81+'3.5, 3.6 Personal'!M82+'3.5, 3.6 Personal'!M80,0)*3 -> 82264275
B29: 5.3 | C29: Alimentación | D29: =60000000*4 -> 240000000
A30: 3. Realizar campañas de adopción y apadrinamiento de los animales de compañía (caninos y felinos) en el marco de cumplimiento de la política pública de bienestar animal. | B30: 6 | C30: Apoyo Logistico Adopciones | D30: =SUM(D31:D32) -> 52942014
B31: 6.1 | C31: Personal Apoyo adopciones | D31: =('3.5, 3.6 Personal'!M83+'3.5, 3.6 Personal'!M85)*3 -> 20467014
B32: 6.2 | C32: Transporte jornadas-Conexión Red (camioneta) | D32: ='6.1 - 7.1 Vehiculos '!C8 -> 32475000
A33: 4. Diseñar e implementar campañas de educación y trabajo con comunidades sobre tenencia responsable y bienestar animal. | B33: 7 | C33: Apoyo logistico educacion | D33: =SUM(D34:D35) -> 69608334
B34: 7.1 | C34: Personal apoyo Educaciòn | D34: =('3.5, 3.6 Personal'!M72+'3.5, 3.6 Personal'!M86+'3.5, 3.6 Personal'!M87)*3 -> 37133334
B35: 7.2 | C35: Camioneta actividades (compartida adopciones) | D35: ='6.1 - 7.1 Vehiculos '!C8 -> 32475000
A36: 5. Apoyar a ESAL y ONG que desarrollan actividades de bienestar animal | B36: 8 | C36: Apoyo a ESAL y ONG que desarrollan actividades de bienestar animal | D36: =SUM(D37) -> 45000000
B37: 8.1 | C37: Suministro de alimento a las organizaciones existentes enfocadas en el cuidado de Perros y gatos en Pereira | D37: ='8.1 Alimento Fundaciones'!G17 -> 45000000
A38: 6. COSTOS ADMINISTRATIVOS LEGALIZACION CONVENIO | B38: 9 | C38: Poliza cumplimiento y RCE como gasto administrativo del convenio | E38: =30303912 -> 30303912
C39: VALOR TOTAL | D39: =D36+D33+D25+D16+D8+D6+D3+D30 -> 2575600899 | E39: =E38+E15 -> 93668162 | F39: =SUM(D39:E39) -> 2669269061
C42: Valor total | D42: =D43+D44 -> 2669269061
C43: Aporte Ukumari | D43: =E39 -> 93668162
...

Sheet 2.1 Mobiliario de Servicios
A1: ITEM | B1: CANTIDAD | C1: PULCOR SAS | D1: METALICAS JGM | E1: HERRAJES Y DISEÑO | F1: Promedio
A2: JAULA X 3 ESTANDAR EN LAMINA CON PUERTA FALSA EN ACERO INOXIDABLE | B2: 4 | C2: =39642637 -> 39642637 | D2: =35600000*1.19 -> 42364000 | E2: =36400000*1.19 -> 43316000 | F2: =AVERAGE(C2:E2) -> 41774212
A3: JAULA x 9 EN LAMINA EN ACERO INOXIDABLE | B3: 2 | C3: 52070713 | D3: =46500000*1.19 -> 55335000 | E3: =50460000*1.19 -> 60047400 | F3: =(C3+D3+E3)/3 -> 55817704
A4: TRANSPORTE/FLETE | B4: 1 | C4: 4165000 | D4: =4500000*1.19 -> 5355000 | E4: =4180000*1.19 -> 4974200 | F4: =(C4+D4+E4)/3 -> 4831400
A5: Total | B5: =SUM(B2:B4) -> 7 | C5: =SUM(C2:C4) -> 95878350 | D5: =SUM(D2:D4) -> 103054000 | E5: =SUM(E2:E4) -> 108337600 | F5: =AVERAGE(C5:E5) -> 1.0242332e+08
A9: Nota: Cotizaciones en carpeta cotizaciones 2.1 mobiliario de servicio

Sheet 3.1 Arrendamientos
A2: Item | B2: Valor Mes | C2: 3 meses 2025
A3: Sede Administrativa | B3: =6400000 -> 6400000 | C3: =B3*3 -> 19200000
A4: Sede Segundo Nivel | B4: =6400000 -> 6400000 | C4: =B4*3 -> 19200000
A5: Total | B5: =SUM(B3:B4) -> 12800000 | C5: =SUM(C3:C4) -> 38400000
A8: observacion
A9: existen 2 certificados, en la carpeta denominada arriendos

Sheet 3.2 Servicios Públicos 
B1: Mensual | E1: 2025
A2: Item | B2: Energia | C2: Agua | D2: Recolecccion de Residuos | E2: 3 meses Energia | F2: 3 Meses Agua | G2: 3 Meses Recoleccion
A3: Sede Administrativa | B3: 600000 | C3: 400000 | D3: N/A | E3: =B3*3 -> 1800000 | F3: =C3*3 -> 1200000 | G3: =D3 -> N/A
A4: Sede Maraya | B4: 3500000 | C4: 739280 | D4: 1550000 | E4: =B4*3 -> 10500000 | F4: =C4*3 -> 2217840 | G4: =D4*3 -> 4650000
A5: Villa Santana | B5: N/A | C5: N/A | D5: 100000 | F5: N/A | G5: =D5*3 -> 300000
A6: 2500 Lotes | B6: N/A | C6: N/A | D6: 100000 | F6: N/A | G6: =D6*3 -> 300000
A7: Total | B7: =SUM(B3:B6) -> 4100000 | C7: =SUM(C3:C6) -> 1139280 | D7: =SUM(D3:D6) -> 1750000 | E7: =SUM(E3:E6) -> 12300000 | F7: =SUM(F3:F6) -> 3417840 | G7: =SUM(G3:G6) -> 5250000
F10: 2025
A11: Nota 1 : N/A es por lo que estan en inmuebles del municipio | F11: Energia | G11: =E7 -> 12300000
A12: Nota 2: La recolecciòn de residuos se estima por los valores historicos, se anexa precios de recolecciòn de residuos. adiconal a lo anterior se tiene en cuenta contigencia que se pueden presentar en los centro de atencion primaria por fallecimiento de paciente. | F12: Agua | G12: =F7 -> 3417840
A13: Nota 3: La proyeccion del ague se tieneel cuenta la consumo de 16 perosnas del area administrativa duran 8 horas diarias el promedio de consumo y el estrato sociecononico del bien el cual es estrato 5 | F13: Recoleccion residuos | G13: =G7 -> 5250000
G16: Total | H16: =G11+G12+G13 -> 20967840

Sheet 3.3 Internet
A2: Item | B2: Mensual | C2: 3 meses
A3: Internet Hospital | B3: =188870+189144 -> 378014 | C3: =B3*3 -> 1134042
A4: Sede Administrativa | B4: 189144 | C4: =B4*3 -> 567432
C5: =SUM(C3:C4) -> 1701474
A8: Nota 1:
A9: En la sede Hospital Maraya se contrataron 2 servicios de internet para garantizar la conectividad en la operación de càmaras, acceso a HC las cuales se encuentran en la nube
A10: Nota 2:
A11: Este valor se estima de acuerdo al valor que ya se tiene contratado en la sede del Hospital, para la sede administrativa solo se requiere un servicio

Sheet 3.4 Control de Plagas
A2: Items | B2: Fumigadora del Control de Plagas | C2: Fumitec | D2: Fumigaciones Virginia | E2: Plamera Junior | F2: Promedio
A3: Mensual | B3: 2700000 | C3: 2300000 | D3: 3000000 | E3: 720000 | F3: =(E3+D3+C3+B3)/4 -> 2180000 | H3: Nota1: donde no se desagrega el iva la cotizacion la tiene incluida en el valor
A4: Iva | B4: incluido | C4: incluido | D4: incluido | E4: =E3*0.19 -> 136800 | F4: N/A
A5: Total | B5: =B3 -> 2700000 | C5: =C3 -> 2300000 | D5: =D3 -> 3000000 | E5: =E3+E4 -> 856800 | F5: =AVERAGE(B5:E5) -> 2214200
A6: 3 Meses | B6: =B5*3 -> 8100000 | C6: =C5*3 -> 6900000 | D6: =D5*3 -> 9000000 | E6: =E5*3 -> 2570400 | F6: =(E6+D6+C6+B6)/4 -> 6642600

Sheet 3.5, 3.6 Personal
A1: Modalidad | B1: Descripcion | C1: Salario/ Honorarios | D1: Auxilio de transporte | E1: prima | F1: cesantias | G1: intereses de Cesantìas | H1: Vacaciones | I1: ARL | J1: Pension | K1: Salud | L1: Carga prestacional | M1: Total Costo 2025
A2: Prestacion | B2: Coordinador | C2: 12500000 | D2: 0 | L2: N/A PS | M2: =SUM(C2:L2) -> 12500000 | N2: 1
A3: Prestacion | B3: Juridico | C3: 8500000 | D3: 0 | L3: N/A PS | M3: =SUM(C3:L3) -> 8500000 | N3: 2 | P3: valor mensual | Q3: 3 meses
A4: Prestacion | B4: Diseñador | C4: 3800000 | D4: 0 | L4: N/A PS | M4: 3800000 | N4: 3 | P4: =SUM(M2:M13) -> 60200000 | Q4: =P4*3 -> 180600000
A5: Prestacion | B5: Comunicaciones | C5: 5000000 | D5: 0 | L5: N/A PS | M5: =C5 -> 5000000 | N5: 4
A6: Prestacion | B6: Audioviovisual | C6: 3800000 | D6: 0 | L6: N/A PS | M6: =C6 -> 3800000 | N6: 5
A7: Prestacion | B7: Sistemas | C7: 3800000 | D7: 0 | L7: N/A PS | M7: =SUM(C7:L7) -> 3800000 | N7: 6
A8: Prestacion | B8: Medico Veterinario 1 apoyo esterilizaciones | C8: 3800000 | D8: 0 | L8: N/A PS | M8: =SUM(C8:L8) -> 3800000 | N8: 7
A9: Prestacion | B9: Medico Veterinario 2 apoyo esterilizaciones | C9: 3800000 | D9: 0 | L9: N/A PS | M9: =SUM(C9:L9) -> 3800000 | N9: 8
A10: Prestacion | B10: Medico Veterinario 3 apoyo esterilizaciones | C10: 3800000 | D10: 0 | L10: N/A PS | M10: =SUM(C10:L10) -> 3800000 | N10: 9
A11: Prestacion | B11: Medico Veterinario 4 apoyo esterilizaciones | C11: 3800000 | D11: 0 | L11: N/A PS | M11: =SUM(C11:L11) -> 3800000 | N11: 10
A12: Prestacion | B12: Medico Veterinario 5 (apoyo esterilizaciones) | C12: 3800000 | D12: 0 | L12: N/A PS | M12: =SUM(C12:L12) -> 3800000 | N12: 11
A13: Prestacion | B13: Profesional Ambiental | C13: 3800000 | D13: 0 | L13: N/A PS | M13: =SUM(C13:L13) -> 3800000 | N13: 12
A14: Temporal | B14: Directora Medica | C14: 4300000 | D14: 0 | E14: =+((C14+D14)*30)/360 -> 358333.33 | F14: =+((C14+D14)*30)/360 -> 358333.33 | G14: =+F14*0.12 -> 43000 | H14: =+(C14*30)/720 -> 179166.67 | I14: =+C14*2.436% -> 104748 | J14: =+(C14*12%) -> 516000 | K14: =+C14*8.5% -> 365500 | L14: =+SUM(D14:K14) -> 1925081.3 | M14: =+C14+L14 -> 6225081.3 | N14: 1
A15: Temporal | B15: Medico Veterinario Ciujano 1 | C15: 4000000 | D15: 0 | E15: =+((C15+D15)*30)/360 -> 333333.33 | F15: =+((C15+D15)*30)/360 -> 333333.33 | G15: =+F15*0.12 -> 40000 | H15: =+(C15*30)/720 -> 166666.67 | I15: =+C15*2.436% -> 97440 | J15: =+(C15*12%) -> 480000 | K15: =+C15*8.5% -> 340000 | L15: =+SUM(D15:K15) -> 1790773.3 | M15: =+C15+L15 -> 5790773.3 | N15: 2 | P15: nota
A16: Temporal | B16: Medico Veterinario cirujano 2 | C16: 4000000 | D16: 0 | E16: =+((C16+D16)*30)/360 -> 333333.33 | F16: =+((C16+D16)*30)/360 -> 333333.33 | G16: =+F16*0.12 -> 40000 | H16: =+(C16*30)/720 -> 166666.67 | I16: =+C16*2.436% -> 97440 | J16: =+(C16*12%) -> 480000 | K16: =+C16*8.5% -> 340000 | L16: =+SUM(D16:K16) -> 1790773.3 | M16: =+C16+L16 -> 5790773.3 | N16: 3 | P16: 1. teniendo en cuenta que el contrato es por 3 meses la dotacion se da 1 vez por los 3 meses, en segunda medida, la dotacion se le da a los colaboradores que su ingreso es inferior a 2 SMLMV
A17: Temporal | B17: Medico Veterinario cirujano 3 | C17: 4000000 | D17: 0 | E17: =+((C17+D17)*30)/360 -> 333333.33 | F17: =+((C17+D17)*30)/360 -> 333333.33 | G17: =+F17*0.12 -> 40000 | H17: =+(C17*30)/720 -> 166666.67 | I17: =+C17*2.436% -> 97440 | J17: =+(C17*12%) -> 480000 | K17: =+C17*8.5% -> 340000 | L17: =+SUM(D17:K17) -> 1790773.3 | M17: =+C17+L17 -> 5790773.3 | N17: 4 | P17: 2. se tomaron en cuenta los colaboradores que ganan menos de 2SMLMV en total 42, y se calcula sobre el 5% del salario devengado
A18: Temporal | B18: Medico Veterinario cirujano 4 | C18: 4000000 | D18: 0 | E18: =+((C18+D18)*30)/360 -> 333333.33 | F18: =+((C18+D18)*30)/360 -> 333333.33 | G18: =+F18*0.12 -> 40000 | H18: =+(C18*30)/720 -> 166666.67 | I18: =+C18*2.436% -> 97440 | J18: =+(C18*12%) -> 480000 | K18: =+C18*8.5% -> 340000 | L18: =+SUM(D18:K18) -> 1790773.3 | M18: =+C18+L18 -> 5790773.3 | N18: 5 | P18: 3. se desagrega la tabla con carga prestacional por cada uno de sus items
A19: Temporal | B19: Medico Veterinario 1 maraya | C19: 2850000 | D19: 0 | E19: =+((C19+D19)*30)/360 -> 237500 | F19: =+((C19+D19)*30)/360 -> 237500 | G19: =+F19*0.12 -> 28500 | H19: =+(C19*30)/720 -> 118750 | I19: =+C19*2.436% -> 69426 | J19: =+(C19*12%) -> 342000 | K19: =+C19*8.5% -> 242250 | L19: =+SUM(D19:K19) -> 1275926 | M19: =+C19+L19 -> 4125926 | N19: 6 | P19: 4 el Càlculo se realiza teniendo en cuenta el personal que los domignos y festivos està prestando el servicio, equivale entre el 8% y el 10% del pesonal contratado por la termporal teniendo en cuenta los historicos de proyecto
A20: Temporal | B20: Medico Veterinario 2 maraya | C20: 2850000 | D20: 0 | E20: =+((C20+D20)*30)/360 -> 237500 | F20: =+((C20+D20)*30)/360 -> 237500 | G20: =+F20*0.12 -> 28500 | H20: =+(C20*30)/720 -> 118750 | I20: =+C20*2.436% -> 69426 | J20: =+(C20*12%) -> 342000 | K20: =+C20*8.5% -> 242250 | L20: =+SUM(D20:K20) -> 1275926 | M20: =+C20+L20 -> 4125926 | N20: 7 | P20: 5. Sanexan facturas de convenio 7114 de 2024 las cuaLes se tuvieron de soporte para calcular los domincales y festivos.
A21: Temporal | B21: Medico Veterinario 3 maraya | C21: 2850000 | D21: 0 | E21: =+((C21+D21)*30)/360 -> 237500 | F21: =+((C21+D21)*30)/360 -> 237500 | G21: =+F21*0.12 -> 28500 | H21: =+(C21*30)/720 -> 118750 | I21: =+C21*2.436% -> 69426 | J21: =+(C21*12%) -> 342000 | K21: =+C21*8.5% -> 242250 | L21: =+SUM(D21:K21) -> 1275926 | M21: =+C21+L21 -> 4125926 | N21: 8
A22: Temporal | B22: Medico Veterinario 4 maraya | C22: 2850000 | D22: 0 | E22: =+((C22+D22)*30)/360 -> 237500 | F22: =+((C22+D22)*30)/360 -> 237500 | G22: =+F22*0.12 -> 28500 | H22: =+(C22*30)/720 -> 118750 | I22: =+C22*2.436% -> 69426 | J22: =+(C22*12%) -> 342000 | K22: =+C22*8.5% -> 242250 | L22: =+SUM(D22:K22) -> 1275926 | M22: =+C22+L22 -> 4125926 | N22: 9 | Q22: Item | R22: 1 | S22: 2
A23: Temporal | B23: Medico Veterinario 5 maraya | C23: 2850000 | D23: 0 | E23: =+((C23+D23)*30)/360 -> 237500 | F23: =+((C23+D23)*30)/360 -> 237500 | G23: =+F23*0.12 -> 28500 | H23: =+(C23*30)/720 -> 118750 | I23: =+C23*2.436% -> 69426 | J23: =+(C23*12%) -> 342000 | K23: =+C23*8.5% -> 242250 | L23: =+SUM(D23:K23) -> 1275926 | M23: =+C23+L23 -> 4125926 | N23: 10 | Q23: Salario Minimo 2025 | R23: 1423500 | S23: =R23*2 -> 2847000
A24: Temporal | B24: Medico Veterinario 6 maraya | C24: 2850000 | D24: 0 | E24: =+((C24+D24)*30)/360 -> 237500 | F24: =+((C24+D24)*30)/360 -> 237500 | G24: =+F24*0.12 -> 28500 | H24: =+(C24*30)/720 -> 118750 | I24: =+C24*2.436% -> 69426 | J24: =+(C24*12%) -> 342000 | K24: =+C24*8.5% -> 242250 | L24: =+SUM(D24:K24) -> 1275926 | M24: =+C24+L24 -> 4125926 | N24: 11 | Q24: Auxilio de transporte | R24: 200000 | S24: 200000
A25: Temporal | B25: Medico Veterinario 7 maraya | C25: 2850000 | D25: 0 | E25: =+((C25+D25)*30)/360 -> 237500 | F25: =+((C25+D25)*30)/360 -> 237500 | G25: =+F25*0.12 -> 28500 | H25: =+(C25*30)/720 -> 118750 | I25: =+C25*2.436% -> 69426 | J25: =+(C25*12%) -> 342000 | K25: =+C25*8.5% -> 242250 | L25: =+SUM(D25:K25) -> 1275926 | M25: =+C25+L25 -> 4125926 | N25: 12
A26: Temporal | B26: Medico Veterinario 8 maraya | C26: 2850000 | D26: 0 | E26: =+((C26+D26)*30)/360 -> 237500 | F26: =+((C26+D26)*30)/360 -> 237500 | G26: =+F26*0.12 -> 28500 | H26: =+(C26*30)/720 -> 118750 | I26: =+C26*2.436% -> 69426 | J26: =+(C26*12%) -> 342000 | K26: =+C26*8.5% -> 242250 | L26: =+SUM(D26:K26) -> 1275926 | M26: =+C26+L26 -> 4125926 | N26: 13
A27: Temporal | B27: Medico Veterinario 9 Maraya | C27: 2850000 | D27: 0 | E27: =+((C27+D27)*30)/360 -> 237500 | F27: =+((C27+D27)*30)/360 -> 237500 | G27: =+F27*0.12 -> 28500 | H27: =+(C27*30)/720 -> 118750 | I27: =+C27*2.436% -> 69426 | J27: =+(C27*12%) -> 342000 | K27: =+C27*8.5% -> 242250 | L27: =+SUM(D27:K27) -> 1275926 | M27: =+C27+L27 -> 4125926 | N27: 14
A28: Temporal | B28: Medico Veterinario 10 villa Santana | C28: 2850000 | D28: 0 | E28: =+((C28+D28)*30)/360 -> 237500 | F28: =+((C28+D28)*30)/360 -> 237500 | G28: =+F28*0.12 -> 28500 | H28: =+(C28*30)/720 -> 118750 | I28: =+C28*2.436% -> 69426 | J28: =+(C28*12%) -> 342000 | K28: =+C28*8.5% -> 242250 | L28: =+SUM(D28:K28) -> 1275926 | M28: =+C28+L28 -> 4125926 | N28: 15
A29: Temporal | B29: Medico Veterinario 11 villa Santana | C29: 2850000 | D29: 0 | E29: =+((C29+D29)*30)/360 -> 237500 | F29: =+((C29+D29)*30)/360 -> 237500 | G29: =+F29*0.12 -> 28500 | H29: =+(C29*30)/720 -> 118750 | I29: =+C29*2.436% -> 69426 | J29: =+(C29*12%) -> 342000 | K29: =+C29*8.5% -> 242250 | L29: =+SUM(D29:K29) -> 1275926 | M29: =+C29+L29 -> 4125926 | N29: 16
A30: Temporal | B30: Medico Veterinario 12 2500 lotes | C30: 2850000 | D30: 0 | E30: =+((C30+D30)*30)/360 -> 237500 | F30: =+((C30+D30)*30)/360 -> 237500 | G30: =+F30*0.12 -> 28500 | H30: =+(C30*30)/720 -> 118750 | I30: =+C30*2.436% -> 69426 | J30: =+(C30*12%) -> 342000 | K30: =+C30*8.5% -> 242250 | L30: =+SUM(D30:K30) -> 1275926 | M30: =+C30+L30 -> 4125926 | N30: 17
A31: Temporal | B31: Medico Veterinario 13 2500 lotes | C31: 2850000 | D31: 0 | E31: =+((C31+D31)*30)/360 -> 237500 | F31: =+((C31+D31)*30)/360 -> 237500 | G31: =+F31*0.12 -> 28500 | H31: =+(C31*30)/720 -> 118750 | I31: =+C31*2.436% -> 69426 | J31: =+(C31*12%) -> 342000 | K31: =+C31*8.5% -> 242250 | L31: =+SUM(D31:K31) -> 1275926 | M31: =+C31+L31 -> 4125926 | N31: 18
A32: Temporal | B32: Medico Veterinario 14 Maraya | C32: 2850000 | D32: 0 | E32: =+((C32+D32)*30)/360 -> 237500 | F32: =+((C32+D32)*30)/360 -> 237500 | G32: =+F32*0.12 -> 28500 | H32: =+(C32*30)/720 -> 118750 | I32: =+C32*2.436% -> 69426 | J32: =+(C32*12%) -> 342000 | K32: =+C32*8.5% -> 242250 | L32: =+SUM(D32:K32) -> 1275926 | M32: =+C32+L32 -> 4125926 | N32: 19
A33: Temporal | B33: Medico Veterinario 15 Maraya | C33: 2850000 | D33: 0 | E33: =+((C33+D33)*30)/360 -> 237500 | F33: =+((C33+D33)*30)/360 -> 237500 | G33: =+F33*0.12 -> 28500 | H33: =+(C33*30)/720 -> 118750 | I33: =+C33*2.436% -> 69426 | J33: =+(C33*12%) -> 342000 | K33: =+C33*8.5% -> 242250 | L33: =+SUM(D33:K33) -> 1275926 | M33: =+C33+L33 -> 4125926 | N33: 20
A34: Temporal | B34: Medico Veterinario 17 (Nocturno) | C34: =2900000*1.35 -> 3915000 | D34: 0 | E34: =+((C34+D34)*30)/360 -> 326250 | F34: =+((C34+D34)*30)/360 -> 326250 | G34: =+F34*0.12 -> 39150 | H34: =+(C34*30)/720 -> 163125 | I34: =+C34*2.436% -> 95369.4 | J34: =+(C34*12%) -> 469800 | K34: =+C34*8.5% -> 332775 | L34: =+SUM(D34:K34) -> 1752719.4 | M34: =+C34+L34 -> 5667719.4 | N34: 23
A35: Temporal | B35: Medico Veterinario 18 (Nocturno) | C35: =2900000*1.35 -> 3915000 | D35: 0 | E35: =+((C35+D35)*30)/360 -> 326250 | F35: =+((C35+D35)*30)/360 -> 326250 | G35: =+F35*0.12 -> 39150 | H35: =+(C35*30)/720 -> 163125 | I35: =+C35*2.436% -> 95369.4 | J35: =+(C35*12%) -> 469800 | K35: =+C35*8.5% -> 332775 | L35: =+SUM(D35:K35) -> 1752719.4 | M35: =+C35+L35 -> 5667719.4 | N35: 24
A36: Temporal | B36: Medico Veterinario 19 (Nocturno) | C36: =2900000*1.35 -> 3915000 | D36: 0 | E36: =+((C36+D36)*30)/360 -> 326250 | F36: =+((C36+D36)*30)/360 -> 326250 | G36: =+F36*0.12 -> 39150 | H36: =+(C36*30)/720 -> 163125 | I36: =+C36*2.436% -> 95369.4 | J36: =+(C36*12%) -> 469800 | K36: =+C36*8.5% -> 332775 | L36: =+SUM(D36:K36) -> 1752719.4 | M36: =+C36+L36 -> 5667719.4 | N36: 25
A37: Temporal | B37: Medico Veterinario 20 (Nocturno) | C37: =2900000*1.35 -> 3915000 | D37: 0 | E37: =+((C37+D37)*30)/360 -> 326250 | F37: =+((C37+D37)*30)/360 -> 326250 | G37: =+F37*0.12 -> 39150 | H37: =+(C37*30)/720 -> 163125 | I37: =+C37*2.436% -> 95369.4 | J37: =+(C37*12%) -> 469800 | K37: =+C37*8.5% -> 332775 | L37: =+SUM(D37:K37) -> 1752719.4 | M37: =+C37+L37 -> 5667719.4 | N37: 26
A38: Temporal | B38: Auxiliar Veterinario 1 villa Santana | C38: 1700000 | D38: 200000 | E38: =+((C38+D38)*30)/360 -> 158333.33 | F38: =+((C38+D38)*30)/360 -> 158333.33 | G38: =+F38*0.12 -> 19000 | H38: =+(C38*30)/720 -> 70833.333 | I38: =+C38*2.436% -> 41412 | J38: =+(C38*12%) -> 204000 | K38: =+C38*8.5% -> 144500 | L38: =+SUM(D38:K38) -> 996412 | M38: =+C38+L38 -> 2696412 | N38: 27
A39: Temporal | B39: Auxiliar Veterinario 2 2500 lotes | C39: 1700000 | D39: 200000 | E39: =+((C39+D39)*30)/360 -> 158333.33 | F39: =+((C39+D39)*30)/360 -> 158333.33 | G39: =+F39*0.12 -> 19000 | H39: =+(C39*30)/720 -> 70833.333 | I39: =+C39*2.436% -> 41412 | J39: =+(C39*12%) -> 204000 | K39: =+C39*8.5% -> 144500 | L39: =+SUM(D39:K39) -> 996412 | M39: =+C39+L39 -> 2696412 | N39: 28
A40: Temporal | B40: Auxiliar Veterinario 3 maraya | C40: 1700000 | D40: 200000 | E40: =+((C40+D40)*30)/360 -> 158333.33 | F40: =+((C40+D40)*30)/360 -> 158333.33 | G40: =+F40*0.12 -> 19000 | H40: =+(C40*30)/720 -> 70833.333 | I40: =+C40*2.436% -> 41412 | J40: =+(C40*12%) -> 204000 | K40: =+C40*8.5% -> 144500 | L40: =+SUM(D40:K40) -> 996412 | M40: =+C40+L40 -> 2696412 | N40: 29
...

Sheet 3.7 Unidad Movil Veterinaria
A2: Descripción | B2: Mes | C2: 3 meses
A3: Unidad Movil | B3: =J7 -> 21121417 | C3: =B3*3 -> 63364250
A4: Unidad Movil Conv.2730 | B4: 20000000
F5: Indexacion
F6: 45809 | G6: 45748 | H6: valor | I6: precios 2024
F7: 150.3 | G7: 142.32 | H7: =F7/G7 -> 1.0560708 | I7: 20000000 | J7: =I7*H7 -> 21121417
A8: Items | B8: Valor
A9: SOAT, Seguros, Tecnico Mecanica, Permisos | B9: 12000000 | H9: VALOR 2024 | I9: VALOR INDEXADO
A10: Combustible | B10: 4000000 | H10: 20000000 | I10: 21121417
A11: Mantenimiento | B11: 5121417
A12: Total | B12: =SUM(B9:B11) -> 21121417
A15: Nota 1: la unidad movil presta los siguiente servicios: una sala de cirugia con dos mesas, esta esta habilitada por secretaria de salud municipal, area de preparacion luz aire acondicionado, tomas de luz
A16: Nota 2: este valor corresponde al calculo realizado por operación mes de la unidad movil según precios unitarios tenidos en cuenta convenio 2730 más consumo histórico más incremento IPC

Sheet 4.4 Insumos de Laboratorio
A1: Item | B1: DESCRIPCION | D1: Cant. | E1: Inversiones Rodriguez Castañeda | F1: Euro Lab | G1: International Vet | H1: Promedio
A2: 1 | B2: PAPEL TÉRMICO | D2: 1 | E2: 36900 | F2: 40000 | G2: 39900 | H2: =AVERAGE(E2:G2) -> 38933.333
A3: 2 | B3: LIMPIADOR DE SONDA EDAN | D3: 1 | E3: 86400 | F3: 95000 | G3: 100000 | H3: =AVERAGE(E3:G3) -> 93800
A4: 3 | B4: PUNTAS AZULES | D4: 1 | E4: 98200 | F4: 105000 | G4: 102000 | H4: =AVERAGE(E4:G4) -> 101733.33
A5: 4 | B5: PUNTAS AMARILLAS | D5: 1 | E5: 98200 | F5: 105000 | G5: 102000 | H5: =AVERAGE(E5:G5) -> 101733.33
A6: 5 | B6: TUBOS EPENDORF | D6: 1 | E6: 98200 | F6: 105000 | G6: 102000 | H6: =AVERAGE(E6:G6) -> 101733.33
A7: 6 | B7: TEST PARVOVIRUS | D7: 1 | E7: 155550 | F7: 201200 | G7: 201000 | H7: =AVERAGE(E7:G7) -> 185916.67
A8: 7 | B8: TEST DISTEMPER | D8: 1 | E8: 179230 | F8: 230000 | G8: 231000 | H8: =AVERAGE(E8:G8) -> 213410
A9: 8 | B9: TEST ERLICHIA | D9: 1 | E9: 259000 | F9: 302000 | G9: 331000 | H9: =AVERAGE(E9:G9) -> 297333.33
A10: 9 | B10: TEST LEUCEMIA Y SIDA | D10: 1 | E10: 248000 | F10: 367999 | G10: 290000 | H10: =AVERAGE(E10:G10) -> 301999.67
A11: 10 | B11: TEST PARVO CORONA GIARDIA | D11: 1 | E11: 400000 | F11: 520000 | G11: 489000 | H11: =AVERAGE(E11:G11) -> 469666.67
A12: 11 | B12: REPUESTO CENTRIFUGA3002 | D12: 1 | E12: 723700 | F12: 845000 | G12: 1000000 | H12: =AVERAGE(E12:G12) -> 856233.33
A13: 12 | B13: COLESTEROL 2x50 ML | D13: 1 | E13: 193890 | F13: 239990 | G13: 234000 | H13: =AVERAGE(E13:G13) -> 222626.67
... A17: 16 | B17: TIRAS DE MEDICION DE GLUCOMETRIA | D17: 1 | E17: 53000 | F17: 67900 | G17: 54000 | H17: =AVERAGE(E17:G17) -> 58300
A18: 17 | B18: REPUESTO MAQUINA ANDIS | D18: 1 | F18: 2500000 | G18: 2300000 | H18: =AVERAGE(F18:G18) -> 2400000
A19: 18 | B19: ALBUMINA 4 X 100 | D19: 1 | E19: 123012 | F19: 133000 | G19: 155000 | H19: =AVERAGE(E19:G19) -> 137004
A20: 19 | B20: REPUESTO PIPETA | D20: 1 | E20: 594000 | F20: 678900 | G20: 670000 | H20: =AVERAGE(E20:G20) -> 647633.33
A21: 20 | B21: ALT/GPT 3x100ML | D21: 1 | E21: 336860 | F21: 456000 | G21: 450000 | H21: =AVERAGE(E21:G21) -> 414286.67
A22: 21 | B22: AST/GOT 3*100Ml | D22: 1 | E22: 292680 | F22: 567000 | G22: 340000 | H22: =AVERAGE(E22:G22) -> 399893.33
A23: 22 | B23: CREATININA 4x100ml | D23: 1 | E23: 136790 | F23: 564000 | G23: 156000 | H23: =AVERAGE(E23:G23) -> 285596.67
A24: 23 | B24: FOSFATASA ALCALINA 2x50ml | D24: 1 | E24: 142999 | F24: 234000 | G24: 154000 | H24: =AVERAGE(E24:G24) -> 176999.67
A25: 24 | B25: GGT 2x50ml | D25: 1 | E25: 204984 | F25: 245000 | G25: 267000 | H25: =AVERAGE(E25:G25) -> 238994.67
A26: 25 | B26: GLUCOSA 2x50ml | D26: 1 | E26: 119235 | F26: 156000 | G26: 230000 | H26: =AVERAGE(E26:G26) -> 168411.67
A27: 26 | B27: UREA 3x100ml | D27: 1 | E27: 375740 | F27: 420000 | G27: 456000 | H27: =AVERAGE(E27:G27) -> 417246.67
A28: 27 | B28: CONTROL NORMAL | D28: 1 | E28: 186000 | F28: 215000 | G28: 240000 | H28: =AVERAGE(E28:G28) -> 213666.67
A29: 28 | B29: CONTROL ANORMAL | D29: 1 | E29: 186000 | F29: 215000 | G29: 240000 | H29: =AVERAGE(E29:G29) -> 213666.67
A30: 29 | B30: MULTICALIBRADOR | D30: 1 | E30: 359748 | F30: 400000 | G30: 420000 | H30: =AVERAGE(E30:G30) -> 393249.33
... A32: 31 | B32: LÍTICO 200ml | D32: 1 | E32: 595000 | F32: 700000 | G32: 678000 | H32: =AVERAGE(E32:G32) -> 657666.67
C33: Total | E33: =SUM(E2:E32) -> 7599600 | H33: =SUM(H2:H32) -> 11317829
E35: Bolsa Agotable
E36: 3 Meses | F36: 100000000
E37: Mes | F37: =F36/3 -> 33333333

Sheet 4.1 4.2 INSUMOS - Medicamentos
A1: DESCRIPCIÓN | D1: SGS | G1: WMS | J1: DCOLFARMA | M1: Promedio
A2: ITEM | B2: DESCRIPCIÓN MEDICAMENTO | C2: PRESENTACIÓN | D2: PRECIO UNIDAD ANTES DE IVA | E2: IVA | F2: PRECIO UNIDAD IVA INCLUIDO | G2: PRECIO UNIDAD ANTES DE IVA | H2: IVA | I2: PRECIO UNIDAD IVA INCLUIDO | J2: PRECIO UNIDAD ANTES DE IVA | K2: IVA | L2: PRECIO UNIDAD IVA INCLUIDO
A3: 1 | B3: ACEITE CRISTAL X 500 ML | C3: BOTELLAX500ML | D3: 10223 | E3: 0.19 | F3: 12165.37 | G3: 11143 | H3: 0.19 | I3: 13260.17 | J3: 11812 | K3: 0.19 | L3: 14056.28 | M3: =AVERAGE(L3,I3,F3) -> 13160.607
A4: 2 | B4: AGUA ESTERIL X 500ML | C4: FCOX500ML | D4: 6182 | E4: 0 | F4: 6182 | G4: 6738 | H4: 0 | I4: 6738 | J4: 7142 | K4: 0 | L4: 7142 | M4: =AVERAGE(L4,I4,F4) -> 6687.3333
A5: 3 | B5: AGUA OXIGENADA X 3500 | C5: GARRAFA | D5: 65789 | E5: 0 | F5: 65789 | G5: 71710 | H5: 0 | I5: 71710 | J5: 76013 | K5: 0 | L5: 76013 | M5: =AVERAGE(L5,I5,F5) -> 71170.667
A6: 4 | B6: AGUJA HIPODERMICA 16G 1 1/2 CAJA X 100 | C6: CAJAX100 | D6: 116 | E6: 0.19 | F6: 138.04 | G6: 126 | H6: 0.19 | I6: 149.94 | J6: 134 | K6: 0.19 | L6: 159.46 | M6: =AVERAGE(L6,I6,F6) -> 149.14667
A7: 5 | B7: AGUJA HIPODERMICA 18G 1 1/2 CAJA X 100 | C7: CAJAX100 | D7: 127 | E7: 0.19 | F7: 151.13 | G7: 138 | H7: 0.19 | I7: 164.22 | J7: 146 | K7: 0.19 | L7: 173.74 | M7: =AVERAGE(L7,I7,F7) -> 163.03
A8: 6 | B8: AGUJA HIPODERMICA 21G 1 1/2 CAJA X 100 | C8: CAJAX100 | D8: 139 | E8: 0.19 | F8: 165.41 | G8: 152 | H8: 0.19 | I8: 180.88 | J8: 161 | K8: 0.19 | L8: 191.59 | M8: =AVERAGE(L8,I8,F8) -> 179.29333
A9: 7 | B9: AGUJA HIPODERMICA 21G X 1 CAJA X 100 | C9: CAJAX100 | D9: 112 | E9: 0.19 | F9: 133.28 | G9: 122 | H9: 0.19 | I9: 145.18 | J9: 129 | K9: 0.19 | L9: 153.51 | M9: =AVERAGE(L9,I9,F9) -> 143.99
A10: 8 | B10: AGUJA HIPODERMICA 23G X 1 CAJA X 100 | C10: CAJAX100 | D10: 109 | E10: 0.19 | F10: 129.71 | G10: 119 | H10: 0.19 | I10: 141.61 | J10: 126 | K10: 0.19 | L10: 149.94 | M10: =AVERAGE(L10,I10,F10) -> 140.42
A11: 9 | B11: AGUJA HIPODERMICA 27G X 1 CAJA X 101 | C11: CAJAX100 | D11: 118 | E11: 0.19 | F11: 140.42 | G11: 129 | H11: 0.19 | I11: 153.51 | J11: 137 | K11: 0.19 | L11: 163.03 | M11: =AVERAGE(L11,I11,F11) -> 152.32
A12: 10 | B12: ALAMBRE QUIRUGICO 0.7 X 4 MTS | C12: UNIDAD | D12: 79545 | E12: 0.19 | F12: 94658.55 | G12: 86704 | H12: 0.19 | I12: 103177.76 | J12: 91906 | K12: 0.19 | L12: 109368.14 | M12: =AVERAGE(L12,I12,F12) -> 102401.48
A13: 11 | B13: ALCOHOL ANTISEPTICO GARRAFA 3600 ML | C13: GARRAFA | D13: 55251 | E13: 0 | F13: 55251 | G13: 60224 | H13: 0 | I13: 60224 | J13: 63837 | K13: 0 | L13: 63837 | M13: =AVERAGE(L13,I13,F13) -> 59770.667
A14: 12 | B14: ALCOHOL ISOPROPILICO 96% | C14: GARRAFA | D14: 59893 | E14: 0.19 | F14: 71272.67 | G14: 65283 | H14: 0.19 | I14: 77686.77 | J14: 69200 | K14: 0.19 | L14: 82348 | M14: =AVERAGE(L14,I14,F14) -> 77102.48
... A326: 326 | B326: ADVOCATE HASTA 4 PERRO | C326: UNIDAD | D326: 73369 | E326: 0 | F326: 73369 | G326: 82173 | H326: 0 | I326: 82173 | J326: 87103 | K326: 0 | L326: 87103 | M326: =AVERAGE(L326,I326,F326) -> 80881.667
A328: Nota 1:
A329: Se anexa certificacion tecnica
H330: Bolsa Agotable
H331: Item | I331: Valor
H332: Insumos Medicos | I332: 94666667
H333: Medcamentos | I333: 260000000
H334: Total | I334: =SUM(I332:I333) -> 354666667

Sheet 4.3 Instrumental
B1: Item | C1: Unidad de medida | D1: Soluciones Ortopedicas | E1: Equipos Vet | F1: Promedio
A2: 1 | B2: MOSQUITO Pinza hemostática, curva, 12.5 cms. | C2: 1 | D2: 99831.93 | E2: 77434 | F2: =AVERAGE(D2:E2) -> 88632.965
A3: 2 | B3: MOSQUITO Pinza hemostática, recta, 12.5 cms. | C3: 1 | D3: 99831.93 | E3: 75473 | F3: =AVERAGE(D3:E3) -> 87652.465
A4: 3 | B4: KELLY Pinza hemostática, curva, 14.5 cms. | C4: 1 | D4: 102521.01 | E4: 85113 | F4: =AVERAGE(D4:E4) -> 93817.005
A5: 4 | B5: KELLY Pinza hemostática, recta, 14.5 cms. | C5: 1 | D5: 102521.01 | E5: 85113 | F5: =AVERAGE(D5:E5) -> 93817.005
A6: 5 | B6: PINZA ROCHESTER HEMOSTATICA CURVA 18 cm | C6: 1 | D6: 38319.33 | E6: 104879 | F6: =AVERAGE(D6:E6) -> 71599.165
A7: 6 | B7: PINZA ROCHESTER HEMOSTATICA RECTA 18 cm | C7: 1 | D7: 38319.33 | E7: 104879 | F7: =AVERAGE(D7:E7) -> 71599.165
A8: 7 | B8: GANCHO PARA UTERO 20 cms | C8: 1 | D8: 54369.75 | E8: 118803 | F8: =AVERAGE(D8:E8) -> 86586.375
A9: 8 | B9: PINZA PARA OVH 140 mm | C9: 1 | D9: 271428.57 | F9: =AVERAGE(D9:E9) -> 271428.57
A10: 9 | B10: METZENBAUM Tijera para tejidos, curva, 15 cms. | C10: 1 | D10: 120000 | E10: 100142 | F10: =AVERAGE(D10:E10) -> 110071
A11: 10 | B11: METZENBAUM Tijera para tejidos, curva, 18 cms. | C11: 1 | D11: 120756.3 | E11: 107103 | F11: =AVERAGE(D11:E11) -> 113929.65
A12: 11 | B12: METZENBAUM Tijera para tejidos, recta, 15 cms. | C12: 1 | D12: 120000 | E12: 98182 | F12: =AVERAGE(D12:E12) -> 109091
A13: 12 | B13: METZENBAUM Tijera para tejidos, recta, 18 cms. | C13: 1 | D13: 128571.43 | F13: =AVERAGE(D13:E13) -> 128571.43
A14: 13 | B14: MAYO Tijera para tejidos, curva, 14 cms. | C14: 1 | D14: 102352.94 | E14: 94424 | F14: =AVERAGE(D14:E14) -> 98388.47
A15: 14 | B15: MAYO Tijera para tejidos, curva, 17 cms. | C15: 1 | D15: 128991.6 | E15: 80840 | F15: =AVERAGE(D15:E15) -> 104915.8
A16: 15 | B16: MAYO Tijera para tejidos, recta, 14 cms. | C16: 1 | D16: 102352.94 | E16: 92627 | F16: =AVERAGE(D16:E16) -> 97489.97
A17: 16 | B17: MAYO Tijera para tejidos, recta, 17 cms. | C17: 1 | D17: 128991.6 | E17: 87124 | F17: =AVERAGE(D17:E17) -> 108057.8
A18: 17 | B18: ADSON Pinza de diseccion con garra, 12 cms. | C18: 1 | D18: 63697.48 | E18: 87233 | F18: =AVERAGE(D18:E18) -> 75465.24
A19: 18 | B19: ADSON Pinza de disección, sin garra, 12 cms. | C19: 1 | D19: 63697.48 | E19: 59036 | F19: =AVERAGE(D19:E19) -> 61366.74
A20: 19 | B20: MAYO-HEGAR Porta agujas, 12 cms. | C20: 1 | D20: 151008.4 | E20: 93184 | F20: =AVERAGE(D20:E20) -> 122096.2
A21: 20 | B21: MAYO-HEGAR Porta agujas, 14 cms. | C21: 1 | D21: 153277.31 | E21: 156000 | F21: =AVERAGE(D21:E21) -> 154638.65
A22: 21 | B22: MAYO-HEGAR Porta-agujas, 18 cms. | C22: 1 | D22: 173697.48 | E22: 188186 | F22: =AVERAGE(D22:E22) -> 180941.74
A23: 22 | B23: OLSEN-HEGAR Porta-agujas, con tijeras, 14 cms. T.C. | C23: 1 | D23: 546050.42 | E23: 473500 | F23: =AVERAGE(D23:E23) -> 509775.21
A24: 23 | B24: VIENA Espéculo nasal, modelo ligero | C24: 1 | D24: 195966.39 | F24: =AVERAGE(D24:E24) -> 195966.39
A25: 24 | B25: SEPARADOR FINOCHIETTO | C25: 1 | D25: 403361.34 | F25: =AVERAGE(D25:E25) -> 403361.34
A26: 25 | B26: SEPARADOR BALFOUR 9cm | C26: 1 | D26: 403361.34 | F26: =AVERAGE(D26:E26) -> 403361.34
A27: 26 | B27: ELEVADOR PERIODONTAL N°9MOLT | C27: 1 | D27: 47899.16 | F27: =AVERAGE(D27:E27) -> 47899.16
A28: 27 | B28: WITLANER Separador agudo, 18mm 3x4 garra 14 cms | C28: 1 | D28: 605882.35 | F28: =AVERAGE(D28:E28) -> 605882.35
A29: 28 | B29: LUCAE Martillo para traumatologia, 19.0 cms. 260 gr. | C29: 1 | D29: 347394.96 | F29: =AVERAGE(D29:E29) -> 347394.96
A30: 29 | B30: LUCAE Martillo para traumatologia, 19.0 cms. 230 gr | C30: 1 | D30: 332268.91 | F30: =AVERAGE(D30:E30) -> 332268.91
A31: 30 | B31: MINI-LAMBOTTE Cincel, 6 mm., 17 cms. | C31: 1 | D31: 171923.77 | F31: =AVERAGE(D31:E31) -> 171923.77
A32: 31 | B32: MINI-LAMBOTTE Cincel, 8 mm., 17 cms. | C32: 1 | D32: 171932.77 | F32: =AVERAGE(D32:E32) -> 171932.77
A33: 32 | B33: PASA HILO 1,2mm X 180mm | C33: 1 | D33: 177310.92 | F33: =AVERAGE(D33:E33) -> 177310.92
A34: 33 | B34: BERRY - Pinza para torcer hilo 18 CMS T.C. | C34: 1 | D34: 668067.23 | F34: =AVERAGE(D34:E34) -> 668067.23
A35: 34 | B35: Taladro Canulado Autoclabiable | C35: 1 | D35: 5714285.7 | F35: =AVERAGE(D35:E35) -> 5714285.7
... A41: 40 | B41: MEDIDOR DE PROFUNDIDAD | C41: 1 | D41: 442016.81 | F41: =AVERAGE(D41:E41) -> 442016.81
A42: 41 | B42: GELPI Separador abdominal, 11 cms. | C42: 1 | D42: 391932.77 | E42: 308400 | F42: =AVERAGE(D42:E42) -> 350166.39
A43: 42 | B43: HOMANN Elevador para huesos, 12 mm. 22 cms | C43: 1 | D43: 171932.77 | F43: =AVERAGE(D43:E43) -> 171932.77
A44: 43 | B44: PINZA ESPAÑOLA 150mm | C44: 2 | D44: 433361.34 | F44: =AVERAGE(D44:E44) -> 433361.34
A45: 44 | B45: PINZA FRONTAL PARA CORTAR CLAVOS 1.0mm a 2.5mm x 210mm | C45: 1 | D45: 568067.23 | F45: =AVERAGE(D45:E45) -> 568067.23
...

Sheet 4.5 Equipos Biomedicos 
A1: Item | B1: Descripcion | C1: Cantidad | D1: EURO LAB | E1: INVERSIONES RODRIGUEZ CASTAÑEDA | F1: INTERNACIONAL VET S.A.S. | G1: Promedio
A2: 1 | B2: Equipo de Hematologia | C2: 1 | D2: 35020000 | E2: 18900000 | F2: 25000000 | G2: =AVERAGE(D2:F2) -> 26306667
A3: 2 | B3: Equipo de Quimica Humeda | C3: 1 | D3: 55023000 | E3: 40000000 | F3: 60000000 | G3: =AVERAGE(D3:F3) -> 51674333
A4: 3 | B4: Bomba Infusion | C4: 9 | D4: =4100000*9 -> 36900000 | E4: 21411000 | F4: 32000000 | G4: =AVERAGE(D4:F4) -> 30103667
A5: 4 | B5: Bomba de Perfusion | C5: 1 | D5: 4100000 | E5: 2379000 | F5: 4000000 | G5: =AVERAGE(D5:F5) -> 3493000
A6: Total | D6: =SUM(D2:D5) -> 131043000 | E6: =SUM(E2:E5) -> 82690000 | F6: =SUM(F2:F5) -> 121000000 | G6: =SUM(G2:G5) -> 1.1157767e+08

Sheet 4.6 Tercer Nivel
A2: Numero de factura | B2: valor
A3: 4556 | B3: 57271530
A4: 4474 | B4: 23661800
A5: 4314 | B5: 40301190
A6: 4240 | B6: 24605110
A7: Total | B7: =SUM(B3:B6) -> 145839630
A8: Promedio | B8: =B7/4 -> 36459908 | D8: Anexo facturas carpeta 4.6 tercer nivel
A10: Nota: estos valores son dados por las facturas presentadas por la clinica de tercer nivel durante la vigencia del convenio 2730 de 2024
A12: Para el siguente contrato se proyecta una presupuesto de 30.000.000 mensuales de atencion de tercer nivel
B13: Valor Mensual | C13: Meses | D13: Total
B14: 30000000 | C14: 3 | D14: =B14*C14 -> 90000000

Sheet 5.6 Aseo y Cafeteria
A1: ITEM | B1: PRODUCTO | C1: UNIDAD | D1: RUBRO | E1: Marca Impresa Pereira | F1: TEDEX | G1: Promedio
A2: 1 | B2: CEPILLO PARA BAÑOS | C2: UNIDAD | D2: ASEO | E2: 7008 | F2: 7797 | G2: =AVERAGE(E2:F2) -> 7402.5
A3: 2 | B3: PORTARROLLO (DISPENSADORES DE PAPEL HIGINICO EN PASTA) | C3: UNIDAD | D3: ASEO | E3: 43355 | F3: 50830 | G3: =AVERAGE(E3:F3) -> 47092.5
A4: 3 | B4: BALDE CON EXPRIMIDOR Y PALANCA 35L | C4: UNIDAD | D4: ASEO | E4: 352993 | F4: 461860 | G4: =AVERAGE(E4:F4) -> 407426.5
A5: 4 | B5: AMBIENTADOR PARA BAÑO 1,000ml | C5: UNIDAD | D5: ASEO | E5: 6391 | F5: 7052 | G5: =AVERAGE(E5:F5) -> 6721.5
A6: 5 | B6: MEZCLADORES PARA CAFE | C6: PAQUETE | D6: CAFETERIA | E6: 7247 | F6: 7747 | G6: =AVERAGE(E6:F6) -> 7497
A7: 6 | B7: ACIDO ACETICO AL 35% | C7: GALON | D7: ASEO | E7: 62654 | F7: 73328 | G7: =AVERAGE(E7:F7) -> 67991
A8: 7 | B8: AMBIENTADOR x GALON 3,800 ml | C8: galon | D8: ASEO | E8: 15445 | F8: 18602 | G8: =AVERAGE(E8:F8) -> 17023.5 | I8: nota
A9: 8 | B9: AROMATICA 20GRS | C9: CAJA | D9: ASEO | E9: 3106 | F9: 3641 | G9: =AVERAGE(E9:F9) -> 3373.5 | I9: Incluido iva
A10: 9 | B10: ATOMIZADOR PLASTICO REDONDO CON PISTOLA x1.000 | C10: UNIDAD X 1LT | D10: ASEO | E10: 5548 | F10: 7397 | G10: =AVERAGE(E10:F10) -> 6472.5
A11: 10 | B11: ATOMIZADOR PLASTICO REDONDO CON PISTOLA x 500 | C11: UNIDAD X 1LT | D11: ASEO | E11: 3249 | F11: 5415 | G11: =AVERAGE(E11:F11) -> 4332
A12: 11 | B12: AZUCAR | C12: PQT X 200 SOBRES | D12: CAFETERIA | E12: 9996 | F12: 11781 | G12: =AVERAGE(E12:F12) -> 10888.5
A13: 12 | B13: AZUCAR KILO | C13: KILO | D13: CAFETERIA | E13: 9072 | F13: 8959 | G13: =AVERAGE(E13:F13) -> 9015.5
A14: 13 | B14: BALDE PLASTICO 12 LT | C14: UND | D14: ASEO | E14: 9163 | F14: 9687 | G14: =AVERAGE(E14:F14) -> 9425
A15: 14 | B15: BOLSA BASURA 100 X 110 (ROJA) | C15: PAQUETE POR 10 UND | D15: ASEO | E15: 12495 | F15: 13388 | G15: =AVERAGE(E15:F15) -> 12941.5
A16: 15 | B16: BOLSA BASURA 100 X 110 (BLANCA) | C16: PAQUETE POR 10 UND | D16: ASEO | E16: 12495 | F16: 15173 | G16: =AVERAGE(E16:F16) -> 13834
A17: 16 | B17: BOLSA BASURA 100 X 110 (verde) | C17: PAQUETE POR 10 UND | D17: ASEO | E17: 12495 | F17: 15887 | G17: =AVERAGE(E17:F17) -> 14191
A18: 17 | B18: BOLSA BASURA 100 X 110 (Negra) | C18: PAQUETE POR 10 UND | D18: ASEO | E18: 10329 | F18: 12912 | G18: =AVERAGE(E18:F18) -> 11620.5
A19: 18 | B19: BOLSA BASURA 45 X 60 ROJA | C19: PAQUETE POR 10 UND | D19: ASEO | E19: 2618 | F19: 3273 | G19: =AVERAGE(E19:F19) -> 2945.5
A20: 19 | B20: BOLSA BASURA 45 X 60 VERDE | C20: PAQUETE POR 10 UND | D20: ASEO | E20: 2618 | F20: 3665 | G20: =AVERAGE(E20:F20) -> 3141.5
A21: 20 | B21: BOLSA BASURA 45 X 60 BLANCA | C21: PAQUETE POR 10 UND | D21: ASEO | E21: 2618 | F21: 3011 | G21: =AVERAGE(E21:F21) -> 2814.5
... A28: 27 | B28: CABOS DE ALUMINIO ANONIZADOS PARA ESCOBA | C28: UND | D28: ASEO | E28: 27608 | F28: 28560 | G28: =AVERAGE(E28:F28) -> 28084
A29: 28 | B29: CAFÉ TOSTADO MARISCAL | C29: 2.5 | D29: CAFETERIA | E29: 132487 | F29: 158985 | G29: =AVERAGE(E29:F29) -> 145736
A30: 29 | B30: CAFÉ TOSTADO MOLIDO MARISCAL | C30: 400 gr | D30: CAFETERIA | E30: 26583 | F30: 34833 | G30: =AVERAGE(E30:F30) -> 30708
A31: 30 | B31: CAFÉ INSTANTANEO | C31: sobre x 48 sobres | D31: CAFETERIA | E31: 23338 | F31: 23814 | G31: =AVERAGE(E31:F31) -> 23576
A32: 31 | B32: CAFÉ INSTANTANEO | C32: SOBRE X144 | D32: CAFETERIA | E32: 43452 | F32: 44951 | G32: =AVERAGE(E32:F32) -> 44201.5
A33: 32 | B33: INSTA CREAM | C33: SOBRE | D33: CAFETERIA | E33: 34337 | F33: 39074 | G33: =AVERAGE(E33:F33) -> 36705.5
A34: 33 | B34: CEPILLO MANO PLANCHA | C34: UND | D34: ASEO | E34: 3414 | F34: 3920 | G34: =AVERAGE(E34:F34) -> 3667
A35: 34 | B35: CEPILLO PARA BAÑOS CON BASE | C35: UND | D35: ASEO | E35: 7001 | F35: 7705 | G35: =AVERAGE(E35:F35) -> 7353
A36: 35 | B36: CEPILLO PARA PISO CON CABO MADERA | C36: UND | D36: ASEO | E36: 7333 | F36: 8354 | G36: =AVERAGE(E36:F36) -> 7843.5
A37: 36 | B37: CERA ANTIDESLIZANTE | C37: GL | D37: ASEO | E37: 39388 | F37: 51612 | G37: =AVERAGE(E37:F37) -> 45500
A38: 37 | B38: CREOLINA | C38: GALON | D38: ASEO | E38: 25903 | F38: 31589 | G38: =AVERAGE(E38:F38) -> 28746
A39: 38 | B39: DETERGENTE TODO USO | C39: GALOL | D39: ASEO | E39: 31497 | F39: 33670 | G39: =AVERAGE(E39:F39) -> 32583.5
A40: 39 | B40: ESCOBA CERDA DURA CON CABO MADERA | C40: UND | D40: ASEO | E40: 7830 | F40: 8334 | G40: =AVERAGE(E40:F40) -> 8082
A41: 40 | B41: ESCOBA CERDA SUAVE CON CON CABO MADERA | C41: UND | D41: ASEO | E41: 7597 | F41: 7997 | G41: =AVERAGE(E41:F41) -> 7797
... A104: 105 | B104: ACIDO MURIATICO | C104: GAL | D104: ASEO | E104: 47850 | F104: 48840 | G104: =AVERAGE(E104:F104) -> 48345
B105: total | E105: =SUM(E2:E104) -> 2912914 | F105: =SUM(F2:F104) -> 3179340
B106: Total | E106: =SUM(E105:E105) -> 2912914 | F106: =F105 -> 3179340
E109: Bolsa Agotable
E110: item | F110: Valor
...

Sheet 5.7 Papeleria
A1: Item | B1: Descripcion | C1: Unidad de Medida | D1: Marca Impresa Pereira | E1: SABER SAS | F1: TEDEX | G1: Promedio
A2: 1 | B2: CINTA TRANSPARENTE GRUESA 48*100 | C2: UNIDAD | D2: 6556.9 | E2: =5700*1.19 -> 6783 | F2: 8818 | G2: =+AVERAGE(D2:F2) -> 7385.9667
A3: 2 | B3: RESALTADORES | C3: UNIDAD | D3: 1363.15 | E3: =1580*1.19 -> 1880.2 | F3: 1739 | G3: =+AVERAGE(D3:F3) -> 1660.7833
A4: 3 | B4: GANCHOS DE CLIP STANNDARD | C4: PAQ X100 | D4: 1207.85 | E4: =1120*1.19 -> 1332.8 | F4: 1541 | G4: =+AVERAGE(D4:F4) -> 1360.55
A5: 4 | B5: GANCHO LOTERO 3/4 TRITON | C5: PAQ X12 | D5: 3105.9 | E5: =2700*1.19 -> 3213 | F5: 3963 | G5: =+AVERAGE(D5:F5) -> 3427.3
A6: 5 | B6: GANCHO LOTERO NEGRO 2" | C6: PAQ X12 | D6: 13458.9 | E6: =14040*1.19 -> 16707.6 | F6: 17172 | G6: =+AVERAGE(D6:F6) -> 15779.5
A7: 6 | B7: BORRADOR DE TABLERO | C7: UNIDAD | D7: 4201.59 | E7: =4627*1.19 -> 5506.13 | F7: 5361 | G7: =+AVERAGE(D7:F7) -> 5022.9067
A8: 7 | B8: SACAGANCHOS | C8: UNIDAD | D8: 2243.15 | E8: =1950*1.19 -> 2320.5 | F8: 2862 | G8: =+AVERAGE(D8:F8) -> 2475.2167
A9: 8 | B9: TABLA DE APOYO ACRILICA | C9: UNIDAD | D9: 7096.98 | E9: =6170*1.19 -> 7342.3 | F9: 9055 | G9: =+AVERAGE(D9:F9) -> 7831.4267
A10: 9 | B10: SOBRE MANILA OFICIO | C10: UNDAD | D10: 163.92 | E10: =143*1.19 -> 170.17 | F10: 209 | G10: =+AVERAGE(D10:F10) -> 181.03
A11: 10 | B11: PAPEL VINIPLEX ROLLO GRANDE | C11: UNIDAD | D11: 50750 | E11: =44118*1.19 -> 52500.42 | F11: 64750 | G11: =+AVERAGE(D11:F11) -> 56000.14
A12: 11 | B12: PEGANTE EN BARRA 21G | C12: UNIDAD | D12: 1898.05 | E12: =1650*1.19 -> 1963.5 | F12: 2422 | G12: =+AVERAGE(D12:F12) -> 2094.5167
A13: 12 | B13: MARCADOR BORRABLE DE COLORES | C13: CAJA POR COLOR | D13: 1466.68 | E13: =1275*1.19 -> 1517.25 | F13: 1871 | G13: =+AVERAGE(D13:F13) -> 1618.31
A14: 13 | B14: CINTA DE ENMASCARAR 48*40 | C14: UNIDAD | D14: 10318.49 | E14: =8970*1.19 -> 10674.3 | F14: 13165 | G14: =+AVERAGE(D14:F14) -> 11385.93
A15: 14 | B15: CINTA DE ENMASCARAR 24*40 | C15: UNIDAD | D15: 5349.05 | E15: =6200*1.19 -> 7378 | F15: 6825 | G15: =+AVERAGE(D15:F15) -> 6517.35
A16: 15 | B16: CINTA DOBLE FAZ | C16: UNIDAD | D16: 9490.25 | E16: =11000*1.19 -> 13090 | F16: 12108 | G16: =+AVERAGE(D16:F16) -> 11562.75
A17: 16 | B17: PAPELERA NEGRA PEQUEÑA | C17: UNIDAD | D17: 40455 | E17: =38685*1.19 -> 46035.15 | F17: 51615 | G17: =+AVERAGE(D17:F17) -> 46035.05
A18: 17 | B18: PAPELERA BLANCA PEQUEÑA | C18: UNIDAD | D18: 40454.35 | E18: =38684*1.19 -> 46033.96 | F18: 51614 | G18: =+AVERAGE(D18:F18) -> 46034.103
A19: 18 | B19: PAPELERA ROJA PEQUEÑA | C19: UNIDAD | D19: 40454.35 | E19: =38684*1.19 -> 46033.96 | F19: 51614 | G19: =+AVERAGE(D19:F19) -> 46034.103
A20: 19 | B20: PAPELERA METALICA 3 NIVELES | C20: UNIDAD | D20: 50212.05 | E20: =45105*1.19 -> 53674.95 | F20: 50212 | G20: =+AVERAGE(D20:F20) -> 51366.333
A21: 20 | B21: LAPIZ MIRADO 2 | C21: UNIDAD | D21: 1104 | E21: =1104*1.19 -> 1313.76 | F21: 1276 | G21: =+AVERAGE(D21:F21) -> 1231.2533
A22: 21 | B22: BORRADOR DE NATA | C22: UNIDAD | D22: 959.38 | E22: =806*1.19 -> 959.14 | F22: 1456 | G22: =+AVERAGE(D22:F22) -> 1124.84
A23: 22 | B23: TIJERAS | C23: UNIDAD | D23: 4227.48 | E23: =4165*1.19 -> 4956.35 | F23: 4519 | G23: =+AVERAGE(D23:F23) -> 4567.61
A24: 23 | B24: BANDERITAS CLICKIT/ZEPPELIN | C24: UNIDAD | D24: 1587.46 | E24: =1380*1.19 -> 1642.2 | F24: 1697 | G24: =+AVERAGE(D24:F24) -> 1642.22
A25: 24 | B25: CORRECTOR LIQUID PAPER | C25: UNIDAD | D25: 6600.04 | E25: =5546*1.19 -> 6599.74 | F25: 6828 | G25: =+AVERAGE(D25:F25) -> 6675.9267
A26: 25 | B26: LAPICERO OFFIES 076 ROJO 0.7 SEMI GEL | C26: UNIDAD | D26: 862.75 | E26: =750*1.19 -> 892.5 | F26: 744 | G26: =+AVERAGE(D26:F26) -> 833.08333
A27: 26 | B27: RECARGA TONER KIOCERA T 1175 | C27: SERVICIO | D27: 101499 | E27: =99999*1.19 -> 118998.81 | F27: 97999 | G27: =+AVERAGE(D27:F27) -> 106165.6
A28: 27 | B28: RESMA CARTA ECOLOGICA | C28: UNIDAD | D28: 18980.5 | E28: =16500*1.19 -> 19635 | F28: 18326 | G28: =+AVERAGE(D28:F28) -> 18980.5
A29: 28 | B29: PROTECTOR TRANSPARENCIA CARTA DELGADO | C29: UNIDAD | D29: 138.04 | E29: =120*1.19 -> 142.8 | F29: 133 | G29: =+AVERAGE(D29:F29) -> 137.94667
A30: 29 | B30: NOTA ADHESIVA X 100 76X 76 FLUOR STDA CLICK | C30: UNIDAD | D30: 2415.7 | E30: =2248*1.19 -> 2675.12 | F30: 2933 | G30: =+AVERAGE(D30:F30) -> 2674.6067
A31: 30 | B31: MARCADOR PERMANENTE SHARPIE NEGRO | C31: UNIDAD | D31: 4348.26 | E31: =3780*1.19 -> 4498.2 | F31: 5098 | G31: =+AVERAGE(D31:F31) -> 4648.1533
A32: 31 | B32: LAPICERO OFFIES 076 NEGRO 0.7 SEMI GEL | C32: UNIDAD | D32: 862.75 | E32: =750*1.19 -> 892.5 | F32: 744 | G32: =+AVERAGE(D32:F32) -> 833.08333
A33: 32 | B33: ANILLADO POLI CARTA TRANSPA PQTE X25 | C33: UNIDAD | D33: 23725.63 | E33: =20625*1.19 -> 24543.75 | F33: 24544 | G33: =+AVERAGE(D33:F33) -> 24271.127
A34: 33 | B34: CARTULINA CARTA BLANCA | C34: UNIDAD | D34: 172.55 | E34: =150*1.19 -> 178.5 | F34: 179 | G34: =+AVERAGE(D34:F34) -> 176.68333
A35: 34 | B35: CAJA ARCHIVO # 3520 NORMA AZUL | C35: UNIDAD | D35: 13494.6 | E35: =12150*1.19 -> 14458.5 | F35: 14459 | G35: =+AVERAGE(D35:F35) -> 14137.367
A36: 35 | B36: GRAPADORA GRANDE PLASTICA OFFIESCO 309 | C36: UNIDAD | D36: 10698.1 | E36: =9300*1.19 -> 11067 | F36: 11436 | G36: =+AVERAGE(D36:F36) -> 11067.033
A37: 36 | B37: GRAPA STANDAR GALVANIZADA TRITON | C37: UNIDAD | D37: 3559.71 | E37: =3095*1.19 -> 3683.05 | F37: 3707 | G37: =+AVERAGE(D37:F37) -> 3649.92
A38: 37 | B38: MARCADOR BORRASE EXPO NEGRO | C38: UNIDAD | D38: 1466.68 | E38: =1360*1.19 -> 1618.4 | F38: 1548 | G38: =+AVERAGE(D38:F38) -> 1544.36
A39: 38 | B39: PERFORADORA DL 20 H 0820 | C39: UNIDAD | D39: 12166.56 | E39: =11360*1.19 -> 13518.4 | F39: 13941 | G39: =+AVERAGE(D39:F39) -> 13208.653
A40: 39 | B40: GANCHO LEGAJADOR PLASTICO X 20 TRITON | C40: UNIDAD | D40: 3278.45 | E40: =3040*1.19 -> 3617.6 | F40: 3912 | G40: =+AVERAGE(D40:F40) -> 3602.6833
...

Sheet 5.1 Operacion y Mantenimi CBA
C4: Item | E4: mensual | F4: 3 meses
B5: 1 | C5: Servicios públicos | E5: 8940176 | F5: =E5*3 -> 26820528 | G5: Historicos consumo CBA
B6: 2 | C6: Vigilancia (24/7) | E6: 28215866 | F6: =E6*3 -> 84647598
B7: 3 | C7: Mantenimiento del centro de bienestar y componente ambiental | E7: =1358940*1.056 -> 1435040.6 | F7: =E7*3 -> 4305121.9 | G7: Valor Historicos de Parque Ukumari
B8: 4 | C8: Recoleccion de residuos | E8: =300000*1.056 -> 316800 | F8: =E8*3 -> 950400
B9: 5 | C9: Manejo de plagas | E9: ='3.4 Control de Plagas'!F5 -> 2214200 | F9: =E9*3 -> 6642600 | K9: nota | Q9: nota
B10: 6 | C10: Elementos de Manejo | E10: 4000000 | F10: =E10*3 -> 12000000 | K10: se anexan cotizaciones de monto agotable | Q10: El valor se calcula por medio de las cotizaciones aportadas en el numeral 3.4
C11: TOTAL | E11: =SUM(E5:E10) -> 45122083 | F11: =E11*3 -> 1.3536625e+08
Q12: nota
Q13: este valor se calcula teniendo en cuenta el Hsitorico de recoleccion del centro de bienestar animal, se anexan informes de los meses Abril y Mayo
Q14: adicional a lo anterior se tiene en cuenta como medida de contingencia, el fallecimiento de algùn usuario del centro de bienestar animal.
C19: NOTA: 1. Los valores corresponden a promedios de consumos històricos según certificaciones que hacen parte de los informes 1 y 2 de ejecución del Convenio 7114 se 2024, razon por la cual se anexa certificacion expedida por el parque tematico de flora y fauna de pereira
B21: Elementos de manejo animal
B22: ITEM | C22: NOMBRE DEL PRODUCTO | D22: GES | E22: SAGA | F22: CAUCAMAX | G22: Promedio
B23: 1 | C23: PASEADOR DE AHOGO/LAZO | D23: 80000 | E23: 60000 | F23: 72000 | G23: =AVERAGE(D23:F23) -> 70666.667
B24: 2 | C24: BARBERA SENCILLA OH BELL | D24: 201000 | E24: 172000 | F24: 198000 | G24: =AVERAGE(D24:F24) -> 190333.33
B25: 3 | C25: BOLSA EXAMEN FELINO | D25: 55000 | E25: 33000 | F25: 48000 | G25: =AVERAGE(D25:F25) -> 45333.333
B26: 4 | C26: BOZAL REJILLA GRANDE | D26: 101000 | E26: 80000 | F26: 100000 | G26: =AVERAGE(D26:F26) -> 93666.667
B27: 5 | C27: BOZAL REJILLA MEDIANO | D27: 82000 | E27: 65000 | F27: 80000 | G27: =AVERAGE(D27:F27) -> 75666.667
B28: 6 | C28: BOZAL REJILLA PEQUEÑO | D28: 55000 | E28: 42000 | F28: 50000 | G28: =AVERAGE(D28:F28) -> 49000
B29: 7 | C29: CEPILLO DE ALAMBRE | D29: 36000 | E29: 20000 | F29: 32000 | G29: =AVERAGE(D29:F29) -> 29333.333
B30: 8 | C30: COBIJAS PELUCHE | D30: 55000 | E30: 42000 | F30: 50000 | G30: =AVERAGE(D30:F30) -> 49000
B31: 9 | C31: COLCHONETAS PARA PACIENTE RECUPERACION | D31: 120000 | E31: 100000 | F31: 110000 | G31: =AVERAGE(D31:F31) -> 110000
B32: 10 | C32: COMEDOR METALICO GRANDE 64 ONZAS | D32: 39000 | E32: 40000 | F32: 37000 | G32: =AVERAGE(D32:F32) -> 38666.667
B33: 11 | C33: COMEDOR METALICO PEQUEÑO 24 ONZAS | D33: 35000 | E33: 35000 | F33: 32000 | G33: =AVERAGE(D33:F33) -> 34000
B34: 12 | C34: CORTA UÑAS DE LUJO GRANDE PERRO | D34: 42000 | E34: 50000 | F34: 40000 | G34: =AVERAGE(D34:F34) -> 44000
... B46: 28 | C46: CESTA REDONDA PARA ROPA PLUS 51 LTS | D46: 100000 | E46: 82000 | F46: 98000 | G46: =AVERAGE(D46:F46) -> 93333.333
D47: =SUM(D23:D46) -> 3315000 | E47: =SUM(E23:E46) -> 2797500 | F47: =SUM(F23:F46) -> 3138000

Sheet 5.2 Alimentacion 
A1: ITEM | B1: PRODUCTO | C1: PRESENTACION | D1: Cantidad | E1: Field Food sas | F1: Healthy Food | G1: La revuelteria SAS | H1: Promedio
A2: 1 | B2: RINGO | C2: BULTO 30 KG | D2: 1 | E2: 139440 | F2: 179529 | G2: 174300 | H2: =AVERAGE(E2:G2) -> 164423
A3: 2 | B3: MIRRINGO | C3: BULTO 8 KG | D3: 1 | E3: 72647 | F3: 93533 | G3: 90809 | H3: =AVERAGE(E3:G3) -> 85663
A4: 3 | B4: RINGO CACHORRO | C4: BULTO 15 KG | D4: 1 | E4: 85781 | F4: 110443 | G4: 107226 | H4: =AVERAGE(E4:G4) -> 101150
A5: 4 | B5: CHUNKY CACHORRO | C5: BULTO 18 KG | D5: 1 | E5: 215880 | F5: 277946 | G5: 269850 | H5: =AVERAGE(E5:G5) -> 254558.67
A6: 5 | B6: CHUNKY ADULTOS POLLO | C6: BULTO 25 KG | D6: 1 | E6: 222840 | F6: 286907 | G6: 278550 | H6: =AVERAGE(E6:G6) -> 262765.67
A7: 6 | B7: NUTRECAN PREMIUN CACHORRO MEDIANOS | C7: BULTO 16 KG | D7: 1 | E7: 149880 | F7: 192971 | G7: 187350 | H7: =AVERAGE(E7:G7) -> 176733.67
B8: NUTRECAN PREMIUM ADULTO RAZA GRANDE | E8: 179880 | F8: 231596 | G8: 224850 | H8: =AVERAGE(E8:G8) -> 212108.67
A9: 8 | B9: POLLO | C9: KG | D9: 1 | E9: 26400 | F9: 33990 | G9: 33000 | H9: =AVERAGE(E9:G9) -> 31130
A10: 9 | B10: CASCARILLA DE ARROZ | C10: PACA | D10: 1 | E10: 37625 | F10: 37900 | G10: 37950 | H10: =AVERAGE(E10:G10) -> 37825
A11: 10 | B11: HUEVO | C11: UND | D11: 1 | E11: 602 | F11: 650 | G11: 700 | H11: =AVERAGE(E11:G11) -> 650.66667
A12: 11 | B12: POLLO PECHUGA | C12: KG | D12: 1 | E12: 19000 | F12: 19500 | G12: 19800 | H12: =AVERAGE(E12:G12) -> 19433.333
A13: 12 | B13: ALIMENTO MEDICADO | C13: 200 Gr | D13: 1 | E13: 16500 | F13: 17100 | G13: 17500 | H13: =AVERAGE(E13:G13) -> 17033.333
F15: Item | G15: Valor
F16: Bolsa Agotable periodo | G16: 240000000
F17: Mensual | G17: =G16/3 -> 80000000

Sheet 6.1 - 7.1 Vehiculos 
A2: Empresa | B2: 1 camioneta de platon doble cabina 4X4 mes | C2: 2 camionetas doble cabina 4X4 | D2: 3 meses
A3: Trans Oriente sas | B3: 10950000 | C3: =B3*2 -> 21900000 | D3: =C3*3 -> 65700000
A4: Transportes espciales el samann sas | B4: 10700000 | C4: =B4*2 -> 21400000 | D4: =C4*3 -> 64200000
B7: Promedio periodo | C7: Promedio camioneta en 3 meses
B8: =(D3+D4)/2 -> 64950000 | C8: =B8/2 -> 32475000

Sheet 8.1 Alimento Fundaciones
A2: ITEM | B2: PRODUCTO | C2: PRESENTACION | D2: Cantidad | E2: Field Food sas | F2: Healthy Food | G2: La revuelteria SAS | H2: promedio
A3: 1 | B3: RINGO | C3: BULTO 30 KG | D3: 1 | E3: 139440 | F3: 179529 | G3: 174300 | H3: =AVERAGE(E3:G3) -> 164423
A4: 2 | B4: MIRRINGO | C4: BULTO 8 KG | D4: 1 | E4: 72647 | F4: 93533 | G4: 90809 | H4: =AVERAGE(E4:G4) -> 85663
A5: 3 | B5: RINGO CACHORRO | C5: BULTO 15 KG | D5: 1 | E5: 85781 | F5: 110443 | G5: 107226 | H5: =AVERAGE(E5:G5) -> 101150
A6: 4 | B6: CHUNKY CACHORRO | C6: BULTO 18 KG | D6: 1 | E6: 215880 | F6: 277946 | G6: 269850 | H6: =AVERAGE(E6:G6) -> 254558.67
A7: 5 | B7: CHUNKY ADULTOS POLLO | C7: BULTO 25 KG | D7: 1 | E7: 222840 | F7: 286907 | G7: 278550 | H7: =AVERAGE(E7:G7) -> 262765.67
A8: 6 | B8: NUTRECAN PREMIUN CACHORRO MEDIANOS | C8: BULTO 16 KG | D8: 1 | E8: 149880 | F8: 192971 | G8: 187350 | H8: =AVERAGE(E8:G8) -> 176733.67
B9: NUTRECAN PREMIUM ADULTO RAZA GRANDE | E9: 179880 | F9: 231596 | G9: 224850 | H9: =AVERAGE(E9:G9) -> 212108.67
A10: 8 | B10: POLLO | C10: KG | D10: 1 | E10: 26400 | F10: 33990 | G10: 33000 | H10: =AVERAGE(E10:G10) -> 31130
A11: 9 | B11: CASCARILLA DE ARROZ | C11: PACA | D11: 1 | E11: 37625 | F11: 37900 | G11: 37950 | H11: =AVERAGE(E11:G11) -> 37825
A12: 10 | B12: HUEVO | C12: UND | D12: 1 | E12: 602 | F12: 650 | G12: 700 | H12: =AVERAGE(E12:G12) -> 650.66667
A13: 11 | B13: POLLO PECHUGA | C13: KG | D13: 1 | E13: 19000 | F13: 19500 | G13: 19800 | H13: =AVERAGE(E13:G13) -> 19433.333
A14: 12 | B14: ALIMENTO MEDICADO | C14: 200 Gr | D14: 1 | E14: 16500 | F14: 17100 | G14: 17500 | H14: =AVERAGE(E14:G14) -> 17033.333
F16: Item | G16: Valor
F17: Bolsa Agotable | G17: =G18*3 -> 45000000
F18: Mensual | G18: 15000000
B24: nota
B25: la diferencia es la destinaciòn del recurso por alcance. El 5.2 es para el sostenimieniento de los animales del centro de Bienestar animal y de los que por sus condiciones medicas tienen hospitalizaciòn intramural, y el de este ITEM es exclusivamente para apoyo a fundaciones
