Workbook

Sheet DATOS
B2: OBJETO | C2: CONSTRUCCIÓN DE PLACA HUELLAS CON APOYO DE LA COMUNIDAD Y EL COMITÉ DE CAFETEROS EN ZONA RURAL DEL MUNICIPIO DE RISARALDA
B3: NOMBRE ACTA | C3: PLACAS HUELLAS TIPO COMITÉ DE CAFETEROS
B4: CONTRATANTE | C4: MUNICIPIO DE RISARALDA
B5: FECHA | C5: 45779
B6: RESPONSABLE | C6: KAREN SANCHEZ CORTES
B7: DEPENDENCIA | C7: OFICINA DE PLANEACION Y OBRAS PUBLICAS

Sheet A.I.U.
A1: DISCRIMINACION DEL A.I.U.
A2: PROYECTO: | B2: =+PRESUPUESTO!B2 -> CONSTRUCCIÓN DE PLACA HUELLAS CON APOYO DE LA COMUNIDAD Y EL COMITÉ DE CAFETEROS EN ZONA RURAL DEL MUNICIPIO DE RISARALDA
A4: Valor estimado de la Obra (Costo Directo). | E4: Valor | F4: =PRESUPUESTO!G13/(1+'APU 1'!G36) -> 1.1895675e+08
A5: Plazo estimado de ejecución | E5: Meses | F5: 2
A7: CAPITULO | B7: TIPO DE GASTO | C7: UN | D7: CANT | E7: DISPONIBILIDAD | F7: VALOR UNIT (mes) | G7: FACTOR | H7: VALOR TOTAL | I7: SUMA | J7: %
A9: 1 | B9: GASTOS GENERALES. | J9: =+I10/F4 -> 0.076747222
A10: 1.1 | B10: MANO DE OBRA Y GASTOS DE OFICINA | I10: =SUM(H11:H12) -> 9129600 | J10: =SUM(J11:J12) -> 0.076747222
B11: Ingeniero Residente de Obra | C11: Un | D11: 1 | E11: 0.2 | F11: 3000000 | G11: 1.4265 | H11: =+D11*E11*F11*G11*$F$5 -> 1711800 | J11: =+H11/$F$4 -> 0.014390104
B12: Maestro de obra | C12: Un | D12: 1 | E12: 1 | F12: 2600000 | G12: 1.4265 | H12: =+D12*E12*F12*G12*$F$5 -> 7417800 | J12: =+H12/$F$4 -> 0.062357117
A14: 2 | B14: GASTOS INDIRECTOS. | J14: =J15 -> 0.218257
A15: 2.2 | B15: IMPUESTOS Y VALORES AGREGADOS | I15: =SUM(H16:H23) -> 25963143 | J15: =SUM(J16:J23) -> 0.218257
B16: Contribución Especial | C16: % | D16: 0.05 | F16: =+F4 -> 1.1895675e+08 | G16: 1.286 | H16: =D16*F16*G16 -> 7648919 | J16: =+H16/$F$4 -> 0.0643
B17: Estampilla Procultura | C17: % | D17: 0.02 | F17: =+F16 -> 1.1895675e+08 | G17: =+$G$16 -> 1.286 | H17: =D17*F17*G17 -> 3059567.6 | J17: =+H17/$F$4 -> 0.02572
B18: Estampilla Projusticia familiar | C18: % | D18: 0.02 | F18: =+F16 -> 1.1895675e+08 | G18: =+$G$16 -> 1.286 | H18: =D18*F18*G18 -> 3059567.6 | J18: =+H18/$F$4 -> 0.02572
B19: Estampilla Prodeporte y recreación | C19: % | D19: 0.01 | F19: =+F17 -> 1.1895675e+08 | G19: =+$G$16 -> 1.286 | H19: =D19*F19*G19 -> 1529783.8 | J19: =+H19/$F$4 -> 0.01286
B20: Estampilla Proanciano | C20: % | D20: 0.04 | F20: =+F17 -> 1.1895675e+08 | G20: =+$G$16 -> 1.286 | H20: =D20*F20*G20 -> 6119135.2 | J20: =+H20/$F$4 -> 0.05144
B21: Retencion en la fuente | C21: % | D21: 0.02 | F21: =F4 -> 1.1895675e+08 | G21: 1.3 | H21: =D21*F21*G21 -> 3092875.5 | J21: =H21/F4 -> 0.026
B22: Reteica | C22: % | D22: 0.0065 | F22: =+F17 -> 1.1895675e+08 | G22: =+$G$16 -> 1.286 | H22: =D22*F22*G22 -> 994359.47 | J22: =+H22/$F$4 -> 0.008359
B23: Polizas | C23: % | D23: 0.003 | F23: =+F18 -> 1.1895675e+08 | G23: =+$G$16 -> 1.286 | H23: =D23*F23*G23 -> 458935.14 | J23: =+H23/$F$4 -> 0.003858 | K23: =+PRESUPUESTO!G13/(1+'APU 1'!G36) -> 1.1895675e+08
B24: TOTAL GASTOS ADMINISTRACION | I24: =+I10+I15 -> 35092743 | J24: =+ROUND((I24/F4),4) -> 0.295 | K24: =K23*29.5% -> 35092241
B25: IMPREVISTOS | J25: 0
B26: UTILIDAD | J26: 0.05 | K26: =K23*J26 -> 5947837.5
B27: TOTAL A.I.U. | J27: =SUM(J24:J26) -> 0.345 | K27: =K26+K24+K23 -> 159996828 | L27: =+PRESUPUESTO!G13 -> 159996828

Sheet PROGRAMACION
A1: PROGRAMACION DE OBRA Y FLUJO DE INVERSION
A2: =+PRESUPUESTO!B2 -> CONSTRUCCIÓN DE PLACA HUELLAS CON APOYO DE LA COMUNIDAD Y EL COMITÉ DE CAFETEROS EN ZONA RURAL DEL MUNICIPIO DE RISARALDA
A5: Item | B5: Descripción | C5: Unidad | D5: v. Unitario | E5: Cantidad | F5: Total | G5: SEMANA | H5: SEMANA | I5: SEMANA | J5: SEMANA | K5: SEMANA | L5: SEMANA | M5: SEMANA | N5: SEMANA | O5: TOTAL
G6: 1 | H6: 2 | I6: 3 | J6: 4 | K6: 5 | L6: 6 | M6: 7 | N6: 8
A7: 1 | B7: =VLOOKUP(A7,PRESUPUESTO!B:F,2,0) -> Excavaciones varias en material común. No incluye mano de obra no calificada. | C7: =VLOOKUP(A7,PRESUPUESTO!B:F,3,0) -> M3 | D7: =VLOOKUP(A7,PRESUPUESTO!B:F,5,0) -> 31583 | E7: =VLOOKUP(A7,PRESUPUESTO!B:F,4,0) -> 195.67 | F7: =+ROUND((D7*E7),0) -> 6179846 | G7: =+F7/3 -> 2059948.7 | H7: =+G7 -> 2059948.7 | I7: =+H7 -> 2059948.7 | O7: =+SUM(G7:N7) -> 6179846
A9: 2 | B9: =VLOOKUP(A9,PRESUPUESTO!B:F,2,0) -> Suministro, transporte e instalacion de afirmado compactado. No incluye mano de obra no calificada. | C9: =VLOOKUP(A9,PRESUPUESTO!B:F,3,0) -> M3 | D9: =VLOOKUP(A9,PRESUPUESTO!B:F,5,0) -> 173432 | E9: =VLOOKUP(A9,PRESUPUESTO!B:F,4,0) -> 121.95 | F9: =+ROUND((D9*E9),0) -> 21150032 | G9: =+F9/4 -> 5287508 | H9: =+G9 -> 5287508 | I9: =+H9 -> 5287508 | J9: =+I9 -> 5287508 | O9: =+SUM(G9:N9) -> 21150032
A11: =+A9+1 -> 3 | B11: =VLOOKUP(A11,PRESUPUESTO!B:F,2,0) -> Concreto clase D: Concreto de 3000 PSI. Incluye preparación e instalación de concreto en placas, vigas y cunetas. Incluye formaleta. Incluye agregados. No incluye suministro de cemento. No incluye mano de obra no calificada. | C11: =VLOOKUP(A11,PRESUPUESTO!B:F,3,0) -> M3 | D11: =VLOOKUP(A11,PRESUPUESTO!B:F,5,0) -> 512960 | E11: =VLOOKUP(A11,PRESUPUESTO!B:F,4,0) -> 88.73 | F11: =+ROUND((D11*E11),0) -> 45514941 | H11: =+F11/7 -> 6502134.4 | I11: =+H11 -> 6502134.4 | J11: =+I11 -> 6502134.4 | K11: =+J11 -> 6502134.4 | L11: =+K11 -> 6502134.4 | M11: =+L11 -> 6502134.4 | N11: =+M11 -> 6502134.4 | O11: =+SUM(G11:N11) -> 45514941
A13: =+A11+1 -> 4 | B13: =VLOOKUP(A13,PRESUPUESTO!B:F,2,0) -> Concreto clase G: 60% concreto clase D y 40% Piedra. Incluye preparación e instalación de concreto en enrocados. Incluye agregados. No incluye suministro de cemento. No incluye mano de obra no calificada. | C13: =VLOOKUP(A13,PRESUPUESTO!B:F,3,0) -> M3 | D13: =VLOOKUP(A13,PRESUPUESTO!B:F,5,0) -> 351227 | E13: =VLOOKUP(A13,PRESUPUESTO!B:F,4,0) -> 25.25 | F13: =+ROUND((D13*E13),0) -> 8868482 | H13: =+F13/7 -> 1266926 | I13: =+H13 -> 1266926 | J13: =+I13 -> 1266926 | K13: =+J13 -> 1266926 | L13: =+K13 -> 1266926 | M13: =+L13 -> 1266926 | N13: =+M13 -> 1266926 | O13: =+SUM(G13:N13) -> 8868482
A15: 5 | B15: =VLOOKUP(A15,PRESUPUESTO!B:F,2,0) -> Sardinel en concreto clase D. Incluye preparación e instalación de concreto. Incluye formaleta. Incluye agregados. No incluye suministro de cemento. No incluye mano de obra no calificada. | C15: =VLOOKUP(A15,PRESUPUESTO!B:F,3,0) -> ML | D15: =VLOOKUP(A15,PRESUPUESTO!B:F,5,0) -> 53199 | E15: =VLOOKUP(A15,PRESUPUESTO!B:F,4,0) -> 390 | F15: =+ROUND((D15*E15),0) -> 20747610 | J15: =+$F$15/5 -> 4149522 | K15: =+J15 -> 4149522 | L15: =+K15 -> 4149522 | M15: =+L15 -> 4149522 | N15: =+M15 -> 4149522 | O15: =+SUM(G15:N15) -> 20747610
A17: 6 | B17: =VLOOKUP(A17,PRESUPUESTO!B:F,2,0) -> Suministro, transporte e instalacion de acero de refuerzo Fy=60000 PSI. No incluye mano de obra no calificada. | C17: =VLOOKUP(A17,PRESUPUESTO!B:F,3,0) -> KG | D17: =VLOOKUP(A17,PRESUPUESTO!B:F,5,0) -> 12821 | E17: =VLOOKUP(A17,PRESUPUESTO!B:F,4,0) -> 572.25 | F17: =+ROUND((D17*E17),0) -> 7336817 | H17: =+F17/7 -> 1048116.7 | I17: =+H17 -> 1048116.7 | J17: =+I17 -> 1048116.7 | K17: =+J17 -> 1048116.7 | L17: =+K17 -> 1048116.7 | M17: =+L17 -> 1048116.7 | N17: =+M17 -> 1048116.7 | O17: =+SUM(G17:N17) -> 7336817
A19: 7 | B19: =VLOOKUP(A19,PRESUPUESTO!B:F,2,0) -> Suministro, transporte e instalacion de malla electrosoldada de 15x15 cm x 5mm. No incluye mano de obra no calificada. | C19: =VLOOKUP(A19,PRESUPUESTO!B:F,3,0) -> M2 | D19: =VLOOKUP(A19,PRESUPUESTO!B:F,5,0) -> 28849 | E19: =VLOOKUP(A19,PRESUPUESTO!B:F,4,0) -> 806.9 | F19: =+ROUND((D19*E19),0) -> 23278258 | H19: =+F19/7 -> 3325465.4 | I19: =+H19 -> 3325465.4 | J19: =+I19 -> 3325465.4 | K19: =+J19 -> 3325465.4 | L19: =+K19 -> 3325465.4 | M19: =+L19 -> 3325465.4 | N19: =+M19 -> 3325465.4 | O19: =+SUM(G19:N19) -> 23278258
A21: 8 | B21: =VLOOKUP(A21,PRESUPUESTO!B:F,2,0) -> Sobreacarreo de materiales en vehiculo automotor de tracción 4x4. No incluye mano de obra no calificada para cargue y descargue. | C21: =VLOOKUP(A21,PRESUPUESTO!B:F,3,0) -> TON | D21: =VLOOKUP(A21,PRESUPUESTO!B:F,5,0) -> 42498 | E21: =VLOOKUP(A21,PRESUPUESTO!B:F,4,0) -> 548.96 | F21: =+ROUND((D21*E21),0) -> 23329702 | G21: =+F21/8 -> 2916212.8 | H21: =+G21 -> 2916212.8 | I21: =+H21 -> 2916212.8 | J21: =+I21 -> 2916212.8 | K21: =+J21 -> 2916212.8 | L21: =+K21 -> 2916212.8 | M21: =+L21 -> 2916212.8 | N21: =+M21 -> 2916212.8 | O21: =+SUM(G21:N21) -> 23329702
A23: 9 | B23: =VLOOKUP(A23,PRESUPUESTO!B:F,2,0) -> Demolición de concreto hidraulico. Incluye retiro y disposición final. | C23: =VLOOKUP(A23,PRESUPUESTO!B:F,3,0) -> M3 | D23: =VLOOKUP(A23,PRESUPUESTO!B:F,5,0) -> 262127 | E23: =VLOOKUP(A23,PRESUPUESTO!B:F,4,0) -> 13.7 | F23: =+ROUND((D23*E23),0) -> 3591140 | G23: =+F23/8 -> 448892.5 | H23: =+G23 -> 448892.5 | I23: =+H23 -> 448892.5 | J23: =+I23 -> 448892.5 | K23: =+J23 -> 448892.5 | L23: =+K23 -> 448892.5 | M23: =+L23 -> 448892.5 | N23: =+M23 -> 448892.5 | O23: =+SUM(G23:N23) -> 3591140
A25: SUBTOTAL COSTO DE LAS OBRAS CIVILES | F25: =SUM(F7:F24) -> 159996828 | O25: =SUM(O7:O24) -> 159996828
A26: FLUJO POR SEMANA | G26: =SUM(G7:G25) -> 10712562 | H26: =SUM(H7:H25) -> 22855204 | I26: =SUM(I7:I25) -> 22855204 | J26: =SUM(J7:J25) -> 24944778 | K26: =SUM(K7:K25) -> 19657270 | L26: =SUM(L7:L25) -> 19657270 | M26: =SUM(M7:M25) -> 19657270 | N26: =SUM(N7:N25) -> 19657270
A27: ACUMULADO POR SEMANA | G27: =+G26 -> 10712562 | H27: =C27+H26 -> 22855204 | I27: =H27+I26 -> 45710409 | J27: =E27+J26 -> 24944778 | K27: =J27+K26 -> 44602048 | L27: =G27+L26 -> 30369832 | M27: =L27+M26 -> 50027102 | N27: =M27+N26 -> 69684371

Sheet PRESUPUESTO
B2: =+DATOS!C2 -> CONSTRUCCIÓN DE PLACA HUELLAS CON APOYO DE LA COMUNIDAD Y EL COMITÉ DE CAFETEROS EN ZONA RURAL DEL MUNICIPIO DE RISARALDA
B3: ITEM | C3: DESCRIPCION | D3: UNIDAD | E3: CANTIDAD | F3: VALOR UNITARIO INCLUIDO AU=(34,5%) | G3: VALOR PARCIAL
B4: 1 | C4: Excavaciones varias en material común. No incluye mano de obra no calificada. | D4: M3 | E4: =+'1 CANT MC-AM 01'!M36 -> 195.67 | F4: =+'APU 1'!$H$36 -> 31583 | G4: =+ROUND(E4*F4,0) -> 6179846
B5: 2 | C5: Suministro, transporte e instalacion de afirmado compactado. No incluye mano de obra no calificada. | D5: M3 | E5: =+'2 CANT MC-AM 01'!M21 -> 121.95 | F5: =+'APU 2'!$H$40 -> 173432 | G5: =+ROUND(E5*F5,0) -> 21150032
B6: 3 | C6: Concreto clase D: Concreto de 3000 PSI. Incluye preparación e instalación de concreto en placas, vigas y cunetas. Incluye formaleta. Incluye agregados. No incluye suministro de cemento. No incluye mano de obra no calificada. | D6: M3 | E6: =+'3 CANT MC-AM 01'!M37 -> 88.73 | F6: =+'APU 3'!$H$42 -> 512960 | G6: =+ROUND(E6*F6,0) -> 45514941
B7: 4 | C7: Concreto clase G: 60% concreto clase D y 40% Piedra. Incluye preparación e instalación de concreto en enrocados. Incluye agregados. No incluye suministro de cemento. No incluye mano de obra no calificada. | D7: M3 | E7: =+'4 CANT MC-AM 01'!M25 -> 25.25 | F7: =+'APU 4'!$H$41 -> 351227 | G7: =+ROUND(E7*F7,0) -> 8868482
B8: 5 | C8: Sardinel en concreto clase D. Incluye preparación e instalación de concreto. Incluye formaleta. Incluye agregados. No incluye suministro de cemento. No incluye mano de obra no calificada. | D8: ML | E8: =+'5 CANT MC-AM 01'!M23 -> 390 | F8: =+'APU 5'!$H$39 -> 53199 | G8: =+ROUND(E8*F8,0) -> 20747610
B9: 6 | C9: Suministro, transporte e instalacion de acero de refuerzo Fy=60000 PSI. No incluye mano de obra no calificada. | D9: KG | E9: =+'6 CANT MC-AM 01'!M29 -> 572.25 | F9: =+'APU 6'!$H$37 -> 12821 | G9: =+ROUND(E9*F9,0) -> 7336817
B10: 7 | C10: Suministro, transporte e instalacion de malla electrosoldada de 15x15 cm x 5mm. No incluye mano de obra no calificada. | D10: M2 | E10: =+'7 CANT MC-AM 01'!M36 -> 806.9 | F10: =+'APU 7'!$H$37 -> 28849 | G10: =+ROUND(E10*F10,0) -> 23278258
B11: 8 | C11: Sobreacarreo de materiales en vehiculo automotor de tracción 4x4. No incluye mano de obra no calificada para cargue y descargue. | D11: TON | E11: =+'8 CANT MC-AM 01'!N27 -> 548.96 | F11: =+'APU 8'!$H$40 -> 42498 | G11: =+ROUND(E11*F11,0) -> 23329702
B12: 9 | C12: Demolición de concreto hidraulico. Incluye retiro y disposición final. | D12: M3 | E12: =+'9 CANT MC-AM 01'!M21 -> 13.7 | F12: =+'APU 9'!$H$36 -> 262127 | G12: =+ROUND(E12*F12,0) -> 3591140
B13: COSTO TOTAL OBRAS INCLUIDO AIU | G13: =ROUND((SUM(G4:G12)),0) -> 159996828
B14: 10 | C14: Aporte de mano de obra no calificada por la comunidad del tramo a intervenir | D14: ML | E14: =+'10 CANT MC-AM 01'!N25 -> 195 | F14: =+'APU 10'!H35 -> 257653.5 | G14: =E14*F14 -> 50242432
B15: COSTO TOTAL APORTE COMUNIDADES | G15: =+G14 -> 50242432
B16: COSTO TOTAL PROYECTO | G16: =G13+G15 -> 2.1023926e+08

Sheet PRESUPUESTO OFICIAL (Entidad)
C3: Formulario 1 - Propuesta económica - Documento tipo de selección abreviada de menor cuantía - versión 2
C4: Código | D4: CCE-EICP-FM-25 | E4: Versión | F4: 2
C6: FORMULARIO 1
C7: PRESUPUESTO OFICIAL
C8: [La entidad puede utilizar este formulario de detalle del presupuesto oficial para determinar las condiciones bajo las cuales los proponentes analizarán y presentarán su propuesta económica de forma detallada, sin perjuicio que la entidad pueda modificarlo o establecer la presentación de la oferta económica con un formulario distinto al indicado.]
C10: Adicionalmente, cuando el proceso de contratación es estructurado por precios unitarios, la Entidad debe aplicar las notas 1, 2 y 3 del presente formulario y las casillas de "Descripción", "Porcentaje" de la Administración, Imprevisto, Utilidad y total A.I.U. resaltadas en colo amarillo. Tratándose de otras modalidades de precio, la Entidad puede o no configurar los mismos aspectos.
C11: =+'1 CANT MC-AM 01'!$D$5 -> CONSTRUCCIÓN DE PLACA HUELLAS CON APOYO DE LA COMUNIDAD Y EL COMITÉ DE CAFETEROS EN ZONA RURAL DEL MUNICIPIO DE RISARALDA
C12: Nº | D12: ITEM DE PAGO | E12: ESPECIFICACIONES | G12: DESCRIPCION | H12: UND. | I12: CANTIDAD | J12: VALOR UNITARIO | K12: VALOR TOTAL
E13: GENERAL | F13: PARTICULAR
G14: PRELIMINARES
C15: 1 | D15: =+C15 -> 1 | G15: =+PRESUPUESTO!C4 -> Excavaciones varias en material común. No incluye mano de obra no calificada. | H15: =+PRESUPUESTO!D4 -> M3 | I15: =+PRESUPUESTO!E4 -> 195.67 | J15: =+PRESUPUESTO!F4 -> 31583 | K15: =ROUND(I15*J15,0) -> 6179846
C16: 2 | D16: =+C16 -> 2 | G16: =+PRESUPUESTO!C5 -> Suministro, transporte e instalacion de afirmado compactado. No incluye mano de obra no calificada. | H16: =+PRESUPUESTO!D5 -> M3 | I16: =+PRESUPUESTO!E5 -> 121.95 | J16: =+PRESUPUESTO!F5 -> 173432 | K16: =ROUND(I16*J16,0) -> 21150032
C17: 3 | D17: =+C17 -> 3 | G17: =+PRESUPUESTO!C6 -> Concreto clase D: Concreto de 3000 PSI. Incluye preparación e instalación de concreto en placas, vigas y cunetas. Incluye formaleta. Incluye agregados. No incluye suministro de cemento. No incluye mano de obra no calificada. | H17: =+PRESUPUESTO!D6 -> M3 | I17: =+PRESUPUESTO!E6 -> 88.73 | J17: =+PRESUPUESTO!F6 -> 512960 | K17: =ROUND(I17*J17,0) -> 45514941
C18: 4 | D18: =+C18 -> 4 | G18: =+PRESUPUESTO!C7 -> Concreto clase G: 60% concreto clase D y 40% Piedra. Incluye preparación e instalación de concreto en enrocados. Incluye agregados. No incluye suministro de cemento. No incluye mano de obra no calificada. | H18: =+PRESUPUESTO!D7 -> M3 | I18: =+PRESUPUESTO!E7 -> 25.25 | J18: =+PRESUPUESTO!F7 -> 351227 | K18: =ROUND(I18*J18,0) -> 8868482
C19: 5 | D19: =+C19 -> 5 | G19: =+PRESUPUESTO!C8 -> Sardinel en concreto clase D. Incluye preparación e instalación de concreto. Incluye formaleta. Incluye agregados. No incluye suministro de cemento. No incluye mano de obra no calificada. | H19: =+PRESUPUESTO!D8 -> ML | I19: =+PRESUPUESTO!E8 -> 390 | J19: =+PRESUPUESTO!F8 -> 53199 | K19: =ROUND(I19*J19,0) -> 20747610
C20: 6 | D20: =+C20 -> 6 | G20: =+PRESUPUESTO!C9 -> Suministro, transporte e instalacion de acero de refuerzo Fy=60000 PSI. No incluye mano de obra no calificada. | H20: =+PRESUPUESTO!D9 -> KG | I20: =+PRESUPUESTO!E9 -> 572.25 | J20: =+PRESUPUESTO!F9 -> 12821 | K20: =ROUND(I20*J20,0) -> 7336817
C21: 7 | D21: =+C21 -> 7 | G21: =+PRESUPUESTO!C10 -> Suministro, transporte e instalacion de malla electrosoldada de 15x15 cm x 5mm. No incluye mano de obra no calificada. | H21: =+PRESUPUESTO!D10 -> M2 | I21: =+PRESUPUESTO!E10 -> 806.9 | J21: =+PRESUPUESTO!F10 -> 28849 | K21: =ROUND(I21*J21,0) -> 23278258
C22: 8 | D22: =+C22 -> 8 | G22: =+PRESUPUESTO!C11 -> Sobreacarreo de materiales en vehiculo automotor de tracción 4x4. No incluye mano de obra no calificada para cargue y descargue. | H22: =+PRESUPUESTO!D11 -> TON | I22: =+PRESUPUESTO!E11 -> 548.96 | J22: =+PRESUPUESTO!F11 -> 42498 | K22: =ROUND(I22*J22,0) -> 23329702
C23: 9 | D23: =+C23 -> 9 | G23: =+PRESUPUESTO!C12 -> Demolición de concreto hidraulico. Incluye retiro y disposición final. | H23: =+PRESUPUESTO!D12 -> M3 | I23: =+PRESUPUESTO!E12 -> 13.7 | J23: =+PRESUPUESTO!F12 -> 262127 | K23: =ROUND(I23*J23,0) -> 3591140
G25: SUBTOTAL PROYECTO | K25: =SUM(K15:K23) -> 159996828
G28: TOTAL OBRAS CIVILES (INCLUYE AIU=34.5%) | K28: =K27+K26+K25 -> 159996828
G31: VALOR TOTAL | K31: =+K28 -> 159996828
C34: NOTA 1: Se debe tener en cuenta que el PRECIO UNITARIO incluye el valor de A.I.U. | H34: DESCRIPCION | K34: PORCENTAJE
C35: NOTA 2: Cuando la fracción decimal del peso sea igual o superior a 5 se aproximara por exceso al número entero siguiente del peso y cuando la fracción decimal del peso sea inferior a 5 se aproximará por defecto al número entero del peso. | H35: ADMINISTRACION | J35: A= | K35: 0.295
C36: NOTA 3: El A.I.U y su discriminación deben estar en porcentaje (%). | H36: IMPREVISTO | J36: I= | K36: 0
H37: UTILIDAD | J37: U= | K37: 0.05
H38: TOTAL A.I.U | J38: A.I.U.= | K38: =K35+K36+K37 -> 0.345

Sheet PROPUESTA ECONOMICA(Proponente)
C3: Formulario 1 - Propuesta económica - Documento tipo de selección abreviada de menor cuantía - versión 2
C4: Código | D4: CCE-EICP-FM-25 | E4: Versión | F4: 2
C6: FORMULARIO 1
C7: PROPUESTA ECONOMICA
C8: [La entidad puede utilizar este formulario de presentación de propuesta económica de forma detallada, sin perjuicio que la entidad pueda modificarlo o establecer la presentación de la oferta económica con un formulario distinto al indicado.] [Los proponentes emplearán el formulario establecido por la entidad para determinar su propuesta económica conforme al Formulario 1 - Presupuesto Oficial publicado por la Entidad]
C10: Cuando el proceso de contratación es estructurado por precios unitarios, la Entidad debe aplicar las notas 1, 2 y 3 del presente formato y las casillas de "Descripción", "Porcentaje" de la Administración, Imprevisto, Utilidad y total A.I.U. resaltadas en color amarillo.
C11: =+'1 CANT MC-AM 01'!$D$5 -> CONSTRUCCIÓN DE PLACA HUELLAS CON APOYO DE LA COMUNIDAD Y EL COMITÉ DE CAFETEROS EN ZONA RURAL DEL MUNICIPIO DE RISARALDA
C12: Nº | D12: ITEM DE PAGO | E12: ESPECIFICACIONES | G12: DESCRIPCION | H12: UND. | I12: CANTIDAD | J12: VALOR UNITARIO | K12: VALOR TOTAL
E13: GENERAL | F13: PARTICULAR
G14: PRELIMINARES
C15: 1 | D15: =+C15 -> 1 | G15: =+PRESUPUESTO!C4 -> Excavaciones varias en material común. No incluye mano de obra no calificada. | H15: =+PRESUPUESTO!D4 -> M3 | I15: =+PRESUPUESTO!E4 -> 195.67 | K15: =ROUND(I15*J15,0) -> 0
C16: 2 | D16: =+C16 -> 2 | G16: =+PRESUPUESTO!C5 -> Suministro, transporte e instalacion de afirmado compactado. No incluye mano de obra no calificada. | H16: =+PRESUPUESTO!D5 -> M3 | I16: =+PRESUPUESTO!E5 -> 121.95 | K16: =ROUND(I16*J16,0) -> 0
C17: 3 | D17: =+C17 -> 3 | G17: =+PRESUPUESTO!C6 -> Concreto clase D: Concreto de 3000 PSI. Incluye preparación e instalación de concreto en placas, vigas y cunetas. Incluye formaleta. Incluye agregados. No incluye suministro de cemento. No incluye mano de obra no calificada. | H17: =+PRESUPUESTO!D6 -> M3 | I17: =+PRESUPUESTO!E6 -> 88.73 | K17: =ROUND(I17*J17,0) -> 0
C18: 4 | D18: =+C18 -> 4 | G18: =+PRESUPUESTO!C7 -> Concreto clase G: 60% concreto clase D y 40% Piedra. Incluye preparación e instalación de concreto en enrocados. Incluye agregados. No incluye suministro de cemento. No incluye mano de obra no calificada. | H18: =+PRESUPUESTO!D7 -> M3 | I18: =+PRESUPUESTO!E7 -> 25.25 | K18: =ROUND(I18*J18,0) -> 0
C19: 5 | D19: =+C19 -> 5 | G19: =+PRESUPUESTO!C8 -> Sardinel en concreto clase D. Incluye preparación e instalación de concreto. Incluye formaleta. Incluye agregados. No incluye suministro de cemento. No incluye mano de obra no calificada. | H19: =+PRESUPUESTO!D8 -> ML | I19: =+PRESUPUESTO!E8 -> 390 | K19: =ROUND(I19*J19,0) -> 0
C20: 6 | D20: =+C20 -> 6 | G20: =+PRESUPUESTO!C9 -> Suministro, transporte e instalacion de acero de refuerzo Fy=60000 PSI. No incluye mano de obra no calificada. | H20: =+PRESUPUESTO!D9 -> KG | I20: =+PRESUPUESTO!E9 -> 572.25 | K20: =ROUND(I20*J20,0) -> 0
C21: 7 | D21: =+C21 -> 7 | G21: =+PRESUPUESTO!C10 -> Suministro, transporte e instalacion de malla electrosoldada de 15x15 cm x 5mm. No incluye mano de obra no calificada. | H21: =+PRESUPUESTO!D10 -> M2 | I21: =+PRESUPUESTO!E10 -> 806.9 | K21: =ROUND(I21*J21,0) -> 0
C22: 8 | D22: =+C22 -> 8 | G22: =+PRESUPUESTO!C11 -> Sobreacarreo de materiales en vehiculo automotor de tracción 4x4. No incluye mano de obra no calificada para cargue y descargue. | H22: =+PRESUPUESTO!D11 -> TON | I22: =+PRESUPUESTO!E11 -> 548.96 | K22: =ROUND(I22*J22,0) -> 0
C23: 9 | D23: =+C23 -> 9 | G23: =+PRESUPUESTO!C12 -> Demolición de concreto hidraulico. Incluye retiro y disposición final. | H23: =+PRESUPUESTO!D12 -> M3 | I23: =+PRESUPUESTO!E12 -> 13.7 | K23: =ROUND(I23*J23,0) -> 0
G25: SUBTOTAL PROYECTO | K25: =SUM(K15:K23) -> 0
G28: TOTAL OBRAS CIVILES (INCLUYE AIU=34.5%) | K28: =K27+K26+K25 -> 0
G31: VALOR TOTAL | K31: =+K28 -> 0
C34: NOTA 1: Se debe tener en cuenta que el PRECIO UNITARIO incluye el valor de A.I.U. | H34: DESCRIPCION | K34: PORCENTAJE
C35: NOTA 2: Cuando la fracción decimal del peso sea igual o superior a 5 se aproximara por exceso al número entero siguiente del peso y cuando la fracción decimal del peso sea inferior a 5 se aproximará por defecto al número entero del peso. | H35: ADMINISTRACION | J35: A= | K35: 0
C36: NOTA 3: El A.I.U y su discriminación deben estar en porcentaje (%). | H36: IMPREVISTO | J36: I= | K36: 0
H37: UTILIDAD | J37: U= | K37: 0
H38: TOTAL A.I.U | J38: A.I.U.= | K38: =K35+K36+K37 -> 0
G44: _________________________________________________
G45: Firma del Proponente o de su Representante Legal

Sheet INDICAR CÓDIGO DEL ITEM DE PAGO
C3: Formulario 1 - Propuesta económica - Documento tipo de selección abreviada de menor cuantía - versión 2
C4: Código | D4: CCE-EICP-FM-25 | E4: Versión | F4: 2
C6: [La entidad podrá utilizar este formato para la presentación de los análisis de precios unitarios el contratista en la oportunidad prevista en el numeral 8.1. del Documento Base]
D9: [NOMBRE DE LA ENTIDAD]
L10: VERSIÓN
D11: [NÚMERO DEL PROCESO]
L12: PÁGINA | M12: 1 | N12: DE | O12: 1
D14: ANALISIS DE PRECIOS UNITARIOS
L16: FECHA | M16: DD | N16: MM | O16: AA
C17: ITEMS DE LA PROPUESTA ECONÓMICA | I17: ITEMS NO PREVISTOS
C21: DATOS ESPECÍFICOS
C23: ITEM | D23: DESCRIPCIÓN | M23: UNIDAD | O23: CANTIDAD
C25: I. EQUIPO
C28: DESCRIPCIÓN | H28: MARCA | J28: TIPO | L28: TARIFA/HORA | M28: RENDIMIENTO | O28: Vr. UNITARIO
C32: SUBTOTAL $
C33: II. MATERIALES
C36: DESCRIPCIÓN | K36: UNIDAD | L36: CANTIDAD | M36: PRECIO UNIT. | O36: Vr. UNITARIO
C39: SUBTOTAL $ | O39: 0
C40: III. TRANSPORTES
C43: MATERIAL | J43: VOL. o PESO | K43: DISTANCIA | L43: M3 o Ton/Km | M43: TARIFA | O43: Vr. UNITARIO
C46: SUBTOTAL $
C47: IV. MANO DE OBRA
C50: TRABAJADOR | J50: JORNAL | K50: PRESTACIONES | L50: JORNAL TOTAL | M50: RENDIMIENTO | O50: Vr. UNITARIO
C55: SUBTOTAL $
C57: TOTAL COSTO DIRECTO $
C58: V. COSTOS INDIRECTOS
C61: Descripción | L61: Porcentaje | M61: Valor Total
C62: ADMINISTRACION
C63: IMPREVISTOS
C64: UTILIDAD
C65: SUBTOTAL $
C67: Precio Unitario Total Aproximado al peso $
H71: Firma
H72: Nombre:
H73: Representante Legal del Contratista o su Apoderado
H74: Matricula No. :
C76: OBSERVACIONES INTERVENTORÍA
C80: APROBACIÓN POR INTERVENTORÍA
C81: Nota 1: Cuando se trate de Análisis de precios unitarios correspondientes a ítems de la propuesta económica aprobada, el Interventor aprueba el desglose de los componentes manteniendo el mismo precio unitario de cada ítem, cumpliendo con las especificaciones de construcción vigentes para el proyecto.
C83: Nota 2: Cuando se trate de Análisis de precios unitarios de ítems no previstos, el Interventor aprueba el desglose y precio unitario de cada ítem no previsto, exigiendo la aplicación de los costos correspondientes a insumos y tarifas de la propuesta económica inicial cuando estén contemplados, cumpliendo con las especificaciones de construcción vigente para el proyecto.
...

Sheet MATERIALES
A1: MATERIALES | B1: UNIDAD | C1: COSTO
A2: Acero de refuerzo Fy=60000 PSI | B2: KG | C2: =6500*1.052 -> 6838
A3: Agua | B3: LT | C3: 90
A4: Alambre negro para amarre | B4: KG | C4: =8500*1.052 -> 8942
A5: Arena de rio | B5: M³ | C5: =108000*1.052 -> 113616
A6: Formaleta madera | B6: ML | C6: =25000*1.052 -> 26300
A7: Malla Electrosoldada 15x15cm x 5mm | B7: M2 | C7: =240000/(6*2.35)*1.052 -> 17906.383
A8: Material de afirmado | B8: M³ | C8: 87000
A9: Piedra para concreto ciclópeo | B9: M³ | C9: =110000*1.052 -> 115720
A10: Triturado de 3/4" | B10: M³ | C10: =108000*1.052 -> 113616
A15: KG: KILOGRAMO
A16: LB: LIBRA
A17: M²: METRO CUADRADO
A18: M³: METRO CUBICO
A19: ML: METRO LINEAL
A20: LT: LITRO
A21: U: UNIDAD

Sheet EQUIPO
A1: EQUIPO | B1: UNIDAD | C1: TARIFA
A2: Camioneta | B2: TONELADA | C2: =30035*1.052 -> 31596.82
A3: Compactador manual (RANA) | B3: $/DIA | C3: =50000*1.052 -> 52600
A4: Mezcladora de concreto (1bulto) | B4: $/HORA | C4: =8750*1.052 -> 9205
A5: Vibrador de concreto | B5: $/HORA | C5: =50000/8*1.052 -> 6575
A6: Martillo demoledor | B6: $/HORA | C6: =150000/8 -> 18750
A7: Volqueta 7m3 | B7: m3/km | C7: =1800 -> 1800
A12: $/HORA: PESOS M/C POR CADA HORA DE TRABAJO
A13: M³-KM: COSTO DE TRANSPORTE DE CADA METRO CUBICO POR CADA KM
A14: KG-KM: COSTO DE TRANSPORTE DE CADA KILOGRAMO POR CADA KILOMETRO

Sheet ANALISIS FACTOR PRESTACIONAL
A1: ANÁLISIS FACTOR PRESTACIONAL
B3: Días del año | C3: 360
B4: Salario Minimo 2025 | C4: 1423500
B5: Subsidio Transporte 2025 | C5: 200000
A7: Descripción | C7: % | D7: Valor en $
A8: Prestaciones Sociales | B8: Subsidio de Transporte | C8: =C5/C4 -> 0.14049877 | D8: =+C5 -> 200000
B9: Cesantías | C9: 0.0833 | D9: =C9*C4 -> 118577.55
B10: Intereses cesantías | C10: 0.01 | D10: =C10*C4 -> 14235
B11: Prima | C11: 0.0833 | D11: =C11*C4 -> 118577.55
B12: Vacaciones | C12: 0.0417 | D12: =C12*C4 -> 59359.95
B13: Dotaciones | C13: 0.042401229 | D13: =C4*C13 -> 60358.15
A14: Examenes medicos | B14: Examenes de ingreso y egreso | C14: 0.0192 | D14: =C14*C4 -> 27331.2
A15: Salud. Pension y ARL | B15: Salud | C15: 0.085 | D15: =C15*C4 -> 120997.5
B16: Pensión | C16: 0.12 | D16: =C16*C4 -> 170820
B17: ARL | C17: 0.0696 | D17: =C17*C4 -> 99075.6
A18: Parafiscales | B18: Sena | C18: 0.02 | D18: =C18*C4 -> 28470
B19: FIC | C19: 0.025 | D19: =C19*C4 -> 35587.5
B20: ICBF | C20: 0.03 | D20: =C20*C4 -> 42705
B21: Caja de compensacion | C21: 0.04 | D21: =C4*C21 -> 56940
A23: TOTAL | C23: =SUM(C8:C22) -> 0.81

Sheet APU 1
C1: ANALISIS DE PRECIOS UNITARIOS | G1: =DATOS!C4 -> MUNICIPIO DE RISARALDA
C2: =DATOS!C2 -> CONSTRUCCIÓN DE PLACA HUELLAS CON APOYO DE LA COMUNIDAD Y EL COMITÉ DE CAFETEROS EN ZONA RURAL DEL MUNICIPIO DE RISARALDA
A5: ITEM: | B5: 1
B6: =PRESUPUESTO!C4 -> Excavaciones varias en material común. No incluye mano de obra no calificada. | G6: UNIDAD : | H6: =PRESUPUESTO!D4 -> M3
A8: I. EQUIPO
A9: Descripción | D9: Tipo | E9: Tarifa/Hora | F9: Rendimiento | G9: Valor-Unit.
A10: HERRAMIENTA MENOR (8%) | E10: =H32 -> 21742.911 | F10: 0.08 | G10: =E10*F10 -> 1739.4329
G13: Sub-Total | H13: =SUM(G10:G12) -> 1739.4329
A14: II. MATERIALES EN OBRA
A15: Descripción | D15: Unidad | E15: Precio-Unit. | F15: Cantidad | G15: Valor-Unit.
G20: Sub-Total | H20: =SUM(G16:G19) -> 0
A21: III. TRANSPORTES
A22: Material | C22: Vol. Peso ó Cant. | D22: Distancia | E22: M3-Km | F22: Tarifa | G22: Valor-Unit.
G26: Sub-Total | H26: =SUM(G23:G25) -> 0 | K26: MO
A27: IV. MANO DE OBRA | K27: 1423500
A28: Trabajador | C28: Jornal | D28: Prestaciones | E28: Jornal Total | F28: Rendimiento | G28: Valor-Unit. | K28: =K27/30 -> 47450
A29: 1 OFICIAL | C29: =(K28*2) -> 94900 | D29: =+'ANALISIS FACTOR PRESTACIONAL'!C23+1 -> 1.81 | E29: =+D29*C29 -> 171769 | F29: 7.9 | G29: =+E29/F29 -> 21742.911
G32: Sub-Total | H32: =SUM(G29:G31) -> 21742.911
E34: Total Costo Directo | H34: =ROUND((H13+H20+H26+H32),0) -> 23482
E36: Total Costo con AU= | G36: 0.345 | H36: =ROUND((H34*(1+G36)),0) -> 31583

Sheet APU 2
C1: ANALISIS DE PRECIOS UNITARIOS | G1: =DATOS!C4 -> MUNICIPIO DE RISARALDA
C2: =DATOS!C2 -> CONSTRUCCIÓN DE PLACA HUELLAS CON APOYO DE LA COMUNIDAD Y EL COMITÉ DE CAFETEROS EN ZONA RURAL DEL MUNICIPIO DE RISARALDA
A5: ITEM: | B5: =PRESUPUESTO!B5 -> 2
B6: =PRESUPUESTO!C5 -> Suministro, transporte e instalacion de afirmado compactado. No incluye mano de obra no calificada. | G6: UNIDAD : | H6: =PRESUPUESTO!D5 -> M3
A8: I. EQUIPO
A9: Descripción | D9: Tipo | E9: Tarifa/día | F9: Rendimiento | G9: Valor-Unit.
A10: COMPACTADOR VIBRATORIO TIPO RANA | E10: =+EQUIPO!C3 -> 52600 | F10: 10 | G10: =+E10/F10 -> 5260
G14: Sub-Total | H14: =SUM(G10:G13) -> 5260
A15: II. MATERIALES EN OBRA
A16: Descripción | D16: Unidad | E16: Precio-Unit. | F16: Cantidad | G16: Valor-Unit.
A17: AFIRMADO | D17: M3 | E17: =+MATERIALES!C8 -> 87000 | F17: 1.25 | G17: =E17*F17 -> 108750
G21: Sub-Total | H21: =SUM(G17:G20) -> 108750
A22: III. TRANSPORTES
A23: Material | C23: Vol. Peso ó Cant. | D23: Distancia | E23: M3-Km | F23: Tarifa | G23: Valor-Unit.
G27: Sub-Total | H27: =SUM(G24:G26) -> 0
A28: IV. MANO DE OBRA
A29: Trabajador | C29: Jornal | D29: Prestaciones | E29: Jornal Total | F29: Rendimiento | G29: Valor-Unit.
A30: 1 OFICIAL | C30: ='APU 1'!$K$28*2 -> 94900 | D30: =+'APU 1'!$D$29 -> 1.81 | E30: =+D30*C30 -> 171769 | F30: 11.5 | G30: =+E30/F30 -> 14936.435
G36: Sub-Total | H36: =SUM(G30:G35) -> 14936.435
E38: Total Costo Directo | H38: =ROUND((H14+H21+H27+H36),0) -> 128946
E40: Total Costo con AU= | G40: =+'APU 1'!G36 -> 0.345 | H40: =ROUND((H38*(1+G40)),0) -> 173432

Sheet APU 3
C1: ANALISIS DE PRECIOS UNITARIOS | G1: =+'APU 2'!G1:H3 -> MUNICIPIO DE RISARALDA
C2: =+'APU 2'!C2:F3 -> CONSTRUCCIÓN DE PLACA HUELLAS CON APOYO DE LA COMUNIDAD Y EL COMITÉ DE CAFETEROS EN ZONA RURAL DEL MUNICIPIO DE RISARALDA
A5: ITEM: | B5: =PRESUPUESTO!B6 -> 3
B6: =PRESUPUESTO!C6 -> Concreto clase D: Concreto de 3000 PSI. Incluye preparación e instalación de concreto en placas, vigas y cunetas. Incluye formaleta. Incluye agregados. No incluye suministro de cemento. No incluye mano de obra no calificada. | G6: UNIDAD : | H6: =PRESUPUESTO!D6 -> M3
A8: I. EQUIPO
A9: Descripción | D9: Tipo | E9: Tarifa/Hora | F9: Rendimiento | G9: Valor-Unit.
A10: MEZCLADORA DE CONCRETO (1 BULTO) | E10: =EQUIPO!$C$4 -> 9205 | F10: 1 | G10: =+E10/F10 -> 9205
A11: VIBRADOR DE CONCRETO | E11: =EQUIPO!$C$5 -> 6575 | F11: =F10 -> 1 | G11: =+E11/F11 -> 6575
A12: HERRAMIENTA MENOR (8%MO) | E12: =H38 -> 98767.175 | F12: 0.08 | G12: =E12*F12 -> 7901.374
G16: Sub-Total | H16: =SUM(G10:G15) -> 23681.374
A17: II. MATERIALES EN OBRA
A18: Descripción | D18: Unidad | E18: Precio-Unit. | F18: Cantidad | G18: Valor-Unit.
A19: ARENA DE RIO | D19: M3 | E19: =+MATERIALES!C5 -> 113616 | F19: =0.56*1.03 -> 0.5768 | G19: =E19*F19 -> 65533.709
A20: TRITURADO 3/4" | D20: M3 | E20: =+MATERIALES!C10 -> 113616 | F20: =0.84*1.03 -> 0.8652 | G20: =E20*F20 -> 98300.563
A21: FORMALETA EN MADERA | D21: M2 | E21: =+MATERIALES!C6 -> 26300 | F21: 3 | G21: =E21*F21 -> 78900
A22: AGUA | D22: LT | E22: =+MATERIALES!$C$3 -> 90 | F22: 180 | G22: =E22*F22 -> 16200
G25: Sub-Total | H25: =SUM(G19:G24) -> 258934.27
A26: III. TRANSPORTES
A27: Material | C27: Vol. Peso ó Cant. | D27: Distancia | E27: M3-Km | F27: Tarifa | G27: Valor-Unit.
G31: Sub-Total | H31: =SUM(G28:G30) -> 0
A32: IV. MANO DE OBRA
A33: Trabajador | C33: Jornal | D33: Prestaciones | E33: Jornal Total | F33: Rendimiento | G33: Valor-Unit.
A34: 1 OFICIALES | C34: ='APU 1'!K28*2 -> 94900 | D34: =+'APU 1'!$D$29 -> 1.81 | E34: =+D34*C34 -> 171769 | F34: 0.575 | G34: =+E34*F34 -> 98767.175
G38: Sub-Total | H38: =SUM(G34:G37) -> 98767.175
E40: Total Costo Directo | H40: =ROUND((H16+H25+H31+H38),0) -> 381383
E42: Total Costo con AU= | G42: =+'APU 1'!G36 -> 0.345 | H42: =ROUND((H40*(1+G42)),0) -> 512960

Sheet APU 4
C1: ANALISIS DE PRECIOS UNITARIOS | G1: =DATOS!C4 -> MUNICIPIO DE RISARALDA
C2: =DATOS!C2 -> CONSTRUCCIÓN DE PLACA HUELLAS CON APOYO DE LA COMUNIDAD Y EL COMITÉ DE CAFETEROS EN ZONA RURAL DEL MUNICIPIO DE RISARALDA
A5: ITEM: | B5: =PRESUPUESTO!B7 -> 4
B6: =PRESUPUESTO!C7 -> Concreto clase G: 60% concreto clase D y 40% Piedra. Incluye preparación e instalación de concreto en enrocados. Incluye agregados. No incluye suministro de cemento. No incluye mano de obra no calificada. | G6: UNIDAD : | H6: =PRESUPUESTO!D7 -> M3
A8: I. EQUIPO
A9: Descripción | D9: Tipo | E9: Tarifa/Hora | F9: Rendimiento | G9: Valor-Unit.
A10: MEZCLADORA DE CONCRETO (1 BULTO) | E10: =EQUIPO!$C$4 -> 9205 | F10: 1.2 | G10: =+E10/F10 -> 7670.8333
A11: VIBRADOR DE CONCRETO | E11: =EQUIPO!$C$5 -> 6575 | F11: =F10 -> 1.2 | G11: =+E11/F11 -> 5479.1667
A12: HERRAMIENTA MENOR (8%MO) | E12: =+H37 -> 86737.345 | F12: 0.08 | G12: =E12*F12 -> 6938.9876
G14: Sub-Total | H14: =SUM(G10:G13) -> 20088.988
A15: II. MATERIALES EN OBRA
A16: Descripción | D16: Unidad | E16: Precio-Unit. | F16: Cantidad | G16: Valor-Unit.
A17: ARENA DE RIO | D17: M3 | E17: =+'APU 3'!E19 -> 113616 | F17: =0.56*1.03*0.6 -> 0.34608 | G17: =E17*F17 -> 39320.225
A18: TRITURADO 3/4" | D18: M3 | E18: =+'APU 3'!E20 -> 113616 | F18: =0.84*1.03*0.6 -> 0.51912 | G18: =E18*F18 -> 58980.338
A19: PIEDRA | D19: M3 | E19: =+MATERIALES!C9 -> 115720 | F19: =0.4 -> 0.4 | G19: =E19*F19 -> 46288
A20: AGUA | D20: LT | E20: =+MATERIALES!$C$3 -> 90 | F20: =180*0.6 -> 108 | G20: =E20*F20 -> 9720
G24: Sub-Total | H24: =SUM(G17:G23) -> 154308.56
A25: III. TRANSPORTES
A26: Material | C26: Vol-peso ó Cant. | D26: Distancia | E26: M3-Km | F26: Tarifa | G26: Valor-Unit.
G31: Sub-Total | H31: =SUM(G27:G30) -> 0
A32: IV. MANO DE OBRA
A33: Trabajador | C33: Jornal | D33: Prestaciones | E33: Jornal Total | F33: Rendimiento | G33: Valor-Unit.
A34: 1 OFICIAL | C34: =2*'APU 1'!K28 -> 94900 | D34: =+'APU 1'!$D$29 -> 1.81 | E34: =+D34*C34 -> 171769 | F34: 0.505 | G34: =+E34*F34-6 -> 86737.345
G37: Sub-Total | H37: =SUM(G34:G36) -> 86737.345
E39: Total Costo Directo | H39: =ROUND((H14+H24+H31+H37),0) -> 261135
E41: Total Costo con AU= | G41: =+'APU 1'!G36 -> 0.345 | H41: =ROUND((H39*(1+G41)),0) -> 351227

Sheet APU 5
C1: ANALISIS DE PRECIOS UNITARIOS | G1: =+'APU 4'!G1:H3 -> MUNICIPIO DE RISARALDA
C2: =+'APU 3'!C2:F3 -> CONSTRUCCIÓN DE PLACA HUELLAS CON APOYO DE LA COMUNIDAD Y EL COMITÉ DE CAFETEROS EN ZONA RURAL DEL MUNICIPIO DE RISARALDA
A5: ITEM: | B5: =PRESUPUESTO!B8 -> 5
B6: =PRESUPUESTO!C8 -> Sardinel en concreto clase D. Incluye preparación e instalación de concreto. Incluye formaleta. Incluye agregados. No incluye suministro de cemento. No incluye mano de obra no calificada. | G6: UNIDAD : | H6: =PRESUPUESTO!D8 -> ML
A8: I. EQUIPO
A9: Descripción | D9: Tipo | E9: Tarifa/Hora | F9: Rendimiento | G9: Valor-Unit.
A10: MEZCLADORA DE CONCRETO (1 BULTO) | E10: =EQUIPO!$C$4 -> 9205 | F10: 6 | G10: =+E10/F10 -> 1534.1667
A11: VIBRADOR DE CONCRETO | E11: =EQUIPO!$C$5 -> 6575 | F11: =F10 -> 6 | G11: =+E11/F11 -> 1095.8333
A12: HERRAMIENTA MENOR (8%MO) | E12: =+H35 -> 21881.401 | F12: 0.08 | G12: =E12*F12 -> 1750.5121
G14: Sub-Total | H14: =SUM(G10:G13) -> 4380.5121
A15: II. MATERIALES EN OBRA
A16: Descripción | D16: Unidad | E16: Precio-Unit. | F16: Cantidad | G16: Valor-Unit.
A17: ARENA DE RIO | D17: M3 | E17: =+'APU 3'!E19 -> 113616 | F17: =0.2*0.15*0.56*1.03 -> 0.017304 | G17: =E17*F17 -> 1966.0113
A18: TRITURADO 3/4" | D18: M3 | E18: =+'APU 3'!E20 -> 113616 | F18: =0.2*0.15*0.84*1.03 -> 0.025956 | G18: =E18*F18 -> 2949.0169
A19: FORMALETA EN MADERA | D19: M2 | E19: =+'APU 3'!E21 -> 26300 | F19: 0.3 | G19: =E19*F19 -> 7890
A20: AGUA | D20: LT | E20: =+MATERIALES!$C$3 -> 90 | F20: =180*0.2*0.15 -> 5.4 | G20: =E20*F20 -> 486
G23: Sub-Total | H23: =SUM(G17:G21) -> 13291.028
A24: III. TRANSPORTES
A25: Material | C25: Vol. Peso ó Cant. | D25: Distancia | E25: M3-Km | F25: Tarifa | G25: Valor-Unit.
G29: Sub-Total | H29: =SUM(G26:G28) -> 0
A30: IV. MANO DE OBRA
A31: Trabajador | C31: Jornal | D31: Prestaciones | E31: Jornal Total | F31: Rendimiento | G31: Valor-Unit.
A32: 1 OFICIAL | C32: ='APU 1'!K28*2 -> 94900 | D32: =+'APU 1'!$D$29 -> 1.81 | E32: =+D32*C32 -> 171769 | F32: 7.85 | G32: =+E32/F32 -> 21881.401
G35: Sub-Total | H35: =SUM(G32:G34) -> 21881.401
E37: Total Costo | H37: =ROUND((H14+H23+H29+H35),0) -> 39553
E39: Total Costo con AU= | G39: =+'APU 1'!G36 -> 0.345 | H39: =ROUND((H37*(1+G39)),0) -> 53199

Sheet APU 6
C1: ANALISIS DE PRECIOS UNITARIOS | G1: =DATOS!C4 -> MUNICIPIO DE RISARALDA
C2: =DATOS!C2 -> CONSTRUCCIÓN DE PLACA HUELLAS CON APOYO DE LA COMUNIDAD Y EL COMITÉ DE CAFETEROS EN ZONA RURAL DEL MUNICIPIO DE RISARALDA
A5: ITEM: | B5: =PRESUPUESTO!B9 -> 6
B6: =PRESUPUESTO!C9 -> Suministro, transporte e instalacion de acero de refuerzo Fy=60000 PSI. No incluye mano de obra no calificada. | G6: UNIDAD : | H6: =PRESUPUESTO!D9 -> KG
A8: I. EQUIPO
A9: Descripción | D9: Tipo | E9: Tarifa/Hora | F9: Rendimiento | G9: Valor-Unit.
A10: HERRAMIENTA MENOR (8%MO) | E10: =H33 -> 1808.0947 | F10: 0.08 | G10: =E10*F10 -> 144.64758
G14: Sub-Total | H14: =SUM(G10:G13) -> 144.64758
A15: II. MATERIALES EN OBRA
A16: Descripción | D16: Unidad | E16: Precio-Unit. | F16: Cantidad | G16: Valor-Unit.
A17: Acero de refuerzo Fy=60000 PSI | D17: Kg | E17: =+MATERIALES!C2 -> 6838 | F17: 1.03 | G17: =E17*F17 -> 7043.14
A18: Alambre de amarre | D18: Kg | E18: =+MATERIALES!C4 -> 8942 | F18: 0.06 | G18: =E18*F18 -> 536.52
G20: Sub-Total | H20: =SUM(G17:G18) -> 7579.66
A21: III. TRANSPORTES
A22: Material | C22: Vol. Peso ó Cant. | D22: Distancia | E22: M3-Km | F22: Tarifa | G22: Valor-Unit.
G26: Sub-Total | H26: =SUM(G23:G25) -> 0
A27: IV. MANO DE OBRA
A28: Trabajador | C28: Jornal | D28: Prestaciones | E28: Jornal Total | F28: Rendimiento | G28: Valor-Unit.
A29: 1 OFICIAL | C29: ='APU 1'!K28*2 -> 94900 | D29: =+'APU 1'!$D$29 -> 1.81 | E29: =D29*C29 -> 171769 | F29: 95 | G29: =E29/F29 -> 1808.0947
G33: Sub-Total | H33: =SUM(G29:G32) -> 1808.0947
E35: Total Costo Directo | H35: =ROUND((H14+H20+H26+H33),0) -> 9532
E37: Total Costo con AU= | G37: =+'APU 1'!G36 -> 0.345 | H37: =ROUND((H35*(1+G37)),0) -> 12821

Sheet APU 7
C1: ANALISIS DE PRECIOS UNITARIOS | G1: =DATOS!C4 -> MUNICIPIO DE RISARALDA
C2: =DATOS!C2 -> CONSTRUCCIÓN DE PLACA HUELLAS CON APOYO DE LA COMUNIDAD Y EL COMITÉ DE CAFETEROS EN ZONA RURAL DEL MUNICIPIO DE RISARALDA
A5: ITEM: | B5: 7
B6: =PRESUPUESTO!C10 -> Suministro, transporte e instalacion de malla electrosoldada de 15x15 cm x 5mm. No incluye mano de obra no calificada. | G6: UNIDAD : | H6: =PRESUPUESTO!D10 -> M2
A8: I. EQUIPO
A9: Descripción | D9: Tipo | E9: Tarifa/Hora | F9: Rendimiento | G9: Valor-Unit.
A10: HERRAMIENTA MENOR (8%MO) | E10: =H33 -> 1374.152 | F10: 0.08 | G10: =E10*F10 -> 109.93216
G14: Sub-Total | H14: =SUM(G10:G13) -> 109.93216
A15: II. MATERIALES EN OBRA
A16: Descripción | D16: Unidad | E16: Precio-Unit. | F16: Cantidad | G16: Valor-Unit.
A17: Malla electrosoldada de 15x15 cm x 5mm | D17: M2 | E17: =+MATERIALES!C7 -> 17906.383 | F17: 1.1 | G17: =E17*F17 -> 19697.021
A18: Alambre de amarre | D18: Kg | E18: =+'APU 6'!E18 -> 8942 | F18: 0.03 | G18: =E18*F18 -> 268.26
G20: Sub-Total | H20: =SUM(G17:G18) -> 19965.281
A21: III. TRANSPORTES
A22: Material | C22: Vol. Peso ó Cant. | D22: Distancia | E22: M3-Km | F22: Tarifa | G22: Valor-Unit.
G26: Sub-Total | H26: =SUM(G23:G25) -> 0
A27: IV. MANO DE OBRA
A28: Trabajador | C28: Jornal | D28: Prestaciones | E28: Jornal Total | F28: Rendimiento | G28: Valor-Unit.
A29: 1 OFICIAL | C29: ='APU 1'!K28*2 -> 94900 | D29: =+'APU 1'!$D$29 -> 1.81 | E29: =D29*C29 -> 171769 | F29: 125 | G29: =E29/F29 -> 1374.152
G33: Sub-Total | H33: =SUM(G29:G32) -> 1374.152
E35: Total Costo Directo | H35: =ROUND((H14+H20+H26+H33),0) -> 21449
E37: Total Costo con AU= | G37: =+'APU 1'!G36 -> 0.345 | H37: =ROUND((H35*(1+G37)),0) -> 28849

Sheet APU 8
C1: ANALISIS DE PRECIOS UNITARIOS | G1: =DATOS!C4 -> MUNICIPIO DE RISARALDA
C2: =DATOS!C2 -> CONSTRUCCIÓN DE PLACA HUELLAS CON APOYO DE LA COMUNIDAD Y EL COMITÉ DE CAFETEROS EN ZONA RURAL DEL MUNICIPIO DE RISARALDA
A5: ITEM: | B5: 8
B6: =+PRESUPUESTO!C11 -> Sobreacarreo de materiales en vehiculo automotor de tracción 4x4. No incluye mano de obra no calificada para cargue y descargue. | G6: UNIDAD : | H6: TON
A8: I. EQUIPO
A9: Descripción | D9: Tipo | E9: Tarifa/Hora | F9: Rendimiento | G9: Valor-Unit.
A10: HERRAMIENTA MENOR (8%MO) | E10: =+H36 -> 0 | F10: 0.08 | G10: =E10*F10 -> 0
G14: Sub-Total | H14: =SUM(G10:G13) -> 0
A15: II. MATERIALES EN OBRA
A16: Descripción | D16: Unidad | E16: Precio-Unit. | F16: Cantidad | G16: Valor-Unit.
G23: Sub-Total | H23: =SUM(G17:G22) -> 0
A24: III. TRANSPORTES
A25: Material | C25: Vol-peso ó Cant. | D25: Distancia | E25: M3-Km | F25: Tarifa | G25: Valor-Unit.
A26: CAMIONETA | C26: 1 | D26: 1 | E26: =C26*D26 -> 1 | F26: =+EQUIPO!C2 -> 31596.82 | G26: =E26*F26 -> 31596.82
G30: Sub-Total | H30: =SUM(G26:G29) -> 31596.82
A31: IV. MANO DE OBRA
A32: Trabajador | C32: Jornal | D32: Prestaciones | E32: Jornal Total | F32: Rendimiento | G32: Valor-Unit.
G36: Sub-Total | H36: =SUM(G33:G35) -> 0
E38: Total Costo Directo | H38: =H30 -> 31596.82
E40: Total Costo con AU= | G40: =+'APU 1'!G36 -> 0.345 | H40: =ROUND((H38*(1+G40)),0) -> 42498

Sheet APU 9
C1: ANALISIS DE PRECIOS UNITARIOS | G1: =DATOS!C4 -> MUNICIPIO DE RISARALDA
C2: =DATOS!C2 -> CONSTRUCCIÓN DE PLACA HUELLAS CON APOYO DE LA COMUNIDAD Y EL COMITÉ DE CAFETEROS EN ZONA RURAL DEL MUNICIPIO DE RISARALDA
A5: ITEM: | B5: 9
B6: =PRESUPUESTO!C4 -> Excavaciones varias en material común. No incluye mano de obra no calificada. | G6: UNIDAD : | H6: =PRESUPUESTO!D4 -> M3
A8: I. EQUIPO
A9: Descripción | D9: Tipo | E9: Tarifa/Hora | F9: Rendimiento | G9: Valor-Unit.
A10: HERRAMIENTA MENOR (8%) | E10: =H32 -> 26426 | F10: 0.08 | G10: =E10*F10 -> 2114.08
A11: MARTILLO DEMOLEDOR | E11: =+EQUIPO!C6 -> 18750 | F11: 7 | G11: =E11*F11 -> 131250
G13: Sub-Total | H13: =SUM(G10:G12) -> 133364.08
A14: II. MATERIALES EN OBRA
A15: Descripción | D15: Unidad | E15: Precio-Unit. | F15: Cantidad | G15: Valor-Unit.
G20: Sub-Total | H20: =SUM(G16:G19) -> 0
A21: III. TRANSPORTES
A22: Material | C22: Vol. Peso ó Cant. | D22: Distancia | E22: M3-Km | F22: Tarifa | G22: Valor-Unit.
A23: VOLQUETA | C23: 1.3 | D23: 15 | E23: =C23*D23 -> 19.5 | F23: =+EQUIPO!C7 -> 1800 | G23: =E23*F23 -> 35100
G26: Sub-Total | H26: =SUM(G23:G25) -> 35100
A27: IV. MANO DE OBRA
A28: Trabajador | C28: Jornal | D28: Prestaciones | E28: Jornal Total | F28: Rendimiento | G28: Valor-Unit.
A29: 1 OFICIAL | C29: ='APU 1'!$K$28*2 -> 94900 | D29: =+'ANALISIS FACTOR PRESTACIONAL'!C23+1 -> 1.81 | E29: =+D29*C29 -> 171769 | F29: 6.5 | G29: =+E29/F29 -> 26426
G32: Sub-Total | H32: =SUM(G29:G31) -> 26426
E34: Total Costo Directo | H34: =ROUND((H13+H20+H26+H32),0) -> 194890
E36: Total Costo con AU= | G36: =+'APU 1'!G36 -> 0.345 | H36: =ROUND((H34*(1+G36)),0) -> 262127

Sheet APU 10
C1: ANALISIS DE PRECIOS UNITARIOS | G1: =DATOS!C4 -> MUNICIPIO DE RISARALDA
C2: =DATOS!C2 -> CONSTRUCCIÓN DE PLACA HUELLAS CON APOYO DE LA COMUNIDAD Y EL COMITÉ DE CAFETEROS EN ZONA RURAL DEL MUNICIPIO DE RISARALDA
A5: ITEM: | B5: 10
B6: =PRESUPUESTO!C14 -> Aporte de mano de obra no calificada por la comunidad del tramo a intervenir | G6: UNIDAD : | H6: =PRESUPUESTO!D14 -> ML
A8: I. EQUIPO
A9: Descripción | D9: Tipo | E9: Tarifa/Hora | F9: Rendimiento | G9: Valor-Unit.
G13: Sub-Total | H13: =SUM(G10:G12) -> 0
A14: II. MATERIALES EN OBRA
A15: Descripción | D15: Unidad | E15: Precio-Unit. | F15: Cantidad | G15: Valor-Unit.
G20: Sub-Total | H20: =SUM(G16:G19) -> 0
A21: III. TRANSPORTES
A22: Material | C22: Vol. Peso ó Cant. | D22: Distancia | E22: M3-Km | F22: Tarifa | G22: Valor-Unit.
G26: Sub-Total | H26: =SUM(G23:G25) -> 0 | K26: MO
A27: IV. MANO DE OBRA | K27: 1423500
A28: Trabajador | C28: Jornal | D28: Prestaciones | E28: Jornal Total | F28: Rendimiento | G28: Valor-Unit. | K28: =K27/30 -> 47450
A29: 6 AYUDANTES | C29: =(K28*6) -> 284700 | D29: =+'APU 1'!$D$29 -> 1.81 | E29: =+D29*C29 -> 515307 | F29: 40 | G29: =+E29*F29 -> 20612280
G32: Sub-Total | H32: =SUM(G29:G31) -> 20612280
E34: Total Costo Directo | H34: =ROUND((H13+H20+H26+H32),0) -> 20612280
E35: Total Costo Directo x ml | H35: =H34/80 -> 257653.5

Sheet 1 CANT MC-AM 01
D2: MEMORIAS DE CANTIDADES DE OBRA - PRESUPUESTO DE OBRA
B4: Contratante: | D4: =DATOS!C4 -> MUNICIPIO DE RISARALDA
B5: Objeto: | D5: =+PRESUPUESTO!B2 -> CONSTRUCCIÓN DE PLACA HUELLAS CON APOYO DE LA COMUNIDAD Y EL COMITÉ DE CAFETEROS EN ZONA RURAL DEL MUNICIPIO DE RISARALDA
B6: Item | C6: Unidad | D6: Descripción | I6: Acta | L6: Fecha
B7: =+PRESUPUESTO!$B$4 -> 1 | C7: =+PRESUPUESTO!$D$4 -> M3 | D7: =+PRESUPUESTO!$C$4 -> Excavaciones varias en material común. No incluye mano de obra no calificada. | I7: PRESUPUESTO DE OBRA | L7: =+DATOS!C5 -> 45779
B8: Area para Dibujo o Imagen | H8: Localización | I8: Dimensiones promedio | L8: Nº Elementos | M8: Medida Total
I9: Ancho (m) | J9: Espesor / Altura (m) | K9: Longitud (m)
H10: Placas Huellas | O10: Long Huellas
H11: Nivelación área placa huella | O11: =5*80 -> 400
H12: Quiebra de Santa Barbara | I12: =+O18 -> 4.1 | J12: 0.2 | K12: 65 | L12: 1 | M12: =+I12*J12*K12*L12 -> 53.3
H13: Guacaica Baja | I13: =+O18 -> 4.1 | J13: 0.15 | K13: 80 | L13: 1 | M13: =+I13*J13*K13*L13 -> 49.2 | O13: Tramos
H14: La Esmeralda | I14: =+O18 -> 4.1 | J14: =+J13 -> 0.15 | K14: 50 | L14: 1 | M14: =+I14*J14*K14*L14 -> 30.75 | O14: 1
H16: Excavacion Riostra
H17: =+H12 -> Quiebra de Santa Barbara | I17: 0.2 | J17: =0.3-J12 -> 0.1 | K17: =$O$18-0.7*2 -> 2.7 | L17: =EVEN(((($K$12-1.5*2)/2.8))) -> 24 | M17: =+I17*J17*K17*L17 -> 1.296 | O17: Ancho
H18: =+H13 -> Guacaica Baja | I18: 0.2 | J18: =0.3-J13 -> 0.15 | K18: =$O$18-0.7*2 -> 2.7 | L18: =EVEN(((($K$13-1.5*2)/2.8))) -> 28 | M18: =+I18*J18*K18*L18 -> 2.268 | O18: 4.1
H19: =+H14 -> La Esmeralda | I19: 0.2 | J19: =0.3-J14 -> 0.15 | K19: =$O$18-0.7*2 -> 2.7 | L19: =EVEN(((($K$14-1.5*2)/2.8))) -> 18 | M19: =+I19*J19*K19*L19 -> 1.458
H21: Excavacion Cunetas
H22: =+H17 -> Quiebra de Santa Barbara | I22: 0.7 | J22: =+(0.1+0.15)/2 -> 0.125 | K22: =+K12 -> 65 | L22: 2 | M22: =+I22*J22*K22*L22 -> 11.375 | O22: Espesor Concreto
H23: =+H18 -> Guacaica Baja | I23: 0.7 | J23: =+(0.1+0.15)/2 -> 0.125 | K23: =+K13 -> 80 | L23: 2 | M23: =+I23*J23*K23*L23 -> 14 | O23: 0.15
H24: =+H19 -> La Esmeralda | I24: 0.7 | J24: =+(0.1+0.15)/2 -> 0.125 | K24: =+K14 -> 50 | L24: 2 | M24: =+I24*J24*K24*L24 -> 8.75
H26: Excavacion talud para mejorar calzada
H27: =+H12 -> Quiebra de Santa Barbara | I27: 0.6 | J27: 1 | K27: 20 | L27: 1 | M27: =+I27*J27*K27*L27 -> 12
H28: =+H13 -> Guacaica Baja | I28: 0.5 | J28: 0.7 | K28: 15 | L28: 1 | M28: =+I28*J28*K28*L28 -> 5.25 | O28: Espesor Afirmado
H29: =+H14 -> La Esmeralda | I29: =+I28 -> 0.5 | J29: 0.8 | K29: 10 | L29: 1 | M29: =+I29*J29*K29*L29 -> 4 | O29: 0,15
H31: Excavacion Sobre Ancho
H32: Todos los tramos | I32: 0.9 | J32: 0.15 | K32: 15 | L32: 1 | M32: =+I32*J32*K32*L32 -> 2.025 | O32: Dentellones
O33: 2
I36: Total Item Acumulado | M36: =ROUND((SUM(M10:M35)),2) -> 195.67

Sheet 2 CANT MC-AM 01
D2: MEMORIAS DE CANTIDADES DE OBRA - PRESUPUESTO DE OBRA
B4: =+'1 CANT MC-AM 01'!B4:C4 -> Contratante: | D4: =DATOS!C4 -> MUNICIPIO DE RISARALDA
B5: Objeto: | D5: =+PRESUPUESTO!B2 -> CONSTRUCCIÓN DE PLACA HUELLAS CON APOYO DE LA COMUNIDAD Y EL COMITÉ DE CAFETEROS EN ZONA RURAL DEL MUNICIPIO DE RISARALDA
B6: Item | C6: Unidad | D6: Descripción | I6: Acta | L6: Fecha
B7: =+PRESUPUESTO!$B$5 -> 2 | C7: =+PRESUPUESTO!$D$5 -> M3 | D7: =+PRESUPUESTO!$C$5 -> Suministro, transporte e instalacion de afirmado compactado. No incluye mano de obra no calificada. | I7: PRESUPUESTO DE OBRA | L7: =+DATOS!C5 -> 45779
B8: Area para Dibujo o Imagen | H8: Localización | I8: Dimensiones promedio | L8: Nº Elementos | M8: Medida Total
I9: Ancho (m) | J9: Espesor / Altura (m) | K9: Longitud (m)
H10: Afirmado Placas Huellas
H11: =+'1 CANT MC-AM 01'!H12 -> Quiebra de Santa Barbara | I11: =+'1 CANT MC-AM 01'!$O$18 -> 4.1 | J11: 0.15 | K11: =+'1 CANT MC-AM 01'!K12 -> 65 | L11: =+'1 CANT MC-AM 01'!$O$14 -> 1 | M11: =+I11*J11*K11*L11 -> 39.975
H12: =+'1 CANT MC-AM 01'!H13 -> Guacaica Baja | I12: =+'1 CANT MC-AM 01'!$O$18 -> 4.1 | J12: 0.15 | K12: =+'1 CANT MC-AM 01'!K13 -> 80 | L12: =+'1 CANT MC-AM 01'!$O$14 -> 1 | M12: =+I12*J12*K12*L12 -> 49.2
H13: =+'1 CANT MC-AM 01'!H14 -> La Esmeralda | I13: =+'1 CANT MC-AM 01'!$O$18 -> 4.1 | J13: 0.15 | K13: =+'1 CANT MC-AM 01'!K14 -> 50 | L13: =+'1 CANT MC-AM 01'!$O$14 -> 1 | M13: =+I13*J13*K13*L13 -> 30.75
H15: Afirmado Sobre Ancho
H16: =+'1 CANT MC-AM 01'!H32 -> Todos los tramos | I16: 0.9 | J16: 0.15 | K16: =+'1 CANT MC-AM 01'!K32 -> 15 | L16: =+'1 CANT MC-AM 01'!$O$14 -> 1 | M16: =+I16*J16*K16*L16 -> 2.025
I21: Total Item Acumulado | M21: =ROUND((SUM(M10:M20)),2) -> 121.95

Sheet 3 CANT MC-AM 01
D2: MEMORIAS DE CANTIDADES DE OBRA - PRESUPUESTO DE OBRA
B4: =+'2 CANT MC-AM 01'!B4:C4 -> Contratante: | D4: =DATOS!C4 -> MUNICIPIO DE RISARALDA
B5: Objeto: | D5: =+PRESUPUESTO!B2 -> CONSTRUCCIÓN DE PLACA HUELLAS CON APOYO DE LA COMUNIDAD Y EL COMITÉ DE CAFETEROS EN ZONA RURAL DEL MUNICIPIO DE RISARALDA
B6: Item | C6: Unidad | D6: Descripción | I6: Acta | L6: Fecha
B7: =+PRESUPUESTO!$B$6 -> 3 | C7: =+PRESUPUESTO!$D$6 -> M3 | D7: =PRESUPUESTO!C6 -> Concreto clase D: Concreto de 3000 PSI. Incluye preparación e instalación de concreto en placas, vigas y cunetas. Incluye formaleta. Incluye agregados. No incluye suministro de cemento. No incluye mano de obra no calificada. | I7: PRESUPUESTO DE OBRA | L7: =+DATOS!C5 -> 45779
B8: Area para Dibujo o Imagen | H8: Localización | I8: Dimensiones promedio | L8: Nº Elementos | M8: Medida Total
I9: Ancho (m) | J9: Espesor / Altura (m) | K9: Longitud (m)
H10: Placa Huella
H11: =+'1 CANT MC-AM 01'!H12 -> Quiebra de Santa Barbara | I11: 0.9 | J11: =+'1 CANT MC-AM 01'!$O$23 -> 0.15 | K11: =(('1 CANT MC-AM 01'!K12-K26*L26)-((L16)*0.2)) -> 57.2 | L11: 2 | M11: =+I11*J11*K11*L11 -> 15.444
H12: =+'1 CANT MC-AM 01'!H13 -> Guacaica Baja | I12: 0.9 | J12: =+'1 CANT MC-AM 01'!$O$23 -> 0.15 | K12: =(('1 CANT MC-AM 01'!K13-K27*L27)-((L17)*0.2)) -> 71.4 | L12: 2 | M12: =+I12*J12*K12*L12 -> 19.278
H13: =+'1 CANT MC-AM 01'!H14 -> La Esmeralda | I13: 0.9 | J13: =+'1 CANT MC-AM 01'!$O$23 -> 0.15 | K13: =(('1 CANT MC-AM 01'!K14-K28*L28)-((L18)*0.2)) -> 43.4 | L13: 2 | M13: =+I13*J13*K13*L13 -> 11.718
H15: Viga Riostra
H16: =+H11 -> Quiebra de Santa Barbara | I16: 0.2 | J16: 0.3 | K16: 2.7 | L16: ='1 CANT MC-AM 01'!L17 -> 24 | M16: =+I16*J16*K16*L16 -> 3.888
H17: =+H12 -> Guacaica Baja | I17: 0.2 | J17: 0.3 | K17: 2.7 | L17: ='1 CANT MC-AM 01'!L18 -> 28 | M17: =+I17*J17*K17*L17 -> 4.536
H18: =+H13 -> La Esmeralda | I18: 0.2 | J18: 0.3 | K18: 2.7 | L18: ='1 CANT MC-AM 01'!L19 -> 18 | M18: =+I18*J18*K18*L18 -> 2.916
H20: Cuneta
H21: =+H11 -> Quiebra de Santa Barbara | I21: 0.7 | J21: 0.1 | K21: =+'1 CANT MC-AM 01'!K12 -> 65 | L21: =2*'1 CANT MC-AM 01'!$O$14 -> 2 | M21: =+I21*J21*K21*L21 -> 9.1
H22: =+H12 -> Guacaica Baja | I22: 0.7 | J22: =+J21 -> 0.1 | K22: =+'1 CANT MC-AM 01'!K13 -> 80 | L22: =2*'1 CANT MC-AM 01'!$O$14 -> 2 | M22: =+I22*J22*K22*L22 -> 11.2
H23: =+H13 -> La Esmeralda | I23: 0.7 | J23: =+J22 -> 0.1 | K23: =+'1 CANT MC-AM 01'!K14 -> 50 | L23: =2*'1 CANT MC-AM 01'!$O$14 -> 2 | M23: =+I23*J23*K23*L23 -> 7
H25: Dentellon
H26: =+H11 -> Quiebra de Santa Barbara | I26: 2.7 | J26: 0.15 | K26: 1.5 | L26: 2 | M26: =+I26*J26*K26*L26 -> 1.215
H27: =+H12 -> Guacaica Baja | I27: 2.7 | J27: 0.15 | K27: 1.5 | L27: 2 | M27: =+I27*J27*K27*L27 -> 1.215
H28: =+H13 -> La Esmeralda | I28: 2.7 | J28: 0.15 | K28: 1.5 | L28: 2 | M28: =+I28*J28*K28*L28 -> 1.215
I37: Total Item Acumulado | M37: =ROUND((SUM(M10:M36)),2) -> 88.73

Sheet 4 CANT MC-AM 01
D2: MEMORIAS DE CANTIDADES DE OBRA - PRESUPUESTO DE OBRA
B4: =+'3 CANT MC-AM 01'!B4:C4 -> Contratante: | D4: =DATOS!C4 -> MUNICIPIO DE RISARALDA
B5: Objeto: | D5: =+PRESUPUESTO!B2 -> CONSTRUCCIÓN DE PLACA HUELLAS CON APOYO DE LA COMUNIDAD Y EL COMITÉ DE CAFETEROS EN ZONA RURAL DEL MUNICIPIO DE RISARALDA
B6: Item | C6: Unidad | D6: Descripción | I6: Acta | L6: Fecha
B7: =+PRESUPUESTO!$B$7 -> 4 | C7: =+PRESUPUESTO!$D$7 -> M3 | D7: =+PRESUPUESTO!$C$7 -> Concreto clase G: 60% concreto clase D y 40% Piedra. Incluye preparación e instalación de concreto en enrocados. Incluye agregados. No incluye suministro de cemento. No incluye mano de obra no calificada. | I7: PRESUPUESTO DE OBRA | L7: =+DATOS!C5 -> 45779
B8: Area para Dibujo o Imagen | H8: Localización | I8: Dimensiones promedio | L8: Nº Elementos | M8: Medida Total
I9: Ancho (m) | J9: Espesor / Altura (m) | K9: Longitud (m)
H10: Huella central
H11: =+'1 CANT MC-AM 01'!H12 -> Quiebra de Santa Barbara | I11: 0.9 | J11: =+'1 CANT MC-AM 01'!$O$23 -> 0.15 | K11: =+'3 CANT MC-AM 01'!K11 -> 57.2 | L11: 1 | M11: =+I11*J11*K11*L11 -> 7.722
H12: =+'1 CANT MC-AM 01'!H13 -> Guacaica Baja | I12: 0.9 | J12: =+'1 CANT MC-AM 01'!$O$23 -> 0.15 | K12: =+'3 CANT MC-AM 01'!K12 -> 71.4 | L12: 1 | M12: =+I12*J12*K12*L12 -> 9.639
H13: =+'1 CANT MC-AM 01'!H14 -> La Esmeralda | I13: 0.9 | J13: =+'1 CANT MC-AM 01'!$O$23 -> 0.15 | K13: =+'3 CANT MC-AM 01'!K13 -> 43.4 | L13: 1 | M13: =+I13*J13*K13*L13 -> 5.859
H15: Sobre Ancho
H16: =+'1 CANT MC-AM 01'!H32 -> Todos los tramos | I16: 0.9 | J16: =+'1 CANT MC-AM 01'!$O$23 -> 0.15 | K16: =+'1 CANT MC-AM 01'!K32 -> 15 | L16: 1 | M16: =+I16*J16*K16*L16 -> 2.025
I25: Total Item Acumulado | M25: =ROUND((SUM(M10:M24)),2) -> 25.25

Sheet 5 CANT MC-AM 01
D2: MEMORIAS DE CANTIDADES DE OBRA - PRESUPUESTO DE OBRA
B4: =+'4 CANT MC-AM 01'!B4:C4 -> Contratante: | D4: =DATOS!C4 -> MUNICIPIO DE RISARALDA
B5: Objeto: | D5: =+PRESUPUESTO!B2 -> CONSTRUCCIÓN DE PLACA HUELLAS CON APOYO DE LA COMUNIDAD Y EL COMITÉ DE CAFETEROS EN ZONA RURAL DEL MUNICIPIO DE RISARALDA
B6: Item | C6: Unidad | D6: Descripción | I6: Acta | L6: Fecha
B7: =+PRESUPUESTO!$B$8 -> 5 | C7: =+PRESUPUESTO!$D$8 -> ML | D7: =+PRESUPUESTO!$C$8 -> Sardinel en concreto clase D. Incluye preparación e instalación de concreto. Incluye formaleta. Incluye agregados. No incluye suministro de cemento. No incluye mano de obra no calificada. | I7: PRESUPUESTO DE OBRA | L7: =+DATOS!C5 -> 45779
B8: Area para Dibujo o Imagen | H8: Localización | I8: Dimensiones promedio | L8: Nº Elementos | M8: Medida Total
I9: Ancho (m) | J9: Espesor / Altura (m) | K9: Longitud (m)
H10: Sardinel Placa huella
H11: =+'1 CANT MC-AM 01'!H12 -> Quiebra de Santa Barbara | K11: =+'1 CANT MC-AM 01'!K12 -> 65 | L11: 2 | M11: =+K11*L11 -> 130
H12: =+'1 CANT MC-AM 01'!H13 -> Guacaica Baja | K12: =+'1 CANT MC-AM 01'!K13 -> 80 | L12: 2 | M12: =+K12*L12 -> 160
H13: =+'1 CANT MC-AM 01'!H14 -> La Esmeralda | K13: =+'1 CANT MC-AM 01'!K14 -> 50 | L13: 2 | M13: =+K13*L13 -> 100
I23: Total Item Acumulado | M23: =ROUND((SUM(M10:M22)),2) -> 390

Sheet 6 CANT MC-AM 01
D2: MEMORIAS DE CANTIDADES DE OBRA - PRESUPUESTO DE OBRA
B4: =+'5 CANT MC-AM 01'!B4:C4 -> Contratante: | D4: =DATOS!C4 -> MUNICIPIO DE RISARALDA
B5: Objeto: | D5: =+PRESUPUESTO!B2 -> CONSTRUCCIÓN DE PLACA HUELLAS CON APOYO DE LA COMUNIDAD Y EL COMITÉ DE CAFETEROS EN ZONA RURAL DEL MUNICIPIO DE RISARALDA
B6: Item | C6: Unidad | D6: Descripción | I6: Acta | L6: Fecha
B7: =PRESUPUESTO!B9 -> 6 | C7: =PRESUPUESTO!D9 -> KG | D7: =PRESUPUESTO!C9 -> Suministro, transporte e instalacion de acero de refuerzo Fy=60000 PSI. No incluye mano de obra no calificada. | I7: PRESUPUESTO DE OBRA | L7: =+DATOS!C5 -> 45779
B8: Area para Dibujo o Imagen | H8: Localización | I8: Dimensiones promedio | L8: Nº Elementos | M8: Medida Total
I9: Diametro mm ó pulg | J9: Peso Kg/m2 ó kg/ml | K9: Longitud (ml)
H10: Acero Riostras
H11: Acero Longitudinal
H12: =+'1 CANT MC-AM 01'!H12 -> Quiebra de Santa Barbara | I12: 0.25 | J12: 0.25 | K12: =2.7+0.15+0.15 -> 3 | L12: =+'1 CANT MC-AM 01'!L17*4 -> 96 | M12: =+J12*K12*L12*2 -> 144
H13: =+'1 CANT MC-AM 01'!H13 -> Guacaica Baja | I13: 0.25 | J13: 0.25 | K13: =+K12 -> 3 | L13: =+'1 CANT MC-AM 01'!L18*4 -> 112 | M13: =+J13*K13*L13*2 -> 168
H14: =+'1 CANT MC-AM 01'!H14 -> La Esmeralda | I14: 0.25 | J14: 0.25 | K14: =+K13 -> 3 | L14: =+'1 CANT MC-AM 01'!L19*4 -> 72 | M14: =+J14*K14*L14*2 -> 108
H16: Flejes
H17: =+H12 -> Quiebra de Santa Barbara | I17: 0.25 | J17: 0.25 | K17: =0.1+0.15+0.1+0.15+0.1 -> 0.6 | L17: =(2.7/0.2+1)*(L12/4) -> 348 | M17: =+J17*K17*L17 -> 52.2
H18: =+H13 -> Guacaica Baja | I18: 0.25 | J18: 0.25 | K18: =0.1+0.15+0.1+0.15+0.1 -> 0.6 | L18: =(2.7/0.2+1)*(L13/4) -> 406 | M18: =+J18*K18*L18 -> 60.9
H19: =+H14 -> La Esmeralda | I19: 0.25 | J19: 0.25 | K19: =0.1+0.15+0.1+0.15+0.1 -> 0.6 | L19: =(2.7/0.2+1)*(L14/4) -> 261 | M19: =+J19*K19*L19 -> 39.15
I29: Total Item Acumulado | M29: =ROUND((SUM(M11:M28)),2) -> 572.25

Sheet 7 CANT MC-AM 01
D2: MEMORIAS DE CANTIDADES DE OBRA - PRESUPUESTO DE OBRA
B4: =+'5 CANT MC-AM 01'!B4:C4 -> Contratante: | D4: =DATOS!C4 -> MUNICIPIO DE RISARALDA
B5: Objeto: | D5: =+PRESUPUESTO!B2 -> CONSTRUCCIÓN DE PLACA HUELLAS CON APOYO DE LA COMUNIDAD Y EL COMITÉ DE CAFETEROS EN ZONA RURAL DEL MUNICIPIO DE RISARALDA
B6: Item | C6: Unidad | D6: Descripción | I6: Acta | L6: Fecha
B7: =PRESUPUESTO!B10 -> 7 | C7: =PRESUPUESTO!D10 -> M2 | D7: =PRESUPUESTO!C10 -> Suministro, transporte e instalacion de malla electrosoldada de 15x15 cm x 5mm. No incluye mano de obra no calificada. | I7: PRESUPUESTO DE OBRA | L7: =+DATOS!C5 -> 45779
B8: Area para Dibujo o Imagen | H8: Localización | I8: Dimensiones promedio | L8: Nº Elementos | M8: Medida Total
I9: Diametro mm ó pulg | J9: Peso Kg/m2 ó kg/ml | K9: Área (m2) ó Longitud (ml)
H10: Refuezo Placas Huellas
H11: Malla electrosoldada
H12: =+'1 CANT MC-AM 01'!H12 -> Quiebra de Santa Barbara | I12: 5mm | K12: =(+'3 CANT MC-AM 01'!K11+'3 CANT MC-AM 01'!L16*0.2)*0.8 -> 49.6 | L12: 2 | M12: =K12*L12*1.05 -> 104.16
H13: =+'1 CANT MC-AM 01'!H13 -> Guacaica Baja | I13: 5mm | K13: =(+'3 CANT MC-AM 01'!K12+'3 CANT MC-AM 01'!L17*0.2)*0.8 -> 61.6 | L13: 2 | M13: =K13*L13 -> 123.2
H14: =+'1 CANT MC-AM 01'!H14 -> La Esmeralda | I14: 5mm | K14: =(+'3 CANT MC-AM 01'!K13+'3 CANT MC-AM 01'!L18*0.2)*0.8 -> 37.6 | L14: 2 | M14: =K14*L14*1.05 -> 78.96
H16: Refuezo Cunetas y sardineles
H17: Malla electrosoldada
H18: =+H12 -> Quiebra de Santa Barbara | I18: 5mm | K18: =(0.25+0.65)*80*1.05 -> 75.6 | L18: 2 | M18: =K18*L18*1.05 -> 158.76
H19: =+H13 -> Guacaica Baja | I19: 5mm | K19: =(0.25+0.65)*80*1.05 -> 75.6 | L19: 2 | M19: =K19*L19*1.05 -> 158.76
H20: =+H14 -> La Esmeralda | I20: 5mm | K20: =(0.25+0.65)*80*1.05 -> 75.6 | L20: 2 | M20: =K20*L20*1.05 -> 158.76
H22: Refuezo Dentellones
H23: Malla electrosoldada
H24: =+H12 -> Quiebra de Santa Barbara | I24: 5mm | K24: =2.7*1.5 -> 4.05 | L24: 2 | M24: =K24*L24 -> 8.1
H25: =+H13 -> Guacaica Baja | I25: 5mm | K25: =2.7*1.5 -> 4.05 | L25: 2 | M25: =K25*L25 -> 8.1
H26: =+H14 -> La Esmeralda | I26: 5mm | K26: =2.7*1.5 -> 4.05 | L26: 2 | M26: =K26*L26 -> 8.1
I36: Total Item Acumulado | M36: =ROUND((SUM(M10:M35)),2) -> 806.9

Sheet 8 CANT MC-AM 01
D2: MEMORIAS DE CANTIDADES DE OBRA - PRESUPUESTO DE OBRA
B4: =+'4 CANT MC-AM 01'!B4:C4 -> Contratante: | D4: =DATOS!C4 -> MUNICIPIO DE RISARALDA
B5: Objeto: | D5: =+PRESUPUESTO!B2 -> CONSTRUCCIÓN DE PLACA HUELLAS CON APOYO DE LA COMUNIDAD Y EL COMITÉ DE CAFETEROS EN ZONA RURAL DEL MUNICIPIO DE RISARALDA
B6: Item | C6: Unidad | D6: Descripción | I6: Acta | M6: Fecha
