Workbook
Name CapFinanciera1: #REF!
Name CapFinanciera2: #REF!
Name CapFinanciera3: #REF!
Name CapFinanciera4: #REF!
Name CapTecnica1: #REF!
Name CapTecnica2: #REF!
Name Experiencia1: #REF!
Name Experiencia2: #REF!
Name Experiencia3: #REF!
Name prueba: #REF!

Sheet Presupuesto Oficial
A1: FORMULARIO 1
A2: PRESUPUESTO OFICIAL
A4: [Las Entidades Estatales deben usar el presente formulario para determinar el Presupuesto Oficial del Proceso de Contratación y solo pueden modificar o ajustar aquello que en este se permite expresamente] [El presente formulario aplica para los procesos de contratación que tengan como forma de pago precios unitarios. Tratándose de otras modalidades de precio, la Entidad debe ajustarlo cuando corresponde a: precio global, llave en mano, administración delegada, reembolso de gastos o cualquier otra forma de precio.]
A6: Adicionalmente, cuando el proceso de contratación es estructurado por precios unitarios, la Entidad debe aplicar las notas 1, 2 y 3 del presente formulario y las casillas de "Descripción", "Porcentaje" de la Administración, Imprevisto, Utilidad y total A.I.U. resaltadas en color amarillo. Tratándose de otras modalidades de precio, la Entidad puede o no configurar los mismos aspectos.
A8: Nº | B8: ÍTEM DE PAGO | C8: ESPECIFICACIONES | E8: DESCRIPCIÓN | F8: UND. | G8: CANTIDAD | H8: VALOR UNITARIO DE REFERENCIA DE LA ENTIDAD | I8: VALOR UNTARIO OFRECIDO SIN AIU OFRECIDO | J8: VALOR UNITARIO OFRECIDO + AIU OFRECIDO | K8: VALOR TOTAL
C9: GENERAL | D9: PARTICULAR
B10: MANTENIMIENTO Y REPARACIÓN DE PERSIANAS VERTICALES Y COLOCACIÓN DE PERSIANAS ENROLLABLES
A11: 1 | E11: Suministro y colocación de persiana enrollable (BLACKOUT) fibra blanco alabaste de dimensiones 1,82 mts de ancho X1,90 mts de alto (3 OFICINAS ) | F11: Unidad | G11: 8 | H11: ='APU PERSIANA'!G57 -> 276833 | K11: =H11*G11 -> 2214664
A12: Subtotal | K12: =K11 -> 2214664
B13: ADQUISICIÓN AIRE ACONDICIONADO
A14: 2 | E14: Aire acondicionado de 12000btu 220V Dual | F14: Unidad | G14: 4 | H14: ='APU AIRE INSTALAR'!G57 -> 2200097 | K14: =G14*H14 -> 8800388
A15: Subtotal | K15: =K14 -> 8800388
B16: ENLUCIMIENTO DE MUROS y CUBIERTA
A17: 3 | E17: RECORRIDO Y AJUSTE DE TEJAS, ARREGLO DE GOTERAS, REPOSICION DE LAS DETERIORADAS LABORATORIO DE GEOTECNIA | F17: M2 | G17: 60 | H17: ='APU RECORRIDO'!G57 -> 24913 | K17: =G17*H17 -> 1494780
A18: 4 | E18: Pintura e impermeabilizante fachada en ladrillo | F18: M2 | G18: 900 | H18: ='APU FACHADA'!G57 -> 17274 | K18: =G18*H18 -> 15546600
A19: 5 | E19: mantenimiento y reparación de impermeabilización losa de cubierta archivo | F19: M2 | G19: 80 | H19: ='APU LOSA CUBIERTA'!G57 -> 33254 | K19: =G19*H19 -> 2660320
A20: 6 | E20: pintura 3M cielo raso (laboratorio y archivo) | F20: M2 | G20: 200 | H20: ='APU CIELO RASO 3M'!G57 -> 19573 | K20: =G20*H20 -> 3914600
A21: 7 | E21: pintura rejas, baranda metálica y malla eslabonada | F21: M2 | G21: 250 | H21: ='APU PINTURA REJA'!G57 -> 17412 | K21: =G21*H21 -> 4353000
A22: 8 | E22: Puerta en tubería galvanizada de 1 1/2" para cerramiento de 2 X2 m, | F22: unidad | G22: 2 | H22: ='APU PUERTA 2X2M'!G58 -> 924196 | K22: =G22*H22 -> 1848392
A23: 9 | E23: Puerta en tubería galvanizada de 1 1/2" para cerramiento de 2 X0,9 m, | F23: unidad | G23: 1 | H23: ='APU PUERTA 2X0,9M'!G57 -> 422709 | K23: =G23*H23 -> 422709
A24: 10 | E24: construccion cubierta parqueadero estructura metalica y policarbonato | F24: unidad | G24: 1 | H24: ='APU CUBIERTA PARQUEADERO'!G57 -> 10649264 | K24: =G24*H24 -> 10649264
A25: 11 | E25: mantenimiento cubierta y cambio policarbonato parqueaderos | F25: M2 | G25: 50 | H25: ='APU POLICARBONATO'!G57 -> 196556 | K25: =G25*H25 -> 9827800
A26: 12 | E26: Cerramiento en malla eslabonada con tubo galvanizado para division predio | F26: M2 | G26: 50.5 | H26: ='APU CERRAMIENTO'!G57 -> 204308 | K26: =G26*H26 -> 10317554
A27: Subtotal | K27: =SUM(K17:K26) -> 61035019
B28: VENTANAS Y PUERTAS
A29: 13 | E29: suministro e instalación de ventanería en aluminio con los vidrios | F29: m2 | G29: 20 | H29: ='APU VENTANERÍA'!G57 -> 244324 | K29: =G29*H29 -> 4886480
A30: Subtotal | K30: =SUM(K29) -> 4886480
B31: VIDRIOS
A32: 14 | E32: Suministro e instalación de vidrios de 4mm para marquesina y mantenimiento | F32: M2 | G32: 60 | H32: ='APU VIDRIOS'!G57 -> 50027 | K32: =G32*H32 -> 3001620
A33: Subtotal | K33: =SUM(K32) -> 3001620
B34: VIDRIOS
A35: 15 | E35: Aseo general (inluye bote de escombros y sobrantes ) | F35: global | G35: 1 | H35: 210516 | K35: =G35*H35 -> 210516
A36: Subtotal | K36: =SUM(K35) -> 210516
A37: SUBTOTAL OBRAS | K37: =K33+K30+K27+K15+K12+K36 -> 80148687
E39: COSTO BÁSICO | K39: =K37 -> 80148687
E42: SUBTOTAL OBRAS (INCLUYE IVA)
E43: AIU | K43: 0.22
E44: ADMINISTRACIÓN (INCLUYE UN 1% PARA LOS PROTOCOLOS DE BIOSEGURIDAD) | K44: 0.14
E45: IMPREVISTOS | K45: 0.03
E46: UTILIDAD | K46: 0.05
...

Sheet Propuesta Económica
A1: FORMULARIO 1
A2: PRESUPUESTO OFICIAL
A4: [Los proponentes deben usar el presente formulario para determinar su propuesta económica conforme al Formulario 1 - Presupuesto Oficial publicado por la Entidad] [El presente formato aplica para los procesos de contratación que tengan como forma de pago precios unitarios, la Entidad debe ajustarlo cuando la modalidad de pago corresponde a: precio global, llave en mano, administración delegada, reembolso de gastos o cualquier otra forma de pago.]
A6: Cuando el proceso de contratación es estructurado por precios unitarios, la Entidad debe aplicar las notas 1, 2 y 3 del presente formato y las casillas de "Descripción", "Porcentaje" de la Administración, Imprevisto, Utilidad y total A.I.U. resaltadas en color amarillo.
A8: Nº | B8: ÍTEM DE PAGO | C8: ESPECIFICACIONES | E8: DESCRIPCIÓN | F8: UND. | G8: CANTIDAD | H8: VALOR UNITARIO | I8: VALOR TOTAL
C9: GENERAL | D9: PARTICULAR
A12: Subtotal
A18: Subtotal
A24: Subtotal
A29: Subtotal
A32: Subtotal
A33: SUBTOTAL OBRAS
E36: SUBTOTAL OBRAS (INCLUYE IVA)
E39: VALOR TOTAL
A42: NOTA 1: Se debe tener en cuenta que el PRECIO UNITARIO incluye el valor de A.I.U. | F42: DESCRIPCIÓN | I42: PORCENTAJE
A43: NOTA 2: Cuando la fracción decimal del peso sea igual o superior a 5 se aproximara por exceso al número entero siguiente del peso y cuando la fracción decimal del peso sea inferior a 5 se aproximará por defecto al número entero del peso. | F43: ADMINISTRACIÓN | H43: A= | I43: [Ofrecimiento del Proponente]
A44: NOTA 3: El A.I.U y su discriminación deben estar en porcentaje (%). | F44: IMPREVISTO | H44: I= | I44: [Ofrecimiento del Proponente]
A45: NOTA 4: [Excepcionalmente la Entidad podrá incluir esta nota con el fin de aclarar aspectos relacionados con ítems o descripciones de pago que tengan características particulares (por ejemplo, cuando se realicen a través de monto agotable o global), siempre que no contravengan lo establecido en los Documentos Tipo] | F45: UTILIDAD | H45: U= | I45: [Ofrecimiento del Proponente]
A46: NOTA 5: [Excepcionalmente la Entidad podrá incluir esta nota con el fin de aclarar aspectos relacionados con ítems o descripciones de pago que tengan características particulares (por ejemplo, cuando se realicen a través de monto agotable o global), siempre que no contravengan lo establecido en los Documentos Tipo] | F46: TOTAL A.I.U | H46: A.I.U.= | I46: [Ofrecimiento del Proponente]
A47: NOTA 6: [Excepcionalmente la Entidad podrá incluir esta nota con el fin de aclarar aspectos relacionados con ítems o descripciones de pago que tengan características particulares (por ejemplo, cuando se realicen a través de monto agotable o global), siempre que no contravengan lo establecido en los Documentos Tipo]
D51: Firma del Proponente o de su Representante Legal

Sheet Indicar código del item de pago
A1: FORMULARIO 1
A2: PRESUPUESTO OFICIAL
A4: [La entidad podrá utilizar este formato para la presentación de los análisis de precios unitarios del contratista en la oportunidad prevista en el numeral 8.2. del Documento Base]
B6: [NOMBRE DE LA ENTIDAD]
J7: VERSIÓN
B8: [NÚMERO DEL PROCESO]
B9: ANALISIS DE PRECIOS UNITARIOS | J9: PÁGINA | K9: 1 | L9: DE | M9: 1
J12: FECHA | K12: DD | L12: MM | M12: AA
A14: ÍTEMS DE LA PROPUESTA ECONÓMICA | G14: ÍTEMS NO PREVISTOS
A18: DATOS ESPECÍFICOS
A20: ÍTEM | B20: DESCRIPCIÓN | K20: UNIDAD | M20: CANTIDAD
A22: I. EQUIPO
A25: DESCRIPCIÓN | F25: MARCA | H25: TIPO | J25: TARIFA/HORA | K25: RENDIMIENTO | M25: Vr. UNITARIO
A29: SUBTOTAL $
A30: II. MATERIALES
A33: DESCRIPCIÓN | I33: UNIDAD | J33: CANTIDAD | K33: PRECIO UNIT. | M33: Vr. UNITARIO
A36: SUBTOTAL $ | M36: 0
A37: III. TRANSPORTES
A40: MATERIAL | H40: VOL. o PESO | I40: DISTANCIA | J40: M3 o Ton/Km | K40: TARIFA | M40: Vr. UNITARIO
A43: SUBTOTAL $
A44: IV. MANO DE OBRA
A47: TRABAJADOR | H47: JORNAL | I47: PRESTACIONES | J47: JORNAL TOTAL | K47: RENDIMIENTO | M47: Vr. UNITARIO
A52: SUBTOTAL $
A54: TOTAL COSTO DIRECTO $
A55: V. COSTOS INDIRECTOS
A58: Descripción | J58: Porcentaje | K58: Valor Total
A59: ADMINISTRACION
A60: IMPREVISTOS
A61: UTILIDAD
A62: SUBTOTAL $
A64: Precio Unitario Total Aproximado al peso $
F68: Firma
F69: Nombre:
F70: Representante Legal del Contratista o su Apoderado
F71: Matricula No. :
A73: OBSERVACIONES INTERVENTORÍA O SUPERVISIÓN
A77: APROBACIÓN POR LA INTERVENTORÍA O SUPERVISIÓN
A78: Nota 1: Cuando se trate de análisis de precios unitarios correspondientes a ítems de la propuesta económica aprobada, el interventor o supervisor aprueba el desglose de los componentes manteniendo el mismo precio unitario de cada ítem, cumpliendo con las especificaciones de construcción vigentes para el proyecto.
A80: Nota 2: Cuando se trate de Análisis de precios unitarios de ítems no previstos, el Interventor aprueba el desglose y precio unitario de cada ítem no previsto, exigiendo la aplicación de los costos correspondientes a insumos y tarifas de la propuesta económica inicial cuando estén contemplados, cumpliendo con las especificaciones de construcción vigente para el proyecto.
F83: Firma
...

Sheet APU PERSIANA
A1: ANEXO No. 5
A4: MINISTERIO DE TRANSPORTE
A5: INSTITUTO NACIONAL DE VÍAS
A6: DIRECCION TERRITORIAL CAUCA
A7: ANÁLISIS DE PRECIOS UNITARIOS
A9: OBJETO : OBRAS DE MANTENIMIENTO DEL EDIFICIO SEDE DEL INSTITUTO NACIONAL DE VÍAS-DIRECCIÓN TERRITORIAL
A10: ITEM 2.1 : Suministro y colocación de persiana enrollable (BLACKOUT) fibra blanco alabaste de dimensiones 1,82 m de ancho x 1,90 m de alto (3 OFICINAS)
E11: UNIDAD : | F11: UND
A12: I. EQUIPO
A13: Descripción | C13: Tipo | D13: Tarifa/Hora | E13: Rendimiento | F13: Valor-Unit.
A14: Herramienta (% mano obra) | C14: Menor | E14: 0.05 | F14: =ROUND(E14*G47,2) -> 1596.64
A15: Andamio y materiales (% mano de obra) | C15: Mayor | E15: 0.1 | F15: =ROUND(E15*G47,2) -> 3193.28
F20: Sub-Total | G20: =SUM(F14:F19) -> 4789.92
A21: II. MATERIALES EN OBRA
A22: Descripción | C22: Unidad | D22: Precio-Unit. | E22: Cantidad | F22: Valor-Unit.
A23: Persiana enrollable Blackout 1,82 x 1,92 m | C23: M2 | D23: 55000 | E23: =1.82*1.9 -> 3.458 | F23: =ROUND(D23*E23,2) -> 190190
F30: Sub-Total | G30: =SUM(F23:F29) -> 190190
A31: III. TRANSPORTES
A32: Material | B32: Vol-peso ó Cant. | C32: Distancia | D32: M3-Km | E32: Tarifa | F32: Valor-Unit.
F37: Sub-Total | G37: =SUM(F33:F36) -> 0
A38: IV. MANO DE OBRA
A39: Trabajador | B39: Jornal | C39: Prestaciones | D39: Jornal Total | E39: Rendimiento | F39: Valor-Unit.
A40: Oficial (1) | B40: 43471.89 | C40: 0.85 | D40: =ROUND(B40*C40+B40,2) -> 80423 | E40: 0.25 | F40: =D40*E40 -> 20105.75
A41: Ayudante (1) | B41: 25571.89 | C41: 0.85 | D41: =ROUND(B41*C41+B41,2) -> 47308 | E41: 0.25 | F41: =ROUND(E41*D41,2) -> 11827
F47: Sub-Total | G47: =ROUND(SUM(F40:F46),2) -> 31932.75
D49: Total Costo Directo | G49: =SUM(G20+G30+G47+G37) -> 226912.67
A50: V. COSTOS INDIRECTOS
A51: Descripción | E51: Porcentaje | F51: Valor Total
A52: UTILIDAD | E52: 0.05 | F52: =+G49*E52 -> 11345.634
A53: IMPREVISTOS | E53: 0.03 | F53: =+G49*E53 -> 6807.3801
A54: ADMINISTRACIÓN | E54: 0.14 | F54: =+G49*E54 -> 31767.774
F55: Sub-Total | G55: =+F52+F53+F54 -> 49920.787
C57: Precio unitario total aproximado al peso | G57: =ROUND(SUM(G49+G55),0) -> 276833
A60: NOMBRE DEL CONTRATISTA:______________________________________ | E60: FECHA:____________________
A62: NOMBRE Y FIRMA DEL REPRESENTANTE LEGAL:______________________

Sheet APU AIRE INSTALAR
A1: ANEXO No. 5
A4: MINISTERIO DE TRANSPORTE
A5: INSTITUTO NACIONAL DE VÍAS
A6: DIRECCION TERRITORIAL CAUCA
A7: ANÁLISIS DE PRECIOS UNITARIOS
A9: OBJETO : OBRAS DE MANTENIMIENTO DEL EDIFICIO SEDE DEL INSTITUTO NACIONAL DE VÍAS-DIRECCIÓN TERRITORIAL
A10: ITEM : Suministro e instalacion aire acondicionado (3 OFICINAS)
E11: UNIDAD : | F11: UND
A12: I. EQUIPO
A13: Descripción | C13: Tipo | D13: Tarifa/Hora | E13: Rendimiento | F13: Valor-Unit.
A14: Herramienta (% mano obra) | C14: Menor | E14: 0.05 | F14: =ROUND(E14*G47,2) -> 1277.31
A15: Andamio y materiales (% mano de obra) | C15: Mayor | E15: 0.1 | F15: =ROUND(E15*G47,2) -> 2554.62
F20: Sub-Total | G20: =SUM(F14:F19) -> 3831.93
A21: II. MATERIALES EN OBRA
A22: Descripción | C22: Unidad | D22: Precio-Unit. | E22: Cantidad | F22: Valor-Unit.
A23: Aire acondicionado 12000btu 220v dual | C23: UND | D23: 1674772 | E23: 1 | F23: =ROUND(D23*E23,2) -> 1674772
A24: Salida Tomma 110-120V | C24: UND | D24: 78962 | E24: 1 | F24: =ROUND(D24*E24,2) -> 78962
A25: Punto Desague | C25: UND | D25: 20246 | E25: 1 | F25: =ROUND(D25*E25,2) -> 20246
F30: Sub-Total | G30: =SUM(F23:F29) -> 1773980
A31: III. TRANSPORTES
A32: Material | B32: Vol-peso ó Cant. | C32: Distancia | D32: M3-Km | E32: Tarifa | F32: Valor-Unit.
F37: Sub-Total | G37: =SUM(F33:F36) -> 0
A38: IV. MANO DE OBRA
A39: Trabajador | B39: Jornal | C39: Prestaciones | D39: Jornal Total | E39: Rendimiento | F39: Valor-Unit.
A40: Oficial (1) | B40: 43471.89 | C40: 0.85 | D40: =ROUND(B40*C40+B40,2) -> 80423 | E40: 0.2 | F40: =D40*E40 -> 16084.6
A41: Ayudante (1) | B41: 25571.89 | C41: 0.85 | D41: =ROUND(B41*C41+B41,2) -> 47308 | E41: 0.2 | F41: =ROUND(E41*D41,2) -> 9461.6
F47: Sub-Total | G47: =ROUND(SUM(F40:F46),2) -> 25546.2
D49: Total Costo Directo | G49: =SUM(G20+G30+G47+G37) -> 1803358.1
A50: V. COSTOS INDIRECTOS
A51: Descripción | E51: Porcentaje | F51: Valor Total
A52: UTILIDAD | E52: 0.05 | F52: =+G49*E52 -> 90167.906
A53: IMPREVISTOS | E53: 0.03 | F53: =+G49*E53 -> 54100.744
A54: ADMINISTRACIÓN | E54: 0.14 | F54: =+G49*E54 -> 252470.14
F55: Sub-Total | G55: =+F52+F53+F54 -> 396738.79
C57: Precio unitario total aproximado al peso | G57: =ROUND(SUM(G49+G55),0) -> 2200097
A60: NOMBRE DEL CONTRATISTA:______________________________________ | E60: FECHA:____________________
A62: NOMBRE Y FIRMA DEL REPRESENTANTE LEGAL:______________________

Sheet APU RECORRIDO
A1: ANEXO No. 5
A4: MINISTERIO DE TRANSPORTE
A5: INSTITUTO NACIONAL DE VÍAS
A6: DIRECCION TERRITORIAL CAUCA
A7: ANÁLISIS DE PRECIOS UNITARIOS
A9: OBJETO : OBRAS DE MANTENIMIENTO DEL EDIFICIO SEDE DEL INSTITUTO NACIONAL DE VÍAS-DIRECCIÓN TERRITORIAL
A10: ITEM 4.1 : Recorrido y ajuste de tejas, arreglo de goteras, reposición de las deterioradas laboratorio de geotecnia
E11: UNIDAD : | F11: M2
A12: I. EQUIPO
A13: Descripción | C13: Tipo | D13: Tarifa/Hora | E13: Rendimiento | F13: Valor-Unit.
A14: Herramienta (% mano obra) | C14: Menor | E14: 0.05 | F14: =ROUND(E14*G47,2) -> 574.79
A15: Andamio y materiales (% mano de obra) | C15: Mayor | E15: 0.1 | F15: =ROUND(E15*G47,2) -> 1149.58
F20: Sub-Total | G20: =SUM(F14:F19) -> 1724.37
A21: II. MATERIALES EN OBRA
A22: Descripción | C22: Unidad | D22: Precio-Unit. | E22: Cantidad | F22: Valor-Unit.
A23: Teja en fibrocementeo #6 de 1.83 x 0,92 m | C23: UND | D23: 24000 | E23: 0.3 | F23: =ROUND(D23*E23,2) -> 7200
F30: Sub-Total | G30: =SUM(F23:F29) -> 7200
A31: III. TRANSPORTES
A32: Material | B32: Vol-peso ó Cant. | C32: Distancia | D32: M3-Km | E32: Tarifa | F32: Valor-Unit.
F37: Sub-Total | G37: =SUM(F33:F36) -> 0
A38: IV. MANO DE OBRA
A39: Trabajador | B39: Jornal | C39: Prestaciones | D39: Jornal Total | E39: Rendimiento | F39: Valor-Unit.
A40: Oficial (1) | B40: 43471.89 | C40: 0.85 | D40: =ROUND(B40*C40+B40,2) -> 80423 | E40: 0.09 | F40: =D40*E40 -> 7238.07
A41: Ayudante (1) | B41: 25571.89 | C41: 0.85 | D41: =ROUND(B41*C41+B41,2) -> 47308 | E41: 0.09 | F41: =ROUND(E41*D41,2) -> 4257.72
F47: Sub-Total | G47: =ROUND(SUM(F40:F46),2) -> 11495.79
D49: Total Costo Directo | G49: =SUM(G20+G30+G47+G37) -> 20420.16
A50: V. COSTOS INDIRECTOS
A51: Descripción | E51: Porcentaje | F51: Valor Total
A52: UTILIDAD | E52: 0.05 | F52: =+G49*E52 -> 1021.008
A53: IMPREVISTOS | E53: 0.03 | F53: =+G49*E53 -> 612.6048
A54: ADMINISTRACIÓN | E54: 0.14 | F54: =+G49*E54 -> 2858.8224
F55: Sub-Total | G55: =+F52+F53+F54 -> 4492.4352
C57: Precio unitario total aproximado al peso | G57: =ROUND(SUM(G49+G55),0) -> 24913
A60: NOMBRE DEL CONTRATISTA:______________________________________ | E60: FECHA:____________________
A62: NOMBRE Y FIRMA DEL REPRESENTANTE LEGAL:______________________

Sheet APU FACHADA
A1: ANEXO No. 5
A4: MINISTERIO DE TRANSPORTE
A5: INSTITUTO NACIONAL DE VÍAS
A6: DIRECCION TERRITORIAL CAUCA
A7: ANÁLISIS DE PRECIOS UNITARIOS
A9: OBJETO : OBRAS DE MANTENIMIENTO DEL EDIFICIO SEDE DEL INSTITUTO NACIONAL DE VÍAS-DIRECCIÓN TERRITORIAL
A10: ITEM 4.2 : Pintura e impermeabilizante fachada en ladrillo
E11: UNIDAD : | F11: M2
A12: I. EQUIPO
A13: Descripción | C13: Tipo | D13: Tarifa/Hora | E13: Rendimiento | F13: Valor-Unit.
A14: Herramienta (% mano obra) | C14: Menor | E14: 0.2 | F14: =ROUND(E14*G47,2) -> 1466.54
A15: Andamio (% mano de obra) | C15: Mayor | E15: 0.05 | F15: =ROUND(E15*G47,2) -> 366.64
F20: Sub-Total | G20: =SUM(F14:F19) -> 1833.18
A21: II. MATERIALES EN OBRA
A22: Descripción | C22: Unidad | D22: Precio-Unit. | E22: Cantidad | F22: Valor-Unit.
A23: Pintura transparente protectora de fachadas en ladrillo | C23: GL | D23: =328900/5 -> 65780 | E23: =3/40 -> 0.075 | F23: =ROUND(D23*E23,2) -> 4933.5
A24: Agua | C24: L | D24: 12 | E24: 5 | F24: =D24*E24 -> 60
F30: Sub-Total | G30: =SUM(F23:F29) -> 4993.5
A31: III. TRANSPORTES
A32: Material | B32: Vol-peso ó Cant. | C32: Distancia | D32: M3-Km | E32: Tarifa | F32: Valor-Unit.
F37: Sub-Total | G37: =SUM(F33:F36) -> 0
A38: IV. MANO DE OBRA
A39: Trabajador | B39: Jornal | C39: Prestaciones | D39: Jornal Total | E39: Rendimiento | F39: Valor-Unit.
A40: Oficial (1) | B40: 43471.89 | C40: 0.85 | D40: =ROUND(B40*C40+B40,2) -> 80423 | E40: 0.05 | F40: =D40*E40 -> 4021.15
A41: Ayudante (1) | B41: 25571.89 | C41: 0.85 | D41: =ROUND(B41*C41+B41,2) -> 47308 | E41: 0.05 | F41: =ROUND(E41*D41,2) -> 2365.4
A42: Ayudante (1) Lavado | B42: 25571.89 | C42: 0.85 | D42: =ROUND(B42*C42+B42,2) -> 47308 | E42: 0.02 | F42: =ROUND(E42*D42,2) -> 946.16
F47: Sub-Total | G47: =ROUND(SUM(F40:F46),2) -> 7332.71
D49: Total Costo Directo | G49: =SUM(G20+G30+G47+G37) -> 14159.39
A50: V. COSTOS INDIRECTOS
A51: Descripción | E51: Porcentaje | F51: Valor Total
A52: UTILIDAD | E52: 0.05 | F52: =+G49*E52 -> 707.9695
A53: IMPREVISTOS | E53: 0.03 | F53: =+G49*E53 -> 424.7817
A54: ADMINISTRACIÓN | E54: 0.14 | F54: =+G49*E54 -> 1982.3146
F55: Sub-Total | G55: =+F52+F53+F54 -> 3115.0658
C57: Precio unitario total aproximado al peso | G57: =ROUND(SUM(G49+G55),0) -> 17274
A60: NOMBRE DEL CONTRATISTA:______________________________________ | E60: FECHA:____________________
A62: NOMBRE Y FIRMA DEL REPRESENTANTE LEGAL:______________________

Sheet APU LOSA CUBIERTA
A1: ANEXO No. 5
A4: MINISTERIO DE TRANSPORTE
A5: INSTITUTO NACIONAL DE VÍAS
A6: DIRECCION TERRITORIAL CAUCA
A7: ANÁLISIS DE PRECIOS UNITARIOS
A9: OBJETO : OBRAS DE MANTENIMIENTO DEL EDIFICIO SEDE DEL INSTITUTO NACIONAL DE VÍAS-DIRECCIÓN TERRITORIAL
A10: ITEM 4.3 : Mantenimiento y reparación de impermeabilización losa de cubierta archivo
E11: UNIDAD : | F11: M2
A12: I. EQUIPO
A13: Descripción | C13: Tipo | D13: Tarifa/Hora | E13: Rendimiento | F13: Valor-Unit.
A14: Herramienta (% mano obra) | C14: Menor | E14: 0.05 | F14: =ROUND(E14*G47,2) -> 542.86
A15: Andamio multidireccional de carga certificado T-4m | C15: Mayor | D15: 2656 | E15: 0.1 | F15: =E15*D15 -> 265.6
F20: Sub-Total | G20: =SUM(F14:F19) -> 808.46
A21: II. MATERIALES EN OBRA
A22: Descripción | C22: Unidad | D22: Precio-Unit. | E22: Cantidad | F22: Valor-Unit.
A23: Tela de refuerzo para impermeabilización (Rollo 50 m2) | C23: UND | D23: 55000 | E23: =1/45 -> 0.022222222 | F23: =ROUND(D23*E23,2) -> 1222.22
A24: Pintura reflectiva de Aluminio 3kg | C24: GL | D24: 80000 | E24: =1/18 -> 0.055555556 | F24: =D24*E24 -> 4444.4444
A25: Emulsión Asfáltica | C25: KG | D25: 6403.2 | E25: 1.55 | F25: =D25*E25 -> 9924.96
F30: Sub-Total | G30: =ROUND(SUM(F23:F29),2) -> 15591.62
A31: III. TRANSPORTES
A32: Material | B32: Vol-peso ó Cant. | C32: Distancia | D32: M3-Km | E32: Tarifa | F32: Valor-Unit.
F37: Sub-Total | G37: =SUM(F33:F36) -> 0
A38: IV. MANO DE OBRA
A39: Trabajador | B39: Jornal | C39: Prestaciones | D39: Jornal Total | E39: Rendimiento | F39: Valor-Unit.
A40: Oficial (1) | B40: 43471.89 | C40: 0.85 | D40: =ROUND(B40*C40+B40,2) -> 80423 | E40: 0.085 | F40: =D40*E40 -> 6835.955
A41: Ayudante (1) | B41: 25571.89 | C41: 0.85 | D41: =ROUND(B41*C41+B41,2) -> 47308 | E41: 0.085 | F41: =ROUND(E41*D41,2) -> 4021.18
F47: Sub-Total | G47: =ROUND(SUM(F40:F46),2) -> 10857.14
D49: Total Costo Directo | G49: =SUM(G20+G30+G47+G37) -> 27257.22
A50: V. COSTOS INDIRECTOS
A51: Descripción | E51: Porcentaje | F51: Valor Total
A52: UTILIDAD | E52: 0.05 | F52: =+G49*E52 -> 1362.861
A53: IMPREVISTOS | E53: 0.03 | F53: =+G49*E53 -> 817.7166
A54: ADMINISTRACIÓN | E54: 0.14 | F54: =+G49*E54 -> 3816.0108
F55: Sub-Total | G55: =+F52+F53+F54 -> 5996.5884
C57: Precio unitario total aproximado al peso | G57: =ROUND(SUM(G49+G55),0) -> 33254
A60: NOMBRE DEL CONTRATISTA:______________________________________ | E60: FECHA:____________________
A62: NOMBRE Y FIRMA DEL REPRESENTANTE LEGAL:______________________

Sheet APU CIELO RASO 3M
A1: ANEXO No. 5
A4: MINISTERIO DE TRANSPORTE
A5: INSTITUTO NACIONAL DE VÍAS
A6: DIRECCION TERRITORIAL CAUCA
A7: ANÁLISIS DE PRECIOS UNITARIOS
A9: OBJETO : OBRAS DE MANTENIMIENTO DEL EDIFICIO SEDE DEL INSTITUTO NACIONAL DE VÍAS-DIRECCIÓN TERRITORIAL
A10: ITEM 4.4 : Pintura 3M cielo raso (laboratorio y archivo)
E11: UNIDAD : | F11: M2
A12: I. EQUIPO
A13: Descripción | C13: Tipo | D13: Tarifa/Hora | E13: Rendimiento | F13: Valor-Unit.
A14: Herramienta (% mano obra) | C14: Menor | E14: 0.05 | F14: =ROUND(E14*G47,2) -> 510.92
A15: Andamio (% mano de obra) | C15: Mayor | E15: 0.2 | F15: =E15*G47 -> 2043.696
F20: Sub-Total | G20: =SUM(F14:F19) -> 2554.616
A21: II. MATERIALES EN OBRA
A22: Descripción | C22: Unidad | D22: Precio-Unit. | E22: Cantidad | F22: Valor-Unit.
A23: Estuco plastico (27KG) | C23: GL | D23: 7000 | E23: =1/5 -> 0.2 | F23: =ROUND(D23*E23,2) -> 1400
A24: Pintura vinilo Tipo II | C24: GL | D24: 55000 | E24: 0.034 | F24: =D24*E24 -> 1870
F30: Sub-Total | G30: =ROUND(SUM(F23:F29),2) -> 3270
A31: III. TRANSPORTES
A32: Material | B32: Vol-peso ó Cant. | C32: Distancia | D32: M3-Km | E32: Tarifa | F32: Valor-Unit.
F37: Sub-Total | G37: =SUM(F33:F36) -> 0
A38: IV. MANO DE OBRA
A39: Trabajador | B39: Jornal | C39: Prestaciones | D39: Jornal Total | E39: Rendimiento | F39: Valor-Unit.
A40: Oficial (1) | B40: 43471.89 | C40: 0.85 | D40: =ROUND(B40*C40+B40,2) -> 80423 | E40: 0.08 | F40: =D40*E40 -> 6433.84
A41: Ayudante (1) | B41: 25571.89 | C41: 0.85 | D41: =ROUND(B41*C41+B41,2) -> 47308 | E41: 0.08 | F41: =ROUND(E41*D41,2) -> 3784.64
F47: Sub-Total | G47: =ROUND(SUM(F40:F46),2) -> 10218.48
D49: Total Costo Directo | G49: =ROUND(SUM(G20+G30+G47+G37),2) -> 16043.1
A50: V. COSTOS INDIRECTOS
A51: Descripción | E51: Porcentaje | F51: Valor Total
A52: UTILIDAD | E52: 0.05 | F52: =+G49*E52 -> 802.155
A53: IMPREVISTOS | E53: 0.03 | F53: =+G49*E53 -> 481.293
A54: ADMINISTRACIÓN | E54: 0.14 | F54: =+G49*E54 -> 2246.034
F55: Sub-Total | G55: =+F52+F53+F54 -> 3529.482
C57: Precio unitario total aproximado al peso | G57: =ROUND(SUM(G49+G55),0) -> 19573
A60: NOMBRE DEL CONTRATISTA:______________________________________ | E60: FECHA:____________________
A62: NOMBRE Y FIRMA DEL REPRESENTANTE LEGAL:______________________

Sheet APU PINTURA REJA
A1: ANEXO No. 5
A4: MINISTERIO DE TRANSPORTE
A5: INSTITUTO NACIONAL DE VÍAS
A6: DIRECCION TERRITORIAL CAUCA
A7: ANÁLISIS DE PRECIOS UNITARIOS
A9: OBJETO : OBRAS DE MANTENIMIENTO DEL EDIFICIO SEDE DEL INSTITUTO NACIONAL DE VÍAS-DIRECCIÓN TERRITORIAL
A10: ITEM 4.5 : Pintura rejas, baranda metálica y malla eslabonada
E11: UNIDAD : | F11: M2
A12: I. EQUIPO
A13: Descripción | C13: Tipo | D13: Tarifa/Hora | E13: Rendimiento | F13: Valor-Unit.
A14: Herramienta (% mano obra) | C14: Menor | E14: 0.1 | F14: =ROUND(E14*G47,2) -> 638.66
A15: Andamio (% mano de obra) | C15: Mayor | E15: 0.05 | F15: =E15*G47 -> 319.3275
A16: Compresor | C16: Mayor | D16: 31000 | E16: 0.1 | F16: =E16*D16 -> 3100
F20: Sub-Total | G20: =ROUND(SUM(F14:F19),2) -> 4057.99
A21: II. MATERIALES EN OBRA
A22: Descripción | C22: Unidad | D22: Precio-Unit. | E22: Cantidad | F22: Valor-Unit.
A23: Pintura esmalte para exteriores | C23: GL | D23: 68900 | E23: =1/18 -> 0.055555556 | F23: =ROUND(D23*E23,2) -> 3827.78
F30: Sub-Total | G30: =ROUND(SUM(F23:F29),2) -> 3827.78
A31: III. TRANSPORTES
A32: Material | B32: Vol-peso ó Cant. | C32: Distancia | D32: M3-Km | E32: Tarifa | F32: Valor-Unit.
F37: Sub-Total | G37: =SUM(F33:F36) -> 0
A38: IV. MANO DE OBRA
A39: Trabajador | B39: Jornal | C39: Prestaciones | D39: Jornal Total | E39: Rendimiento | F39: Valor-Unit.
A40: Oficial (1) | B40: 43471.89 | C40: 0.85 | D40: =ROUND(B40*C40+B40,2) -> 80423 | E40: 0.05 | F40: =D40*E40 -> 4021.15
A41: Ayudante (1) | B41: 25571.89 | C41: 0.85 | D41: =ROUND(B41*C41+B41,2) -> 47308 | E41: 0.05 | F41: =ROUND(E41*D41,2) -> 2365.4
F47: Sub-Total | G47: =ROUND(SUM(F40:F46),2) -> 6386.55
D49: Total Costo Directo | G49: =ROUND(SUM(G20+G30+G47+G37),2) -> 14272.32
A50: V. COSTOS INDIRECTOS
A51: Descripción | E51: Porcentaje | F51: Valor Total
A52: UTILIDAD | E52: 0.05 | F52: =+G49*E52 -> 713.616
A53: IMPREVISTOS | E53: 0.03 | F53: =+G49*E53 -> 428.1696
A54: ADMINISTRACIÓN | E54: 0.14 | F54: =+G49*E54 -> 1998.1248
F55: Sub-Total | G55: =+F52+F53+F54 -> 3139.9104
C57: Precio unitario total aproximado al peso | G57: =ROUND(SUM(G49+G55),0) -> 17412
A60: NOMBRE DEL CONTRATISTA:______________________________________ | E60: FECHA:____________________
A62: NOMBRE Y FIRMA DEL REPRESENTANTE LEGAL:______________________

Sheet APU PUERTA 2X2M
A1: ANEXO No. 5
A4: MINISTERIO DE TRANSPORTE
A5: INSTITUTO NACIONAL DE VÍAS
A6: DIRECCION TERRITORIAL CAUCA
A7: ANÁLISIS DE PRECIOS UNITARIOS
A9: OBJETO : OBRAS DE MANTENIMIENTO DEL EDIFICIO SEDE DEL INSTITUTO NACIONAL DE VÍAS-DIRECCIÓN TERRITORIAL
A10: ITEM 4.6 : Puerta en tubería galvanizada de 1 1/2" para cerramiento de 2x2 m
E11: UNIDAD : | F11: M2
A12: I. EQUIPO
A13: Descripción | C13: Tipo | D13: Tarifa/Hora | E13: Rendimiento | F13: Valor-Unit.
A14: Herramienta (% mano obra) | C14: Menor | E14: 0.1 | F14: =ROUND(E14*G48,2) -> 44511.43
A15: Soldadura eléctrica | C15: Mayor | D15: 57800 | E15: 0.1 | F15: =D15*E15 -> 5780
F20: Sub-Total | G20: =ROUND(SUM(F14:F19),2) -> 50291.43
A21: II. MATERIALES EN OBRA
A22: Descripción | C22: Unidad | D22: Precio-Unit. | E22: Cantidad | F22: Valor-Unit.
A23: Tubería galvanizada para cerramiento de 1 1/2" x 6m | C23: M | D23: =60000/6 -> 10000 | E23: 13.53 | F23: =ROUND(D23*E23,2) -> 135300
A24: Pasador metálico de 3" | C24: UND | D24: 6900 | E24: 2.2 | F24: =ROUND(D24*E24,2) -> 15180
A25: Pintura esmalte para exteriores | C25: GL | D25: 68900 | E25: =1/18 -> 0.055555556 | F25: =ROUND(D25*E25,2) -> 3827.78
A26: Bisagra armillar hierro 2" | C26: UND | D26: 700 | E26: 6.7 | F26: =ROUND(D26*E26,2) -> 4690
A27: Malla eslabonada 2" x 2" Calibre 13 | C27: M2 | D27: 11200 | E27: 4.2 | F27: =E27*D27 -> 47040
A28: Ángulo de 1" x 1/8" | C28: M | D28: 3300 | E28: 14.18 | F28: =E28*D28 -> 46794
A29: Soldadura para hierro estructural | C29: KG | D29: 10000 | E29: 0.93 | F29: =E29*D29 -> 9300
F31: Sub-Total | G31: =ROUND(SUM(F23:F30),2) -> 262131.78
A32: III. TRANSPORTES
A33: Material | B33: Vol-peso ó Cant. | C33: Distancia | D33: M3-Km | E33: Tarifa | F33: Valor-Unit.
F38: Sub-Total | G38: =SUM(F34:F37) -> 0
A39: IV. MANO DE OBRA
A40: Trabajador | B40: Jornal | C40: Prestaciones | D40: Jornal Total | E40: Rendimiento | F40: Valor-Unit.
A41: Cuadrilla A 1 oficial + 4 ayudantes | B41: 165623.2 | C41: 0.85 | D41: =ROUND(B41*C41+B41,2) -> 306402.92 | E41: 0.89 | F41: =D41*E41 -> 272698.6
A42: Cuadrilla S 1 soldador + 1 ayudante práctico | B42: 127668.01 | C42: 0.85 | D42: =ROUND(B42*C42+B42,2) -> 236185.82 | E42: 0.73 | F42: =ROUND(E42*D42,2) -> 172415.65
F48: Sub-Total | G48: =ROUND(SUM(F41:F47),2) -> 445114.25
D50: Total Costo Directo | G50: =ROUND(SUM(G20+G31+G48+G38),2) -> 757537.46
A51: V. COSTOS INDIRECTOS
A52: Descripción | E52: Porcentaje | F52: Valor Total
A53: UTILIDAD | E53: 0.05 | F53: =+G50*E53 -> 37876.873
A54: IMPREVISTOS | E54: 0.03 | F54: =+G50*E54 -> 22726.124
A55: ADMINISTRACIÓN | E55: 0.14 | F55: =+G50*E55 -> 106055.24
F56: Sub-Total | G56: =+F53+F54+F55 -> 166658.24
C58: Precio unitario total aproximado al peso | G58: =ROUND(SUM(G50+G56),0) -> 924196
A61: NOMBRE DEL CONTRATISTA:______________________________________ | E61: FECHA:____________________
...

Sheet APU PUERTA 2X0,9M
A1: ANEXO No. 5
A4: MINISTERIO DE TRANSPORTE
A5: INSTITUTO NACIONAL DE VÍAS
A6: DIRECCION TERRITORIAL CAUCA
A7: ANÁLISIS DE PRECIOS UNITARIOS
A9: OBJETO : OBRAS DE MANTENIMIENTO DEL EDIFICIO SEDE DEL INSTITUTO NACIONAL DE VÍAS-DIRECCIÓN TERRITORIAL
A10: ITEM 4.7 : Puerta en tubería galvanizada de 1 1/2" para cerramiento de 2x0,9 m
E11: UNIDAD : | F11: M2
A12: I. EQUIPO
A13: Descripción | C13: Tipo | D13: Tarifa/Hora | E13: Rendimiento | F13: Valor-Unit.
A14: Herramienta (% mano obra) | C14: Menor | E14: 0.1 | F14: =ROUND(E14*G47,2) -> 20050.25
A15: Soldadura eléctrica | C15: Mayor | D15: 57800 | E15: 0.1 | F15: =D15*E15 -> 5780
F20: Sub-Total | G20: =ROUND(SUM(F14:F19),2) -> 25830.25
A21: II. MATERIALES EN OBRA
A22: Descripción | C22: Unidad | D22: Precio-Unit. | E22: Cantidad | F22: Valor-Unit.
A23: Tubería galvanizada para cerramiento de 1 1/2" x 6m | C23: M | D23: =60000/6 -> 10000 | E23: 6.09 | F23: =ROUND(D23*E23,2) -> 60900
A24: Pasador metálico de 3" | C24: UND | D24: 6900 | E24: 1 | F24: =ROUND(D24*E24,2) -> 6900
A25: Pintura esmalte para exteriores | C25: GL | D25: 68900 | E25: =1/18 -> 0.055555556 | F25: =ROUND(D25*E25,2) -> 3827.78
A26: Bisagra armillar hierro 2" | C26: UND | D26: 700 | E26: 3 | F26: =ROUND(D26*E26,2) -> 2100
A27: Malla eslabonada 2" x 2" Calibre 13 | C27: M2 | D27: 11200 | E27: 1.89 | F27: =E27*D27 -> 21168
A28: Ángulo de 1" x 1/8" | C28: M | D28: 3300 | E28: 6.38 | F28: =E28*D28 -> 21054
A29: Soldadura para hierro estructural | C29: KG | D29: 10000 | E29: 0.42 | F29: =E29*D29 -> 4200
F30: Sub-Total | G30: =ROUND(SUM(F23:F29),2) -> 120149.78
A31: III. TRANSPORTES
A32: Material | B32: Vol-peso ó Cant. | C32: Distancia | D32: M3-Km | E32: Tarifa | F32: Valor-Unit.
F37: Sub-Total | G37: =SUM(F33:F36) -> 0
A38: IV. MANO DE OBRA
A39: Trabajador | B39: Jornal | C39: Prestaciones | D39: Jornal Total | E39: Rendimiento | F39: Valor-Unit.
A40: Cuadrilla A 1 oficial + 4 ayudantes | B40: 165623.2 | C40: 0.85 | D40: =ROUND(B40*C40+B40,2) -> 306402.92 | E40: 0.4 | F40: =D40*E40 -> 122561.17
A41: Cuadrilla S 1 soldador + 1 ayudante práctico | B41: 127668.01 | C41: 0.85 | D41: =ROUND(B41*C41+B41,2) -> 236185.82 | E41: 0.33 | F41: =ROUND(E41*D41,2) -> 77941.32
F47: Sub-Total | G47: =ROUND(SUM(F40:F46),2) -> 200502.49
D49: Total Costo Directo | G49: =ROUND(SUM(G20+G30+G47+G37),2) -> 346482.52
A50: V. COSTOS INDIRECTOS
A51: Descripción | E51: Porcentaje | F51: Valor Total
A52: UTILIDAD | E52: 0.05 | F52: =+G49*E52 -> 17324.126
A53: IMPREVISTOS | E53: 0.03 | F53: =+G49*E53 -> 10394.476
A54: ADMINISTRACIÓN | E54: 0.14 | F54: =+G49*E54 -> 48507.553
F55: Sub-Total | G55: =+F52+F53+F54 -> 76226.154
C57: Precio unitario total aproximado al peso | G57: =ROUND(SUM(G49+G55),0) -> 422709
A60: NOMBRE DEL CONTRATISTA:______________________________________ | E60: FECHA:____________________
...

Sheet APU CUBIERTA PARQUEADERO
A1: ANEXO No. 5
A4: MINISTERIO DE TRANSPORTE
A5: INSTITUTO NACIONAL DE VÍAS
A6: DIRECCION TERRITORIAL CAUCA
A7: ANÁLISIS DE PRECIOS UNITARIOS
A9: OBJETO : OBRAS DE MANTENIMIENTO DEL EDIFICIO SEDE DEL INSTITUTO NACIONAL DE VÍAS-DIRECCIÓN TERRITORIAL
A10: ITEM 4.8 : Construcción cubierta parqueadero estructura metálica y policarbonato 5,37 de ancho por 8,55 de largo
E11: UNIDAD : | F11: GLOBAL
A12: I. EQUIPO
A13: Descripción | C13: Tipo | D13: Tarifa/Hora | E13: Rendimiento | F13: Valor-Unit.
A14: Herramienta (% mano obra) | C14: Menor | E14: 0.1 | F14: =ROUND(E14*G47,2) -> 510161.38
A15: Soldadura eléctrica | C15: Mayor | D15: 57800 | E15: 0.1 | F15: =D15*E15 -> 5780
F20: Sub-Total | G20: =ROUND(SUM(F14:F19),2) -> 515941.38
A21: II. MATERIALES EN OBRA
A22: Descripción | C22: Unidad | D22: Precio-Unit. | E22: Cantidad | F22: Valor-Unit.
A23: Perlines 100x50mm sección C, de 6m x 1.5mm anticorrosivo | C23: m | D23: =66000/6 -> 11000 | E23: =8+10+21.15+7.25+3.6 -> 50 | F23: =ROUND(D23*E23,2) -> 550000
A24: Varilla de acero de 1/2 pulg | C24: m | D24: =18000/6 -> 3000 | E24: 7 | F24: =ROUND(D24*E24,2) -> 21000
A25: Lámina de policarbonato alveolar de 6mm Cristal 1,05 x 2,95 m | C25: und | D25: 150000 | E25: 12 | F25: =ROUND(D25*E25,2) -> 1800000
A26: Tornillos autoperforantes de 3/4 cabeza hexagonal | C26: und | D26: 500 | E26: 60 | F26: =ROUND(D26*E26,2) -> 30000
A27: Pintura esmalte para exteriores | C27: GL | D27: 68900 | E27: 1.5 | F27: =ROUND(D27*E27,2) -> 103350
A28: Ángulo 6 metros 25 x 25 mm ancho | C28: und | D28: 17000 | E28: 26 | F28: =ROUND(D28*E28,2) -> 442000
A29: Tubo rectangular 40 x 20 x 1.1mm Cal.18 x 6m | C29: m | D29: =24000/6 -> 4000 | E29: 15 | F29: =ROUND(D29*E29,2) -> 60000
A30: Soldadura para hierro estructural | C30: KG | D30: 10000 | E30: =10.5 -> 10.5 | F30: =+D30*E30 -> 105000 | G30: =ROUND(SUM(F23:F30),2) -> 3111350
F31: Sub-Total
A32: III. TRANSPORTES
A33: Material | B33: Vol-peso ó Cant. | C33: Distancia | D33: M3-Km | E33: Tarifa | F33: Valor-Unit.
G37: =SUM(F34:F37) -> 0
F38: Sub-Total
A39: IV. MANO DE OBRA
A40: Trabajador | B40: Jornal | C40: Prestaciones | D40: Jornal Total | E40: Rendimiento | F40: Valor-Unit.
A41: Personal requerido para la fabricación de estructura metálica | B41: 766008.08 | C41: 0.85 | D41: =ROUND(B41*(1+C41),2) -> 1417114.9 | E41: 3 | F41: =D41*E41 -> 4251344.8
A42: Cuadrilla S 1 soldador + 1 ayudante práctico | B42: 153201.62 | C42: 0.85 | D42: =ROUND(B42*C42+B42,2) -> 283422.99 | E42: 3 | F42: =ROUND(E42*D42,2) -> 850268.97
G47: =ROUND(SUM(F41:F47),2) -> 5101613.8
F48: Sub-Total
G49: =ROUND(SUM(G20+G30+G47+G37),2) -> 8728905.2
D50: Total Costo Directo
A51: V. COSTOS INDIRECTOS
A52: Descripción | E52: Porcentaje | F52: Valor Total
A53: UTILIDAD | E53: 0.05 | F53: =+G49*E53 -> 436445.26
A54: IMPREVISTOS | E54: 0.03 | F54: =+G49*E54 -> 261867.16
...

Sheet APU POLICARBONATO
A1: ANEXO No. 5
A4: MINISTERIO DE TRANSPORTE
A5: INSTITUTO NACIONAL DE VÍAS
A6: DIRECCION TERRITORIAL CAUCA
A7: ANÁLISIS DE PRECIOS UNITARIOS
A9: OBJETO : OBRAS DE MANTENIMIENTO DEL EDIFICIO SEDE DEL INSTITUTO NACIONAL DE VÍAS-DIRECCIÓN TERRITORIAL
A10: ITEM 4.10 : Mantenimiento cubierta y cambio policarbonato parqueaderos
E11: UNIDAD : | F11: M2
A12: I. EQUIPO
A13: Descripción | C13: Tipo | D13: Tarifa/Hora | E13: Rendimiento | F13: Valor-Unit.
A14: Herramienta (% mano obra) | C14: Menor | E14: 0.033 | F14: =ROUND(E14*G47,2) -> 2788.23
A15: Andamio (% mano de obra) | C15: Mayor | E15: 0.2 | F15: =E15*G47 -> 16898.372
A16: Compresor | C16: Mayor | D16: 31000 | E16: 0.1 | F16: =E16*D16 -> 3100
F20: Sub-Total | G20: =ROUND(SUM(F14:F19),2) -> 22786.6
A21: II. MATERIALES EN OBRA
A22: Descripción | C22: Unidad | D22: Precio-Unit. | E22: Cantidad | F22: Valor-Unit.
A23: Lámina de policarbonato alveolar de 6mm Cristal 1,05 x 2,95 m | C23: UND | D23: 150000 | E23: =1/(1.05*2.95) -> 0.322841 | F23: =ROUND(D23*E23,2) -> 48426.15
A24: Tornillo autoperforante 3/4 | C24: UND | D24: 450 | E24: 2.21 | F24: =ROUND(D24*E24,2) -> 994.5
A25: Pintura en aceite | C25: GL | D25: 70600 | E25: =1/16 -> 0.0625 | F25: =ROUND(D25*E25,2) -> 4412.5
F30: Sub-Total | G30: =ROUND(SUM(F23:F29),2) -> 53833.15
A31: III. TRANSPORTES
A32: Material | B32: Vol-peso ó Cant. | C32: Distancia | D32: M3-Km | E32: Tarifa | F32: Valor-Unit.
F37: Sub-Total | G37: =SUM(F33:F36) -> 0
A38: IV. MANO DE OBRA
A39: Trabajador | B39: Jornal | C39: Prestaciones | D39: Jornal Total | E39: Rendimiento | F39: Valor-Unit.
A40: Oficial (1) | B40: 43471.89 | C40: 0.85 | D40: =ROUND(B40*C40+B40,2) -> 80423 | E40: 0.38 | F40: =D40*E40 -> 30560.74
A41: Ayudante (3) | B41: 76715.67 | C41: 0.85 | D41: =ROUND(B41*C41+B41,2) -> 141923.99 | E41: 0.38 | F41: =ROUND(E41*D41,2) -> 53931.12
F47: Sub-Total | G47: =ROUND(SUM(F40:F46),2) -> 84491.86
D49: Total Costo Directo | G49: =ROUND(SUM(G20+G30+G47+G37),2) -> 161111.61
A50: V. COSTOS INDIRECTOS
A51: Descripción | E51: Porcentaje | F51: Valor Total
A52: UTILIDAD | E52: 0.05 | F52: =+G49*E52 -> 8055.5805
A53: IMPREVISTOS | E53: 0.03 | F53: =+G49*E53 -> 4833.3483
A54: ADMINISTRACIÓN | E54: 0.14 | F54: =+G49*E54 -> 22555.625
F55: Sub-Total | G55: =+F52+F53+F54 -> 35444.554
C57: Precio unitario total aproximado al peso | G57: =ROUND(SUM(G49+G55),0) -> 196556
A60: NOMBRE DEL CONTRATISTA:______________________________________ | E60: FECHA:____________________
A62: NOMBRE Y FIRMA DEL REPRESENTANTE LEGAL:______________________

Sheet APU CERRAMIENTO
A1: ANEXO No. 5
A4: MINISTERIO DE TRANSPORTE
A5: INSTITUTO NACIONAL DE VÍAS
A6: DIRECCION TERRITORIAL CAUCA
A7: ANÁLISIS DE PRECIOS UNITARIOS
A9: OBJETO : OBRAS DE MANTENIMIENTO DEL EDIFICIO SEDE DEL INSTITUTO NACIONAL DE VÍAS-DIRECCIÓN TERRITORIAL
A10: ITEM 4.11 : Cerramiento en malla eslabonada con tubo galvanizado para división predio
E11: UNIDAD : | F11: M2
A12: I. EQUIPO
A13: Descripción | C13: Tipo | D13: Tarifa/Hora | E13: Rendimiento | F13: Valor-Unit.
A14: Herramienta (% mano obra) | C14: Menor | E14: 0.1 | F14: =ROUND(E14*G47,2) -> 4584.14
A15: Soldadura eléctrica | C15: Mayor | D15: 57800 | E15: 0.1 | F15: =E15*D15 -> 5780
A16: Andamio (% mano de obra) | C16: Mayor | E16: 0.05 | F16: =E16*G47 -> 2292.0675
F20: Sub-Total | G20: =ROUND(SUM(F14:F19),2) -> 12656.21
A21: II. MATERIALES EN OBRA
A22: Descripción | C22: Unidad | D22: Precio-Unit. | E22: Cantidad | F22: Valor-Unit.
A23: Malla eslabonada 2" x 2" Calibre 13 | C23: M2 | D23: 11300 | E23: 5 | F23: =ROUND(D23*E23,2) -> 56500
A24: Alambre galvanizado Calibre 12 | C24: KG | D24: 3000 | E24: 0.44 | F24: =ROUND(D24*E24,2) -> 1320
A25: Soldadura para hierro estructural | C25: KG | D25: 9700 | E25: 0.62 | F25: =ROUND(D25*E25,2) -> 6014
A26: Ángulo 1" x 1/8" | C26: M | D26: 3250 | E26: 2 | F26: =ROUND(D26*E26,2) -> 6500
A27: Tubo galvanizado para cerramiento de 1 1/2" x 6m incluye tapa | C27: UND | D27: 50000 | E27: 0.6 | F27: =ROUND(D27*E27,2) -> 30000
A28: Excavación en tierra seca de 0 - 2m | C28: M3 | D28: 28400 | E28: 0.06 | F28: =ROUND(D28*E28,2) -> 1704
A29: Concreto de f'c= 21 Mpa con 5% desperdicio | C29: M3 | D29: 330000 | E29: 0.021 | F29: =ROUND(D29*E29,2) -> 6930
F30: Sub-Total | G30: =ROUND(SUM(F23:F29),2) -> 108968
A31: III. TRANSPORTES
A32: Material | B32: Vol-peso ó Cant. | C32: Distancia | D32: M3-Km | E32: Tarifa | F32: Valor-Unit.
F37: Sub-Total | G37: =SUM(F33:F36) -> 0
A38: IV. MANO DE OBRA
A39: Trabajador | B39: Jornal | C39: Prestaciones | D39: Jornal Total | E39: Rendimiento | F39: Valor-Unit.
A40: Cuadrilla AS 1 oficial + 4 ayudantes | B40: 145759.45 | C40: 0.85 | D40: =ROUND(B40*C40+B40,2) -> 269654.98 | E40: 0.17 | F40: =D40*E40 -> 45841.347
F47: Sub-Total | G47: =ROUND(SUM(F40:F46),2) -> 45841.35
D49: Total Costo Directo | G49: =ROUND(SUM(G20+G30+G47+G37),2) -> 167465.56
A50: V. COSTOS INDIRECTOS
A51: Descripción | E51: Porcentaje | F51: Valor Total
A52: UTILIDAD | E52: 0.05 | F52: =+G49*E52 -> 8373.278
A53: IMPREVISTOS | E53: 0.03 | F53: =+G49*E53 -> 5023.9668
A54: ADMINISTRACIÓN | E54: 0.14 | F54: =+G49*E54 -> 23445.178
F55: Sub-Total | G55: =+F52+F53+F54 -> 36842.423
C57: Precio unitario total aproximado al peso | G57: =ROUND(SUM(G49+G55),0) -> 204308
A60: NOMBRE DEL CONTRATISTA:______________________________________ | E60: FECHA:____________________
...

Sheet APU VENTANERÍA
A1: ANEXO No. 5
A4: MINISTERIO DE TRANSPORTE
A5: INSTITUTO NACIONAL DE VÍAS
A6: DIRECCION TERRITORIAL CAUCA
A7: ANÁLISIS DE PRECIOS UNITARIOS
A9: OBJETO : OBRAS DE MANTENIMIENTO DEL EDIFICIO SEDE DEL INSTITUTO NACIONAL DE VÍAS-DIRECCIÓN TERRITORIAL
A10: ITEM 5.1 : Suministro e instalación de ventanería en aluminio con los vidrios
E11: UNIDAD : | F11: M2
A12: I. EQUIPO
A13: Descripción | C13: Tipo | D13: Tarifa/Hora | E13: Rendimiento | F13: Valor-Unit.
A14: Herramienta (% mano obra) | C14: Menor | E14: 0.1 | F14: =ROUND(E14*G47,2) -> 1660.5
F20: Sub-Total | G20: =ROUND(SUM(F14:F19),2) -> 1660.5
A21: II. MATERIALES EN OBRA
A22: Descripción | C22: Unidad | D22: Precio-Unit. | E22: Cantidad | F22: Valor-Unit.
A23: Ventanería corrediza en aluminio calibre 744 | C23: M2 | D23: 150000 | E23: 1 | F23: =ROUND(D23*E23,2) -> 150000
A24: Vidrio de 4mm transparante | C24: M2 | D24: 32000 | E24: 1 | F24: =ROUND(D24*E24,2) -> 32000
F30: Sub-Total | G30: =ROUND(SUM(F23:F29),2) -> 182000
A31: III. TRANSPORTES
A32: Material | B32: Vol-peso ó Cant. | C32: Distancia | D32: M3-Km | E32: Tarifa | F32: Valor-Unit.
F37: Sub-Total | G37: =SUM(F33:F36) -> 0
A38: IV. MANO DE OBRA
A39: Trabajador | B39: Jornal | C39: Prestaciones | D39: Jornal Total | E39: Rendimiento | F39: Valor-Unit.
A40: Oficial (1) | B40: 43471.89 | C40: 0.85 | D40: =ROUND(B40*C40+B40,2) -> 80423 | E40: 0.13 | F40: =D40*E40 -> 10454.99
A41: Ayudante (1) | B41: 25571.89 | C41: 0.85 | D41: =ROUND(B41*C41+B41,2) -> 47308 | E41: 0.13 | F41: =D41*E41 -> 6150.04
F47: Sub-Total | G47: =ROUND(SUM(F40:F46),2) -> 16605.03
D49: Total Costo Directo | G49: =ROUND(SUM(G20+G30+G47+G37),2) -> 200265.53
A50: V. COSTOS INDIRECTOS
A51: Descripción | E51: Porcentaje | F51: Valor Total
A52: UTILIDAD | E52: 0.05 | F52: =+G49*E52 -> 10013.276
A53: IMPREVISTOS | E53: 0.03 | F53: =+G49*E53 -> 6007.9659
A54: ADMINISTRACIÓN | E54: 0.14 | F54: =+G49*E54 -> 28037.174
F55: Sub-Total | G55: =+F52+F53+F54 -> 44058.417
C57: Precio unitario total aproximado al peso | G57: =ROUND(SUM(G49+G55),0) -> 244324
A60: NOMBRE DEL CONTRATISTA:______________________________________ | E60: FECHA:____________________
A62: NOMBRE Y FIRMA DEL REPRESENTANTE LEGAL:______________________

Sheet APU VIDRIOS
A1: ANEXO No. 5
A4: MINISTERIO DE TRANSPORTE
A5: INSTITUTO NACIONAL DE VÍAS
A6: DIRECCION TERRITORIAL CAUCA
A7: ANÁLISIS DE PRECIOS UNITARIOS
A9: OBJETO : OBRAS DE MANTENIMIENTO DEL EDIFICIO SEDE DEL INSTITUTO NACIONAL DE VÍAS-DIRECCIÓN TERRITORIAL
A10: ITEM 6.1 : Suministro e instalación de vidrios de 4mm para marquesina y mantenimiento
E11: UNIDAD : | F11: M2
A12: I. EQUIPO
A13: Descripción | C13: Tipo | D13: Tarifa/Hora | E13: Rendimiento | F13: Valor-Unit.
A14: Herramienta (% mano obra) | C14: Menor | E14: 0.1 | F14: =ROUND(E14*G47,2) -> 804.23
F20: Sub-Total | G20: =ROUND(SUM(F14:F19),2) -> 804.23
A21: II. MATERIALES EN OBRA
A22: Descripción | C22: Unidad | D22: Precio-Unit. | E22: Cantidad | F22: Valor-Unit.
A23: Vidrio de 4mm transparente | C23: M2 | D23: 32000 | E23: 1 | F23: =ROUND(D23*E23,2) -> 32000
A24: Silicona transparente sellador de vidrios | C24: KG | D24: 15900 | E24: 0.01 | F24: =ROUND(D24*E24,2) -> 159
F30: Sub-Total | G30: =ROUND(SUM(F23:F29),2) -> 32159
A31: III. TRANSPORTES
A32: Material | B32: Vol-peso ó Cant. | C32: Distancia | D32: M3-Km | E32: Tarifa | F32: Valor-Unit.
F37: Sub-Total | G37: =SUM(F33:F36) -> 0
A38: IV. MANO DE OBRA
A39: Trabajador | B39: Jornal | C39: Prestaciones | D39: Jornal Total | E39: Rendimiento | F39: Valor-Unit.
A40: Oficial (1) | B40: 43471.89 | C40: 0.85 | D40: =ROUND(B40*C40+B40,2) -> 80423 | E40: 0.1 | F40: =D40*E40 -> 8042.3
F47: Sub-Total | G47: =ROUND(SUM(F40:F46),2) -> 8042.3
D49: Total Costo Directo | G49: =ROUND(SUM(G20+G30+G47+G37),2) -> 41005.53
A50: V. COSTOS INDIRECTOS
A51: Descripción | E51: Porcentaje | F51: Valor Total
E52: 0.05 | F52: =+G49*E52 -> 2050.2765
E53: 0.03 | F53: =+G49*E53 -> 1230.1659
E54: 0.14 | F54: =+G49*E54 -> 5740.7742
F55: Sub-Total | G55: =F52+F53+F54 -> 9021.2166
C57: Precio unitario total aproximado al peso | G57: =ROUND(SUM(G49+G55),0) -> 50027
A60: NOMBRE DEL CONTRATISTA:______________________________________ | E60: FECHA:____________________
A62: NOMBRE Y FIRMA DEL REPRESENTANTE LEGAL:______________________
