Workbook

Sheet Conclusiones
B2: Instituto Colombiano de Bienestar Familiar Cecilia De la Fuente de Lleras Regional Valle del Cauca Grupo Administrativo
A7: BIEN / SERVICIO | C7: PRESTAR EL SERVICIO DE MANTENIMIENTO PREVENTIVO Y CORRECTIVO DE LOS EQUIPOS DE AIRES ACONDICIONADOS (INCLUYE SUMINISTRO DE MATERIALES DE REFRIGERACIÓN, EQUIPOS DE AIRES ACONDICIONADOS, INSTALACIÓN, DESINTALACIÓN Y TRASLADO DE AIRES ACONDICIONADOS) EN EL ICBF REGIONAL VALLE DEL CAUCA.
A8: PRESUPUESTO PLAN DE ADQUISICIONES | C8: =+AVERAGE(C11:F13) -> 1.4052988e+08
A10: N° | B10: NOMBRE DEL PROVEEDOR | C10: TOTAL IVA INCLUIDO
A11: 1 | B11: DACOL AIRES INGENIERIA | C11: 141571920
A12: 2 | B12: AIRE ABELLA SAS | C12: 138473160
A13: 3 | B13: QUANTIUM INGENIERIA | C13: 141544550
A17: TOTAL PRECIO PROMEDIO UNITARIO
A18: =+AVERAGE(C11:F13) -> 1.4052988e+08
A20: Fecha de entrega: | C20: 45729
A22: OBSERVACIONES
A23: Ninguna
A29: Proyectado por:
A30: MIGUEL ENRIQUE ANDRADE LÓPEZ
A31: Profesional Universitario
A32: Grupo Administrativo

Sheet Precios techo
B3: PRECIOS TECHO UNITARIOS
B4: *Todos los precios incluyen IVA
B6: PRECIOS TECHO UNITARIOS | K6: PRECIOS TECHO UNITARIOS
B7: MANTENIMIENTOS PREVENTIVOS | K7: MANTENIMIENTO CORRECTIVO
B8: AIRES ACONDICIONADOS SEDE REGIONAL VALLE DEL CAUCA - CALI AVENIDA 2N # 33AN - 45 | F8: PROVEEDOR | I8: PRECIOS TECHO INITARIO | K8: DESCRIPCIÓN DEL CORRECTIVO | M8: =+F9 -> DACOL AIRES INGENIERIA | N8: =+G9 -> AIRE ABELLA SAS | O8: =+H9 -> QUANTIUM INGENIERIA | P8: PRECIO TECHO
B9: TIPO | C9: UBICACIÓN | D9: CAPACIDAD (BTU) | E9: CANTIDAD | F9: =+Conclusiones!B11 -> DACOL AIRES INGENIERIA | G9: =+Conclusiones!B12 -> AIRE ABELLA SAS | H9: =+Conclusiones!B13 -> QUANTIUM INGENIERIA | K9: Mano de obra por localizar y corregir fuga de refrigerante en aire acondicionado | M9: 535500 | N9: 618800 | O9: 618800 | P9: =+AVERAGE(M9:O9) -> 591033.33
B10: Mini Split | C10: Auditorio Lyda Esperanza | D10: 36000 | E10: 1 | F10: 345100 | G10: 368900 | H10: 368900 | I10: =+AVERAGE(F10:H10) -> 360966.67 | K10: Mano de obra por cambio de rubatex y cinta aislante en tubería refrigerante | M10: 214200 | N10: 178500 | O10: 178500 | P10: =+AVERAGE(M10:O10) -> 190400
B11: Piso Techo | C11: Auditorio Lyda Esperanza | D11: 60000 | E11: 1 | F11: 345100 | G11: 380800 | H11: 368900 | I11: =+AVERAGE(F11:H11) -> 364933.33 | K11: Mano de obra por recarga de gas refrigerante | M11: 261800 | N11: 297500 | O11: 297500 | P11: =+AVERAGE(M11:O11) -> 285600
B12: Mini Split | C12: Gestión Documental | D12: 36000 | E12: 1 | F12: 345100 | G12: 368900 | H12: 368900 | I12: =+AVERAGE(F12:H12) -> 360966.67 | K12: Mano de obra por cambio de componentes electrónicos internos en unidad interior y exterior | M12: 535500 | N12: 535500 | O12: 535500 | P12: =+AVERAGE(M12:O12) -> 535500
B13: Piso Techo | C13: Atención al Ciudadano | D13: 36000 | E13: 1 | F13: 345100 | G13: 368900 | H13: 368900 | I13: =+AVERAGE(F13:H13) -> 360966.67 | K13: Mano de obra por cambio de compresor | M13: 714000 | N13: 833000 | O13: 833000 | P13: =+AVERAGE(M13:O13) -> 793333.33
B14: Mini Split | C14: Atención al Ciudadano | D14: 60000 | E14: 1 | F14: 345100 | G14: 380800 | H14: 368900 | I14: =+AVERAGE(F14:H14) -> 364933.33 | K14: Mano de obra por cambio de blower | M14: 297500 | N14: 273700 | O14: 273700 | P14: =+AVERAGE(M14:O14) -> 281633.33
B15: Mini Split | C15: Protección | D15: 12000 | E15: 2 | F15: 476000 | G15: 404600 | H15: 452200 | I15: =+AVERAGE(F15:H15) -> 444266.67 | K15: Mano de obra por cambio de motor-ventilador | M15: 297500 | N15: 321300 | O15: 321300 | P15: =+AVERAGE(M15:O15) -> 313366.67
B16: Piso Techo | C16: Sistemas | D16: 60000 | E16: 1 | F16: 345100 | G16: 380800 | H16: 368900 | I16: =+AVERAGE(F16:H16) -> 364933.33 | K16: Mano de obra por ajuste y cambio de circuito de tubería de desagüe | M16: 261800 | N16: 249900 | O16: 249900 | P16: =+AVERAGE(M16:O16) -> 253866.67
B17: Mini Split | C17: Sistemas | D17: 12000 | E17: 1 | F17: 238000 | G17: 202300 | H17: 226100 | I17: =+AVERAGE(F17:H17) -> 222133.33 | K17: Mano de obra instalación de bomba de desagüe | M17: 333200 | N17: 345100 | O17: 345100 | P17: =+AVERAGE(M17:O17) -> 341133.33
B18: Mini Split | C18: Cuarto Técnico | D18: 12000 | E18: 1 | F18: 238000 | G18: 202300 | H18: 226100 | I18: =+AVERAGE(F18:H18) -> 222133.33 | K18: Mano de obra separación de alimentación eléctrica (en equipos controlados por un solo breaker) | M18: 416500 | N18: 404600 | O18: 404600 | P18: =+AVERAGE(M18:O18) -> 408566.67
B19: Piso Techo | C19: Protección | D19: 60000 | E19: 1 | F19: 345100 | G19: 380800 | H19: 368900 | I19: =+AVERAGE(F19:H19) -> 364933.33 | K19: TOTALES | M19: =SUM(M9:M18) -> 3867500 | N19: =SUM(N9:N18) -> 4057900 | O19: =SUM(O9:O18) -> 4057900 | P19: =SUM(P9:P18) -> 3994433.3
B20: Piso Techo | C20: Protección | D20: 36000 | E20: 1 | F20: 345100 | G20: 368900 | H20: 368900 | I20: =+AVERAGE(F20:H20) -> 360966.67
B21: Mini Split | C21: Coordinación Protección | D21: 12000 | E21: 2 | F21: 476000 | G21: 404600 | H21: 452200 | I21: =+AVERAGE(F21:H21) -> 444266.67 | K21: PRECIOS TECHO UNITARIOS
B22: Mini Split | C22: Adopciones | D22: 60000 | E22: 2 | F22: 690200 | G22: 761600 | H22: 737800 | I22: =+AVERAGE(F22:H22) -> 729866.67 | K22: TRASLADOS
B23: Mini Split | C23: Grupo Jurídico | D23: 12000 | E23: 1 | F23: 238000 | G23: 202300 | H23: 226100 | I23: =+AVERAGE(F23:H23) -> 222133.33 | K23: DESCRIPCIÓN | L23: =+F9 -> DACOL AIRES INGENIERIA | M23: =+G9 -> AIRE ABELLA SAS | N23: =+H9 -> QUANTIUM INGENIERIA | O23: PRECIO TECHO
B24: Piso Techo | C24: Grupo Jurídico | D24: 60000 | E24: 2 | F24: 690200 | G24: 761600 | H24: 737800 | I24: =+AVERAGE(F24:H24) -> 729866.67 | K24: Desinstalación equipo de aire acondicionado, traslado y nueva instalación. | L24: 790000 | M24: 1190000 | N24: 1190000 | O24: =+AVERAGE(L24:O24) -> 939750
B25: Mini Split | C25: Planeación | D25: 12000 | E25: 1 | F25: 238000 | G25: 202300 | H25: 226100 | I25: =+AVERAGE(F25:H25) -> 222133.33 | K25: Desinstalación equipo de aire acondicionado | L25: 280000 | M25: 357000 | N25: 357000 | O25: =+AVERAGE(L25:O25) -> 305625
B26: Piso Techo | C26: Planeación | D26: 60000 | E26: 1 | F26: 345100 | G26: 380800 | H26: 368900 | I26: =+AVERAGE(F26:H26) -> 364933.33 | K26: Instalación equipo de aire acondicionado | L26: 600000 | M26: 1011500 | N26: 1011500 | O26: =+AVERAGE(L26:O26) -> 717000
B27: Mini Split | C27: Dirección Regional | D27: 12000 | E27: 2 | F27: 476000 | G27: 404600 | H27: 452200 | I27: =+AVERAGE(F27:H27) -> 444266.67 | K27: TOTALES | L27: =SUM(L24:L26) -> 1670000 | M27: =SUM(M24:M26) -> 2558500 | N27: =SUM(N24:N26) -> 2558500 | O27: 2262333
B28: Mini Split | C28: Dirección Regional | D28: 36000 | E28: 1 | F28: 345100 | G28: 368900 | H28: 368900 | I28: =+AVERAGE(F28:H28) -> 360966.67
B29: Piso Techo | C29: Auditorio 3 piso | D29: 60000 | E29: 1 | F29: 345100 | G29: 380800 | H29: 368900 | I29: =+AVERAGE(F29:H29) -> 364933.33 | K29: PRECIOS TECHO UNITARIOS
B30: Piso Techo | C30: Protección | D30: 60000 | E30: 1 | F30: 345100 | G30: 380800 | H30: 368900 | I30: =+AVERAGE(F30:H30) -> 364933.33 | K30: INSUMOS
B31: Mini Split | C31: Monitoreo | D31: 18000 | E31: 1 | F31: 238000 | G31: 202300 | H31: 226100 | I31: =+AVERAGE(F31:H31) -> 222133.33 | K31: DESCRIPCIÓN | L31: =+L23 -> DACOL AIRES INGENIERIA | M31: =+M23 -> AIRE ABELLA SAS | N31: =+N23 -> QUANTIUM INGENIERIA | O31: PRECIO TECHO
B32: Piso Techo | C32: Recaudo | D32: 60000 | E32: 1 | F32: 345100 | G32: 380800 | H32: 368900 | I32: =+AVERAGE(F32:H32) -> 364933.33 | K32: Tubería cobre 1/2 (rollo) | L32: 963900 | M32: 1118600 | N32: 1011500 | O32: =+AVERAGE(L32:N32) -> 1031333.3
B33: Piso Techo | C33: Contabilidad | D33: 36000 | E33: 1 | F33: 345100 | G33: 368900 | H33: 368900 | I33: =+AVERAGE(F33:H33) -> 360966.67 | K33: Tubería cobre 1/2 (metro) | L33: 95200 | M33: 111860 | N33: 101150 | O33: =+AVERAGE(L33:N33) -> 102736.67
B34: Piso Techo | C34: Tesorería | D34: 60000 | E34: 1 | F34: 345100 | G34: 380800 | H34: 368900 | I34: =+AVERAGE(F34:H34) -> 364933.33 | K34: Tubería cobre 1/4 (rollo) | L34: 916300 | M34: 1011500 | N34: 880600 | O34: =+AVERAGE(L34:N34) -> 936133.33
B35: Mini Split | C35: Tesorería | D35: 12000 | E35: 1 | F35: 238000 | G35: 202300 | H35: 226100 | I35: =+AVERAGE(F35:H35) -> 222133.33 | K35: Tubería cobre 1/4 (metro) | L35: 94010 | M35: 101150 | N35: 88060 | O35: =+AVERAGE(L35:N35) -> 94406.667
B36: Mini Split | C36: Presupuesto | D36: 36000 | E36: 1 | F36: 345100 | G36: 368900 | H36: 368900 | I36: =+AVERAGE(F36:H36) -> 360966.67 | K36: Tubería cobre 3/8 (rollo) | L36: 952000 | M36: 1094800 | N36: 963900 | O36: =+AVERAGE(L36:N36) -> 1003566.7
B37: Mini Split | C37: Coordinación Financiera | D37: 12000 | E37: 1 | F37: 238000 | G37: 202300 | H37: 226100 | I37: =+AVERAGE(F37:H37) -> 222133.33 | K37: Tubería cobre 3/8 (metro) | L37: 97580 | M37: 109480 | N37: 96390 | O37: =+AVERAGE(L37:N37) -> 101150
B38: Piso Techo | C38: Ciclos de Vida | D38: 60000 | E38: 2 | F38: 690200 | G38: 761600 | H38: 737800 | I38: =+AVERAGE(F38:H38) -> 729866.67 | K38: Tubería cobre 3/4 (rollo) | L38: 1130500 | M38: 1225700 | N38: 1166200 | O38: =+AVERAGE(L38:N38) -> 1174133.3
B39: Mini Split | C39: Coordinación Ciclos de Vida | D39: 12000 | E39: 2 | F39: 476000 | G39: 404600 | H39: 452200 | I39: =+AVERAGE(F39:H39) -> 444266.67 | K39: Tubería cobre 3/4 (metro) | L39: 107100 | M39: 154700 | N39: 116620 | O39: =+AVERAGE(L39:N39) -> 126140
B40: Mini Split | C40: Sindicato | D40: 36000 | E40: 1 | F40: 345100 | G40: 368900 | H40: 368900 | I40: =+AVERAGE(F40:H40) -> 360966.67 | K40: Tubería cobre 7/8 (rollo) | L40: 1190000 | M40: 1285200 | N40: 1237600 | O40: =+AVERAGE(L40:N40) -> 1237600
B41: Mini Split | C41: SNBF | D41: 60000 | E41: 1 | F41: 345100 | G41: 380800 | H41: 368900 | I41: =+AVERAGE(F41:H41) -> 364933.33 | K41: Tubería cobre 7/8 (metro) | L41: 119000 | M41: 214200 | N41: 166600 | O41: =+AVERAGE(L41:N41) -> 166600
B42: Mini Split | C42: Almacenista | D42: 12000 | E42: 1 | F42: 238000 | G42: 202300 | H42: 226100 | I42: =+AVERAGE(F42:H42) -> 222133.33 | K42: Tubería cobre 5/8 (rollo) | L42: 1118600 | M42: 1243550 | N42: 1178100 | O42: =+AVERAGE(L42:N42) -> 1180083.3
B43: Mini Split | C43: Bienes | D43: 60000 | E43: 1 | F43: 345100 | G43: 380800 | H43: 368900 | I43: =+AVERAGE(F43:H43) -> 364933.33 | K43: Tubería cobre 5/8 (metro) | L43: 111860 | M43: 172550 | N43: 119000 | O43: =+AVERAGE(L43:N43) -> 134470
...

Sheet Resumen precios techo
B3: CONSOLIDADO PRECIOS TECHO
F5: PROVEEDOR
B6: TIPO DE SERVICIO | E6: CANTIDAD DE SERVICIO PRESTADOS | F6: =+Conclusiones!B11 -> DACOL AIRES INGENIERIA | G6: =+Conclusiones!B12 -> AIRE ABELLA SAS | H6: =+Conclusiones!B13 -> QUANTIUM INGENIERIA | I6: =+Conclusiones!B14 -> 0
B8: Mantenimiento preventivo equipos aires acondicionados del ICBF Regional Valle del Cauca | E8: 304 | F8: =+'Precios techo'!F49+'Precios techo'!F68+'Precios techo'!F88 -> 85691900 | G8: =+'Precios techo'!G49+'Precios techo'!G68+'Precios techo'!G88 -> 76885900 | H8: =+'Precios techo'!H49+'Precios techo'!H68+'Precios techo'!H88 -> 83419000 | I8: =+'Precios techo'!I49+'Precios techo'!I68+'Precios techo'!I88 -> 81998933
B9: Trabajos correctivos de aires acondicionados (sumatoria de unidades desagregadas) | E9: N/A | F9: =+'Precios techo'!M19 -> 3867500 | G9: =+'Precios techo'!N19 -> 4057900 | H9: =+'Precios techo'!O19 -> 4057900 | I9: =+'Precios techo'!P19 -> 3994433.3
B10: Traslados Aires acondicionados (sumatoria de unidades desagregadas) | E10: N/A | F10: =+'Precios techo'!L27 -> 1670000 | G10: =+'Precios techo'!M27 -> 2558500 | H10: =+'Precios techo'!N27 -> 2558500 | I10: =+'Precios techo'!O27 -> 2262333
B11: Insumos, materiales y equipos (sumatoria de unidades desagregadas) | E11: N/A | F11: =+'Precios techo'!L94 -> 50025220 | G11: =+'Precios techo'!M94 -> 54970860 | H11: =+'Precios techo'!N94 -> 51509150 | I11: =+'Precios techo'!O94 -> 52168410
B12: TOTAL | F12: =SUM(F8:F11) -> 141254620 | G12: =SUM(G8:G11) -> 138473160 | H12: =+SUM(H8:H11) -> 141544550 | I12: =+SUM(I8:I11) -> 1.4042411e+08

Sheet Hoja1
J14: Mini Split | K14: 9000 | L14: 5 | M14: 803250 | N14: 773500 | O14: 374850 | P14: =+AVERAGE(M14:O14) -> 650533.33
I15: CENTRO ZONAL BUGA Carrera 8ª Carretera central | J15: Mini Split | K15: 12000 | L15: 9 | M15: 1552950 | N15: 1499400 | O15: 755408.43 | P15: =+AVERAGE(M15:O15) -> 1269252.8
J16: Mini Split | K16: 9000 | L16: 4 | M16: 690200 | N16: 666400 | O16: 335737.08 | P16: =+AVERAGE(M16:O16) -> 564112.36
J17: Mini Split | K17: 36000 | L17: 1 | M17: 172550 | N17: 166600 | O17: 95834.27 | P17: =+AVERAGE(M17:O17) -> 144994.76
J18: Mini Split | K18: 36000 | L18: 1 | M18: 172550 | N18: 166600 | O18: 95834.27 | P18: =+AVERAGE(M18:O18) -> 144994.76
I19: CENTRO ZONAL CARTAGO Cra 6 # 9 - 61 Barrio Centro | J19: Mini Split | K19: 12000 | L19: 2 | M19: 404600 | N19: 404600 | O19: 177786 | P19: =+AVERAGE(M19:O19) -> 328995.33
J20: Mini Split | K20: 9000 | L20: 7 | M20: 1457750 | N20: 1416100 | O20: 622251 | P20: =+AVERAGE(M20:O20) -> 1165367
J21: Mini Split | K21: 24000 | L21: 1 | M21: 208250 | N21: 202300 | O21: 100793 | P21: =+AVERAGE(M21:O21) -> 170447.67
J22: Mini Split | K22: 18000 | L22: 5 | M22: 1041250 | N22: 1011500 | O22: 444465 | P22: =+AVERAGE(M22:O22) -> 832405
I23: CENTRO ZONAL CENTRO Avenida 1N # 7N - 41 Centenario | J23: Mini Split | K23: 18000 | L23: 2 | M23: 309400 | N23: 309400 | O23: 142800 | P23: =+AVERAGE(M23:O23) -> 253866.67
J24: Piso Techo | K24: 60000 | L24: 2 | M24: 309400 | N24: 309400 | O24: 214200 | P24: =+AVERAGE(M24:O24) -> 277666.67
J25: Mini Split | K25: 36000 | L25: 1 | M25: 160650 | N25: 154700 | O25: 83300 | P25: =+AVERAGE(M25:O25) -> 132883.33
J26: Mini Split | K26: 9000 | L26: 25 | M26: 4016250 | N26: 3867500 | O26: 1785000 | P26: =+AVERAGE(M26:O26) -> 3222916.7
I27: CENTRO ZONAL NORORIENTAL Cra 3 # 39N - 23 Barrio Bolivariano | J27: Mini Split | K27: 24000 | L27: 11 | M27: 1767150 | N27: 1701700 | O27: 916300 | P27: =+AVERAGE(M27:O27) -> 1461716.7
J28: Mini Split | K28: 12000 | L28: 1 | M28: 160650 | N28: 154700 | O28: 71400 | P28: =+AVERAGE(M28:O28) -> 128916.67
J29: Mini Split | K29: 24000 | L29: 1 | M29: 160650 | N29: 154700 | O29: 83300 | P29: =+AVERAGE(M29:O29) -> 132883.33
J30: Mini Split | K30: 36000 | L30: 1 | M30: 160650 | N30: 154700 | O30: 83300 | P30: =+AVERAGE(M30:O30) -> 132883.33
J31: Mini Split | K31: 36000 | L31: 1 | M31: 160650 | N31: 154700 | O31: 83300 | P31: =+AVERAGE(M31:O31) -> 132883.33
J32: Mini Split | K32: 36000 | L32: 1 | M32: 160650 | N32: 154700 | O32: 83300 | P32: =+AVERAGE(M32:O32) -> 132883.33
J33: Mini Split | K33: 36000 | L33: 1 | M33: 160650 | N33: 154700 | O33: 83300 | P33: =+AVERAGE(M33:O33) -> 132883.33
J34: Piso Techo | K34: 60000 | L34: 2 | M34: 321300 | N34: 309400 | O34: 214200 | P34: =+AVERAGE(M34:O34) -> 281633.33
J35: Mini Split | K35: 24000 | L35: 1 | M35: 160650 | N35: 154700 | O35: 83300 | P35: =+AVERAGE(M35:O35) -> 132883.33
J36: Mini Split | K36: 36000 | L36: 1 | M36: 160650 | N36: 154700 | O36: 83300 | P36: =+AVERAGE(M36:O36) -> 132883.33
J37: Mini Split | K37: 36000 | L37: 1 | M37: 160650 | N37: 154700 | O37: 83300 | P37: =+AVERAGE(M37:O37) -> 132883.33
I38: CENTRO ZONAL PALMIRA Cra 31 # 23 - 52 Barrio Nuevo | J38: Piso Techo | K38: 60000 | L38: 2 | M38: 321300 | N38: 309400 | O38: 230146 | P38: =+AVERAGE(M38:O38) -> 286948.67
J39: Mini Split | K39: 9000 | L39: 9 | M39: 1445850 | N39: 1392300 | O39: 714357 | P39: =+AVERAGE(M39:O39) -> 1184169
J40: Mini Split | K40: 24000 | L40: 1 | M40: 160650 | N40: 154700 | O40: 91273 | P40: =+AVERAGE(M40:O40) -> 135541
J41: Mini Split | K41: 12000 | L41: 2 | M41: 321300 | N41: 309400 | O41: 79375.38 | P41: =+AVERAGE(M41:O41) -> 236691.79
J42: Mini Split | K42: 24000 | L42: 4 | M42: 642600 | N42: 618800 | O42: 365092 | P42: =+AVERAGE(M42:O42) -> 542164
I43: CENTRO ZONAL SUR Cra 42 # 5C - 48 Tequendama | J43: Mini Split | K43: 24000 | L43: 6 | M43: 963900 | N43: 928200 | O43: 499800 | P43: =+AVERAGE(M43:O43) -> 797300
J44: Split | K44: 12000 | L44: 28 | M44: 4498200 | N44: 4331600 | O44: 1999200 | P44: =+AVERAGE(M44:O44) -> 3609666.7
I45: CENTRO ZONAL TULUÁ Calle 25 # 26 - 62 El Centro | J45: Mini Split | K45: 12000 | L45: 20 | M45: 3689000 | N45: 3570000 | O45: 1558900 | P45: =+AVERAGE(M45:O45) -> 2939300
J46: Split | K46: 9000 | L46: 2 | M46: 368900 | N46: 357000 | O46: 155890 | P46: =+AVERAGE(M46:O46) -> 293930
I47: CENTRO ZONAL BUENAVENTURA Avenida Simón Bolívar KLM 7 | J47: Mini Split | K47: 12000 | L47: 17 | M47: 3742550 | N47: 3641400 | O47: 1577940 | P47: =+AVERAGE(M47:O47) -> 2987296.7
J48: Mini Split | K48: 18000 | L48: 1 | M48: 220150 | N48: 214200 | O48: 92820 | P48: =+AVERAGE(M48:O48) -> 175723.33
J49: Central | K49: 60000 | L49: 2 | M49: 440300 | N49: 428400 | O49: 590240 | P49: =+AVERAGE(M49:O49) -> 486313.33
I50: CENTRO ZONAL RESTAURAR Calle 11 # 6 - 24 Piso 8 Edificio Bancolombia | J50: Piso Techo | K50: 48000 | L50: 2 | M50: 321300 | N50: 309400 | O50: 202300 | P50: =+AVERAGE(M50:O50) -> 277666.67
J51: Mini Split | K51: 36000 | L51: 2 | M51: 321300 | N51: 309400 | O51: 166600 | P51: =+AVERAGE(M51:O51) -> 265766.67
J52: Mini Split | K52: 24000 | L52: 1 | M52: 160650 | N52: 154700 | O52: 83300 | P52: =+AVERAGE(M52:O52) -> 132883.33
J53: Mini Split | K53: 9000 | L53: 3 | M53: 481950 | N53: 464100 | O53: 214200 | P53: =+AVERAGE(M53:O53) -> 386750
...
