Workbook

Sheet Conclusiones
B2: Instituto Colombiano de Bienestar Familiar Cecilia De la Fuente de Lleras Regional Valle del Cauca Grupo Administrativo
A7: BIEN / SERVICIO | C7: PRESTAR EL SERVICIO DE MANTENIMIENTO PREVENTIVO Y CORRECTIVO DE LOS EQUIPOS DE AIRES ACONDICIONADOS (INCLUYE SUMINISTRO DE MATERIALES DE REFRIGERACIÓN, EQUIPOS DE AIRES ACONDICIONADOS, INSTALACIÓN, DESINTALACIÓN Y TRASLADO DE AIRES ACONDICIONADOS) EN EL ICBF REGIONAL VALLE DEL CAUCA.
A8: PRESUPUESTO PLAN DE ADQUISICIONES | C8: =+AVERAGE(C11:F13) -> 1.4052988e+08
A10: N° | B10: NOMBRE DEL PROVEEDOR | C10: TOTAL IVA INCLUIDO
A11: 1 | B11: DACOL AIRES INGENIERIA | C11: 141571920
A12: 2 | B12: AIRE ABELLA SAS | C12: 138473160
A13: 3 | B13: QUANTIUM INGENIERIA | C13: 141544550
A17: TOTAL PRECIO PROMEDIO UNITARIO
A18: =+AVERAGE(C11:F13) -> 1.4052988e+08
A20: Fecha de entrega: | C20: 45729
A22: OBSERVACIONES
A23: Ninguna
A29: Proyectado por:
A30: MIGUEL ENRIQUE ANDRADE LÓPEZ
A31: Profesional Universitario
A32: Grupo Administrativo

Sheet Precios techo
B3: PRECIOS TECHO UNITARIOS
B4: *Todos los precios incluyen IVA
B6: PRECIOS TECHO UNITARIOS | K6: PRECIOS TECHO UNITARIOS
B7: MANTENIMIENTOS PREVENTIVOS | K7: MANTENIMIENTO CORRECTIVO
B8: AIRES ACONDICIONADOS SEDE REGIONAL VALLE DEL CAUCA - CALI AVENIDA 2N # 33AN - 45 | F8: PROVEEDOR | I8: PRECIOS TECHO INITARIO | K8: DESCRIPCIÓN DEL CORRECTIVO | M8: =+F9 -> DACOL AIRES INGENIERIA | N8: =+G9 -> AIRE ABELLA SAS | O8: =+H9 -> QUANTIUM INGENIERIA | P8: PRECIO TECHO
B9: TIPO | C9: UBICACIÓN | D9: CAPACIDAD (BTU) | E9: CANTIDAD | F9: =+Conclusiones!B11 -> DACOL AIRES INGENIERIA | G9: =+Conclusiones!B12 -> AIRE ABELLA SAS | H9: =+Conclusiones!B13 -> QUANTIUM INGENIERIA | K9: Mano de obra por localizar y corregir fuga de refrigerante en aire acondicionado | M9: 535500 | N9: 618800 | O9: 618800 | P9: =+AVERAGE(M9:O9) -> 591033.33
B10: Mini Split | C10: Auditorio Lyda Esperanza | D10: 36000 | E10: 1 | F10: 345100 | G10: 368900 | H10: 368900 | I10: =+AVERAGE(F10:H10) -> 360966.67 | K10: Mano de obra por cambio de rubatex y cinta aislante en tubería refrigerante | M10: 214200 | N10: 178500 | O10: 178500 | P10: =+AVERAGE(M10:O10) -> 190400
B11: Piso Techo | C11: Auditorio Lyda Esperanza | D11: 60000 | E11: 1 | F11: 345100 | G11: 380800 | H11: 368900 | I11: =+AVERAGE(F11:H11) -> 364933.33 | K11: Mano de obra por recarga de gas refrigerante | M11: 261800 | N11: 297500 | O11: 297500 | P11: =+AVERAGE(M11:O11) -> 285600
B12: Mini Split | C12: Gestión Documental | D12: 36000 | E12: 1 | F12: 345100 | G12: 368900 | H12: 368900 | I12: =+AVERAGE(F12:H12) -> 360966.67 | K12: Mano de obra por cambio de componentes electrónicos internos en unidad interior y exterior | M12: 535500 | N12: 535500 | O12: 535500 | P12: =+AVERAGE(M12:O12) -> 535500
B13: Piso Techo | C13: Atención al Ciudadano | D13: 36000 | E13: 1 | F13: 345100 | G13: 368900 | H13: 368900 | I13: =+AVERAGE(F13:H13) -> 360966.67 | K13: Mano de obra por cambio de compresor | M13: 714000 | N13: 833000 | O13: 833000 | P13: =+AVERAGE(M13:O13) -> 793333.33
B14: Mini Split | C14: Atención al Ciudadano | D14: 60000 | E14: 1 | F14: 345100 | G14: 380800 | H14: 368900 | I14: =+AVERAGE(F14:H14) -> 364933.33 | K14: Mano de obra por cambio de blower | M14: 297500 | N14: 273700 | O14: 273700 | P14: =+AVERAGE(M14:O14) -> 281633.33
B15: Mini Split | C15: Protección | D15: 12000 | E15: 2 | F15: 476000 | G15: 404600 | H15: 452200 | I15: =+AVERAGE(F15:H15) -> 444266.67 | K15: Mano de obra por cambio de motor-ventilador | M15: 297500 | N15: 321300 | O15: 321300 | P15: =+AVERAGE(M15:O15) -> 313366.67
B16: Piso Techo | C16: Sistemas | D16: 60000 | E16: 1 | F16: 345100 | G16: 380800 | H16: 368900 | I16: =+AVERAGE(F16:H16) -> 364933.33 | K16: Mano de obra por ajuste y cambio de circuito de tubería de desagüe | M16: 261800 | N16: 249900 | O16: 249900 | P16: =+AVERAGE(M16:O16) -> 253866.67
B17: Mini Split | C17: Sistemas | D17: 12000 | E17: 1 | F17: 238000 | G17: 202300 | H17: 226100 | I17: =+AVERAGE(F17:H17) -> 222133.33 | K17: Mano de obra instalación de bomba de desagüe | M17: 333200 | N17: 345100 | O17: 345100 | P17: =+AVERAGE(M17:O17) -> 341133.33
B18: Mini Split | C18: Cuarto Técnico | D18: 12000 | E18: 1 | F18: 238000 | G18: 202300 | H18: 226100 | I18: =+AVERAGE(F18:H18) -> 222133.33 | K18: Mano de obra separación de alimentación eléctrica (en equipos controlados por un solo breaker) | M18: 416500 | N18: 404600 | O18: 404600 | P18: =+AVERAGE(M18:O18) -> 408566.67
B19: Piso Techo | C19: Protección | D19: 60000 | E19: 1 | F19: 345100 | G19: 380800 | H19: 368900 | I19: =+AVERAGE(F19:H19) -> 364933.33 | K19: TOTALES | M19: =SUM(M9:M18) -> 3867500 | N19: =SUM(N9:N18) -> 4057900 | O19: =SUM(O9:O18) -> 4057900 | P19: =SUM(P9:P18) -> 3994433.3
B20: Piso Techo | C20: Protección | D20: 36000 | E20: 1 | F20: 345100 | G20: 368900 | H20: 368900 | I20: =+AVERAGE(F20:H20) -> 360966.67
B21: Mini Split | C21: Coordinación Protección | D21: 12000 | E21: 2 | F21: 476000 | G21: 404600 | H21: 452200 | I21: =+AVERAGE(F21:H21) -> 444266.67 | K21: PRECIOS TECHO UNITARIOS
B22: Mini Split | C22: Adopciones | D22: 60000 | E22: 2 | F22: 690200 | G22: 761600 | H22: 737800 | I22: =+AVERAGE(F22:H22) -> 729866.67 | K22: TRASLADOS
B23: Mini Split | C23: Grupo Jurídico | D23: 12000 | E23: 1 | F23: 238000 | G23: 202300 | H23: 226100 | I23: =+AVERAGE(F23:H23) -> 222133.33 | K23: DESCRIPCIÓN | L23: =+F9 -> DACOL AIRES INGENIERIA | M23: =+G9 -> AIRE ABELLA SAS | N23: =+H9 -> QUANTIUM INGENIERIA | O23: PRECIO TECHO
B24: Piso Techo | C24: Grupo Jurídico | D24: 60000 | E24: 2 | F24: 690200 | G24: 761600 | H24: 737800 | I24: =+AVERAGE(F24:H24) -> 729866.67 | K24: Desinstalación equipo de aire acondicionado, traslado y nueva instalación. | L24: 790000 | M24: 1190000 | N24: 1190000 | O24: =+AVERAGE(L24:O24) -> 939750
B25: Mini Split | C25: Planeación | D25: 12000 | E25: 1 | F25: 238000 | G25: 202300 | H25: 226100 | I25: =+AVERAGE(F25:H25) -> 222133.33 | K25: Desinstalación equipo de aire acondicionado | L25: 280000 | M25: 357000 | N25: 357000 | O25: =+AVERAGE(L25:O25) -> 305625
B26: Piso Techo | C26: Planeación | D26: 60000 | E26: 1 | F26: 345100 | G26: 380800 | H26: 368900 | I26: =+AVERAGE(F26:H26) -> 364933.33 | K26: Instalación equipo de aire acondicionado | L26: 600000 | M26: 1011500 | N26: 1011500 | O26: =+AVERAGE(L26:O26) -> 717000
B27: Mini Split | C27: Dirección Regional | D27: 12000 | E27: 2 | F27: 476000 | G27: 404600 | H27: 452200 | I27: =+AVERAGE(F27:H27) -> 444266.67 | K27: TOTALES | L27: =SUM(L24:L26) -> 1670000 | M27: =SUM(M24:M26) -> 2558500 | N27: =SUM(N24:N26) -> 2558500 | O27: 2262333
B28: Mini Split | C28: Dirección Regional | D28: 36000 | E28: 1 | F28: 345100 | G28: 368900 | H28: 368900 | I28: =+AVERAGE(F28:H28) -> 360966.67
B29: Piso Techo | C29: Auditorio 3 piso | D29: 60000 | E29: 1 | F29: 345100 | G29: 380800 | H29: 368900 | I29: =+AVERAGE(F29:H29) -> 364933.33 | K29: PRECIOS TECHO UNITARIOS
B30: Piso Techo | C30: Protección | D30: 60000 | E30: 1 | F30: 345100 | G30: 380800 | H30: 368900 | I30: =+AVERAGE(F30:H30) -> 364933.33 | K30: INSUMOS
B31: Mini Split | C31: Monitoreo | D31: 18000 | E31: 1 | F31: 238000 | G31: 202300 | H31: 226100 | I31: =+AVERAGE(F31:H31) -> 222133.33 | K31: DESCRIPCIÓN | L31: =+L23 -> DACOL AIRES INGENIERIA | M31: =+M23 -> AIRE ABELLA SAS | N31: =+N23 -> QUANTIUM INGENIERIA | O31: PRECIO TECHO
B32: Piso Techo | C32: Recaudo | D32: 60000 | E32: 1 | F32: 345100 | G32: 380800 | H32: 368900 | I32: =+AVERAGE(F32:H32) -> 364933.33 | K32: Tubería cobre 1/2 (rollo) | L32: 963900 | M32: 1118600 | N32: 1011500 | O32: =+AVERAGE(L32:N32) -> 1031333.3
B33: Piso Techo | C33: Contabilidad | D33: 36000 | E33: 1 | F33: 345100 | G33: 368900 | H33: 368900 | I33: =+AVERAGE(F33:H33) -> 360966.67 | K33: Tubería cobre 1/2 (metro) | L33: 95200 | M33: 111860 | N33: 101150 | O33: =+AVERAGE(L33:N33) -> 102736.67
B34: Piso Techo | C34: Tesorería | D34: 60000 | E34: 1 | F34: 345100 | G34: 380800 | H34: 368900 | I34: =+AVERAGE(F34:H34) -> 364933.33 | K34: Tubería cobre 1/4 (rollo) | L34: 916300 | M34: 1011500 | N34: 880600 | O34: =+AVERAGE(L34:N34) -> 936133.33
B35: Mini Split | C35: Tesorería | D35: 12000 | E35: 1 | F35: 238000 | G35: 202300 | H35: 226100 | I35: =+AVERAGE(F35:H35) -> 222133.33 | K35: Tubería cobre 1/4 (metro) | L35: 94010 | M35: 101150 | N35: 88060 | O35: =+AVERAGE(L35:N35) -> 94406.667
B36: Mini Split | C36: Presupuesto | D36: 36000 | E36: 1 | F36: 345100 | G36: 368900 | H36: 368900 | I36: =+AVERAGE(F36:H36) -> 360966.67 | K36: Tubería cobre 3/8 (rollo) | L36: 952000 | M36: 1094800 | N36: 963900 | O36: =+AVERAGE(L36:N36) -> 1003566.7
B37: Mini Split | C37: Coordinación Financiera | D37: 12000 | E37: 1 | F37: 238000 | G37: 202300 | H37: 226100 | I37: =+AVERAGE(F37:H37) -> 222133.33 | K37: Tubería cobre 3/8 (metro) | L37: 97580 | M37: 109480 | N37: 96390 | O37: =+AVERAGE(L37:N37) -> 101150
B38: Piso Techo | C38: Ciclos de Vida | D38: 60000 | E38: 2 | F38: 690200 | G38: 761600 | H38: 737800 | I38: =+AVERAGE(F38:H38) -> 729866.67 | K38: Tubería cobre 3/4 (rollo) | L38: 1130500 | M38: 1225700 | N38: 1166200 | O38: =+AVERAGE(L38:N38) -> 1174133.3
B39: Mini Split | C39: Coordinación Ciclos de Vida | D39: 12000 | E39: 2 | F39: 476000 | G39: 404600 | H39: 452200 | I39: =+AVERAGE(F39:H39) -> 444266.67 | K39: Tubería cobre 3/4 (metro) | L39: 107100 | M39: 154700 | N39: 116620 | O39: =+AVERAGE(L39:N39) -> 126140
B40: Mini Split | C40: Sindicato | D40: 36000 | E40: 1 | F40: 345100 | G40: 368900 | H40: 368900 | I40: =+AVERAGE(F40:H40) -> 360966.67 | K40: Tubería cobre 7/8 (rollo) | L40: 1190000 | M40: 1285200 | N40: 1237600 | O40: =+AVERAGE(L40:N40) -> 1237600
B41: Mini Split | C41: SNBF | D41: 60000 | E41: 1 | F41: 345100 | G41: 380800 | H41: 368900 | I41: =+AVERAGE(F41:H41) -> 364933.33 | K41: Tubería cobre 7/8 (metro) | L41: 119000 | M41: 214200 | N41: 166600 | O41: =+AVERAGE(L41:N41) -> 166600
B42: Mini Split | C42: Almacenista | D42: 12000 | E42: 1 | F42: 238000 | G42: 202300 | H42: 226100 | I42: =+AVERAGE(F42:H42) -> 222133.33 | K42: Tubería cobre 5/8 (rollo) | L42: 1118600 | M42: 1243550 | N42: 1178100 | O42: =+AVERAGE(L42:N42) -> 1180083.3
B43: Mini Split | C43: Bienes | D43: 60000 | E43: 1 | F43: 345100 | G43: 380800 | H43: 368900 | I43: =+AVERAGE(F43:H43) -> 364933.33 | K43: Tubería cobre 5/8 (metro) | L43: 111860 | M43: 172550 | N43: 119000 | O43: =+AVERAGE(L43:N43) -> 134470
... B48: Mini Split | C48: Unidade Móviles | D48: 36000 | E48: 2 | F48: 690200 | G48: 737800 | H48: 737800 | I48: =+AVERAGE(F48:H48) -> 721933.33 | K48: Rubatex 5/8 | L48: 54740 | M48: 60690 | N48: 55930 | O48: =+AVERAGE(L48:N48) -> 57120
B49: TOTALES | E49: =SUM(E10:E48) -> 48 | F49: =SUM(F10:F48) -> 14422800 | G49: =SUM(G10:G48) -> 14577500 | H49: =SUM(H10:H48) -> 14851200 | I49: =+AVERAGE(F49:H49) -> 14617167 | K49: Rubatex 7/8 | L49: 61880 | M49: 66640 | N49: 60690 | O49: =+AVERAGE(L49:N49) -> 63070
K50: Racor macho 1/4 | L50: 41650 | M50: 53550 | N50: 47600 | O50: =+AVERAGE(L50:N50) -> 47600
B51: AIRES ACONDICIONADOS CENTROS ZONALES - SANTIAGO DE CALI | K51: Racor macho 1/2 | L51: 47600 | M51: 59500 | N51: 53550 | O51: =+AVERAGE(L51:N51) -> 53550
B52: UBICACIÓN | C52: TIPO | D52: CAPACIDAD (BTU) | E52: CANTIDAD | F52: =+Conclusiones!B11 -> DACOL AIRES INGENIERIA | G52: =+M31 -> AIRE ABELLA SAS | H52: =+N31 -> QUANTIUM INGENIERIA | I52: =+O31 -> PRECIO TECHO | K52: Racor macho 3/8 | L52: 42840 | M52: 54740 | N52: 52360 | O52: =+AVERAGE(L52:N52) -> 49980
B53: CENTRO ZONAL SURORIENTAL Calle 73 # 8 A - 35 Barrio Andrés Sanín | C53: Mini Split | D53: 12000 | E53: 15 | F53: 3570000 | G53: 3034500 | H53: 3391500 | I53: =+AVERAGE(F53:H53) -> 3332000 | K53: Racor macho 3/4 | L53: 49980 | M53: 61880 | N53: 58310 | O53: =+AVERAGE(L53:N53) -> 56723.333
C54: Mini Split | D54: 24000 | E54: 2 | F54: 476000 | G54: 428400 | H54: 452200 | I54: =+AVERAGE(F54:H54) -> 452200 | K54: Racor macho 5/8 | L54: 48790 | M54: 60690 | N54: 58310 | O54: =+AVERAGE(L54:N54) -> 55930
C55: Mini Split | D55: 36000 | E55: 1 | F55: 345100 | G55: 368900 | H55: 368900 | I55: =+AVERAGE(F55:H55) -> 360966.67 | K55: Racor hembra 1/4 | L55: 41650 | M55: 53550 | N55: 47600 | O55: =+AVERAGE(L55:N55) -> 47600
B56: CENTRO ZONAL CENTRO Avenida 1N # 7N - 41 Centenario | C56: Mini Split | D56: 12000 | E56: 22 | F56: 5236000 | G56: 4450600 | H56: 4974200 | I56: =+AVERAGE(F56:H56) -> 4886933.3 | K56: Racor hembra 1/2 | L56: 47600 | M56: 59500 | N56: 53550 | O56: =+AVERAGE(L56:N56) -> 53550
C57: Mini Split | D57: 36000 | E57: 3 | F57: 1035300 | G57: 1106700 | H57: 1106700 | I57: =+AVERAGE(F57:H57) -> 1082900 | K57: Racor hembra 3/8 | L57: 42840 | M57: 54740 | N57: 52360 | O57: =+AVERAGE(L57:N57) -> 49980
B58: CENTRO ZONAL NORORIENTAL Cra 3 # 39N - 23 Barrio Bolivariano | C58: Mini Split | D58: 12000 | E58: 22 | F58: 5236000 | G58: 4450600 | H58: 4974200 | I58: =+AVERAGE(F58:H58) -> 4886933.3 | K58: Racor hembra 3/4 | L58: 49980 | M58: 61880 | N58: 58310 | O58: =+AVERAGE(L58:N58) -> 56723.333
C59: Mini Split | D59: 36000 | E59: 5 | F59: 1725500 | G59: 1844500 | H59: 1844500 | I59: =+AVERAGE(F59:H59) -> 1804833.3 | K59: Racor hembra 5/8 | L59: 48790 | M59: 60690 | N59: 58310 | O59: =+AVERAGE(L59:N59) -> 55930
C60: Piso Techo | D60: 60000 | E60: 2 | F60: 690200 | G60: 761600 | H60: 737800 | I60: =+AVERAGE(F60:H60) -> 729866.67 | K60: Regriferante R410a x cilindro 25 libras (11,3 Kg) | L60: 1071000 | M60: 1190000 | N60: 1130500 | O60: =+AVERAGE(L60:N60) -> 1130500
B61: CENTRO ZONAL SUR Cra 42 # 5C - 48 Tequendama | C61: Mini Split | D61: 12000 | E61: 28 | F61: 6664000 | G61: 5664400 | H61: 6330800 | I61: =+AVERAGE(F61:H61) -> 6219733.3 | K61: Refrigerante R410a x 800g | L61: 214200 | M61: 238000 | N61: 214200 | O61: =+AVERAGE(L61:N61) -> 222133.33
B62: CENTRO ZONAL RESTAURAR Calle 11 # 6 - 24 Piso 8 Edificio Bancolombia y Oficina de Garantías en Estación de Policía Cali20 El Lido | C62: Piso Techo | D62: 48000 | E62: 2 | F62: 690200 | G62: 737800 | H62: 737800 | I62: =+AVERAGE(F62:H62) -> 721933.33 | K62: Unión 3/4 | L62: 41650 | M62: 41650 | N62: 58310 | O62: =+AVERAGE(L62:N62) -> 47203.333
C63: Mini Split | D63: 36000 | E63: 2 | F63: 690200 | G63: 737800 | H63: 737800 | I63: =+AVERAGE(F63:H63) -> 721933.33 | K63: Unión 7/8 | L63: 47600 | M63: 47600 | N63: 55930 | O63: =+AVERAGE(L63:N63) -> 50376.667
C64: Mini Split | D64: 24000 | E64: 1 | F64: 238000 | G64: 214200 | H64: 226100 | I64: =+AVERAGE(F64:H64) -> 226100 | K64: Unión 5/8 | L64: 42840 | M64: 42840 | N64: 60690 | O64: =+AVERAGE(L64:N64) -> 48790
C65: Mini Split | D65: 12000 | E65: 4 | F65: 952000 | G65: 809200 | H65: 904400 | I65: =+AVERAGE(F65:H65) -> 888533.33 | K65: Codo 3/4 | L65: 49980 | M65: 49980 | N65: 58310 | O65: =+AVERAGE(L65:N65) -> 52756.667
B66: CENTRO ZONAL LADERA Cra 43 # 5A - 17 Barrio Tequendama | C66: Piso Techo | D66: 60000 | E66: 1 | F66: 345100 | G66: 380800 | H66: 368900 | I66: =+AVERAGE(F66:H66) -> 364933.33 | K66: Codo 7/8 | L66: 48790 | M66: 48790 | N66: 55930 | O66: =+AVERAGE(L66:N66) -> 51170
C67: Mini Split | D67: 12000 | E67: 12 | F67: 2856000 | G67: 2427600 | H67: 2713200 | I67: =+AVERAGE(F67:H67) -> 2665600 | K67: Codo 5/8 | L67: 49980 | M67: 49980 | N67: 60690 | O67: =+AVERAGE(L67:N67) -> 53550
B68: TOTALES | E68: =SUM(E53:E67) -> 122 | F68: =SUM(F53:F67) -> 30749600 | G68: =SUM(G53:G67) -> 27417600 | H68: =SUM(H53:H67) -> 29869000 | I68: =SUM(I53:I67) -> 29345400 | K68: Filtro secador 1/2 | L68: 261800 | M68: 357000 | N68: 309400 | O68: =+AVERAGE(L68:N68) -> 309400
K69: Filtro secador 3/8 | L69: 249900 | M69: 416500 | N69: 321300 | O69: =+AVERAGE(L69:N69) -> 329233.33
B70: AIRES ACONDICIONADOS CENTROS ZONALES - VALLE | K70: Cable encauchetado 3x12 | L70: 41650 | M70: 44030 | N70: 47600 | O70: =+AVERAGE(L70:N70) -> 44426.667
B71: UBICACIÓN | C71: TIPO | D71: CAPACIDAD (BTU) | E71: CANTIDAD | F71: =+F52 -> DACOL AIRES INGENIERIA | G71: =+G52 -> AIRE ABELLA SAS | H71: =+H52 -> QUANTIUM INGENIERIA | I71: =+I52 -> PRECIO TECHO | K71: Cable encauchetado 4x14 | L71: 40460 | M71: 42840 | N71: 49980 | O71: =+AVERAGE(L71:N71) -> 44426.667
B72: CENTRO ZONAL TULUÁ Carrera 30 # 27- 20 Piso 3 Edificio del Río Barrio Victoria, Tuluá - Valle | C72: Mini Split | D72: 12000 | E72: 38 | F72: 9044000 | G72: 7687400 | H72: 8591800 | I72: =+AVERAGE(F72:H72) -> 8441066.7 | K72: Cable encaucheta 3x10 | L72: 41650 | M72: 45220 | N72: 45220 | O72: =+AVERAGE(L72:N72) -> 44030
C73: Split | D73: 24000 | E73: 2 | F73: 476000 | G73: 428400 | H73: 452200 | I73: =+AVERAGE(F73:H73) -> 452200 | K73: Cable eléctrico 12 | L73: 41650 | M73: 47600 | N73: 44030 | O73: =+AVERAGE(L73:N73) -> 44426.667
B74: CENTRO ZONAL BUENAVENTURA Avenida Simón Bolívar KLM 7 | C74: Mini Split | D74: 12000 | E74: 17 | F74: 4046000 | G74: 3439100 | H74: 3843700 | I74: =+AVERAGE(F74:H74) -> 3776266.7 | K74: Cable eléctrico 14 | L74: 40460 | M74: 52360 | N74: 47600 | O74: =+AVERAGE(L74:N74) -> 46806.667
B75: CENTRO ZONAL PALMIRA Cra 31 # 23 - 52 Barrio Nuevo | C75: Piso Techo | D75: 60000 | E75: 1 | F75: 345100 | G75: 380800 | H75: 368900 | I75: =+AVERAGE(F75:H75) -> 364933.33 | K75: Cable eléctrico 10 | L75: 49980 | M75: 54740 | N75: 51170 | O75: =+AVERAGE(L75:N75) -> 51963.333
C76: Mini Split | D76: 12000 | E76: 18 | F76: 4284000 | G76: 3641400 | H76: 4069800 | I76: =+AVERAGE(F76:H76) -> 3998400 | K76: Tubería conduit 1/2" | L76: 53550 | M76: 59500 | N76: 53550 | O76: =+AVERAGE(L76:N76) -> 55533.333
C77: Mini Split | D77: 36000 | E77: 1 | F77: 345100 | G77: 368900 | H77: 368900 | I77: =+AVERAGE(F77:H77) -> 360966.67 | K77: Codos y uniones conduit 1/2" | L77: 40460 | M77: 42840 | N77: 41650 | O77: =+AVERAGE(L77:N77) -> 41650
C78: Mini Split | D78: 24000 | E78: 1 | F78: 238000 | G78: 214200 | H78: 226100 | I78: =+AVERAGE(F78:H78) -> 226100 | K78: Tablero eléctrico bifásico 6 puestos | L78: 523600 | M78: 595000 | N78: 357000 | O78: =+AVERAGE(L78:N78) -> 491866.67
B79: CENTRO ZONAL YUMBO Cra 4 # 1B - 07 Barrio Pedregal Yumbo | C79: Mini Split | D79: 12000 | E79: 12 | F79: 2856000 | G79: 2427600 | H79: 2713200 | I79: =+AVERAGE(F79:H79) -> 2665600 | K79: Agente limpiador tubería x 1L | L79: 1071000 | M79: 1190000 | N79: 1130500 | O79: =+AVERAGE(L79:N79) -> 1130500
C80: Mini Split | D80: 24000 | E80: 1 | F80: 238000 | G80: 214200 | H80: 226100 | I80: =+AVERAGE(F80:H80) -> 226100 | K80: Bomba desagüe tipo tanque 220v | L80: 773500 | M80: 952000 | N80: 886550 | O80: =+AVERAGE(L80:N80) -> 870683.33
B81: CENTRO ZONAL BUGA Carrera 8ª Carretera central | C81: Mini Split | D81: 12000 | E81: 12 | F81: 2856000 | G81: 2427600 | H81: 2713200 | I81: =+AVERAGE(F81:H81) -> 2665600 | K81: Equipo aire acondicionado minisplit 9000btu | L81: 2856000 | M81: 2499000 | N81: 2737000 | O81: =+AVERAGE(L81:N81) -> 2697333.3
C82: Mini Split | D82: 36000 | E82: 2 | F82: 690200 | G82: 737800 | H82: 737800 | I82: =+AVERAGE(F82:H82) -> 721933.33 | K82: Equipo aire acondicionado minisplit12000btu | L82: 3094000 | M82: 3332000 | N82: 2975000 | O82: =+AVERAGE(L82:N82) -> 3133666.7
B83: CENTRO ZONAL CARTAGO Cra 6 # 9 - 61 Barrio Centro | C83: Mini Split | D83: 12000 | E83: 25 | F83: 5950000 | G83: 5057500 | H83: 5652500 | I83: =+AVERAGE(F83:H83) -> 5553333.3 | K83: Equipo aire acondicionado minisplit 18000btu | L83: 3808000 | M83: 4046000 | N83: 3748500 | O83: =+AVERAGE(L83:N83) -> 3867500
B84: CENTRO ZONAL JAMUNDÍ Carrera 14 # 16 - 67 Barrio La Pradera Jamundí - Valle | C84: Mini Split | D84: 12000 | E84: 24 | F84: 5712000 | G84: 4855200 | H84: 5426400 | I84: =+AVERAGE(F84:H84) -> 5331200 | K84: Equipo aire acondicionado minisplit 24000btu | L84: 4998000 | M84: 5355000 | N84: 5117000 | O84: =+AVERAGE(L84:N84) -> 5156666.7
B85: CENTRO ZONAL ROLDANILLO Cra 6 # 9 - 103 Roldanillo | C85: Mini Split | D85: 12000 | E85: 12 | F85: 2856000 | G85: 2427600 | H85: 2713200 | I85: =+AVERAGE(F85:H85) -> 2665600 | K85: Equipo aire acondicionado minisplit 36000btu | L85: 8568000 | M85: 9877000 | N85: 9163000 | O85: =+AVERAGE(L85:N85) -> 9202666.7
C86: Piso Techo | D86: 60000 | E86: 1 | F86: 345100 | G86: 380800 | H86: 368900 | I86: =+AVERAGE(F86:H86) -> 364933.33 | K86: Equipo aire acondicionado pisotecho 60000btu | L86: 13685000 | M86: 14875000 | N86: 14161000 | O86: =+AVERAGE(L86:N86) -> 14240333
B87: CENTRO ZONAL SEVILLA Calle 49 # 48 - 42 | C87: Mini Split | D87: 12000 | E87: 1 | F87: 238000 | G87: 202300 | H87: 226100 | I87: =+AVERAGE(F87:H87) -> 222133.33 | K87: Manguera desagüe para bomba x metro | L87: 53550 | M87: 95200 | N87: 83300 | O87: =+AVERAGE(L87:N87) -> 77350
B88: TOTALES | E88: =SUM(E72:E87) -> 168 | F88: =SUM(F72:F87) -> 40519500 | G88: =SUM(G72:G87) -> 34890800 | H88: =SUM(H72:H87) -> 38698800 | I88: =SUM(I72:I87) -> 38036367 | K88: Manguera desagüe para minisplit | L88: 53550 | M88: 89250 | N88: 77350 | O88: =+AVERAGE(L88:N88) -> 73383.333
K89: Tubería PVC 1/2" | L89: 89250 | M89: 83300 | N89: 71400 | O89: =+AVERAGE(L89:N89) -> 81316.667
K90: Tubería PVC 3/4" | L90: 91630 | M90: 91630 | N90: 79730 | O90: =+AVERAGE(L90:N90) -> 87663.333
K91: Tubería PVC 1" | L91: 95200 | M91: 83300 | N91: 65450 | O91: =+AVERAGE(L91:N91) -> 81316.667
K92: Codos y uniones PVC 1/2", 3/4", 1" | L92: 59500 | M92: 59500 | N92: 58310 | O92: =+AVERAGE(L92:N92) -> 59103.333
K93: Cinta vinilo | L93: 95200 | M93: 95200 | N93: 89250 | O93: =+AVERAGE(L93:N93) -> 93216.667
K94: TOTALES | L94: =+SUM(L32:L93) -> 50025220 | M94: =+SUM(M32:M93) -> 54970860 | N94: =+SUM(N32:N93) -> 51509150 | O94: =+SUM(O32:O93) -> 52168410

Sheet Resumen precios techo
B3: CONSOLIDADO PRECIOS TECHO
F5: PROVEEDOR
B6: TIPO DE SERVICIO | E6: CANTIDAD DE SERVICIO PRESTADOS | F6: =+Conclusiones!B11 -> DACOL AIRES INGENIERIA | G6: =+Conclusiones!B12 -> AIRE ABELLA SAS | H6: =+Conclusiones!B13 -> QUANTIUM INGENIERIA | I6: =+Conclusiones!B14 -> 0
B8: Mantenimiento preventivo equipos aires acondicionados del ICBF Regional Valle del Cauca | E8: 304 | F8: =+'Precios techo'!F49+'Precios techo'!F68+'Precios techo'!F88 -> 85691900 | G8: =+'Precios techo'!G49+'Precios techo'!G68+'Precios techo'!G88 -> 76885900 | H8: =+'Precios techo'!H49+'Precios techo'!H68+'Precios techo'!H88 -> 83419000 | I8: =+'Precios techo'!I49+'Precios techo'!I68+'Precios techo'!I88 -> 81998933
B9: Trabajos correctivos de aires acondicionados (sumatoria de unidades desagregadas) | E9: N/A | F9: =+'Precios techo'!M19 -> 3867500 | G9: =+'Precios techo'!N19 -> 4057900 | H9: =+'Precios techo'!O19 -> 4057900 | I9: =+'Precios techo'!P19 -> 3994433.3
B10: Traslados Aires acondicionados (sumatoria de unidades desagregadas) | E10: N/A | F10: =+'Precios techo'!L27 -> 1670000 | G10: =+'Precios techo'!M27 -> 2558500 | H10: =+'Precios techo'!N27 -> 2558500 | I10: =+'Precios techo'!O27 -> 2262333
B11: Insumos, materiales y equipos (sumatoria de unidades desagregadas) | E11: N/A | F11: =+'Precios techo'!L94 -> 50025220 | G11: =+'Precios techo'!M94 -> 54970860 | H11: =+'Precios techo'!N94 -> 51509150 | I11: =+'Precios techo'!O94 -> 52168410
B12: TOTAL | F12: =SUM(F8:F11) -> 141254620 | G12: =SUM(G8:G11) -> 138473160 | H12: =+SUM(H8:H11) -> 141544550 | I12: =+SUM(I8:I11) -> 1.4042411e+08

Sheet Hoja1
J14: Mini Split | K14: 9000 | L14: 5 | M14: 803250 | N14: 773500 | O14: 374850 | P14: =+AVERAGE(M14:O14) -> 650533.33
I15: CENTRO ZONAL BUGA Carrera 8ª Carretera central | J15: Mini Split | K15: 12000 | L15: 9 | M15: 1552950 | N15: 1499400 | O15: 755408.43 | P15: =+AVERAGE(M15:O15) -> 1269252.8
J16: Mini Split | K16: 9000 | L16: 4 | M16: 690200 | N16: 666400 | O16: 335737.08 | P16: =+AVERAGE(M16:O16) -> 564112.36
J17: Mini Split | K17: 36000 | L17: 1 | M17: 172550 | N17: 166600 | O17: 95834.27 | P17: =+AVERAGE(M17:O17) -> 144994.76
J18: Mini Split | K18: 36000 | L18: 1 | M18: 172550 | N18: 166600 | O18: 95834.27 | P18: =+AVERAGE(M18:O18) -> 144994.76
I19: CENTRO ZONAL CARTAGO Cra 6 # 9 - 61 Barrio Centro | J19: Mini Split | K19: 12000 | L19: 2 | M19: 404600 | N19: 404600 | O19: 177786 | P19: =+AVERAGE(M19:O19) -> 328995.33
J20: Mini Split | K20: 9000 | L20: 7 | M20: 1457750 | N20: 1416100 | O20: 622251 | P20: =+AVERAGE(M20:O20) -> 1165367
J21: Mini Split | K21: 24000 | L21: 1 | M21: 208250 | N21: 202300 | O21: 100793 | P21: =+AVERAGE(M21:O21) -> 170447.67
J22: Mini Split | K22: 18000 | L22: 5 | M22: 1041250 | N22: 1011500 | O22: 444465 | P22: =+AVERAGE(M22:O22) -> 832405
I23: CENTRO ZONAL CENTRO Avenida 1N # 7N - 41 Centenario | J23: Mini Split | K23: 18000 | L23: 2 | M23: 309400 | N23: 309400 | O23: 142800 | P23: =+AVERAGE(M23:O23) -> 253866.67
J24: Piso Techo | K24: 60000 | L24: 2 | M24: 309400 | N24: 309400 | O24: 214200 | P24: =+AVERAGE(M24:O24) -> 277666.67
J25: Mini Split | K25: 36000 | L25: 1 | M25: 160650 | N25: 154700 | O25: 83300 | P25: =+AVERAGE(M25:O25) -> 132883.33
J26: Mini Split | K26: 9000 | L26: 25 | M26: 4016250 | N26: 3867500 | O26: 1785000 | P26: =+AVERAGE(M26:O26) -> 3222916.7
I27: CENTRO ZONAL NORORIENTAL Cra 3 # 39N - 23 Barrio Bolivariano | J27: Mini Split | K27: 24000 | L27: 11 | M27: 1767150 | N27: 1701700 | O27: 916300 | P27: =+AVERAGE(M27:O27) -> 1461716.7
J28: Mini Split | K28: 12000 | L28: 1 | M28: 160650 | N28: 154700 | O28: 71400 | P28: =+AVERAGE(M28:O28) -> 128916.67
J29: Mini Split | K29: 24000 | L29: 1 | M29: 160650 | N29: 154700 | O29: 83300 | P29: =+AVERAGE(M29:O29) -> 132883.33
J30: Mini Split | K30: 36000 | L30: 1 | M30: 160650 | N30: 154700 | O30: 83300 | P30: =+AVERAGE(M30:O30) -> 132883.33
J31: Mini Split | K31: 36000 | L31: 1 | M31: 160650 | N31: 154700 | O31: 83300 | P31: =+AVERAGE(M31:O31) -> 132883.33
J32: Mini Split | K32: 36000 | L32: 1 | M32: 160650 | N32: 154700 | O32: 83300 | P32: =+AVERAGE(M32:O32) -> 132883.33
J33: Mini Split | K33: 36000 | L33: 1 | M33: 160650 | N33: 154700 | O33: 83300 | P33: =+AVERAGE(M33:O33) -> 132883.33
J34: Piso Techo | K34: 60000 | L34: 2 | M34: 321300 | N34: 309400 | O34: 214200 | P34: =+AVERAGE(M34:O34) -> 281633.33
J35: Mini Split | K35: 24000 | L35: 1 | M35: 160650 | N35: 154700 | O35: 83300 | P35: =+AVERAGE(M35:O35) -> 132883.33
J36: Mini Split | K36: 36000 | L36: 1 | M36: 160650 | N36: 154700 | O36: 83300 | P36: =+AVERAGE(M36:O36) -> 132883.33
J37: Mini Split | K37: 36000 | L37: 1 | M37: 160650 | N37: 154700 | O37: 83300 | P37: =+AVERAGE(M37:O37) -> 132883.33
I38: CENTRO ZONAL PALMIRA Cra 31 # 23 - 52 Barrio Nuevo | J38: Piso Techo | K38: 60000 | L38: 2 | M38: 321300 | N38: 309400 | O38: 230146 | P38: =+AVERAGE(M38:O38) -> 286948.67
J39: Mini Split | K39: 9000 | L39: 9 | M39: 1445850 | N39: 1392300 | O39: 714357 | P39: =+AVERAGE(M39:O39) -> 1184169
J40: Mini Split | K40: 24000 | L40: 1 | M40: 160650 | N40: 154700 | O40: 91273 | P40: =+AVERAGE(M40:O40) -> 135541
J41: Mini Split | K41: 12000 | L41: 2 | M41: 321300 | N41: 309400 | O41: 79375.38 | P41: =+AVERAGE(M41:O41) -> 236691.79
J42: Mini Split | K42: 24000 | L42: 4 | M42: 642600 | N42: 618800 | O42: 365092 | P42: =+AVERAGE(M42:O42) -> 542164
I43: CENTRO ZONAL SUR Cra 42 # 5C - 48 Tequendama | J43: Mini Split | K43: 24000 | L43: 6 | M43: 963900 | N43: 928200 | O43: 499800 | P43: =+AVERAGE(M43:O43) -> 797300
J44: Split | K44: 12000 | L44: 28 | M44: 4498200 | N44: 4331600 | O44: 1999200 | P44: =+AVERAGE(M44:O44) -> 3609666.7
I45: CENTRO ZONAL TULUÁ Calle 25 # 26 - 62 El Centro | J45: Mini Split | K45: 12000 | L45: 20 | M45: 3689000 | N45: 3570000 | O45: 1558900 | P45: =+AVERAGE(M45:O45) -> 2939300
J46: Split | K46: 9000 | L46: 2 | M46: 368900 | N46: 357000 | O46: 155890 | P46: =+AVERAGE(M46:O46) -> 293930
I47: CENTRO ZONAL BUENAVENTURA Avenida Simón Bolívar KLM 7 | J47: Mini Split | K47: 12000 | L47: 17 | M47: 3742550 | N47: 3641400 | O47: 1577940 | P47: =+AVERAGE(M47:O47) -> 2987296.7
J48: Mini Split | K48: 18000 | L48: 1 | M48: 220150 | N48: 214200 | O48: 92820 | P48: =+AVERAGE(M48:O48) -> 175723.33
J49: Central | K49: 60000 | L49: 2 | M49: 440300 | N49: 428400 | O49: 590240 | P49: =+AVERAGE(M49:O49) -> 486313.33
I50: CENTRO ZONAL RESTAURAR Calle 11 # 6 - 24 Piso 8 Edificio Bancolombia | J50: Piso Techo | K50: 48000 | L50: 2 | M50: 321300 | N50: 309400 | O50: 202300 | P50: =+AVERAGE(M50:O50) -> 277666.67
J51: Mini Split | K51: 36000 | L51: 2 | M51: 321300 | N51: 309400 | O51: 166600 | P51: =+AVERAGE(M51:O51) -> 265766.67
J52: Mini Split | K52: 24000 | L52: 1 | M52: 160650 | N52: 154700 | O52: 83300 | P52: =+AVERAGE(M52:O52) -> 132883.33
J53: Mini Split | K53: 9000 | L53: 3 | M53: 481950 | N53: 464100 | O53: 214200 | P53: =+AVERAGE(M53:O53) -> 386750
J54: Mini Split | K54: 12000 | L54: 1 | M54: 160650 | N54: 154700 | O54: 71400 | P54: =+AVERAGE(M54:O54) -> 128916.67
I55: CENTRO ZONAL LADERA Cra 43 # 5A - 17 Barrio Tequendama | J55: Piso Techo | K55: 60000 | L55: 1 | M55: 160650 | N55: 154700 | O55: 107100 | P55: =+AVERAGE(M55:O55) -> 140816.67
J56: Mini Split | K56: 18000 | L56: 1 | M56: 160650 | N56: 154700 | O56: 71400 | P56: =+AVERAGE(M56:O56) -> 128916.67
J57: Mini Split | K57: 12000 | L57: 5 | M57: 803250 | N57: 773500 | O57: 357000 | P57: =+AVERAGE(M57:O57) -> 644583.33
I58: CENTRO ZONAL SEVILLA Calle 49 # 48 - 42 | J58: Mini Split | K58: 9000 | L58: 1 | M58: 220150 | N58: 214200 | O58: 285600 | P58: =+AVERAGE(M58:O58) -> 239983.33
I59: TOTALES | M59: =SUM(M14:M58) -> 34438600 | N59: =SUM(N14:N58) -> 33296200 | O59: =SUM(O14:O58) -> 16610492 | P59: =SUM(P14:P58) -> 28115097
