Workbook

Sheet ANEXO 1 - COTIZACIONES
A1: ANEXO 1 - ANALISIS DE COTIZACIONES
C2: Adquisición, instalación y puesta en funcionamiento de planta eléctrica para la Fiscalía seccional San Andrés Barrio Sarie bay Cra 16 Calle 1.
A3: NECESIDAD | F3: COTIZACION 1 | H3: COTIZACION 2 | J3: COTIZACION 3 | L3: COTIZACION 4 | N3: VALOR COTIZACIÓN HÁBIL MÁS BAJA | O3: PROMEDIO | P3: VALOR COTIZACIÓN HÁBIL MÁS ALTA | Q3: PORCENTAJE DIFERENCIAL (BAJA/PROMEDIO) | R3: MEDIA ARITMETICA BAJA | T3: ANALISIS DE COTIZACIONES | W3: MEDIA AIRTI
A4: ÍTEM | B4: DESCRIPCIÓN BIEN O SERVICIO | C4: UNIDAD DE MEDIDA | D4: CANTIDAD | F4: VALOR UNITARIO | H4: VALOR UNITARIO | J4: VALOR UNITARIO | L4: VALOR UNITARIO | N4: VALOR UNITARIO SIN IVA | O4: VALOR UNITARIO SIN IVA | P4: VALOR UNITARIO SIN IVA | Q4: 40% > / < | R4: VALOR UNITARIO SIN IVA | T4: VALOR UNITARIO | U4: VALOR TOTAL
A5: 1 | B5: Suministro, instalación, pruebas y puesta en funcionamiento de planta eléctrica de emergencia cabinada entre 40 y 50 KVA/32 y 40 KW, 220/127 Voltios, 60 Hz., con cabina insonora para intemperie y pintura resistente a ambientes salinos, incluye garantía y mantenimientos, según especificaciones de la ficha técnica. | C5: GL | D5: 1 | F5: 99520000 | H5: 101000000 | J5: 67900000 | N5: =ROUND(MIN(F5,H5,J5,L5),2) -> 67900000 | O5: =ROUND(AVERAGE(F5,H5,J5,L5),) -> 89473333 | P5: =+MAX(F5,H5,J5,L5) -> 101000000 | Q5: =+(P5/N5)-1 -> 0.48748159 | R5: =+ROUND(AVERAGE(N5,O5),) -> 78686667 | T5: =+R5 -> 78686667 | U5: =+T5*D5 -> 78686667 | W5: =+R5*D5 -> 78686667 | Y5: =+AVERAGE(F5:J5) -> 89473333 | Z5: =+Y5*D5 -> 89473333 | AA5: =+(Y5+N5)/2 -> 78686667 | AB5: =+AA5*D5 -> 78686667 | AC5: =+ROUND(D5*T5,0) -> 78686667 | AE5: =+AVERAGE(F5:J5) -> 89473333 | AF5: =+(AE5+J5)/2 -> 78686667 | AG5: =+AF5-T5 -> -0.33333334
A6: 2 | B6: Suministro e instalación de acometidas de: 1. Fuerza desde planta eléctrica hasta transferencia eléctrica automática de carga en conductor de Cobre THHN/THWN-2 CT, 90°C., 3#1/0 F + 1#1/0 N + 1#2 T., incluye terminales y demás accesorios para su correcta instalación. 2. Alimentación de precalentador y cargador de baterías, según requerimiento de la planta eléctrica suministrada, incluye terminales y demás accesorios para su correcta instalación. 3. Control entre planta eléctrica de emergencia y transferencia eléctrica automática de carga, según requerimientos de planta eléctrica suministrada, incluye terminales y demás accesorios para su correcta instalación | C6: ML | D6: 25 | F6: 860000 | H6: 900000 | J6: 540000 | N6: =ROUND(MIN(F6,H6,J6,L6),2) -> 540000 | O6: =ROUND(AVERAGE(F6,H6,J6,L6),) -> 766667 | P6: =+MAX(F6,H6,J6,L6) -> 900000 | Q6: =+(P6/N6)-1 -> 0.66666667 | R6: =+ROUND(AVERAGE(N6,O6),) -> 653334 | T6: =+R6 -> 653334 | U6: =+T6*D6 -> 16333350 | W6: =+R6*D6 -> 16333350 | Y6: =+AVERAGE(F6:J6) -> 766666.67 | Z6: =+Y6*D6 -> 19166667 | AA6: =+(Y6+N6)/2 -> 653333.33 | AB6: =+AA6*D6 -> 16333333 | AC6: =+ROUND(D6*T6,0) -> 16333350 | AE6: =+AVERAGE(F6:J6) -> 766666.67 | AF6: =+(AE6+J6)/2 -> 653333.33 | AG6: =+AF6-T6 -> -0.66666667
A7: 3 | B7: Suministro e instalación de tubería de escape (exosto) con silenciador tipo residencial con aislamiento térmico y sonoro para planta, incluye curvas y demás accesorios para su correcta conexión e instalación. | C7: ML | D7: 15 | F7: 250000 | H7: 268000 | J7: 333200 | N7: =ROUND(MIN(F7,H7,J7,L7),2) -> 250000 | O7: =ROUND(AVERAGE(F7,H7,J7,L7),) -> 283733 | P7: =+MAX(F7,H7,J7,L7) -> 333200 | Q7: =+(P7/N7)-1 -> 0.3328 | R7: =+ROUND(AVERAGE(N7,O7),) -> 266867 | T7: =+R7 -> 266867 | U7: =+T7*D7 -> 4003005 | W7: =+R7*D7 -> 4003005 | Y7: =+AVERAGE(F7:J7) -> 283733.33 | Z7: =+Y7*D7 -> 4256000 | AA7: =+(Y7+N7)/2 -> 266866.67 | AB7: =+AA7*D7 -> 4003000 | AC7: =+ROUND(D7*T7,0) -> 4003005 | AE7: =+AVERAGE(F7:J7) -> 283733.33 | AF7: =+(AE7+F7)/2 -> 266866.67 | AG7: =+AF7-T7 -> -0.33333333
A8: 4 | B8: Suministro e instalación de ductos de alimentación de aire fresco y salida de aire caliente del equipo y demás accesorios para su correcta conexión e instalación. | C8: ML | D8: 5 | F8: 250000 | H8: 260000 | J8: 497500 | N8: =ROUND(MIN(F8,H8,J8,L8),2) -> 250000 | O8: =ROUND(AVERAGE(F8,H8,J8,L8),) -> 335833 | P8: =+MAX(F8,H8,J8,L8) -> 497500 | Q8: =+(P8/N8)-1 -> 0.99 | R8: =+ROUND(AVERAGE(N8,O8),) -> 292917 | T8: =+R8 -> 292917 | U8: =+T8*D8 -> 1464585 | W8: =+R8*D8 -> 1464585 | Y8: =+AVERAGE(F8:J8) -> 335833.33 | Z8: =+Y8*D8 -> 1679166.7 | AA8: =+(Y8+N8)/2 -> 292916.67 | AB8: =+AA8*D8 -> 1464583.3 | AC8: =+ROUND(D8*T8,0) -> 1464585 | AE8: =+AVERAGE(F8:J8) -> 335833.33 | AF8: =+(AE8+F8)/2 -> 292916.67 | AG8: =+AF8-T8 -> -0.33333333
A9: 5 | B9: Suministro e instalación de Puesta a Tierra para planta eléctrica de emergencia; mediante una varilla en Cu CW de 5/8"x2.4 m, incluyendo preparación de tierra. Resistencia medida deberá ser menor de 5 ohmios, según norma AE-281 de CODENSA o equivalente de SOPESA. Incluye caja de inspección con tapa según norma, regatas y resanes y demás accesorios para su correcta conexión e instalación. | C9: GL | D9: 1 | F9: 5500000 | H9: 5498000 | J9: 1400000 | N9: =ROUND(MIN(F9,H9,J9,L9),2) -> 1400000 | O9: =ROUND(AVERAGE(F9,H9,J9,L9),) -> 4132667 | P9: =+MAX(F9,H9,J9,L9) -> 5500000 | Q9: =+(P9/N9)-1 -> 2.9285714 | R9: =+ROUND(AVERAGE(N9,O9),) -> 2766334 | T9: =+R9 -> 2766334 | U9: =+T9*D9 -> 2766334 | W9: =+R9*D9 -> 2766334 | Y9: =+AVERAGE(F9:J9) -> 4132666.7 | Z9: =+Y9*D9 -> 4132666.7 | AA9: =+(Y9+N9)/2 -> 2766333.3 | AB9: =+AA9*D9 -> 2766333.3 | AC9: =+ROUND(D9*T9,0) -> 2766334 | AE9: =+AVERAGE(F9:J9) -> 4132666.7 | AF9: =+(AE9+J9)/2 -> 2766333.3 | AG9: =+AF9-T9 -> -0.66666667
A10: 6 | B10: Suministro e instalación de tubería IMC de 2" para ambientes corrosivos. Incluye cajas de paso, accesorios, uniones, curvas, conectores, terminales, regatas y resanes y demás accesorios para su correcta conexión e instalación. | C10: ML | D10: 25 | F10: 85000 | H10: 82500 | J10: 225000 | N10: =ROUND(MIN(F10,H10,J10,L10),2) -> 82500 | O10: =ROUND(AVERAGE(F10,H10,J10,L10),) -> 130833 | P10: =+MAX(F10,H10,J10,L10) -> 225000 | Q10: =+(P10/N10)-1 -> 1.7272727 | R10: =+ROUND(AVERAGE(N10,O10),) -> 106667 | T10: =+R10 -> 106667 | U10: =+T10*D10 -> 2666675 | W10: =+R10*D10 -> 2666675 | Y10: =+AVERAGE(F10:J10) -> 130833.33 | Z10: =+Y10*D10 -> 3270833.3 | AA10: =+(Y10+N10)/2 -> 106666.67 | AB10: =+AA10*D10 -> 2666666.7 | AC10: =+ROUND(D10*T10,0) -> 2666675 | AE10: =+AVERAGE(F10:J10) -> 130833.33 | AF10: =+(AE10+H10)/2 -> 106666.67 | AG10: =+AF10-T10 -> -0.33333333
A11: 7 | B11: Conexionado, pruebas y puesta en funcionamiento de transferencia eléctrica automática de carga con capacidad de 75 KVA/60 KW., existente. | C11: GL | D11: 1 | F11: 5500000 | H11: 5750000 | J11: 2500000 | N11: =ROUND(MIN(F11,H11,J11,L11),2) -> 2500000 | O11: =ROUND(AVERAGE(F11,H11,J11,L11),) -> 4583333 | P11: =+MAX(F11,H11,J11,L11) -> 5750000 | Q11: =+(P11/N11)-1 -> 1.3 | R11: =+ROUND(AVERAGE(N11,O11),) -> 3541667 | T11: =+R11 -> 3541667 | U11: =+T11*D11 -> 3541667 | W11: =+R11*D11 -> 3541667 | Y11: =+AVERAGE(F11:J11) -> 4583333.3 | Z11: =+Y11*D11 -> 4583333.3 | AA11: =+(Y11+N11)/2 -> 3541666.7 | AB11: =+AA11*D11 -> 3541666.7 | AC11: =+ROUND(D11*T11,0) -> 3541667 | AE11: =+AVERAGE(F11:J11) -> 4583333.3 | AF11: =+(AE11+J11)/2 -> 3541666.7 | AG11: =+AF11-T11 -> -0.33333333
A12: 8 | B12: Garantía y mantenimiento técnico integral especializado con suministro de insumos y repuestos por tres (3) años con mínimo una visita de mantenimiento preventivo anual con suministro de insumos y repuestos, y atención a todas las llamadas de emergencia que se presenten durante el tiempo de garantía en un tiempo no mayor a dos horas luego de la llamada. | C12: GL | D12: 1 | F12: 25000000 | H12: 26239800 | J12: 7500000 | N12: =ROUND(MIN(F12,H12,J12,L12),2) -> 7500000 | O12: =ROUND(AVERAGE(F12,H12,J12,L12),) -> 19579933 | P12: =+MAX(F12,H12,J12,L12) -> 26239800 | Q12: =+(P12/N12)-1 -> 2.49864 | R12: =+ROUND(AVERAGE(N12,O12),) -> 13539967 | T12: =+R12 -> 13539967 | U12: =+T12*D12 -> 13539967 | W12: =+R12*D12 -> 13539967 | Y12: =+AVERAGE(F12:J12) -> 19579933 | Z12: =+Y12*D12 -> 19579933 | AA12: =+(Y12+N12)/2 -> 13539967 | AB12: =+AA12*D12 -> 13539967 | AC12: =+ROUND(D12*T12,0) -> 13539967 | AE12: =+AVERAGE(F12:J12) -> 19579933 | AF12: =+(AE12+J12)/2 -> 13539967 | AG12: =+AF12-T12 -> -0.33333333
A13: TOTAL | U13: =SUM(U5:U12) -> 123002250 | W13: =SUM(W5:W12) -> 123002250 | Z13: =SUM(Z5:Z12) -> 1.4614193e+08 | AB13: =SUM(AB5:AB12) -> 1.2300222e+08 | AC13: =SUM(AC5:AC12) -> 123002250 | AG13: =SUM(AG5:AG12) -> -3.3333333
Z14: =+Z13-U13 -> 23139683 | AB14: =+AB13-W13 -> -33.333333
B15: NOTAS:
B16: 1) Se realizó el estudio con 3 cotizaciones de empresas del mercado | AB16: =+AB13-U13 -> -33.333333
B17: 2) Para establecer el valor del estudio ítem x ítem; se utilizó la formula de media aritmetica baja
B18: 3) En el presente análisis se aplicó el procedimiento de aproximación generalmente aceptado por las reglas matemáticas denominado redondeo, que consiste en acercar los valores decimales al número entero más aproximado (esto es, si el tercer decimal es menor que 5, el segundo decimal se mantiene; si el tercer decimal es igual o mayor que 5, el segundo decimal se incrementa en uno) | O18: =1423500*100 -> 142350000

Sheet ANEXO 2 - EST SECTOR
A1: ANEXO 2 - ESTUDIO DEL SECTOR
C2: =+'ANEXO 1 - COTIZACIONES'!C2:U2 -> Adquisición, instalación y puesta en funcionamiento de planta eléctrica para la Fiscalía seccional San Andrés Barrio Sarie bay Cra 16 Calle 1.
A3: NECESIDAD | F3: ESTUDIO DEL SECTOR
A4: ÍTEM | B4: DESCRIPCIÓN BIEN O SERVICIO | C4: UNIDAD DE MEDIDA | D4: CANTIDAD | F4: VALOR UNITARIO | G4: VALOR TOTAL
A5: =+'ANEXO 1 - COTIZACIONES'!A5 -> 1 | B5: =+'ANEXO 1 - COTIZACIONES'!B5 -> Suministro, instalación, pruebas y puesta en funcionamiento de planta eléctrica de emergencia cabinada entre 40 y 50 KVA/32 y 40 KW, 220/127 Voltios, 60 Hz., con cabina insonora para intemperie y pintura resistente a ambientes salinos, incluye garantía y mantenimientos, según especificaciones de la ficha técnica. | C5: =+'ANEXO 1 - COTIZACIONES'!C5 -> GL | D5: =+'ANEXO 1 - COTIZACIONES'!D5 -> 1 | F5: =+'ANEXO 1 - COTIZACIONES'!T5 -> 78686667 | G5: =+F5*D5 -> 78686667
A6: =+'ANEXO 1 - COTIZACIONES'!A6 -> 2 | B6: =+'ANEXO 1 - COTIZACIONES'!B6 -> Suministro e instalación de acometidas de: 1. Fuerza desde planta eléctrica hasta transferencia eléctrica automática de carga en conductor de Cobre THHN/THWN-2 CT, 90°C., 3#1/0 F + 1#1/0 N + 1#2 T., incluye terminales y demás accesorios para su correcta instalación. 2. Alimentación de precalentador y cargador de baterías, según requerimiento de la planta eléctrica suministrada, incluye terminales y demás accesorios para su correcta instalación. 3. Control entre planta eléctrica de emergencia y transferencia eléctrica automática de carga, según requerimientos de planta eléctrica suministrada, incluye terminales y demás accesorios para su correcta instalación | C6: =+'ANEXO 1 - COTIZACIONES'!C6 -> ML | D6: =+'ANEXO 1 - COTIZACIONES'!D6 -> 25 | F6: =+'ANEXO 1 - COTIZACIONES'!T6 -> 653334 | G6: =+F6*D6 -> 16333350
A7: =+'ANEXO 1 - COTIZACIONES'!A7 -> 3 | B7: =+'ANEXO 1 - COTIZACIONES'!B7 -> Suministro e instalación de tubería de escape (exosto) con silenciador tipo residencial con aislamiento térmico y sonoro para planta, incluye curvas y demás accesorios para su correcta conexión e instalación. | C7: =+'ANEXO 1 - COTIZACIONES'!C7 -> ML | D7: =+'ANEXO 1 - COTIZACIONES'!D7 -> 15 | F7: =+'ANEXO 1 - COTIZACIONES'!T7 -> 266867 | G7: =+F7*D7 -> 4003005
A8: =+'ANEXO 1 - COTIZACIONES'!A8 -> 4 | B8: =+'ANEXO 1 - COTIZACIONES'!B8 -> Suministro e instalación de ductos de alimentación de aire fresco y salida de aire caliente del equipo y demás accesorios para su correcta conexión e instalación. | C8: =+'ANEXO 1 - COTIZACIONES'!C8 -> ML | D8: =+'ANEXO 1 - COTIZACIONES'!D8 -> 5 | F8: =+'ANEXO 1 - COTIZACIONES'!T8 -> 292917 | G8: =+F8*D8 -> 1464585
A9: =+'ANEXO 1 - COTIZACIONES'!A9 -> 5 | B9: =+'ANEXO 1 - COTIZACIONES'!B9 -> Suministro e instalación de Puesta a Tierra para planta eléctrica de emergencia; mediante una varilla en Cu CW de 5/8"x2.4 m, incluyendo preparación de tierra. Resistencia medida deberá ser menor de 5 ohmios, según norma AE-281 de CODENSA o equivalente de SOPESA. Incluye caja de inspección con tapa según norma, regatas y resanes y demás accesorios para su correcta conexión e instalación. | C9: =+'ANEXO 1 - COTIZACIONES'!C9 -> GL | D9: =+'ANEXO 1 - COTIZACIONES'!D9 -> 1 | F9: =+'ANEXO 1 - COTIZACIONES'!T9 -> 2766334 | G9: =+F9*D9 -> 2766334
A10: =+'ANEXO 1 - COTIZACIONES'!A10 -> 6 | B10: =+'ANEXO 1 - COTIZACIONES'!B10 -> Suministro e instalación de tubería IMC de 2" para ambientes corrosivos. Incluye cajas de paso, accesorios, uniones, curvas, conectores, terminales, regatas y resanes y demás accesorios para su correcta conexión e instalación. | C10: =+'ANEXO 1 - COTIZACIONES'!C10 -> ML | D10: =+'ANEXO 1 - COTIZACIONES'!D10 -> 25 | F10: =+'ANEXO 1 - COTIZACIONES'!T10 -> 106667 | G10: =+F10*D10 -> 2666675
A11: =+'ANEXO 1 - COTIZACIONES'!A11 -> 7 | B11: =+'ANEXO 1 - COTIZACIONES'!B11 -> Conexionado, pruebas y puesta en funcionamiento de transferencia eléctrica automática de carga con capacidad de 75 KVA/60 KW., existente. | C11: =+'ANEXO 1 - COTIZACIONES'!C11 -> GL | D11: =+'ANEXO 1 - COTIZACIONES'!D11 -> 1 | F11: =+'ANEXO 1 - COTIZACIONES'!T11 -> 3541667 | G11: =+F11*D11 -> 3541667
A12: =+'ANEXO 1 - COTIZACIONES'!A12 -> 8 | B12: =+'ANEXO 1 - COTIZACIONES'!B12 -> Garantía y mantenimiento técnico integral especializado con suministro de insumos y repuestos por tres (3) años con mínimo una visita de mantenimiento preventivo anual con suministro de insumos y repuestos, y atención a todas las llamadas de emergencia que se presenten durante el tiempo de garantía en un tiempo no mayor a dos horas luego de la llamada. | C12: =+'ANEXO 1 - COTIZACIONES'!C12 -> GL | D12: =+'ANEXO 1 - COTIZACIONES'!D12 -> 1 | F12: =+'ANEXO 1 - COTIZACIONES'!T12 -> 13539967 | G12: =+F12*D12 -> 13539967
A13: TOTAL | G13: =SUM(G5:G12) -> 123002250
