Workbook
Name _________AFC1: [2]INV!$A$25:$D$28
Name _________AFC3: [2]INV!$F$25:$I$28
Name _________AFC5: [2]INV!$K$25:$N$28
Name _________BGC1: [2]INV!$A$5:$D$8
Name _________BGC3: [2]INV!$F$5:$I$8
Name _________BGC5: [2]INV!$K$5:$N$8
Name _________CAC1: [2]INV!$A$19:$D$22
Name _________CAC3: [2]INV!$F$19:$I$22
Name _________CAC5: [2]INV!$K$19:$N$22
Name _________PJ50: #REF!
Name _________PJ50: #REF!
Name _________SBC1: [2]INV!$A$12:$D$15
Name _________SBC3: [2]INV!$F$12:$I$15
Name _________SBC5: [2]INV!$K$12:$N$15
Name ________AFC1: [2]INV!$A$25:$D$28
Name ________AFC3: [2]INV!$F$25:$I$28
Name ________AFC5: [2]INV!$K$25:$N$28
Name ________BGC1: [2]INV!$A$5:$D$8
Name ________BGC3: [2]INV!$F$5:$I$8
Name ________BGC5: [2]INV!$K$5:$N$8
Name ________CAC1: [2]INV!$A$19:$D$22
Name ________CAC3: [2]INV!$F$19:$I$22
Name ________CAC5: [2]INV!$K$19:$N$22
Name ________MA2: #REF!
Name ________MA2: #REF!
Name ________PJ50: #REF!
Name ________PJ50: #REF!
Name ________SBC1: [2]INV!$A$12:$D$15
Name ________SBC3: [2]INV!$F$12:$I$15
Name ________SBC5: [2]INV!$K$12:$N$15
Name _______AFC1: [2]INV!$A$25:$D$28
Name _______AFC3: [2]INV!$F$25:$I$28
Name _______AFC5: [2]INV!$K$25:$N$28
Name _______BGC1: [2]INV!$A$5:$D$8
Name _______BGC3: [2]INV!$F$5:$I$8
Name _______BGC5: [2]INV!$K$5:$N$8
Name _______CAC1: [2]INV!$A$19:$D$22
Name _______CAC3: [2]INV!$F$19:$I$22
Name _______CAC5: [2]INV!$K$19:$N$22
Name _______MA2: #REF!
Name _______MA2: #REF!
Name _______PJ50: #REF!
Name _______PJ50: #REF!
Name _______SBC1: [2]INV!$A$12:$D$15
Name _______SBC3: [2]INV!$F$12:$I$15
Name _______SBC5: [2]INV!$K$12:$N$15
Name ______AFC1: [2]INV!$A$25:$D$28
Name ______AFC3: [2]INV!$F$25:$I$28
Name ______AFC5: [2]INV!$K$25:$N$28
Name ______BGC1: [2]INV!$A$5:$D$8
Name ______BGC3: [2]INV!$F$5:$I$8
Name ______BGC5: [2]INV!$K$5:$N$8
Name ______CAC1: [2]INV!$A$19:$D$22
Name ______CAC3: [2]INV!$F$19:$I$22
Name ______CAC5: [2]INV!$K$19:$N$22
Name ______INF1: #REF!
Name ______INF1: #REF!
Name ______MA2: #REF!
Name ______MA2: #REF!
Name ______PJ50: #REF!

Sheet PRESUPUESTO
A1: MUNICIPIO DE ANORÍ | E1: 45819
A2: CONTRATAR EL MANTENIMIENTO CORRECTIVO DE LA CUBIERTA DEL EDIFICIO DE LA ALCALDÍA MUNICIPAL DE ANORÍ, MEDIANTE LA INSTALACIÓN DE TELA ASFÁLTICA Y EL REEMPLAZO DE TEJAS EN MAL ESTADO, CON EL FIN DE GARANTIZAR SU IMPERMEABILIZACIÓN Y FUNCIONALIDAD.
A5: ITEM | B5: DESCRIPCIÓN | C5: UNIDAD | D5: CANTIDAD | E5: VALOR UNITARIO | F5: VALOR TOTAL
A6: 1 | B6: PRELIMINARES | F6: =SUM(F7:F7) -> 1307150
A7: 1.1 | B7: Armado de andamios | C7: Und | D7: 2 | E7: ='1,1'!H31 -> 653575 | F7: =D7*E7 -> 1307150
A8: 2 | B8: ADECUACIÓN DE CUBIERTA | F8: =SUM(F9:F12) -> 24957110
A9: 2.1 | B9: Desmonte de teja colonial | C9: m2 | D9: 290 | E9: ='2,1'!H31 -> 16432 | F9: =D9*E9 -> 4765280
A10: 2.2 | B10: Mantenimiento de tablilla 9mmx9cmx3,2 | C10: m2 | D10: 290 | E10: ='2,2'!H31 -> 12583 | F10: =D10*E10 -> 3649070
A11: 2.3 | B11: Colocación de tela asfáltica | C11: m2 | D11: 290 | E11: ='2,3'!H31 -> 28928 | F11: =D11*E11 -> 8389120
A12: 2.4 | B12: Montaje y acomodación de teja colonial | C12: m2 | D12: 290 | E12: ='2,4'!H31 -> 28116 | F12: =D12*E12 -> 8153640
A13: TOTAL COSTOS DIRECTOS | F13: =+F8+F6 -> 26264260
A14: AU | E14: =AU!I62 -> 0.25427067 | F14: =ROUND(F13*E14,0) -> 6678231
A15: TOTAL | F15: =F13+F14 -> 32942491
B19: Secretaria de Infraestructura
B20: Municipio de Anorí

Sheet 1,1
B2: MUNICIPIO DE ANORÍ | D2: =PRESUPUESTO!A2 -> CONTRATAR EL MANTENIMIENTO CORRECTIVO DE LA CUBIERTA DEL EDIFICIO DE LA ALCALDÍA MUNICIPAL DE ANORÍ, MEDIANTE LA INSTALACIÓN DE TELA ASFÁLTICA Y EL REEMPLAZO DE TEJAS EN MAL ESTADO, CON EL FIN DE GARANTIZAR SU IMPERMEABILIZACIÓN Y FUNCIONALIDAD.
D6: ANÁLISIS DE PRECIO UNITARIO
B10: Ítem | C10: 1.1 | D10: =PRESUPUESTO!B7 -> Armado de andamios
D11: Unidad | H11: und
B12: MATERIALES | D12: UNIDAD | E12: CANTIDAD | F12: RENDIMIENTO | G12: VALOR UNITARIO | H12: VALOR TOTAL
B13: 1 | H13: =ROUND(E13*F13*G13,0) -> 0
B14: 2 | H14: =ROUND(E14*F14*G14,0) -> 0
B15: 3 | H15: =ROUND(E15*F15*G15,0) -> 0
E16: SUBTOTAL MATERIALES | H16: =SUM(H13:H15) -> 0
B18: EQUIPOS Y HERRAMIENTAS | D18: =+D12 -> UNIDAD | E18: CANTIDAD | F18: RENDIMIENTO | G18: =+G12 -> VALOR UNITARIO | H18: =+H12 -> VALOR TOTAL
B19: 1 | C19: Herramienta menor (% mano de obra) | D19: glb | E19: 0.1 | G19: =+H30*E19 -> 41234.1 | H19: =+ROUND(G19,0) -> 41234
B20: 2 | C20: Alquiler de andamios | D20: glb | E20: 1 | G20: 200000 | H20: =+ROUND(E20*G20,0) -> 200000
E21: SUBTOTAL EQUIPOS | H21: =H19+H20 -> 241234
B23: TRANSPORTE | D23: UNIDAD | E23: DISTANCIA km | F23: RENDIMIENTO | G23: VR. UN. ($/ m³*km) | H23: VALOR TOTAL
B24: 1
E25: SUBTOTAL TRANSPORTE | H25: =SUM(H24) -> 0
B27: MANO DE OBRA | D27: =+D18 -> UNIDAD | E27: CANTIDAD | F27: RENDIMIENTO | G27: VALOR UNITARIO | H27: =+H18 -> VALOR TOTAL
B28: 1 | C28: Oficial | D28: und/día | E28: 1 | F28: 1 | G28: =((2.5*1423500*1.58)/30) -> 187427.5 | H28: =ROUND(E28*F28*G28,0) -> 187428
B29: 2 | C29: Ayudante | D29: und/día | E29: 2 | F29: 1 | G29: =((1423500*1.5*1.58)/30) -> 112456.5 | H29: =ROUND(E29*F29*G29,0) -> 224913
E30: SUBTOTAL MANO DE OBRA | H30: =ROUND(H28+H29,0) -> 412341
E31: COSTO DIRECTO | H31: =ROUND(H16+H21+H30+H25,0) -> 653575

Sheet 2,1
D2: =PRESUPUESTO!A2 -> CONTRATAR EL MANTENIMIENTO CORRECTIVO DE LA CUBIERTA DEL EDIFICIO DE LA ALCALDÍA MUNICIPAL DE ANORÍ, MEDIANTE LA INSTALACIÓN DE TELA ASFÁLTICA Y EL REEMPLAZO DE TEJAS EN MAL ESTADO, CON EL FIN DE GARANTIZAR SU IMPERMEABILIZACIÓN Y FUNCIONALIDAD.
D6: ANÁLISIS DE PRECIO UNITARIO
B10: Ítem | C10: 2.1 | D10: =PRESUPUESTO!B9 -> Desmonte de teja colonial
D11: Unidad | H11: m2
B12: MATERIALES | D12: UNIDAD | E12: CANTIDAD | F12: RENDIMIENTO | G12: VALOR UNITARIO | H12: VALOR TOTAL
B13: 1 | H13: =ROUND(E13*F13*G13,0) -> 0
B14: 2 | H14: =ROUND(E14*F14*G14,0) -> 0
B15: 3 | H15: =ROUND(E15*F15*G15,0) -> 0
E16: SUBTOTAL MATERIALES | H16: =SUM(H13:H15) -> 0
B18: EQUIPOS Y HERRAMIENTAS | D18: =+D12 -> UNIDAD | E18: CANTIDAD | F18: RENDIMIENTO | G18: =+G12 -> VALOR UNITARIO | H18: =+H12 -> VALOR TOTAL
B19: 1 | C19: Herramienta menor (% mano de obra) | D19: glb | E19: 0.1 | G19: =+H30*E19 -> 1312 | H19: =+ROUND(G19,0) -> 1312
B20: 2 | C20: Alquiler de canoas para bajar tejas | D20: glb | E20: 2 | F20: 0.01 | G20: 100000 | H20: =E20*G20*F20 -> 2000
E21: SUBTOTAL EQUIPOS | H21: =H19+H20 -> 3312
B23: TRANSPORTE | D23: UNIDAD | E23: DISTANCIA km | F23: RENIDIMIENTO | G23: VR. UN. ($/ m³*km) | H23: VALOR TOTAL
B24: 1
E25: SUBTOTAL TRANSPORTE | H25: =SUM(H24) -> 0
B27: MANO DE OBRA | D27: =+D18 -> UNIDAD | E27: CANTIDAD | F27: RENDIMIENTO | G27: VALOR UNITARIO | H27: =+H18 -> VALOR TOTAL
B28: 1 | C28: Oficial | D28: und/día | E28: 1 | F28: 0.01 | G28: =((2.5*1423500*1.58)/30) -> 187427.5 | H28: =ROUND(E28*F28*G28,0) -> 1874
B29: 2 | C29: Ayudante | D29: und/día | E29: 5 | F29: 0.02 | G29: =((1423500*1.5*1.58)/30) -> 112456.5 | H29: =ROUND(E29*F29*G29,0) -> 11246
E30: SUBTOTAL MANO DE OBRA | H30: =ROUND(H28+H29,0) -> 13120
E31: COSTO DIRECTO | H31: =ROUND(H16+H21+H30+H25,0) -> 16432

Sheet 2,2
D2: =PRESUPUESTO!A2 -> CONTRATAR EL MANTENIMIENTO CORRECTIVO DE LA CUBIERTA DEL EDIFICIO DE LA ALCALDÍA MUNICIPAL DE ANORÍ, MEDIANTE LA INSTALACIÓN DE TELA ASFÁLTICA Y EL REEMPLAZO DE TEJAS EN MAL ESTADO, CON EL FIN DE GARANTIZAR SU IMPERMEABILIZACIÓN Y FUNCIONALIDAD.
D6: ANÁLISIS DE PRECIO UNITARIO
B10: Ítem | C10: 2.2 | D10: =PRESUPUESTO!B10 -> Mantenimiento de tablilla 9mmx9cmx3,2
D11: Unidad | H11: m2
B12: MATERIALES | D12: UNIDAD | E12: CANTIDAD | F12: RENDIMIENTO | G12: VALOR UNITARIO | H12: VALOR TOTAL
B13: 1 | C13: Tablilla 9mmx9cmx3,2 | D13: und | E13: 0.5 | F13: 1 | G13: 6200 | H13: =ROUND(E13*F13*G13,0) -> 3100
B14: 2 | H14: =ROUND(E14*F14*G14,0) -> 0
B15: 3 | H15: =ROUND(E15*F15*G15,0) -> 0
E16: SUBTOTAL MATERIALES | H16: =SUM(H13:H15) -> 3100
B18: EQUIPOS Y HERRAMIENTAS | D18: =+D12 -> UNIDAD | E18: CANTIDAD | F18: RENDIMIENTO | G18: =+G12 -> VALOR UNITARIO | H18: =+H12 -> VALOR TOTAL
B19: 1 | C19: Herramienta menor (% mano de obra) | D19: glb | E19: 0.1 | G19: =+H30*E19 -> 862.1 | H19: =+ROUND(G19,0) -> 862
B20: 2 | H20: =E20*G20 -> 0
E21: SUBTOTAL EQUIPOS | H21: =H19+H20 -> 862
B23: TRANSPORTE | D23: UNIDAD | E23: DISTANCIA km | F23: RENIDIMIENTO | G23: VR. UN. ($/ m³*km) | H23: VALOR TOTAL
B24: 1
E25: SUBTOTAL TRANSPORTE | H25: =SUM(H24) -> 0
B27: MANO DE OBRA | D27: =+D18 -> UNIDAD | E27: CANTIDAD | F27: RENDIMIENTO | G27: VALOR UNITARIO | H27: =+H18 -> VALOR TOTAL
B28: 1 | C28: Oficial | D28: und/día | E28: 1 | F28: 0.01 | G28: =((2.5*1423500*1.58)/30) -> 187427.5 | H28: =ROUND(E28*F28*G28,0) -> 1874
B29: 2 | C29: Ayudante | D29: und/día | E29: 2 | F29: 0.03 | G29: =((1423500*1.5*1.58)/30) -> 112456.5 | H29: =ROUND(E29*F29*G29,0) -> 6747
E30: SUBTOTAL MANO DE OBRA | H30: =ROUND(H28+H29,0) -> 8621
E31: COSTO DIRECTO | H31: =ROUND(H16+H21+H30+H25,0) -> 12583

Sheet 2,3
D2: =PRESUPUESTO!A2 -> CONTRATAR EL MANTENIMIENTO CORRECTIVO DE LA CUBIERTA DEL EDIFICIO DE LA ALCALDÍA MUNICIPAL DE ANORÍ, MEDIANTE LA INSTALACIÓN DE TELA ASFÁLTICA Y EL REEMPLAZO DE TEJAS EN MAL ESTADO, CON EL FIN DE GARANTIZAR SU IMPERMEABILIZACIÓN Y FUNCIONALIDAD.
D6: ANÁLISIS DE PRECIO UNITARIO
B10: Ítem | C10: 2.3 | D10: =PRESUPUESTO!B11 -> Colocación de tela asfáltica
D11: Unidad | H11: und
B12: MATERIALES | D12: UNIDAD | E12: CANTIDAD | F12: RENDIMIENTO | G12: VALOR UNITARIO | H12: VALOR TOTAL
B13: 1 | C13: Tela asfáltica | D13: m2 | E13: 1 | F13: 1 | G13: 22330 | H13: =ROUND(E13*F13*G13,0) -> 22330
B14: 2 | H14: =ROUND(E14*F14*G14,0) -> 0
B15: 3 | H15: =ROUND(E15*F15*G15,0) -> 0
E16: SUBTOTAL MATERIALES | H16: =SUM(H13:H15) -> 22330
B18: EQUIPOS Y HERRAMIENTAS | D18: =+D12 -> UNIDAD | E18: CANTIDAD | F18: RENDIMIENTO | G18: =+G12 -> VALOR UNITARIO | H18: =+H12 -> VALOR TOTAL
B19: 1 | C19: Herramienta menor (% mano de obra) | D19: glb | E19: 0.1 | G19: =+H30*E19 -> 599.8 | H19: =+ROUND(G19,0) -> 600
B20: 2 | H20: =E20*G20 -> 0
E21: SUBTOTAL EQUIPOS | H21: =H19+H20 -> 600
B23: TRANSPORTE | D23: UNIDAD | E23: DISTANCIA km | F23: RENIDIMIENTO | G23: VR. UN. ($/ m³*km) | H23: VALOR TOTAL
B24: 1
E25: SUBTOTAL TRANSPORTE | H25: =SUM(H24) -> 0
B27: MANO DE OBRA | D27: =+D18 -> UNIDAD | E27: CANTIDAD | F27: RENDIMIENTO | G27: VALOR UNITARIO | H27: =+H18 -> VALOR TOTAL
B28: 1 | C28: Oficial | D28: und/día | E28: 1 | F28: 0.002 | G28: =((2.5*1423500*1.58)/30) -> 187427.5 | H28: =ROUND(E28*F28*G28,0) -> 375
B29: 2 | C29: Ayudante | D29: und/día | E29: 5 | F29: 0.01 | G29: =((1423500*1.5*1.58)/30) -> 112456.5 | H29: =ROUND(E29*F29*G29,0) -> 5623
E30: SUBTOTAL MANO DE OBRA | H30: =ROUND(H28+H29,0) -> 5998
E31: COSTO DIRECTO | H31: =ROUND(H16+H21+H30+H25,0) -> 28928

Sheet 2,4
D2: =PRESUPUESTO!A2 -> CONTRATAR EL MANTENIMIENTO CORRECTIVO DE LA CUBIERTA DEL EDIFICIO DE LA ALCALDÍA MUNICIPAL DE ANORÍ, MEDIANTE LA INSTALACIÓN DE TELA ASFÁLTICA Y EL REEMPLAZO DE TEJAS EN MAL ESTADO, CON EL FIN DE GARANTIZAR SU IMPERMEABILIZACIÓN Y FUNCIONALIDAD.
D6: ANÁLISIS DE PRECIO UNITARIO
B10: Ítem | C10: 2.4 | D10: =PRESUPUESTO!B12 -> Montaje y acomodación de teja colonial
D11: Unidad | H11: m2
B12: MATERIALES | D12: UNIDAD | E12: CANTIDAD | F12: RENDIMIENTO | G12: VALOR UNITARIO | H12: VALOR TOTAL
B13: 1 | C13: Teja colonial de reemplazo | D13: und | E13: 3 | F13: 1 | G13: 2500 | H13: =ROUND(E13*F13*G13,0) -> 7500
B14: 2 | H14: =ROUND(E14*F14*G14,0) -> 0
B15: 3 | H15: =ROUND(E15*F15*G15,0) -> 0
E16: SUBTOTAL MATERIALES | H16: =SUM(H13:H15) -> 7500
B18: EQUIPOS Y HERRAMIENTAS | D18: =+D12 -> UNIDAD | E18: CANTIDAD | F18: RENDIMIENTO | G18: =+G12 -> VALOR UNITARIO | H18: =+H12 -> VALOR TOTAL
B19: 1 | C19: Herramienta menor (% mano de obra) | D19: glb | E19: 0.1 | G19: =+H30*E19 -> 1874.2 | H19: =+ROUND(G19,0) -> 1874
B20: 2 | H20: =E20*G20 -> 0
E21: SUBTOTAL EQUIPOS | H21: =H19+H20 -> 1874
B23: TRANSPORTE | D23: UNIDAD | E23: DISTANCIA km | F23: RENIDIMIENTO | G23: VR. UN. ($/ m³*km) | H23: VALOR TOTAL
B24: 1
E25: SUBTOTAL TRANSPORTE | H25: =SUM(H24) -> 0
B27: MANO DE OBRA | D27: =+D18 -> UNIDAD | E27: CANTIDAD | F27: RENDIMIENTO | G27: VALOR UNITARIO | H27: =+H18 -> VALOR TOTAL
B28: 1 | C28: Oficial | D28: und/día | E28: 1 | F28: 0.01 | G28: =((2.5*1423500*1.58)/30) -> 187427.5 | H28: =ROUND(E28*F28*G28,0) -> 1874
B29: 2 | C29: Ayudante | D29: und/día | E29: 5 | F29: 0.03 | G29: =((1423500*1.5*1.58)/30) -> 112456.5 | H29: =ROUND(E29*F29*G29,0) -> 16868
E30: SUBTOTAL MANO DE OBRA | H30: =ROUND(H28+H29,0) -> 18742
E31: COSTO DIRECTO | H31: =ROUND(H16+H21+H30+H25,0) -> 28116

Sheet AU
B1: DESGLOSE DEL AU
B3: =PRESUPUESTO!A2 -> CONTRATAR EL MANTENIMIENTO CORRECTIVO DE LA CUBIERTA DEL EDIFICIO DE LA ALCALDÍA MUNICIPAL DE ANORÍ, MEDIANTE LA INSTALACIÓN DE TELA ASFÁLTICA Y EL REEMPLAZO DE TEJAS EN MAL ESTADO, CON EL FIN DE GARANTIZAR SU IMPERMEABILIZACIÓN Y FUNCIONALIDAD. | H3: MUNICIPIO: | I3: ANORÍ
H4: DPTO: | I4: ANTIOQUIA
H5: FECHA:
B8: COMPOSICION DEL PORCENTAJE DE ADMINISTRACION, IMPREVISTOS Y UTILIDAD
A9: CD | B9: COSTO DIRECTO DEL PROYECTO | D9: =PRESUPUESTO!F13 -> 26264260 | F9: A.I.U | H9: =H62 -> 6678230.9 | L9: =+D9*0.3043 -> 7992214.3 | M9: 6.5927139e+09
A10: PC | B10: DURACION DEL PROYECTO (MES) | D10: 1 | F10: TOTAL PROYECTO (A) | H10: =PRESUPUESTO!F15 -> 32942491
B11: I.V.A (sobre utilidad) | D11: 0.19 | E11: =D11*H61 -> 249510.47
B12: DETALLE DE LOS COSTOS ADMINISTRATIVOS
B13: 1. PERSONAL POR ADMINISTRACION
B14: DESCRIPCION | C14: CANTIDAD | D14: MESES | E14: PREST. (%) | F14: PERM. (%) | G14: SAL. BASICO | H14: VR. TOTAL | I14: PORCENTAJE
B15: Ingeniero Residente | C15: 1 | D15: 1 | E15: 1.58 | F15: 0.05 | G15: =3700000 -> 3700000 | H15: =+ROUND(C15*D15*E15*F15*G15,2) -> 292300 | I15: =H15/PRESUPUESTO!F13 -> 0.011129192
B16: SISO | C16: 1 | D16: 1 | E16: 1.58 | F16: 0.05 | G16: =2500000 -> 2500000 | H16: =+ROUND(C16*D16*E16*F16*G16,2) -> 197500 | I16: =H16/PRESUPUESTO!F14 -> 0.0295737
B18: TOTAL PERSONAL ADMINISTRATIVO | H18: =SUM(H15:H17) -> 489800 | I18: =SUM(I15:I17) -> 0.040702892 | Q18: =SUM(I15:I16) -> 0.040702892
B20: 2. MOVILIZACIÓN E INSTALACIÓN
B21: DESCRIPCION | D21: UNIDAD | E21: MESES | F21: CANTIDAD | G21: TARIFA | H21: VR. TOTAL | I21: PORCENTAJE
B22: Movilizacion de equipos | D22: UNIDAD | E22: 1 | F22: 1 | G22: 200000 | H22: =+E22*F22*G22 -> 200000 | I22: =H22/PRESUPUESTO!$F$13 -> 0.0076149109
B23: Bodega provisional | D23: UNIDAD | E23: 1 | F23: 1 | G23: 0 | H23: 0 | I23: =H23/PRESUPUESTO!$F$13 -> 0
B24: TOTAL MOVILIZACION E INSTALACION | H24: =SUM(H22:H23) -> 200000 | I24: =SUM(I22:I23) -> 0.0076149109 | Q24: =SUM(I22:I23) -> 0.0076149109
B26: 3. GASTOS GENERALES
B27: DESCRIPCION | D27: UNIDAD | E27: MESES | F27: CANTIDAD | G27: TARIFA | H27: VR. TOTAL | I27: PORCENTAJE
B28: Servicios Publicos | D28: MES | E28: 1 | F28: 1 | G28: 100000 | H28: =+E28*F28*G28 -> 100000 | I28: =AU!H28/PRESUPUESTO!$F$13 -> 0.0038074555
B29: Oficina | D29: MES | E29: 1 | F29: 1 | G29: 100000 | H29: =+E29*F29*G29 -> 100000 | I29: =AU!H29/PRESUPUESTO!$F$13 -> 0.0038074555
B30: Papeleria | D30: MES | E30: 1 | F30: 1 | G30: 50000 | H30: =+E30*F30*G30 -> 50000 | I30: =AU!H30/PRESUPUESTO!$F$13 -> 0.0019037277
B31: Equipo de Comunicación y computo | D31: MES | E31: 1 | F31: 1 | G31: 70000 | H31: =+E31*F31*G31 -> 70000 | I31: =AU!H31/PRESUPUESTO!$F$13 -> 0.0026652188
B32: Implementos de Aseo | D32: MES | E32: =+E31 -> 1 | F32: 1 | G32: 40000 | H32: =+E32*F32*G32 -> 40000 | I32: =AU!H32/PRESUPUESTO!$F$13 -> 0.0015229822
B33: TOTAL GASTOS GENERALES | H33: =SUM(H28:H32) -> 360000 | I33: =SUM(I28:I32) -> 0.01370684 | Q33: =SUM(I28:I32) -> 0.01370684
B36: 4. GASTOS LEGALES, JURIDICOS Y TRIBUTARIOS
B37: DESCRIPCION | D37: UNIDAD | E37: MESES | F37: CANTIDAD | G37: TARIFA | H37: VR. TOTAL | I37: PORCENTAJE
B38: Fondo local de seguridad | D38: % | E38: NA | F38: 1 | G38: 0.05 | H38: =G38*PRESUPUESTO!$F$13 -> 1313213 | I38: =AU!H38/PRESUPUESTO!$F$13 -> 0.05
B39: Estampilla pro hospitales | D39: % | E39: NA | F39: 1 | G39: 0.01 | H39: =G39*PRESUPUESTO!$F$13 -> 262642.6 | I39: =AU!H39/PRESUPUESTO!$F$13 -> 0.01
B40: Estampilla pro cultura | D40: % | E40: NA | F40: 1 | G40: 0.015 | H40: =G40*PRESUPUESTO!$F$13 -> 393963.9 | I40: =AU!H40/PRESUPUESTO!$F$13 -> 0.015
B41: Estampilla adulto mayor | D41: % | E41: NA | F41: 1 | G41: 0.04 | H41: =G41*PRESUPUESTO!$F$13 -> 1050570.4 | I41: =AU!H41/PRESUPUESTO!$F$13 -> 0.04
B42: Estampilla pro deporte | D42: % | E42: NA | F42: 1 | G42: 0.025 | H42: =G42*PRESUPUESTO!$F$13 -> 656606.5 | I42: =AU!H42/PRESUPUESTO!$F$13 -> 0.025
B43: ICA | D43: % | E43: NA | F43: 1 | G43: 0.0077 | H43: =G43*PRESUPUESTO!$F$13 -> 202234.8
B44: Impuesto de industria y comercio | D44: % | E44: NA | F44: 1 | G44: 0.01 | H44: =G44*PRESUPUESTO!$F$13 -> 262642.6 | I44: =AU!H44/PRESUPUESTO!$F$13 -> 0.01
B45: Poliza | D45: % | E45: NA | F45: 1 | G45: 0.0066 | H45: =G45*PRESUPUESTO!$F$13 -> 173344.12 | I45: =AU!H45/PRESUPUESTO!$F$13 -> 0.0066
B46: TOTAL GASTOS LEGALES, JURIDICOS Y TRIBUTARIOS | H46: =SUM(H38:H45) -> 4315217.9 | I46: =SUM(I38:I45) -> 0.1566 | Q46: =SUM(I38:I45) -> 0.1566 | R46: =+I46+#REF!+I33+I24 -> #REF!
B48: RESUMEN DE LOS COSTOS POR ADMINISTRACION
B49: DESCRIPCION | H49: VR. TOTAL | I49: PORCENTAJE
...
