Workbook
Name _______________EST1: #REF!
Name _______________EST1: #REF!
Name _______________EST1: #REF!
Name _______________EST1: #REF!
Name _______________EST10: #REF!
Name _______________EST10: #REF!
Name _______________EST11: #REF!
Name _______________EST11: #REF!
Name _______________EST12: #REF!
Name _______________EST12: #REF!
Name _______________EST13: #REF!
Name _______________EST13: #REF!
Name _______________EST14: #REF!
Name _______________EST14: #REF!
Name _______________EST15: #REF!
Name _______________EST15: #REF!
Name _______________EST16: #REF!
Name _______________EST16: #REF!
Name _______________EST17: #REF!
Name _______________EST17: #REF!
Name _______________EST18: #REF!
Name _______________EST18: #REF!
Name _______________EST19: #REF!
Name _______________EST19: #REF!
Name _______________EST2: #REF!
Name _______________EST2: #REF!
Name _______________EST3: #REF!
Name _______________EST3: #REF!
Name _______________EST4: #REF!
Name _______________EST4: #REF!
Name _______________EST5: #REF!
Name _______________EST5: #REF!
Name _______________EST6: #REF!
Name _______________EST6: #REF!
Name _______________EST7: #REF!
Name _______________EST7: #REF!
Name _______________EST8: #REF!
Name _______________EST8: #REF!
Name _______________EST9: #REF!
Name _______________EST9: #REF!
Name _______________EXC1: #REF!
Name _______________EXC1: #REF!
Name _______________EXC10: #REF!
Name _______________EXC10: #REF!
Name _______________EXC11: #REF!
Name _______________EXC11: #REF!
Name _______________EXC12: #REF!
Name _______________EXC12: #REF!
Name _______________EXC2: #REF!
Name _______________EXC2: #REF!
Name _______________EXC3: #REF!
Name _______________EXC3: #REF!
Name _______________EXC4: #REF!
Name _______________EXC4: #REF!
Name _______________EXC5: #REF!
Name _______________EXC5: #REF!
Name _______________EXC6: #REF!
Name _______________EXC6: #REF!
Name _______________EXC7: #REF!
Name _______________EXC7: #REF!

Sheet Factor Multiplicador
A3: DESGLOCE ELEMENTOS DEL FACTOR MULTIPLICADOR
A6: 1 | B6: SALARIO BASE | C6: 100
A7: 2 | B7: PRESTACIONES SOCIALES, SEGURIDAD SOCIAL Y PARAFISCALES Y OTROS | C7: =SUM(C8:C19) -> 59.24166
A8: 2.1 | B8: Cesantia | C8: =ROUND(1/12*100,5) -> 8.33333
A9: 2.2 | B9: Interes de Cesantia | C9: 1
A10: 2.3 | B10: Prima de Servicios | C10: =ROUND(1/12*100,5) -> 8.33333
A11: 2.4 | B11: Vacaciones | C11: 5.68
A12: 2.5 | B12: Seguridad social (salud) | C12: 8
A13: 2.6 | B13: Seguridad social (pension) | C13: 10.875
A14: 2.7 | B14: Aseguradora de Riesgos profesionales (ARL) | C14: 6.96
A15: 2.8 | B15: Caja de Compensacion (Subsidio Familiar) | C15: 4
A16: 2.9 | B16: ICBF | C16: 3
A17: 2.10 | B17: SENA | C17: 2
A18: 2.11 | B18: Subsidio de Transporte | C18: 0.46
A19: 2.12 | B19: Dotación | C19: 0.6
A20: 3 | B20: COSTOS OFICINA DEL CONSULTOR | C20: =SUM(C21:C33) -> 16
A21: 3.1 | B21: Arriendo de oficina, administración y servicios públicos | C21: 2
A22: 3.2 | B22: Papeleria oficina consultor | C22: 1 | D22: este item se repite en los costos operativos ( revisar) | H22: Se retiro de los costos operativos, solo se estima desde el factor multiplicador
A23: 3.3 | B23: Personal admin no facturado | C23: 2
A24: 3.4 | B24: Personal profesional no facturado | C24: 2
A25: 3.5 | B25: Asesoría legal, tributaria y médica | C25: 1
A26: 3.6 | B26: Gastos de representación | C26: 1
A27: 3.7 | B27: Gastos e intereses por financiación | C27: 1
A28: 3.8 | B28: Equipos y mantenimiento oficina | C28: 1
A29: 3.9 | B29: Seguros de oficina del consultor | C29: 1
A30: 3.10 | B30: Correos | C30: 1
A31: 3.11 | B31: Documentacion técnica | C31: 1
A32: 3.12 | B32: Costos propuestas | C32: 1
A33: 3.13 | B33: Equipo de mitigación ambiental y social | C33: 1
A34: 4 | B34: COSTOS DE PERFECCIONAMIENTO | C34: =SUM(C35:C43) -> 15.2812
A35: 4.1 | B35: Timbre | C35: 2.1437
A36: 4.2 | B36: Publicacion en el diario oficial | C36: 0.2001
A37: 4.3 | B37: Retefuente | C37: 2.8583
A38: 4.4 | B38: ReteICA | C38: 1.4291
A39: 4.5 | B39: Estampilla Universidad Distrital Fco José de Caldas | C39: 1.1
A40: 4.6 | B40: Estampilla Pro Cultura de Bogotá | C40: 5
A41: 4.7 | B41: Estampilla Pro Personas Mayores | C41: 2
A42: 4.8 | B42: Estampilla 50 años Universidad Pedagógica Nal. | C42: 0.5
A43: 4.9 | B43: Polizas | C43: 0.05
A44: 5 | B44: IMPREVISTOS 3% AL 1% de (1+2+3) | C44: =ROUND(2%*(C6+C7+C20),5) -> 3.50483
...

Sheet Tarifas de Personal
A1: TARIFAS DE PERSONAL A VINCULAR EN EL PROYECTO PRECIOS ACTUALIZADOS AL AÑO 2020
A2: TARIFA DE PERSONAL SEGÚN ESPECIALIDAD Y/0 CARGO | B2: TIPO | C2: CATEGORÍA | D2: TOPE MÁXIMO SALARIO | F2: SOLO PARA ESTUDIOS Y DISEÑOS E INTERV DE EYD
A3: PROFESIONAL ESPECIALIZADO CATEGORIA 1 | B3: PROFESIONAL | C3: 1 | D3: 11894000 | F3: Presupuesto. Oficial Estudios y Diseños DESDE SMMLV | G3: HASTA SMMLV | H3: CATEGORIAS PROFESIONALES
A4: PROFESIONAL ESPECIALIZADO CATEGORIA 2 | B4: PROFESIONAL | C4: 2 | D4: 9065000 | H4: DIRECTOR | I4: COORDINADOR/SUPERVISOR/ ESPECIALISTA | J4: ESPECIALISTA
A5: PROFESIONAL ESPECIALIZADO CATEGORIA 3 | B5: PROFESIONAL | C5: 3 | D5: 7650000 | F5: 0 | G5: 2305 | H5: 4 | I5: 6 | J5: 4
A6: PROFESIONAL ESPECIALIZADO CATEGORIA 4 | B6: PROFESIONAL | C6: 4 | D6: 6514000 | F6: 2306 | G6: 4611 | H6: 3 | I6: 5 | J6: 3
A7: PROFESIONAL ESPECIALIZADO CATEGORIA 5 | B7: PROFESIONAL | C7: 5 | D7: 5875000 | F7: 4612 | G7: 11528 | H7: 3 | I7: 4 | J7: 3
A8: PROFESIONAL ESPECIALIZADO CATEGORIA 6 | B8: PROFESIONAL | C8: 6 | D8: 5240000 | F8: 11529 | G8: En adelante | H8: 2 | I8: 4 | J8: 3
A9: PROFESIONAL ESPECIALIZADO CATEGORIA 7 | B9: PROFESIONAL | C9: 7 | D9: 3961000
A10: PROFESIONAL ESPECIALIZADO CATEGORIA 8 | B10: PROFESIONAL | C10: 8 | D10: 3738000
A11: TARIFA MES - PERSONAL TÉCNICO-TECNÓLOGO EN ÁREAS DE INGENIERÍA (No incluye Factor de Prestaciones) | B11: TÉCNICO | C11: 9 | D11: 2452000
A12: TARIFA MES - PERSONAL TÉCNICO - AUXILIAR DE INGENIERÍA | B12: TÉCNICO | C12: 10 | D12: 2155000
A13: TARIFA MES - PERSONAL TÉCNICO - DIBUJANTE 1 | B13: TÉCNICO | C13: 11 | D13: 2260000
A14: TARIFA MES - PERSONAL TÉCNICO - DIBUJANTE 2 | B14: TÉCNICO | C14: 12 | D14: 1826000
A15: TARIFA MES - PERSONAL TÉCNICO - TOPÓGRAFO INSPECTOR NO INCL. PRESTACIONES | B15: TÉCNICO | C15: 13 | D15: 2555000
A16: TARIFA MES - PERSONAL TÉCNICO - LABORATORISTA INSPECTOR | B16: TÉCNICO | C16: 14 | D16: 2264000
A17: TARIFA MES - PERSONAL TÉCNICO - LABORATORISTA AUXILIAR | B17: TÉCNICO | C17: 15 | D17: 1584000
A18: TARIFA MES - PERSONAL TÉCNICO - OPERADOR EQUIPO PERFORACIÓN | B18: TÉCNICO | C18: 16 | D18: 2965740
A19: TARIFA MES - PERSONAL TÉCNICO - OPERADOR AUXILIAR DE EQUIPO | B19: TÉCNICO | C19: 17 | D19: 2145589
A20: TARIFA MES - PERSONAL TÉCNICO - INSPECTOR 1 | B20: TÉCNICO | C20: 18 | D20: 1859000
... A43: TARIFA MES - PERSONAL DE OBRA - MAESTRO DE OBRA - HORARIO NOCTURNO - NO INCLUYE PRESTACIONES | B43: AUXILIAR | C43: 41 | D43: 3555102
A46: ALQUILER CARPA VESTIER 2.0m x 2.0m CON ESTRUCTURA, TECHO Y LATERALES EN LONA. | B46: SERVICIOS | C46: UN/MES | D46: 86344
A47: ALQUILER MES - ARRIENDO OFICINA INCL. ADMINISTRACIÓN, SERVICIOS PÚBLICOS, COMUNICACIONES | B47: SERVICIOS | C47: M2/MS | D47: 29634
A48: ALQUILER MES - CAMPAMENTOS INCL. SERVICIOS PÚBLICOS PROVISIONALES | B48: SERVICIOS | C48: M2/MS | D48: 11956
A49: TARIFA GLOBAL - GASTOS OFICINA (PAPELERIA, FOTOCOPIAS Y OTROS) | B49: SERVICIOS | C49: GLB/MS | D49: 783688
A50: ALQUILER MES - LABORATORIO - Estudios (Equipo completo) | B50: SERVICIOS | C50: MES | D50: 5289000
A51: ALQUILER MES - LABORATORIO - Interventorias (Equipo completo) | B51: SERVICIOS | C51: MES | D51: 9381000
A52: ALQUILER MES - EQUIPO DE TOPOGRAFÍA (Incluye tránsito, nivel y elementos complementarios). | B52: SERVICIOS | C52: MES | D52: 3391000
A53: ALQUILER MES - PLOTTER | B53: SERVICIOS | C53: MES | D53: 1054000
A54: ALQUILER MES - DISTANCIOMETRO (Incluyendo tránsito y Estación Total) - Capacidad de Lectura hasta 1500m | B54: SERVICIOS | C54: MES | D54: 6625000
A55: ALQUILER MES - CAMPERO PICK-UP, CAMIONETA DE 1300-2000cc - TARIFA PLENA | B55: SERVICIOS | C55: MES | D55: 6004000
A56: ALQUILER DE PORTATIL. CARACTERÍSTICAS: Procesador intel, mínimo Core i3 4005U, celeron o similar, Memoria RAM de 4 GB ( 2 x 2048 MB)Disco duro de 500gb a 7200 rpmPantalla LED HP BrightView widescreen de alta definición con 35,6 cm (14") o similar, HD INTEL GRAPHIC HD4400UNIDAD DE DVD QUEMADORBLUETOOTH | B56: SERVICIOS | C56: UN/MES | D56: 128520
A57: TARIFA MES - EDICIÓN DE INFORME MENSUAL DE CONSULTORÍA. Incluye 4 tapas plastificadas tamaño carta color blanco, con 6 tornillos, hojas de papel bond tamaño carta 75 gramos, (200 folios aproximadamente) | B57: SERVICIOS | C57: UN/MES | D57: 181000
A58: TARIFA MES - EDICIÓN DE PLANOS DE CONSULTORÍA. Incluye planos en 1/2 pliego en papel Bond, (100 folios aproximadamente) | B58: SERVICIOS | C58: UNIDAD | D58: 650000
A59: Fuente: Tarifas de Consultorías según precios de Mercado IDU - Tomado de: https://www.idu.gov.co/web/content/7236 - Actualizado con IPC - DANE 2013- 2019
A60: Calculos UAESP Julio de 2020

Sheet Presupuesto
B2: ÍTEM | C2: DESCRIPCIÓN | D2: UN | E2: CANT | F2: Valor Unitario | G2: Valor total
B3: 1 | C3: Desmantelamiento de líneas de alambre del cerramiento existente | D3: m | E3: 100 | F3: =APU!E59 -> 13552 | G3: =E3*F3 -> 1355200
B4: 2 | C4: Desmantelamiento de postes del cerramiento existente | D4: un | E4: =ROUNDUP(E3/4,0) -> 25 | F4: =APU!E108 -> 29161 | G4: =E4*F4 -> 729025
B5: 3 | C5: Topografía | D5: m | E5: 1257 | F5: =APU!E162 -> 5297 | G5: =E5*F5 -> 6658329
B6: 4 | C6: Mojon | D6: un | E6: 4 | F6: =APU!E212 -> 307722 | G6: =E6*F6 -> 1230888
B7: 5 | C7: Rocería | D7: m | E7: =E5 -> 1257 | F7: =APU!E253 -> 1984 | G7: =E7*F7 -> 2493888
B8: 6 | C8: Suministro e instalación de Poste de plastico reciclado, h=2.5m (sección de 11×11cm, para 9 hilos) | D8: un | E8: =ROUNDUP(E5/1.6*1.05,0) -> 825 | F8: =APU!E298 -> 155415 | G8: =E8*F8 -> 128217375
B9: 7 | C9: Refuerzo esquinas en postes de concreto | D9: un | E9: 25 | F9: =APU!E345 -> 287180 | G9: =E9*F9 -> 7179500
B10: 8 | C10: Suministro e instalación de alambre de púas x 500 mts. son 9 líneas calibre 14 | D10: m | E10: =E5 -> 1257 | F10: =APU!E388 -> 13362 | G10: =E10*F10 -> 16796034
B11: 9 | C11: Templete en postes de concreto | D11: un | E11: =ROUNDUP(E10/70*1.05,0) -> 19 | F11: =APU!E430 -> 311706 | G11: =E11*F11 -> 5922414
B12: 10 | C12: Broche | D12: un | E12: 2 | F12: =APU!E473 -> 907194 | G12: =E12*F12 -> 1814388
B13: 11 | C13: Bodega | D13: mes | E13: 1.5 | F13: =APU!E514 -> 2000000 | G13: =E13*F13 -> 3000000
B15: 12 | C15: COSTO DIRECTO | G15: =ROUND(SUM(G3:G13),0) -> 175397041
B16: 13 | C16: ADMINISTRACIÓN | F16: =[1]AIU!H44 -> 0.19508165 | G16: =ROUND($G$15*F16,0) -> 34216743
B17: 14 | C17: IMPREVISTOS | F17: =[1]AIU!H45 -> 0.02 | G17: =ROUND($G$15*F17,0) -> 3507941
B18: 15 | C18: UTILIDADES | F18: =[1]AIU!H46 -> 0.05 | G18: =ROUND($G$15*F18,0) -> 8769852
B19: 16 | C19: IVA (19%) SOBRE UTILIDAD (5%) | F19: 0.19 | G19: =ROUND($G$18*F19,0) -> 1666272
B20: 17 | C20: TOTAL | G20: =SUM(G15:G19) -> 223557849
C23: Elaboró: Andres Castañeda / Contratista – SDF

Sheet APU
A7: ITEM | B7: 1 | C7: =VLOOKUP(B7,Presupuesto!$B$3:$D$14,2,TRUE) -> Desmantelamiento de líneas de alambre del cerramiento existente | E7: =VLOOKUP(B7,Presupuesto!$B$3:$D$14,3,TRUE) -> m
A8: 1. EQUIPO
A9: Descripción | B9: U.M | C9: Rendimiento | D9: Vr. Unitario | E9: Vr. Total
A10: Herramienta menor | B10: Día | C10: 0.05 | D10: =E44 -> 6832.52 | E10: =C10*D10 -> 341.626
D11: =C11*E44 -> 0 | E11: =C11*D11 -> 0
E12: =C12*D12 -> 0
E13: =C13*D13 -> 0
E14: =C14*D14 -> 0
E15: =C15*D15 -> 0
D16: SUBTOTAL | E16: =ROUND(SUM(E10:E15),0) -> 342
A17: 2. MATERIALES
A18: Descripción | B18: U.M | C18: Cantidad | D18: Vr. Unitario | E18: Vr. Total
E19: =C19*D19 -> 0
E20: =C20*D20 -> 0
E21: =C21*D21 -> 0
E22: =C22*D22 -> 0
E23: =C23*D23 -> 0
E24: =C24*D24 -> 0
E25: =C25*D25 -> 0
D26: SUBTOTAL | E26: =SUM(E19:E25) -> 0
A27: 3. TRANSPORTE
A28: Descripción | B28: U.M | C28: Rendimiento | D28: Vr. Unitario | E28: Vr. Total
A29: ALQUILER DE VEHICULO: CAMPERO, PICK-UP, CAMIONETA, CAMION O SIMILAR DE 1300cc A 2000cc DE CILINDRADA, MODELO 2014 A 2011. 75% DE LA TARIFA ESTABLECIDA. INCLUYE TODOS LOS COSTOS DE OPERACIÓN Y MANTENIMIENTO EXCEPTO EL SALARIO DEL CONDUCTOR. | B29: mes | C29: 0.00066666667 | D29: 8352000 | E29: =C29*D29 -> 5568 | G29: 9165
E30: =C30*D30 -> 0
E31: =C31*D31 -> 0
D34: SUBTOTAL | E34: =SUM(E29:E32) -> 5568
A35: 4. MANO DE OBRA
A36: Descripción | B36: U.M | C36: Rendimiento | D36: Vr. Jornal y Prestac. | E36: Vr. Total
A37: =CUADRILLAS!A19 -> CUADRILLA 2 (2 ayudantes) | B37: dia | C37: 0.02 | D37: =VLOOKUP(A37,CUADRILLAS!$A$13:$J$51,10,FALSE) -> 170813 | E37: =C37*D37 -> 3416.26
A38: =CUADRILLAS!A19 -> CUADRILLA 2 (2 ayudantes) | B38: dia | C38: =C37 -> 0.02 | D38: =VLOOKUP(A38,CUADRILLAS!$A$13:$J$51,10,FALSE) -> 170813 | E38: =C38*D38 -> 3416.26
E39: =C39*D39 -> 0
D44: SUBTOTAL | E44: =SUM(E37:E43) -> 6832.52
A45: 5. EPP Plan Bioseguridad
A46: Descripción | B46: U.M | C46: Cantidad | D46: Vr. Unitario | E46: Vr. Total
A47: OVEROL EN DRILL DOS PIEZAS, CAMISA Y PANTALÓN | B47: un | C47: 0.0029508672 | D47: 71019 | E47: =D47*C47 -> 209.56764 | G47: 9286
A48: BOTA DE CAUCHO, CINTA AMARILLA, PUNTERA Y PLANTILLA EN ACERO | B48: Par | C48: =$C$47 -> 0.0029508672 | D48: 130000 | E48: =D48*C48 -> 383.61273 | G48: 7823
A49: GAFAS DE SEGURIDAD | B49: un | C49: =$C$47 -> 0.0029508672 | D49: 7735 | E49: =D49*C49 -> 22.824958 | G49: 7577
A50: CASCO DE SEGURIDAD DIELECTRICO | B50: un | C50: =$C$47 -> 0.0029508672 | D50: 24000 | E50: =D50*C50 -> 70.820812 | G50: 7580
A51: CAPA IMPERMEABLE CALIBRE 14 - 16 | B51: un | C51: =$C$47 -> 0.0029508672 | D51: 30821 | E51: =D51*C51 -> 90.948677 | G51: 30821
A52: GUANTE CARNAZA REFORZADO EN CARNAZA LARGO | B52: un | C52: =$C$47 -> 0.0029508672 | D52: 10591 | E52: =D52*C52 -> 31.252634 | G52: 7846
...

Sheet AIU
A1: SUBDIRECCION DE DISPOSICION FINAL
A3: FECHA DE DILIGENCIAMIENTO | C3: 44379
F4: OBJETO DEL CONTRATO
F5: CONSTRUCCIÓN DE CERRAMIENTO PERIMETRAL DE PREDIOS DE LA UAESP UBICADOS EN MOCHUELO ALTO Y BAJO. | K5: =A17 -> SUBTOTAL COSTOS MENSUALES DE PERSONAL | L5: =H17 -> 19768676
A6: COSTO DIRECTO ESTIMADO DE OBRA (CD) | C6: =Presupuesto!G15 -> 175397041 | K6: =A21 -> SUBTOTAL GASTOS OPERACIONALES MENSUALES | L6: =H21 -> 2351064
A7: TERMINO ESTIMADO DE EJECUCIÓN DE OBRA | C7: 1.5 | D7: MESES | K7: =A33 -> SUBTOTAL IMPUESTOS | L7: =H33 -> 17872958
A8: AJUSTES POR CAMBIO DE VIGENCIA | C8: N/A | K8: =A41 -> SUBTOTAL GARANTÍAS | L8: =H41 -> 301665
L9: =SUM(L5:L8) -> 40294363
A10: A. ADMINISTRACIÓN | L10: =L9/C6 -> 0.22973228 | M10: =L10+H44+H45 -> 0.29973228
A11: 1. COSTOS MENSUALES DE PERSONAL
A12: # | B12: CARGO | C12: CATEGORÍA | D12: DEDICACIÓN MES | F12: TOPE SALARIO | G12: FACTOR PRESTACIONAL | H12: SALARIO + PRESTACIONES
A13: A | D13: B | F13: C | G13: D | H13: E = A * B * C * D
A14: 1.1 PERSONAL TÉCNICO Y PERSONAL AUXILIAR TÉCNICO
A15: 1 | B15: Ingeniero Ambiental | D15: 1.5 | F15: 4523000 | G15: 1.4569 | H15: =ROUND(D15*F15*G15,0) -> 9884338
A16: 2 | B16: SISO | D16: 1.5 | F16: 4523000 | G16: 1.4569 | H16: =ROUND(D16*F16*G16,0) -> 9884338
A17: SUBTOTAL COSTOS MENSUALES DE PERSONAL | H17: =SUM(H15:H16) -> 19768676
A19: 2. GASTOS OPERACIONALES MENSUALES | C19: AREA (M2) | D19: MES | F19: DEDICACIÓN X MES | G19: COSTO ($/M2.MES) | H19: VALOR ($)
A20: TARIFA GLOBAL - GASTOS OFICINA (PAPELERIA, FOTOCOPIAS Y OTROS) | C20: 224.8 | D20: 3 | F20: 1 | G20: 783688 | H20: =ROUND(F20*G20*D20,0) -> 2351064
A21: SUBTOTAL GASTOS OPERACIONALES MENSUALES | H21: =SUM(H20:H20) -> 2351064
A23: 3. IMPUESTOS Y GARANTÍAS
A24: 3.1 IMPUESTOS
A25: DESCRIPCIÓN | G25: IMPUESTO | H25: VALOR ($)
A26: ICA | G26: =6.9/1000 -> 0.0069 | H26: =ROUND(C6*6.9/1000,0) -> 1210240
A27: CUATRO POR MIL | G27: 0.004 | H27: =ROUND(G27*$C$6,0) -> 701588
A28: ESTAMPILLA PRO CULTURA | G28: 0.005 | H28: =ROUND(G28*$C$6,0) -> 876985
A29: ESTAMPILLA PRO PERSONAS MAYORES (ACUERDO 645 DE 2016) | G29: 0.02 | H29: =ROUND(G29*$C$6,0) -> 3507941
A30: ESTAMPILLA UNIVERSIDAD DISTRITAL | G30: 0.011 | H30: =ROUND(G30*$C$6,0) -> 1929367
A31: ESTAMPILLA CINCUENTA AÑOS UNIVERSIDAD PEDAGÓGICA (ACUERDO 568 DE 2014) | G31: 0.005 | H31: =ROUND(G31*$C$6,0) -> 876985
A32: CONTRIBUCION ESPECIAL | G32: 0.05 | H32: =ROUND(G32*$C$6,0) -> 8769852
A33: SUBTOTAL IMPUESTOS | H33: =SUM(H26:H32) -> 17872958
A35: 3.2 GARANTIAS
A36: DESCRIPCIÓN | C36: VR. BASE | D36: % ASEGURADO | F36: VIGENCIA AMPARO (MESES) | G36: TASA ASEGURADORA | H36: VALOR ($)
A37: CUMPLIMIENTO DEL CONTRATO | C37: =$C$6 -> 175397041 | D37: 0.1 | F37: =C7+4 -> 5.5 | G37: 0.002 | H37: =ROUND((((((C37*D37)*G37)/12)*F37)+1250)*1.16,0) -> 20101
A38: SALARIOS Y PRESTACIONES SOCIALES E INDEMNIZACIONES | C38: =$C$6 -> 175397041 | D38: 0.05 | F38: =$C$7+36 -> 37.5 | G38: 0.002 | H38: =ROUND((((((C38*D38)*G38)/12)*F38)+1250)*1.16,0) -> 65031
A39: ESTABILIDAD Y CALIDAD DE LAS OBRAS | C39: =$C$6 -> 175397041 | D39: 0.2 | F39: 24 | G39: 0.002 | H39: =ROUND((((((C39*D39)*G39)/12)*F39)+1250)*1.16,0) -> 164218
A40: SEGURO DE RESPONSABILIDAD CIVIL EXTRA-CONTRACTUAL | C40: =$C$6 -> 175397041 | D40: 200 SMLMV | F40: =$C$7 -> 1.5 | G40: 0.002 | H40: =ROUND((((((C40)*G40)/12)*F40)+1250)*1.16,0) -> 52315
A41: SUBTOTAL GARANTÍAS | H41: =ROUND(SUM(H37:H40),0) -> 301665
A43: A. ADMINISTRACIÓN | H43: =(H17+H21+H33+H41)/C6 -> 0.22973228
A44: I. IMPREVISTOS | H44: 0.02
A45: U. UTILIDAD | H45: 0.05
...

Sheet CUADRILLAS
A1: SMMLV | B1: 1423500
A2: SM - DIA | B2: =+ROUND(B1/30,0) -> 47450
A3: SM - HORA | B3: =+ROUND(B2/8,0) -> 5931
A4: PRESTACIONES | B4: 0.7 | E4: MES | F4: DIA | G4: HORA
A5: DOTACION | B5: 0.1 | D5: OFICIAL | E5: =ROUND(+(B1*1.5),0) -> 2135250 | F5: =+ROUND(E5/30,0) -> 71175 | G5: =+ROUND(F5/8,0) -> 8897
D6: AYUDANTE | E6: =ROUND(+(B1*1),0) -> 1423500 | F6: =+ROUND(E6/30,0) -> 47450 | G6: =+ROUND(F6/8,0) -> 5931
D7: ELECTRICISTA | E7: =ROUND(+(B1*1.75),0) -> 2491125 | F7: =+ROUND(E7/30,0) -> 83038 | G7: =+ROUND(F7/8,0) -> 10380
D8: CARPINTERO | E8: =ROUND(+(B1*1.75),0) -> 2491125 | F8: =+ROUND(E8/30,0) -> 83038 | G8: =+ROUND(F8/8,0) -> 10380
D9: ORNAMENTADOR | E9: =+E8 -> 2491125 | F9: =+ROUND(E9/30,0) -> 83038 | G9: =+ROUND(F9/8,0) -> 10380
D10: TOPÓGRAFO | E10: =ROUND(+(B1*2.66),0) -> 3786510 | F10: =+ROUND(E10/30,0) -> 126217 | G10: =+ROUND(F10/8,0) -> 15777
D11: CADENERO | E11: =ROUND(+(B1*1.65),0) -> 2348775 | F11: =+ROUND(E11/30,0) -> 78293 | G11: =+ROUND(F11/8,0) -> 9787
B13: OFICIAL | C13: AYUDANTE | D13: AYUDANTE | E13: AYUDANTE | F13: AYUDANTE | G13: JORNAL | H13: PRESTACIONES | I13: DOTACION | J13: VALOR TOTAL CUADRILLA
B14: 0 | D14: 1 | E14: 0 | F14: 0 | H14: 0.7 | I14: 0.1
A15: CUADRILLA 1 (1 ayudante) | B15: =$G$5*B14 -> 0 | C15: =$G$6*C14 -> 0 | D15: =$G$6*D14 -> 5931 | E15: =$G$6*E14 -> 0 | F15: =$G$6*F14 -> 0 | G15: =ROUND(SUM(B15:F15)*8,0) -> 47448 | H15: =+ROUND(G15*H14,0) -> 33214 | I15: =+ROUND(G15*I14,0) -> 4745 | J15: =+ROUND(G15+H15+I15,0) -> 85407
B17: OFICIAL | C17: AYUDANTE | D17: AYUDANTE | E17: AYUDANTE | F17: AYUDANTE | G17: JORNAL | H17: PRESTACIONES | I17: DOTACION | J17: VALOR TOTAL CUADRILLA
B18: 0 | C18: 1 | D18: 1 | E18: 0 | F18: 0 | H18: 0.7 | I18: 0.1
A19: CUADRILLA 2 (2 ayudantes) | B19: =$G$5*B18 -> 0 | C19: =$G$6*C18 -> 5931 | D19: =$G$6*D18 -> 5931 | E19: =$G$6*E18 -> 0 | F19: =$G$6*F18 -> 0 | G19: =ROUND(SUM(B19:F19)*8,0) -> 94896 | H19: =+ROUND(G19*H18,0) -> 66427 | I19: =+ROUND(G19*I18,0) -> 9490 | J19: =+ROUND(G19+H19+I19,0) -> 170813
B21: OFICIAL | C21: AYUDANTE | D21: AYUDANTE | E21: AYUDANTE | F21: AYUDANTE | G21: JORNAL | H21: PRESTACIONES | I21: DOTACION | J21: VALOR TOTAL CUADRILLA
B22: 1 | C22: 1 | D22: 0 | E22: 0 | F22: 0 | H22: 0.7 | I22: 0.1
A23: CUADRILLA 3 ( 1 Oficial + 1 Ayudante) | B23: =$G$5*B22 -> 8897 | C23: =$G$6*C22 -> 5931 | D23: =$G$6*D22 -> 0 | E23: =$G$6*E22 -> 0 | F23: =$G$6*F22 -> 0 | G23: =ROUND(SUM(B23:F23)*8,0) -> 118624 | H23: =+ROUND(G23*H22,0) -> 83037 | I23: =+ROUND(G23*I22,0) -> 11862 | J23: =+ROUND(G23+H23+I23,0) -> 213523
B25: OFICIAL | C25: AYUDANTE | D25: AYUDANTE | E25: AYUDANTE | F25: AYUDANTE | G25: =+G17 -> JORNAL | H25: PRESTACIONES | I25: DOTACION | J25: VALOR TOTAL CUADRILLA
B26: 1 | C26: 1 | D26: 1 | E26: 1 | F26: 0 | H26: 0.7 | I26: 0.1
A27: CUADRILLA 4 (1 Oficial + 2 Ayudantes) | B27: =$G$5*B26 -> 8897 | C27: =$G$6*C26 -> 5931 | D27: =$G$6*D26 -> 5931 | E27: =$G$6*E26 -> 5931 | F27: =$G$6*F26 -> 0 | G27: =ROUND(SUM(B27:F27)*8,0) -> 213520 | H27: =+ROUND(G27*H26,0) -> 149464 | I27: =+ROUND(G27*I26,0) -> 21352 | J27: =+ROUND(G27+H27+I27,0) -> 384336
B29: OFICIAL | C29: AYUDANTE | D29: AYUDANTE | E29: AYUDANTE | F29: AYUDANTE | G29: =+G17 -> JORNAL | H29: PRESTACIONES | I29: DOTACION | J29: VALOR TOTAL CUADRILLA
B30: 1 | C30: 1 | D30: 1 | E30: 1 | F30: 0 | H30: 0.7 | I30: 0.1
A31: CUADRILLA 5 (1 Oficial + 3 ayudantes) | B31: =$G$5*B30 -> 8897 | C31: =$G$6*C30 -> 5931 | D31: =$G$6*D30 -> 5931 | E31: =$G$6*E30 -> 5931 | F31: =$G$6*F30 -> 0 | G31: =ROUND(SUM(B31:F31)*8,0) -> 213520 | H31: =+ROUND(G31*H30,0) -> 149464 | I31: =+ROUND(G31*I30,0) -> 21352 | J31: =+ROUND(G31+H31+I31,0) -> 384336
B33: OFICIAL | C33: AYUDANTE | D33: AYUDANTE | E33: AYUDANTE | F33: AYUDANTE | G33: =+G17 -> JORNAL | H33: PRESTACIONES | I33: DOTACION | J33: VALOR TOTAL CUADRILLA
B34: 1 | C34: 1 | D34: 1 | E34: 1 | F34: 1 | H34: 0.7 | I34: 0.1
A35: CUADRILLA 6 (1 Oficial + 4 ayudantes) | B35: =$G$5*B34 -> 8897 | C35: =$G$6*C34 -> 5931 | D35: =$G$6*D34 -> 5931 | E35: =$G$6*E34 -> 5931 | F35: =$G$6*F34 -> 5931 | G35: =ROUND(SUM(B35:F35)*8,0) -> 260968 | H35: =+ROUND(G35*H34,0) -> 182678 | I35: =+ROUND(G35*I34,0) -> 26097 | J35: =+ROUND(G35+H35+I35,0) -> 469743
B37: =+D7 -> ELECTRICISTA | C37: AYUDANTE | D37: AYUDANTE | E37: AYUDANTE | F37: AYUDANTE | G37: =+G33 -> JORNAL | H37: PRESTACIONES | I37: DOTACION | J37: VALOR TOTAL CUADRILLA
B38: 1 | C38: 1 | D38: 1 | E38: 0 | F38: 0 | H38: 0.7 | I38: 0.1
A39: CUADRILLA 7 (1 Electricista + 2 ayudantes) | B39: =G7*B38 -> 10380 | C39: =$G$6*C38 -> 5931 | D39: =$G$6*D38 -> 5931 | E39: =$G$6*E38 -> 0 | F39: =$G$6*F38 -> 0 | G39: =ROUND(SUM(B39:F39)*8,0) -> 177936 | H39: =+ROUND(G39*H38,0) -> 124555 | I39: =+ROUND(G39*I38,0) -> 17794 | J39: =+ROUND(G39+H39+I39,0) -> 320285
B41: =+D8 -> CARPINTERO | C41: AYUDANTE | D41: AYUDANTE | E41: AYUDANTE | F41: AYUDANTE | G41: =+G37 -> JORNAL | H41: PRESTACIONES | I41: DOTACION | J41: VALOR TOTAL CUADRILLA
B42: 1 | C42: 1 | D42: 1 | E42: 0 | F42: 0 | H42: 0.7 | I42: 0.1
A43: CUADRILLA 8 (1 Ebanista + 2 Ayudantes) | B43: =G8*B42 -> 10380 | C43: =$G$6*C42 -> 5931 | D43: =$G$6*D42 -> 5931 | E43: =$G$6*E42 -> 0 | F43: =$G$6*F42 -> 0 | G43: =ROUND(SUM(B43:F43)*8,0) -> 177936 | H43: =+ROUND(G43*H42,0) -> 124555 | I43: =+ROUND(G43*I42,0) -> 17794 | J43: =+ROUND(G43+H43+I43,0) -> 320285
B45: ORNAMENTADOR | C45: AYUDANTE | D45: AYUDANTE | E45: AYUDANTE | F45: AYUDANTE | G45: =+G41 -> JORNAL | H45: PRESTACIONES | I45: DOTACION | J45: VALOR TOTAL CUADRILLA
B46: 1 | C46: 1 | D46: 1 | E46: 0 | F46: 0 | H46: 0.7 | I46: 0.1
A47: CUADRILLA 9 (1 Oficial - Ornamentador + 2 Ayudantes) | B47: =G9*B46 -> 10380 | C47: =$G$6*C46 -> 5931 | D47: =$G$6*D46 -> 5931 | E47: =$G$6*E46 -> 0 | F47: =$G$6*F46 -> 0 | G47: =ROUND(SUM(B47:F47)*8,0) -> 177936 | H47: =+ROUND(G47*H46,0) -> 124555 | I47: =+ROUND(G47*I46,0) -> 17794 | J47: =+ROUND(G47+H47+I47,0) -> 320285
B49: TOPOGRAFO | C49: CADENERO | D49: AYUDANTE | E49: AYUDANTE | F49: AYUDANTE | G49: JORNAL | H49: PRESTACIONES | I49: DOTACION | J49: VALOR TOTAL CUADRILLA
B50: 1 | C50: 1 | D50: 0 | E50: 0 | F50: 0 | H50: 0.7 | I50: 0.1
...
