Workbook
Name End_Use: [1]Hoja1!$D$1:$D$3

Sheet PRESUPUESTO Cubierta CALOTO
A1: CONTRATO No. 27 de 2020
A4: DATOS DEL CLIENTE
A6: RAZON SOCIAL: | C6: DIRECCIÓN EJECUTIVA DE ADMINISTRACIÓN JUDICIAL POPAYÁN-CAUCA
A8: "CONSULTORÍA PARA EL MANTENIMIENTO Y MEJORAMIENTO DE LA INFRAESTRUCTURA FÍSICA DE LOS INMUEBLES DE LA RAMA JUDICIAL EN EL CAUCA" | F8: FECHA | G8: FECHA
G9: 44096
A10: PERSONA CONTACTO: | C10: ARQ. DUVAN ARROYAVE CASTAÑEDA | F10: SERVICIO | G10: SERVICIO
A12: TELEFONO: | C12: 317 7390170 | F12: ELABORADO POR: | G12: ARQ. DUVAN ARROYAVE CASTAÑEDA | H12: FIRMA
A13: E-MAIL: | C13: proyectos.mariobelen@gmail.com
A14: NOMBRE DE PROYECTO: | C14: PALACIO DE JUSTICIA CALOTO | F14: AUTORIZADO POR: | G14: ARQ. MARIO BELEN CORREA | H14: FIRMA
A17: Presupuesto de Mantenimientos y Cambio de Cubierta para el Palacio de Justicia de Caloto, Cauca
A19: No. item | B19: Descripción | E19: Unidad | F19: Cantidad | G19: Valor Unitario | H19: Valor Parcial | I19: DIAS DE RENDIMIENTO | J19: PREDECESORAS | K19: semanas
A20: 1 | B20: Cubierta
A21: 1.1 | B21: Desmonte de cubierta y/o elementos componentes incluye trasiego hasta 25 ml a zona de acopio. | E21: M2 | F21: 564 | G21: ='APU 1.1'!AK47 -> 22698 | H21: =+F21*G21 -> 12801672 | I21: =+'APU 1.1'!AE30*'PRESUPUESTO Cubierta CALOTO'!F21 -> 205.48001 | J21: 1.2 | K21: 4
A22: 1.2 | B22: Mantenimiento de estructura en madera existente, incluye desmonte del elemento a reponer, reposicion con el nuevo elemento, instalacion y fijacion del elemento reemplazado. | E22: ML | F22: 358 | G22: ='APU 1.2'!AK47 -> 29859 | H22: =+F22*G22 -> 10689522
A23: 1.3 | B23: Pintura a 4 caras de perfil de madera existente,incluye pintura a recambios de perfiles en madera, incluye lijado, inmunizacion y pintura en esmalte. | E23: ML | F23: 1058 | G23: ='APU 1.3'!AK47 -> 9896 | H23: =+F23*G23 -> 10469968
A24: 1.4 | B24: Mantenimiento de la base de cubierta compuesta (multicapa artesanal) y de soporte existente apoyado sobre parales y soportes en madera, incluye el suministro de mortero 1:4, manto y cambio de malla galvanizada de reposicion, | E24: M2 | F24: 262.63016 | G24: ='APU 1.4'!AK48 -> 92581 | H24: =+F24*G24 -> 24314563
A25: 1.5 | B25: Suministro e instalacion de Canaletas en lamina galvanizada | E25: ML | F25: 24 | G25: ='APU 1.5'!AK48 -> 46501 | H25: =+F25*G25 -> 1116024
A26: 1.6 | B26: Suministro e instalacion de Caballetes en fibrocemento coordinada para cubierta tipo española | E26: ML | F26: 60.39 | G26: ='APU 1.6'!AK48 -> 33663 | H26: =+F26*G26 -> 2032908.6
A27: 1.7 | B27: Suministro e instalacion de cubierta tipo española en fibrocemento incluye accesorios de sujecion y fijaccion para anclaje a madera. | E27: M2 | F27: 564 | G27: ='APU 1.7'!AK48 -> 83502 | H27: =+F27*G27 -> 47095128
H29: =F29*G29 -> 0 | I29: =+F29*#REF! -> #REF! | J29: 1.3 | K29: 3
H30: =F30*G30 -> 0 | I30: =+F30*#REF! -> #REF! | J30: 1,7, 1,8 | K30: 3
G31: SUB TOTAL | H31: =SUM(H21:H30) -> 1.0851979e+08
A32: SUBTOTAL COSTOS DIRECTOS (A)+(C)+(D)+(E)+(F)+(G)+(I) | H32: =H31 -> 1.0851979e+08
A33: ADMINISTRACIÓN | G33: 0.16 | H33: =+G33*H32 -> 17363166
A34: IMPREVISTOS | G34: 0.04 | H34: =+G34*H32 -> 4340791.4
A35: UTILIDAD | G35: 0.05 | H35: =+G35*H32 -> 5425989.3
A36: IVA (19%) SOBRE LA UTILIDAD | G36: 0.19 | H36: =+G36*H35 -> 1030938
