Workbook
Name CapFinanciera1: #REF!
Name CapFinanciera2: #REF!
Name CapFinanciera3: #REF!
Name CapFinanciera4: #REF!
Name CapTecnica1: #REF!
Name CapTecnica2: #REF!
Name Experiencia1: #REF!
Name Experiencia2: #REF!
Name Experiencia3: #REF!
Name prueba: #REF!

Sheet Presupuesto Oficial
A2: INSTITUTO NACIONAL DE VIAS
A5: MANTENIMIENTO Y ADECUACION DE LA SEDE DEL INSTITUTO NACIONAL DE VIAS TERRITORIAL PUTUMAYO
A6: FORMULARIO 1
A7: PRESUPUESTO OFICIAL
A8: Código CCE-EICP-FM-25 Versión 1
A9: [Las Entidades Estatales deben usar el presente formulario para determinar el Presupuesto Oficial del Proceso de Contratación y solo pueden modificar o ajustar aquello que en este se permite expresamente] [El presente formulario aplica para los procesos de contratación que tengan como forma de pago precios unitarios. Tratándose de otras modalidades de precio, la Entidad debe ajustarlo cuando corresponde a: precio global, llave en mano, administración delegada, reembolso de gastos o cualquier otra forma de precio.]
A11: Adicionalmente, cuando el proceso de contratación es estructurado por precios unitarios, la Entidad debe aplicar las notas 1, 2 y 3 del presente formulario y las casillas de "Descripción", "Porcentaje" de la Administración, Imprevisto, Utilidad y total A.I.U. resaltadas en color amarillo. Tratándose de otras modalidades de precio, la Entidad puede o no configurar los mismos aspectos.
A13: Nº | B13: DESCRIPCIÓN | C13: UND. | D13: CANTIDAD | E13: VALOR UNITARIO SIN (AIU) | F13: VALOR TOTAL CON (AIU)
B15: EDIFICIO ADMINISTRATIVO
A16: =+'APU 2025'!A8 -> 1 | B16: =+'APU 2025'!B8 -> DIAGNÓSTICO RED ELÉCTRICA DE LA DT PARA CERTIFICACIÓN RETIE, incluye entrega de documento diagnosticored existente, memorias de nuevo diseño, presupuesto y planos nuevos. | C16: UND. | D16: 1 | E16: =+'APU 2025'!E8 -> 16380000 | F16: =+ROUND(E16*1.3,0) -> 21294000
A17: =+'APU 2025'!A14 -> 2 | B17: =+'APU 2025'!B14 -> SUMINISTRO E INSTALACIÓN DE TANQUE DE AGUA DE 5000 LTS | C17: UND. | D17: 1 | E17: =+'APU 2025'!E14 -> 4983750 | F17: =+ROUND(E17*1.3,0) -> 6478875
A18: =+'APU 2025'!A22 -> 3 | B18: =+'APU 2025'!B22 -> SUMINISTRO E INSTALACIÓN EQUIPO DE PRESIÓN HIDRONEUMATICO (BOMBA) DE 1HP PARA RED HIDRÁULICA DE LA DT | C18: UND. | D18: 1 | E18: =+'APU 2025'!E22 -> 4141923 | F18: =+ROUND(E18*1.3,0) -> 5384500
A19: =+'APU 2025'!A34 -> 4 | B19: =+'APU 2025'!B34 -> INSTALACIÓN ELÉCTRICA A 220V PARA EQUIPO DE PRESIÓN, DESDE LA CAJA DE BREAKERS HASTA EL SITIO DEL TANQUE. | C19: UND. | D19: 1 | E19: =+'APU 2025'!E34 -> 1343915 | F19: =+ROUND(E19*1.3,0) -> 1747090
A20: =+'APU 2025'!A44 -> 5 | B20: =+'APU 2025'!B44 -> INSTALACIÓN A 220V PARA PLANTA ELÉCTRICA , DESDE EL CONTADOR HASTA ELCUARTO DE LA PLANTA. | C20: UND. | D20: 1 | E20: =+'APU 2025'!E44 -> 4578050 | F20: =+ROUND(E20*1.3,0) -> 5951465
A21: =+'APU 2025'!A55 -> 6 | B21: =+'APU 2025'!B55 -> DESMONTE, TRASLADO E INSTALACIÓN DE DOS AIRES ACONDICIONADOS A UNA DISTANCIA DE 15ML, INCLUYE SUMINISTRO DE MATERIALES, TUBERÍA DE COBRE, ACCESORIOS, INSTALACIÓN ELÉCTRICA. | C21: UND. | D21: 1 | E21: =+'APU 2025'!E55 -> 2167947 | F21: =+ROUND(E21*1.3,0) -> 2818331
A22: =+'APU 2025'!A66 -> 7 | B22: =+'APU 2025'!B66 -> SUMINISTRO, REMPLAZO E INSTALACIÓN DE LUMINARIAS PARA LA DT | C22: UND. | D22: 1 | E22: =+'APU 2025'!E66 -> 767912 | F22: =+ROUND(E22*1.3,0) -> 998286
B24: TOTAL COSTO BASICO OBRAS DE MANTENIMIENTO SIN AIU | F24: =SUM(E16:E22) -> 34363497
B25: TOTAL COSTO OBRAS DE MANTENIMIENTO INCLUIDO AIU DEL 30% | F25: =ROUND(SUM(F16:F22),0) -> 44672547
B26: AIU (30%) | E26: 0.3 | F26: =ROUND(F24*E26,0) -> 10309049
B27: I.V.A 19% sobre la Utilidad redondeado | F27: =ROUND((F25/1.3)*F35*0.19,0) -> 326453
B28: SUBTOTAL OBRAS DE MANTENIMIENTO (INCLUYE IVA) | F28: =ROUND(F25+F27,0) -> 44999000
B29: VALOR TOTAL DEL MANTENIMIENTO DE LA SEDE | F29: =F28 -> 44999000
A31: VALOR EN LETRAS SON: Cuarenta y cuatro millones novecientos noventa y nueve mil pesos m/cte
A32: NOTA 1: Se debe tener en cuenta que el PRECIO UNITARIO incluye el valor de A.I.U. | C32: DESCRIPCION | F32: PORCENTAJE
A33: NOTA 2: Cuando la fracción decimal del peso sea igual o superior a 5 se aproximará por exceso al número entero siguiente del peso y cuando la fracción decimal del peso sea inferior a 5 se aproximará por defecto al número entero del peso. | C33: ADMINISTRACIÓN | F33: 0.2
A34: NOTA 3: El A.I.U y su discriminación deben estar en porcentaje (%). | C34: IMPREVISTO | F34: 0.05
A35: NOTA 4: Las cantidades de obra se encuentran discriminadas en la hoja APU 2025 del formulario 1, sin embargo las actividades a realizar deben garantizarce en su totalidad con la propuesta que presente el oferente. | C35: UTILIDAD | F35: 0.05
A36: NOTA 5: | C36: TOTAL A.I.U | F36: =F33+F34+F35 -> 0.3
A37: NOTA 6:
A39: Fecha: 02/06/2025

Sheet PROPUESTA ECONOMICA
A2: INSTITUTO NACIONAL DE VIAS
A5: MANTENIMIENTO Y ADECUACION DE LA SEDE DEL INSTITUTO NACIONAL DE VIAS TERRITORIAL PUTUMAYO
A6: FORMULARIO 1
A7: PRESUPUESTO OFICIAL
A8: Código CCE-EICP-FM-25 Versión 1
A9: [Las Entidades Estatales deben usar el presente formulario para determinar el Presupuesto Oficial del Proceso de Contratación y solo pueden modificar o ajustar aquello que en este se permite expresamente] [El presente formulario aplica para los procesos de contratación que tengan como forma de pago precios unitarios. Tratándose de otras modalidades de precio, la Entidad debe ajustarlo cuando corresponde a: precio global, llave en mano, administración delegada, reembolso de gastos o cualquier otra forma de precio.]
A11: Adicionalmente, cuando el proceso de contratación es estructurado por precios unitarios, la Entidad debe aplicar las notas 1, 2 y 3 del presente formulario y las casillas de "Descripción", "Porcentaje" de la Administración, Imprevisto, Utilidad y total A.I.U. resaltadas en color amarillo. Tratándose de otras modalidades de precio, la Entidad puede o no configurar los mismos aspectos.
A13: Nº | B13: DESCRIPCIÓN | C13: UND. | D13: CANTIDAD | E13: VALOR UNITARIO SIN (AIU) | F13: VALOR TOTAL CON (AIU)
B15: EDIFICIO ADMINISTRATIVO
A16: 1 | B16: Demolicion de piso | C16: UND. | D16: 1 | F16: =+E16*1.3 -> 0
A17: 2 | B17: =+'APU 2025'!B14 -> SUMINISTRO E INSTALACIÓN DE TANQUE DE AGUA DE 5000 LTS | C17: UND. | D17: 1 | F17: =+E17*1.3 -> 0
A18: 3 | B18: =+'APU 2025'!B22 -> SUMINISTRO E INSTALACIÓN EQUIPO DE PRESIÓN HIDRONEUMATICO (BOMBA) DE 1HP PARA RED HIDRÁULICA DE LA DT | C18: UND. | D18: 1 | F18: =+E18*1.3 -> 0
A19: 4 | B19: Caja de inspeccion de 0,80 x 0,80 x 0,80 en concreto de 17,2 Incluye tapa y angulo | C19: UND. | D19: 1 | F19: =+E19*1.3 -> 0
A20: 5 | B20: Instalacion Tuberia PVC a todo costo sanitaria de 6" | C20: UND. | D20: 1 | F20: =+E20*1.3 -> 0
A21: 6 | B21: =+'APU 2025'!B55 -> DESMONTE, TRASLADO E INSTALACIÓN DE DOS AIRES ACONDICIONADOS A UNA DISTANCIA DE 15ML, INCLUYE SUMINISTRO DE MATERIALES, TUBERÍA DE COBRE, ACCESORIOS, INSTALACIÓN ELÉCTRICA. | C21: UND. | D21: 1 | F21: =+E21*1.3 -> 0
A22: 7 | B22: Instalacion de cable estructurado categoria UTP 6A | C22: UND. | D22: 1 | F22: =+E22*1.3 -> 0
A23: 8 | B23: Salida (incluye jack, patch cord, rotulación e identificación) | C23: UND. | D23: 10 | F23: =+E23*1.3 -> 0
B25: TOTAL COSTO BASICO OBRAS DE MANTENIMIENTO | F25: =SUM(E16:E23) -> 0
B26: TOTAL COSTO OBRAS DE MANTENIMIENTO INCLUIDO AIU () | F26: =SUM(F16:F23) -> 0
B27: AIU () | F27: =+F25*E27 -> 0
B28: I.V.A 19% sobre el AIU redondeado | F28: =ROUND((+F27*0.19),0) -> 0
B29: SUBTOTAL OBRAS DE MANTENIMIENTO (INCLUYE IVA) | F29: =ROUND(F27+F28,0) -> 0
B30: VALOR TOTAL DEL MANTENIMIENTO DE LA SEDE | F30: =F29 -> 0
A32: VALOR EN LETRAS SON: cincuenta y un millon trescientos diecisiete mil doscientos noventa pesos mcte
A33: NOTA 1: Se debe tener en cuenta que el PRECIO UNITARIO incluye el valor de A.I.U. | C33: DESCRIPCION | F33: PORCENTAJE
A34: NOTA 2: Cuando la fracción decimal del peso sea igual o superior a 5 se aproximará por exceso al número entero siguiente del peso y cuando la fracción decimal del peso sea inferior a 5 se aproximará por defecto al número entero del peso. | C34: ADMINISTRACIÓN
A35: NOTA 3: El A.I.U y su discriminación deben estar en porcentaje (%). | C35: IMPREVISTO
C36: UTILIDAD
A37: NOTA 5: | C37: TOTAL A.I.U
A38: NOTA 6:

Sheet APU 2025
A1: ANALISIS DE PRECIOS UNITARIOS PARA EL PROCESO
A2: IP-DT-PUT-001-2025
A6: ÍTEM | B6: DESCRIPCIÓN | C6: UN | D6: CANT. | E6: VR. COSTO DIRECTO | F6: (USOS) | G6: VR. PARCIAL | H6: A.I.U 30%
F7: (RENDIMIENTO) | H7: 0.3
A8: 1 | B8: DIAGNÓSTICO RED ELÉCTRICA DE LA DT PARA CERTIFICACIÓN RETIE, incluye entrega de documento diagnosticored existente, memorias de nuevo diseño, presupuesto y planos nuevos. | C8: UND | D8: 1 | E8: =SUM(G9:G10) -> 16380000 | H8: =ROUND(E8*1.3,0) -> 21294000
B9: Cuadrilla 7 (1 Prof Elect + Dibuj Electr + Tecnic Elect + 1 of Elec + 2 Ay Elec) - (jornal + prestaciones) | C9: Día | D9: 1 | E9: =+Personal!F46 -> 1170000 | F9: 0.08 | G9: =ROUND((D9*E9/F9),0) -> 14625000
B10: Herramienta menor, equipos e Impresión (% mano obra) | C10: %MO | D10: 0.12 | E10: =+G9 -> 14625000 | F10: 0 | G10: =ROUND((D10*E10),0) -> 1755000
A12: ÍTEM | B12: DESCRIPCIÓN | C12: UN | D12: CANT. | E12: VR. COSTO DIRECTO | F12: (USOS) | G12: VR. PARCIAL | H12: A.I.U 30%
F13: (RENDIMIENTO) | H13: 0.3
A14: 2 | B14: SUMINISTRO E INSTALACIÓN DE TANQUE DE AGUA DE 5000 LTS | C14: UND | D14: 1 | E14: =SUM(G15:G18) -> 4983750 | H14: =ROUND(E14*1.3,0) -> 6478875
B15: Tanque de Agua Agroquimico con Tecnología BI-CAPA: CAPA EXTERIOR: Fabricada en polietileno negro con aditivo U.V. CAPA INTERIOR: Fabricada en polietileno 100% virgen , apto para contener alimentos y bebidas. de Diametro Maximo 200cm | C15: und | D15: 1 | E15: 4800000 | F15: 1 | G15: =ROUND((D15*E15*F15),0) -> 4800000
B16: Transporte de Tanque | C16: Glb | D16: 1 | E16: 60000 | F16: 1 | G16: =ROUND((D16*E16*F16),0) -> 60000
B17: Cuadrilla 1 (1 of + 1 Ay) - (jornal + prestaciones) | C17: Día | D17: 1 | E17: =+Personal!F8 -> 225000 | F17: 0.5 | G17: =ROUND((D17*E17*F17),0) -> 112500
B18: Herramienta menor (% mano obra) | C18: %MO | D18: 0.1 | E18: =G17 -> 112500 | F18: 0 | G18: =ROUND((D18*E18),0) -> 11250
A20: ÍTEM | B20: DESCRIPCIÓN | C20: UN | D20: CANT. | E20: VR. COSTO DIRECTO | F20: (USOS) | G20: VR. PARCIAL | H20: A.I.U 30%
F21: (RENDIMIENTO) | H21: 0.3
A22: 3 | B22: SUMINISTRO E INSTALACIÓN EQUIPO DE PRESIÓN HIDRONEUMATICO (BOMBA) DE 1HP PARA RED HIDRÁULICA DE LA DT | C22: UND | D22: 1 | E22: =SUM(G23:G30) -> 4141923 | H22: =ROUND(E22*1.3,0) -> 5384500
B23: Equipo de Presión CPm 620 de 1 HP 110/220V + Tanque Hidroneumático Horizontal de 100 Litros | C23: und | D23: 1 | E23: 3900000 | F23: 1 | G23: =ROUND((D23*E23*F23),0) -> 3900000
B24: Tuberia Pvc de Presión de 1/2" | C24: ml | D24: 5 | E24: 4200 | F24: 1.05 | G24: =ROUND((D24*E24*F24),0) -> 22050
B25: Tuberia Pvc de Presión de 1" | C25: ml | D25: 5 | E25: 9000 | F25: 1.05 | G25: =ROUND((D25*E25*F25),0) -> 47250
B26: Accesorios PVC presión (% tubería) | C26: %Tub | D26: 0.3 | E26: =+G25+G24 -> 69300 | F26: 1 | G26: =ROUND((D26*E26*F26),0) -> 20790
B27: Limpiador removedor PVC 1/4 | C27: Un | D27: 0.029 | E27: 47500 | F27: 1.03 | G27: =ROUND((D27*E27*F27),0) -> 1419
B28: Soldadura PVC líquida 1/4 | C28: Un | D28: 0.02 | E28: 92900 | F28: 1.03 | G28: =ROUND((D28*E28*F28),0) -> 1914
B29: Cuadrilla 1 (1 of + 1 Ay) - (jornal + prestaciones) | C29: Día | D29: 1 | E29: =+Personal!F8 -> 225000 | F29: 0.6 | G29: =ROUND((D29*E29*F29),0) -> 135000
B30: Herramienta menor (% mano obra) | C30: %MO | D30: 0.1 | E30: =+G29 -> 135000 | F30: 1 | G30: =ROUND((D30*E30*F30),0) -> 13500
A32: ÍTEM | B32: DESCRIPCIÓN | C32: UN | D32: CANT. | E32: VR. COSTO DIRECTO | F32: (USOS) | G32: VR. PARCIAL | H32: A.I.U 30%
F33: (RENDIMIENTO) | H33: 0.3
A34: 4 | B34: INSTALACIÓN ELÉCTRICA A 220V PARA EQUIPO DE PRESIÓN, DESDE LA CAJA DE BREAKERS HASTA EL SITIO DEL TANQUE. | C34: Un | E34: =ROUND(SUM(G34:G40),0) -> 1343915 | H34: =ROUND((E34*H33)+E34,0) -> 1747090
B35: Alambre De Cobre #10 (10 AWG) en tres lineas 2 faces y 1 neutro | C35: ml | D35: 35 | E35: 22500 | F35: 1.05 | G35: =ROUND((D35*E35*F35),0) -> 826875
B36: Breaker 30A | C36: und | D36: 2 | E36: 35000 | F36: 1 | G36: =ROUND((D36*E36*F36),0) -> 70000
B37: Toma incrustar 50 amperios 250 v trifilar | C37: und | D37: 1 | E37: 40000 | F37: 1 | G37: =ROUND((D37*E37),0) -> 40000
B38: Caja para toma corriente | C38: und | D38: 1 | E38: 15000 | F38: 1 | G38: =ROUND((D38*E38*F38),0) -> 15000
B39: Cuadrilla 6 ( 1 Tecnic Elec + 1 Ay Elec) - (jornal + prestaciones) | C39: Día | D39: 1 | E39: =+Personal!F38 -> 297000 | F39: 1.2 | G39: =ROUND((D39*E39*F39),0) -> 356400
B40: Herramienta menor (% mano obra) | C40: %MO | D40: 0.1 | E40: =G39 -> 356400 | F40: 1 | G40: =ROUND((D40*E40),0) -> 35640
A42: ÍTEM | B42: DESCRIPCIÓN | C42: UN | D42: CANT. | E42: VR. COSTO DIRECTO | F42: (USOS) | G42: VR. PARCIAL | H42: A.I.U 30%
F43: (RENDIMIENTO) | H43: 0.3
A44: 5 | B44: INSTALACIÓN A 220V PARA PLANTA ELÉCTRICA , DESDE EL CONTADOR HASTA ELCUARTO DE LA PLANTA. | C44: M | E44: =ROUND(SUM(G44:G51),0) -> 4578050 | H44: =ROUND((E44*H43)+E44,0) -> 5951465
B45: Alambre De Cobre Alambre THHN #8 AWG, en tres lineas 2 faces y 1 neutro | C45: ml | D45: 40 | E45: 40500 | F45: 1.05 | G45: =ROUND((D45*E45),0) -> 1620000
B46: Toma incrustar 50 amperios 250 v trifilar | C46: Und | D46: 1 | E46: 40000 | F46: 1 | G46: =ROUND((D46*E46*F46),0) -> 40000
B47: Toma incrustar | C47: Und | D47: 1 | E47: 25000 | F47: 1 | G47: =ROUND((D47*E47*F47),0) -> 25000
...

Sheet Personal
B2: CUADRILLAS DE TRABAJO
B4: Cuadrilla 1 | C4: 1 of + 1 Ay
B5: Parsonal | C5: Cantidad | D5: salario Día | E5: Prestaciones | F5: Total
B6: Oficial | C6: 1 | D6: 70000 | E6: 1.8 | F6: =+C6*D6*E6 -> 126000
B7: Ayudante | C7: 1 | D7: 55000 | E7: 1.8 | F7: =+C7*D7*E7 -> 99000
F8: =+F6+F7 -> 225000
B10: Cuadrilla 2 | C10: 1 of + 2 Ay
B11: Parsonal | C11: Cantidad | D11: salario Día | E11: Prestaciones | F11: Total
B12: Oficial | C12: 1 | D12: 70000 | E12: 1.8 | F12: =+C12*D12*E12 -> 126000
B13: Ayudante | C13: 2 | D13: 55000 | E13: 1.8 | F13: =+C13*D13*E13 -> 198000
F14: =+F12+F13 -> 324000
B16: Cuadrilla 3 | C16: 1 of + 3 Ay
B17: Parsonal | C17: Cantidad | D17: salario Día | E17: Prestaciones | F17: Total
B18: Oficial | C18: 1 | D18: 70000 | E18: 1.8 | F18: =+C18*D18*E18 -> 126000
B19: Ayudante | C19: 3 | D19: 55000 | E19: 1.8 | F19: =+C19*D19*E19 -> 297000
F20: =+F18+F19 -> 423000
B22: Cuadrilla 4 | C22: 1 of + 4 Ay
B23: Parsonal | C23: Cantidad | D23: salario Día | E23: Prestaciones | F23: Total
B24: Oficial | C24: 1 | D24: 70000 | E24: 1.8 | F24: =+C24*D24*E24 -> 126000
B25: Ayudante | C25: 4 | D25: 55000 | E25: 1.8 | F25: =+C25*D25*E25 -> 396000
F26: =+F24+F25 -> 522000
B28: Cuadrilla 5 | C28: 1 of + 5 Ay
B29: Parsonal | C29: Cantidad | D29: salario Día | E29: Prestaciones | F29: Total
B30: Oficial | C30: 1 | D30: 70000 | E30: 1.8 | F30: =+C30*D30*E30 -> 126000
B31: Ayudante | C31: 5 | D31: 55000 | E31: 1.8 | F31: =+C31*D31*E31 -> 495000
F32: =+F30+F31 -> 621000
B34: Cuadrilla 6 | C34: 1 Tecnic Elec + 1 Ay Elec
B35: Parsonal | C35: Cantidad | D35: salario Día | E35: Prestaciones | F35: Total
B36: Tecnic Elect | C36: 1 | D36: 100000 | E36: 1.8 | F36: =+C36*D36*E36 -> 180000
B37: Ayudante Elect | C37: 1 | D37: 65000 | E37: 1.8 | F37: =+C37*D37*E37 -> 117000
F38: =+F36+F37 -> 297000
B40: Cuadrilla 7 | C40: 1 Prof Elect + Dibuj Electr + Tecnic Elect + 1 of Elec + 2 Ay Elec
B41: Parsonal | C41: Cantidad | D41: salario Día | E41: Prestaciones | F41: Total
B42: Profesio Elect | C42: 1 | D42: 270000 | E42: 1.8 | F42: =+C42*D42*E42 -> 486000
B43: Dibujant Electri | C43: 1 | D43: 150000 | E43: 1.8 | F43: =+C43*D43*E43 -> 270000
B44: Tecnic Elect | C44: 1 | D44: 100000 | E44: 1.8 | F44: =+C44*D44*E44 -> 180000
B45: Ayudante Elect | C45: 2 | D45: 65000 | E45: 1.8 | F45: =+C45*D45*E45 -> 234000
F46: =+F42+F43+F44+F45 -> 1170000
