Workbook

Sheet PRESUPUESTO
C2: MUNICIPIO DE PUERTO TEJADA CAUCA
C3: NIT 891500580-9
C4: SECRETARIA DE PLANEACION E INFRAESTRUCTURA
B5: MANTENIMIENTO DE LA ESCUELA DOS AGUAS
B6: ITEM | C6: DESCRPCIÓN | D6: UNIDAD | E6: CANTIDAD | F6: VALOR UNITARIO | G6: VALOR TOTAL
B8: 1 | C8: PRELIMINARES | G8: =SUM(G9:G13) -> 1161554
B9: 1.1 | C9: DESM. CANAL GALVANIZADA | D9: ML | E9: 21 | F9: =+APUS!G174 -> 9932 | G9: =+ROUND(E9*F9,0) -> 208572
B10: =+B9+0.1 -> 1.2 | C10: RETIRO MATERIAL SOBRANTE | D10: M3 | E10: 4 | F10: =+APUS!G196 -> 29721 | G10: =+ROUND(E10*F10,0) -> 118884
B11: =+B10+0.1 -> 1.3 | C11: DEMOLICION ENCHAPE | D11: M2 | E11: =20*1.3+17.6*1.3+7 -> 55.88 | F11: =+APUS!G1027 -> 7045 | G11: =+ROUND(E11*F11,0) -> 393675
B12: =+B11+0.1 -> 1.4 | C12: DEMOLICION RAMPA EN CONCRETO | D12: M2 | E12: =3.8*3.1 -> 11.78 | F12: =+APUS!G1055 -> 7912 | G12: =+ROUND(E12*F12,0) -> 93203
B13: =+B12+0.1 -> 1.5 | C13: DESMONTE APARATO SANTARIO EXISTENTE | D13: UND | E13: 10 | F13: =+APUS!G1083 -> 34722 | G13: =+ROUND(E13*F13,0) -> 347220
B15: 2 | C15: CUBIERTA | G15: =SUM(G16:G19) -> 4665504
B16: 2.1 | C16: RECORRIDO CUBIERTA EN TEJA FIBROCEMENTO, AJUSTE, LIMPIEZA Y SELLAMIENTO | D16: M2 | E16: 45 | F16: =+APUS!G43 -> 21529 | G16: =+ROUND(E16*F16,0) -> 968805
B17: =+B16+0.1 -> 2.2 | C17: SUMINISTRO E INSTALACION TEJA TRAPEZOIDAL | D17: M2 | E17: 10 | F17: =+APUS!K830 -> 92326 | G17: =+ROUND(E17*F17,0) -> 923260
B18: =+B17+0.1 -> 2.3 | C18: SUMINSTRO E INSTALACION DE CANAL GALVANIZADA CAL.22 | D18: ML | E18: 21 | F18: =+APUS!G328 -> 120723 | G18: =+ROUND(E18*F18,0) -> 2535183
B19: =+B18+0.1 -> 2.4 | C19: LIMPIEZA CANAL PERIMETRAL | D19: ML | E19: =34+20.1 -> 54.1 | F19: =+APUS!G18 -> 4404 | G19: =+ROUND(E19*F19,0) -> 238256
B21: 3 | C21: PINTURAS Y ESTUCOS | G21: =+SUM(G22:G31) -> 36835016
B22: 3.1 | C22: RASQUETEADA-LIJADA-RESANE | D22: M2 | E22: =25.9+30+25+27+42+10.8+29+65+55+7+28+89+60+39+60 -> 592.7 | F22: =+APUS!G223 -> 3255 | G22: =+ROUND(E22*F22,0) -> 1929239
B23: 3.2 | C23: ESTUCO MUROS | D23: M2 | E23: =+E22 -> 592.7 | F23: =+APUS!G448 -> 16789 | G23: =+ROUND(E23*F23,0) -> 9950840
B24: 3.3 | C24: VINILO MUROS (2 MANOS) | D24: M2 | E24: =+E23 -> 592.7 | F24: =+APUS!G421 -> 11924 | G24: =+ROUND(E24*F24,0) -> 7067355
B25: 3.4 | C25: KORAZA DOB VIDA SUPERF.REPELLO [2M] | D25: M2 | E25: =+(11.5*2)+40 -> 63 | F25: =+APUS!G708 -> 27186 | G25: =+ROUND(E25*F25,0) -> 1712718
B26: 3.5 | C26: GRANIPLAX ESGRAFIADO | D26: M2 | E26: =+E25 -> 63 | F26: =+APUS!G737 -> 31135 | G26: =+ROUND(E26*F26,0) -> 1961505
B27: 3.6 | C27: ESMALTE PARA VENTANAS-REJAS | D27: M2 | E27: =2.73+4.62+3.12+7.8+2.795+2.34+3.12+3.12+3.17+6.24+3.67+3.67+3.67+2.82+2.47+2.47+1.82+1.69+3.9+12.6+13.65+2.4+5 -> 98.885 | F27: =+APUS!G766 -> 29284 | G27: =+ROUND(E27*F27,0) -> 2895748
B28: 3.7 | C28: ESMALTE NAVE METALICA H<=2.2M A<=1.0M-2C | D28: UND | E28: 14 | F28: =+APUS!G852 -> 64651 | G28: =+ROUND(E28*F28,0) -> 905114
B29: 3.8 | C29: ESMALTE MARCO METALICO 0.70-1.100 | D29: UND | E29: 14 | F29: =+APUS!G881 -> 36377 | G29: =+ROUND(E29*F29,0) -> 509278
B30: 3.9 | C30: ESMALTE SOBRE MURO | D30: M2 | E30: =32+13+19+17+145+53+55+36+69+62 -> 501 | F30: =+APUS!G909 -> 17438 | G30: =+ROUND(E30*F30,0) -> 8736438
B31: 3.10 | C31: ESMALTE PASAMANOS METALICO TUBULAR-REDONDO | D31: ML | E31: =+(6.2*4+1.5*8)*2 -> 73.6 | F31: =+APUS!G939 -> 15853 | G31: =+ROUND(E31*F31,0) -> 1166781
B33: 4 | C33: ENCHAPES | G33: =+G34+G35 -> 9717766
B34: 4.1 | C34: ENCHAPE CERÁMICO MUROS DE ANTEPECHO | D34: M2 | E34: =20.1*1.05+3.15+4.1+6.3+17.6+1+7.4+6+3 -> 69.655 | F34: =+APUS!K790 -> 91782 | G34: =+ROUND(E34*F34,0) -> 6393075
B35: =+B34+0.1 -> 4.2 | C35: ENCHAPE CERAMICO TRAFICO 4 ANDEN FACHADA PRINCIPAL | D35: M2 | E35: =17.6*1.3+3.8*3.1 -> 34.66 | F35: =+APUS!K807 -> 95923 | G35: =+ROUND(E35*F35,0) -> 3324691
B37: 5 | C37: RED ELECTRICA | G37: =+SUM(G38:G38) -> 262844
B38: 5.1 | C38: BALA PANEL LED 24W | D38: UND | E38: 4 | F38: =+APUS!G534 -> 65711 | G38: =+F38*E38 -> 262844
B40: 5 | C40: OBRAS VARIAS | G40: =+SUM(G41:G41) -> 677382.98
B41: 5.1 | C41: CONCRETO 3000 PSI RAMPA ENTRADA PRINCIPAL | D41: M3 | E41: =3.8*3.1*0.1 -> 1.178 | F41: =+APUS!K816 -> 575028 | G41: =+F41*E41 -> 677382.98
B43: 6 | C43: APARATOS SANITARIOS | G43: =+G44+G45 -> 3960187
B44: 6.1 | C44: SANITARIO BLANCO INSTITUCIONAL LINEA ECONOMICA | D44: UND | E44: 7 | F44: =+APUS!G970 -> 403735 | G44: =+F44*E44 -> 2826145
B45: 6.2 | C45: ORINAL BLANCO INSTITUCIONAL | D45: UND | E45: 3 | F45: =+APUS!G999 -> 378014 | G45: =+F45*E45 -> 1134042
B47: 7 | C47: OTROS | G47: =+G48+G49 -> 5214800
B48: 7.1 | C48: LIMPIEZA GENERAL | D48: M2 | E48: =20*10 -> 200 | F48: =+APUS!G581 -> 2074 | G48: =+F48*E48 -> 414800
B49: 7.2 | C49: DIVISIONES DE BAÑO EN LAMINA GALVANIZADA CAL. 20 3X1,10X1,90 | D49: UND | E49: 1 | F49: 4800000 | G49: =+F49*E49 -> 4800000
...

Sheet MANO DE OBRA
B2: MANO DE OBRA ANALISIS DE PRECIOS UNITARIOS
B4: LISTADO DE MANO DE OBRA
B5: unidad | C5: Ítem | D5: VALOR ($ COP) | E5: OBSERVACIONES
B6: mes | C6: Salario mínimo legal mensual vigente - SMLM básico 2025 | D6: 1423500
B7: mes | C7: Subsidio de transporte 2025 | D7: 200000
B8: mes | C8: Salario mínimo legal mensual vigente - SMLMV 2024 + Subsidio de transporte 2024 | D8: =D6+D7 -> 1623500
B9: día | C9: Jornal + subsidio de transporte 2024 | D9: =D8/30 -> 54116.667
B10: % | C10: Factor prestacional | D10: 0.85
B11: día | C11: Jornal básico con factor prestacional | D11: =(D6/30)+((D6/30)*D10) -> 87782.5
B12: mes | C12: salario basico SMLMV 2024 con factor prestacional | D12: =D6+(D10*D6) -> 2633475
B14: unidad | C14: Insumo | D14: Precio ($ COP) | E14: Factor de Jornal 2024 | F14: OBSERVACIONES
B15: día | C15: Maestro | D15: =+$D$11*E15 -> 95767.083 | E15: 1.0909587
B16: día | C16: Almacenista | D16: =+$D$11*E16 -> 92171.625 | E16: 1.05
B17: día | C17: Obrero | D17: =+$D$11*E17 -> 87782.5 | E17: 1 | G17: =D17/8 -> 10972.812
B18: día | C18: Obrero (2) | D18: =+$D$11*E18 -> 175565 | E18: 2 | G18: =D18/8 -> 21945.625
B19: día | C19: Obrero (3) | D19: =+$D$11*E19 -> 263347.5 | E19: 3
B20: día | C20: Obrero (4) | D20: =+$D$11*E20 -> 351130 | E20: 4
B21: día | C21: Obrero (5) | D21: =+$D$11*E21 -> 438912.5 | E21: 5
B22: día | C22: Obrero (6) | D22: =+$D$11*E22 -> 526695 | E22: 6
B23: día | C23: Obrero (7) | D23: =+$D$11*E23 -> 614477.5 | E23: 7
B24: día | C24: Obrero (8) | D24: =+$D$11*E24 -> 702260 | E24: 8
B25: día | C25: Obrero (9) | D25: =+$D$11*E25 -> 790042.5 | E25: 9
B26: día | C26: Obrero (10) | D26: =+$D$11*E26 -> 877825 | E26: 10
B27: día | C27: Obrero (prueba de carga) | D27: =+$D$11*E27 -> 92171.625 | E27: 1.05
B28: día | C28: Obrero de hincado | D28: =+$D$11*E28 -> 87782.5 | E28: 1
B29: día | C29: Obreros de hincado (2) | D29: =+$D$11*E29 -> 164153.28 | E29: 1.87
B30: día | C30: Obrero de izado | D30: =+$D$11*E30 -> 87782.5 | E30: 1
B31: día | C31: Obreros de izado (2) | D31: =+$D$11*E31 -> 164153.28 | E31: 1.87
B32: día | C32: Oficial | D32: =+$D$11*E32 -> 149230.25 | E32: 1.7 | G32: =D32/8 -> 18653.781
B33: día | C33: Oficial (2) | D33: =+$D$11*E33 -> 298460.5 | E33: 3.4
B34: día | C34: Oficial (3) | D34: =+$D$11*E34 -> 447690.75 | E34: 5.1
B35: día | C35: Oficial + 3 Ayudantes (armado e inyección de anclajes) | D35: =+$D$11*E35 -> 425745.12 | E35: 4.85
B36: día | C36: Oficial experto en desmontaje | D36: =+$D$11*E36 -> 175565 | E36: 2
B37: día | C37: Oficial experto en explosivos | D37: =+$D$11*E37 -> 179954.12 | E37: 2.05
B38: día | C38: Oficial Obrero (3) Cuadrilla de un oficial y 3 Obreros. | D38: =+$D$11*E38 -> 412577.75 | E38: 4.7
B39: día | C39: 1 Oficial y 1 Obrero. | D39: =+$D$11*E39 -> 237012.75 | E39: 2.7
B40: día | C40: Cuadrilla de Un Oficial y (2) Obreros. | D40: =+$D$11*E40 -> 324795.25 | E40: 3.7
B41: día | C41: Cuadrilla de un oficial y (4) Obreros. | D41: =+$D$11*E41 -> 500360.25 | E41: 5.7
B42: día | C42: Cuadrilla de desmontaje (10 personas) | D42: =+$D$11*E42 -> 822522.02 | E42: 9.37
B43: día | C43: Cuadrilla de fabricación | D43: =+$D$11*E43 -> 448568.58 | E43: 5.11
...

Sheet APUS
B2: LIMPIEZA CANAL METALICA DLLO. 51-100CM | G2: Unidad: ML
B4: DESCRIPCION | C4: UND | D4: CANT. | E4: DESP.% | F4: PRECIO UNIT | G4: VALOR TOTAL
B6: MATERIALES
G7: =+(D7+D7*E7)*F7 -> 0
G8: =+(D8+D8*E8)*F8 -> 0
F9: SUBTOTAL MATERIALES | G9: =SUM(G7:G8) -> 0
B10: MANO DE OBRA
B11: MANO OBRA ALBANILERIA 1 AYUDANTE-1 OFI | C11: HC | D11: 0.12 | E11: 0 | F11: =+F36 -> 29626.6 | G11: =+(D11+D11*E11)*F11 -> 3555.192
F12: SUBTOTAL MANO DE OBRA | G12: =SUM(G11:G11) -> 3555.192
B13: EQUIPO
B14: ANDAMIO METALICO TUBULAR | C14: U/D | D14: 0.1 | E14: 0 | F14: 6000 | G14: =+(D14+D14*E14)*F14 -> 600
B15: HERRAMIENTA MENOR | C15: % | D15: 0.07 | E15: 0 | F15: =+G12 -> 3555.192 | G15: =+(D15+D15*E15)*F15 -> 248.86344
F16: SUBTOTAL EQUIPO | G16: =SUM(G14:G15) -> 848.86344
B18: TOTAL COSTOS DIRECTOS | G18: =+ROUND(G16+G12+G9,0) -> 4404
B19: COSTOS INDIRECTOS
B20: ADMINISTRACION | E20: 0.25 | G20: =ROUND(G18*E20,0) -> 1101
B21: IMPREVISTOS | E21: 0.01 | G21: =ROUND(G18*E21,0) -> 44
B22: UTILIDAD | E22: 0.05 | G22: =ROUND(G18*E22,0) -> 220
B23: TOTAL COSTOS INDIRECTOS | G23: =SUM(G20:G22) -> 1365
B24: VALOR TOTAL ITEM | G24: =+G23+G18 -> 5769
B27: RECORRIDO CUBIERTA EN TEJA FIBROCEMENTO, AJUSTE, LIMPIEZA Y SELLAMIENTO | G27: Unidad: M2
B29: DESCRIPCION | C29: UND | D29: CANT. | E29: DESP.% | F29: PRECIO UNIT | G29: VALOR TOTAL
B31: MATERIALES
B32: GANCHO P/TEJA ASB. MADERA | C32: UND | D32: 2 | E32: 0 | F32: 1200 | G32: =+(D32+D32*E32)*F32 -> 2400
B33: SOLDADURA TAPA GOTERAS | C33: GLN | D33: 0.03 | E33: 0 | F33: 431000 | G33: =+(D33+D33*E33)*F33 -> 12930
F34: SUBTOTAL MATERIALES | G34: =SUM(G32:G33) -> 15330
B35: MANO DE OBRA
B36: MANO OBRA ALBANILERIA 1 AYUDANTE-1 OFI | C36: HC | D36: 0.18 | E36: 0 | F36: =+F63 -> 29626.6 | G36: =+(D36+D36*E36)*F36 -> 5332.788
F37: SUBTOTAL MANO DE OBRA | G37: =SUM(G36:G36) -> 5332.788
B38: EQUIPO
B39: ANDAMIO METALICO TUBULAR | C39: U/D | D39: 0.1 | E39: 0 | F39: 6000 | G39: =+(D39+D39*E39)*F39 -> 600
B40: HERRAMIENTA MENOR | C40: % | D40: 0.05 | E40: 0 | F40: =+G37 -> 5332.788 | G40: =+(D40+D40*E40)*F40 -> 266.6394
F41: SUBTOTAL EQUIPO | G41: =SUM(G39:G40) -> 866.6394
B43: TOTAL COSTOS DIRECTOS | G43: =+ROUND(G41+G37+G34,0) -> 21529
B44: COSTOS INDIRECTOS
B45: ADMINISTRACION | E45: 0.25 | G45: =ROUND(G43*E45,0) -> 5382
B46: IMPREVISTOS | E46: 0.01 | G46: =ROUND(G43*E46,0) -> 215
B47: UTILIDAD | E47: 0.05 | G47: =ROUND(G43*E47,0) -> 1076
B48: TOTAL COSTOS INDIRECTOS | G48: =SUM(G45:G47) -> 6673
B49: VALOR TOTAL ITEM | G49: =+G48+G43 -> 28202
...

Sheet PRESUPUESTO (2)
C1: MUNICIPIO DE PUERTO TEJADA CAUCA
C2: NIT 891500580-9
C3: SECRETARIA DE PLANEACION E INFRAESTRUCTURA
B4: AUNAR ESFUERZOS A TRAVÉS DE CONVENIO SOLIDARIO DE OBRA PARA EL ENLUCIMIENTO Y MEJORAMIENTO DE LAS INSTALACIONES DE LA ESCUELA DOS AGUAS DEL MUNICIPIO DE PUERTO TEJADA CAUCA “OBRAS PARA EL ENLUCIMIENTO Y MEJORAMIENTO DE LAS INSTALACIONES DE LA ESCUELA DOS AGUAS DEL MUNICIPIO DE PUERTO TEJADA CAUCA.”
B5: ITEM | C5: DESCRPCIÓN | D5: UNIDAD | E5: CANTIDAD | F5: VALOR UNITARIO | G5: VALOR TOTAL
B7: 1 | C7: PRELIMINARES | G7: =SUM(G8:G10) -> 648995
B8: 1.1 | C8: DESM. CANAL GALVANIZADA | D8: ML | E8: 21 | F8: =+APUS!G174 -> 9932 | G8: =+ROUND(E8*F8,0) -> 208572
B9: 1.2 | C9: DEMOLICION RAMPA EN CONCRETO | D9: M2 | E9: =3.8*3.1 -> 11.78 | F9: =+APUS!G1055 -> 7912 | G9: =+ROUND(E9*F9,0) -> 93203
B10: 1.3 | C10: DESMONTE APARATO SANTARIO EXISTENTE | D10: UND | E10: 10 | F10: =+APUS!G1083 -> 34722 | G10: =+ROUND(E10*F10,0) -> 347220
B11: 2 | C11: CUBIERTA | G11: =SUM(G12:G15) -> 4665504
B12: 2.1 | C12: RECORRIDO CUBIERTA EN TEJA FIBROCEMENTO, AJUSTE, LIMPIEZA Y SELLAMIENTO | D12: M2 | E12: 45 | F12: =+APUS!G43 -> 21529 | G12: =+ROUND(E12*F12,0) -> 968805
B13: =+B12+0.1 -> 2.2 | C13: SUMINISTRO E INSTALACION TEJA TRAPEZOIDAL | D13: M2 | E13: 10 | F13: =+APUS!K830 -> 92326 | G13: =+ROUND(E13*F13,0) -> 923260
B14: =+B13+0.1 -> 2.3 | C14: SUMINSTRO E INSTALACION DE CANAL GALVANIZADA CAL.22 | D14: ML | E14: 21 | F14: =+APUS!G328 -> 120723 | G14: =+ROUND(E14*F14,0) -> 2535183
B15: =+B14+0.1 -> 2.4 | C15: LIMPIEZA CANAL PERIMETRAL | D15: ML | E15: =34+20.1 -> 54.1 | F15: =+APUS!G18 -> 4404 | G15: =+ROUND(E15*F15,0) -> 238256
B16: 3 | C16: ENCHAPES | G16: =+G17+G18 -> 6393075
B17: 3.1 | C17: ENCHAPE CERÁMICO MUROS DE ANTEPECHO | D17: M2 | E17: =20.1*1.05+3.15+4.1+6.3+17.6+1+7.4+6+3 -> 69.655 | F17: =+APUS!K790 -> 91782 | G17: =+ROUND(E17*F17,0) -> 6393075
B18: =+B17+0.1 -> 3.2 | C18: ENCHAPE CERAMICO TRAFICO 4 ANDEN FACHADA PRINCIPAL | D18: M2 | E18: 0 | F18: =+APUS!K807 -> 95923 | G18: =+ROUND(E18*F18,0) -> 0
B19: 4 | C19: OBRAS VARIAS | G19: =+SUM(G20:G20) -> 677382.98
B20: 4.1 | C20: CONCRETO 3000 PSI RAMPA ENTRADA PRINCIPAL | D20: M3 | E20: =3.8*3.1*0.1 -> 1.178 | F20: =+APUS!K816 -> 575028 | G20: =+F20*E20 -> 677382.98
B21: 5 | C21: APARATOS SANITARIOS | G21: =+G22+G23 -> 3960187
B22: 5.1 | C22: SANITARIO BLANCO INSTITUCIONAL LINEA ECONOMICA | D22: UND | E22: 7 | F22: =+APUS!G970 -> 403735 | G22: =+F22*E22 -> 2826145
B23: 5.2 | C23: ORINAL BLANCO INSTITUCIONAL | D23: UND | E23: 3 | F23: =+APUS!G999 -> 378014 | G23: =+F23*E23 -> 1134042
B24: 6 | C24: OTROS | G24: =+G25 -> 5028902
B25: 6.1 | C25: DIVISIONES DE BAÑO EN LAMINA GALVANIZADA CAL. 20 3X1,10X1,90 | D25: UND | E25: 1 | F25: 5028902 | G25: =+F25*E25 -> 5028902
B26: TOTAL COSTOS DIRECTOS | G26: =+G24+G21+G19+G16+G11+G7 -> 21374046
B27: ADMINISTRACIÓN | F27: 0.25 | G27: =+ROUND($G$26*F27,0) -> 5343512
B28: IMPREVISTOS | F28: 0.01 | G28: =+ROUND($G$26*F28,0) -> 213740
B29: UTILIDAD | F29: 0.05 | G29: =+ROUND($G$26*F29,0) -> 1068702
B30: TOTAL AIU | F30: =+SUM(F27:F29) -> 0.31 | G30: =+SUM(G27:G29) -> 6625954
B31: VALOR PROYECTO | G31: =+G30+G26 -> 28000000
B34: GUSTAVO ADOLFO CAICEDO VIVEROS
B35: Secretario de Planeación e Infraestructura
